{"text_format":"1","workbook":"xlsx","n_sheets":14,"sheets":["Introduction3","Introduction","Data input (screening)","Data input (detailed1)","Data input (detailed2)","Results (screening)","Results (detailed)","Method_sources","Calcs Detailed","Calcs Screening","Final results for Results page","Industry av data2","Dropdown","Mapping geog"],"not_rendered":{"charts":10,"images":5,"macros":1,"external_links":0,"defined_names":29,"comments":0,"pivot_tables":0},"unopened":[],"bounds":{"document_bytes":16777216,"sheet_cells":100000,"rows_first":2000,"rows_last":500,"rows_between":2000,"halvings":0,"cell_chars":16384,"cell_head_chars":4096},"cells_cut":0,"cells_raw":0,"read":"whole","date_system":"1900"}

{"sheet":"Introduction3","index":0,"n_rows":67,"n_cols":4,"rows_kept":67,"cut":false,"hidden":true,"merged":[[54,2,54,19],[66,2,70,19],[45,3,45,11],[43,3,43,11],[64,2,64,18],[60,2,60,18],[46,3,46,11],[48,2,48,18],[44,3,44,11],[50,2,52,19],[56,2,56,19],[58,2,58,19],[62,2,62,19],[53,2,53,19],[33,3,33,19],[34,3,34,19],[31,2,31,19],[41,2,41,18],[40,3,40,15],[36,3,36,19],[38,3,38,19],[39,3,39,19],[37,3,37,19],[6,15,7,16],[10,2,10,20],[29,2,29,20],[14,2,15,19],[17,2,20,19],[22,2,22,19],[23,2,23,19],[24,2,24,19],[25,2,25,19],[28,2,28,19]]}
[]
[]
[]
[]
[]
[]
[]
[]
[]
[]
[null,null,"INTRODUCTION"]
[]
[null,null,"The Total Cost of Ownership (TCO) tool was developed as a project of Practice Greenhealth as part of the Greening the Supply Chain Initiative"]
[]
[null,null,"The purpose of this tool is to support hospitals and Group Purchasing Organizations (GPOs) in considering environmental costs in their procurement decision-making, and ultimately to minimize both financial costs and environmental impacts. For the purposes of this tool, environmental costs refer to realized financial costs that are linked to environmentally damaging or resource consuming activities, such as water, energy consumption and end of life disposal."]
[]
[]
[null,null,"Hospitals and GPOs can use this tool to account for many environmental costs that occur from the purchase of products through to their disposal. By considering their Total Cost of Ownership (TCO), a more holistic cost comparison for different product alternatives is provided. By considering costs beyond the purchasing the product, such as energy and water the product can require, any supplemental parts and end of life disposal, the tool allows you to identify which product / scenario has the lowest total cost of ownership and the lowest environmental cost. In addition, the tool presents the cost of acquiring the product as a percent of the total cost of ownership. This metric highlights the financial significance of product use and disposal, and as such can support better procurement decisions."]
[]
[]
[]
[]
[null,null,"This tool allows you to complete two levels of analysis, depending on your objectives, desired level of accuracy and data availability:"]
[null,null,"The Screening assessment is appropriate for a high-level product screening, as it requires fewer costs to be entered and industry average data is used based on your responses."]
[null,null,"The Detailed assessment is appropriate for a more comprehensive product review, as it includes additional cost categories and allows you to overwrite the industry average data."]
[null,null,"Additional information on how to use the tool is provided in the Total Cost of Ownership User Guide. (Hyperlink to be added)."]
[]
[]
[null,null,"Limitations: The main limitation of this TCO tool is that the quality of the results is dependent on the user gathering complete and accurate data from a variety of sources. Therefore, the Total Cost of Ownership analysis results are only as reliable as the data that is entered into the tool. In order to ensure that the tool is simple and easy to use, this version of the tool captures a key set of cost, but these are not exhaustive. However, the tool provides the option to include additional cost categories under \"Other acquisition costs\", \"Other operational costs\" and \"Other disposal costs\". These categories appear in the page Data input: Detailed assessment (Initial). Also, the industry average data that is prepopulated in the tool uses 2015 prices and does not capture any future price fluctuations, due to complexity of predicting these potential changes. Finally, this version of the tool does not include any costs associated with regulation, reputation, and health or ecological consequences associated with environmental impacts.\n"]
[null,null,"INSTRUCTIONS"]
[]
[null,null,"Your journey"]
[]
[null,null,"Step 1","Select Screening assessment in the upper right-hand side of this page. This will take you to the Data input: Screening assessment page, where you will be able to add information for different products/scenarios. Please enter data in the green fields of this page. For more information see Cell coloring below."]
[null,null,"Step 2","Review the findings by selecting Screening results in the upper right-hand side of the page. This will take you to the Results: Screening assessment page which presents the Total Cost of Ownership for the product / scenarios and identifies key costs from purchase to disposal. If you would like to modify data, select Screening assessment in the upper right-hand side of the Results: Screening assessment page and this will take you back to data entry."]
[]
[null,null,"Step 3","If you would like to run a detailed assessment (for more information on which level of analysis is most appropriate for your needs see the type of assessment decision tree in the User guide), please complete steps 1-3 and then select Detailed assessment (Initial) in the upper right-hand side of the page. This will take you to the Data input: Detailed assessment (Initial) page, where you will be able to add information for additional cost categories. "]
[null,null,"Step 4","Select Detailed assessment (Refined) in the upper right-hand side of the page. This will take you to the Data input: Detailed assessment (Refined) page, where you will be able to overwrite industry average values when you have primary data available. If you do not have primary data, please go to step 6."]
[null,null,"Step 5","Select Detailed results in the upper right-hand side of the page. This will take you to the Results: Detailed assessment page which incorporates the additional and overwritten data, and provides strengthened results. If you would like to modify data, select Screening assessment in the upper right-hand side of the Results: Detailed assessment page and this will take you back to data entry."]
[null,null,"Step 6","Remember to save your analysis after using the tool by selecting File/ Save from the menu bar. For sharing your results, a button is provided at the top of the result pages allowing you to save as a PDF the results. You will be able to save the PDF in your computer, attach it to an email and share it with other stakeholders. For more information see Saving and sharing below."]
[]
[null,null,"Cell coloring for the data input pages"]
[]
[null,null,null,"Data input required"]
[null,null,null,"Default data provided in a protected mode (the data cannot be edited)"]
[null,null,null,"Default data provided in a non-protected mode (the data can be edited)"]
[null,null,null,"Data that you have provided in a protected mode (the data cannot be edited)"]
[]
[null,null,"Saving and sharing"]
[]
[null,null,"You can save this file as you would for any other excel document (using File/Save from the menu bar). Before saving the analysis, please make sure you have filled in the section Contract information that appears on the Data input pages. This section tracks data on several items such as the contract identifier (used to register the comparison of product or scenario alternatives) and the date of the analysis. For tracking purposes, the date of analysis should be updated in the Contract information section when you are updating previously completed Total Cost of Ownership analyses."]
[]
[]
[null,null,"A button is provided at the top of each of the result pages allowing you to save the information as a PDF. By pressing the Save as PDF button you will be able to store the results in a pdf format. If you also want to share the results, you can simply attach the pdf document in an email and distribute those electronically to your colleagues and external stakeholders. "]
[null,null,"If you would like to share the information provided in any of the pages, you can also print it by pressing the button Print. This can be useful for sharing the information from the results pages with other stakeholders when a paper copy is needed."]
[]
[null,null,"Methods & sources"]
[]
[null,null,"A button to the Methods & sources section of the tool is available at the top of each of the pages. You will be directed to the key formulas and industry average sources as well as useful unit conversions.  "]
[]
[null,null,"Additional support"]
[]
[null,null,"For more information on how to use this tool, please refer to the Total Cost of Ownership User Guide. (Hyperlink to be added). The User Guide provides useful guidance on entering data, how to complete unit conversions using this tool, how to interpret the results, and answers to user Frequently Asked Questions (FAQs)."]
[]
[null,null,"Disclaimer"]
[]
[null,null,"The information used to compile this report has been collected from a number of sources in the public domain and from Trucost’s licensors. Some of its content may be proprietary and belong to Trucost or its licensors. The report may not be used for purposes other than those for which it has been compiled and made available to you by Trucost. Whilst every care has been taken by Trucost in compiling this report, Trucost accepts no liability whatsoever for any loss (including without limitation direct or indirect loss and any loss of profit, data, or economic loss) occasioned to any person nor for any damage, cost, claim or expense arising from any reliance on this report or any of its content (save only to the extent that the same may not be in law excluded). The information in this report does not constitute or form part of any offer, invitation to sell, offer to subscribe for or to purchase any shares or other securities and must not be relied upon in connection with any contract relating to any such matter. ‘Trucost’ is the trading name of Trucost plc a public limited company registered in England company number 3929223 whose registered office is at 22 Chancery Lane, London, WC2A 1LS."]

{"sheet":"Introduction","index":1,"n_rows":67,"n_cols":4,"rows_kept":67,"cut":false,"hidden":false,"merged":[[34,3,34,19],[6,15,7,16],[10,2,10,20],[14,2,15,19],[17,2,20,19],[22,2,22,19],[23,2,23,19],[24,2,24,19],[25,2,25,19],[28,2,28,19],[29,2,29,20],[31,2,31,19],[33,3,33,19],[50,2,52,19],[36,3,36,19],[37,3,37,19],[38,3,38,19],[39,3,39,19],[40,3,40,15],[41,2,41,18],[43,3,43,11],[44,3,44,11],[45,3,45,11],[46,3,46,11],[48,2,48,18],[64,2,64,18],[66,2,70,19],[53,2,53,19],[54,2,54,19],[56,2,56,19],[58,2,58,19],[60,2,60,18],[62,2,62,19]]}
[]
[]
[]
[]
[]
[]
[]
[]
[]
[]
[null,null,"INTRODUCTION"]
[]
[null,null,"The Greenhealth Cost of Ownership (GCO) Calculator was developed as a project of Practice Greenhealth as part of the Greening the Supply Chain Initiative"]
[]
[null,null,"The purpose of this calculator is to support hospitals and Group Purchasing Organizations (GPOs) in considering environmental costs in their procurement decision-making, and ultimately to minimize both financial costs and environmental impacts. For the purposes of this calculator, environmental costs refer to realized financial costs that are linked to environmentally damaging or resource consuming activities, such as water, energy consumption and end of life disposal."]
[]
[]
[null,null,"Hospitals and GPOs can use this calculator to account for many environmental costs that occur from the purchase of products through to their disposal. By considering costs beyond the product purchase price, such as energy and water the product can require, any supplemental parts and end of life disposal, the calculator allows you to identify which product / scenario has the lowest cost of ownership and the lowest environmental cost. In addition, the calculator presents the cost of acquiring the product as a percent of the cost of ownership. This metric highlights the financial significance of product use and disposal, and as such can support better procurement decisions."]
[]
[]
[]
[]
[null,null,"This calculator allows you to complete two levels of analysis, depending on your objectives, desired level of accuracy and data availability:"]
[null,null,"The Screening assessment is appropriate for a high-level product screening, as it requires fewer costs to be entered and industry average data is used based on your responses."]
[null,null,"The Detailed assessment is appropriate for a more comprehensive product review, as it includes additional cost categories and allows you to overwrite the industry average data."]
[null,null,"Additional information on how to use the calculator is provided in the Greenhealth Cost of Ownership (GCO) Calculator User Guide."]
[]
[]
[null,null,"Limitations: The main limitation of this GCO calculator is that the quality of the results is dependent on the user gathering complete and accurate data from a variety of sources. Therefore, the GCO analysis results are only as reliable as the data that is entered into the calculator. In order to ensure that the calculator is simple and easy to use, this version of the calculator captures a key set of cost, but these are not exhaustive. However, the calculator provides the option to include additional cost categories under \"Other acquisition costs\", \"Other operational costs\" and \"Other disposal costs\". These categories appear in the page Data input: Detailed assessment (Initial). Also, the industry average data that is prepopulated in the calculator uses 2015 prices and does not capture any future price fluctuations, due to complexity of predicting these potential changes. Finally, this version of the calculator does not include any costs associated with regulation, reputation, and health or ecological consequences associated with environmental impacts.\n"]
[null,null,"INSTRUCTIONS"]
[]
[null,null,"Your journey"]
[]
[null,null,"Step 1","Select Screening assessment in the upper right-hand side of this page. This will take you to the Data input: Screening assessment page, where you will be able to add information for different products/scenarios. Please enter data in the green fields of this page. For more information see Cell coloring below."]
[null,null,"Step 2","Review the findings by selecting Screening results in the upper right-hand side of the page. This will take you to the Results: Screening assessment page which presents the cost of ownership for the product / scenarios and identifies key costs from purchase to disposal. If you would like to modify data, select Screening assessment in the upper right-hand side of the Results: Screening assessment page and this will take you back to data entry."]
[]
[null,null,"Step 3","If you would like to modify or add cost categories, select Detailed assessment (Initial) in the upper right-hand side of the Results: Screening assessment page and this will take you to back (although forward in the calculator) to data entry. "]
[null,null,"Step 4","Select Detailed assessment (Refined) in the upper right-hand side of the page. This will take you to the Data input: Detailed assessment (Refined) page, where you will be able to overwrite industry average values when you have primary data available. If you do not have primary data, please work through the document to step 5."]
[null,null,"Step 5","Select Detailed results in the upper right-hand side of the page. This will take you to the Results: Detailed assessment page which incorporates the additional and overwritten data, and provides strengthened results. If you would like to modify data, select Screening assessment in the upper right-hand side of the Results: Detailed assessment page and this will take you back to data entry."]
[null,null,"Step 6","Remember to save your analysis after using the calculator by selecting File/ Save from the menu bar. For sharing your results, a button is provided at the top of the result pages allowing you to save as a PDF the results. You will be able to save the PDF in your computer, attach it to an email and share it with other stakeholders. For more information see Saving and sharing below."]
[]
[null,null,"Cell coloring for the data input pages"]
[]
[null,null,null,"Data input required"]
[null,null,null,"Default data provided in a protected mode (the data cannot be edited)"]
[null,null,null,"Default data provided in a non-protected mode (the data can be edited)"]
[null,null,null,"Data that you have provided in a protected mode (the data cannot be edited)"]
[]
[null,null,"Saving and sharing"]
[]
[null,null,"You can save this file the same way as any excel document (using File/Save from the menu bar). Before saving the analysis, please make sure you have filled in the section Contract information that appears on the Data input pages. This section tracks data on several items such as the contract identifier (used to register the comparison of product or scenario alternatives) and the date of the analysis. For tracking purposes, the date of analysis should be updated in the Contract information section when you are updating previously completed analyses."]
[]
[]
[null,null,"A button is provided at the top of each of the result pages allowing you to save the information as a PDF. By pressing the Save as PDF button you will be able to store the results in a pdf format. If you also want to share the results, you can simply attach the pdf document in an email and distribute those electronically to your colleagues and external stakeholders. "]
[null,null,"If you would like to share the information provided in any of the pages, you can also print it by pressing the button Print. This can be useful for sharing the information from the results pages with other stakeholders when a paper copy is needed."]
[]
[null,null,"Methods & sources"]
[]
[null,null,"A button to the Methods & sources section of the calculator is available at the top of each of the pages. You will be directed to the key formulas and industry average sources as well as useful unit conversions.  "]
[]
[null,null,"Additional support"]
[]
[null,null,"For more information on how to use this calculator, please refer to the Greenhealth Cost of Ownership (GCO) Calculator User Guide, which is available at www.practicegreenhealth.org/gco/guide.  The User Guide provides useful guidance on entering data, how to complete unit conversions using this calculator, how to interpret the results, and answers to user Frequently Asked Questions (FAQs)."]
[]
[null,null,"Disclaimer"]
[]
[null,null,"The information used to compile this report has been collected from a number of sources in the public domain and from Trucost’s licensors. Some of its content may be proprietary and belong to Trucost or its licensors. The report may not be used for purposes other than those for which it has been compiled and made available to you by Trucost. Whilst every care has been taken by Trucost in compiling this report, Trucost accepts no liability whatsoever for any loss (including without limitation direct or indirect loss and any loss of profit, data, or economic loss) occasioned to any person nor for any damage, cost, claim or expense arising from any reliance on this report or any of its content (save only to the extent that the same may not be in law excluded). The information in this report does not constitute or form part of any offer, invitation to sell, offer to subscribe for or to purchase any shares or other securities and must not be relied upon in connection with any contract relating to any such matter. ‘Trucost’ is the trading name of Trucost plc a public limited company registered in England company number 3929223 whose registered office is at 22 Chancery Lane, London, WC2A 1LS."]

{"sheet":"Data input (screening)","index":2,"n_rows":97,"n_cols":14,"rows_kept":97,"cut":false,"hidden":false,"merged":[[13,2,13,6],[14,2,14,6]]}
[]
[]
[]
[]
[]
[]
[]
[null,null,null,null,null,null,null,null,null,null,null,null,null," "]
[]
[]
[]
[null,null,"INSTRUCTIONS"]
[]
[null,null,"Please enter the required information into the green cells. The dark blue cells will automatically be populated using predetermined average cost data based on the information you enter. You will be able to modify the populated data in the page data input: detailed assessment (refined)."]
[null,null,"Important: Please fill the data in the General data section, as this information is critical in order to obtain the GCO calculator results. Following your replies, the data entries that are not relevant will be hidden. Please scroll down until you find the section Disposal costs and fill the data in this section so that the GCO calculator assessment is complete. "]
[]
[null,null,"GENERAL DATA"]
[]
[null,null,"Contract information","Format","Data",null,null,null,null,"Your comments",null,null,"Possible sources of information"]
[null,null,"Contract identifier","Number code or contract description",null,null,null,null,null,null,null,null,"Hospital (Procurement Department)"]
[null,null,"Date of the analysis","Month/ Day/ Year",null,null,null,null,null,null,null,null,"Hospital (Procurement Department)"]
[null,null,"User identification","Name, Surname, Department, Hospital",null,null,null,null,null,null,null,null,"Hospital (Procurement Department)"]
[null,null,"Location","State or United States",null,null,null,null,null,null,null,null,"Hospital (Procurement Department)"]
[]
[]
[null,null,"Financial parameters","Unit","Data",null,null,null,null,"Your comments",null,null,"Possible sources of information"]
[null,null,"Discount rate","%",3,null,null,null,null,null,null,null,"Hospital (Financial Department)"]
[null,null,"Investment horizon","year",null,null,null,null,null,null,null,null,"Hospital (Financial Department)"]
[]
[]
[null,null,"Product specific parameters","Unit","Product/Scenario A ","Product/Scenario B","Product/Scenario C","Product/Scenario D",null,"Your comments",null,null,"Possible sources of information"]
[null,null,"Product description","na",null,null,null,null,null,null,null,null,"Product supplier"]
[null,null,"Does the product use electricity?","Yes/No ",null,null,null,null,null,null,null,null,"Product supplier"]
[null,null,"Does the product use fuel?","Yes/No ",null,null,null,null,null,null,null,null,"Product supplier"]
[null,null,"Does the product use water?","Yes/No ",null,null,null,null,null,null,null,null,"Product supplier"]
[null,null,"Does the product require cleaning and sterilizing?","Yes/No ",null,null,null,null,null,null,null,null,"Product supplier, Hospital (Sterile Processing Department)"]
[null,null,"Is the product a consumable?","Yes/No ",null,null,null,null,null,null,null,null,"Product supplier"]
[null,null,"Option 1. If product is a consumable"]
[null,null,"Number of times the product can be used","# uses",null,null,null,null,null,null,null,null,"Product supplier"]
[null,null,"Number of times this type of product is expected to be used per year","# uses/ year",null,null,null,null,null,null,null,null,"Hospital"]
[null,null,"Option 2. If product is not a consumable"]
[null,null,"Expected product lifespan","year",null,null,null,null,null,null,null,null,"Product supplier"]
[]
[]
[null,null,"COST RELATED DATA"]
[]
[null,null,"ACQUISITION COSTS"]
[]
[null,null,"Description","Unit","Product/Scenario A ","Product/Scenario B","Product/Scenario C","Product/Scenario D",null,"Your comments",null,null,"Possible sources of information"]
[null,null,"Purchase cost","$",null,null,null,null,null,null,null,null,"Product supplier"]
[]
[]
[null,null,"OPERATIONAL COSTS"]
[]
[null,null,"Only applicable to products that use ELECTRICITY","Unit","Product/Scenario A ","Product/Scenario B","Product/Scenario C","Product/Scenario D",null,"Your comments",null,null,"Possible sources of information"]
[null,null,"Option 1. If annual cost data is available:"]
[null,null,"Annual cost from electricity use associated with 1 product","$/year",null,null,null,null,null,null,null,null,"Hospital"]
[null,null,"Option 2. If annual cost data is not available:"]
[null,null,"Annual operating hours","hours/year",null,null,null,null,null,null,null,null,"Hospital"]
[null,null,"Product power","watts",null,null,null,null,null,null,null,null,"Product supplier"]
[null,null,"Electricity cost","$/kWh",{"$f":"IF(E33=\"Yes\",VLOOKUP($E$23,'Industry av data2'!$B$6:$H$60,4,FALSE),\"\")","v":""},{"$f":"IF(F33=\"Yes\",VLOOKUP($E$23,'Industry av data2'!$B$6:$H$60,4,FALSE),\"\")","v":""},{"$f":"IF(G33=\"Yes\",VLOOKUP($E$23,'Industry av data2'!$B$6:$H$60,4,FALSE),\"\")","v":""},{"$f":"IF(H33=\"Yes\",VLOOKUP($E$23,'Industry av data2'!$B$6:$H$60,4,FALSE),\"\")","v":""},null,null,null,null,"Hospital or Electricity provider"]
[]
[]
[null,null,"Only applicable to products that use FUEL","Unit","Product/Scenario A ","Product/Scenario B","Product/Scenario C","Product/Scenario D",null,"Your comments",null,null,"Possible sources of information"]
[null,null,"Option 1. If annual cost data is available:"]
[null,null,"Annual cost from fuel use associated with 1 product","$/year",null,null,null,null,null,null,null,null,"Hospital"]
[null,null,"Option 2. If annual cost data is not available:"]
[null,null,"Annual operating hours","hours/year",null,null,null,null,null,null,null,null,"Hospital"]
[null,null,"Fuel type","na",null,null,null,null,null,null,null,null,"Product supplier"]
[null,null,"Fuel use per hour",{"$f":"IF(E69=\"Natural gas\",\"cubic feet/hour\",\"gallon/hour\")","v":"gallon/hour"},null,null,null,null,null,null,null,null,"Product supplier"]
[null,null,"Fuel cost",{"$f":"IF(E69=\"Natural gas\",\"$/cubic feet\",\"$/gallon\")","v":"$/gallon"},{"$f":"IF(E34=\"Yes\",VLOOKUP(CONCATENATE($E$23,E69),'Industry av data2'!$O:$P,2,FALSE),\"\")","v":""},{"$f":"IF(F34=\"Yes\",VLOOKUP(CONCATENATE($E$23,F69),'Industry av data2'!$O:$P,2,FALSE),\"\")","v":""},{"$f":"IF(G34=\"Yes\",VLOOKUP(CONCATENATE($E$23,G69),'Industry av data2'!$O:$P,2,FALSE),\"\")","v":""},{"$f":"IF(H34=\"Yes\",VLOOKUP(CONCATENATE($E$23,H69),'Industry av data2'!$O:$P,2,FALSE),\"\")","v":""},null,null,null,null,"Hospital or Fuel provider (for example natural gas provider)"," "]
[]
[]
[null,null,"Only applicable to products that use WATER","Unit","Product/Scenario A ","Product/Scenario B","Product/Scenario C","Product/Scenario D",null,"Your comments",null,null,"Possible sources of information"]
[null,null,"Option 1. If annual cost data is available:"]
[null,null,"Annual cost from water use (incoming plus outgoing water) associated with 1 product","$/year",null,null,null,null,null,null,null,null,"Hospital"]
[null,null,"Option 2. If annual cost data is not available:"]
[null,null,"Annual operating hours","hours/year",null,null,null,null,null,null,null,null,"Hospital"]
[null,null,"In-coming water use per hour","gallon/hour",null,null,null,null,null,null,null,null,"Product supplier"]
[null,null,"Water cost (includes incoming and outgoing cost)","$/ gallon",{"$f":"IF(E35=\"Yes\",VLOOKUP($E$23,'Industry av data2'!$B$6:$I$60,8,FALSE),\"\")","v":""},{"$f":"IF(F35=\"Yes\",VLOOKUP($E$23,'Industry av data2'!$B$6:$I$60,8,FALSE),\"\")","v":""},{"$f":"IF(G35=\"Yes\",VLOOKUP($E$23,'Industry av data2'!$B$6:$I$60,8,FALSE),\"\")","v":""},{"$f":"IF(H35=\"Yes\",VLOOKUP($E$23,'Industry av data2'!$B$6:$I$60,8,FALSE),\"\")","v":""},null,null,null,null,"Hospital or Water provider"]
[]
[]
[null,null,"Only applicable to products that require CLEANING AND STERILIZING (for example reusable or reprocessed products)","Unit","Product/Scenario A ","Product/Scenario B","Product/Scenario C","Product/Scenario D",null,"Your comments",null,null,"Possible sources of information"]
[null,null,"Option 1. If cost data split is available:"]
[null,null,"Water cost associated with cleaning/sterilizing 1 product after each use","$/use",null,null,null,null,null,null,null,null,"Hospital (Sterile Processing Department)"]
[null,null,"Energy cost associated with cleaning/sterilizing 1 product after each use","$/use",null,null,null,null,null,null,null,null,"Hospital (Sterile Processing Department)"]
[null,null,"Labor cost associated with cleaning/sterilizing 1 product after each use","$/use",null,null,null,null,null,null,null,null,"Hospital (Sterile Processing Department)"]
[null,null,"Option 2. If cost data split is not available:"]
[null,null,"Aggregated cost associated with cleaning/sterilizing 1 product after each use","$/use",null,null,null,null,null,null,null,null,"Hospital (Sterile Processing Department)"]
[]
[]
[null,null,"DISPOSAL COSTS"]
[]
[null,null,"Description","Unit","Product/Scenario A ","Product/Scenario B","Product/Scenario C","Product/Scenario D",null,"Your comments",null,null,"Possible sources of information"]
[null,null,"Type of waste associated with the product","na",null,null,null,null,null,null,null,null,"Product supplier or Hospital"]
[null,null,"Weight sent to disposal associated with 1 product","lb",null,null,null,null,null,null,null,null,"Hospital"]
[null,null,"Waste cost associated","$/lb",{"$f":"IFERROR(VLOOKUP(E95,'Industry av data2'!$E$66:$F$77,2,FALSE),\"\")","v":""},{"$f":"IFERROR(VLOOKUP(F95,'Industry av data2'!$E$66:$F$77,2,FALSE),\"\")","v":""},{"$f":"IFERROR(VLOOKUP(G95,'Industry av data2'!$E$66:$F$77,2,FALSE),\"\")","v":""},{"$f":"IFERROR(VLOOKUP(H95,'Industry av data2'!$E$66:$F$77,2,FALSE),\"\")","v":""},null,null,null,null,"Hospital or Waste disposal services"]

{"sheet":"Data input (detailed1)","index":3,"n_rows":144,"n_cols":14,"rows_kept":144,"cut":false,"hidden":false,"merged":[[13,2,13,6],[14,2,14,6]]}
[]
[null,null,null,null,null," "]
[]
[]
[]
[]
[]
[null,null,null,null,null,null,null,null,null,null,null,null,null," "]
[]
[]
[]
[null,null,"INSTRUCTIONS"]
[]
[null,null,"Please enter the additional information into the green cells. This page provides additional data entries such as delivery costs, installation costs, training costs and health and safety costs. "]
[null,null,"Important: Following your replies, the data entries that are not relevant will be hidden. Please scroll down until you find the section Disposal costs and fill the data in this section so that the GCO calculator assessment is complete. "]
[]
[null,null,"GENERAL DATA"]
[]
[null,null,"Contract information","Format","Data",null,null,null,null,"Your comments",null,null,"Possible sources of information"]
[null,null,"Contract identifier","Number code or contract description",{"$f":"IF('Data input (screening)'!E20=0,\"\",'Data input (screening)'!E20)","v":""},null,null,null,null,{"$f":"IF('Data input (screening)'!J20=0,\"\",'Data input (screening)'!J20)","v":""},null,null,"Hospital (Procurement Department)"]
[null,null,"Date of the analysis","Month/ Day/ Year",{"$f":"IF('Data input (screening)'!E21=0,\"\",'Data input (screening)'!E21)","v":""},null,null,null,null,{"$f":"IF('Data input (screening)'!J21=0,\"\",'Data input (screening)'!J21)","v":""},null,null,"Hospital (Procurement Department)"]
[null,null,"User identification","Name, Surname, Department, Hospital",{"$f":"IF('Data input (screening)'!E22=0,\"\",'Data input (screening)'!E22)","v":""},null,null,null,null,{"$f":"IF('Data input (screening)'!J22=0,\"\",'Data input (screening)'!J22)","v":""},null,null,"Hospital (Procurement Department)"]
[null,null,"Location","State or United States",{"$f":"IF('Data input (screening)'!E23=0,\"\",'Data input (screening)'!E23)","v":""},null,null,null,null,{"$f":"IF('Data input (screening)'!J23=0,\"\",'Data input (screening)'!J23)","v":""},null,null,"Hospital (Procurement Department)"]
[]
[]
[null,null,"Financial parameters","Unit","Data",null,null,null,null,"Your comments",null,null,"Possible sources of information"]
[null,null,"Discount rate","%",{"$f":"'Data input (screening)'!E27","v":3},null,null,null,null,{"$f":"IF('Data input (screening)'!J27=0,\"\",'Data input (screening)'!J27)","v":""},null,null,"Hospital (Financial Department)"]
[null,null,"Investment horizon","year",{"$f":"'Data input (screening)'!E28","v":0},null,null,null,null,{"$f":"IF('Data input (screening)'!J28=0,\"\",'Data input (screening)'!J28)","v":""},null,null,"Hospital (Financial Department)"]
[]
[]
[null,null,"Product specific parameters","Unit","Product/Scenario A ","Product/Scenario B","Product/Scenario C","Product/Scenario D",null,"Your comments",null,null,"Possible sources of information"]
[null,null,"Product description","na",{"$f":"'Data input (screening)'!E32","v":0},{"$f":"'Data input (screening)'!F32","v":0},{"$f":"'Data input (screening)'!G32","v":0},{"$f":"'Data input (screening)'!H32","v":0},null,{"$f":"IF('Data input (screening)'!J32=0,\"\",'Data input (screening)'!J32)","v":""},null,null,"Product supplier"]
[null,null,"Does the product use electricity?","Yes/No ",{"$f":"'Data input (screening)'!E33","v":0},{"$f":"'Data input (screening)'!F33","v":0},{"$f":"'Data input (screening)'!G33","v":0},{"$f":"'Data input (screening)'!H33","v":0},null,{"$f":"IF('Data input (screening)'!J33=0,\"\",'Data input (screening)'!J33)","v":""},null,null,"Product supplier"]
[null,null,"Does the product use fuel?","Yes/No ",{"$f":"'Data input (screening)'!E34","v":0},{"$f":"'Data input (screening)'!F34","v":0},{"$f":"'Data input (screening)'!G34","v":0},{"$f":"'Data input (screening)'!H34","v":0},null,{"$f":"IF('Data input (screening)'!J34=0,\"\",'Data input (screening)'!J34)","v":""},null,null,"Product supplier"]
[null,null,"Does the product use water?","Yes/No ",{"$f":"'Data input (screening)'!E35","v":0},{"$f":"'Data input (screening)'!F35","v":0},{"$f":"'Data input (screening)'!G35","v":0},{"$f":"'Data input (screening)'!H35","v":0},null,{"$f":"IF('Data input (screening)'!J35=0,\"\",'Data input (screening)'!J35)","v":""},null,null,"Product supplier"]
[null,null,"Does the product require cleaning and sterilizing?","Yes/No ",{"$f":"'Data input (screening)'!E36","v":0},{"$f":"'Data input (screening)'!F36","v":0},{"$f":"'Data input (screening)'!G36","v":0},{"$f":"'Data input (screening)'!H36","v":0},null,{"$f":"IF('Data input (screening)'!J36=0,\"\",'Data input (screening)'!J36)","v":""},null,null,"Product supplier, Hospital (Sterile Processing Department)"]
[null,null,"Is the product a consumable?","Yes/No ",{"$f":"'Data input (screening)'!E37","v":0},{"$f":"'Data input (screening)'!F37","v":0},{"$f":"'Data input (screening)'!G37","v":0},{"$f":"'Data input (screening)'!H37","v":0},null,{"$f":"IF('Data input (screening)'!J37=0,\"\",'Data input (screening)'!J37)","v":""},null,null,"Product supplier"]
[null,null,"Option 1. If product is a consumable",null,null,null,null,null,null,{"$f":"IF('Data input (screening)'!J38=0,\"\",'Data input (screening)'!J38)","v":""}]
[null,null,"Number of times the product can be used","# uses",{"$f":"'Data input (screening)'!E39","v":0},{"$f":"'Data input (screening)'!F39","v":0},{"$f":"'Data input (screening)'!G39","v":0},{"$f":"'Data input (screening)'!H39","v":0},null,{"$f":"IF('Data input (screening)'!J39=0,\"\",'Data input (screening)'!J39)","v":""},null,null,"Product supplier"]
[null,null,"Number of times this type of product is expected to be used per year","# uses/ year",{"$f":"'Data input (screening)'!E40","v":0},{"$f":"'Data input (screening)'!F40","v":0},{"$f":"'Data input (screening)'!G40","v":0},{"$f":"'Data input (screening)'!H40","v":0},null,{"$f":"IF('Data input (screening)'!J40=0,\"\",'Data input (screening)'!J40)","v":""},null,null,"Hospital"]
[null,null,"Option 2. If product is not a consumable",null,null,null,null,null,null,{"$f":"IF('Data input (screening)'!J41=0,\"\",'Data input (screening)'!J41)","v":""}]
[null,null,"Expected product lifespan","year",{"$f":"'Data input (screening)'!E42","v":0},{"$f":"'Data input (screening)'!F42","v":0},{"$f":"'Data input (screening)'!G42","v":0},{"$f":"'Data input (screening)'!H42","v":0},null,{"$f":"IF('Data input (screening)'!J42=0,\"\",'Data input (screening)'!J42)","v":""},null,null,"Product supplier"]
[]
[]
[null,null,"COST RELATED DATA"]
[]
[null,null,"ACQUISITION COSTS"]
[]
[null,null,"Description","Unit","Product/Scenario A ","Product/Scenario B","Product/Scenario C","Product/Scenario D",null,"Your comments",null,null,"Possible sources of information"]
[null,null,"Purchase cost","$",{"$f":"'Data input (screening)'!E50","v":0},{"$f":"'Data input (screening)'!F50","v":0},{"$f":"'Data input (screening)'!G50","v":0},{"$f":"'Data input (screening)'!H50","v":0},null,{"$f":"IF('Data input (screening)'!J50=0,\"\",'Data input (screening)'!J50)","v":""},null,null,"Product supplier"]
[null,null,"Delivery costs","$",null,null,null,null,null,null,null,null,"Product supplier"]
[null,null,"Installation costs","$",null,null,null,null,null,null,null,null,"Product supplier"]
[null,null,"Other acquisition costs","$",null,null,null,null,null,null,null,null,"Product supplier or Hospital"]
[]
[]
[null,null,"OPERATIONAL COSTS"]
[]
[null,null,"Only applicable to products that use ELECTRICITY","Unit","Product/Scenario A ","Product/Scenario B","Product/Scenario C","Product/Scenario D",null,"Your comments",null,null,"Possible sources of information"]
[null,null,"Option 1. If annual cost data is available:"]
[null,null,"Annual cost from electricity use associated with 1 product","$/year",{"$f":"'Data input (screening)'!E57","v":0},{"$f":"'Data input (screening)'!F57","v":0},{"$f":"'Data input (screening)'!G57","v":0},{"$f":"'Data input (screening)'!H57","v":0},null,{"$f":"IF('Data input (screening)'!J57=0,\"\",'Data input (screening)'!J57)","v":""},null,null,"Hospital"]
[null,null,"Option 2. If annual cost data is not available:"]
[null,null,"Annual operating hours","hours/year",{"$f":"'Data input (screening)'!E59","v":0},{"$f":"'Data input (screening)'!F59","v":0},{"$f":"'Data input (screening)'!G59","v":0},{"$f":"'Data input (screening)'!H59","v":0},null,{"$f":"IF('Data input (screening)'!J59=0,\"\",'Data input (screening)'!J59)","v":""},null,null,"Hospital"]
[null,null,"Product power","watts",{"$f":"'Data input (screening)'!E60","v":0},{"$f":"'Data input (screening)'!F60","v":0},{"$f":"'Data input (screening)'!G60","v":0},{"$f":"'Data input (screening)'!H60","v":0},null,{"$f":"IF('Data input (screening)'!J60=0,\"\",'Data input (screening)'!J60)","v":""},null,null,"Product supplier"]
[null,null,"Electricity cost","$/kWh",{"$f":"'Data input (screening)'!E61","v":""},{"$f":"'Data input (screening)'!F61","v":""},{"$f":"'Data input (screening)'!G61","v":""},{"$f":"'Data input (screening)'!H61","v":""},null,{"$f":"IF('Data input (screening)'!J61=0,\"\",'Data input (screening)'!J61)","v":""},null,null,"Hospital or Electricity provider"]
[]
[]
[null,null,"Only applicable to products that use FUEL","Unit","Product/Scenario A ","Product/Scenario B","Product/Scenario C","Product/Scenario D",null,"Your comments",null,null,"Possible sources of information"]
[null,null,"Option 1. If annual cost data is available:"]
[null,null,"Annual cost from fuel use associated with 1 product","$/year",{"$f":"'Data input (screening)'!E66","v":0},{"$f":"'Data input (screening)'!F66","v":0},{"$f":"'Data input (screening)'!G66","v":0},{"$f":"'Data input (screening)'!H66","v":0},null,{"$f":"IF('Data input (screening)'!J66=0,\"\",'Data input (screening)'!J66)","v":""},null,null,"Hospital"]
[null,null,"Option 2. If annual cost data is not available:"]
[null,null,"Annual operating hours","hours/year",{"$f":"'Data input (screening)'!E68","v":0},{"$f":"'Data input (screening)'!F68","v":0},{"$f":"'Data input (screening)'!G68","v":0},{"$f":"'Data input (screening)'!H68","v":0},null,{"$f":"IF('Data input (screening)'!J68=0,\"\",'Data input (screening)'!J68)","v":""},null,null,"Hospital"]
[null,null,"Fuel type","na",{"$f":"'Data input (screening)'!E69","v":0},{"$f":"'Data input (screening)'!F69","v":0},{"$f":"'Data input (screening)'!G69","v":0},{"$f":"'Data input (screening)'!H69","v":0},null,{"$f":"IF('Data input (screening)'!J69=0,\"\",'Data input (screening)'!J69)","v":""},null,null,"Product supplier"]
[null,null,"Fuel use per hour",{"$f":"IF(E72=\"Natural gas\",\"cubic feet/hour\",\"gallon/hour\")","v":"gallon/hour"},{"$f":"'Data input (screening)'!E70","v":0},{"$f":"'Data input (screening)'!F70","v":0},{"$f":"'Data input (screening)'!G70","v":0},{"$f":"'Data input (screening)'!H70","v":0},null,{"$f":"IF('Data input (screening)'!J70=0,\"\",'Data input (screening)'!J70)","v":""},null,null,"Product supplier"]
[null,null,"Fuel cost",{"$f":"IF(E72=\"Natural gas\",\"$/cubic feet\",\"$/gallon\")","v":"$/gallon"},{"$f":"'Data input (screening)'!E71","v":""},{"$f":"'Data input (screening)'!F71","v":""},{"$f":"'Data input (screening)'!G71","v":""},{"$f":"'Data input (screening)'!H71","v":""},null,{"$f":"IF('Data input (screening)'!J71=0,\"\",'Data input (screening)'!J71)","v":""},null,null,"Hospital or Fuel provider (for example natural gas provider)"]
[]
[]
[null,null,"Only applicable to products that use WATER","Unit","Product/Scenario A ","Product/Scenario B","Product/Scenario C","Product/Scenario D",null,"Your comments",null,null,"Possible sources of information"]
[null,null,"Option 1. If annual cost data is available:"]
[null,null,"Annual cost from water use (incoming plus outgoing water) associated with 1 product","$/year",{"$f":"'Data input (screening)'!E76","v":0},{"$f":"'Data input (screening)'!F76","v":0},{"$f":"'Data input (screening)'!G76","v":0},{"$f":"'Data input (screening)'!H76","v":0},null,{"$f":"IF('Data input (screening)'!J76=0,\"\",'Data input (screening)'!J76)","v":""},null,null,"Hospital"]
[null,null,"Option 2. If annual cost data is not available:"]
[null,null,"Annual operating hours","hours/year",{"$f":"'Data input (screening)'!E78","v":0},{"$f":"'Data input (screening)'!F78","v":0},{"$f":"'Data input (screening)'!G78","v":0},{"$f":"'Data input (screening)'!H78","v":0},null,{"$f":"IF('Data input (screening)'!J78=0,\"\",'Data input (screening)'!J78)","v":""},null,null,"Hospital"]
[null,null,"In-coming water use per hour","gallon/hour",{"$f":"'Data input (screening)'!E79","v":0},{"$f":"'Data input (screening)'!F79","v":0},{"$f":"'Data input (screening)'!G79","v":0},{"$f":"'Data input (screening)'!H79","v":0},null,{"$f":"IF('Data input (screening)'!J79=0,\"\",'Data input (screening)'!J79)","v":""},null,null,"Product supplier"]
[null,null,"Water cost (includes incoming and outgoing cost)","$/ gallon",{"$f":"'Data input (screening)'!E80","v":""},{"$f":"'Data input (screening)'!F80","v":""},{"$f":"'Data input (screening)'!G80","v":""},{"$f":"'Data input (screening)'!H80","v":""},null,{"$f":"IF('Data input (screening)'!J80=0,\"\",'Data input (screening)'!J80)","v":""},null,null,"Hospital or Water provider"]
[]
[]
[null,null,"Only applicable to products that require CLEANING AND STERILIZING (for example reusable or reprocessed products)","Unit","Product/Scenario A ","Product/Scenario B","Product/Scenario C","Product/Scenario D",null,"Your comments",null,null,"Possible sources of information"]
[null,null,"Option 1. If cost data split is available:"]
[null,null,"Water cost associated with cleaning/sterilizing 1 product after each use","$/use",{"$f":"'Data input (screening)'!E85","v":0},{"$f":"'Data input (screening)'!F85","v":0},{"$f":"'Data input (screening)'!G85","v":0},{"$f":"'Data input (screening)'!H85","v":0},null,{"$f":"IF('Data input (screening)'!J85=0,\"\",'Data input (screening)'!J85)","v":""},null,null,"Hospital (Sterile Processing Department)"]
[null,null,"Energy cost associated with cleaning/sterilizing 1 product after each use","$/use",{"$f":"'Data input (screening)'!E86","v":0},{"$f":"'Data input (screening)'!F86","v":0},{"$f":"'Data input (screening)'!G86","v":0},{"$f":"'Data input (screening)'!H86","v":0},null,{"$f":"IF('Data input (screening)'!J86=0,\"\",'Data input (screening)'!J86)","v":""},null,null,"Hospital (Sterile Processing Department)"]
[null,null,"Labor cost associated with cleaning/sterilizing 1 product after each use","$/use",{"$f":"'Data input (screening)'!E87","v":0},{"$f":"'Data input (screening)'!F87","v":0},{"$f":"'Data input (screening)'!G87","v":0},{"$f":"'Data input (screening)'!H87","v":0},null,{"$f":"IF('Data input (screening)'!J87=0,\"\",'Data input (screening)'!J87)","v":""},null,null,"Hospital (Sterile Processing Department)"]
[null,null,"Option 2. If cost data split is not available:"]
[null,null,"Aggregated cost associated with cleaning/sterilizing 1 product after each use","$/use",{"$f":"'Data input (screening)'!E89","v":0},{"$f":"'Data input (screening)'!F89","v":0},{"$f":"'Data input (screening)'!G89","v":0},{"$f":"'Data input (screening)'!H89","v":0},null,{"$f":"IF('Data input (screening)'!J89=0,\"\",'Data input (screening)'!J89)","v":""},null,null,"Hospital (Sterile Processing Department)"]
[]
[]
[null,null,"Other operational costs (for example maintenance)","Unit","Product/Scenario A ","Product/Scenario B","Product/Scenario C","Product/Scenario D",null,"Your comments",null,null,"Possible sources of information"]
[null,null,"Labor time needed to maintain the product per year","hours/year",null,null,null,null,null,null,null,null,"Product supplier or Hospital"]
[null,null,"Maintenance cost - labor (hourly labor cost)","$/hour",null,null,null,null,null,null,null,null,"Product supplier or Hospital"]
[null,null,"Does the product require supplemental parts to operate?","Yes/No",null,null,null,null,null,null,null,null,"Product supplier or Hospital"]
[null,null,"Supplemental part 1"]
[null,null,"Maintenance cost - supplemental part (acquisition cost of one supplemental part)","$",null,null,null,null,null,null,null,null,"Product supplier"]
[null,null,"Is the supplemental part consumable?","Yes/No",null,null,null,null,null,null,null,null,"Product supplier"]
[null,null,"Option 1. If the supplemental part is a consumable"]
[null,null,"Number of times the supplemental part can be used","# uses",null,null,null,null,null,null,null,null,"Product supplier"]
[null,null,"Number of times this type of supplemental part is expected to be used per year in 1 product","# uses/ year",null,null,null,null,null,null,null,null,"Hospital"]
[null,null,"Option 2. If the supplemental part is not a consumable"]
[null,null,"Expected lifespan for the supplemental part","Years",null,null,null,null,null,null,null,null,"Product supplier"]
[null,null,"Supplemental part 2"]
[null,null,"Maintenance cost - supplemental part  (acquisition cost of one supplemental part)","$",null,null,null,null,null,null,null,null,"Product supplier"]
[null,null,"Is the supplemental part consumable?","Yes/No",null,null,null,null,null,null,null,null,"Product supplier"]
[null,null,"Option 1. If the supplemental part is a consumable"]
[null,null,"Number of times the supplemental part can be used","# uses",null,null,null,null,null,null,null,null,"Product supplier"]
[null,null,"Number of times this type of supplemental part is expected to be used per year in 1 product","# uses/ year",null,null,null,null,null,null,null,null,"Hospital"]
[null,null,"Option 2. If the supplemental part is not a consumable"]
[null,null,"Expected lifespan for the supplemental part","Years",null,null,null,null,null,null,null,null,"Product supplier"]
[null,null,"Training costs","$/year",null,null,null,null,null,null,null,null,"Product supplier or Hospital"]
[null,null,"Health and safety costs","$/year",null,null,null,null,null,null,null,null,"Product supplier or Hospital"]
[null,null,"Other operational costs","$/year",null,null,null,null,null,null,null,null,"Product supplier or Hospital"]
[]
[]
[null,null,"DISPOSAL COSTS"]
[]
[null,null,"Description","Unit","Product/Scenario A ","Product/Scenario B","Product/Scenario C","Product/Scenario D",null,"Your comments",null,null,"Possible sources of information"]
[null,null,"Main product: waste typology A"]
[null,null,"Type of waste associated with the product (Typology 1)","na",null,null,null,null,null,null,null,null,"Product supplier or Hospital"]
[null,null,"Weight sent to disposal associated with 1 product","lb",null,null,null,null,null,null,null,null,"Hospital"]
[null,null,"Waste cost associated","$/lb",{"$f":"IFERROR(VLOOKUP(E124,'Industry av data2'!$E$66:$F$77,2,FALSE),\"\")","v":""},{"$f":"IFERROR(VLOOKUP(F124,'Industry av data2'!$E$66:$F$77,2,FALSE),\"\")","v":""},{"$f":"IFERROR(VLOOKUP(G124,'Industry av data2'!$E$66:$F$77,2,FALSE),\"\")","v":""},{"$f":"IFERROR(VLOOKUP(H124,'Industry av data2'!$E$66:$F$77,2,FALSE),\"\")","v":""},null,null,null,null,"Hospital or Waste disposal services"]
[null,null,"Main product: waste typology B"]
[null,null,"Type of waste associated with the product (Typology 2)","na",null,null,null,null,null,null,null,null,"Product supplier or Hospital"]
[null,null,"Weight sent to disposal associated with 1 product","lb",null,null,null,null,null,null,null,null,"Hospital"]
[null,null,"Waste cost associated","$/lb",{"$f":"IFERROR(VLOOKUP(E128,'Industry av data2'!$E$66:$F$77,2,FALSE),\"\")","v":""},{"$f":"IFERROR(VLOOKUP(F128,'Industry av data2'!$E$66:$F$77,2,FALSE),\"\")","v":""},{"$f":"IFERROR(VLOOKUP(G128,'Industry av data2'!$E$66:$F$77,2,FALSE),\"\")","v":""},{"$f":"IFERROR(VLOOKUP(H128,'Industry av data2'!$E$66:$F$77,2,FALSE),\"\")","v":""},null,null,null,null,"Hospital or Waste disposal services"]
[null,null,"Main product: waste typology C"]
[null,null,"Type of waste associated with the product (Typology 3)","na",null,null,null,null,null,null,null,null,"Product supplier or Hospital"]
[null,null,"Weight sent to disposal associated with 1 product","lb",null,null,null,null,null,null,null,null,"Hospital"]
[null,null,"Waste cost associated","$/lb",{"$f":"IFERROR(VLOOKUP(E132,'Industry av data2'!$E$66:$F$77,2,FALSE),\"\")","v":""},{"$f":"IFERROR(VLOOKUP(F132,'Industry av data2'!$E$66:$F$77,2,FALSE),\"\")","v":""},{"$f":"IFERROR(VLOOKUP(G132,'Industry av data2'!$E$66:$F$77,2,FALSE),\"\")","v":""},{"$f":"IFERROR(VLOOKUP(H132,'Industry av data2'!$E$66:$F$77,2,FALSE),\"\")","v":""},null,null,null,null,"Hospital or Waste disposal services"]
[null,null,"Other disposal costs (waste storage, waste packaging and waste transportation costs)","$",null,null,null,null,null,null,null,null,"Hospital or Waste disposal services"]
[]
[null,null,"Supplemental part 1"]
[null,null,"Type of waste associated with the supplemental part","na",null,null,null,null,null,null,null,null,"Product supplier or Hospital"]
[null,null,"Weight sent to disposal associated with one supplemental part","lb",null,null,null,null,null,null,null,null,"Hospital"]
[null,null,"Waste cost associated ","$/lb",{"$f":"IFERROR(VLOOKUP(E138,'Industry av data2'!$E$66:$F$77,2,FALSE),\"\")","v":""},{"$f":"IFERROR(VLOOKUP(F138,'Industry av data2'!$E$66:$F$77,2,FALSE),\"\")","v":""},{"$f":"IFERROR(VLOOKUP(G138,'Industry av data2'!$E$66:$F$77,2,FALSE),\"\")","v":""},{"$f":"IFERROR(VLOOKUP(H138,'Industry av data2'!$E$66:$F$77,2,FALSE),\"\")","v":""},null,null,null,null,"Hospital or Waste disposal services"]
[null,null,"Supplemental part 2"]
[null,null,"Type of waste associated with the supplemental part","na",null,null,null,null,null,null,null,null,"Product supplier or Hospital"]
[null,null,"Weight sent to disposal associated with one supplemental part","lb",null,null,null,null,null,null,null,null,"Hospital"]
[null,null,"Waste cost associated ","$/lb",{"$f":"IFERROR(VLOOKUP(E142,'Industry av data2'!$E$66:$F$77,2,FALSE),\"\")","v":""},{"$f":"IFERROR(VLOOKUP(F142,'Industry av data2'!$E$66:$F$77,2,FALSE),\"\")","v":""},{"$f":"IFERROR(VLOOKUP(G142,'Industry av data2'!$E$66:$F$77,2,FALSE),\"\")","v":""},{"$f":"IFERROR(VLOOKUP(H142,'Industry av data2'!$E$66:$F$77,2,FALSE),\"\")","v":""},null,null,null,null,"Hospital or Waste disposal services"]

{"sheet":"Data input (detailed2)","index":4,"n_rows":144,"n_cols":14,"rows_kept":144,"cut":false,"hidden":false,"merged":[[13,2,13,12]]}
[]
[null,null,null,null,null," "]
[]
[]
[]
[]
[]
[null,null,null,null,null,null,null,null,null,null,null,null,null," "]
[]
[]
[]
[null,null,"INSTRUCTIONS"]
[]
[null,null,"If desired, please overwrite the data that appears in the light blue cells. For the light blue cells for which you have primary data available, please overwrite the prepopulated industry average data. If you are not able to gather primary data for any of those categories, please click the navigation button Detailed results on the upper right-hand side of this page. "]
[]
[]
[null,null,"GENERAL DATA"]
[]
[null,null,"Contract information","Format","Data",null,null,null,null,"Your comments",null,null,"Possible sources of information"]
[null,null,"Contract identifier","Number code or contract description",{"$f":"'Data input (detailed1)'!E20","v":""},null,null,null,null,{"$f":"IF('Data input (detailed1)'!J20=0,\"\",'Data input (detailed1)'!J20)","v":""},null,null,"Hospital (Procurement Department)"]
[null,null,"Date of the analysis","Month/ Day/ Year",{"$f":"'Data input (detailed1)'!E21","v":""},null,null,null,null,{"$f":"IF('Data input (detailed1)'!J21=0,\"\",'Data input (detailed1)'!J21)","v":""},null,null,"Hospital (Procurement Department)"]
[null,null,"User identification","Name, Surname, Department, Hospital",{"$f":"'Data input (detailed1)'!E22","v":""},null,null,null,null,{"$f":"IF('Data input (detailed1)'!J22=0,\"\",'Data input (detailed1)'!J22)","v":""},null,null,"Hospital (Procurement Department)"]
[null,null,"Location","State or United States",{"$f":"'Data input (detailed1)'!E23","v":""},null,null,null,null,{"$f":"IF('Data input (detailed1)'!J23=0,\"\",'Data input (detailed1)'!J23)","v":""},null,null,"Hospital (Procurement Department)"]
[]
[]
[null,null,"Financial parameters","Unit",{"$f":"'Data input (detailed1)'!E26","v":"Data"},null,null,null,null,{"$f":"'Data input (detailed1)'!J26","v":"Your comments"},null,null,"Possible sources of information"]
[null,null,"Discount rate","%",{"$f":"'Data input (detailed1)'!E27","v":3},null,null,null,null,{"$f":"IF('Data input (detailed1)'!J27=0,\"\",'Data input (detailed1)'!J27)","v":""},null,null,"Hospital (Financial Department)"]
[null,null,"Investment horizon","year",{"$f":"'Data input (detailed1)'!E28","v":0},null,null,null,null,{"$f":"IF('Data input (detailed1)'!J28=0,\"\",'Data input (detailed1)'!J28)","v":""},null,null,"Hospital (Financial Department)"]
[]
[]
[null,null,"Product specific parameters","Unit",{"$f":"'Data input (detailed1)'!E31","v":"Product/Scenario A "},{"$f":"'Data input (detailed1)'!F31","v":"Product/Scenario B"},{"$f":"'Data input (detailed1)'!G31","v":"Product/Scenario C"},{"$f":"'Data input (detailed1)'!H31","v":"Product/Scenario D"},null,{"$f":"'Data input (detailed1)'!J31","v":"Your comments"},null,null,"Possible sources of information"]
[null,null,"Product description","na",{"$f":"'Data input (detailed1)'!E32","v":0},{"$f":"'Data input (detailed1)'!F32","v":0},{"$f":"'Data input (detailed1)'!G32","v":0},{"$f":"'Data input (detailed1)'!H32","v":0},null,{"$f":"IF('Data input (detailed1)'!J32=0,\"\",'Data input (detailed1)'!J32)","v":""},null,null,"Product supplier"]
[null,null,"Does the product use electricity?","Yes/No ",{"$f":"'Data input (detailed1)'!E33","v":0},{"$f":"'Data input (detailed1)'!F33","v":0},{"$f":"'Data input (detailed1)'!G33","v":0},{"$f":"'Data input (detailed1)'!H33","v":0},null,{"$f":"IF('Data input (detailed1)'!J33=0,\"\",'Data input (detailed1)'!J33)","v":""},null,null,"Product supplier"]
[null,null,"Does the product use fuel?","Yes/No ",{"$f":"'Data input (detailed1)'!E34","v":0},{"$f":"'Data input (detailed1)'!F34","v":0},{"$f":"'Data input (detailed1)'!G34","v":0},{"$f":"'Data input (detailed1)'!H34","v":0},null,{"$f":"IF('Data input (detailed1)'!J34=0,\"\",'Data input (detailed1)'!J34)","v":""},null,null,"Product supplier"]
[null,null,"Does the product use water?","Yes/No ",{"$f":"'Data input (detailed1)'!E35","v":0},{"$f":"'Data input (detailed1)'!F35","v":0},{"$f":"'Data input (detailed1)'!G35","v":0},{"$f":"'Data input (detailed1)'!H35","v":0},null,{"$f":"IF('Data input (detailed1)'!J35=0,\"\",'Data input (detailed1)'!J35)","v":""},null,null,"Product supplier"]
[null,null,"Does the product require cleaning and sterilizing?","Yes/No ",{"$f":"'Data input (detailed1)'!E36","v":0},{"$f":"'Data input (detailed1)'!F36","v":0},{"$f":"'Data input (detailed1)'!G36","v":0},{"$f":"'Data input (detailed1)'!H36","v":0},null,{"$f":"IF('Data input (detailed1)'!J36=0,\"\",'Data input (detailed1)'!J36)","v":""},null,null,"Product supplier and Hospital (Sterile Processing Department)"]
[null,null,"Is the product a consumable?","Yes/No ",{"$f":"'Data input (detailed1)'!E37","v":0},{"$f":"'Data input (detailed1)'!F37","v":0},{"$f":"'Data input (detailed1)'!G37","v":0},{"$f":"'Data input (detailed1)'!H37","v":0},null,{"$f":"IF('Data input (detailed1)'!J37=0,\"\",'Data input (detailed1)'!J37)","v":""},null,null,"Product supplier"]
[null,null,"Option 1. If product is a consumable",null,null,null,null,null,null,{"$f":"IF('Data input (detailed1)'!J38=0,\"\",'Data input (detailed1)'!J38)","v":""}]
[null,null,"Number of times the product can be used","# uses",{"$f":"'Data input (detailed1)'!E39","v":0},{"$f":"'Data input (detailed1)'!F39","v":0},{"$f":"'Data input (detailed1)'!G39","v":0},{"$f":"'Data input (detailed1)'!H39","v":0},null,{"$f":"IF('Data input (detailed1)'!J39=0,\"\",'Data input (detailed1)'!J39)","v":""},null,null,"Product supplier"]
[null,null,"Number of times this type of product is expected to be used per year","# uses/ year",{"$f":"'Data input (detailed1)'!E40","v":0},{"$f":"'Data input (detailed1)'!F40","v":0},{"$f":"'Data input (detailed1)'!G40","v":0},{"$f":"'Data input (detailed1)'!H40","v":0},null,{"$f":"IF('Data input (detailed1)'!J40=0,\"\",'Data input (detailed1)'!J40)","v":""},null,null,"Hospital"]
[null,null,"Option 2. If product is not a consumable",null,null,null,null,null,null,{"$f":"IF('Data input (detailed1)'!J41=0,\"\",'Data input (detailed1)'!J41)","v":""}]
[null,null,"Expected product lifespan","year",{"$f":"'Data input (detailed1)'!E42","v":0},{"$f":"'Data input (detailed1)'!F42","v":0},{"$f":"'Data input (detailed1)'!G42","v":0},{"$f":"'Data input (detailed1)'!H42","v":0},null,{"$f":"IF('Data input (detailed1)'!J42=0,\"\",'Data input (detailed1)'!J42)","v":""},null,null,"Product supplier"]
[]
[]
[null,null,"COST RELATED DATA"]
[]
[null,null,"ACQUISITION COSTS"]
[]
[null,null,"Description","Unit",{"$f":"'Data input (detailed1)'!E49","v":"Product/Scenario A "},{"$f":"'Data input (detailed1)'!F49","v":"Product/Scenario B"},{"$f":"'Data input (detailed1)'!G49","v":"Product/Scenario C"},{"$f":"'Data input (detailed1)'!H49","v":"Product/Scenario D"},null,{"$f":"'Data input (detailed1)'!J49","v":"Your comments"},null,null,"Possible sources of information"]
[null,null,"Purchase cost","$",{"$f":"'Data input (detailed1)'!E50","v":0},{"$f":"'Data input (detailed1)'!F50","v":0},{"$f":"'Data input (detailed1)'!G50","v":0},{"$f":"'Data input (detailed1)'!H50","v":0},null,{"$f":"IF('Data input (detailed1)'!J50=0,\"\",'Data input (detailed1)'!J50)","v":""},null,null,"Product supplier"]
[null,null,"Delivery costs","$",{"$f":"'Data input (detailed1)'!E51","v":0},{"$f":"'Data input (detailed1)'!F51","v":0},{"$f":"'Data input (detailed1)'!G51","v":0},{"$f":"'Data input (detailed1)'!H51","v":0},null,{"$f":"IF('Data input (detailed1)'!J51=0,\"\",'Data input (detailed1)'!J51)","v":""},null,null,"Product supplier"]
[null,null,"Installation costs","$",{"$f":"'Data input (detailed1)'!E52","v":0},{"$f":"'Data input (detailed1)'!F52","v":0},{"$f":"'Data input (detailed1)'!G52","v":0},{"$f":"'Data input (detailed1)'!H52","v":0},null,{"$f":"IF('Data input (detailed1)'!J52=0,\"\",'Data input (detailed1)'!J52)","v":""},null,null,"Product supplier"]
[null,null,"Other acquisition costs","$",{"$f":"'Data input (detailed1)'!E53","v":0},{"$f":"'Data input (detailed1)'!F53","v":0},{"$f":"'Data input (detailed1)'!G53","v":0},{"$f":"'Data input (detailed1)'!H53","v":0},null,{"$f":"IF('Data input (detailed1)'!J53=0,\"\",'Data input (detailed1)'!J53)","v":""},null,null,"Product supplier or Hospital"]
[]
[]
[null,null,"OPERATIONAL COSTS"]
[]
[null,null,"Only applicable to products that use ELECTRICITY","Unit",{"$f":"'Data input (detailed1)'!E58","v":"Product/Scenario A "},{"$f":"'Data input (detailed1)'!F58","v":"Product/Scenario B"},{"$f":"'Data input (detailed1)'!G58","v":"Product/Scenario C"},{"$f":"'Data input (detailed1)'!H58","v":"Product/Scenario D"},null,{"$f":"'Data input (detailed1)'!J58","v":"Your comments"},null,null,"Possible sources of information"]
[null,null,"Option 1. If annual cost data is available:"]
[null,null,"Annual cost from electricity use associated with 1 product","$/year",{"$f":"'Data input (detailed1)'!E60","v":0},{"$f":"'Data input (detailed1)'!F60","v":0},{"$f":"'Data input (detailed1)'!G60","v":0},{"$f":"'Data input (detailed1)'!H60","v":0},null,{"$f":"IF('Data input (detailed1)'!J60=0,\"\",'Data input (detailed1)'!J60)","v":""},null,null,"Hospital"]
[null,null,"Option 2. If annual cost data is not available:"]
[null,null,"Annual operating hours","hours/year",{"$f":"'Data input (detailed1)'!E62","v":0},{"$f":"'Data input (detailed1)'!F62","v":0},{"$f":"'Data input (detailed1)'!G62","v":0},{"$f":"'Data input (detailed1)'!H62","v":0},null,{"$f":"IF('Data input (detailed1)'!J62=0,\"\",'Data input (detailed1)'!J62)","v":""},null,null,"Hospital"]
[null,null,"Product power","watts",{"$f":"'Data input (detailed1)'!E63","v":0},{"$f":"'Data input (detailed1)'!F63","v":0},{"$f":"'Data input (detailed1)'!G63","v":0},{"$f":"'Data input (detailed1)'!H63","v":0},null,{"$f":"IF('Data input (detailed1)'!J63=0,\"\",'Data input (detailed1)'!J63)","v":""},null,null,"Product supplier"]
[null,null,"Electricity cost","$/kWh",null,null,null,null,null,null,null,null,"Hospital or Electricity provider"]
[]
[]
[null,null,"Only applicable to products that use FUEL","Unit",{"$f":"'Data input (detailed1)'!E67","v":"Product/Scenario A "},{"$f":"'Data input (detailed1)'!F67","v":"Product/Scenario B"},{"$f":"'Data input (detailed1)'!G67","v":"Product/Scenario C"},{"$f":"'Data input (detailed1)'!H67","v":"Product/Scenario D"},null,{"$f":"'Data input (detailed1)'!J67","v":"Your comments"},null,null,"Possible sources of information"]
[null,null,"Option 1. If annual cost data is available:",null,{"$f":"'Data input (detailed1)'!E68","v":0},{"$f":"'Data input (detailed1)'!F68","v":0},{"$f":"'Data input (detailed1)'!G68","v":0},{"$f":"'Data input (detailed1)'!H68","v":0},null,{"$f":"'Data input (detailed1)'!J68","v":0}]
[null,null,"Annual cost from fuel use associated with 1 product","$/year",{"$f":"'Data input (detailed1)'!E69","v":0},{"$f":"'Data input (detailed1)'!F69","v":0},{"$f":"'Data input (detailed1)'!G69","v":0},{"$f":"'Data input (detailed1)'!H69","v":0},null,{"$f":"IF('Data input (detailed1)'!J69=0,\"\",'Data input (detailed1)'!J69)","v":""},null,null,"Hospital"]
[null,null,"Option 2. If annual cost data is not available:",null,{"$f":"'Data input (detailed1)'!E70","v":0},{"$f":"'Data input (detailed1)'!F70","v":0},{"$f":"'Data input (detailed1)'!G70","v":0},{"$f":"'Data input (detailed1)'!H70","v":0},null,{"$f":"'Data input (detailed1)'!J70","v":0}]
[null,null,"Annual operating hours","hours/year",{"$f":"'Data input (detailed1)'!E71","v":0},{"$f":"'Data input (detailed1)'!F71","v":0},{"$f":"'Data input (detailed1)'!G71","v":0},{"$f":"'Data input (detailed1)'!H71","v":0},null,{"$f":"IF('Data input (detailed1)'!J71=0,\"\",'Data input (detailed1)'!J71)","v":""},null,null,"Hospital"]
[null,null,"Fuel type","na",{"$f":"'Data input (detailed1)'!E72","v":0},{"$f":"'Data input (detailed1)'!F72","v":0},{"$f":"'Data input (detailed1)'!G72","v":0},{"$f":"'Data input (detailed1)'!H72","v":0},null,{"$f":"IF('Data input (detailed1)'!J72=0,\"\",'Data input (detailed1)'!J72)","v":""},null,null,"Product supplier"]
[null,null,"Fuel use per hour",{"$f":"IF(E72=\"Natural gas\",\"cubic feet/hour\",\"gallon/hour\")","v":"gallon/hour"},{"$f":"'Data input (detailed1)'!E73","v":0},{"$f":"'Data input (detailed1)'!F73","v":0},{"$f":"'Data input (detailed1)'!G73","v":0},{"$f":"'Data input (detailed1)'!H73","v":0},null,{"$f":"IF('Data input (detailed1)'!J73=0,\"\",'Data input (detailed1)'!J73)","v":""},null,null,"Product supplier"]
[null,null,"Fuel cost",{"$f":"IF(E72=\"Natural gas\",\"$/cubic feet\",\"$/gallon\")","v":"$/gallon"},null,null,null,null,null,null,null,null,"Hospital or Fuel provider (for example natural gas provider)"]
[]
[]
[null,null,"Only applicable to products that use WATER","Unit",{"$f":"'Data input (detailed1)'!E77","v":"Product/Scenario A "},{"$f":"'Data input (detailed1)'!F77","v":"Product/Scenario B"},{"$f":"'Data input (detailed1)'!G77","v":"Product/Scenario C"},{"$f":"'Data input (detailed1)'!H77","v":"Product/Scenario D"},null,{"$f":"'Data input (detailed1)'!J77","v":"Your comments"},null,null,"Possible sources of information"]
[null,null,"Option 1. If annual cost data is available:"]
[null,null,"Annual cost from water use (incoming plus outgoing water) associated with 1 product","$/year",{"$f":"'Data input (detailed1)'!E79","v":0},{"$f":"'Data input (detailed1)'!F79","v":0},{"$f":"'Data input (detailed1)'!G79","v":0},{"$f":"'Data input (detailed1)'!H79","v":0},null,{"$f":"IF('Data input (detailed1)'!J79=0,\"\",'Data input (detailed1)'!J79)","v":""},null,null,"Hospital"]
[null,null,"Option 2. If annual cost data is not available:"]
[null,null,"Annual operating hours","hours/year",{"$f":"'Data input (detailed1)'!E81","v":0},{"$f":"'Data input (detailed1)'!F81","v":0},{"$f":"'Data input (detailed1)'!G81","v":0},{"$f":"'Data input (detailed1)'!H81","v":0},null,{"$f":"IF('Data input (detailed1)'!J81=0,\"\",'Data input (detailed1)'!J81)","v":""},null,null,"Hospital"]
[null,null,"In-coming water use per hour","gallon/hour",{"$f":"'Data input (detailed1)'!E82","v":0},{"$f":"'Data input (detailed1)'!F82","v":0},{"$f":"'Data input (detailed1)'!G82","v":0},{"$f":"'Data input (detailed1)'!H82","v":0},null,{"$f":"IF('Data input (detailed1)'!J82=0,\"\",'Data input (detailed1)'!J82)","v":""},null,null,"Product supplier"]
[null,null,"Water cost (includes incoming and outgoing cost)","$/ gallon",null,null,null,null,null,null,null,null,"Hospital or Water provider"]
[]
[]
[null,null,"Only applicable to products that require CLEANING AND STERILIZING (for example reusable or reprocessed products)","Unit",{"$f":"'Data input (detailed1)'!E86","v":"Product/Scenario A "},{"$f":"'Data input (detailed1)'!F86","v":"Product/Scenario B"},{"$f":"'Data input (detailed1)'!G86","v":"Product/Scenario C"},{"$f":"'Data input (detailed1)'!H86","v":"Product/Scenario D"},null,{"$f":"'Data input (detailed1)'!J86","v":"Your comments"},null,null,"Possible sources of information"]
[null,null,"Option 1. If cost data split is available:"]
[null,null,"Water cost associated with cleaning/sterilizing 1 product after each use","$/use",{"$f":"'Data input (detailed1)'!E88","v":0},{"$f":"'Data input (detailed1)'!F88","v":0},{"$f":"'Data input (detailed1)'!G88","v":0},{"$f":"'Data input (detailed1)'!H88","v":0},null,{"$f":"IF('Data input (detailed1)'!J88=0,\"\",'Data input (detailed1)'!J88)","v":""},null,null,"Hospital (Sterile Processing Department)"]
[null,null,"Energy cost associated with cleaning/sterilizing 1 product after each use","$/use",{"$f":"'Data input (detailed1)'!E89","v":0},{"$f":"'Data input (detailed1)'!F89","v":0},{"$f":"'Data input (detailed1)'!G89","v":0},{"$f":"'Data input (detailed1)'!H89","v":0},null,{"$f":"IF('Data input (detailed1)'!J89=0,\"\",'Data input (detailed1)'!J89)","v":""},null,null,"Hospital (Sterile Processing Department)"]
[null,null,"Labor cost associated with cleaning/sterilizing 1 product after each use","$/use",{"$f":"'Data input (detailed1)'!E90","v":0},{"$f":"'Data input (detailed1)'!F90","v":0},{"$f":"'Data input (detailed1)'!G90","v":0},{"$f":"'Data input (detailed1)'!H90","v":0},null,{"$f":"IF('Data input (detailed1)'!J90=0,\"\",'Data input (detailed1)'!J90)","v":""},null,null,"Hospital (Sterile Processing Department)"]
[null,null,"Option 2. If cost data split is not available:"]
[null,null,"Aggregated cost associated with cleaning/sterilizing 1 product after each use","$/use",{"$f":"'Data input (detailed1)'!E92","v":0},{"$f":"'Data input (detailed1)'!F92","v":0},{"$f":"'Data input (detailed1)'!G92","v":0},{"$f":"'Data input (detailed1)'!H92","v":0},null,{"$f":"IF('Data input (detailed1)'!J92=0,\"\",'Data input (detailed1)'!J92)","v":""},null,null,"Hospital (Sterile Processing Department)"]
[]
[]
[null,null,"Other operational costs (for example maintenance)","Unit",{"$f":"'Data input (detailed1)'!E95","v":"Product/Scenario A "},{"$f":"'Data input (detailed1)'!F95","v":"Product/Scenario B"},{"$f":"'Data input (detailed1)'!G95","v":"Product/Scenario C"},{"$f":"'Data input (detailed1)'!H95","v":"Product/Scenario D"},null,{"$f":"'Data input (detailed1)'!J95","v":"Your comments"},null,null,"Possible sources of information"]
[null,null,"Labor time needed to maintain the product per year","hours/year",{"$f":"'Data input (detailed1)'!E96","v":0},{"$f":"'Data input (detailed1)'!F96","v":0},{"$f":"'Data input (detailed1)'!G96","v":0},{"$f":"'Data input (detailed1)'!H96","v":0},null,{"$f":"IF('Data input (detailed1)'!J96=0,\"\",'Data input (detailed1)'!J96)","v":""},null,null,"Product supplier or Hospital"]
[null,null,"Maintenance cost - labor (hourly labor cost)","$/hour",{"$f":"'Data input (detailed1)'!E97","v":0},{"$f":"'Data input (detailed1)'!F97","v":0},{"$f":"'Data input (detailed1)'!G97","v":0},{"$f":"'Data input (detailed1)'!H97","v":0},null,{"$f":"IF('Data input (detailed1)'!J97=0,\"\",'Data input (detailed1)'!J97)","v":""},null,null,"Product supplier or Hospital"]
[null,null,"Does the product require supplemental parts to operate?","Yes/No",{"$f":"'Data input (detailed1)'!E98","v":0},{"$f":"'Data input (detailed1)'!F98","v":0},{"$f":"'Data input (detailed1)'!G98","v":0},{"$f":"'Data input (detailed1)'!H98","v":0},null,{"$f":"IF('Data input (detailed1)'!J98=0,\"\",'Data input (detailed1)'!J98)","v":""},null,null,"Product supplier or Hospital"]
[null,null,"Supplemental part 1"]
[null,null,"Maintenance cost - supplemental part (acquisition cost of one supplemental part)","$",{"$f":"'Data input (detailed1)'!E100","v":0},{"$f":"'Data input (detailed1)'!F100","v":0},{"$f":"'Data input (detailed1)'!G100","v":0},{"$f":"'Data input (detailed1)'!H100","v":0},null,{"$f":"IF('Data input (detailed1)'!J100=0,\"\",'Data input (detailed1)'!J100)","v":""},null,null,"Product supplier"]
[null,null,"Is the supplemental part consumable?","Yes/No",{"$f":"'Data input (detailed1)'!E101","v":0},{"$f":"'Data input (detailed1)'!F101","v":0},{"$f":"'Data input (detailed1)'!G101","v":0},{"$f":"'Data input (detailed1)'!H101","v":0},null,{"$f":"IF('Data input (detailed1)'!J101=0,\"\",'Data input (detailed1)'!J101)","v":""},null,null,"Product supplier"]
[null,null,"Option 1. If the supplemental part is a consumable"]
[null,null,"Number of times the supplemental part can be used","# uses",{"$f":"'Data input (detailed1)'!E103","v":0},{"$f":"'Data input (detailed1)'!F103","v":0},{"$f":"'Data input (detailed1)'!G103","v":0},{"$f":"'Data input (detailed1)'!H103","v":0},null,{"$f":"IF('Data input (detailed1)'!J103=0,\"\",'Data input (detailed1)'!J103)","v":""},null,null,"Product supplier"]
[null,null,"Number of times this type of supplemental part is expected to be used per year in 1 product","# uses/ year",{"$f":"'Data input (detailed1)'!E104","v":0},{"$f":"'Data input (detailed1)'!F104","v":0},{"$f":"'Data input (detailed1)'!G104","v":0},{"$f":"'Data input (detailed1)'!H104","v":0},null,{"$f":"IF('Data input (detailed1)'!J104=0,\"\",'Data input (detailed1)'!J104)","v":""},null,null,"Hospital"]
[null,null,"Option 2. If the supplemental part is not a consumable"]
[null,null,"Expected lifespan for the supplemental part","Years",{"$f":"'Data input (detailed1)'!E106","v":0},{"$f":"'Data input (detailed1)'!F106","v":0},{"$f":"'Data input (detailed1)'!G106","v":0},{"$f":"'Data input (detailed1)'!H106","v":0},null,{"$f":"IF('Data input (detailed1)'!J106=0,\"\",'Data input (detailed1)'!J106)","v":""},null,null,"Product supplier"]
[null,null,"Supplemental part 2"]
[null,null,"Maintenance cost - supplemental part  (acquisition cost of one supplemental part)","$",{"$f":"'Data input (detailed1)'!E108","v":0},{"$f":"'Data input (detailed1)'!F108","v":0},{"$f":"'Data input (detailed1)'!G108","v":0},{"$f":"'Data input (detailed1)'!H108","v":0},null,{"$f":"IF('Data input (detailed1)'!J108=0,\"\",'Data input (detailed1)'!J108)","v":""},null,null,"Product supplier"]
[null,null,"Is the supplemental part consumable?","Yes/No",{"$f":"'Data input (detailed1)'!E109","v":0},{"$f":"'Data input (detailed1)'!F109","v":0},{"$f":"'Data input (detailed1)'!G109","v":0},{"$f":"'Data input (detailed1)'!H109","v":0},null,{"$f":"IF('Data input (detailed1)'!J109=0,\"\",'Data input (detailed1)'!J109)","v":""},null,null,"Product supplier"]
[null,null,"Option 1. If the supplemental part is a consumable"]
[null,null,"Number of times the supplemental part can be used","# uses",{"$f":"'Data input (detailed1)'!E111","v":0},{"$f":"'Data input (detailed1)'!F111","v":0},{"$f":"'Data input (detailed1)'!G111","v":0},{"$f":"'Data input (detailed1)'!H111","v":0},null,{"$f":"IF('Data input (detailed1)'!J111=0,\"\",'Data input (detailed1)'!J111)","v":""},null,null,"Product supplier"]
[null,null,"Number of times this type of supplemental part is expected to be used per year in 1 product","# uses/ year",{"$f":"'Data input (detailed1)'!E112","v":0},{"$f":"'Data input (detailed1)'!F112","v":0},{"$f":"'Data input (detailed1)'!G112","v":0},{"$f":"'Data input (detailed1)'!H112","v":0},null,{"$f":"IF('Data input (detailed1)'!J112=0,\"\",'Data input (detailed1)'!J112)","v":""},null,null,"Hospital"]
[null,null,"Option 2. If the supplemental part is not a consumable"]
[null,null,"Expected lifespan for the supplemental part","Years",{"$f":"'Data input (detailed1)'!E114","v":0},{"$f":"'Data input (detailed1)'!F114","v":0},{"$f":"'Data input (detailed1)'!G114","v":0},{"$f":"'Data input (detailed1)'!H114","v":0},null,{"$f":"IF('Data input (detailed1)'!J114=0,\"\",'Data input (detailed1)'!J114)","v":""},null,null,"Product supplier"]
[null,null,"Training costs","$/year",{"$f":"'Data input (detailed1)'!E115","v":0},{"$f":"'Data input (detailed1)'!F115","v":0},{"$f":"'Data input (detailed1)'!G115","v":0},{"$f":"'Data input (detailed1)'!H115","v":0},null,{"$f":"IF('Data input (detailed1)'!J115=0,\"\",'Data input (detailed1)'!J115)","v":""},null,null,"Product supplier or Hospital"]
[null,null,"Health and safety costs","$/year",{"$f":"'Data input (detailed1)'!E116","v":0},{"$f":"'Data input (detailed1)'!F116","v":0},{"$f":"'Data input (detailed1)'!G116","v":0},{"$f":"'Data input (detailed1)'!H116","v":0},null,{"$f":"IF('Data input (detailed1)'!J116=0,\"\",'Data input (detailed1)'!J116)","v":""},null,null,"Product supplier or Hospital"]
[null,null,"Other operational costs","$/year",{"$f":"'Data input (detailed1)'!E117","v":0},{"$f":"'Data input (detailed1)'!F117","v":0},{"$f":"'Data input (detailed1)'!G117","v":0},{"$f":"'Data input (detailed1)'!H117","v":0},null,{"$f":"IF('Data input (detailed1)'!J117=0,\"\",'Data input (detailed1)'!J117)","v":""},null,null,"Product supplier or Hospital"]
[]
[]
[null,null,"DISPOSAL COSTS"]
[]
[null,null,"Description","Unit",{"$f":"'Data input (detailed1)'!E122","v":"Product/Scenario A "},{"$f":"'Data input (detailed1)'!F122","v":"Product/Scenario B"},{"$f":"'Data input (detailed1)'!G122","v":"Product/Scenario C"},{"$f":"'Data input (detailed1)'!H122","v":"Product/Scenario D"},null,{"$f":"'Data input (detailed1)'!J122","v":"Your comments"},null,null,"Possible sources of information"]
[null,null,"Main product: waste typology A",null,{"$f":"'Data input (detailed1)'!E123","v":0},{"$f":"'Data input (detailed1)'!F123","v":0},{"$f":"'Data input (detailed1)'!G123","v":0},{"$f":"'Data input (detailed1)'!H123","v":0},null,{"$f":"'Data input (detailed1)'!J123","v":0}]
[null,null,"Type of waste associated with the product (Typology 1)","na",{"$f":"'Data input (detailed1)'!E124","v":0},{"$f":"'Data input (detailed1)'!F124","v":0},{"$f":"'Data input (detailed1)'!G124","v":0},{"$f":"'Data input (detailed1)'!H124","v":0},null,{"$f":"IF('Data input (detailed1)'!J124=0,\"\",'Data input (detailed1)'!J124)","v":""},null,null,"Product supplier or Hospital"]
[null,null,"Weight sent to disposal associated with 1 product","lb",{"$f":"'Data input (detailed1)'!E125","v":0},{"$f":"'Data input (detailed1)'!F125","v":0},{"$f":"'Data input (detailed1)'!G125","v":0},{"$f":"'Data input (detailed1)'!H125","v":0},null,{"$f":"IF('Data input (detailed1)'!J125=0,\"\",'Data input (detailed1)'!J125)","v":""},null,null,"Hospital"]
[null,null,"Waste cost associated","$/lb",null,null,null,null,null,null,null,null,"Hospital or Waste disposal services"]
[null,null,"Main product: waste typology B"]
[null,null,"Type of waste associated with the product (Typology 2)","na",{"$f":"'Data input (detailed1)'!E128","v":0},{"$f":"'Data input (detailed1)'!F128","v":0},{"$f":"'Data input (detailed1)'!G128","v":0},{"$f":"'Data input (detailed1)'!H128","v":0},null,{"$f":"IF('Data input (detailed1)'!J128=0,\"\",'Data input (detailed1)'!J128)","v":""},null,null,"Product supplier or Hospital"]
[null,null,"Weight sent to disposal associated with 1 product","lb",{"$f":"'Data input (detailed1)'!E129","v":0},{"$f":"'Data input (detailed1)'!F129","v":0},{"$f":"'Data input (detailed1)'!G129","v":0},{"$f":"'Data input (detailed1)'!H129","v":0},null,{"$f":"IF('Data input (detailed1)'!J129=0,\"\",'Data input (detailed1)'!J129)","v":""},null,null,"Hospital"]
[null,null,"Waste cost associated","$/lb",null,null,null,null,null,null,null,null,"Hospital or Waste disposal services"]
[null,null,"Main product: waste typology C"]
[null,null,"Type of waste associated with the product (Typology 3)","na",{"$f":"'Data input (detailed1)'!E132","v":0},{"$f":"'Data input (detailed1)'!F132","v":0},{"$f":"'Data input (detailed1)'!G132","v":0},{"$f":"'Data input (detailed1)'!H132","v":0},null,{"$f":"IF('Data input (detailed1)'!J132=0,\"\",'Data input (detailed1)'!J132)","v":""},null,null,"Product supplier or Hospital"]
[null,null,"Weight sent to disposal associated with 1 product","lb",{"$f":"'Data input (detailed1)'!E133","v":0},{"$f":"'Data input (detailed1)'!F133","v":0},{"$f":"'Data input (detailed1)'!G133","v":0},{"$f":"'Data input (detailed1)'!H133","v":0},null,{"$f":"IF('Data input (detailed1)'!J133=0,\"\",'Data input (detailed1)'!J133)","v":""},null,null,"Hospital"]
[null,null,"Waste cost associated","$/lb",null,null,null,null,null,null,null,null,"Hospital or Waste disposal services"]
[null,null,"Other disposal costs (waste storage, waste packaging and waste transportation costs)","$",{"$f":"'Data input (detailed1)'!E135","v":0},{"$f":"'Data input (detailed1)'!F135","v":0},{"$f":"'Data input (detailed1)'!G135","v":0},{"$f":"'Data input (detailed1)'!H135","v":0},null,{"$f":"IF('Data input (detailed1)'!J135=0,\"\",'Data input (detailed1)'!J135)","v":""},null,null,"Hospital or Waste disposal services"]
[]
[null,null,"Supplemental part 1"]
[null,null,"Type of waste associated with the supplemental part","na",{"$f":"'Data input (detailed1)'!E138","v":0},{"$f":"'Data input (detailed1)'!F138","v":0},{"$f":"'Data input (detailed1)'!G138","v":0},{"$f":"'Data input (detailed1)'!H138","v":0},null,{"$f":"IF('Data input (detailed1)'!J138=0,\"\",'Data input (detailed1)'!J138)","v":""},null,null,"Product supplier or Hospital"]
[null,null,"Weight sent to disposal associated with one supplemental part","lb",{"$f":"'Data input (detailed1)'!E139","v":0},{"$f":"'Data input (detailed1)'!F139","v":0},{"$f":"'Data input (detailed1)'!G139","v":0},{"$f":"'Data input (detailed1)'!H139","v":0},null,{"$f":"IF('Data input (detailed1)'!J139=0,\"\",'Data input (detailed1)'!J139)","v":""},null,null,"Hospital"]
[null,null,"Waste cost associated ","$/lb",null,null,null,null,null,null,null,null,"Hospital or Waste disposal services"]
[null,null,"Supplemental part 2"]
[null,null,"Type of waste associated with the supplemental part","na",{"$f":"'Data input (detailed1)'!E142","v":0},{"$f":"'Data input (detailed1)'!F142","v":0},{"$f":"'Data input (detailed1)'!G142","v":0},{"$f":"'Data input (detailed1)'!H142","v":0},null,{"$f":"IF('Data input (detailed1)'!J142=0,\"\",'Data input (detailed1)'!J142)","v":""},null,null,"Product supplier or Hospital"]
[null,null,"Weight sent to disposal associated with one supplemental part","lb",{"$f":"'Data input (detailed1)'!E143","v":0},{"$f":"'Data input (detailed1)'!F143","v":0},{"$f":"'Data input (detailed1)'!G143","v":0},{"$f":"'Data input (detailed1)'!H143","v":0},null,{"$f":"IF('Data input (detailed1)'!J143=0,\"\",'Data input (detailed1)'!J143)","v":""},null,null,"Hospital"]
[null,null,"Waste cost associated ","$/lb",null,null,null,null,null,null,null,null,"Hospital or Waste disposal services"]

{"sheet":"Results (screening)","index":5,"n_rows":61,"n_cols":8,"rows_kept":61,"cut":false,"hidden":false,"merged":[[56,2,56,4],[33,3,33,6],[26,2,27,2],[50,3,50,6],[51,3,51,6],[26,3,26,6],[33,2,34,2],[40,2,41,2],[40,3,40,6],[48,7,48,8],[49,7,49,8],[50,7,50,8],[51,7,51,8],[57,5,60,5]]}
[]
[]
[]
[]
[]
[]
[]
[]
[]
[]
[null,null,"SUMMARY FIGURES"]
[]
[]
[]
[null,null," Cost of Ownership in year 1","Unit","Product/Scenario A ","Product/Scenario B","Product/Scenario C","Product/Scenario D"]
[null,null,null,"$",{"$f":"'Final results for Results page'!E7","v":0},{"$f":"'Final results for Results page'!F7","v":0},{"$f":"'Final results for Results page'!G7","v":0},{"$f":"'Final results for Results page'!H7","v":0}]
[]
[]
[null,null,{"$f":"CONCATENATE(\"Cost of Ownership in year \",'Final results for Results page'!D35)","v":"Cost of Ownership in year 0"},"Units","Product/Scenario A ","Product/Scenario B","Product/Scenario C","Product/Scenario D"]
[null,null,null,"$",{"$f":"'Final results for Results page'!E11","v":0},{"$f":"'Final results for Results page'!F11","v":0},{"$f":"'Final results for Results page'!G11","v":0},{"$f":"'Final results for Results page'!H11","v":0}]
[null,null,null,null,null,null,null," "]
[]
[null,null,"Average  Cost of Ownership","Unit","Product/Scenario A ","Product/Scenario B","Product/Scenario C","Product/Scenario D"]
[null,null,null,"$/year",{"$f":"IFERROR('Final results for Results page'!E15,0)","v":0},{"$f":"IFERROR('Final results for Results page'!F15,0)","v":0},{"$f":"IFERROR('Final results for Results page'!G15,0)","v":0},{"$f":"IFERROR('Final results for Results page'!H15,0)","v":0}]
[]
[]
[null,null,"Type of cost","Year 1 ($)"]
[null,null,null,"Product/Scenario A ","Product/Scenario B","Product/Scenario C","Product/Scenario D"]
[null,null,"Acquisition",{"$f":"'Final results for Results page'!D20","v":0},{"$f":"'Final results for Results page'!E20","v":0},{"$f":"'Final results for Results page'!F20","v":0},{"$f":"'Final results for Results page'!G20","v":0}]
[null,null,"Operational",{"$f":"'Final results for Results page'!D21","v":0},{"$f":"'Final results for Results page'!E21","v":0},{"$f":"'Final results for Results page'!F21","v":0},{"$f":"'Final results for Results page'!G21","v":0}]
[null,null,"Disposal",{"$f":"'Final results for Results page'!D22","v":0},{"$f":"'Final results for Results page'!E22","v":0},{"$f":"'Final results for Results page'!F22","v":0},{"$f":"'Final results for Results page'!G22","v":0}]
[null,null,"Total",{"$f":"'Final results for Results page'!D23","v":0},{"$f":"'Final results for Results page'!E23","v":0},{"$f":"'Final results for Results page'!F23","v":0},{"$f":"'Final results for Results page'!G23","v":0}]
[]
[null,null,"Type of cost",{"$f":"CONCATENATE(\"Year \",'Final results for Results page'!D35,\" ($)\")","v":"Year 0 ($)"}]
[null,null,null,"Product/Scenario A ","Product/Scenario B","Product/Scenario C","Product/Scenario D"]
[null,null,"Acquisition",{"$f":"'Final results for Results page'!H20","v":0},{"$f":"'Final results for Results page'!I20","v":0},{"$f":"'Final results for Results page'!J20","v":0},{"$f":"'Final results for Results page'!K20","v":0}]
[null,null,"Operational",{"$f":"'Final results for Results page'!H21","v":0},{"$f":"'Final results for Results page'!I21","v":0},{"$f":"'Final results for Results page'!J21","v":0},{"$f":"'Final results for Results page'!K21","v":0}]
[null,null,"Disposal",{"$f":"'Final results for Results page'!H22","v":0},{"$f":"'Final results for Results page'!I22","v":0},{"$f":"'Final results for Results page'!J22","v":0},{"$f":"'Final results for Results page'!K22","v":0}]
[null,null,"Total",{"$f":"'Final results for Results page'!H23","v":0},{"$f":"'Final results for Results page'!I23","v":0},{"$f":"'Final results for Results page'!J23","v":0},{"$f":"'Final results for Results page'!K23","v":0}]
[]
[null,null,"Type of cost","Annual average ($/year)",null,null,null," "]
[null,null,null,"Product/Scenario A ","Product/Scenario B","Product/Scenario C","Product/Scenario D"]
[null,null,"Acquisition",{"$f":"IFERROR('Final results for Results page'!L20,0)","v":0},{"$f":"IFERROR('Final results for Results page'!M20,0)","v":0},{"$f":"IFERROR('Final results for Results page'!N20,0)","v":0},{"$f":"IFERROR('Final results for Results page'!O20,0)","v":0}]
[null,null,"Operational",{"$f":"IFERROR('Final results for Results page'!L21,0)","v":0},{"$f":"IFERROR('Final results for Results page'!M21,0)","v":0},{"$f":"IFERROR('Final results for Results page'!N21,0)","v":0},{"$f":"IFERROR('Final results for Results page'!O21,0)","v":0}]
[null,null,"Disposal",{"$f":"IFERROR('Final results for Results page'!L22,0)","v":0},{"$f":"IFERROR('Final results for Results page'!M22,0)","v":0},{"$f":"IFERROR('Final results for Results page'!N22,0)","v":0},{"$f":"IFERROR('Final results for Results page'!O22,0)","v":0}]
[null,null,"Total",{"$f":"IFERROR('Final results for Results page'!L23,0)","v":0},{"$f":"IFERROR('Final results for Results page'!M23,0)","v":0},{"$f":"IFERROR('Final results for Results page'!N23,0)","v":0},{"$f":"IFERROR('Final results for Results page'!O23,0)","v":0}]
[]
[]
[null,null,"Key metrics","Product/Scenario A ","Product/Scenario B","Product/Scenario C","Product/Scenario D","Definition"]
[null,null,{"$f":"CONCATENATE(\"Percentage of Acquisition cost versus  Cost of Ownership in year \",'Final results for Results page'!D35)","v":"Percentage of Acquisition cost versus  Cost of Ownership in year 0"},{"$f":"'Final results for Results page'!D27","v":0},{"$f":"'Final results for Results page'!E27","v":0},{"$f":"'Final results for Results page'!F27","v":0},{"$f":"'Final results for Results page'!G27","v":0},"Acquisition costs as a percentage of the  Cost of Ownership at the end of the investment horizon. This shows how important  other environmental costs are in relation to the initial acquisition cost. A low number means that environmental costs (for energy use, water, waste) are significant over time."]
[null,null,{"$f":"CONCATENATE(\"Minimum Cost of Ownership cost in year \",'Final results for Results page'!D35)","v":"Minimum Cost of Ownership cost in year 0"},{"$f":"IFERROR('Final results for Results page'!D28,\"Not applicable\")","v":0},null,null,null,"The product that has the lowest cost of ownership at the end of the investment horizon. This has been calculated by aggregating the Acquisition, Operational and Disposal costs that were  included in the data input pages during the investment horizon selected (for example 20 years). The cost of ownership after 20 years is graphically illustrated in Figure 2."]
[null,null,{"$f":"CONCATENATE(\"Minimum environmentally related cost (energy, water, waste) in year \",'Final results for Results page'!D35)","v":"Minimum environmentally related cost (energy, water, waste) in year 0"},{"$f":"IFERROR('Final results for Results page'!D29,\"Not applicable\")","v":0},null,null,null,"The product that has the lowest environmental costs at the end of the investment horizon. It has been calculated by aggregating energy, water, and waste disposal costs."]
[]
[]
[null,null,"RESULTS VISUALIZATION: SCREENING ASSESSMENT"]
[]
[null,null,"Legend",null,null,"Your comments","Date"]
[null,null,"Product/Scenario A",{"$f":"IF('Final results for Results page'!D43=0,\"Not applicable\",'Final results for Results page'!D43)","v":"Not applicable"},null,{"$f":"IF('Final results for Results page'!F43=0,\"\",'Final results for Results page'!F43)","v":""},{"$f":"NOW()","v":"2016-11-22T12:42:33.870"}]
[null,null,"Product/Scenario B",{"$f":"IF('Final results for Results page'!D44=0,\"Not applicable\",'Final results for Results page'!D44)","v":"Not applicable"}]
[null,null,"Product/Scenario C",{"$f":"IF('Final results for Results page'!D45=0,\"Not applicable\",'Final results for Results page'!D45)","v":"Not applicable"}]
[null,null,"Product/Scenario D",{"$f":"IF('Final results for Results page'!D46=0,\"Not applicable\",'Final results for Results page'!D46)","v":"Not applicable"}]

{"sheet":"Results (detailed)","index":6,"n_rows":61,"n_cols":8,"rows_kept":61,"cut":false,"hidden":false,"merged":[[48,7,48,8],[49,7,49,8],[50,3,50,6],[50,7,50,8],[51,3,51,6],[51,7,51,8],[57,5,60,5],[26,2,27,2],[26,3,26,6],[33,3,33,6],[40,3,40,6],[56,2,56,4],[33,2,34,2],[40,2,41,2]]}
[]
[]
[]
[]
[]
[]
[]
[]
[]
[]
[null,null,"SUMMARY FIGURES"]
[]
[]
[]
[null,null,"Cost of Ownership in year 1","Unit","Product/Scenario A ","Product/Scenario B","Product/Scenario C","Product/Scenario D"]
[null,null,null,"$",{"$f":"'Final results for Results page'!T7","v":0},{"$f":"'Final results for Results page'!U7","v":0},{"$f":"'Final results for Results page'!V7","v":0},{"$f":"'Final results for Results page'!W7","v":0}]
[]
[]
[null,null,{"$f":"CONCATENATE(\"Cost of Ownership in year \",'Final results for Results page'!S35)","v":"Cost of Ownership in year 0"},"Units","Product/Scenario A ","Product/Scenario B","Product/Scenario C","Product/Scenario D"]
[null,null,null,"$",{"$f":"'Final results for Results page'!T11","v":0},{"$f":"'Final results for Results page'!U11","v":0},{"$f":"'Final results for Results page'!V11","v":0},{"$f":"'Final results for Results page'!W11","v":0}]
[]
[]
[null,null,"Average Cost of Ownership","Unit","Product/Scenario A ","Product/Scenario B","Product/Scenario C","Product/Scenario D"]
[null,null,null,"$/year",{"$f":"IFERROR('Final results for Results page'!T15,0)","v":0},{"$f":"IFERROR('Final results for Results page'!U15,0)","v":0},{"$f":"IFERROR('Final results for Results page'!V15,0)","v":0},{"$f":"IFERROR('Final results for Results page'!W15,0)","v":0}]
[]
[]
[null,null,"Type of cost","Year 1 ($)"]
[null,null,null,"Product/Scenario A ","Product/Scenario B","Product/Scenario C","Product/Scenario D"]
[null,null,"Acquisition",{"$f":"'Final results for Results page'!S20","v":0},{"$f":"'Final results for Results page'!T20","v":0},{"$f":"'Final results for Results page'!U20","v":0},{"$f":"'Final results for Results page'!V20","v":0}]
[null,null,"Operational",{"$f":"'Final results for Results page'!S21","v":0},{"$f":"'Final results for Results page'!T21","v":0},{"$f":"'Final results for Results page'!U21","v":0},{"$f":"'Final results for Results page'!V21","v":0}]
[null,null,"Disposal",{"$f":"'Final results for Results page'!S22","v":0},{"$f":"'Final results for Results page'!T22","v":0},{"$f":"'Final results for Results page'!U22","v":0},{"$f":"'Final results for Results page'!V22","v":0}]
[null,null,"Total",{"$f":"'Final results for Results page'!S23","v":0},{"$f":"'Final results for Results page'!T23","v":0},{"$f":"'Final results for Results page'!U23","v":0},{"$f":"'Final results for Results page'!V23","v":0}]
[]
[null,null,"Type of cost",{"$f":"CONCATENATE(\"Year \",'Final results for Results page'!S35,\" ($)\")","v":"Year 0 ($)"}]
[null,null,null,"Product/Scenario A ","Product/Scenario B","Product/Scenario C","Product/Scenario D"]
[null,null,"Acquisition",{"$f":"'Final results for Results page'!W20","v":0},{"$f":"'Final results for Results page'!X20","v":0},{"$f":"'Final results for Results page'!Y20","v":0},{"$f":"'Final results for Results page'!Z20","v":0}]
[null,null,"Operational",{"$f":"'Final results for Results page'!W21","v":0},{"$f":"'Final results for Results page'!X21","v":0},{"$f":"'Final results for Results page'!Y21","v":0},{"$f":"'Final results for Results page'!Z21","v":0}]
[null,null,"Disposal",{"$f":"'Final results for Results page'!W22","v":0},{"$f":"'Final results for Results page'!X22","v":0},{"$f":"'Final results for Results page'!Y22","v":0},{"$f":"'Final results for Results page'!Z22","v":0}]
[null,null,"Total",{"$f":"'Final results for Results page'!W23","v":0},{"$f":"'Final results for Results page'!X23","v":0},{"$f":"'Final results for Results page'!Y23","v":0},{"$f":"'Final results for Results page'!Z23","v":0}]
[]
[null,null,"Type of cost","Annual average ($/year)"]
[null,null,null,"Product/Scenario A ","Product/Scenario B","Product/Scenario C","Product/Scenario D"]
[null,null,"Acquisition",{"$f":"IFERROR('Final results for Results page'!AA20,0)","v":0},{"$f":"IFERROR('Final results for Results page'!AB20,0)","v":0},{"$f":"IFERROR('Final results for Results page'!AC20,0)","v":0},{"$f":"IFERROR('Final results for Results page'!AD20,0)","v":0}]
[null,null,"Operational",{"$f":"IFERROR('Final results for Results page'!AA21,0)","v":0},{"$f":"IFERROR('Final results for Results page'!AB21,0)","v":0},{"$f":"IFERROR('Final results for Results page'!AC21,0)","v":0},{"$f":"IFERROR('Final results for Results page'!AD21,0)","v":0}]
[null,null,"Disposal",{"$f":"IFERROR('Final results for Results page'!AA22,0)","v":0},{"$f":"IFERROR('Final results for Results page'!AB22,0)","v":0},{"$f":"IFERROR('Final results for Results page'!AC22,0)","v":0},{"$f":"IFERROR('Final results for Results page'!AD22,0)","v":0}]
[null,null,"Total",{"$f":"IFERROR('Final results for Results page'!AA23,0)","v":0},{"$f":"IFERROR('Final results for Results page'!AB23,0)","v":0},{"$f":"IFERROR('Final results for Results page'!AC23,0)","v":0},{"$f":"IFERROR('Final results for Results page'!AD23,0)","v":0}]
[]
[]
[null,null,"Key metrics","Product/Scenario A ","Product/Scenario B","Product/Scenario C","Product/Scenario D","Definition"]
[null,null,{"$f":"CONCATENATE(\"Percentage of Acquisition cost versus Cost of Ownership in year \",'Final results for Results page'!S35)","v":"Percentage of Acquisition cost versus Cost of Ownership in year 0"},{"$f":"'Final results for Results page'!S27","v":0},{"$f":"'Final results for Results page'!T27","v":0},{"$f":"'Final results for Results page'!U27","v":0},{"$f":"'Final results for Results page'!V27","v":0},"Acquisition costs as a percentage of the cost of ownership at the end of the investment horizon. This shows how important  other environmental costs are in relation to the initial acquisition cost. A low number means that environmental costs (for energy use, water, waste) are significant over time."]
[null,null,{"$f":"CONCATENATE(\"Minimum Cost of Ownership cost in year \",'Final results for Results page'!S35)","v":"Minimum Cost of Ownership cost in year 0"},{"$f":"IFERROR('Final results for Results page'!S28,\"Not applicable\")","v":0},null,null,null,"The product that has the lowest cost of ownership at the end of the investment horizon. This has been calculated by aggregating the Acquisition, Operational and Disposal costs that were  included in the data input pages during the investment horizon selected (for example 20 years). The total cost of ownership after 20 years is graphically illustrated in Figure 2."]
[null,null,{"$f":"CONCATENATE(\"Minimum environmentally related cost (energy, water, waste) in year \",'Final results for Results page'!S35)","v":"Minimum environmentally related cost (energy, water, waste) in year 0"},{"$f":"IFERROR('Final results for Results page'!S29,\"Not applicable\")","v":0},null,null,null,"The product that has the lowest environmental costs at the end of the investment horizon. It has been calculated by aggregating energy, water, and waste disposal costs."]
[]
[]
[null,null,"RESULTS VISUALIZATION: DETAILED ASSESSMENT"]
[]
[null,null,"Legend",null,null,"Your comments","Date"]
[null,null,"Product/Scenario A",{"$f":"IF('Final results for Results page'!S43=0,\"Not applicable\",'Final results for Results page'!S43)","v":"Not applicable"},null,{"$f":"IF('Final results for Results page'!U43=0,\"\",'Final results for Results page'!U43)","v":""},{"$f":"NOW()","v":"2016-11-22T12:42:33.870"}]
[null,null,"Product/Scenario B",{"$f":"IF('Final results for Results page'!S44=0,\"Not applicable\",'Final results for Results page'!S44)","v":"Not applicable"}]
[null,null,"Product/Scenario C",{"$f":"IF('Final results for Results page'!S45=0,\"Not applicable\",'Final results for Results page'!S45)","v":"Not applicable"}]
[null,null,"Product/Scenario D",{"$f":"IF('Final results for Results page'!S46=0,\"Not applicable\",'Final results for Results page'!S46)","v":"Not applicable"}]

{"sheet":"Method_sources","index":7,"n_rows":229,"n_cols":13,"rows_kept":229,"cut":false,"hidden":false,"merged":[[132,7,140,7],[132,10,140,10],[132,11,140,11],[125,8,128,8],[125,9,128,9],[132,8,140,8],[132,9,140,9],[130,4,130,11],[13,2,13,3],[48,2,48,4],[82,2,82,5],[123,4,123,11],[125,5,128,5],[158,11,165,11],[158,10,165,10],[141,7,149,7],[141,10,149,10],[141,11,149,11],[141,9,149,9],[141,8,149,8],[150,8,157,8],[150,9,157,9],[150,11,157,11],[150,10,157,10],[150,7,157,7],[193,11,202,11],[221,4,228,4],[217,4,220,4],[217,7,220,7],[225,7,228,7],[221,7,224,7],[193,9,202,9],[193,7,202,7],[193,8,202,8],[193,5,202,5],[193,10,199,10],[191,4,191,11],[150,4,157,4],[158,4,165,4],[141,4,149,4],[132,4,140,4],[177,4,185,4],[171,4,171,11],[175,4,175,11],[177,7,185,7],[177,8,185,8],[177,9,185,9],[177,10,185,10],[177,11,185,11],[158,7,165,7],[158,8,165,8],[158,9,165,9]]}
[]
[]
[]
[]
[]
[]
[]
[]
[null,null,"METHODS"]
[]
[]
[null,"   Cost of Ownership in a given year"]
[]
[null,null,"PV = C t / (1+r) t    ",null,null,"(Equation 1)"]
[]
[null,null,"Where: "]
[null,null,"PV=Present Value"]
[null,null,"C t= Cost in year t"]
[null,null,"r= Discount rate (for example 3%)"]
[null,null,"t= Year"]
[]
[null,null,"This formula is used to determine the Present Value of the cost of ownership in year 1 (figure 1) and at the end of the investment horizon (figure 2) in the results pages. "]
[null,null,"See figure 1 below as an example:"]
[]
[]
[]
[]
[]
[]
[]
[]
[]
[]
[]
[]
[]
[]
[]
[]
[]
[]
[]
[]
[null,null,"Only for illustrative purposes."]
[]
[]
[null,"   Cumulative Cost of Ownership"]
[]
[null,null,"PV cumulative =  PV1 + PV2 + …….+ PV i ",null,null,null,"(Equation 2)"]
[]
[null,null,null,"Where:"]
[null,null,null,"PV1= Present Value in year 1"]
[null,null,null,"PV2= Present Value in year 2"]
[null,null,null,"PV i= Present Value at the end of the investment horizon (for example in year 20) "]
[]
[null,null,"This formula is used to determine the evolution of the Present Value of the cost of ownership (figure 3) in the results pages:"]
[]
[]
[]
[]
[]
[]
[]
[]
[]
[]
[]
[]
[]
[]
[]
[]
[]
[]
[]
[]
[]
[null,null,"Only for illustrative purposes."]
[]
[]
[null,"   Annual Average Cost of Ownership"]
[]
[null,null,"PV average = PV cumulative / Investment horizon",null,null,null,null,"(Equation 3)"]
[]
[null,null,null,"Where:"]
[null,null,null,"PV cumulative= Sum of the Present Value over the investment horizon"]
[null,null,null,"Investment horizon= Number of years over which the cost of ownership will be calculated (for example 20)"]
[]
[]
[null,null,"This formula is used to determine the annual average Present Value of the cost of ownership (figure 4) in the results pages:"]
[]
[]
[]
[]
[]
[]
[]
[]
[]
[]
[]
[]
[]
[]
[]
[]
[]
[]
[]
[]
[]
[null,null,"Only for illustrative purposes."]
[]
[]
[]
[]
[null,null,"SOURCES"]
[]
[]
[null,null,null,"COSTS DATA"]
[]
[null,null,null,"ENERGY"]
[]
[null,null,null,null,"COUNTRY SPECIFIC"]
[null,null,null,null,"Data type","Geography","Value","Unit","Data source","Year of publication","Description","Full reference"]
[null,null,null,null,"Electricity","United States",0.1067,"$/ kWh","EIA",2015,"Average electricity cost from January 2015 till October 2015 for the Commercial sector. The commercial sector is applicable to service- providing facilities, therefore applicable to hospitals. ","EIA (2015a). Electric Power Monthly with Data for October 2015. U.S. Department of Energy. [Online]. Available at: https://www.eia.gov/electricity/monthly/current_year/december2015.pdf"," "]
[null,null,null,null,"Natural gas",null,8.1279999999999998E-3,"$/ cubic feet",null,null,"Average natural gas cost from January 2015 till October 2015 for the Commercial sector. The commercial sector is applicable to service- providing facilities, therefore applicable to hospitals. ","EIA (2015b). Natural gas prices. [Online]. Available at: https://www.eia.gov/dnav/ng/ng_pri_sum_dcu_nus_m.htm. U.S. Department of Energy. Washington, DC"," "]
[null,null,null,null,"Diesel",null,2.7069999999999999,"$/ gallon",null,null,"Average diesel cost from January 2015 till December 2015 .","EIA (2015c). Retail gasoline and diesel prices. [Online]. Available at: https://www.eia.gov/dnav/pet/pet_pri_gnd_dcus_nus_a.htm. U.S. Department of Energy. Washington, DC"," "]
[null,null,null,null,"Gasoline",null,2.4289999999999998,"$/ gallon",null,null," Average gasoline cost (regular) from January 2015 till December 2015.","EIA (2015c). Retail gasoline and diesel prices. [Online]. Available at: https://www.eia.gov/dnav/pet/pet_pri_gnd_dcus_nus_a.htm. U.S. Department of Energy. Washington, DC"," "]
[]
[null,null,null,null,"REGION SPECIFIC"]
[null,null,null,null,"Data type","Geography","Value","Unit","Data source","Year of publication","Description","Full reference"]
[null,null,null,null,"Electricity","New England",0.15579999999999999,"$/ kWh","EIA",2015,"Average electricity cost from January 2015 till October 2015 for the Commercial sector. The commercial sector is applicable to service- providing facilities, therefore applicable to hospitals. ","EIA (2015a). Electric Power Monthly with Data for October 2015. U.S. Department of Energy. [Online]. Available at: https://www.eia.gov/electricity/monthly/current_year/december2015.pdf"]
[null,null,null,null,null,"Middle Atlantic",0.13300000000000001]
[null,null,null,null,null,"East North Central",9.9100000000000008E-2]
[null,null,null,null,null,"West North Central",9.3399999999999997E-2]
[null,null,null,null,null,"South Atlantic",9.5500000000000002E-2]
[null,null,null,null,null,"East South Central",0.1027]
[null,null,null,null,null,"West South Central",7.9399999999999998E-2]
[null,null,null,null,null,"Mountain",9.8599999999999993E-2]
[null,null,null,null,null,"Pacific",0.18429999999999999]
[null,null,null,null,"Natural gas","New England",1.1322657407407408E-2,"$/ cubic feet","EIA",2015,"Average natural gas cost from January 2015 till October 2015 for the Commercial sector. The commercial sector is applicable to service- providing facilities, therefore applicable to hospitals. ","EIA (2015b). Natural gas prices. [Online]. Available at: https://www.eia.gov/dnav/ng/ng_pri_sum_dcu_nus_m.htm. U.S. Department of Energy. Washington, DC"]
[null,null,null,null,null,"Middle Atlantic",8.5018518518518507E-3]
[null,null,null,null,null,"East North Central",8.0647111111111121E-3]
[null,null,null,null,null,"West North Central",8.0099206349206354E-3]
[null,null,null,null,null,"South Atlantic",9.921805555555557E-3]
[null,null,null,null,null,"East South Central",9.5086249999999997E-3]
[null,null,null,null,null,"West South Central",8.5926249999999996E-3]
[null,null,null,null,null,"Mountain",8.3592881944444444E-3]
[null,null,null,null,null,"Pacific",1.3511E-2]
[null,null,null,null,"Diesel","New England",2.8919999999999999,"$/ gallon","EIA",2015,"Average diesel cost from January 2015 till December 2015.","EIA (2015c). Retail gasoline and diesel prices. [Online]. Available at: https://www.eia.gov/dnav/pet/pet_pri_gnd_dcus_nus_a.htm. U.S. Department of Energy. Washington, DC"]
[null,null,null,null,null,"Central Atlantic",2.927]
[null,null,null,null,null,"Lower Atlantic",2.6680000000000001]
[null,null,null,null,null,"Midwest",2.64]
[null,null,null,null,null,"Gulf Coast",2.5760000000000001]
[null,null,null,null,null,"Rocky Mountain",2.6739999999999999]
[null,null,null,null,null,"West Coast",2.8980000000000001]
[null,null,null,null,null,"West Coast less California",2.7549999999999999]
[null,null,null,null,"Gasoline","New England",2.411,"$/ gallon","EIA",2015,"Average gasoline cost (regular) from January 2015 till December 2015.","EIA (2015c). Retail gasoline and diesel prices. [Online]. Available at: https://www.eia.gov/dnav/pet/pet_pri_gnd_dcus_nus_a.htm. U.S. Department of Energy. Washington, DC"]
[null,null,null,null,null,"Central Atlantic",2.44]
[null,null,null,null,null,"Lower Atlantic",2.29]
[null,null,null,null,null,"Midwest",2.339]
[null,null,null,null,null,"Gulf Coast",2.1640000000000001]
[null,null,null,null,null,"Rocky Mountain",2.4079999999999999]
[null,null,null,null,null,"West Coast",2.9780000000000002]
[null,null,null,null,null,"West Coast less California",2.65]
[]
[]
[]
[null,null,null,"WATER"]
[]
[null,null,null,null,"COUNTRY SPECIFIC"]
[null,null,null,null,"Data type","Geography","Value","Unit","Data source","Year of publication","Description","Full reference"]
[null,null,null,null,"Purchased water","United States",9.7739159360000008E-3," $/ gallon","Black & Veatch",2013,"Average cost for incoming plus outgoing (sewer) water rates for 2013 and the commercial sector. ","Black & Veatch (2013). 50 Largest cities water/wastewater rate survey. [Online]. Available at: http://www.saws.org/who_we_are/community/RAC/docs/2014/50-largest-cities-brochure-water-wastewater-rate-survey.pdf"]
[]
[null,null,null,null,"REGION SPECIFIC"]
[null,null,null,null,"Data type","Geography","Value","Unit","Data source","Year of publication","Description","Full reference"]
[null,null,null,null,"Purchased water","New England",1.5913671398399998E-2,"$/ gallon","Black & Veatch",2013,"Average cost for incoming plus outgoing (sewer) water rates for 2013 and the commercial sector. ","Black & Veatch (2013). 50 Largest cities water/wastewater rate survey. [Online]. Available at: http://www.saws.org/who_we_are/community/RAC/docs/2014/50-largest-cities-brochure-water-wastewater-rate-survey.pdf"]
[null,null,null,null,null,"Middle Atlantic",1.0278792345600002E-2]
[null,null,null,null,null,"East North Central",8.7549588341333338E-3]
[null,null,null,null,null,"West North Central",7.2792370544000002E-3]
[null,null,null,null,null,"South Atlantic",1.2598736092800001E-2]
[null,null,null,null,null,"East South Central",7.7663844672000012E-3]
[null,null,null,null,null,"West South Central",8.2721210901333334E-3]
[null,null,null,null,null,"Mountain",7.5124199981714303E-3]
[null,null,null,null,null,"Pacific",1.1945276754560001E-2]
[]
[]
[]
[null,null,null,"WASTE"]
[]
[null,null,null,null,"COUNTRY SPECIFIC"]
[null,null,null,null,"Data type","Geography","Value","Unit","Data source","Year of publication","Description","Full reference"]
[null,null,null,null,"Solid waste","United States",0.05,"$/ lb","Practice Greenhealth",2016,"Median values collected by Practice Greenhealth for different types of health related waste costs. The values are calculated as a result of dividing the total annual costs by the total annual waste volume for different US hospitals. The costs are based on 2014 data and include additional waste fees, such as tipping fees.","Practice Greenhealth (2016). Personal communication on waste cost data collected in 2015."," "]
[null,null,null,null,"Recycling waste",null,0.04,null,null,null,null,null," "]
[null,null,null,null,"Regulated Medical Waste",null,0.3,null,null,null,null,null," "]
[null,null,null,null,"Hazardous waste",null,2.2200000000000002,null,null,null,null,null," "]
[null,null,null,null,"Non-RCRA Pharmaceutical waste",null,0.57999999999999996,null,null,null,null,null," "]
[null,null,null,null,"RCRA Pharmaceutical waste",null,2.4900000000000002,null,null,null,null,null," "]
[null,null,null,null,"Composting waste",null,7.0000000000000007E-2,null,null,null,null,null," "]
[null,null,null,null,"Universal waste (cost)",null,0.28000000000000003,null,null,null,"The value for universal waste provided here refers to hospitals that have to pay for disposing universal waste. This value represents a cost for the hospital. ",null," "]
[null,null,null,null,"Universal waste (revenue)",null,0.17,null,null,null,"The value for universal waste provided here refers to hospitals that obtain revenue when selling universal waste. ",null," "]
[null,null,null,null,"Universal waste (unknown)",null,0.18,null,null,null,"The value for universal waste provided here refers to the median obtained when considering all universal waste data excluding outliers. This value represents a cost for the hospital and can be selected when the user is not aware if the hospital obtains revenue or pays to dispose universal waste.",null," "]
[]
[]
[null,null,null,"DISCOUNT RATE"]
[]
[null,null,null,null,"Data type","Geography","Value","Unit","Data source","Year of publication","Description","Full reference"]
[null,null,null,null,"Discount rate","United States",3,"%","US Government",2015,"USIAWG recommends using a 3% discount rate when assessing the Social Cost of Carbon, as it is a conservative value. However, in order to capture uncertainties, the USIAWG highlights the possibility of using of 2.5 and 5 as additional discount rates.","USIAWG (2015). Technical Support Document: Technical Update of the Social Cost of Carbon for Regulatory Impact Analysis Under Executive Order 12866. Interagency Working Group on Social Cost of Carbon, United States Government, Washington, DC."," "]
[]
[null,null,null,null,"The use of a high discount rate implies providing lower importance to the costs that will happen in the future (for example operational costs), even if those can be material."]
[]
[]
[null,null,null,"UNIT CONVERSIONS"]
[]
[]
[null,null,null,null,"Conversion type","From","To","Related data entry in the GCO calculator"]
[null,null,null,null,"Mass","1 short ton (ton)","2000 pounds (lbs)","Waste data"]
[null,null,null,null,null,"1 ounce (oz)","0.0625 pounds (lbs)"]
[null,null,null,null,null,"1 kilogram (kg)","2.205 pound (lbs)"]
[null,null,null,null,null,"1 metric ton (tonne)","2205 pound (lbs)"]
[null,null,null,null,"Volume","1 cubic foot (ft3)","7.4805 US gallon (gal)","Fuel data (diesel, petrol) and water data"," "]
[null,null,null,null,null,"1 barrel (bbl)","42 US gallon (gal)",null," "]
[null,null,null,null,null,"1 liter (l)","0.2642 US gallon (gal)",null," "]
[null,null,null,null,null,"1 cubic meter (m3)","264.2 US gallon (gal)",null," "]
[null,null,null,null,null,"1 US gallon (gal)","0.134 cubic foot (ft3)","Fuel data (natural gas)"]
[null,null,null,null,null,"1 barrel (bbl)"," 5.615 cubic foot (ft3)"]
[null,null,null,null,null,"1 liter (l)","0.035 cubic foot (ft3)"]
[null,null,null,null,null,"1 cubic meter (m3)","35.315 cubic foot (ft3)"]

{"sheet":"Calcs Detailed","index":8,"n_rows":319,"n_cols":164,"rows_kept":319,"cut":false,"hidden":true,"merged":[]}
["TAB TO BE HIDDEN"]
[null,null,"DATA FROM DETAILED ASSESSMENT TAB - Product",null,null,null,null,null,null,null,null,"CALCULATIONS- Product",null,null,null,null,null,null,null,null,null,null,null,null,null,null,null,null,null,null,null,null,null,null,null,null,null,null,null,null,null,"CALCULATIONS- Product split by Environmental costs (below)",null,null,null,null,null,null,null,null,null,null,null,null,null,null,null,null,null,null,null,null,null,null,null,null,null,null,null,null,null,null,null,null,null,null,"DATA FROM REFINING TAB - Supplemental part 1",null,null,null,null,null,null,null,null,"CALCULATIONS - Supplemental part 1",null,null,null,null,null,null,null,null,null,null,null,null,null,null,null,null,null,null,null,null,null,"FINAL",null,"CALCULATIONS - product + supplemental parts 1 and 2",null,null,null,null,null,null,null,null,null,null,null,null,null,null,null,null,null,null,null,null,null,null,null,null,null,null,"DATA FROM REFINING TAB - Supplemental part 2",null,null,null,null,null,null,null,null,null,null,null,"CALCULATIONS - Supplemental part 2"]
[]
[null,null,"GENERAL DATA"]
[]
[null,null,{"$f":"'Data input (detailed2)'!C26","v":"Financial parameters"},{"$f":"'Data input (detailed2)'!D26","v":"Unit"},{"$f":"'Data input (detailed2)'!E26","v":"Data"},null,null,null,null,null,null,{"$f":"C6","v":"Financial parameters"},"Unit","Data",null,null,null,null,null,null,null,null,null,null,null,null,null,null,null,null,null,null,null,null,null,null,null,null,null,null,null,null,null,null,null,null,null,null,null,null,null,null,null,null,null,null,null,null,null,null,null,null,null,null,null,null,null,null,null,null,null,null,null,null,null,null,"OPERATIONAL COSTS",null,null,null,null,null,null,null,null,{"$f":"BY6","v":"OPERATIONAL COSTS"},null,null,null,null,null,null,null,null,null,null,null,null,null,null,null,null,null,null,null,null,null,null,null,null,null,null,null,null,null,null,null,null,null,null,null,null,null,null,null,null,null,null,null,null,null,null,null,null,null,null,"OPERATIONAL COSTS",null,null,null,null,null,null,null,null,null,null,null,"OPERATIONAL COSTS"]
[null,null,{"$f":"'Data input (detailed2)'!C27","v":"Discount rate"},{"$f":"'Data input (detailed2)'!D27","v":"%"},{"$f":"IF('Data input (detailed2)'!E27=0,\"Not applicable\",'Data input (detailed2)'!E27)","v":3},null,null,null,null,null,null,"Discount rate","%",3]
[null,null,{"$f":"'Data input (detailed2)'!C28","v":"Investment horizon"},{"$f":"'Data input (detailed2)'!D28","v":"year"},{"$f":"IF('Data input (detailed2)'!E28=0,\"Not applicable\",'Data input (detailed2)'!E28)","v":"Not applicable"},null,null,null,null,null,null,"Investment horizon","year","Not applicable",null,null,null,null,null,null,null,null,null,null,null,null,null,null,null,null,null,null,null,null,null,null,null,null,null,null,null,null,null,null,null,null,null,null,null,null,null,null,null,null,null,null,null,null,null,null,null,null,null,null,null,null,null,null,null,null,null,null,null,null,null,null,{"$f":"'Data input (detailed2)'!C95","v":"Other operational costs (for example maintenance)"},{"$f":"'Data input (detailed2)'!D95","v":"Unit"},"Product A","Product B","Product C","Product D",null,null,null,{"$f":"BY8","v":"Other operational costs (for example maintenance)"},{"$f":"BZ8","v":"Unit"},{"$f":"CA8","v":"Product A"},{"$f":"CB8","v":"Product B"},{"$f":"CC8","v":"Product C"},{"$f":"CD8","v":"Product D"},null,null,null,null,null,null,null,null,null,null,null,null,null,null,null,null,null,null,null,null,null,null,null,null,null,null,null,null,null,null,null,null,null,null,null,null,null,null,null,null,null,null,null,null,null,{"$f":"'Data input (detailed2)'!C95","v":"Other operational costs (for example maintenance)"},{"$f":"'Data input (detailed2)'!D95","v":"Unit"},"Product A","Product B","Product C","Product D",null,null,null,null,null,null,{"$f":"EG8","v":"Other operational costs (for example maintenance)"},"Unit","Product A ","Product B","Product C ","Product D"]
[null,null,null,null,null,null,null,null,null,null,null,null,null,null,null,null,null,null,null,null,null,null,null,null,null,null,null,null,null,null,null,null,null,null,null,null,null,null,null,null,null,null,null,null,null,null,null,null,null,null,null,null,null,null,null,null,null,null,null,null,null,null,null,null,null,null,null,null,null,null,null,null,null,null,null,null,{"$f":"'Data input (detailed2)'!C98","v":"Does the product require supplemental parts to operate?"},{"$f":"'Data input (detailed2)'!D98","v":"Yes/No"},{"$f":"'Data input (detailed2)'!E98","v":0},{"$f":"'Data input (detailed2)'!F98","v":0},{"$f":"'Data input (detailed2)'!G98","v":0},{"$f":"'Data input (detailed2)'!H98","v":0},null,null,null,"Does the product require supplemental parts to operate?","Yes/No",0,0,0,0,null,null,null,null,null,null,null,null,null,null,null,null,null,null,null,null,null,null,null,null,null,null,null,null,null,null,null,null,null,null,null,null,null,null,null,null,null,null,null,null,null,null,null,null,null,{"$f":"'Data input (detailed2)'!C98","v":"Does the product require supplemental parts to operate?"},{"$f":"'Data input (detailed2)'!D98","v":"Yes/No"},{"$f":"'Data input (detailed2)'!E98","v":0},{"$f":"'Data input (detailed2)'!F98","v":0},{"$f":"'Data input (detailed2)'!G98","v":0},{"$f":"'Data input (detailed2)'!H98","v":0},null,null,null,null,null,null,{"$f":"EG9","v":"Does the product require supplemental parts to operate?"},{"$f":"EH9","v":"Yes/No"},{"$f":"EI9","v":0},{"$f":"EJ9","v":0},{"$f":"EK9","v":0},{"$f":"EL9","v":0}]
[null,null,null,null,null,null,null,null,null,null,null,null,null,null,null,null,null,null,null,null,null,null,null,null,null,null,null,null,null,null,null,null,null,null,null,null,null,null,null,null,null,null,null,null,null,null,null,null,null,null,null,null,null,null,null,null,null,null,null,null,null,null,null,null,null,null,null,null,null,null,null,null,null,null,null,null,{"$f":"'Data input (detailed2)'!C99","v":"Supplemental part 1"},null,null,null,null,null,null,null,null,"Supplemental part 1",null,null,null,null,null,null,null,null,null,null,null,null,null,null,null,null,null,null,null,null,null,null,null,null,null,null,null,null,null,null,null,null,null,null,null,null,null,null,null,null,null,null,null,null,null,null,null,null,null,null,{"$f":"'Data input (detailed2)'!C107","v":"Supplemental part 2"},{"$f":"'Data input (detailed2)'!D107","v":0},{"$f":"'Data input (detailed2)'!E107","v":0},{"$f":"'Data input (detailed2)'!F107","v":0},{"$f":"'Data input (detailed2)'!G107","v":0},{"$f":"'Data input (detailed2)'!H107","v":0},null,null,null,null,null,null,"Supplemental part 2",0,0,0,0,0]
[null,null,{"$f":"'Data input (detailed2)'!C31","v":"Product specific parameters"},{"$f":"'Data input (detailed2)'!D31","v":"Unit"},"Product A ","Product B","Product C ","Product D",null,null,null,{"$f":"C11","v":"Product specific parameters"},"Unit","Product A ","Product B","Product C ","Product D",null,null,null,null,null,null,null,null,null,null,null,null,null,null,null,null,null,null,null,null,null,null,null,null,null,null,null,null,null,null,null,null,null,null,null,null,null,null,null,null,null,null,null,null,null,null,null,null,null,null,null,null,null,null,null,null,null,null,null,{"$f":"'Data input (detailed2)'!C100","v":"Maintenance cost - supplemental part (acquisition cost of one supplemental part)"},{"$f":"'Data input (detailed2)'!D100","v":"$"},{"$f":"'Data input (detailed2)'!E100","v":0},{"$f":"'Data input (detailed2)'!F100","v":0},{"$f":"'Data input (detailed2)'!G100","v":0},{"$f":"'Data input (detailed2)'!H100","v":0},null,null,null,"Maintenance cost - supplemental part (acquisition cost of one supplemental part)","$",0,0,0,0,null,null,null,null,null,null,null,null,null,null,null,null,null,null,null,null,null,null,null,null,null,null,null,null,null,null,null,null,null,null,null,null,null,null,null,null,null,null,null,null,null,null,null,null,null,{"$f":"'Data input (detailed2)'!C108","v":"Maintenance cost - supplemental part  (acquisition cost of one supplemental part)"},{"$f":"'Data input (detailed2)'!D108","v":"$"},{"$f":"'Data input (detailed2)'!E108","v":0},{"$f":"'Data input (detailed2)'!F108","v":0},{"$f":"'Data input (detailed2)'!G108","v":0},{"$f":"'Data input (detailed2)'!H108","v":0},null,null,null,null,null,null,"Maintenance cost - supplemental part  (acquisition cost of one supplemental part)","$",0,0,0,0]
[null,null,{"$f":"'Data input (detailed2)'!C32","v":"Product description"},{"$f":"'Data input (detailed2)'!D32","v":"na"},{"$f":"'Data input (detailed2)'!E32","v":0},{"$f":"'Data input (detailed2)'!F32","v":0},{"$f":"'Data input (detailed2)'!G32","v":0},{"$f":"'Data input (detailed2)'!H32","v":0},null,null,null,{"$f":"C12","v":"Product description"},{"$f":"D12","v":"na"},0,0,0,0,null,null,null,null,null,null,null,null,null,null,null,null,null,null,null,null,null,null,null,null,null,null,null,null,null,null,null,null,null,null,null,null,null,null,null,null,null,null,null,null,null,null,null,null,null,null,null,null,null,null,null,null,null,null,null,null,null,null,null,{"$f":"'Data input (detailed2)'!C101","v":"Is the supplemental part consumable?"},{"$f":"'Data input (detailed2)'!D101","v":"Yes/No"},{"$f":"'Data input (detailed2)'!E101","v":0},{"$f":"'Data input (detailed2)'!F101","v":0},{"$f":"'Data input (detailed2)'!G101","v":0},{"$f":"'Data input (detailed2)'!H101","v":0},null,null,null,"Is the supplemental part consumable?","Yes/No",0,0,0,0,null,null,null,null,null,null,null,null,null,null,null,null,null,null,null,null,null,null,null,null,null,null,null,null,null,null,null,null,null,null,null,null,null,null,null,null,null,null,null,null,null,null,null,null,null,{"$f":"'Data input (detailed2)'!C109","v":"Is the supplemental part consumable?"},{"$f":"'Data input (detailed2)'!D109","v":"Yes/No"},{"$f":"'Data input (detailed2)'!E109","v":0},{"$f":"'Data input (detailed2)'!F109","v":0},{"$f":"'Data input (detailed2)'!G109","v":0},{"$f":"'Data input (detailed2)'!H109","v":0},null,null,null,null,null,null,"Is the supplemental part consumable?","Yes/No",0,0,0,0]
[null,null,{"$f":"'Data input (detailed2)'!C33","v":"Does the product use electricity?"},{"$f":"'Data input (detailed2)'!D33","v":"Yes/No "},{"$f":"'Data input (detailed2)'!E33","v":0},{"$f":"'Data input (detailed2)'!F33","v":0},{"$f":"'Data input (detailed2)'!G33","v":0},{"$f":"'Data input (detailed2)'!H33","v":0},null,null,null,{"$f":"C13","v":"Does the product use electricity?"},{"$f":"D13","v":"Yes/No "},{"$f":"E13","v":0},{"$f":"F13","v":0},{"$f":"G13","v":0},{"$f":"H13","v":0},null,null,null,null,null,null,null,null,null,null,null,null,null,null,null,null,null,null,null,null,null,null,null,null,null,null,null,null,null,null,null,null,null,null,null,null,null,null,null,null,null,null,null,null,null,null,null,null,null,null,null,null,null,null,null,null,null,null,null,{"$f":"'Data input (detailed2)'!C102","v":"Option 1. If the supplemental part is a consumable"},null,null,null,null,null,null,null,null,"Option 1. If the supplemental part is a consumable",null,null,null,null,null,null,null,null,null,null,null,null,null,null,null,null,null,null,null,null,null,null,null,null,null,null,null,null,null,null,null,null,null,null,null,null,null,null,null,null,null,null,null,null,null,null,null,null,null,null,{"$f":"'Data input (detailed2)'!C110","v":"Option 1. If the supplemental part is a consumable"},{"$f":"'Data input (detailed2)'!D110","v":0},{"$f":"'Data input (detailed2)'!E110","v":0},{"$f":"'Data input (detailed2)'!F110","v":0},{"$f":"'Data input (detailed2)'!G110","v":0},{"$f":"'Data input (detailed2)'!H110","v":0},null,null,null,null,null,null,"Option 1. If the supplemental part is a consumable"]
[null,null,{"$f":"'Data input (detailed2)'!C34","v":"Does the product use fuel?"},{"$f":"'Data input (detailed2)'!D34","v":"Yes/No "},{"$f":"'Data input (detailed2)'!E34","v":0},{"$f":"'Data input (detailed2)'!F34","v":0},{"$f":"'Data input (detailed2)'!G34","v":0},{"$f":"'Data input (detailed2)'!H34","v":0},null,null,null,"Does the product use fuel?","Yes/No ",0,0,0,0,null,null,null,null,null,null,null,null,null,null,null,null,null,null,null,null,null,null,null,null,null,null,null,null,null,null,null,null,null,null,null,null,null,null,null,null,null,null,null,null,null,null,null,null,null,null,null,null,null,null,null,null,null,null,null,null,null,null,null,{"$f":"'Data input (detailed2)'!C103","v":"Number of times the supplemental part can be used"},{"$f":"'Data input (detailed2)'!D103","v":"# uses"},{"$f":"'Data input (detailed2)'!E103","v":0},{"$f":"'Data input (detailed2)'!F103","v":0},{"$f":"'Data input (detailed2)'!G103","v":0},{"$f":"'Data input (detailed2)'!H103","v":0},null,null,null,"Number of times the supplemental part can be used","# uses",0,0,0,0,null,null,null,null,null,null,null,null,null,null,null,null,null,null,null,null,null,null,null,null,null,null,null,null,null,null,null,null,null,null,null,null,null,null,null,null,null,null,null,null,null,null,null,null,null,{"$f":"'Data input (detailed2)'!C111","v":"Number of times the supplemental part can be used"},{"$f":"'Data input (detailed2)'!D111","v":"# uses"},{"$f":"'Data input (detailed2)'!E111","v":0},{"$f":"'Data input (detailed2)'!F111","v":0},{"$f":"'Data input (detailed2)'!G111","v":0},{"$f":"'Data input (detailed2)'!H111","v":0},null,null,null,null,null,null,"Number of times the supplemental part can be used","# uses",0,0,0,0]
[null,null,{"$f":"'Data input (detailed2)'!C35","v":"Does the product use water?"},{"$f":"'Data input (detailed2)'!D35","v":"Yes/No "},{"$f":"'Data input (detailed2)'!E35","v":0},{"$f":"'Data input (detailed2)'!F35","v":0},{"$f":"'Data input (detailed2)'!G35","v":0},{"$f":"'Data input (detailed2)'!H35","v":0},null,null,null,"Does the product use water?","Yes/No ",0,0,0,0,null,null,null,null,null,null,null,null,null,null,null,null,null,null,null,null,null,null,null,null,null,null,null,null,null,null,null,null,null,null,null,null,null,null,null,null,null,null,null,null,null,null,null,null,null,null,null,null,null,null,null,null,null,null,null,null,null,null,null,{"$f":"'Data input (detailed2)'!C104","v":"Number of times this type of supplemental part is expected to be used per year in 1 product"},{"$f":"'Data input (detailed2)'!D104","v":"# uses/ year"},{"$f":"'Data input (detailed2)'!E104","v":0},{"$f":"'Data input (detailed2)'!F104","v":0},{"$f":"'Data input (detailed2)'!G104","v":0},{"$f":"'Data input (detailed2)'!H104","v":0},null,null,null,"Number of times this type of supplemental part is expected to be used per year in 1 product","# uses/ year",0,0,0,0,null,null,null,null,null,null,null,null,null,null,null,null,null,null,null,null,null,null,null,null,null,null,null,null,null,null,null,null,null,null,null,null,null,null,null,null,null,null,null,null,null,null,null,null,null,{"$f":"'Data input (detailed2)'!C112","v":"Number of times this type of supplemental part is expected to be used per year in 1 product"},{"$f":"'Data input (detailed2)'!D112","v":"# uses/ year"},{"$f":"'Data input (detailed2)'!E112","v":0},{"$f":"'Data input (detailed2)'!F112","v":0},{"$f":"'Data input (detailed2)'!G112","v":0},{"$f":"'Data input (detailed2)'!H112","v":0},null,null,null,null,null,null,"Number of times this type of supplemental part is expected to be used per year in 1 product","# uses/ year",0,0,0,0]
[null,null,{"$f":"'Data input (detailed2)'!C36","v":"Does the product require cleaning and sterilizing?"},{"$f":"'Data input (detailed2)'!D36","v":"Yes/No "},{"$f":"'Data input (detailed2)'!E36","v":0},{"$f":"'Data input (detailed2)'!F36","v":0},{"$f":"'Data input (detailed2)'!G36","v":0},{"$f":"'Data input (detailed2)'!H36","v":0},null,null,null,"Does the product require cleaning and sterilizing?","Yes/No ",0,0,0,0,null,null,null,null,null,null,null,null,null,null,null,null,null,null,null,null,null,null,null,null,null,null,null,null,null,null,null,null,null,null,null,null,null,null,null,null,null,null,null,null,null,null,null,null,null,null,null,null,null,null,null,null,null,null,null,null,null,null,null,{"$f":"'Data input (detailed2)'!C105","v":"Option 2. If the supplemental part is not a consumable"},null,null,null,null,null,null,null,null,"Option 2. If the supplemental part is not a consumable",null,null,null,null,null,null,null,null,null,null,null,null,null,null,null,null,null,null,null,null,null,null,null,null,null,null,null,null,null,null,null,null,null,null,null,null,null,null,null,null,null,null,null,null,null,null,null,null,null,null,{"$f":"'Data input (detailed2)'!C113","v":"Option 2. If the supplemental part is not a consumable"},{"$f":"'Data input (detailed2)'!D113","v":0},{"$f":"'Data input (detailed2)'!E113","v":0},{"$f":"'Data input (detailed2)'!F113","v":0},{"$f":"'Data input (detailed2)'!G113","v":0},{"$f":"'Data input (detailed2)'!H113","v":0},null,null,null,null,null,null,"Option 2. If the supplemental part is not a consumable"]
[null,null,{"$f":"'Data input (detailed2)'!C37","v":"Is the product a consumable?"},{"$f":"'Data input (detailed2)'!D37","v":"Yes/No "},{"$f":"'Data input (detailed2)'!E37","v":0},{"$f":"'Data input (detailed2)'!F37","v":0},{"$f":"'Data input (detailed2)'!G37","v":0},{"$f":"'Data input (detailed2)'!H37","v":0},null,null,null,"Is the product a consumable?","Yes/No ",0,0,0,0,null,null,null,null,null,null,null,null,null,null,null,null,null,null,null,null,null,null,null,null,null,null,null,null,null,null,null,null,null,null,null,null,null,null,null,null,null,null,null,null,null,null,null,null,null,null,null,null,null,null,null,null,null,null,null,null,null,null,null,{"$f":"'Data input (detailed2)'!C106","v":"Expected lifespan for the supplemental part"},{"$f":"'Data input (detailed2)'!D106","v":"Years"},{"$f":"'Data input (detailed2)'!E106","v":0},{"$f":"'Data input (detailed2)'!F106","v":0},{"$f":"'Data input (detailed2)'!G106","v":0},{"$f":"'Data input (detailed2)'!H106","v":0},null,null,null,"Expected lifespan for the supplemental part","Years",0,0,0,0,null,null,null,null,null,null,null,null,null,null,null,null,null,null,null,null,null,null,null,null,null,null,null,null,null,null,null,null,null,null,null,null,null,null,null,null,null,null,null,null,null,null,null,null,null,{"$f":"'Data input (detailed2)'!C114","v":"Expected lifespan for the supplemental part"},{"$f":"'Data input (detailed2)'!D114","v":"Years"},{"$f":"'Data input (detailed2)'!E114","v":0},{"$f":"'Data input (detailed2)'!F114","v":0},{"$f":"'Data input (detailed2)'!G114","v":0},{"$f":"'Data input (detailed2)'!H114","v":0},null,null,null,null,null,null,"Expected lifespan for the supplemental part","Years",0,0,0,0]
[null,null,{"$f":"'Data input (detailed2)'!C38","v":"Option 1. If product is a consumable"},null,null,null,null,null,null,null,null,"Option 1. If product is a consumable"]
[null,null,{"$f":"'Data input (detailed2)'!C39","v":"Number of times the product can be used"},{"$f":"'Data input (detailed2)'!D39","v":"# uses"},{"$f":"'Data input (detailed2)'!E39","v":0},{"$f":"'Data input (detailed2)'!F39","v":0},{"$f":"'Data input (detailed2)'!G39","v":0},{"$f":"'Data input (detailed2)'!H39","v":0},null,null,null,"Number of times the product can be used","# uses",0,0,0,0,null,null,null,null,null,null,null,null,null,null,null,null,null,null,null,null,null,null,null,null,null,null,null,null,null,null,null,null,null,null,null,null,null,null,null,null,null,null,null,null,null,null,null,null,null,null,null,null,null,null,null,null,null,null,null,null,null,null,null,null,null,null,null,null,null,null,null,null,"TOTAL ACQUISITION COST (supplemental part)","$",{"$f":"CJ11","v":0},{"$f":"CK11","v":0},{"$f":"CL11","v":0},{"$f":"CM11","v":0},null,null,null,null,null,null,null,null,null,null,null,null,null,null,null,null,null,null,null,null,null,null,null,null,null,null,null,null,null,null,null,null,null,null,null,null,null,null,null,null,null,null,null,null,null,null,null,null,null,null,null,null,null,null,null,null,null,"TOTAL ACQUISITION COST (supplemental part)","$",{"$f":"EU11","v":0},{"$f":"EV11","v":0},{"$f":"EW11","v":0},{"$f":"EX11","v":0}]
[null,null,{"$f":"'Data input (detailed2)'!C40","v":"Number of times this type of product is expected to be used per year"},{"$f":"'Data input (detailed2)'!D40","v":"# uses/ year"},{"$f":"'Data input (detailed2)'!E40","v":0},{"$f":"'Data input (detailed2)'!F40","v":0},{"$f":"'Data input (detailed2)'!G40","v":0},{"$f":"'Data input (detailed2)'!H40","v":0},null,null,null,"Number of times this type of product is expected to be used per year","# uses/ year",0,0,0,0,null,null,null,null,null,null,null,null,null,null,null,null,null,null,null,null,null,null,null,null,null,null,null,null,null,null,null,null,null,null,null,null,null,null,null,null,null,null,null,null,null,null,null,null,null,null,null,null,null,null,null,null,null,null,null,null,null,null,null,{"$f":"'Data input (detailed2)'!C120","v":"DISPOSAL COSTS"},null,null,null,null,null,null,null,null,null,"$ per supplemental part",null,null,null,null,null,null,null,null,null,null,null,null,null,null,null,null,null,null,null,null,null,null,null,null,null,null,null,null,null,null,null,null,null,null,null,null,null,null,null,null,null,null,null,null,null,null,null,null,null,"DISPOSAL COSTS",null,null,null,null,null,null,null,null,null,null,null,null,"$ per supplemental part"]
[null,null,{"$f":"'Data input (detailed2)'!C41","v":"Option 2. If product is not a consumable"},null,null,null,null,null,null,null,null,"Option 2. If product is not a consumable"]
[null,null,{"$f":"'Data input (detailed2)'!C42","v":"Expected product lifespan"},{"$f":"'Data input (detailed2)'!D42","v":"year"},{"$f":"'Data input (detailed2)'!E42","v":0},{"$f":"'Data input (detailed2)'!F42","v":0},{"$f":"'Data input (detailed2)'!G42","v":0},{"$f":"'Data input (detailed2)'!H42","v":0},null,null,null,"Expected product lifespan","year",0,0,0,0,null,null,null,null,null,null,null,null,null,null,null,null,null,null,null,null,null,null,null,null,null,null,null,null,null,null,null,null,null,null,null,null,null,null,null,null,null,null,null,null,null,null,null,null,null,null,null,null,null,null,null,null,null,null,null,null,null,null,null,{"$f":"'Data input (detailed2)'!C122","v":"Description"},"Unit","Product A","Product B","Product C","Product D",null,null,null,null,null,null,null,null,null,null,null,null,null,null,null,null,null,null,null,null,null,null,null,null,null,null,null,null,null,null,null,null,null,null,null,null,null,null,null,null,null,null,null,null,null,null,null,null,null,null,null,null,null,null,{"$f":"'Data input (detailed2)'!C122","v":"Description"},"Unit","Product A","Product B","Product C","Product D"]
[null,null,null,null,null,null,null,null,null,null,null,null,null,null,null,null,null,null,null,null,null,null,null,null,null,null,null,null,null,null,null,null,null,null,null,null,null,null,null,null,null,null,null,null,null,null,null,null,null,null,null,null,null,null,null,null,null,null,null,null,null,null,null,null,null,null,null,null,null,null,null,null,null,null,null,null,{"$f":"'Data input (detailed2)'!C137","v":"Supplemental part 1"},null,null,null,null,null,null,null,null,null,null,null,null,null,null,null,null,null,null,null,null,null,null,null,null,null,null,null,null,null,null,null,null,null,null,null,null,null,null,null,null,null,null,null,null,null,null,null,null,null,null,null,null,null,null,null,null,null,null,null,{"$f":"'Data input (detailed2)'!C141","v":"Supplemental part 2"}]
[null,null,null,null,null,null,null,null,null,null,null,"ACQUISITION COSTS",null,null,null,null,null,null,null,null,null,null,null,null,null,null,null,null,null,null,null,null,null,null,null,null,null,null,null,null,null,null,null,null,null,null,null,null,null,null,null,null,null,null,null,null,null,null,null,null,null,null,null,null,null,null,null,null,null,null,null,null,null,null,null,null,{"$f":"'Data input (detailed2)'!C138","v":"Type of waste associated with the supplemental part"},{"$f":"'Data input (detailed2)'!D138","v":"na"},{"$f":"'Data input (detailed2)'!E138","v":0},{"$f":"'Data input (detailed2)'!F138","v":0},{"$f":"'Data input (detailed2)'!G138","v":0},{"$f":"'Data input (detailed2)'!H138","v":0},null,null,null,null,null,null,null,null,null,null,null,null,null,null,null,null,null,null,null,null,null,null,null,null,null,null,null,null,null,null,null,null,null,null,null,null,null,null,null,null,null,null,null,null,null,null,null,null,null,null,null,null,null,null,{"$f":"'Data input (detailed2)'!C142","v":"Type of waste associated with the supplemental part"},{"$f":"'Data input (detailed2)'!D142","v":"na"},{"$f":"'Data input (detailed2)'!E142","v":0},{"$f":"'Data input (detailed2)'!F142","v":0},{"$f":"'Data input (detailed2)'!G142","v":0},{"$f":"'Data input (detailed2)'!H142","v":0}]
[null,null,{"$f":"'Data input (detailed2)'!C45","v":"COST RELATED DATA"},null,null,null,null,null,null,null,null,null,null,null,null,null,null,null,null,null,null,null,null,null,null,null,null,null,null,null,null,null,null,null,null,null,null,null,null,null,null,null,null,null,null,null,null,null,null,null,null,null,null,null,null,null,null,null,null,null,null,null,null,null,null,null,null,null,null,null,null,null,null,null,null,null,{"$f":"'Data input (detailed2)'!C139","v":"Weight sent to disposal associated with one supplemental part"},{"$f":"'Data input (detailed2)'!D139","v":"lb"},{"$f":"'Data input (detailed2)'!E139","v":0},{"$f":"'Data input (detailed2)'!F139","v":0},{"$f":"'Data input (detailed2)'!G139","v":0},{"$f":"'Data input (detailed2)'!H139","v":0},null,null,null,{"$f":"BY20","v":"DISPOSAL COSTS"},null,null,null,null,null,null,null,null,null,null,null,null,null,null,null,null,null,null,null,null,null,null,null,null,null,null,null,null,null,null,null,null,null,null,null,null,null,null,null,null,null,null,null,null,null,null,null,null,null,null,{"$f":"'Data input (detailed2)'!C143","v":"Weight sent to disposal associated with one supplemental part"},{"$f":"'Data input (detailed2)'!D143","v":"lb"},{"$f":"'Data input (detailed2)'!E143","v":0},{"$f":"'Data input (detailed2)'!F143","v":0},{"$f":"'Data input (detailed2)'!G143","v":0},{"$f":"'Data input (detailed2)'!H143","v":0},null,null,null,null,null,null,"DISPOSAL COSTS"]
[null,null,null,null,null,null,null,null,null,null,null,{"$f":"C29","v":"Description"},"Unit","Product A ","Product B","Product C ","Product D",null,null,null,null,null,null,null,null,null,null,null,null,null,null,null,null,null,null,null,null,null,null,null,null,null,null,null,null,null,null,null,null,null,null,null,null,null,null,null,null,null,null,null,null,null,null,null,null,null,null,null,null,null,null,null,null,null,null,null,{"$f":"'Data input (detailed2)'!C140","v":"Waste cost associated "},{"$f":"'Data input (detailed2)'!D140","v":"$/lb"},{"$f":"'Data input (detailed2)'!E140","v":0},{"$f":"'Data input (detailed2)'!F140","v":0},{"$f":"'Data input (detailed2)'!G140","v":0},{"$f":"'Data input (detailed2)'!H140","v":0},null,null,null,null,null,null,null,null,null,null,null,null,null,null,null,null,null,null,null,null,null,null,null,null,null,null,null,null,null,null,null,null,null,null,null,null,null,null,null,null,null,null,null,null,null,null,null,null,null,null,null,null,null,null,{"$f":"'Data input (detailed2)'!C144","v":"Waste cost associated "},{"$f":"'Data input (detailed2)'!D144","v":"$/lb"},{"$f":"'Data input (detailed2)'!E144","v":0},{"$f":"'Data input (detailed2)'!F144","v":0},{"$f":"'Data input (detailed2)'!G144","v":0},{"$f":"'Data input (detailed2)'!H144","v":0}]
[null,null,{"$f":"'Data input (detailed2)'!C47","v":"ACQUISITION COSTS"},null,null,null,null,null,null,null,null,{"$f":"C30","v":"Purchase cost"},{"$f":"D30","v":"$"},0,0,0,0,null,null,null,null,null,null,null,null,null,null,null,null,null,null,null,null,null,null,null,null,null,null,null,null,null,null,null,null,null,null,null,null,null,null,null,null,null,null,null,null,null,null,null,null,null,null,null,null,null,null,null,null,null,null,null,null,null,null,null,null,null,null,null,null,null,null,null,null,{"$f":"BY22","v":"Description"},"Unit","Product A","Product B","Product C","Product D",null,null,null,null,null,null,null,null,null,null,null,null,null,null,null,null,null,null,null,null,null,null,null,null,null,null,null,null,null,null,null,null,null,null,null,null,null,null,null,null,null,null,null,null,null,null,null,null,null,null,null,null,null,null,null,null,null,{"$f":"EG22","v":"Description"},"Unit","Product A ","Product B","Product C ","Product D"]
[null,null,null,null,null,null,null,null,null,null,null,{"$f":"C31","v":"Delivery costs"},"$",0,0,0,0,null,null,null,null,null,null,null,null,null,null,null,null,null,null,null,null,null,null,null,null,null,null,null,null,null,null,null,null,null,null,null,null,null,null,null,null,null,null,null,null,null,null,null,null,null,null,null,null,null,null,null,null,null,null,null,null,null,null,null,null,null,null,null,null,null,null,null,null,{"$f":"BY23","v":"Supplemental part 1"},null,null,null,null,null,null,null,null,null,null,null,null,null,null,null,null,null,null,null,null,null,null,null,null,null,null,null,null,null,null,null,null,null,null,null,null,null,null,null,null,null,null,null,null,null,null,null,null,null,null,null,null,null,null,null,null,null,null,null,null,null,null,{"$f":"EG23","v":"Supplemental part 2"}]
[null,null,{"$f":"'Data input (detailed2)'!C49","v":"Description"},{"$f":"'Data input (detailed2)'!D49","v":"Unit"},"Product A ","Product B","Product C ","Product D",null,null,null,{"$f":"C32","v":"Installation costs"},"$",0,0,0,0,null,null,null,null,null,null,null,null,null,null,null,null,null,null,null,null,null,null,null,null,null,null,null,null,null,null,null,null,null,null,null,null,null,null,null,null,null,null,null,null,null,null,null,null,null,null,null,null,null,null,null,null,null,null,null,null,null,null,null,null,null,null,null,null,null,null,null,null,{"$f":"BY24","v":"Type of waste associated with the supplemental part"},{"$f":"BZ24","v":"na"},0,0,0,0,null,null,null,null,null,null,null,null,null,null,null,null,null,null,null,null,null,null,null,null,null,null,null,null,null,null,null,null,null,null,null,null,null,null,null,null,null,null,null,null,null,null,null,null,null,null,null,null,null,null,null,null,null,null,null,null,null,"Type of waste associated with the supplemental part",{"$f":"EH24","v":"na"},{"$f":"EI24","v":0},{"$f":"EJ24","v":0},{"$f":"EK24","v":0},{"$f":"EL24","v":0}]
[null,null,{"$f":"'Data input (detailed2)'!C50","v":"Purchase cost"},{"$f":"'Data input (detailed2)'!D50","v":"$"},{"$f":"'Data input (detailed2)'!E50","v":0},{"$f":"'Data input (detailed2)'!F50","v":0},{"$f":"'Data input (detailed2)'!G50","v":0},{"$f":"'Data input (detailed2)'!H50","v":0},null,null,null,{"$f":"C33","v":"Other acquisition costs"},"$",0,0,0,0,null,null,null,null,null,null,null,null,null,null,null,null,null,null,null,null,null,null,null,null,null,null,null,null,null,null,null,null,null,null,null,null,null,null,null,null,null,null,null,null,null,null,null,null,null,null,null,null,null,null,null,null,null,null,null,null,null,null,null,null,null,null,null,null,null,null,null,null,{"$f":"BY25","v":"Weight sent to disposal associated with one supplemental part"},"lb",0,0,0,0,null,null,null,null,null,null,null,null,null,null,null,null,null,null,null,null,null,null,null,null,null,null,null,null,null,null,null,null,null,null,null,null,null,null,null,null,null,null,null,null,null,null,null,null,null,null,null,null,null,null,null,null,null,null,null,null,null,"Weight sent to disposal associated with one supplemental part","lb",0,0,0,0]
[null,null,{"$f":"'Data input (detailed2)'!C51","v":"Delivery costs"},{"$f":"'Data input (detailed2)'!D51","v":"$"},{"$f":"'Data input (detailed2)'!E51","v":0},{"$f":"'Data input (detailed2)'!F51","v":0},{"$f":"'Data input (detailed2)'!G51","v":0},{"$f":"'Data input (detailed2)'!H51","v":0},null,null,null,"TOTAL ACQUISITION COST","$",{"$f":"SUM(N27:N30)","v":0},{"$f":"SUM(O27:O30)","v":0},{"$f":"SUM(P27:P30)","v":0},{"$f":"SUM(Q27:Q30)","v":0},null,null,null,null,null,null,null,null,null,null,null,null,null,null,null,null,null,null,null,null,null,null,null,null,null,null,null,null,null,null,null,null,null,null,null,null,null,null,null,null,null,null,null,null,null,null,null,null,null,null,null,null,null,null,null,null,null,null,null,null,null,null,null,null,null,null,null,null,{"$f":"BY26","v":"Waste cost associated "},"$/lb",0,0,0,{"$f":"CD26","v":0},null,null,null,null,null,null,null,null,null,null,null,null,null,null,null,null,null,null,null,null,null,null,null,null,null,null,null,null,null,null,null,null,null,null,null,null,null,null,null,null,null,null,null,null,null,null,null,null,null,null,null,null,null,null,null,null,null,"Waste cost associated ","$/lb",0,0,0,0]
[null,null,{"$f":"'Data input (detailed2)'!C52","v":"Installation costs"},{"$f":"'Data input (detailed2)'!D52","v":"$"},{"$f":"'Data input (detailed2)'!E52","v":0},{"$f":"'Data input (detailed2)'!F52","v":0},{"$f":"'Data input (detailed2)'!G52","v":0},{"$f":"'Data input (detailed2)'!H52","v":0},null,null,null,null,"$ per product"]
[null,null,{"$f":"'Data input (detailed2)'!C53","v":"Other acquisition costs"},{"$f":"'Data input (detailed2)'!D53","v":"$"},{"$f":"'Data input (detailed2)'!E53","v":0},{"$f":"'Data input (detailed2)'!F53","v":0},{"$f":"'Data input (detailed2)'!G53","v":0},{"$f":"'Data input (detailed2)'!H53","v":0}]
[null,null,null,null,null,null,null,null,null,null,null,"OPERATIONAL COSTS",null,null,null,null,null,null,null,null,null,null,null,null,null,null,null,null,null,null,null,null,null,null,null,null,null,null,null,null,null,null,null,null,null,null,null,null,null,null,null,null,null,null,null,null,null,null,null,null,null,null,null,null,null,null,null,null,null,null,null,null,null,null,null,null,null,null,null,null,null,null,null,null,null,"Waste disposal cost (supplemental part)","$",{"$f":"IFERROR(IF(CJ29=\"Universal waste (revenue)\",-CJ30*CJ31,CJ30*CJ31),0)","v":0},{"$f":"IFERROR(IF(CK29=\"Universal waste (revenue)\",-CK30*CK31,CK30*CK31),0)","v":0},{"$f":"IFERROR(IF(CL29=\"Universal waste (revenue)\",-CL30*CL31,CL30*CL31),0)","v":0},{"$f":"IFERROR(IF(CM29=\"Universal waste (revenue)\",-CM30*CM31,CM30*CM31),0)","v":0},null,null,null,null,null,null,null,null,null,null,null,null,null,null,null,null,null,null,null,null,null,null,null,null,null,null,null,null,null,null,null,null,null,null,null,null,null,null,null,null,null,null,null,null,null,null,null,null,null,null,null,null,null,null,null,null,null,"Waste disposal cost (supplemental part)","$",{"$f":"IFERROR(IF(EU29=\"Universal waste (revenue)\",-EU30*EU31,EU30*EU31),0)","v":0},{"$f":"IFERROR(IF(EV29=\"Universal waste (revenue)\",-EV30*EV31,EV30*EV31),0)","v":0},{"$f":"IFERROR(IF(EW29=\"Universal waste (revenue)\",-EW30*EW31,EW30*EW31),0)","v":0},{"$f":"IFERROR(IF(EX29=\"Universal waste (revenue)\",-EX30*EX31,EX30*EX31),0)","v":0}]
[]
[null,null,{"$f":"'Data input (detailed2)'!C56","v":"OPERATIONAL COSTS"},null,null,null,null,null,null,null,null,{"$f":"C38","v":"Only applicable to products that use ELECTRICITY"},"Unit","Product A ","Product B","Product C ","Product D",null,null,null,null,null,null,null,null,null,null,null,null,null,null,null,null,null,null,null,null,null,null,null,null,null,null,null,null,null,null,null,null,null,null,null,null,null,null,null,null,null,null,null,null,null,null,null,null,null,null,null,null,null,null,null,null,null,null,null,null,null,null,null,null,null,null,null,null,"TOTAL DISPOSAL COST (supplemental part)","$",{"$f":"CJ34","v":0},{"$f":"CK34","v":0},0,0,null,null,null,null,null,null,null,null,null,null,null,null,null,null,null,null,null,null,null,null,null,null,null,null,null,null,null,null,null,null,null,null,null,null,null,null,null,null,null,null,null,null,null,null,null,null,null,null,null,null,null,null,null,null,null,null,null,"TOTAL DISPOSAL COST (supplemental part)","$",{"$f":"EU34","v":0},{"$f":"EV34","v":0},0,0]
[null,null,null,null,null,null,null,null,null,null,null,"Option 1. If annual cost data is available:",null,null,null,null,null,null,"Conversion:",null,null,null,null,null,null,null,null,null,null,null,null,null,null,null,null,null,null,null,null,null,null,null,null,null,null,null,null,null,null,null,null,null,null,null,null,null,null,null,null,null,null,null,null,null,null,null,null,null,null,null,null,null,null,null,null,null,null,null,null,null,null,null,null,null,null,null,"$ per supplemental part",null,null,null,null,null,null,null,null,null,null,null,null,null,null,null,null,null,null,null,null,null,null,null,null,null,null,null,null,null,null,null,null,null,null,null,null,null,null,null,null,null,null,null,null,null,null,null,null,null,null,null,null,null,null,null,null,null,null,null,null,null,null,"$ per supplemental part"]
[null,null,{"$f":"'Data input (detailed2)'!C58","v":"Only applicable to products that use ELECTRICITY"},{"$f":"'Data input (detailed2)'!D58","v":"Unit"},"Product A ","Product B","Product C ","Product D",null,null,null,"Annual cost from electricity use associated with 1 product",{"$f":"D40","v":"$/year"},{"$f":"E40","v":0},{"$f":"F40","v":0},{"$f":"G40","v":0},{"$f":"H40","v":0},null,"1 watt",1E-3,"kilowatt"]
[null,null,{"$f":"'Data input (detailed2)'!C59","v":"Option 1. If annual cost data is available:"},{"$f":"'Data input (detailed2)'!D59","v":0},{"$f":"'Data input (detailed2)'!E59","v":0},{"$f":"'Data input (detailed2)'!F59","v":0},{"$f":"'Data input (detailed2)'!G59","v":0},{"$f":"'Data input (detailed2)'!H59","v":0},null,null,null,"Option 2. If annual cost data is not available:",null,null,null,null,null,null,null,null,null,null,null,null,null,null,null,null,null,null,null,null,null,null,null,null,null,null,null,null,null,null,null,null,null,null,null,null,null,null,null,null,null,null,null,null,null,null,null,null,null,null,null,null,null,null,null,null,null,null,null,null,null,null,null,null,null,null,null,null,null,null,null,null,null,"PARAMETERS",null,null,null,null,null,null,null,null,null,null,null,null,null,null,null,null,null,null,null,null,null,null,null,null,null,null,null,null,null,null,null,null,null,null,null,null,null,null,null,null,null,null,null,null,null,null,null,null,null,null,null,null,null,null,null,null,null,null,null,null,null,null,"PARAMETERS"]
[null,null,{"$f":"'Data input (detailed2)'!C60","v":"Annual cost from electricity use associated with 1 product"},{"$f":"'Data input (detailed2)'!D60","v":"$/year"},{"$f":"'Data input (detailed2)'!E60","v":0},{"$f":"'Data input (detailed2)'!F60","v":0},{"$f":"'Data input (detailed2)'!G60","v":0},{"$f":"'Data input (detailed2)'!H60","v":0},null,null,null,"Annual operating hours",{"$f":"D42","v":"hours/year"},0,0,0,0,null,null,null,null,null,null,null,null,null,null,null,null,null,null,null,null,null,null,null,null,null,null,null,null,null,null,null,null,null,null,null,null,null,null,null,null,null,null,null,null,null,null,null,null,null,null,null,null,null,null,null,null,null,null,null,null,null,null,null,null,null,null,null,null,null,null,null,null,{"$f":"C7","v":"Discount rate"},"%",3,null,null,null,null,null,null,null,null,null,null,null,null,null,null,null,null,null,null,null,null,null,null,null,null,null,null,null,null,null,null,null,null,null,null,null,null,null,null,null,null,null,null,null,null,null,null,null,null,null,null,null,null,null,null,null,null,null,null,null,null,{"$f":"C7","v":"Discount rate"},{"$f":"D7","v":"%"},3]
[null,null,{"$f":"'Data input (detailed2)'!C61","v":"Option 2. If annual cost data is not available:"},{"$f":"'Data input (detailed2)'!D61","v":0},{"$f":"'Data input (detailed2)'!E61","v":0},{"$f":"'Data input (detailed2)'!F61","v":0},{"$f":"'Data input (detailed2)'!G61","v":0},{"$f":"'Data input (detailed2)'!H61","v":0},null,null,null,"Product power","watts",0,0,0,0,null,null,null,null,null,null,null,null,null,null,null,null,null,null,null,null,null,null,null,null,null,null,null,null,null,null,null,null,null,null,null,null,null,null,null,null,null,null,null,null,null,null,null,null,null,null,null,null,null,null,null,null,null,null,null,null,null,null,null,null,null,null,null,null,null,null,null,null,"Investment horizon","year","Not applicable",null,null,null,null,null,null,null,null,null,null,null,null,null,null,null,null,null,null,null,null,null,null,null,null,null,null,null,null,null,null,null,null,null,null,null,null,null,null,null,null,null,null,null,null,null,null,null,null,null,null,null,null,null,null,null,null,null,null,null,null,{"$f":"C8","v":"Investment horizon"},{"$f":"D8","v":"year"},"Not applicable"]
[null,null,{"$f":"'Data input (detailed2)'!C62","v":"Annual operating hours"},{"$f":"'Data input (detailed2)'!D62","v":"hours/year"},{"$f":"'Data input (detailed2)'!E62","v":0},{"$f":"'Data input (detailed2)'!F62","v":0},{"$f":"'Data input (detailed2)'!G62","v":0},{"$f":"'Data input (detailed2)'!H62","v":0},null,null,null,"Electricity cost","$/kWh",0,0,0,0]
[null,null,{"$f":"'Data input (detailed2)'!C63","v":"Product power"},{"$f":"'Data input (detailed2)'!D63","v":"watts"},{"$f":"'Data input (detailed2)'!E63","v":0},{"$f":"'Data input (detailed2)'!F63","v":0},{"$f":"'Data input (detailed2)'!G63","v":0},{"$f":"'Data input (detailed2)'!H63","v":0},null,null,null,"Annual cost calculated","$year",{"$f":"IFERROR(N40*N42*N41*$T$38,0)","v":0},{"$f":"IFERROR(O40*O42*O41*$T$38,0)","v":0},{"$f":"IFERROR(P40*P42*P41*$T$38,0)","v":0},{"$f":"IFERROR(Q40*Q42*Q41*$T$38,0)","v":0},null,null,null,null,null,null,null,null,null,null,null,null,null,null,null,null,null,null,null,null,null,null,null,null,null,null,null,null,null,null,null,null,null,null,null,null,null,null,null,null,null,null,null,null,null,null,null,null,null,null,null,null,null,null,null,null,null,null,null,null,null,null,null,null,null,null,null,null,"Description","Unit","Product A ","Product B","Product C ","Product D",null,null,null,null,null,null,null,null,null,null,null,null,null,null,null,null,null,null,null,null,null,null,null,null,null,null,null,null,null,null,null,null,null,null,null,null,null,null,null,null,null,null,null,null,null,null,null,null,null,null,null,null,null,null,null,null,null,"Description","Unit","Product A ","Product B","Product C ","Product D"]
[null,null,{"$f":"'Data input (detailed2)'!C64","v":"Electricity cost"},{"$f":"'Data input (detailed2)'!D64","v":"$/kWh"},{"$f":"'Data input (detailed2)'!E64","v":0},{"$f":"'Data input (detailed2)'!F64","v":0},{"$f":"'Data input (detailed2)'!G64","v":0},{"$f":"'Data input (detailed2)'!H64","v":0},null,null,null,"Final annual cost","$/year",{"$f":"IF(N38>0,N38,N43)","v":0},{"$f":"IF(O38>0,O38,O43)","v":0},0,0,null,null,null,null,null,null,null,null,null,null,null,null,null,null,null,null,null,null,null,null,null,null,null,null,null,null,null,null,null,null,null,null,null,null,null,null,null,null,null,null,null,null,null,null,null,null,null,null,null,null,null,null,null,null,null,null,null,null,null,null,null,null,null,null,null,null,null,null,{"$f":"CH12","v":"Is the supplemental part consumable?"},{"$f":"CI12","v":"Yes/No"},0,0,0,0,null,null,null,null,null,null,null,null,null,null,null,null,null,null,null,null,null,null,null,null,null,null,null,null,null,null,null,null,null,null,null,null,null,null,null,null,null,null,null,null,null,null,null,null,null,null,null,null,null,null,null,null,null,null,null,null,null,{"$f":"EG12","v":"Is the supplemental part consumable?"},{"$f":"EH12","v":"Yes/No"},0,0,0,0]
[null,null,null,null,null,null,null,null,null,null,null,"Total annual Electricity cost","$/year",{"$f":"N44","v":0},{"$f":"O44","v":0},{"$f":"P44","v":0},{"$f":"Q44","v":0},null,null,null,null,null,null,null,null,null,null,null,null,null,null,null,null,null,null,null,null,null,null,null,null,null,null,null,null,null,null,null,null,null,null,null,null,null,null,null,null,null,null,null,null,null,null,null,null,null,null,null,null,null,null,null,null,null,null,null,null,null,null,null,null,null,null,null,null,{"$f":"CH13","v":"Option 1. If the supplemental part is a consumable"},null,null,null,null,null,null,null,null,null,null,null,null,null,null,null,null,null,null,null,null,null,null,null,null,null,null,null,null,null,null,null,null,null,null,null,null,null,null,null,null,null,null,null,null,null,null,null,null,null,null,null,null,null,null,null,null,null,null,null,null,null,null,{"$f":"EG13","v":"Option 1. If the supplemental part is a consumable"}]
[null,null,null,null,null,null,null,null,null,null,null,null,"$/ year and per product",null,null,null,null,null,null,null,null,null,null,null,null,null,null,null,null,null,null,null,null,null,null,null,null,null,null,null,null,null,null,null,null,null,null,null,null,null,null,null,null,null,null,null,null,null,null,null,null,null,null,null,null,null,null,null,null,null,null,null,null,null,null,null,null,null,null,null,null,null,null,null,null,"Number of times the supplemental part can be used","# uses",0,0,0,0,null,null,null,null,null,null,null,null,null,null,null,null,null,null,null,null,null,null,null,null,null,null,null,null,null,null,null,null,null,null,null,null,null,null,null,null,null,null,null,null,null,null,null,null,null,null,null,null,null,null,null,null,null,null,null,null,null,"Number of times the supplemental part can be used","# uses",0,0,0,0]
[null,null,{"$f":"'Data input (detailed2)'!C67","v":"Only applicable to products that use FUEL"},{"$f":"'Data input (detailed2)'!D67","v":"Unit"},"Product A ","Product B","Product C ","Product D",null,null,null,null,null,null,null,null,null,null,null,null,null,null,null,null,null,null,null,null,null,null,null,null,null,null,null,null,null,null,null,null,null,null,null,null,null,null,null,null,null,null,null,null,null,null,null,null,null,null,null,null,null,null,null,null,null,null,null,null,null,null,null,null,null,null,null,null,null,null,null,null,null,null,null,null,null,"Number of times this type of supplemental part is expected to be used per year in 1 product","# uses/ year",0,0,0,0,null,null,null,null,null,null,null,null,null,null,null,null,null,null,null,null,null,null,null,null,null,null,null,null,null,null,null,null,null,null,null,null,null,null,null,null,null,null,null,null,null,null,null,null,null,null,null,null,null,null,null,null,null,null,null,null,null,"Number of times this type of supplemental part is expected to be used per year in 1 product","# uses/ year",0,0,0,0]
[null,null,{"$f":"'Data input (detailed2)'!C68","v":"Option 1. If annual cost data is available:"},null,null,null,null,null,null,null,null,{"$f":"C47","v":"Only applicable to products that use FUEL"},"Unit","Product A ","Product B","Product C ","Product D",null,null,null,null,null,null,null,null,null,null,null,null,null,null,null,null,null,null,null,null,null,null,null,null,null,null,null,null,null,null,null,null,null,null,null,null,null,null,null,null,null,null,null,null,null,null,null,null,null,null,null,null,null,null,null,null,null,null,null,null,null,null,null,null,null,null,null,null,"Option 2. If the supplemental part is not a consumable",null,null,null,null,null,null,null,null,null,null,null,null,null,null,null,null,null,null,null,null,null,null,null,null,null,null,null,null,null,null,null,null,null,null,null,null,null,null,null,null,null,null,null,null,null,null,null,null,null,null,null,null,null,null,null,null,null,null,null,null,null,null,"Option 2. If the supplemental part is not a consumable"]
[null,null,{"$f":"'Data input (detailed2)'!C69","v":"Annual cost from fuel use associated with 1 product"},{"$f":"'Data input (detailed2)'!D69","v":"$/year"},{"$f":"'Data input (detailed2)'!E69","v":0},{"$f":"'Data input (detailed2)'!F69","v":0},{"$f":"'Data input (detailed2)'!G69","v":0},{"$f":"'Data input (detailed2)'!H69","v":0},null,null,null,{"$f":"C48","v":"Option 1. If annual cost data is available:"},null,null,null,null,null,null,null,null,null,null,null,null,null,null,null,null,null,null,null,null,null,null,null,null,null,null,null,null,null,null,null,null,null,null,null,null,null,null,null,null,null,null,null,null,null,null,null,null,null,null,null,null,null,null,null,null,null,null,null,null,null,null,null,null,null,null,null,null,null,null,null,null,null,{"$f":"CH17","v":"Expected lifespan for the supplemental part"},{"$f":"CI17","v":"Years"},0,0,0,0,null,null,null,null,null,null,null,null,null,null,null,null,null,null,null,null,null,null,null,null,null,null,null,null,null,null,null,null,null,null,null,null,null,null,null,null,null,null,null,null,null,null,null,null,null,null,null,null,null,null,null,null,null,null,null,null,null,"Expected lifespan for the supplemental part","Years",0,0,0,0]
[null,null,{"$f":"'Data input (detailed2)'!C70","v":"Option 2. If annual cost data is not available:"},null,null,null,null,null,null,null,null,"Annual cost from fuel use associated with 1 product",{"$f":"D49","v":"$/year"},{"$f":"E49","v":0},{"$f":"F49","v":0},{"$f":"G49","v":0},{"$f":"H49","v":0},null,null,null,null,null,null,null,null,null,null,null,null,null,null,null,null,null,null,null,null,null,null,null,null,null,null,null,null,null,null,null,null,null,null,null,null,null,null,null,null,null,null,null,null,null,null,null,null,null,null,null,null,null,null,null,null,null,null,null,null,null,null,null,null,null,null,null,null,"Supplemental part per year and product  if consumable","supp. part/ year",{"$f":"IFERROR(CJ47/CJ46,0)","v":0},{"$f":"IFERROR(CK47/CK46,0)","v":0},{"$f":"IFERROR(CL47/CL46,0)","v":0},{"$f":"IFERROR(CM47/CM46,0)","v":0},null,null,null,null,null,null,null,null,null,null,null,null,null,null,null,null,null,null,null,null,null,null,null,null,null,null,null,null,null,null,null,null,null,null,null,null,null,null,null,null,null,null,null,null,null,null,null,null,null,null,null,null,null,null,null,null,null,"Supplemental part per year and product  if consumable","supp. part/ year",{"$f":"IFERROR(EU47/EU46,0)","v":0},{"$f":"IFERROR(EV47/EV46,0)","v":0},{"$f":"IFERROR(EW47/EW46,0)","v":0},{"$f":"IFERROR(EX47/EX46,0)","v":0}]
[null,null,{"$f":"'Data input (detailed2)'!C71","v":"Annual operating hours"},{"$f":"'Data input (detailed2)'!D71","v":"hours/year"},{"$f":"'Data input (detailed2)'!E71","v":0},{"$f":"'Data input (detailed2)'!F71","v":0},{"$f":"'Data input (detailed2)'!G71","v":0},{"$f":"'Data input (detailed2)'!H71","v":0},null,null,null,"Option 2. If annual cost data is not available:",null,null,null,null,null,null,null,null,null,null,null,null,null,null,null,null,null,null,null,null,null,null,null,null,null,null,null,null,null,null,null,null,null,null,null,null,null,null,null,null,null,null,null,null,null,null,null,null,null,null,null,null,null,null,null,null,null,null,null,null,null,null,null,null,null,null,null,null,null,null,null,null,null,"Supplemental part per year and product Rounding if consumable","supp. part/ year",{"$f":"IFERROR(ROUNDUP(CJ50,0),0)","v":0},{"$f":"IFERROR(ROUNDUP(CK50,0),0)","v":0},{"$f":"IFERROR(ROUNDUP(CL50,0),0)","v":0},{"$f":"IFERROR(ROUNDUP(CM50,0),0)","v":0},null,null,null,null,null,null,null,null,null,null,null,null,null,null,null,null,null,null,null,null,null,null,null,null,null,null,null,null,null,null,null,null,null,null,null,null,null,null,null,null,null,null,null,null,null,null,null,null,null,null,null,null,null,null,null,null,null,"Supplemental part per year and product Rounding if consumable","supp. part/ year",{"$f":"IFERROR(ROUNDUP(EU50,0),0)","v":0},{"$f":"IFERROR(ROUNDUP(EV50,0),0)","v":0},{"$f":"IFERROR(ROUNDUP(EW50,0),0)","v":0},{"$f":"IFERROR(ROUNDUP(EX50,0),0)","v":0}]
[null,null,{"$f":"'Data input (detailed2)'!C72","v":"Fuel type"},{"$f":"'Data input (detailed2)'!D72","v":"na"},{"$f":"'Data input (detailed2)'!E72","v":0},{"$f":"'Data input (detailed2)'!F72","v":0},{"$f":"'Data input (detailed2)'!G72","v":0},{"$f":"'Data input (detailed2)'!H72","v":0},null,null,null,"Annual operating hours",{"$f":"D51","v":"hours/year"},0,0,0,0,null,null,null,null,null,null,null,null,null,null,null,null,null,null,null,null,null,null,null,null,null,null,null,null,null,null,null,null,null,null,null,null,null,null,null,null,null,null,null,null,null,null,null,null,null,null,null,null,null,null,null,null,null,null,null,null,null,null,null,null,null,null,null,null,null,null,null,null,"Disposal interval Consumable",null,{"$f":"IFERROR(IF(CJ50>1,1,1/CJ50),0)","v":0},{"$f":"IFERROR(IF(CK50>1,1,1/CK50),0)","v":0},{"$f":"IFERROR(IF(CL50>1,1,1/CL50),0)","v":0},{"$f":"IFERROR(IF(CM50>1,1,1/CM50),0)","v":0},null,null,null,null,null,null,null,null,null,null,null,null,null,null,null,null,null,null,null,null,null,null,null,null,null,null,null,null,null,null,null,null,null,null,null,null,null,null,null,null,null,null,null,null,null,null,null,null,null,null,null,null,null,null,null,null,null,"Disposal interval Consumable",null,{"$f":"IFERROR(IF(EU50>1,1,1/EU50),0)","v":0},{"$f":"IFERROR(IF(EV50>1,1,1/EV50),0)","v":0},{"$f":"IFERROR(IF(EW50>1,1,1/EW50),0)","v":0},{"$f":"IFERROR(IF(EX50>1,1,1/EX50),0)","v":0}]
[null,null,{"$f":"'Data input (detailed2)'!C73","v":"Fuel use per hour"},{"$f":"'Data input (detailed2)'!D73","v":"gallon/hour"},{"$f":"'Data input (detailed2)'!E73","v":0},{"$f":"'Data input (detailed2)'!F73","v":0},{"$f":"'Data input (detailed2)'!G73","v":0},{"$f":"'Data input (detailed2)'!H73","v":0},null,null,null,"Fuel type","na",0,0,0,0,null,null,null,null,null,null,null,null,null,null,null,null,null,null,null,null,null,null,null,null,null,null,null,null,null,null,null,null,null,null,null,null,null,null,null,null,null,null,null,null,null,null,null,null,null,null,null,null,null,null,null,null,null,null,null,null,null,null,null,null,null,null,null,null,null,null,null,null,"Disposal interval Consumable Final",null,{"$f":"ROUND(CJ52,0)","v":0},{"$f":"ROUND(CK52,0)","v":0},0,0,null,null,null,null,null,null,null,null,null,null,null,null,null,null,null,null,null,null,null,null,null,null,null,null,null,null,null,null,null,null,null,null,null,null,null,null,null,null,null,null,null,null,null,null,null,null,null,null,null,null,null,null,null,null,null,null,null,"Disposal interval Consumable Final",null,{"$f":"ROUND(EU52,0)","v":0},{"$f":"ROUND(EV52,0)","v":0},0,0]
[null,null,{"$f":"'Data input (detailed2)'!C74","v":"Fuel cost"},{"$f":"'Data input (detailed2)'!D74","v":"$/gallon"},{"$f":"'Data input (detailed2)'!E74","v":0},{"$f":"'Data input (detailed2)'!F74","v":0},{"$f":"'Data input (detailed2)'!G74","v":0},{"$f":"'Data input (detailed2)'!H74","v":0},null,null,null,"Fuel use per hour","gallon/hour",0,0,0,0,null,null,null,null,null,null,null,null,null,null,null,null,null,null,null,null,null,null,null,null,null,null,null,null,null,null,null,null,null,null,null,null,null,null,null,null,null,null,null,null,null,null,null,null,null,null,null,null,null,null,null,null,null,null,null,null,null,null,null,null,null,null,null,null,null,null,null,null,"Disposal interval Non consumable",null,{"$f":"IF(CJ44=\"Yes\",\"not applicable\",CJ49)","v":0},{"$f":"IF(CK44=\"Yes\",\"not applicable\",CK49)","v":0},0,0,null,null,null,null,null,null,null,null,null,null,null,null,null,null,null,null,null,null,null,null,null,null,null,null,null,null,null,null,null,null,null,null,null,null,null,null,null,null,null,null,null,null,null,null,null,null,null,null,null,null,null,null,null,null,null,null,null,"Disposal interval Non consumable",null,{"$f":"IF(EU44=\"Yes\",\"not applicable\",EU49)","v":0},{"$f":"IF(EV44=\"Yes\",\"not applicable\",EV49)","v":0},0,0]
[null,null,null,null,null,null,null,null,null,null,null,"Fuel cost","$/gallon",0,0,0,0,null,null,null,null,null,null,null,null,null,null,null,null,null,null,null,null,null,null,null,null,null,null,null,null,null,null,null,null,null,null,null,null,null,null,null,null,null,null,null,null,null,null,null,null,null,null,null,null,null,null,null,null,null,null,null,null,null,null,null,null,null,null,null,null,null,null,null,null,"Disposal interval Consumable",null,{"$f":"IF(CJ44=\"yes\",CJ53,\"not applicable\")","v":"not applicable"},{"$f":"IF(CK44=\"yes\",CK53,\"not applicable\")","v":"not applicable"},{"$f":"IF(CL44=\"yes\",CL53,\"not applicable\")","v":"not applicable"},{"$f":"IF(CM44=\"yes\",CM53,\"not applicable\")","v":"not applicable"},null,null,null,null,null,null,null,null,null,null,null,null,null,null,null,null,null,null,null,null,null,null,null,null,null,null,null,null,null,null,null,null,null,null,null,null,null,null,null,null,null,null,null,null,null,null,null,null,null,null,null,null,null,null,null,null,null,"Disposal interval Consumable",null,{"$f":"IF(EU44=\"yes\",EU53,\"not applicable\")","v":"not applicable"},{"$f":"IF(EV44=\"yes\",EV53,\"not applicable\")","v":"not applicable"},{"$f":"IF(EW44=\"yes\",EW53,\"not applicable\")","v":"not applicable"},{"$f":"IF(EX44=\"yes\",EX53,\"not applicable\")","v":"not applicable"}]
[null,null,null,null,null,null,null,null,null,null,null,"Annual cost calculated","$year",{"$f":"IFERROR(N52*N54*N55,0)","v":0},{"$f":"IFERROR(O52*O54*O55,0)","v":0},{"$f":"IFERROR(P52*P54*P55,0)","v":0},{"$f":"IFERROR(Q52*Q54*Q55,0)","v":0}]
[null,null,{"$f":"'Data input (detailed2)'!C77","v":"Only applicable to products that use WATER"},{"$f":"'Data input (detailed2)'!D77","v":"Unit"},"Product A ","Product B","Product C ","Product D",null,null,null,"Final annual cost","$/year",{"$f":"IF(N50>0,N50,N56)","v":0},{"$f":"IF(O50>0,O50,O56)","v":0},0,{"$f":"IF(Q50>0,Q50,Q56)","v":0}]
[null,null,{"$f":"'Data input (detailed2)'!C78","v":"Option 1. If annual cost data is available:"},null,null,null,null,null,null,null,null,"Total annual Fuel cost","$/year",{"$f":"N57","v":0},{"$f":"O57","v":0},{"$f":"P57","v":0},{"$f":"Q57","v":0},null,null,null,null,null,null,null,null,null,null,null,null,null,null,null,null,null,null,null,null,null,null,null,null,null,null,null,null,null,null,null,null,null,null,null,null,null,null,null,null,null,null,null,null,null,null,null,null,null,null,null,null,null,null,null,null,null,null,null,null,null,null,null,null,null,null,null,null,"Supplemental parts per year","supp. parts/year",{"$f":"IF(CJ44=\"Yes\",CJ51,(IF(AND(CJ44=\"No\",(CJ49=\"Please select\")),\"Not applicable\",1)))","v":1},{"$f":"IF(CK44=\"Yes\",CK51,(IF(AND(CK44=\"No\",(CK49=\"Please select\")),\"Not applicable\",1)))","v":1},1,1,null,null,null,null,null,null,null,null,null,null,null,null,null,null,null,null,null,null,null,null,null,null,null,null,null,null,null,null,null,null,null,null,null,null,null,null,null,null,null,null,null,null,null,null,null,null,null,null,null,null,null,null,null,null,null,null,null,"Supplemental parts per year","supp. parts/year",{"$f":"IF(EU44=\"Yes\",EU51,(IF(AND(EU44=\"No\",(EU49=\"Please select\")),\"Not applicable\",1)))","v":1},{"$f":"IF(EV44=\"Yes\",EV51,(IF(AND(EV44=\"No\",(EV49=\"Please select\")),\"Not applicable\",1)))","v":1},1,1]
[null,null,{"$f":"'Data input (detailed2)'!C79","v":"Annual cost from water use (incoming plus outgoing water) associated with 1 product"},{"$f":"'Data input (detailed2)'!D79","v":"$/year"},{"$f":"'Data input (detailed2)'!E79","v":0},{"$f":"'Data input (detailed2)'!F79","v":0},{"$f":"'Data input (detailed2)'!G79","v":0},{"$f":"'Data input (detailed2)'!H79","v":0},null,null,null,null,"$/ year and per product",null,null,null,null,null,null,null,null,null,null,null,null,null,null,null,null,null,null,null,null,null,null,null,null,null,null,null,null,null,null,null,null,null,null,null,null,null,null,null,null,null,null,null,null,null,null,null,null,null,null,null,null,null,null,null,null,null,null,null,null,null,null,null,null,null,null,null,null,null,null,null,null,"Supplemental parts per year - Final","supp. parts/year",{"$f":"IF(CJ61=0,0,CJ58)","v":0},{"$f":"IF(CK61=0,0,CK58)","v":0},{"$f":"IF(CL61=0,0,CL58)","v":0},{"$f":"IF(CM61=0,0,CM58)","v":0},null,null,null,null,null,null,null,null,null,null,null,null,null,null,null,null,null,null,null,null,null,null,null,null,null,null,null,null,null,null,null,null,null,null,null,null,null,null,null,null,null,null,null,null,null,null,null,null,null,null,null,null,null,null,null,null,null,"Supplemental parts per year - Final","supp. parts/year",{"$f":"IF(EU61=0,0,EU58)","v":0},{"$f":"IF(EV61=0,0,EV58)","v":0},{"$f":"IF(EW61=0,0,EW58)","v":0},{"$f":"IF(EX61=0,0,EX58)","v":0}]
[null,null,{"$f":"'Data input (detailed2)'!C80","v":"Option 2. If annual cost data is not available:"},null,null,null,null,null,null,null,null,null,null,null,null,null,null,null,null,null,null,null,null,null,null,null,null,null,null,null,null,null,null,null,null,null,null,null,null,null,null,null,null,null,null,null,null,null,null,null,null,null,null,null,null,null,null,null,null,null,null,null,null,null,null,null,null,null,null,null,null,null,null,null,null,null,null,null,null,null,null,null,null,null,null,"Disposal interval",null,{"$f":"IF(CJ54=\"Not applicable\",CJ55,CJ54)","v":0},{"$f":"IF(CK54=\"Not applicable\",CK55,CK54)","v":0},{"$f":"IF(CL54=\"Not applicable\",CL55,CL54)","v":0},{"$f":"IF(CM54=\"Not applicable\",CM55,CM54)","v":0},null,null,null,null,null,null,null,null,null,null,null,null,null,null,null,null,null,null,null,null,null,null,null,null,null,null,null,null,null,null,null,null,null,null,null,null,null,null,null,null,null,null,null,null,null,null,null,null,null,null,null,null,null,null,null,null,null,"Disposal interval",null,{"$f":"IF(EU54=\"Not applicable\",EU55,EU54)","v":0},{"$f":"IF(EV54=\"Not applicable\",EV55,EV54)","v":0},{"$f":"IF(EW54=\"Not applicable\",EW55,EW54)","v":0},{"$f":"IF(EX54=\"Not applicable\",EX55,EX54)","v":0}]
[null,null,{"$f":"'Data input (detailed2)'!C81","v":"Annual operating hours"},{"$f":"'Data input (detailed2)'!D81","v":"hours/year"},{"$f":"'Data input (detailed2)'!E81","v":0},{"$f":"'Data input (detailed2)'!F81","v":0},{"$f":"'Data input (detailed2)'!G81","v":0},{"$f":"'Data input (detailed2)'!H81","v":0},null,null,null,{"$f":"C57","v":"Only applicable to products that use WATER"},"Unit","Product A ","Product B","Product C ","Product D",null,null,null,null,null,null,null,null,null,null,null,null,null,null,null,null,null,null,null,null,null,null,null,null,null,null,null,null,null,null,null,null,null,null,null,null,null,null,null,null,null,null,null,null,null,null,null,null,null,null,null,null,null,null,null,null,null,null,null,null,null,null,null,null,null,null,null,null,"Disposal interval -Final",null,{"$f":"IF(CJ60=\"Not applicable\",0,CJ60)","v":0},{"$f":"IF(CK60=\"Not applicable\",0,CK60)","v":0},{"$f":"IF(CL60=\"Not applicable\",0,CL60)","v":0},{"$f":"IF(CM60=\"Not applicable\",0,CM60)","v":0},null,null,null,null,null,null,null,null,null,null,null,null,null,null,null,null,null,null,null,null,null,null,null,null,null,null,null,null,null,null,null,null,null,null,null,null,null,null,null,null,null,null,null,null,null,null,null,null,null,null,null,null,null,null,null,null,null,"Disposal interval -Final",null,{"$f":"IF(EU60=\"Not applicable\",0,EU60)","v":0},{"$f":"IF(EV60=\"Not applicable\",0,EV60)","v":0},{"$f":"IF(EW60=\"Not applicable\",0,EW60)","v":0},{"$f":"IF(EX60=\"Not applicable\",0,EX60)","v":0}]
[null,null,{"$f":"'Data input (detailed2)'!C82","v":"In-coming water use per hour"},{"$f":"'Data input (detailed2)'!D82","v":"gallon/hour"},{"$f":"'Data input (detailed2)'!E82","v":0},{"$f":"'Data input (detailed2)'!F82","v":0},{"$f":"'Data input (detailed2)'!G82","v":0},{"$f":"'Data input (detailed2)'!H82","v":0},null,null,null,{"$f":"C58","v":"Option 1. If annual cost data is available:"},null,null,null,null,null,null,null,null,null,null,null,null,null,null,null,null,null,null,null,null,null,null,null,null,null,null,null,null,null,null,null,null,null,null,null,null,null,null,null,null,null,null,null,null,null,null,null,null,null,null,null,null,null,null,null,null,null,null,null,null,null,null,null,null,null,null,null,null,null,null,null,null,null,null,"INTERVAL (years)",null,null,null,null,"COST PER PRODUCT ($/ supp. part)",null,null,null,null,"COST TOTAL ($)",null,null,null,null,null,null,null,null,null,null,null,null,null,null,null,null,null,null,null,null,null,null,null,null,null,null,null,null,null,null,null,null,null,null,null,null,null,null,null,null,null,null,null,null,null,null,null,null,null,null,null,null,"INTERVAL (years)",null,null,null,null,"COST PER PRODUCT ($/ supp. part)",null,null,null,null,"COST TOTAL ($)"]
[null,null,{"$f":"'Data input (detailed2)'!C83","v":"Water cost (includes incoming and outgoing cost)"},{"$f":"'Data input (detailed2)'!D83","v":"$/ gallon"},{"$f":"'Data input (detailed2)'!E83","v":0},{"$f":"'Data input (detailed2)'!F83","v":0},{"$f":"'Data input (detailed2)'!G83","v":0},{"$f":"'Data input (detailed2)'!H83","v":0},null,null,null,"Annual cost from water use (incoming plus outgoing water) associated with 1 product",{"$f":"D59","v":"$/year"},{"$f":"E59","v":0},{"$f":"F59","v":0},{"$f":"G59","v":0},{"$f":"H59","v":0},null,null,null,null,null,null,null,null,null,null,null,null,null,null,null,null,null,null,null,null,null,null,null,null,null,null,null,null,null,null,null,null,null,null,null,null,null,null,null,null,null,null,null,null,null,null,null,null,null,null,null,null,null,null,null,null,null,null,null,null,null,null,null,null,null,null,null,null,"Years","Acquisition","Product A ","Product B","Product C ","Product D","Acquisition","Product A ","Product B","Product C ","Product D","Acquisition","Product A ","Product B","Product C ","Product D",null,null,null,null,null,null,null,null,null,null,null,null,null,null,null,null,null,null,null,null,null,null,null,null,null,null,null,null,null,null,null,null,null,null,null,null,null,null,null,null,null,null,null,null,null,null,null,"Years","Acquisition","Product A ","Product B","Product C ","Product D","Acquisition","Product A ","Product B","Product C ","Product D","Acquisition","Product A ","Product B","Product C ","Product D"]
[null,null,null,null,null,null,null,null,null,null,null,"Option 2. If annual cost data is not available:",null,null,null,null,null,null,null,null,null,null,null,null,null,null,null,null,null,null,null,null,null,null,null,null,null,null,null,null,null,null,null,null,null,null,null,null,null,null,null,null,null,null,null,null,null,null,null,null,null,null,null,null,null,null,null,null,null,null,null,null,null,null,null,null,null,null,null,null,null,null,null,null,null,1,null,1,1,1,1,null,{"$f":"CJ$19","v":0},{"$f":"CK$19","v":0},{"$f":"CL$19","v":0},{"$f":"CM$19","v":0},null,{"$f":"CO64*CJ$59","v":0},{"$f":"CP64*CK$59","v":0},0,0,null,null,null,null,null,null,null,null,null,null,null,null,null,null,null,null,null,null,null,null,null,null,null,null,null,null,null,null,null,null,null,null,null,null,null,null,null,null,null,null,null,null,null,null,null,null,null,1,null,1,1,1,1,null,{"$f":"EU$19","v":0},{"$f":"EV$19","v":0},{"$f":"EW$19","v":0},{"$f":"EX$19","v":0},null,{"$f":"EZ64*EU$59","v":0},{"$f":"FA64*EV$59","v":0},{"$f":"FB64*EW$59","v":0},{"$f":"FC64*EX$59","v":0}]
[null,null,null,null,null,null,null,null,null,null,null,"Annual operating hours",{"$f":"D61","v":"hours/year"},0,0,0,0,null,null,null,null,null,null,null,null,null,null,null,null,null,null,null,null,null,null,null,null,null,null,null,null,null,null,null,null,null,null,null,null,null,null,null,null,null,null,null,null,null,null,null,null,null,null,null,null,null,null,null,null,null,null,null,null,null,null,null,null,null,null,null,null,null,null,null,null,2,null,{"$f":"CJ106+$CJ$64","v":1},{"$f":"CK106+$CJ$64","v":1},1,1,null,0,0,0,0,null,{"$f":"CO65*CJ$59","v":0},0,0,0,null,null,null,null,null,null,null,null,null,null,null,null,null,null,null,null,null,null,null,null,null,null,null,null,null,null,null,null,null,null,null,null,null,null,null,null,null,null,null,null,null,null,null,null,null,null,null,2,null,{"$f":"EU106+$EU$64","v":1},{"$f":"EV106+$EU$64","v":1},{"$f":"EW106+$EU$64","v":1},{"$f":"EX106+$EU$64","v":1},null,0,0,0,0,null,{"$f":"EZ65*EU$59","v":0},0,0,0]
[null,null,{"$f":"'Data input (detailed2)'!C86","v":"Only applicable to products that require CLEANING AND STERILIZING (for example reusable or reprocessed products)"},{"$f":"'Data input (detailed2)'!D86","v":"Unit"},"Product A ","Product B","Product C ","Product D",null,null,null,"In-coming water use per hour","gallon/hour",0,0,0,0,null,null,null,null,null,null,null,null,null,null,null,null,null,null,null,null,null,null,null,null,null,null,null,null,null,null,null,null,null,null,null,null,null,null,null,null,null,null,null,null,null,null,null,null,null,null,null,null,null,null,null,null,null,null,null,null,null,null,null,null,null,null,null,null,null,null,null,null,3,null,{"$f":"CJ107+$CJ$64","v":1},1,1,1,null,0,0,0,0,null,0,0,0,0,null,null,null,null,null,null,null,null,null,null,null,null,null,null,null,null,null,null,null,null,null,null,null,null,null,null,null,null,null,null,null,null,null,null,null,null,null,null,null,null,null,null,null,null,null,null,null,3,null,{"$f":"EU107+$EU$64","v":1},{"$f":"EV107+$EU$64","v":1},{"$f":"EW107+$EU$64","v":1},{"$f":"EX107+$EU$64","v":1},null,0,0,0,0,null,0,0,0,0]
[null,null,{"$f":"'Data input (detailed2)'!C87","v":"Option 1. If cost data split is available:"},null,null,null,null,null,null,null,null,"Water cost (includes incoming and outgoing cost)","$/ gallon",0,0,0,0,null,null,null,null,null,null,null,null,null,null,null,null,null,null,null,null,null,null,null,null,null,null,null,null,null,null,null,null,null,null,null,null,null,null,null,null,null,null,null,null,null,null,null,null,null,null,null,null,null,null,null,null,null,null,null,null,null,null,null,null,null,null,null,null,null,null,null,null,4,null,1,1,1,1,null,0,0,0,0,null,0,0,0,0,null,null,null,null,null,null,null,null,null,null,null,null,null,null,null,null,null,null,null,null,null,null,null,null,null,null,null,null,null,null,null,null,null,null,null,null,null,null,null,null,null,null,null,null,null,null,null,4,null,{"$f":"EU108+$EU$64","v":1},1,1,1,null,0,0,0,0,null,0,0,0,0]
[null,null,{"$f":"'Data input (detailed2)'!C88","v":"Water cost associated with cleaning/sterilizing 1 product after each use"},{"$f":"'Data input (detailed2)'!D88","v":"$/use"},{"$f":"'Data input (detailed2)'!E88","v":0},{"$f":"'Data input (detailed2)'!F88","v":0},{"$f":"'Data input (detailed2)'!G88","v":0},{"$f":"'Data input (detailed2)'!H88","v":0},null,null,null,"Annual cost calculated",null,{"$f":"IFERROR(N65*N66*N67,0)","v":0},{"$f":"IFERROR(O65*O66*O67,0)","v":0},{"$f":"IFERROR(P65*P66*P67,0)","v":0},{"$f":"IFERROR(Q65*Q66*Q67,0)","v":0},null,null,null,null,null,null,null,null,null,null,null,null,null,null,null,null,null,null,null,null,null,null,null,null,null,null,null,null,null,null,null,null,null,null,null,null,null,null,null,null,null,null,null,null,null,null,null,null,null,null,null,null,null,null,null,null,null,null,null,null,null,null,null,null,null,null,null,null,5,null,1,1,1,1,null,0,0,0,0,null,0,0,0,0,null,null,null,null,null,null,null,null,null,null,null,null,null,null,null,null,null,null,null,null,null,null,null,null,null,null,null,null,null,null,null,null,null,null,null,null,null,null,null,null,null,null,null,null,null,null,null,5,null,{"$f":"EU109+$EU$64","v":1},1,1,1,null,0,0,0,0,null,0,0,0,0]
[null,null,{"$f":"'Data input (detailed2)'!C89","v":"Energy cost associated with cleaning/sterilizing 1 product after each use"},{"$f":"'Data input (detailed2)'!D89","v":"$/use"},{"$f":"'Data input (detailed2)'!E89","v":0},{"$f":"'Data input (detailed2)'!F89","v":0},{"$f":"'Data input (detailed2)'!G89","v":0},{"$f":"'Data input (detailed2)'!H89","v":0},null,null,null,"Final annual cost",null,{"$f":"IF(N63>0,N63,N68)","v":0},{"$f":"IF(O63>0,O63,O68)","v":0},0,0,null,null,null,null,null,null,null,null,null,null,null,null,null,null,null,null,null,null,null,null,null,null,null,null,null,null,null,null,null,null,null,null,null,null,null,null,null,null,null,null,null,null,null,null,null,null,null,null,null,null,null,null,null,null,null,null,null,null,null,null,null,null,null,null,null,null,null,null,6,null,1,1,1,1,null,0,0,0,0,null,0,0,0,0,null,null,null,null,null,null,null,null,null,null,null,null,null,null,null,null,null,null,null,null,null,null,null,null,null,null,null,null,null,null,null,null,null,null,null,null,null,null,null,null,null,null,null,null,null,null,null,6,null,{"$f":"EU110+$EU$64","v":1},1,1,1,null,0,0,0,0,null,0,0,0,0]
[null,null,{"$f":"'Data input (detailed2)'!C90","v":"Labor cost associated with cleaning/sterilizing 1 product after each use"},{"$f":"'Data input (detailed2)'!D90","v":"$/use"},{"$f":"'Data input (detailed2)'!E90","v":0},{"$f":"'Data input (detailed2)'!F90","v":0},{"$f":"'Data input (detailed2)'!G90","v":0},{"$f":"'Data input (detailed2)'!H90","v":0},null,null,null,"Total annual Water cost","$/year",{"$f":"N69","v":0},{"$f":"O69","v":0},0,0,null,null,null,null,null,null,null,null,null,null,null,null,null,null,null,null,null,null,null,null,null,null,null,null,null,null,null,null,null,null,null,null,null,null,null,null,null,null,null,null,null,null,null,null,null,null,null,null,null,null,null,null,null,null,null,null,null,null,null,null,null,null,null,null,null,null,null,null,7,null,1,1,1,1,null,0,0,0,0,null,0,0,0,0,null,null,null,null,null,null,null,null,null,null,null,null,null,null,null,null,null,null,null,null,null,null,null,null,null,null,null,null,null,null,null,null,null,null,null,null,null,null,null,null,null,null,null,null,null,null,null,7,null,{"$f":"EU111+$EU$64","v":1},1,1,1,null,0,0,0,0,null,0,0,0,0]
[null,null,{"$f":"'Data input (detailed2)'!C91","v":"Option 2. If cost data split is not available:"},null,null,null,null,null,null,null,null,null,"$/ year and per product",null,null,null,null,null,null,null,null,null,null,null,null,null,null,null,null,null,null,null,null,null,null,null,null,null,null,null,null,null,null,null,null,null,null,null,null,null,null,null,null,null,null,null,null,null,null,null,null,null,null,null,null,null,null,null,null,null,null,null,null,null,null,null,null,null,null,null,null,null,null,null,null,8,null,1,1,1,1,null,0,0,0,0,null,0,0,0,0,null,null,null,null,null,null,null,null,null,null,null,null,null,null,null,null,null,null,null,null,null,null,null,null,null,null,null,null,null,null,null,null,null,null,null,null,null,null,null,null,null,null,null,null,null,null,null,8,null,{"$f":"EU112+$EU$64","v":1},1,1,1,null,0,0,0,0,null,0,0,0,0]
[null,null,{"$f":"'Data input (detailed2)'!C92","v":"Aggregated cost associated with cleaning/sterilizing 1 product after each use"},{"$f":"'Data input (detailed2)'!D92","v":"$/use"},{"$f":"'Data input (detailed2)'!E92","v":0},{"$f":"'Data input (detailed2)'!F92","v":0},{"$f":"'Data input (detailed2)'!G92","v":0},{"$f":"'Data input (detailed2)'!H92","v":0},null,null,null,null,null,null,null,null,null,null,null,null,null,null,null,null,null,null,null,null,null,null,null,null,null,null,null,null,null,null,null,null,null,null,null,null,null,null,null,null,null,null,null,null,null,null,null,null,null,null,null,null,null,null,null,null,null,null,null,null,null,null,null,null,null,null,null,null,null,null,null,null,null,null,null,null,null,9,null,1,1,1,1,null,0,0,0,0,null,0,0,0,0,null,null,null,null,null,null,null,null,null,null,null,null,null,null,null,null,null,null,null,null,null,null,null,null,null,null,null,null,null,null,null,null,null,null,null,null,null,null,null,null,null,null,null,null,null,null,null,9,null,{"$f":"EU113+$EU$64","v":1},1,1,1,null,0,0,0,0,null,0,0,0,0]
[null,null,null,null,null,null,null,null,null,null,null,{"$f":"C66","v":"Only applicable to products that require CLEANING AND STERILIZING (for example reusable or reprocessed products)"},{"$f":"D66","v":"Unit"},"Product A ","Product B","Product C ","Product D",null,null,null,null,null,null,null,null,null,null,null,null,null,null,null,null,null,null,null,null,null,null,null,null,null,null,null,null,null,null,null,null,null,null,null,null,null,null,null,null,null,null,null,null,null,null,null,null,null,null,null,null,null,null,null,null,null,null,null,null,null,null,null,null,null,null,null,null,10,null,1,1,1,1,null,0,0,0,0,null,0,0,0,0,null,null,null,null,null,null,null,null,null,null,null,null,null,null,null,null,null,null,null,null,null,null,null,null,null,null,null,null,null,null,null,null,null,null,null,null,null,null,null,null,null,null,null,null,null,null,null,10,null,{"$f":"EU114+$EU$64","v":1},1,1,1,null,0,0,0,0,null,0,0,0,0]
[null,null,null,null,null,null,null,null,null,null,null,{"$f":"C67","v":"Option 1. If cost data split is available:"},null,null,null,null,null,null,null,null,null,null,null,null,null,null,null,null,null,null,null,null,null,null,null,null,null,null,null,null,null,null,null,null,null,null,null,null,null,null,null,null,null,null,null,null,null,null,null,null,null,null,null,null,null,null,null,null,null,null,null,null,null,null,null,null,null,null,null,null,null,null,null,null,null,11,null,1,1,1,1,null,0,0,0,0,null,0,0,0,0,null,null,null,null,null,null,null,null,null,null,null,null,null,null,null,null,null,null,null,null,null,null,null,null,null,null,null,null,null,null,null,null,null,null,null,null,null,null,null,null,null,null,null,null,null,null,null,11,null,{"$f":"EU115+$EU$64","v":1},1,1,1,null,0,0,0,0,null,0,0,0,0]
[null,null,{"$f":"'Data input (detailed2)'!C95","v":"Other operational costs (for example maintenance)"},{"$f":"'Data input (detailed2)'!D95","v":"Unit"},"Product A ","Product B","Product C ","Product D",null,null,null,"Water cost associated with cleaning/sterilizing 1 product after each use","$/use",0,0,0,0,null,null,null,null,null,null,null,null,null,null,null,null,null,null,null,null,null,null,null,null,null,null,null,null,null,null,null,null,null,null,null,null,null,null,null,null,null,null,null,null,null,null,null,null,null,null,null,null,null,null,null,null,null,null,null,null,null,null,null,null,null,null,null,null,null,null,null,null,12,null,1,1,1,1,null,0,0,0,0,null,0,0,0,0,null,null,null,null,null,null,null,null,null,null,null,null,null,null,null,null,null,null,null,null,null,null,null,null,null,null,null,null,null,null,null,null,null,null,null,null,null,null,null,null,null,null,null,null,null,null,null,12,null,{"$f":"EU116+$EU$64","v":1},1,1,1,null,0,0,0,0,null,0,0,0,0]
[null,null,{"$f":"'Data input (detailed2)'!C96","v":"Labor time needed to maintain the product per year"},{"$f":"'Data input (detailed2)'!D96","v":"hours/year"},{"$f":"'Data input (detailed2)'!E96","v":0},{"$f":"'Data input (detailed2)'!F96","v":0},{"$f":"'Data input (detailed2)'!G96","v":0},{"$f":"'Data input (detailed2)'!H96","v":0},null,null,null,"Energy cost associated with cleaning/sterilizing 1 product after each use","$/use",0,0,0,0,null,null,null,null,null,null,null,null,null,null,null,null,null,null,null,null,null,null,null,null,null,null,null,null,null,null,null,null,null,null,null,null,null,null,null,null,null,null,null,null,null,null,null,null,null,null,null,null,null,null,null,null,null,null,null,null,null,null,null,null,null,null,null,null,null,null,null,null,13,null,1,1,1,1,null,0,0,0,0,null,0,0,0,0,null,null,null,null,null,null,null,null,null,null,null,null,null,null,null,null,null,null,null,null,null,null,null,null,null,null,null,null,null,null,null,null,null,null,null,null,null,null,null,null,null,null,null,null,null,null,null,13,null,{"$f":"EU117+$EU$64","v":1},1,1,1,null,0,0,0,0,null,0,0,0,0]
[null,null,{"$f":"'Data input (detailed2)'!C97","v":"Maintenance cost - labor (hourly labor cost)"},{"$f":"'Data input (detailed2)'!D97","v":"$/hour"},{"$f":"'Data input (detailed2)'!E97","v":0},{"$f":"'Data input (detailed2)'!F97","v":0},{"$f":"'Data input (detailed2)'!G97","v":0},{"$f":"'Data input (detailed2)'!H97","v":0},null,null,null,"Labor cost associated with cleaning/sterilizing 1 product after each use","$/use",0,0,0,0,null,null,null,null,null,null,null,null,null,null,null,null,null,null,null,null,null,null,null,null,null,null,null,null,null,null,null,null,null,null,null,null,null,null,null,null,null,null,null,null,null,null,null,null,null,null,null,null,null,null,null,null,null,null,null,null,null,null,null,null,null,null,null,null,null,null,null,null,14,null,1,1,1,1,null,0,0,0,0,null,0,0,0,0,null,null,null,null,null,null,null,null,null,null,null,null,null,null,null,null,null,null,null,null,null,null,null,null,null,null,null,null,null,null,null,null,null,null,null,null,null,null,null,null,null,null,null,null,null,null,null,14,null,{"$f":"EU118+$EU$64","v":1},1,1,1,null,0,0,0,0,null,0,0,0,0]
[null,null,null,null,null,null,null,null,null,null,null,"Option 2. If cost data split is not available:",null,null,null,null,null,null,null,null,null,null,null,null,null,null,null,null,null,null,null,null,null,null,null,null,null,null,null,null,null,null,null,null,null,null,null,null,null,null,null,null,null,null,null,null,null,null,null,null,null,null,null,null,null,null,null,null,null,null,null,null,null,null,null,null,null,null,null,null,null,null,null,null,null,15,null,1,1,1,1,null,0,0,0,0,null,0,0,0,0,null,null,null,null,null,null,null,null,null,null,null,null,null,null,null,null,null,null,null,null,null,null,null,null,null,null,null,null,null,null,null,null,null,null,null,null,null,null,null,null,null,null,null,null,null,null,null,15,null,{"$f":"EU119+$EU$64","v":1},1,1,1,null,0,0,0,0,null,0,0,0,0]
[null,null,null,null,null,null,null,null,null,null,null,"Aggregated cost associated with cleaning/sterilizing 1 product after each use","$/use",0,0,0,0,null,null,null,null,null,null,null,null,null,null,null,null,null,null,null,null,null,null,null,null,null,null,null,null,null,null,null,null,null,null,null,null,null,null,null,null,null,null,null,null,null,null,null,null,null,null,null,null,null,null,null,null,null,null,null,null,null,null,null,null,null,null,null,null,null,null,null,null,16,null,1,1,1,1,null,0,0,0,0,null,0,0,0,0,null,null,null,null,null,null,null,null,null,null,null,null,null,null,null,null,null,null,null,null,null,null,null,null,null,null,null,null,null,null,null,null,null,null,null,null,null,null,null,null,null,null,null,null,null,null,null,16,null,{"$f":"EU120+$EU$64","v":1},1,1,1,null,0,0,0,0,null,0,0,0,0]
[null,null,null,null,null,null,null,null,null,null,null,null,null,null,null,null,null,null,null,null,null,null,null,null,null,null,null,null,null,null,null,null,null,null,null,null,null,null,null,null,null,null,null,null,null,null,null,null,null,null,null,null,null,null,null,null,null,null,null,null,null,null,null,null,null,null,null,null,null,null,null,null,null,null,null,null,null,null,null,null,null,null,null,null,null,17,null,1,1,1,1,null,0,0,0,0,null,0,{"$f":"CP80*CK$59","v":0},{"$f":"CQ80*CL$59","v":0},{"$f":"CR80*CM$59","v":0},null,null,null,null,null,null,null,null,null,null,null,null,null,null,null,null,null,null,null,null,null,null,null,null,null,null,null,null,null,null,null,null,null,null,null,null,null,null,null,null,null,null,null,null,null,null,null,17,null,{"$f":"EU121+$EU$64","v":1},1,1,1,null,0,0,0,0,null,0,0,0,0]
[null,null,null,null,null,null,null,null,null,null,null,{"$f":"L19","v":"Number of times the product can be used"},{"$f":"M19","v":"# uses"},0,0,0,0,null,null,null,null,null,null,null,null,null,null,null,null,null,null,null,null,null,null,null,null,null,null,null,null,null,null,null,null,null,null,null,null,null,null,null,null,null,null,null,null,null,null,null,null,null,null,null,null,null,null,null,null,null,null,null,null,null,null,null,null,null,null,null,null,null,null,null,null,18,null,1,1,1,1,null,0,0,0,0,null,0,0,0,0,null,null,null,null,null,null,null,null,null,null,null,null,null,null,null,null,null,null,null,null,null,null,null,null,null,null,null,null,null,null,null,null,null,null,null,null,null,null,null,null,null,null,null,null,null,null,null,18,null,{"$f":"EU122+$EU$64","v":1},1,1,1,null,0,0,0,0,null,0,0,0,0]
[null,null,null,null,null,null,null,null,null,null,null,{"$f":"L20","v":"Number of times this type of product is expected to be used per year"},{"$f":"M20","v":"# uses/ year"},0,0,0,0,null,null,null,null,null,null,null,null,null,null,null,null,null,null,null,null,null,null,null,null,null,null,null,null,null,null,null,null,null,null,null,null,null,null,null,null,null,null,null,null,null,null,null,null,null,null,null,null,null,null,null,null,null,null,null,null,null,null,null,null,null,null,null,null,null,null,null,null,19,null,1,1,1,1,null,0,0,0,0,null,0,0,0,0,null,null,null,null,null,null,null,null,null,null,null,null,null,null,null,null,null,null,null,null,null,null,null,null,null,null,null,null,null,null,null,null,null,null,null,null,null,null,null,null,null,null,null,null,null,null,null,19,null,{"$f":"EU123+$EU$64","v":1},1,1,1,null,0,0,0,0,null,0,0,0,0]
[null,null,null,null,null,null,null,null,null,null,null,"Number of times this type of product is expected to be Cleaned and sterilized per year ","# cleaned/ year",{"$f":"N82","v":0},{"$f":"O82","v":0},{"$f":"P82","v":0},{"$f":"Q82","v":0},null,"Assuming product is cleaned before disposal as well",null,null,null,null,null,null,null,null,null,null,null,null,null,null,null,null,null,null,null,null,null,null,null,null,null,null,null,null,null,null,null,null,null,null,null,null,null,null,null,null,null,null,null,null,null,null,null,null,null,null,null,null,null,null,null,null,null,null,null,null,null,null,null,null,null,null,20,null,1,1,1,1,null,0,0,0,0,null,0,0,0,0,null,null,null,null,null,null,null,null,null,null,null,null,null,null,null,null,null,null,null,null,null,null,null,null,null,null,null,null,null,null,null,null,null,null,null,null,null,null,null,null,null,null,null,null,null,null,null,20,null,{"$f":"EU124+$EU$64","v":1},1,1,{"$f":"EX124+$EU$64","v":1},null,0,0,0,0,null,0,0,0,0]
[null,null,null,null,null,null,null,null,null,null,null,"Option 1 annual cost","$/year",{"$f":"IFERROR(SUM(N75:N77)*N83,0)","v":0},{"$f":"IFERROR(SUM(O75:O77)*O83,0)","v":0},{"$f":"IFERROR(SUM(P75:P77)*P83,0)","v":0},{"$f":"IFERROR(SUM(Q75:Q77)*Q83,0)","v":0},null,null,null,null,null,null,null,null,null,null,null,null,null,null,null,null,null,null,null,null,null,null,null,null,null,null,null,null,null,null,null,null,null,null,null,null,null,null,null,null,null,null,null,null,null,null,null,null,null,null,null,null,null,null,null,null,null,null,null,null,null,null,null,null,null,null,null,null,null,"Operational","Product A ","Product B","Product C ","Product D","Operational","Product A ","Product B","Product C ","Product D","Operational","Product A ","Product B","Product C ","Product D",null,null,null,null,null,null,null,null,null,null,null,null,null,null,null,null,null,null,null,null,null,null,null,null,null,null,null,null,null,null,null,null,null,null,null,null,null,null,null,null,null,null,null,null,null,null,null,null,"Operational","Product A ","Product B","Product C ","Product D","Operational","Product A ","Product B","Product C ","Product D","Operational","Product A ","Product B","Product C ","Product D"]
[null,null,null,null,null,null,null,null,null,null,null,"Option 2 annual cost","$/year",{"$f":"IFERROR(N79*N83,0)","v":0},{"$f":"IFERROR(O79*O83,0)","v":0},{"$f":"IFERROR(P79*P83,0)","v":0},{"$f":"IFERROR(Q79*Q83,0)","v":0},null,null,null,null,null,null,null,null,null,null,null,null,null,null,null,null,null,null,null,null,null,null,null,null,null,null,null,null,null,null,null,null,null,null,null,null,null,null,null,null,null,null,null,null,null,null,null,null,null,null,null,null,null,null,null,null,null,null,null,null,null,null,null,null,null,null,null,null,null,null,1,1,1,1,null,"na","na","na","na",null,"na","na","na","na",null,null,null,null,null,null,null,null,null,null,null,null,null,null,null,null,null,null,null,null,null,null,null,null,null,null,null,null,null,null,null,null,null,null,null,null,null,null,null,null,null,null,null,null,null,null,null,null,null,1,1,1,1,null,"na","na","na","na",null,"na","na","na","na"]
[null,null,null,null,null,null,null,null,null,null,null,"Option 1 annual cost per product","$/year and product",{"$f":"IFERROR(N84/N162,0)","v":0},{"$f":"IFERROR(O84/O162,0)","v":0},{"$f":"IFERROR(P84/P162,0)","v":0},{"$f":"IFERROR(Q84/Q162,0)","v":0},null,null,null,null,null,null,null,null,null,null,null,null,null,null,null,null,null,null,null,null,null,null,null,null,null,null,null,null,null,null,null,null,null,null,null,null,null,null,null,null,null,null,null,null,null,null,null,null,null,null,null,null,null,null,null,null,null,null,null,null,null,null,null,null,null,null,null,null,null,null,2,2,2,2,null,"na","na","na","na",null,"na","na","na","na",null,null,null,null,null,null,null,null,null,null,null,null,null,null,null,null,null,null,null,null,null,null,null,null,null,null,null,null,null,null,null,null,null,null,null,null,null,null,null,null,null,null,null,null,null,null,null,null,null,2,2,2,2,null,"na","na","na","na",null,"na","na","na","na"]
[null,null,null,null,null,null,null,null,null,null,null,"Option 2 annual cost per product","$/year and product",{"$f":"IFERROR(N85/N162,0)","v":0},{"$f":"IFERROR(O85/O162,0)","v":0},{"$f":"IFERROR(P85/P162,0)","v":0},{"$f":"IFERROR(Q85/Q162,0)","v":0},null,null,null,null,null,null,null,null,null,null,null,null,null,null,null,null,null,null,null,null,null,null,null,null,null,null,null,null,null,null,null,null,null,null,null,null,null,null,null,null,null,null,null,null,null,null,null,null,null,null,null,null,null,null,null,null,null,null,null,null,null,null,null,null,null,null,null,null,null,null,3,3,3,3,null,"na","na","na","na",null,"na","na","na","na",null,null,null,null,null,null,null,null,null,null,null,null,null,null,null,null,null,null,null,null,null,null,null,null,null,null,null,null,null,null,null,null,null,null,null,null,null,null,null,null,null,null,null,null,null,null,null,null,null,3,3,3,3,null,"na","na","na","na",null,"na","na","na","na"]
[null,null,null,null,null,null,null,null,null,null,null,null,null,null,null,null,null,null,null,null,null,null,null,null,null,null,null,null,null,null,null,null,null,null,null,null,null,null,null,null,null,null,null,null,null,null,null,null,null,null,null,null,null,null,null,null,null,null,null,null,null,null,null,null,null,null,null,null,null,null,null,null,null,null,null,null,null,null,null,null,null,null,null,null,null,null,null,4,4,4,4,null,"na","na","na","na",null,"na","na","na","na",null,null,null,null,null,null,null,null,null,null,null,null,null,null,null,null,null,null,null,null,null,null,null,null,null,null,null,null,null,null,null,null,null,null,null,null,null,null,null,null,null,null,null,null,null,null,null,null,null,4,4,4,4,null,"na","na","na","na",null,"na","na","na","na"]
[null,null,null,null,null,null,null,null,null,null,null,"Option 1 Water annual cost per product","$/year and product",{"$f":"IFERROR(N75*N$83/N$162,0)","v":0},0,0,0,null,null,null,null,null,null,null,null,null,null,null,null,null,null,null,null,null,null,null,null,null,null,null,null,null,null,null,null,null,null,null,null,null,null,null,null,null,null,null,null,null,null,null,null,null,null,null,null,null,null,null,null,null,null,null,null,null,null,null,null,null,null,null,null,null,null,null,null,null,null,5,5,5,5,null,"na","na","na","na",null,"na","na","na","na",null,null,null,null,null,null,null,null,null,null,null,null,null,null,null,null,null,null,null,null,null,null,null,null,null,null,null,null,null,null,null,null,null,null,null,null,null,null,null,null,null,null,null,null,null,null,null,null,null,5,5,5,5,null,"na","na","na","na",null,"na","na","na","na"]
[null,null,null,null,null,null,null,null,null,null,null,"Option 1 Energy annual cost per product","$/year and product",0,0,0,0,null,null,null,null,null,null,null,null,null,null,null,null,null,null,null,null,null,null,null,null,null,null,null,null,null,null,null,null,null,null,null,null,null,null,null,null,null,null,null,null,null,null,null,null,null,null,null,null,null,null,null,null,null,null,null,null,null,null,null,null,null,null,null,null,null,null,null,null,null,null,6,6,6,6,null,"na","na","na","na",null,"na","na","na","na",null,null,null,null,null,null,null,null,null,null,null,null,null,null,null,null,null,null,null,null,null,null,null,null,null,null,null,null,null,null,null,null,null,null,null,null,null,null,null,null,null,null,null,null,null,null,null,null,null,6,6,6,6,null,"na","na","na","na",null,"na","na","na","na"]
[null,null,null,null,null,null,null,null,null,null,null,"Option 1 Labor annual cost per product","$/year and product",0,0,0,0,null,null,null,null,null,null,null,null,null,null,null,null,null,null,null,null,null,null,null,null,null,null,null,null,null,null,null,null,null,null,null,null,null,null,null,null,null,null,null,null,null,null,null,null,null,null,null,null,null,null,null,null,null,null,null,null,null,null,null,null,null,null,null,null,null,null,null,null,null,null,7,7,7,7,null,"na","na","na","na",null,"na","na","na","na",null,null,null,null,null,null,null,null,null,null,null,null,null,null,null,null,null,null,null,null,null,null,null,null,null,null,null,null,null,null,null,null,null,null,null,null,null,null,null,null,null,null,null,null,null,null,null,null,null,7,7,7,7,null,"na","na","na","na",null,"na","na","na","na"]
[null,null,null,null,null,null,null,null,null,null,null,"Total annual Cleaning and sterilizing cost","$/year",{"$f":"IF(N86>0,N86,N87)","v":0},{"$f":"IF(O86>0,O86,O87)","v":0},0,0,null,null,null,null,null,null,null,null,null,null,null,null,null,null,null,null,null,null,null,null,null,null,null,null,null,null,null,null,null,null,null,null,null,null,null,null,null,null,null,null,null,null,null,null,null,null,null,null,null,null,null,null,null,null,null,null,null,null,null,null,null,null,null,null,null,null,null,null,null,null,8,8,8,8,null,"na","na","na","na",null,"na","na","na","na",null,null,null,null,null,null,null,null,null,null,null,null,null,null,null,null,null,null,null,null,null,null,null,null,null,null,null,null,null,null,null,null,null,null,null,null,null,null,null,null,null,null,null,null,null,null,null,null,null,8,8,8,8,null,"na","na","na","na",null,"na","na","na","na"]
[null,null,null,null,null,null,null,null,null,null,null,null,"$/year and product",null,null,null,null,null,null,null,null,null,null,null,null,null,null,null,null,null,null,null,null,null,null,null,null,null,null,null,null,null,null,null,null,null,null,null,null,null,null,null,null,null,null,null,null,null,null,null,null,null,null,null,null,null,null,null,null,null,null,null,null,null,null,null,null,null,null,null,null,null,null,null,null,null,null,9,9,9,9,null,"na","na","na","na",null,"na","na","na","na",null,null,null,null,null,null,null,null,null,null,null,null,null,null,null,null,null,null,null,null,null,null,null,null,null,null,null,null,null,null,null,null,null,null,null,null,null,null,null,null,null,null,null,null,null,null,null,null,null,9,9,9,9,null,"na","na","na","na",null,"na","na","na","na"]
[null,null,null,null,null,null,null,null,null,null,null,null,null,null,null,null,null,null,null,null,null,null,null,null,null,null,null,null,null,null,null,null,null,null,null,null,null,null,null,null,null,null,null,null,null,null,null,null,null,null,null,null,null,null,null,null,null,null,null,null,null,null,null,null,null,null,null,null,null,null,null,null,null,null,null,null,null,null,null,null,null,null,null,null,null,null,null,10,10,10,10,null,"na","na","na","na",null,"na","na","na","na",null,null,null,null,null,null,null,null,null,null,null,null,null,null,null,null,null,null,null,null,null,null,null,null,null,null,null,null,null,null,null,null,null,null,null,null,null,null,null,null,null,null,null,null,null,null,null,null,null,10,10,10,10,null,"na","na","na","na",null,"na","na","na","na"]
[null,null,{"$f":"'Data input (detailed2)'!C115","v":"Training costs"},{"$f":"'Data input (detailed2)'!D115","v":"$/year"},{"$f":"'Data input (detailed2)'!E115","v":0},{"$f":"'Data input (detailed2)'!F115","v":0},{"$f":"'Data input (detailed2)'!G115","v":0},{"$f":"'Data input (detailed2)'!H115","v":0},null,null,null,{"$f":"C75","v":"Other operational costs (for example maintenance)"},"Unit","Product A ","Product B","Product C ","Product D",null,null,null,null,null,null,null,null,null,null,null,null,null,null,null,null,null,null,null,null,null,null,null,null,null,null,null,null,null,null,null,null,null,null,null,null,null,null,null,null,null,null,null,null,null,null,null,null,null,null,null,null,null,null,null,null,null,null,null,null,null,null,null,null,null,null,null,null,null,null,11,11,11,11,null,"na","na","na","na",null,"na","na","na","na",null,null,null,null,null,null,null,null,null,null,null,null,null,null,null,null,null,null,null,null,null,null,null,null,null,null,null,null,null,null,null,null,null,null,null,null,null,null,null,null,null,null,null,null,null,null,null,null,null,11,11,11,11,null,"na","na","na","na",null,"na","na","na","na"]
[null,null,{"$f":"'Data input (detailed2)'!C116","v":"Health and safety costs"},{"$f":"'Data input (detailed2)'!D116","v":"$/year"},{"$f":"'Data input (detailed2)'!E116","v":0},{"$f":"'Data input (detailed2)'!F116","v":0},{"$f":"'Data input (detailed2)'!G116","v":0},{"$f":"'Data input (detailed2)'!H116","v":0},null,null,null,{"$f":"C76","v":"Labor time needed to maintain the product per year"},{"$f":"D76","v":"hours/year"},0,0,0,0,null,null,null,null,null,null,null,null,null,null,null,null,null,null,null,null,null,null,null,null,null,null,null,null,null,null,null,null,null,null,null,null,null,null,null,null,null,null,null,null,null,null,null,null,null,null,null,null,null,null,null,null,null,null,null,null,null,null,null,null,null,null,null,null,null,null,null,null,null,null,12,12,12,12,null,"na","na","na","na",null,"na","na","na","na",null,null,null,null,null,null,null,null,null,null,null,null,null,null,null,null,null,null,null,null,null,null,null,null,null,null,null,null,null,null,null,null,null,null,null,null,null,null,null,null,null,null,null,null,null,null,null,null,null,12,12,12,12,null,"na","na","na","na",null,"na","na","na","na"]
[null,null,{"$f":"'Data input (detailed2)'!C117","v":"Other operational costs"},{"$f":"'Data input (detailed2)'!D117","v":"$/year"},{"$f":"'Data input (detailed2)'!E117","v":0},{"$f":"'Data input (detailed2)'!F117","v":0},{"$f":"'Data input (detailed2)'!G117","v":0},{"$f":"'Data input (detailed2)'!H117","v":0},null,null,null,{"$f":"C77","v":"Maintenance cost - labor (hourly labor cost)"},{"$f":"D77","v":"$/hour"},0,0,0,0,null,null,null,null,null,null,null,null,null,null,null,null,null,null,null,null,null,null,null,null,null,null,null,null,null,null,null,null,null,null,null,null,null,null,null,null,null,null,null,null,null,null,null,null,null,null,null,null,null,null,null,null,null,null,null,null,null,null,null,null,null,null,null,null,null,null,null,null,null,null,13,13,13,13,null,"na","na","na","na",null,"na","na","na","na",null,null,null,null,null,null,null,null,null,null,null,null,null,null,null,null,null,null,null,null,null,null,null,null,null,null,null,null,null,null,null,null,null,null,null,null,null,null,null,null,null,null,null,null,null,null,null,null,null,13,13,13,13,null,"na","na","na","na",null,"na","na","na","na"]
[null,null,null,null,null,null,null,null,null,null,null,{"$f":"C95","v":"Training costs"},{"$f":"D95","v":"$/year"},0,0,0,0,null,null,null,null,null,null,null,null,null,null,null,null,null,null,null,null,null,null,null,null,null,null,null,null,null,null,null,null,null,null,null,null,null,null,null,null,null,null,null,null,null,null,null,null,null,null,null,null,null,null,null,null,null,null,null,null,null,null,null,null,null,null,null,null,null,null,null,null,null,null,14,14,14,14,null,"na","na","na","na",null,"na","na","na","na",null,null,null,null,null,null,null,null,null,null,null,null,null,null,null,null,null,null,null,null,null,null,null,null,null,null,null,null,null,null,null,null,null,null,null,null,null,null,null,null,null,null,null,null,null,null,null,null,null,14,14,14,14,null,"na","na","na","na",null,"na","na","na","na"]
[null,null,null,null,null,null,null,null,null,null,null,{"$f":"C96","v":"Health and safety costs"},"$/year",0,0,0,0,null,null,null,null,null,null,null,null,null,null,null,null,null,null,null,null,null,null,null,null,null,null,null,null,null,null,null,null,null,null,null,null,null,null,null,null,null,null,null,null,null,null,null,null,null,null,null,null,null,null,null,null,null,null,null,null,null,null,null,null,null,null,null,null,null,null,null,null,null,null,15,15,15,15,null,"na","na","na","na",null,"na","na","na","na",null,null,null,null,null,null,null,null,null,null,null,null,null,null,null,null,null,null,null,null,null,null,null,null,null,null,null,null,null,null,null,null,null,null,null,null,null,null,null,null,null,null,null,null,null,null,null,null,null,15,15,15,15,null,"na","na","na","na",null,"na","na","na","na"]
[null,null,{"$f":"'Data input (detailed2)'!C120","v":"DISPOSAL COSTS"},null,null,null,null,null,null,null,null,"Other operational costs","$/year",0,0,0,0,null,null,null,null,null,null,null,null,null,null,null,null,null,null,null,null,null,null,null,null,null,null,null,null,null,null,null,null,null,null,null,null,null,null,null,null,null,null,null,null,null,null,null,null,null,null,null,null,null,null,null,null,null,null,null,null,null,null,null,null,null,null,null,null,null,null,null,null,null,null,16,16,16,16,null,"na","na","na","na",null,"na","na","na","na",null,null,null,null,null,null,null,null,null,null,null,null,null,null,null,null,null,null,null,null,null,null,null,null,null,null,null,null,null,null,null,null,null,null,null,null,null,null,null,null,null,null,null,null,null,null,null,null,null,16,16,16,16,null,"na","na","na","na",null,"na","na","na","na"]
[null,null,null,null,null,null,null,null,null,null,null,"Annual cost of maintenance (labor)","$/year",{"$f":"N96*N97","v":0},{"$f":"O96*O97","v":0},{"$f":"P96*P97","v":0},{"$f":"Q96*Q97","v":0},null,null,null,null,null,null,null,null,null,null,null,null,null,null,null,null,null,null,null,null,null,null,null,null,null,null,null,null,null,null,null,null,null,null,null,null,null,null,null,null,null,null,null,null,null,null,null,null,null,null,null,null,null,null,null,null,null,null,null,null,null,null,null,null,null,null,null,null,null,null,17,17,17,17,null,"na","na","na","na",null,"na","na","na","na",null,null,null,null,null,null,null,null,null,null,null,null,null,null,null,null,null,null,null,null,null,null,null,null,null,null,null,null,null,null,null,null,null,null,null,null,null,null,null,null,null,null,null,null,null,null,null,null,null,17,17,17,17,null,"na","na","na","na",null,"na","na","na","na"]
[null,null,{"$f":"'Data input (detailed2)'!C122","v":"Description"},{"$f":"'Data input (detailed2)'!D122","v":"Unit"},"Product A ","Product B","Product C ","Product D",null,null,null,"Total annual Other operational costs","$/year",{"$f":"SUM(N98:N101)","v":0},{"$f":"SUM(O98:O101)","v":0},{"$f":"SUM(P98:P101)","v":0},{"$f":"SUM(Q98:Q101)","v":0},null,null,null,null,null,null,null,null,null,null,null,null,null,null,null,null,null,null,null,null,null,null,null,null,null,null,null,null,null,null,null,null,null,null,null,null,null,null,null,null,null,null,null,null,null,null,null,null,null,null,null,null,null,null,null,null,null,null,null,null,null,null,null,null,null,null,null,null,null,null,18,18,18,18,null,"na","na","na","na",null,"na","na","na","na",null,null,null,null,null,null,null,null,null,null,null,null,null,null,null,null,null,null,null,null,null,null,null,null,null,null,null,null,null,null,null,null,null,null,null,null,null,null,null,null,null,null,null,null,null,null,null,null,null,18,18,18,18,null,"na","na","na","na",null,"na","na","na","na"]
[null,null,{"$f":"'Data input (detailed2)'!C123","v":"Main product: waste typology A"},null,null,null,null,null,null,null,null,null,"$/ year and per product",null,null,null,null,null,null,null,null,null,null,null,null,null,null,null,null,null,null,null,null,null,null,null,null,null,null,null,null,null,null,null,null,null,null,null,null,null,null,null,null,null,null,null,null,null,null,null,null,null,null,null,null,null,null,null,null,null,null,null,null,null,null,null,null,null,null,null,null,null,null,null,null,null,null,19,19,19,19,null,"na","na","na","na",null,"na","na","na","na",null,null,null,null,null,null,null,null,null,null,null,null,null,null,null,null,null,null,null,null,null,null,null,null,null,null,null,null,null,null,null,null,null,null,null,null,null,null,null,null,null,null,null,null,null,null,null,null,null,19,19,19,19,null,"na","na","na","na",null,"na","na","na","na"]
[null,null,{"$f":"'Data input (detailed2)'!C124","v":"Type of waste associated with the product (Typology 1)"},{"$f":"'Data input (detailed2)'!D124","v":"na"},{"$f":"'Data input (detailed2)'!E124","v":0},{"$f":"'Data input (detailed2)'!F124","v":0},{"$f":"'Data input (detailed2)'!G124","v":0},{"$f":"'Data input (detailed2)'!H124","v":0},null,null,null,"TOTAL OPERATIONAL COST","$/year",{"$f":"N45+N58+N70+N92+N102","v":0},{"$f":"O45+O58+O70+O92+O102","v":0},{"$f":"P45+P58+P70+P92+P102","v":0},{"$f":"Q45+Q58+Q70+Q92+Q102","v":0},null,null,null,null,null,null,null,null,null,null,null,null,null,null,null,null,null,null,null,null,null,null,null,null,null,null,null,null,null,null,null,null,null,null,null,null,null,null,null,null,null,null,null,null,null,null,null,null,null,null,null,null,null,null,null,null,null,null,null,null,null,null,null,null,null,null,null,null,null,null,20,20,20,20,null,"na","na","na","na",null,"na","na","na","na",null,null,null,null,null,null,null,null,null,null,null,null,null,null,null,null,null,null,null,null,null,null,null,null,null,null,null,null,null,null,null,null,null,null,null,null,null,null,null,null,null,null,null,null,null,null,null,null,null,20,20,20,20,null,"na","na","na","na",null,"na","na","na","na"]
[null,null,{"$f":"'Data input (detailed2)'!C125","v":"Weight sent to disposal associated with 1 product"},{"$f":"'Data input (detailed2)'!D125","v":"lb"},{"$f":"'Data input (detailed2)'!E125","v":0},{"$f":"'Data input (detailed2)'!F125","v":0},{"$f":"'Data input (detailed2)'!G125","v":0},{"$f":"'Data input (detailed2)'!H125","v":0},null,null,null,null,"$/ year and per product",null,null,null,null,null,null,null,null,null,null,null,null,null,null,null,null,null,null,null,null,null,null,null,null,null,null,null,null,null,null,null,null,null,null,null,null,null,null,null,null,null,null,null,null,null,null,null,null,null,null,null,null,null,null,null,null,null,null,null,null,null,null,null,null,null,null,null,null,null,null,null,null,null,"Disposal","Product A ","Product B","Product C ","Product D","Disposal","Product A ","Product B","Product C ","Product D","Disposal","Product A ","Product B","Product C ","Product D",null,null,null,null,null,null,null,null,null,null,null,null,null,null,null,null,null,null,null,null,null,null,null,null,null,null,null,null,null,null,null,null,null,null,null,null,null,null,null,null,null,null,null,null,null,null,null,null,"Disposal","Product A ","Product B","Product C ","Product D","Disposal","Product A ","Product B","Product C ","Product D","Disposal","Product A ","Product B","Product C ","Product D"]
[null,null,{"$f":"'Data input (detailed2)'!C126","v":"Waste cost associated"},{"$f":"'Data input (detailed2)'!D126","v":"$/lb"},{"$f":"'Data input (detailed2)'!E126","v":0},{"$f":"'Data input (detailed2)'!F126","v":0},{"$f":"'Data input (detailed2)'!G126","v":0},{"$f":"'Data input (detailed2)'!H126","v":0},null,null,null,null,null,null,null,null,null,null,null,null,null,null,null,null,null,null,null,null,null,null,null,null,null,null,null,null,null,null,null,null,null,null,null,null,null,null,null,null,null,null,null,null,null,null,null,null,null,null,null,null,null,null,null,null,null,null,null,null,null,null,null,null,null,null,null,null,null,null,null,null,null,null,null,null,null,null,null,{"$f":"CJ$61*$CH64","v":0},{"$f":"CK$61*$CH64","v":0},0,0,null,{"$f":"CJ$36","v":0},{"$f":"CK$36","v":0},0,0,null,{"$f":"CO106*CJ$59","v":0},{"$f":"CP106*CK$59","v":0},0,0,null,null,null,null,null,null,null,null,null,null,null,null,null,null,null,null,null,null,null,null,null,null,null,null,null,null,null,null,null,null,null,null,null,null,null,null,null,null,null,null,null,null,null,null,null,null,null,null,null,{"$f":"EU$61*$ES64","v":0},{"$f":"EV$61*$ES64","v":0},0,0,null,{"$f":"EU$36","v":0},{"$f":"EV$36","v":0},{"$f":"EW$36","v":0},{"$f":"EX$36","v":0},null,{"$f":"EZ106*EU$59","v":0},{"$f":"FA106*EV$59","v":0},{"$f":"FB106*EW$59","v":0},{"$f":"FC106*EX$59","v":0}]
[null,null,{"$f":"'Data input (detailed2)'!C127","v":"Main product: waste typology B"},null,null,null,null,null,null,null,null,"TOTAL OPERATIONAL COST - ENERGY","$/year",{"$f":"N45+N58+N90","v":0},{"$f":"O45+O58+O90","v":0},{"$f":"P45+P58+P90","v":0},{"$f":"Q45+Q58+Q90","v":0},null,null,null,null,null,null,null,null,null,null,null,null,null,null,null,null,null,null,null,null,null,null,null,null,null,null,null,null,null,null,null,null,null,null,null,null,null,null,null,null,null,null,null,null,null,null,null,null,null,null,null,null,null,null,null,null,null,null,null,null,null,null,null,null,null,null,null,null,null,null,{"$f":"CJ$61*$CH65","v":0},0,0,0,null,{"$f":"CJ$36","v":0},0,0,0,null,{"$f":"CO107*CJ$59","v":0},0,0,0,null,null,null,null,null,null,null,null,null,null,null,null,null,null,null,null,null,null,null,null,null,null,null,null,null,null,null,null,null,null,null,null,null,null,null,null,null,null,null,null,null,null,null,null,null,null,null,null,null,{"$f":"EU$61*$ES65","v":0},0,0,0,null,{"$f":"EU$36","v":0},0,0,0,null,{"$f":"EZ107*EU$59","v":0},0,0,0]
[null,null,{"$f":"'Data input (detailed2)'!C128","v":"Type of waste associated with the product (Typology 2)"},{"$f":"'Data input (detailed2)'!D128","v":"na"},{"$f":"'Data input (detailed2)'!E128","v":0},{"$f":"'Data input (detailed2)'!F128","v":0},{"$f":"'Data input (detailed2)'!G128","v":0},{"$f":"'Data input (detailed2)'!H128","v":0},null,null,null,null,"$/ year and per product",null,null,null,null,null,null,null,null,null,null,null,null,null,null,null,null,null,null,null,null,null,null,null,null,null,null,null,null,null,null,null,null,null,null,null,null,null,null,null,null,null,null,null,null,null,null,null,null,null,null,null,null,null,null,null,null,null,null,null,null,null,null,null,null,null,null,null,null,null,null,null,null,null,null,0,0,0,0,null,0,0,0,0,null,0,0,0,0,null,null,null,null,null,null,null,null,null,null,null,null,null,null,null,null,null,null,null,null,null,null,null,null,null,null,null,null,null,null,null,null,null,null,null,null,null,null,null,null,null,null,null,null,null,null,null,null,null,0,0,0,0,null,0,0,0,0,null,0,0,0,0]
[null,null,{"$f":"'Data input (detailed2)'!C129","v":"Weight sent to disposal associated with 1 product"},{"$f":"'Data input (detailed2)'!D129","v":"lb"},{"$f":"'Data input (detailed2)'!E129","v":0},{"$f":"'Data input (detailed2)'!F129","v":0},{"$f":"'Data input (detailed2)'!G129","v":0},{"$f":"'Data input (detailed2)'!H129","v":0},null,null,null,null,null,null,null,null,null,null,null,null,null,null,null,null,null,null,null,null,null,null,null,null,null,null,null,null,null,null,null,null,null,null,null,null,null,null,null,null,null,null,null,null,null,null,null,null,null,null,null,null,null,null,null,null,null,null,null,null,null,null,null,null,null,null,null,null,null,null,null,null,null,null,null,null,null,null,null,0,0,0,0,null,0,0,0,0,null,0,0,0,0,null,null,null,null,null,null,null,null,null,null,null,null,null,null,null,null,null,null,null,null,null,null,null,null,null,null,null,null,null,null,null,null,null,null,null,null,null,null,null,null,null,null,null,null,null,null,null,null,null,0,0,0,0,null,0,0,0,0,null,0,0,0,0]
[null,null,{"$f":"'Data input (detailed2)'!C130","v":"Waste cost associated"},{"$f":"'Data input (detailed2)'!D130","v":"$/lb"},{"$f":"'Data input (detailed2)'!E130","v":0},{"$f":"'Data input (detailed2)'!F130","v":0},{"$f":"'Data input (detailed2)'!G130","v":0},{"$f":"'Data input (detailed2)'!H130","v":0},null,null,null,"TOTAL OPERATIONAL COST - WATER","$/year",{"$f":"N70+N89","v":0},{"$f":"O70+O89","v":0},{"$f":"P70+P89","v":0},{"$f":"Q70+Q89","v":0},null,null,null,null,null,null,null,null,null,null,null,null,null,null,null,null,null,null,null,null,null,null,null,null,null,null,null,null,null,null,null,null,null,null,null,null,null,null,null,null,null,null,null,null,null,null,null,null,null,null,null,null,null,null,null,null,null,null,null,null,null,null,null,null,null,null,null,null,null,null,0,0,0,0,null,0,0,0,0,null,0,0,0,0,null,null,null,null,null,null,null,null,null,null,null,null,null,null,null,null,null,null,null,null,null,null,null,null,null,null,null,null,null,null,null,null,null,null,null,null,null,null,null,null,null,null,null,null,null,null,null,null,null,0,0,0,0,null,0,0,0,0,null,0,0,0,0]
[null,null,{"$f":"'Data input (detailed2)'!C131","v":"Main product: waste typology C"},null,null,null,null,null,null,null,null,null,"$/ year and per product",null,null,null,null,null,null,null,null,null,null,null,null,null,null,null,null,null,null,null,null,null,null,null,null,null,null,null,null,null,null,null,null,null,null,null,null,null,null,null,null,null,null,null,null,null,null,null,null,null,null,null,null,null,null,null,null,null,null,null,null,null,null,null,null,null,null,null,null,null,null,null,null,null,null,0,0,0,0,null,0,0,0,0,null,0,0,0,0,null,null,null,null,null,null,null,null,null,null,null,null,null,null,null,null,null,null,null,null,null,null,null,null,null,null,null,null,null,null,null,null,null,null,null,null,null,null,null,null,null,null,null,null,null,null,null,null,null,0,0,0,0,null,0,0,0,0,null,0,0,0,0]
[null,null,{"$f":"'Data input (detailed2)'!C132","v":"Type of waste associated with the product (Typology 3)"},{"$f":"'Data input (detailed2)'!D132","v":"na"},{"$f":"'Data input (detailed2)'!E132","v":0},{"$f":"'Data input (detailed2)'!F132","v":0},{"$f":"'Data input (detailed2)'!G132","v":0},{"$f":"'Data input (detailed2)'!H132","v":0},null,null,null,null,null,null,null,null,null,null,null,null,null,null,null,null,null,null,null,null,null,null,null,null,null,null,null,null,null,null,null,null,null,null,null,null,null,null,null,null,null,null,null,null,null,null,null,null,null,null,null,null,null,null,null,null,null,null,null,null,null,null,null,null,null,null,null,null,null,null,null,null,null,null,null,null,null,null,null,0,0,0,0,null,0,0,0,0,null,0,0,0,0,null,null,null,null,null,null,null,null,null,null,null,null,null,null,null,null,null,null,null,null,null,null,null,null,null,null,null,null,null,null,null,null,null,null,null,null,null,null,null,null,null,null,null,null,null,null,null,null,null,0,0,0,0,null,0,0,0,0,null,0,0,0,0]
[null,null,{"$f":"'Data input (detailed2)'!C133","v":"Weight sent to disposal associated with 1 product"},{"$f":"'Data input (detailed2)'!D133","v":"lb"},{"$f":"'Data input (detailed2)'!E133","v":0},{"$f":"'Data input (detailed2)'!F133","v":0},{"$f":"'Data input (detailed2)'!G133","v":0},{"$f":"'Data input (detailed2)'!H133","v":0},null,null,null,"TOTAL OPERATIONAL COST- MAINTENANCE (labor)","$/year",{"$f":"N101+N91","v":0},{"$f":"O101+O91","v":0},0,0,null,null,null,null,null,null,null,null,null,null,null,null,null,null,null,null,null,null,null,null,null,null,null,null,null,null,null,null,null,null,null,null,null,null,null,null,null,null,null,null,null,null,null,null,null,null,null,null,null,null,null,null,null,null,null,null,null,null,null,null,null,null,null,null,null,null,null,null,null,null,0,0,0,0,null,0,0,0,0,null,0,0,0,0,null,null,null,null,null,null,null,null,null,null,null,null,null,null,null,null,null,null,null,null,null,null,null,null,null,null,null,null,null,null,null,null,null,null,null,null,null,null,null,null,null,null,null,null,null,null,null,null,null,0,0,0,0,null,0,0,0,0,null,0,0,0,0]
[null,null,{"$f":"'Data input (detailed2)'!C134","v":"Waste cost associated"},{"$f":"'Data input (detailed2)'!D134","v":"$/lb"},{"$f":"'Data input (detailed2)'!E134","v":0},{"$f":"'Data input (detailed2)'!F134","v":0},{"$f":"'Data input (detailed2)'!G134","v":0},{"$f":"'Data input (detailed2)'!H134","v":0},null,null,null,null,"$/ year and per product",null,null,null,null,null,null,null,null,null,null,null,null,null,null,null,null,null,null,null,null,null,null,null,null,null,null,null,null,null,null,null,null,null,null,null,null,null,null,null,null,null,null,null,null,null,null,null,null,null,null,null,null,null,null,null,null,null,null,null,null,null,null,null,null,null,null,null,null,null,null,null,null,null,null,0,0,0,0,null,0,0,0,0,null,0,0,0,0,null,null,null,null,null,null,null,null,null,null,null,null,null,null,null,null,null,null,null,null,null,null,null,null,null,null,null,null,null,null,null,null,null,null,null,null,null,null,null,null,null,null,null,null,null,null,null,null,null,0,0,0,0,null,0,0,0,0,null,0,0,0,0]
[null,null,{"$f":"'Data input (detailed2)'!C135","v":"Other disposal costs (waste storage, waste packaging and waste transportation costs)"},{"$f":"'Data input (detailed2)'!D135","v":"$"},{"$f":"'Data input (detailed2)'!E135","v":0},{"$f":"'Data input (detailed2)'!F135","v":0},{"$f":"'Data input (detailed2)'!G135","v":0},{"$f":"'Data input (detailed2)'!H135","v":0},null,null,null,null,null,null,null,null,null,null,null,null,null,null,null,null,null,null,null,null,null,null,null,null,null,null,null,null,null,null,null,null,null,null,null,null,null,null,null,null,null,null,null,null,null,null,null,null,null,null,null,null,null,null,null,null,null,null,null,null,null,null,null,null,null,null,null,null,null,null,null,null,null,null,null,null,null,null,null,0,0,0,0,null,0,0,0,0,null,0,0,0,0,null,null,null,null,null,null,null,null,null,null,null,null,null,null,null,null,null,null,null,null,null,null,null,null,null,null,null,null,null,null,null,null,null,null,null,null,null,null,null,null,null,null,null,null,null,null,null,null,null,0,0,0,0,null,0,0,0,0,null,0,0,0,0]
[null,null,null,null,null,null,null,null,null,null,null,"TOTAL OPERATIONAL COST - OTHER ","$/year",{"$f":"N104-N107-N110-N113","v":0},{"$f":"O104-O107-O110-O113","v":0},{"$f":"P104-P107-P110-P113","v":0},{"$f":"Q104-Q107-Q110-Q113","v":0},null,null,null,null,null,null,null,null,null,null,null,null,null,null,null,null,null,null,null,null,null,null,null,null,null,null,null,null,null,null,null,null,null,null,null,null,null,null,null,null,null,null,null,null,null,null,null,null,null,null,null,null,null,null,null,null,null,null,null,null,null,null,null,null,null,null,null,null,null,null,0,0,0,0,null,0,0,0,0,null,0,0,0,0,null,null,null,null,null,null,null,null,null,null,null,null,null,null,null,null,null,null,null,null,null,null,null,null,null,null,null,null,null,null,null,null,null,null,null,null,null,null,null,null,null,null,null,null,null,null,null,null,null,0,0,0,0,null,0,0,0,0,null,0,0,0,0]
[null,null,null,null,null,null,null,null,null,null,null,null,"$/ year and per product",null,null,null,null,null,null,null,null,null,null,null,null,null,null,null,null,null,null,null,null,null,null,null,null,null,null,null,null,null,null,null,null,null,null,null,null,null,null,null,null,null,null,null,null,null,null,null,null,null,null,null,null,null,null,null,null,null,null,null,null,null,null,null,null,null,null,null,null,null,null,null,null,null,null,0,0,0,0,null,0,0,0,0,null,0,0,0,0,null,null,null,null,null,null,null,null,null,null,null,null,null,null,null,null,null,null,null,null,null,null,null,null,null,null,null,null,null,null,null,null,null,null,null,null,null,null,null,null,null,null,null,null,null,null,null,null,null,0,0,0,0,null,0,0,0,0,null,0,0,0,0]
[null,null,null,null,null,null,null,null,null,null,null,"DISPOSAL COSTS",null,null,null,null,null,null,null,null,null,null,null,null,null,null,null,null,null,null,null,null,null,null,null,null,null,null,null,null,null,null,null,null,null,null,null,null,null,null,null,null,null,null,null,null,null,null,null,null,null,null,null,null,null,null,null,null,null,null,null,null,null,null,null,null,null,null,null,null,null,null,null,null,null,null,null,0,0,0,0,null,0,0,0,0,null,0,0,0,0,null,null,null,null,null,null,null,null,null,null,null,null,null,null,null,null,null,null,null,null,null,null,null,null,null,null,null,null,null,null,null,null,null,null,null,null,null,null,null,null,null,null,null,null,null,null,null,null,null,0,0,0,0,null,0,0,0,0,null,0,0,0,0]
[null,null,null,null,null,null,null,null,null,null,null,null,null,null,null,null,null,null,null,null,null,null,null,null,null,null,null,null,null,null,null,null,null,null,null,null,null,null,null,null,null,null,null,null,null,null,null,null,null,null,null,null,null,null,null,null,null,null,null,null,null,null,null,null,null,null,null,null,null,null,null,null,null,null,null,null,null,null,null,null,null,null,null,null,null,null,null,0,0,0,0,null,0,0,0,0,null,0,0,0,0,null,null,null,null,null,null,null,null,null,null,null,null,null,null,null,null,null,null,null,null,null,null,null,null,null,null,null,null,null,null,null,null,null,null,null,null,null,null,null,null,null,null,null,null,null,null,null,null,null,0,0,0,0,null,0,0,0,0,null,0,0,0,0]
[null,null,null,null,null,null,null,null,null,null,null,{"$f":"C102","v":"Description"},"Unit","Product A ","Product B","Product C ","Product D",null,null,null,null,null,null,null,null,null,null,null,null,null,null,null,null,null,null,null,null,null,null,null,null,null,null,null,null,null,null,null,null,null,null,null,null,null,null,null,null,null,null,null,null,null,null,null,null,null,null,null,null,null,null,null,null,null,null,null,null,null,null,null,null,null,null,null,null,null,null,0,0,0,0,null,0,0,0,0,null,0,0,0,0,null,null,null,null,null,null,null,null,null,null,null,null,null,null,null,null,null,null,null,null,null,null,null,null,null,null,null,null,null,null,null,null,null,null,null,null,null,null,null,null,null,null,null,null,null,null,null,null,null,0,0,0,0,null,0,0,0,0,null,0,0,0,0]
[null,null,null,null,null,null,null,null,null,null,null,{"$f":"C103","v":"Main product: waste typology A"},null,null,null,null,null,null,null,null,null,null,null,null,null,null,null,null,null,null,null,null,null,null,null,null,null,null,null,null,null,null,null,null,null,null,null,null,null,null,null,null,null,null,null,null,null,null,null,null,null,null,null,null,null,null,null,null,null,null,null,null,null,null,null,null,null,null,null,null,null,null,null,null,null,null,null,0,0,0,0,null,0,0,0,0,null,0,0,0,0,null,null,null,null,null,null,null,null,null,null,null,null,null,null,null,null,null,null,null,null,null,null,null,null,null,null,null,null,null,null,null,null,null,null,null,null,null,null,null,null,null,null,null,null,null,null,null,null,null,0,0,0,0,null,0,0,0,0,null,0,0,0,0]
[null,null,null,null,null,null,null,null,null,null,null,{"$f":"C104","v":"Type of waste associated with the product (Typology 1)"},{"$f":"D104","v":"na"},{"$f":"E104","v":0},{"$f":"F104","v":0},{"$f":"G104","v":0},{"$f":"H104","v":0},null,null,null,null,null,null,null,null,null,null,null,null,null,null,null,null,null,null,null,null,null,null,null,null,null,null,null,null,null,null,null,null,null,null,null,null,null,null,null,null,null,null,null,null,null,null,null,null,null,null,null,null,null,null,null,null,null,null,null,null,null,null,null,null,null,null,null,null,null,null,0,0,0,0,null,0,{"$f":"CK$36","v":0},{"$f":"CL$36","v":0},{"$f":"CM$36","v":0},null,0,{"$f":"CP122*CK$59","v":0},{"$f":"CQ122*CL$59","v":0},{"$f":"CR122*CM$59","v":0},null,null,null,null,null,null,null,null,null,null,null,null,null,null,null,null,null,null,null,null,null,null,null,null,null,null,null,null,null,null,null,null,null,null,null,null,null,null,null,null,null,null,null,null,null,null,null,null,null,0,0,0,0,null,0,0,0,0,null,0,0,0,0]
[null,null,null,null,null,null,null,null,null,null,null,"Weight sent to disposal associated with 1 product","lb",0,0,0,0,null,null,null,null,null,null,null,null,null,null,null,null,null,null,null,null,null,null,null,null,null,null,null,null,null,null,null,null,null,null,null,null,null,null,null,null,null,null,null,null,null,null,null,null,null,null,null,null,null,null,null,null,null,null,null,null,null,null,null,null,null,null,null,null,null,null,null,null,null,null,0,0,0,0,null,0,0,0,0,null,0,0,0,0,null,null,null,null,null,null,null,null,null,null,null,null,null,null,null,null,null,null,null,null,null,null,null,null,null,null,null,null,null,null,null,null,null,null,null,null,null,null,null,null,null,null,null,null,null,null,null,null,null,0,0,0,0,null,0,0,0,0,null,0,0,0,0]
[null,null,null,null,null,null,null,null,null,null,null,"Waste cost associated","$/lb",0,0,0,0,null,null,null,null,null,null,null,null,null,null,null,null,null,null,null,null,null,null,null,null,null,null,null,null,null,null,null,null,null,null,null,null,null,null,null,null,null,null,null,null,null,null,null,null,null,null,null,null,null,null,null,null,null,null,null,null,null,null,null,null,null,null,null,null,null,null,null,null,null,null,0,0,0,0,null,0,0,0,0,null,0,0,0,0,null,null,null,null,null,null,null,null,null,null,null,null,null,null,null,null,null,null,null,null,null,null,null,null,null,null,null,null,null,null,null,null,null,null,null,null,null,null,null,null,null,null,null,null,null,null,null,null,null,0,0,0,0,null,0,0,0,0,null,0,0,0,0]
[null,null,null,null,null,null,null,null,null,null,null,"Main product: waste typology B",null,null,null,null,null,null,null,null,null,null,null,null,null,null,null,null,null,null,null,null,null,null,null,null,null,null,null,null,null,null,null,null,null,null,null,null,null,null,null,null,null,null,null,null,null,null,null,null,null,null,null,null,null,null,null,null,null,null,null,null,null,null,null,null,null,null,null,null,null,null,null,null,null,null,null,0,0,0,0,null,0,0,0,0,null,0,0,0,0,null,null,null,null,null,null,null,null,null,null,null,null,null,null,null,null,null,null,null,null,null,null,null,null,null,null,null,null,null,null,null,null,null,null,null,null,null,null,null,null,null,null,null,null,null,null,null,null,null,0,0,0,0,null,0,0,0,0,null,0,0,0,0]
[null,null,null,null,null,null,null,null,null,null,null,"Type of waste associated with the product (Typology 2)","na",0,0,0,0]
[null,null,null,null,null,null,null,null,null,null,null,"Weight sent to disposal associated with 1 product","lb",0,0,0,0]
[null,null,null,null,null,null,null,null,null,null,null,"Waste cost associated","$/lb",0,0,0,0]
[null,null,null,null,null,null,null,null,null,null,null,"Main product: waste typology C"]
[null,null,null,null,null,null,null,null,null,null,null,"Type of waste associated with the product (Typology 3)","na",0,0,0,0,null,null,null,null,null,null,null,null,null,null,null,null,null,null,null,null,null,null,null,null,null,null,null,null,null,null,null,null,null,null,null,null,null,null,null,null,null,null,null,null,null,null,null,null,null,null,null,null,null,null,null,null,null,null,null,null,null,null,null,null,null,null,null,null,null,null,null,null,null,"RESULTS - Supplemental part 1",null,null,null,null,null,null,null,null,null,null,null,null,null,null,null,null,null,null,null,null,null,null,null,"RESULTS- product + supplemental parts 1 and 2",null,null,null,null,null,null,null,null,null,null,null,null,null,null,null,null,null,null,null,null,null,null,null,null,null,null,null,null,null,null,null,null,null,null,null,null,null,null,"RESULTS - Supplemental part 2"]
[null,null,null,null,null,null,null,null,null,null,null,"Weight sent to disposal associated with 1 product","lb",0,0,0,0]
[null,null,null,null,null,null,null,null,null,null,null,"Waste cost associated","$/lb",0,0,0,0]
[null,null,null,null,null,null,null,null,null,null,null,"Other disposal costs (waste storage, waste packaging and waste transportation costs)","$",0,0,0,0,null,null,null,null,null,null,null,null,null,null,null,null,null,null,null,null,null,null,null,null,null,null,null,null,null,null,null,null,null,null,null,null,null,null,null,null,null,null,null,null,null,null,null,null,null,null,null,null,null,null,null,null,null,null,null,null,null,null,null,null,null,null,null,null,null,null,null,null,null,"Results overall",null,null,null,null,null,null,null,null,null,null,null,null,null,null,null,null,null,null,null,null,null,null,null,null,null,null,null,null,null,null,null,null,null,null,null,null,null,null,null,null,null,null,null,null,null,null,null,null,null,null,null,null,null,null,null,null,null,null,null,null,null,null,"Results overall"]
[null,null,null,null,null,null,null,null,null,null,null,"Main product: waste typology A","$",{"$f":"IFERROR(IF(N122=\"Universal waste (revenue)\",-N123*N124,N123*N124),0)","v":0},{"$f":"IFERROR(IF(O122=\"Universal waste (revenue)\",-O123*O124,O123*O124),0)","v":0},0,0]
[null,null,null,null,null,null,null,null,null,null,null,"Main product: waste typology  B","$",{"$f":"IFERROR(IF(N126=\"Universal waste (revenue)\",-N127*N128,N127*N128),0)","v":0},{"$f":"IFERROR(IF(O126=\"Universal waste (revenue)\",-O127*O128,O127*O128),0)","v":0},0,0,null,null,null,null,null,null,null,null,null,null,null,null,null,null,null,null,null,null,null,null,null,null,null,null,null,null,null,null,null,null,null,null,null,null,null,null,null,null,null,null,null,null,null,null,null,null,null,null,null,null,null,null,null,null,null,null,null,null,null,null,null,null,null,null,null,null,null,null,null,null,null,null,null,null,null,null,null,null,null,null,null,null,null,null,null,null,null,null,null,null,null,null,null,null,null,"(Acquis.)","(Disposal)",null,"(Acquis.)","(Disposal)",null,"(Acquis.)","(Disposal)",null,"(Acquis.)","(Disposal)"]
[null,null,null,null,null,null,null,null,null,null,null,"Main product: waste typology C","$",{"$f":"IFERROR(IF(N130=\"Universal waste (revenue)\",-N131*N132,N131*N132),0)","v":0},{"$f":"IFERROR(IF(O130=\"Universal waste (revenue)\",-O131*O132,O131*O132),0)","v":0},0,0,null,null,null,null,null,null,null,null,null,null,null,null,null,null,null,null,null,null,null,null,null,null,null,null,null,null,null,null,null,null,null,null,null,null,null,null,null,null,null,null,null,null,null,null,null,null,null,null,null,null,null,null,null,null,null,null,null,null,null,null,null,null,null,null,null,null,null,null,null,"Value (not adjusted)",null,null,null,null,null,null,null,null,null,null,null,null,null,null,null,null,null,null,null,null,null,null,null,"Value (not adjusted)",null,"Suppl. parts","Suppl. parts",null,"Suppl. parts","Suppl. parts",null,"Suppl. parts","Suppl. parts",null,"Suppl. parts","Suppl. parts",null,null,null,null,null,null,null,null,null,null,null,null,null,null,null,null,null,null,null,null,null,null,null,null,null,null,"Value (not adjusted)"]
[null,null,null,null,null,null,null,null,null,null,null,"Waste disposal cost (typology A,B,C)","$",{"$f":"SUM(N134:N136)","v":0},{"$f":"SUM(O134:O136)","v":0},{"$f":"SUM(P134:P136)","v":0},{"$f":"SUM(Q134:Q136)","v":0},null,null,null,null,null,null,null,null,null,null,null,null,null,null,null,null,null,null,null,null,null,null,null,null,null,null,null,null,null,null,null,null,null,null,null,null,null,null,null,null,null,null,null,null,null,null,null,null,null,null,null,null,null,null,null,null,null,null,null,null,null,null,null,null,null,null,null,null,"Year adapted by the user",null,"Product A ",null,null,"Product B",null,null,"Product C",null,null,"Product D ",null,null,null,null,null,null,null,null,null,null,null,null,"Year adapted by the user",null,"Product A ",null,null,"Product B",null,null,"Product C",null,null,"Product D ",null,null,null,null,null,null,null,null,null,null,null,null,null,null,null,null,null,null,null,null,null,null,null,null,null,null,null,"Year adapted by the user",null,"Product A ",null,null,"Product B",null,null,"Product C",null,null,"Product D "]
[null,null,null,null,null,null,null,null,null,null,null,"Other cost","$",{"$f":"N133","v":0},{"$f":"O133","v":0},0,0,null,null,null,null,null,null,null,null,null,null,null,null,null,null,null,null,null,null,null,null,null,null,null,null,null,null,null,null,null,null,null,null,null,null,null,null,null,null,null,null,null,null,null,null,null,null,null,null,null,null,null,null,null,null,null,null,null,null,null,null,null,null,null,null,null,null,null,null,null,"Year ","Acquisition","Operational","Disposal","Acquisition","Operational","Disposal","Acquisition","Operational","Disposal","Acquisition","Operational","Disposal",null,null,null,null,null,null,null,null,null,null,null,"Year ","Acquisition","Operational","Disposal","Acquisition","Operational","Disposal","Acquisition","Operational","Disposal","Acquisition","Operational","Disposal",null,null,null,null,null,null,null,null,null,null,null,null,null,null,null,null,null,null,null,null,null,null,null,null,null,null,"Year ","Acquisition","Operational","Disposal","Acquisition","Operational","Disposal","Acquisition","Operational","Disposal","Acquisition","Operational","Disposal"]
[null,null,null,null,null,null,null,null,null,null,null,"TOTAL DISPOSAL COST","$",{"$f":"N137+N138","v":0},{"$f":"O137+O138","v":0},{"$f":"P137+P138","v":0},{"$f":"Q137+Q138","v":0},null,null,null,null,null,null,null,null,null,null,null,null,null,null,null,null,null,null,null,null,null,null,null,null,null,null,null,null,null,null,null,null,null,null,null,null,null,null,null,null,null,null,null,null,null,null,null,null,null,null,null,null,null,null,null,null,null,null,null,null,null,null,null,null,null,null,null,null,{"$f":"IF(OR(CI139<$CJ$41,CI139=$CJ$41),CH138+1,\"na\")","v":1},1,{"$f":"IFERROR(VLOOKUP(CH139,$CJ$64:$CT$83,11,FALSE),0)","v":0},"na",{"$f":"IFERROR(VLOOKUP(CH139,$CJ$106:$CT$125,11,FALSE),0)","v":0},{"$f":"IFERROR(VLOOKUP(CH139,$CK$64:$CU$83,11,FALSE),0)","v":0},"na",{"$f":"IFERROR(VLOOKUP(CH139,$CK$106:$CU$125,11,FALSE),0)","v":0},{"$f":"IFERROR(VLOOKUP(CH139,$CL$64:$CV$83,11,FALSE),0)","v":0},"na",{"$f":"IFERROR(VLOOKUP(CH139,$CL$106:$CV$125,11,FALSE),0)","v":0},{"$f":"IFERROR(VLOOKUP(CH139,$CM$64:$CW$83,11,FALSE),0)","v":0},"na",{"$f":"IFERROR(VLOOKUP(CH139,$CM$106:$CW$125,11,FALSE),0)","v":0},null,null,null,null,null,null,null,null,null,null,{"$f":"IF(OR(DG139<$N$145,DG139=$N$145),DF138+1,\"na\")","v":1},1,{"$f":"N243","v":0},{"$f":"O243+CJ139+EU139","v":0},{"$f":"P243+CL139+EW139","v":0},{"$f":"Q243","v":0},{"$f":"R243+CM139+EX139","v":0},{"$f":"S243+CO139+EZ139","v":0},{"$f":"T243","v":0},{"$f":"U243+CP139+FA139","v":0},{"$f":"V243+CR139+FC139","v":0},{"$f":"W243","v":0},{"$f":"X243+CS139+FD139","v":0},{"$f":"Y243+CU139+FF139","v":0},null,null,null,null,null,null,null,null,null,null,null,null,null,null,null,null,null,null,null,null,null,null,null,null,null,{"$f":"IF(OR(ET139<$EU$41,ET139=$EU$41),ES138+1,\"na\")","v":1},1,{"$f":"IFERROR(VLOOKUP(ES139,$EU$64:$FE$83,11,FALSE),0)","v":0},"na",{"$f":"IFERROR(VLOOKUP(ES139,$EU$106:$FE$125,11,FALSE),0)","v":0},{"$f":"IFERROR(VLOOKUP(ES139,$EV$64:$FF$83,11,FALSE),0)","v":0},"na",{"$f":"IFERROR(VLOOKUP(ES139,$EV$106:$FF$125,11,FALSE),0)","v":0},{"$f":"IFERROR(VLOOKUP(ES139,$EW$64:$FG$83,11,FALSE),0)","v":0},"na",{"$f":"IFERROR(VLOOKUP(ES139,$EW$106:$FG$125,11,FALSE),0)","v":0},{"$f":"IFERROR(VLOOKUP(ES139,$EX$64:$FH$83,11,FALSE),0)","v":0},"na",{"$f":"IFERROR(VLOOKUP(ES139,$EX$106:$FH$125,11,FALSE),0)","v":0}]
[null,null,null,null,null,null,null,null,null,null,null,null,"$ per  product",null,null,null,null,null,null,null,null,null,null,null,null,null,null,null,null,null,null,null,null,null,null,null,null,null,null,null,null,null,null,null,null,null,null,null,null,null,null,null,null,null,null,null,null,null,null,null,null,null,null,null,null,null,null,null,null,null,null,null,null,null,null,null,null,null,null,null,null,null,null,null,null,{"$f":"IF(OR(CI140<$CJ$41,CI140=$CJ$41),CH139+1,\"na\")","v":2},2,0,"na",0,0,"na",0,0,"na",0,0,"na",0,null,null,null,null,null,null,null,null,null,null,2,2,0,{"$f":"O244+CJ140+EU140","v":0},{"$f":"P244+CL140+EW140","v":0},0,{"$f":"R244+CM140+EX140","v":0},{"$f":"S244+CO140+EZ140","v":0},0,{"$f":"U244+CP140+FA140","v":0},{"$f":"V244+CR140+FC140","v":0},0,{"$f":"X244+CS140+FD140","v":0},{"$f":"Y244+CU140+FF140","v":0},null,null,null,null,null,null,null,null,null,null,null,null,null,null,null,null,null,null,null,null,null,null,null,null,null,{"$f":"IF(OR(ET140<$EU$41,ET140=$EU$41),ES139+1,\"na\")","v":2},2,{"$f":"IFERROR(VLOOKUP(ES140,$EU$64:$FE$83,11,FALSE),0)","v":0},"na",{"$f":"IFERROR(VLOOKUP(ES140,$EU$106:$FE$125,11,FALSE),0)","v":0},{"$f":"IFERROR(VLOOKUP(ES140,$EV$64:$FF$83,11,FALSE),0)","v":0},"na",{"$f":"IFERROR(VLOOKUP(ES140,$EV$106:$FF$125,11,FALSE),0)","v":0},{"$f":"IFERROR(VLOOKUP(ES140,$EW$64:$FG$83,11,FALSE),0)","v":0},"na",{"$f":"IFERROR(VLOOKUP(ES140,$EW$106:$FG$125,11,FALSE),0)","v":0},{"$f":"IFERROR(VLOOKUP(ES140,$EX$64:$FH$83,11,FALSE),0)","v":0},"na",{"$f":"IFERROR(VLOOKUP(ES140,$EX$106:$FH$125,11,FALSE),0)","v":0}]
[null,null,null,null,null,null,null,null,null,null,null,null,null,null,null,null,null,null,null,null,null,null,null,null,null,null,null,null,null,null,null,null,null,null,null,null,null,null,null,null,null,null,null,null,null,null,null,null,null,null,null,null,null,null,null,null,null,null,null,null,null,null,null,null,null,null,null,null,null,null,null,null,null,null,null,null,null,null,null,null,null,null,null,null,null,3,3,0,"na",0,0,"na",0,0,"na",0,0,"na",0,null,null,null,null,null,null,null,null,null,null,3,3,0,0,0,0,0,0,0,0,0,0,0,0,null,null,null,null,null,null,null,null,null,null,null,null,null,null,null,null,null,null,null,null,null,null,null,null,null,3,3,0,"na",0,0,"na",0,0,"na",0,0,"na",0]
[null,null,null,null,null,null,null,null,null,null,null,null,null,null,null,null,null,null,null,null,null,null,null,null,null,null,null,null,null,null,null,null,null,null,null,null,null,null,null,null,null,null,null,null,null,null,null,null,null,null,null,null,null,null,null,null,null,null,null,null,null,null,null,null,null,null,null,null,null,null,null,null,null,null,null,null,null,null,null,null,null,null,null,null,null,4,4,0,"na",0,0,"na",0,0,"na",0,0,"na",0,null,null,null,null,null,null,null,null,null,null,4,4,0,0,0,0,0,0,0,0,0,0,0,0,null,null,null,null,null,null,null,null,null,null,null,null,null,null,null,null,null,null,null,null,null,null,null,null,null,4,4,0,"na",0,0,"na",0,0,"na",0,0,"na",0]
[null,null,null,null,null,null,null,null,null,null,null,"PARAMETERS",null,null,null,null,null,null,null,null,null,null,null,null,null,null,null,null,null,null,null,null,null,null,null,null,null,null,null,null,null,null,null,null,null,null,null,null,null,null,null,null,null,null,null,null,null,null,null,null,null,null,null,null,null,null,null,null,null,null,null,null,null,null,null,null,null,null,null,null,null,null,null,null,null,5,5,0,"na",0,0,"na",0,0,"na",0,0,"na",0,null,null,null,null,null,null,null,null,null,null,5,5,0,0,0,0,0,0,0,0,0,0,0,0,null,null,null,null,null,null,null,null,null,null,null,null,null,null,null,null,null,null,null,null,null,null,null,null,null,5,5,0,"na",0,0,"na",0,0,"na",0,0,"na",0]
[null,null,null,null,null,null,null,null,null,null,null,{"$f":"L7","v":"Discount rate"},"%",3,null,null,null,null,null,null,null,null,null,null,null,null,null,null,null,null,null,null,null,null,null,null,null,null,null,null,null,null,null,null,null,null,null,null,null,null,null,null,null,null,null,null,null,null,null,null,null,null,null,null,null,null,null,null,null,null,null,null,null,null,null,null,null,null,null,null,null,null,null,null,null,6,6,0,"na",0,0,"na",0,0,"na",0,0,"na",0,null,null,null,null,null,null,null,null,null,null,6,6,0,0,0,0,0,0,0,0,0,0,0,0,null,null,null,null,null,null,null,null,null,null,null,null,null,null,null,null,null,null,null,null,null,null,null,null,null,6,6,0,"na",0,0,"na",0,0,"na",0,0,"na",0]
[null,null,null,null,null,null,null,null,null,null,null,"Investment horizon","year","Not applicable",null,null,null,null,null,null,null,null,null,null,null,null,null,null,null,null,null,null,null,null,null,null,null,null,null,null,null,null,null,null,null,null,null,null,null,null,null,null,null,null,null,null,null,null,null,null,null,null,null,null,null,null,null,null,null,null,null,null,null,null,null,null,null,null,null,null,null,null,null,null,null,7,7,0,"na",0,0,"na",0,0,"na",0,0,"na",0,null,null,null,null,null,null,null,null,null,null,7,7,0,0,0,0,0,0,0,0,0,0,0,0,null,null,null,null,null,null,null,null,null,null,null,null,null,null,null,null,null,null,null,null,null,null,null,null,null,7,7,0,"na",0,0,"na",0,0,"na",0,0,"na",0]
[null,null,null,null,null,null,null,null,null,null,null,null,null,null,null,null,null,null,null,null,null,null,null,null,null,null,null,null,null,null,null,null,null,null,null,null,null,null,null,null,null,null,null,null,null,null,null,null,null,null,null,null,null,null,null,null,null,null,null,null,null,null,null,null,null,null,null,null,null,null,null,null,null,null,null,null,null,null,null,null,null,null,null,null,null,8,8,0,"na",0,0,"na",0,0,"na",0,0,"na",0,null,null,null,null,null,null,null,null,null,null,8,8,0,0,0,0,0,0,0,0,0,0,0,0,null,null,null,null,null,null,null,null,null,null,null,null,null,null,null,null,null,null,null,null,null,null,null,null,null,8,8,0,"na",0,0,"na",0,0,"na",0,0,"na",0]
[null,null,null,null,null,null,null,null,null,null,null,"Description","Unit","Product A ","Product B","Product C ","Product D",null,null,null,null,null,null,null,null,null,null,null,null,null,null,null,null,null,null,null,null,null,null,null,null,null,null,null,null,null,null,null,null,null,null,null,null,null,null,null,null,null,null,null,null,null,null,null,null,null,null,null,null,null,null,null,null,null,null,null,null,null,null,null,null,null,null,null,null,9,9,0,"na",0,0,"na",0,0,"na",0,0,"na",0,null,null,null,null,null,null,null,null,null,null,9,9,0,0,0,0,0,0,0,0,0,0,0,0,null,null,null,null,null,null,null,null,null,null,null,null,null,null,null,null,null,null,null,null,null,null,null,null,null,9,9,0,"na",0,0,"na",0,0,"na",0,0,"na",0]
[null,null,null,null,null,null,null,null,null,null,null,{"$f":"L17","v":"Is the product a consumable?"},{"$f":"M17","v":"Yes/No "},0,0,0,0,null,null,null,null,null,null,null,null,null,null,null,null,null,null,null,null,null,null,null,null,null,null,null,null,null,null,null,null,null,null,null,null,null,null,null,null,null,null,null,null,null,null,null,null,null,null,null,null,null,null,null,null,null,null,null,null,null,null,null,null,null,null,null,null,null,null,null,null,10,10,0,"na",0,0,"na",0,0,"na",0,0,"na",0,null,null,null,null,null,null,null,null,null,null,10,10,0,0,0,0,0,0,0,0,0,0,0,0,null,null,null,null,null,null,null,null,null,null,null,null,null,null,null,null,null,null,null,null,null,null,null,null,null,10,10,0,"na",0,0,"na",0,0,"na",0,0,"na",0]
[null,null,null,null,null,null,null,null,null,null,null,{"$f":"L18","v":"Option 1. If product is a consumable"},null,null,null,null,null,null,null,null,null,null,null,null,null,null,null,null,null,null,null,null,null,null,null,null,null,null,null,null,null,null,null,null,null,null,null,null,null,null,null,null,null,null,null,null,null,null,null,null,null,null,null,null,null,null,null,null,null,null,null,null,null,null,null,null,null,null,null,null,null,null,null,null,null,11,11,0,"na",0,0,"na",0,0,"na",0,0,"na",0,null,null,null,null,null,null,null,null,null,null,11,11,0,0,0,0,0,0,0,0,0,0,0,0,null,null,null,null,null,null,null,null,null,null,null,null,null,null,null,null,null,null,null,null,null,null,null,null,null,11,11,0,"na",0,0,"na",0,0,"na",0,0,"na",0]
[null,null,null,null,null,null,null,null,null,null,null,"Number of times the product can be used","# uses",0,0,0,0,null,null,null,null,null,null,null,null,null,null,null,null,null,null,null,null,null,null,null,null,null,null,null,null,null,null,null,null,null,null,null,null,null,null,null,null,null,null,null,null,null,null,null,null,null,null,null,null,null,null,null,null,null,null,null,null,null,null,null,null,null,null,null,null,null,null,null,null,12,12,0,"na",0,0,"na",0,0,"na",0,0,"na",0,null,null,null,null,null,null,null,null,null,null,12,12,0,0,0,0,0,0,0,0,0,0,0,0,null,null,null,null,null,null,null,null,null,null,null,null,null,null,null,null,null,null,null,null,null,null,null,null,null,12,12,0,"na",0,0,"na",0,0,"na",0,0,"na",0]
[null,null,null,null,null,null,null,null,null,null,null,"Number of times this type of product is expected to be used per year","# uses/ year",0,0,0,0,null,null,null,null,null,null,null,null,null,null,null,null,null,null,null,null,null,null,null,null,null,null,null,null,null,null,null,null,null,null,null,null,null,null,null,null,null,null,null,null,null,null,null,null,null,null,null,null,null,null,null,null,null,null,null,null,null,null,null,null,null,null,null,null,null,null,null,null,13,13,0,"na",0,0,"na",0,0,"na",0,0,"na",0,null,null,null,null,null,null,null,null,null,null,13,13,0,0,0,0,0,0,0,0,0,0,0,0,null,null,null,null,null,null,null,null,null,null,null,null,null,null,null,null,null,null,null,null,null,null,null,null,null,13,13,0,"na",0,0,"na",0,0,"na",0,0,"na",0]
[null,null,null,null,null,null,null,null,null,null,null,"Option 2. If product is not a consumable",null,null,null,null,null,null,null,null,null,null,null,null,null,null,null,null,null,null,null,null,null,null,null,null,null,null,null,null,null,null,null,null,null,null,null,null,null,null,null,null,null,null,null,null,null,null,null,null,null,null,null,null,null,null,null,null,null,null,null,null,null,null,null,null,null,null,null,null,null,null,null,null,null,14,14,0,"na",0,0,"na",0,0,"na",0,0,"na",0,null,null,null,null,null,null,null,null,null,null,14,14,0,0,0,0,0,0,0,0,0,0,0,0,null,null,null,null,null,null,null,null,null,null,null,null,null,null,null,null,null,null,null,null,null,null,null,null,null,14,14,0,"na",0,0,"na",0,0,"na",0,0,"na",0]
[null,null,null,null,null,null,null,null,null,null,null,"Expected product lifespan","year",0,0,0,0,null,"minimum it will be 1",null,null,null,null,null,null,null,null,null,null,null,null,null,null,null,null,null,null,null,null,null,null,null,null,null,null,null,null,null,null,null,null,null,null,null,null,null,null,null,null,null,null,null,null,null,null,null,null,null,null,null,null,null,null,null,null,null,null,null,null,null,null,null,null,null,null,15,15,0,"na",0,0,"na",0,0,"na",0,0,"na",0,null,null,null,null,null,null,null,null,null,null,15,15,0,0,0,0,0,0,0,0,0,0,0,0,null,null,null,null,null,null,null,null,null,null,null,null,null,null,null,null,null,null,null,null,null,null,null,null,null,15,15,0,"na",0,0,"na",0,0,"na",0,0,"na",0]
[null,null,null,null,null,null,null,null,null,null,null,null,null,null,null,null,null,null,null,null,null,null,null,null,null,null,null,null,null,null,null,null,null,null,null,null,null,null,null,null,null,null,null,null,null,null,null,null,null,null,null,null,null,null,null,null,null,null,null,null,null,null,null,null,null,null,null,null,null,null,null,null,null,null,null,null,null,null,null,null,null,null,null,null,null,16,16,0,"na",0,0,"na",0,0,"na",0,0,"na",0,null,null,null,null,null,null,null,null,null,null,16,16,0,0,0,0,0,0,0,0,0,0,0,0,null,null,null,null,null,null,null,null,null,null,null,null,null,null,null,null,null,null,null,null,null,null,null,null,null,16,16,0,"na",0,0,"na",0,0,"na",0,0,"na",0]
[null,null,null,null,null,null,null,null,null,null,null,"Product per year if consumable","product/year",{"$f":"IFERROR(N151/N150,0)","v":0},{"$f":"IFERROR(O151/O150,0)","v":0},{"$f":"IFERROR(P151/P150,0)","v":0},{"$f":"IFERROR(Q151/Q150,0)","v":0},null,null,null,null,null,null,null,null,null,null,null,null,null,null,null,null,null,null,null,null,null,null,null,null,null,null,null,null,null,null,null,null,null,null,null,null,null,null,null,null,null,null,null,null,null,null,null,null,null,null,null,null,null,null,null,null,null,null,null,null,null,null,null,null,null,null,null,null,17,17,0,"na",0,0,"na",0,0,"na",0,0,"na",0,null,null,null,null,null,null,null,null,null,null,17,17,0,0,0,0,0,0,0,0,0,0,0,0,null,null,null,null,null,null,null,null,null,null,null,null,null,null,null,null,null,null,null,null,null,null,null,null,null,17,17,0,"na",0,0,"na",0,0,"na",0,0,"na",0]
[null,null,null,null,null,null,null,null,null,null,null,"Product per year Rounding if consumable","product/year",{"$f":"IFERROR(ROUNDUP(N155,0),0)","v":0},{"$f":"IFERROR(ROUNDUP(O155,0),0)","v":0},{"$f":"IFERROR(ROUNDUP(P155,0),0)","v":0},{"$f":"IFERROR(ROUNDUP(Q155,0),0)","v":0},null,"minimum it will be 1",null,null,null,null,null,null,null,null,null,null,null,null,null,null,null,null,null,null,null,null,null,null,null,null,null,null,null,null,null,null,null,null,null,null,null,null,null,null,null,null,null,null,null,null,null,null,null,null,null,null,null,null,null,null,null,null,null,null,null,null,null,null,null,null,null,null,18,18,0,"na",0,0,"na",0,0,"na",0,0,"na",0,null,null,null,null,null,null,null,null,null,null,18,18,0,0,0,0,0,0,0,0,0,0,0,0,null,null,null,null,null,null,null,null,null,null,null,null,null,null,null,null,null,null,null,null,null,null,null,null,null,18,18,0,"na",0,0,"na",0,0,"na",0,0,"na",0]
[null,null,null,null,null,null,null,null,null,null,null,"Disposal interval Consumable",null,{"$f":"IFERROR(IF(N155>1,1,1/N155),0)","v":0},{"$f":"IFERROR(IF(O155>1,1,1/O155),0)","v":0},{"$f":"IFERROR(IF(P155>1,1,1/P155),0)","v":0},{"$f":"IFERROR(IF(Q155>1,1,1/Q155),0)","v":0},null,null,null,null,null,null,null,null,null,null,null,null,null,null,null,null,null,null,null,null,null,null,null,null,null,null,null,null,null,null,null,null,null,null,null,null,null,null,null,null,null,null,null,null,null,null,null,null,null,null,null,null,null,null,null,null,null,null,null,null,null,null,null,null,null,null,null,null,19,19,0,"na",0,0,"na",0,0,"na",0,0,"na",0,null,null,null,null,null,null,null,null,null,null,19,19,0,0,0,0,0,0,0,0,0,0,0,0,null,null,null,null,null,null,null,null,null,null,null,null,null,null,null,null,null,null,null,null,null,null,null,null,null,19,19,0,"na",0,0,"na",0,0,"na",0,0,"na",0]
[null,null,null,null,null,null,null,null,null,null,null,"Disposal interval Consumable Final",null,{"$f":"ROUND(N157,0)","v":0},{"$f":"ROUND(O157,0)","v":0},0,0,null,null,null,null,null,null,null,null,null,null,null,null,null,null,null,null,null,null,null,null,null,null,null,null,null,null,null,null,null,null,null,null,null,null,null,null,null,null,null,null,null,null,null,null,null,null,null,null,null,null,null,null,null,null,null,null,null,null,null,null,null,null,null,null,null,null,null,null,20,20,0,"na",0,0,"na",0,0,"na",0,0,"na",0,null,null,null,null,null,null,null,null,null,null,20,20,0,0,0,0,0,0,0,0,0,0,0,0,null,null,null,null,null,null,null,null,null,null,null,null,null,null,null,null,null,null,null,null,null,null,null,null,null,20,20,0,"na",0,0,"na",0,0,"na",0,0,"na",0]
[null,null,null,null,null,null,null,null,null,null,null,"Disposal interval Non consumable",null,{"$f":"IF(N148=\"Yes\",\"not applicable\",N153)","v":0},{"$f":"IF(O148=\"Yes\",\"not applicable\",O153)","v":0},0,0,null,null,null,null,null,null,null,null,null,null,null,null,null,null,null,null,null,null,null,null,null,null,null,null,null,null,null,null,null,null,null,null,null,null,null,null,null,null,null,null,null,null,null,null,null,null,null,null,null,null,null,null,null,null,null,null,null,null,null,null,null,null,null,null,null,null,null,null,null,"Total (after time horizon) ($)",{"$f":"SUM(CJ139:CJ158)","v":0},{"$f":"SUM(CK139:CK158)","v":0},0,0,0,0,0,0,0,0,0,0,null,null,null,null,null,null,null,null,null,null,null,"Total (after time horizon) ($)",{"$f":"SUM(DH139:DH158)","v":0},{"$f":"SUM(DI139:DI158)","v":0},0,0,0,0,0,0,0,0,0,0,null,null,null,null,null,null,null,null,null,null,null,null,null,null,null,null,null,null,null,null,null,null,null,null,null,null,"Total (after time horizon) ($)",{"$f":"SUM(EU139:EU158)","v":0},{"$f":"SUM(EV139:EV158)","v":0},0,0,0,0,0,0,0,0,0,0]
[null,null,null,null,null,null,null,null,null,null,null,"Disposal interval Consumable",null,{"$f":"IF(N148=\"yes\",N158,\"Not applicable\")","v":"Not applicable"},{"$f":"IF(O148=\"yes\",O158,\"Not applicable\")","v":"Not applicable"},{"$f":"IF(P148=\"yes\",P158,\"Not applicable\")","v":"Not applicable"},{"$f":"IF(Q148=\"yes\",Q158,\"Not applicable\")","v":"Not applicable"},null,null,null,null,null,null,null,null,null,null,null,null,null,null,null,null,null,null,null,null,null,null,null,null,null,null,null,null,null,null,null,null,null,null,null,null,null,null,null,null,null,null,null,null,null,null,null,null,null,null,null,null,null,null,null,null,null,null,null,null,null,null,null,null,null,null,null,null,null,"Annual average ($/year)",{"$f":"CJ159/$E$8","v":{"$error":"#VALUE!"}},{"$f":"CK159/$E$8","v":{"$error":"#VALUE!"}},{"$error":"#VALUE!"},{"$error":"#VALUE!"},{"$error":"#VALUE!"},{"$error":"#VALUE!"},{"$error":"#VALUE!"},{"$error":"#VALUE!"},{"$error":"#VALUE!"},{"$error":"#VALUE!"},{"$error":"#VALUE!"},{"$error":"#VALUE!"},null,null,null,null,null,null,null,null,null,null,null,"Annual average ($/year)",{"$f":"DH159/$E$8","v":{"$error":"#VALUE!"}},{"$f":"DI159/$E$8","v":{"$error":"#VALUE!"}},{"$error":"#VALUE!"},{"$error":"#VALUE!"},{"$error":"#VALUE!"},{"$error":"#VALUE!"},{"$error":"#VALUE!"},{"$error":"#VALUE!"},{"$error":"#VALUE!"},{"$error":"#VALUE!"},{"$error":"#VALUE!"},{"$error":"#VALUE!"},null,null,null,null,null,null,null,null,null,null,null,null,null,null,null,null,null,null,null,null,null,null,null,null,null,null,"Annual average ($/year)",{"$f":"EU159/$E$8","v":{"$error":"#VALUE!"}},{"$f":"EV159/$E$8","v":{"$error":"#VALUE!"}},{"$error":"#VALUE!"},{"$error":"#VALUE!"},{"$error":"#VALUE!"},{"$error":"#VALUE!"},{"$error":"#VALUE!"},{"$error":"#VALUE!"},{"$error":"#VALUE!"},{"$error":"#VALUE!"},{"$error":"#VALUE!"},{"$error":"#VALUE!"}]
[null,null,null,null,null,null,null,null,null,null,null,"Products per year","product/year",{"$f":"IF(N148=\"Yes\",N156,(IF(AND(N148=\"No\",(N153=\"Please select\")),\"Not applicable\",1)))","v":1},{"$f":"IF(O148=\"Yes\",O156,(IF(AND(O148=\"No\",(O153=\"Please select\")),\"Not applicable\",1)))","v":1},{"$f":"IF(P148=\"Yes\",P156,(IF(AND(P148=\"No\",(P153=\"Please select\")),\"Not applicable\",1)))","v":1},{"$f":"IF(Q148=\"Yes\",Q156,(IF(AND(Q148=\"No\",(Q153=\"Please select\")),\"Not applicable\",1)))","v":1}]
[null,null,null,null,null,null,null,null,null,null,null,"Products per year- Final","product/year",{"$f":"IF(N164=0,0,N161)","v":0},{"$f":"IF(O164=0,0,O161)","v":0},{"$f":"IF(P164=0,0,P161)","v":0},{"$f":"IF(Q164=0,0,Q161)","v":0},null,"Assumption: if it is not a consumable -> 1 product (as the expected life is assumed to be 1 year minimum)"]
[null,null,null,null,null,null,null,null,null,null,null,"Disposal interval",null,{"$f":"IF(N159=\"Not applicable\",N160,N159)","v":0},{"$f":"IF(O159=\"Not applicable\",O160,O159)","v":0},{"$f":"IF(P159=\"Not applicable\",P160,P159)","v":0},{"$f":"IF(Q159=\"Not applicable\",Q160,Q159)","v":0}]
[null,null,null,null,null,null,null,null,null,null,null,"Disposal interval -Final",null,{"$f":"IF(N163=\"Not applicable\",0,N163)","v":0},{"$f":"IF(O163=\"Not applicable\",0,O163)","v":0},{"$f":"IF(P163=\"Not applicable\",0,P163)","v":0},{"$f":"IF(Q163=\"Not applicable\",0,Q163)","v":0},null,null,null,null,null,null,null,null,null,null,null,null,null,null,null,null,null,null,null,null,null,null,null,null,null,null,null,null,null,null,null,null,null,null,null,null,null,null,null,null,null,null,null,null,null,null,null,null,null,null,null,null,null,null,null,null,null,null,null,null,null,null,null,null,null,null,null,null,null,"NPV",null,null,null,null,null,null,null,null,null,null,null,null,null,null,null,null,null,null,null,null,null,null,null,"NPV",null,"Suppl. parts","Suppl. parts",null,"Suppl. parts","Suppl. parts",null,"Suppl. parts","Suppl. parts",null,"Suppl. parts","Suppl. parts",null,null,null,null,null,null,null,null,null,null,null,null,null,null,null,null,null,null,null,null,null,null,null,null,null,null,"NPV"]
[null,null,null,null,null,null,null,null,null,null,null,null,"INTERVAL (years)",null,null,null,null,"COST PER PRODUCT ($/ product)",null,null,null,null,"COST TOTAL ($)",null,null,null,null,null,null,null,null,null,null,null,null,null,null,null,null,null,null,null,null,null,null,null,null,null,null,null,null,null,null,null,null,null,null,null,null,null,null,null,null,null,null,null,null,null,null,null,null,null,null,null,null,null,null,null,null,null,null,null,null,null,null,null,null,"Product A ",null,null,"Product B",null,null,"Product C",null,null,"Product D ",null,null,null,null,null,null,null,null,null,null,null,null,"Year adapted by the user",null,"Product A ",null,null,"Product B",null,null,"Product C",null,null,"Product D ",null,null,null,"Product A ","Product B","Product C","Product D ","Product A ","Product B","Product C","Product D ",null,null,null,null,null,null,null,null,null,null,null,null,null,null,null,null,null,null,"Product A ",null,null,"Product B",null,null,"Product C",null,null,"Product D "]
[null,null,null,null,null,null,null,null,null,null,null,"Years","Acquisition","Product A ","Product B","Product C ","Product D","Acquisition","Product A ","Product B","Product C ","Product D","Acquisition","Product A ","Product B","Product C ","Product D",null,null,null,null,null,null,null,null,null,null,null,null,null,null,null,"INTERVAL (years)",null,null,null,null,"COST TOTAL ($)",null,null,null,null,null,null,null,null,null,null,null,null,null,null,null,null,null,null,null,null,null,null,null,null,null,null,null,null,null,null,null,null,null,null,null,null,null,null,"Year ","Acquisition","Operational","Disposal","Acquisition","Operational","Disposal","Acquisition","Operational","Disposal","Acquisition","Operational","Disposal",null,null,null,null,null,null,null,null,null,null,null,"Year ","Acquisition","Operational","Disposal","Acquisition","Operational","Disposal","Acquisition","Operational","Disposal","Acquisition","Operational","Disposal",null,"Total cost ($)",null,null,null,"Total cost Cumulative ($)",null,null,null,null,null,null,null,null,null,null,null,null,null,null,null,null,null,null,null,null,"Year ","Acquisition","Operational","Disposal","Acquisition","Operational","Disposal","Acquisition","Operational","Disposal","Acquisition","Operational","Disposal"]
[null,null,null,null,null,null,null,null,null,null,null,1,null,1,1,1,1,null,{"$f":"N$31","v":0},{"$f":"O$31","v":0},{"$f":"P$31","v":0},{"$f":"Q$31","v":0},null,{"$f":"S167*N$162","v":0},{"$f":"T167*O$162","v":0},{"$f":"U167*P$162","v":0},{"$f":"V167*Q$162","v":0},null,null,null,null,null,null,null,null,null,null,null,null,null,null,"Years","Acquisition","Product A ","Product B","Product C ","Product D","Acquisition","Product A ","Product B","Product C ","Product D",null,"Checking",null,null,null,null,null,null,null,null,null,null,null,null,null,null,null,null,null,null,null,null,null,null,null,null,null,null,null,null,null,null,null,null,1,{"$f":"IFERROR(CJ139/(1+$CJ$40%)^$CI167,0)","v":0},"na",{"$f":"IFERROR(CL139/(1+$CJ$40%)^$CI167,0)","v":0},0,"na",{"$f":"IFERROR(CO139/(1+$CJ$40%)^$CI167,0)","v":0},0,"na",{"$f":"IFERROR(CR139/(1+$CJ$40%)^$CI167,0)","v":0},0,"na",{"$f":"IFERROR(CU139/(1+$CJ$40%)^$CI167,0)","v":0},null,null,null,null,null,null,null,null,null,null,{"$f":"IF(OR(DG167<$N$145,DG167=$N$145),DF166+1,\"\")","v":1},1,{"$f":"IFERROR(DH139/(1+$E$7%)^$DG167,0)","v":0},0,0,0,0,0,0,0,0,0,0,0,null,{"$f":"SUM(DH167:DJ167)","v":0},{"$f":"SUM(DK167:DM167)","v":0},{"$f":"SUM(DN167:DP167)","v":0},{"$f":"SUM(DQ167:DS167)","v":0},{"$f":"DU167","v":0},{"$f":"DV167","v":0},{"$f":"DW167","v":0},{"$f":"DX167","v":0},null,null,null,null,null,null,null,null,null,null,null,null,null,null,null,null,null,1,{"$f":"IFERROR(EU139/(1+$EU$40%)^$ET167,0)","v":0},"na",{"$f":"IFERROR(EW139/(1+$EU$40%)^$ET167,0)","v":0},{"$f":"IFERROR(EX139/(1+$EU$40%)^$ET167,0)","v":0},"na",{"$f":"IFERROR(EZ139/(1+$EU$40%)^$ET167,0)","v":0},0,"na",{"$f":"IFERROR(FC139/(1+$EU$40%)^$ET167,0)","v":0},0,"na",{"$f":"IFERROR(FF139/(1+$EU$40%)^$ET167,0)","v":0}]
[null,null,null,null,null,null,null,null,null,null,null,2,null,{"$f":"N209+$N$167","v":1},1,1,1,null,0,0,0,0,null,0,0,0,0,null,null,null,null,null,null,null,null,null,null,null,null,null,null,1,null,1,1,1,1,null,{"$f":"N$31*N$162","v":0},{"$f":"O$31*O$162","v":0},{"$f":"P$31*P$162","v":0},{"$f":"Q$31*Q$162","v":0},null,{"$f":"AW168","v":0},{"$f":"AX168","v":0},{"$f":"AY168","v":0},{"$f":"AZ168","v":0},null,null,null,null,null,null,null,null,null,null,null,null,null,null,null,null,null,null,null,null,null,null,null,null,null,null,null,null,null,2,0,"na",0,0,"na",0,0,"na",0,0,"na",0,null,null,null,null,null,null,null,null,null,null,{"$f":"IF(OR(DG168<$N$145,DG168=$N$145),DF167+1,\"\")","v":2},2,{"$f":"IFERROR(DH140/(1+$E$7%)^$DG168,0)","v":0},0,0,0,0,0,0,0,0,0,0,0,null,{"$f":"SUM(DH168:DJ168)","v":0},{"$f":"SUM(DK168:DM168)","v":0},{"$f":"SUM(DN168:DP168)","v":0},{"$f":"SUM(DQ168:DS168)","v":0},{"$f":"IF(DU168>0,DU168+DY167,\"\")","v":""},{"$f":"IF(DV168>0,DV168+DZ167,\"\")","v":""},"","",null,null,null,null,null,null,null,null,null,null,null,null,null,null,null,null,null,2,{"$f":"IFERROR(EU140/(1+$EU$40%)^$ET168,0)","v":0},"na",{"$f":"IFERROR(EW140/(1+$EU$40%)^$ET168,0)","v":0},0,"na",0,0,"na",0,0,"na",0]
[null,null,null,null,null,null,null,null,null,null,null,3,null,1,1,1,1,null,0,0,0,0,null,0,0,0,0,null,null,null,null,null,null,null,null,null,null,null,null,null,null,2,null,{"$f":"AR210+$AR$168","v":1},{"$f":"AS210+$AR$168","v":1},1,1,null,0,0,0,0,null,{"$f":"X167","v":0},{"$f":"Y167","v":0},{"$f":"Z167","v":0},{"$f":"AA167","v":0},null,null,null,null,null,null,null,null,null,null,null,null,null,null,null,null,null,null,null,null,null,null,null,null,null,null,null,null,null,3,0,"na",0,0,"na",0,0,"na",0,0,"na",0,null,null,null,null,null,null,null,null,null,null,3,3,{"$f":"IFERROR(DH141/(1+$E$7%)^$DG169,0)","v":0},0,0,0,0,0,0,0,0,0,0,0,null,0,0,0,0,{"$f":"IF(DU169>0,DU169+DY168,\"\")","v":""},{"$f":"IF(DV169>0,DV169+DZ168,\"\")","v":""},{"$f":"IF(DW169>0,DW169+EA168,\"\")","v":""},{"$f":"IF(DX169>0,DX169+EB168,\"\")","v":""},null,null,null,null,null,null,null,null,null,null,null,null,null,null,null,null,null,3,0,"na",0,0,"na",0,0,"na",0,0,"na",0]
[null,null,null,null,null,null,null,null,null,null,null,4,null,1,1,1,1,null,0,0,0,0,null,0,0,0,0,null,null,null,null,null,null,null,null,null,null,null,null,null,null,3,null,{"$f":"AR211+$AR$168","v":1},1,1,1,null,0,0,0,0,null,null,null,null,null,null,null,null,null,null,null,null,null,null,null,null,null,null,null,null,null,null,null,null,null,null,null,null,null,null,null,null,null,null,4,0,"na",0,0,"na",0,0,"na",0,0,"na",0,null,null,null,null,null,null,null,null,null,null,4,4,{"$f":"IFERROR(DH142/(1+$E$7%)^$DG170,0)","v":0},0,0,0,0,0,0,0,0,0,0,0,null,0,0,0,0,"","","","",null,null,null,null,null,null,null,null,null,null,null,null,null,null,null,null,null,4,0,"na",0,0,"na",0,0,"na",0,0,"na",0]
[null,null,null,null,null,null,null,null,null,null,null,5,null,1,1,1,1,null,0,0,0,0,null,0,0,0,0,null,null,null,null,null,null,null,null,null,null,null,null,null,null,4,null,1,1,1,1,null,0,0,0,0,null,null,null,null,null,null,null,null,null,null,null,null,null,null,null,null,null,null,null,null,null,null,null,null,null,null,null,null,null,null,null,null,null,null,5,0,"na",0,0,"na",0,0,"na",0,0,"na",0,null,null,null,null,null,null,null,null,null,null,5,5,{"$f":"IFERROR(DH143/(1+$E$7%)^$DG171,0)","v":0},0,0,0,0,0,0,0,0,0,0,0,null,0,0,0,0,"","","","",null,null,null,null,null,null,null,null,null,null,null,null,null,null,null,null,null,5,0,"na",0,0,"na",0,0,"na",0,0,"na",0]
[null,null,null,null,null,null,null,null,null,null,null,6,null,1,1,1,1,null,0,0,0,0,null,0,0,0,0,null,null,null,null,null,null,null,null,null,null,null,null,null,null,5,null,1,1,1,1,null,0,0,0,0,null,null,null,null,null,null,null,null,null,null,null,null,null,null,null,null,null,null,null,null,null,null,null,null,null,null,null,null,null,null,null,null,null,null,6,0,"na",0,0,"na",0,0,"na",0,0,"na",0,null,null,null,null,null,null,null,null,null,null,6,6,{"$f":"IFERROR(DH144/(1+$E$7%)^$DG172,0)","v":0},0,0,0,0,0,0,0,0,0,0,0,null,0,0,0,0,"","","","",null,null,null,null,null,null,null,null,null,null,null,null,null,null,null,null,null,6,0,"na",0,0,"na",0,0,"na",0,0,"na",0]
[null,null,null,null,null,null,null,null,null,null,null,7,null,1,1,1,1,null,0,0,0,0,null,0,0,0,0,null,null,null,null,null,null,null,null,null,null,null,null,null,null,6,null,1,1,1,1,null,0,0,0,0,null,null,null,null,null,null,null,null,null,null,null,null,null,null,null,null,null,null,null,null,null,null,null,null,null,null,null,null,null,null,null,null,null,null,7,0,"na",0,0,"na",0,0,"na",0,0,"na",0,null,null,null,null,null,null,null,null,null,null,7,7,{"$f":"IFERROR(DH145/(1+$E$7%)^$DG173,0)","v":0},0,0,0,0,0,0,0,0,0,0,0,null,0,0,0,0,"","","","",null,null,null,null,null,null,null,null,null,null,null,null,null,null,null,null,null,7,0,"na",0,0,"na",0,0,"na",0,0,"na",0]
[null,null,null,null,null,null,null,null,null,null,null,8,null,1,1,1,1,null,0,0,0,0,null,0,0,0,0,null,null,null,null,null,null,null,null,null,null,null,null,null,null,7,null,1,1,1,1,null,0,0,0,0,null,null,null,null,null,null,null,null,null,null,null,null,null,null,null,null,null,null,null,null,null,null,null,null,null,null,null,null,null,null,null,null,null,null,8,0,"na",0,0,"na",0,0,"na",0,0,"na",0,null,null,null,null,null,null,null,null,null,null,8,8,{"$f":"IFERROR(DH146/(1+$E$7%)^$DG174,0)","v":0},0,0,0,0,0,0,0,0,0,0,0,null,0,0,0,0,"","","","",null,null,null,null,null,null,null,null,null,null,null,null,null,null,null,null,null,8,0,"na",0,0,"na",0,0,"na",0,0,"na",0]
[null,null,null,null,null,null,null,null,null,null,null,9,null,1,1,1,1,null,0,0,0,0,null,0,0,0,0,null,null,null,null,null,null,null,null,null,null,null,null,null,null,8,null,1,1,1,1,null,0,0,0,0,null,null,null,null,null,null,null,null,null,null,null,null,null,null,null,null,null,null,null,null,null,null,null,null,null,null,null,null,null,null,null,null,null,null,9,0,"na",0,0,"na",0,0,"na",0,0,"na",0,null,null,null,null,null,null,null,null,null,null,9,9,{"$f":"IFERROR(DH147/(1+$E$7%)^$DG175,0)","v":0},0,0,0,0,0,0,0,0,0,0,0,null,0,0,0,0,"","","","",null,null,null,null,null,null,null,null,null,null,null,null,null,null,null,null,null,9,0,"na",0,0,"na",0,0,"na",0,0,"na",0]
[null,null,null,null,null,null,null,null,null,null,null,10,null,1,1,1,1,null,0,0,0,0,null,0,0,0,0,null,null,null,null,null,null,null,null,null,null,null,null,null,null,9,null,1,1,1,1,null,0,0,0,0,null,null,null,null,null,null,null,null,null,null,null,null,null,null,null,null,null,null,null,null,null,null,null,null,null,null,null,null,null,null,null,null,null,null,10,0,"na",0,0,"na",0,0,"na",0,0,"na",0,null,null,null,null,null,null,null,null,null,null,10,10,{"$f":"IFERROR(DH148/(1+$E$7%)^$DG176,0)","v":0},0,0,0,0,0,0,0,0,0,0,0,null,0,0,0,0,"","","","",null,null,null,null,null,null,null,null,null,null,null,null,null,null,null,null,null,10,0,"na",0,0,"na",0,0,"na",0,0,"na",0]
[null,null,null,null,null,null,null,null,null,null,null,11,null,1,1,1,1,null,0,0,0,0,null,0,0,0,0,null,null,null,null,null,null,null,null,null,null,null,null,null,null,10,null,1,1,1,1,null,0,0,0,0,null,null,null,null,null,null,null,null,null,null,null,null,null,null,null,null,null,null,null,null,null,null,null,null,null,null,null,null,null,null,null,null,null,null,11,0,"na",0,0,"na",0,0,"na",0,0,"na",0,null,null,null,null,null,null,null,null,null,null,11,11,{"$f":"IFERROR(DH149/(1+$E$7%)^$DG177,0)","v":0},0,0,0,0,0,0,0,0,0,0,0,null,0,0,0,0,"","","","",null,null,null,null,null,null,null,null,null,null,null,null,null,null,null,null,null,11,0,"na",0,0,"na",0,0,"na",0,0,"na",0]
[null,null,null,null,null,null,null,null,null,null,null,12,null,1,1,1,1,null,0,0,0,0,null,0,0,0,0,null,null,null,null,null,null,null,null,null,null,null,null,null,null,11,null,1,1,1,1,null,0,0,0,0,null,null,null,null,null,null,null,null,null,null,null,null,null,null,null,null,null,null,null,null,null,null,null,null,null,null,null,null,null,null,null,null,null,null,12,0,"na",0,0,"na",0,0,"na",0,0,"na",0,null,null,null,null,null,null,null,null,null,null,12,12,{"$f":"IFERROR(DH150/(1+$E$7%)^$DG178,0)","v":0},0,0,0,0,0,0,0,0,0,0,0,null,0,0,0,0,"","","","",null,null,null,null,null,null,null,null,null,null,null,null,null,null,null,null,null,12,0,"na",0,0,"na",0,0,"na",0,0,"na",0]
[null,null,null,null,null,null,null,null,null,null,null,13,null,1,1,1,1,null,0,0,0,0,null,0,0,0,0,null,null,null,null,null,null,null,null,null,null,null,null,null,null,12,null,1,1,1,1,null,0,0,0,0,null,null,null,null,null,null,null,null,null,null,null,null,null,null,null,null,null,null,null,null,null,null,null,null,null,null,null,null,null,null,null,null,null,null,13,0,"na",0,0,"na",0,0,"na",0,0,"na",0,null,null,null,null,null,null,null,null,null,null,13,13,{"$f":"IFERROR(DH151/(1+$E$7%)^$DG179,0)","v":0},0,0,0,0,0,0,0,0,0,0,0,null,0,0,0,0,"","","","",null,null,null,null,null,null,null,null,null,null,null,null,null,null,null,null,null,13,0,"na",0,0,"na",0,0,"na",0,0,"na",0]
[null,null,null,null,null,null,null,null,null,null,null,14,null,1,1,1,1,null,0,0,0,0,null,0,0,0,0,null,null,null,null,null,null,null,null,null,null,null,null,null,null,13,null,1,1,1,1,null,0,0,0,0,null,null,null,null,null,null,null,null,null,null,null,null,null,null,null,null,null,null,null,null,null,null,null,null,null,null,null,null,null,null,null,null,null,null,14,0,"na",0,0,"na",0,0,"na",0,0,"na",0,null,null,null,null,null,null,null,null,null,null,14,14,{"$f":"IFERROR(DH152/(1+$E$7%)^$DG180,0)","v":0},0,0,0,0,0,0,0,0,0,0,0,null,0,0,0,0,"","","","",null,null,null,null,null,null,null,null,null,null,null,null,null,null,null,null,null,14,0,"na",0,0,"na",0,0,"na",0,0,"na",0]
[null,null,null,null,null,null,null,null,null,null,null,15,null,1,1,1,1,null,0,0,0,0,null,0,0,0,0,null,null,null,null,null,null,null,null,null,null,null,null,null,null,14,null,1,1,1,1,null,0,0,0,0,null,null,null,null,null,null,null,null,null,null,null,null,null,null,null,null,null,null,null,null,null,null,null,null,null,null,null,null,null,null,null,null,null,null,15,0,"na",0,0,"na",0,0,"na",0,0,"na",0,null,null,null,null,null,null,null,null,null,null,15,15,{"$f":"IFERROR(DH153/(1+$E$7%)^$DG181,0)","v":0},0,0,0,0,0,0,0,0,0,0,0,null,0,0,0,0,"","","","",null,null,null,null,null,null,null,null,null,null,null,null,null,null,null,null,null,15,0,"na",0,0,"na",0,0,"na",0,0,"na",0]
[null,null,null,null,null,null,null,null,null,null,null,16,null,1,1,1,1,null,0,0,0,0,null,0,0,0,0,null,null,null,null,null,null,null,null,null,null,null,null,null,null,15,null,1,1,1,1,null,0,0,0,0,null,null,null,null,null,null,null,null,null,null,null,null,null,null,null,null,null,null,null,null,null,null,null,null,null,null,null,null,null,null,null,null,null,null,16,0,"na",0,0,"na",0,0,"na",0,0,"na",0,null,null,null,null,null,null,null,null,null,null,16,16,{"$f":"IFERROR(DH154/(1+$E$7%)^$DG182,0)","v":0},0,0,0,0,0,0,0,0,0,0,0,null,0,0,0,0,"","","","",null,null,null,null,null,null,null,null,null,null,null,null,null,null,null,null,null,16,0,"na",0,0,"na",0,0,"na",0,0,"na",0]
[null,null,null,null,null,null,null,null,null,null,null,17,null,1,1,1,1,null,0,0,0,0,null,0,0,0,0,null,null,null,null,null,null,null,null,null,null,null,null,null,null,16,null,1,1,1,1,null,0,0,0,0,null,null,null,null,null,null,null,null,null,null,null,null,null,null,null,null,null,null,null,null,null,null,null,null,null,null,null,null,null,null,null,null,null,null,17,0,"na",0,0,"na",0,0,"na",0,0,"na",0,null,null,null,null,null,null,null,null,null,null,17,17,{"$f":"IFERROR(DH155/(1+$E$7%)^$DG183,0)","v":0},0,0,0,0,0,0,0,0,0,0,0,null,0,0,0,0,"","","","",null,null,null,null,null,null,null,null,null,null,null,null,null,null,null,null,null,17,0,"na",0,0,"na",{"$f":"IFERROR(EZ155/(1+$EU$40%)^$ET183,0)","v":0},0,"na",0,0,"na",0]
[null,null,null,null,null,null,null,null,null,null,null,18,null,1,1,1,1,null,0,0,0,0,null,0,0,0,0,null,null,null,null,null,null,null,null,null,null,null,null,null,null,17,null,1,1,1,1,null,0,0,0,0,null,null,null,null,null,null,null,null,null,null,null,null,null,null,null,null,null,null,null,null,null,null,null,null,null,null,null,null,null,null,null,null,null,null,18,0,"na",0,0,"na",0,0,"na",0,0,"na",0,null,null,null,null,null,null,null,null,null,null,18,18,{"$f":"IFERROR(DH156/(1+$E$7%)^$DG184,0)","v":0},0,0,0,0,0,0,0,0,0,0,0,null,0,0,0,0,"","","","",null,null,null,null,null,null,null,null,null,null,null,null,null,null,null,null,null,18,0,"na",0,0,"na",0,0,"na",0,0,"na",0]
[null,null,null,null,null,null,null,null,null,null,null,19,null,1,1,1,1,null,0,0,0,0,null,0,0,0,0,null,null,null,null,null,null,null,null,null,null,null,null,null,null,18,null,1,1,1,1,null,0,0,0,0,null,null,null,null,null,null,null,null,null,null,null,null,null,null,null,null,null,null,null,null,null,null,null,null,null,null,null,null,null,null,null,null,null,null,19,0,"na",0,0,"na",0,0,"na",0,0,"na",0,null,null,null,null,null,null,null,null,null,null,19,19,{"$f":"IFERROR(DH157/(1+$E$7%)^$DG185,0)","v":0},0,0,0,0,0,0,0,0,0,0,0,null,0,0,0,0,"","","","",null,null,null,null,null,null,null,null,null,null,null,null,null,null,null,null,null,19,0,"na",0,0,"na",0,0,"na",0,0,"na",0]
[null,null,null,null,null,null,null,null,null,null,null,20,null,1,1,1,1,null,0,0,0,0,null,0,0,0,0,null,null,null,null,null,null,null,null,null,null,null,null,null,null,19,null,1,1,1,1,null,0,0,0,0,null,null,null,null,null,null,null,null,null,null,null,null,null,null,null,null,null,null,null,null,null,null,null,null,null,null,null,null,null,null,null,null,null,null,20,0,"na",0,0,"na",0,0,"na",0,0,"na",0,null,null,null,null,null,null,null,null,null,null,20,20,{"$f":"IFERROR(DH158/(1+$E$7%)^$DG186,0)","v":0},0,0,0,0,0,0,0,0,0,0,0,null,0,0,0,0,{"$f":"IF(DU186>0,DU186+DY185,\"\")","v":""},"","","",null,null,null,null,null,null,null,null,null,null,null,null,null,null,null,null,null,20,0,"na",0,0,"na",0,0,"na",0,0,"na",0]
[null,null,null,null,null,null,null,null,null,null,null,null,"Operational","Product A ","Product B","Product C ","Product D","Operational","Product A ","Product B","Product C ","Product D","Operational","Product A ","Product B","Product C ","Product D",null,null,null,null,null,null,null,null,null,null,null,null,null,null,20,null,1,1,1,1,null,0,0,0,0,null,null,null,null,null,null,null,null,null,null,null,null,null,null,null,null,null,null,null,null,null,null,null,null,null,null,null,null,null,null,null,null,null,null,"Total (after time horizon) ($)",{"$f":"SUM(CJ167:CJ186)","v":0},{"$f":"SUM(CK167:CK186)","v":0},{"$f":"SUM(CL167:CL186)","v":0},0,0,0,0,0,0,0,0,0,null,null,null,null,null,null,null,null,null,null,null,"Total (after time horizon) ($)",{"$f":"SUM(DH167:DH186)","v":0},{"$f":"SUM(DI167:DI186)","v":0},{"$f":"SUM(DJ167:DJ186)","v":0},0,0,0,0,0,0,0,0,0,null,{"$f":"SUM(DU167:DU186)","v":0},{"$f":"SUM(DV167:DV186)","v":0},{"$f":"SUM(DW167:DW186)","v":0},{"$f":"SUM(DX167:DX186)","v":0},null,null,null,null,null,null,null,null,null,null,null,null,null,null,null,null,null,null,null,null,null,"Total (after time horizon) ($)",{"$f":"SUM(EU167:EU186)","v":0},{"$f":"SUM(EV167:EV186)","v":0},{"$f":"SUM(EW167:EW186)","v":0},0,0,0,0,0,0,0,0,0]
[null,null,null,null,null,null,null,null,null,null,null,null,null,1,1,1,1,null,{"$f":"N$104","v":0},{"$f":"O$104","v":0},{"$f":"P$104","v":0},{"$f":"Q$104","v":0},null,{"$f":"S188*N$162","v":0},{"$f":"T188*O$162","v":0},{"$f":"U188*P$162","v":0},{"$f":"V188*Q$162","v":0},null,null,null,null,null,null,null,null,null,null,null,null,null,null,null,"Operational","Product A ","Product B","Product C ","Product D","Operational- Energy","Product A ","Product B","Product C ","Product D","Operational- Water","Product A ","Product B","Product C ","Product D","Operational- Maintenance (labor)","Product A ","Product B","Product C ","Product D","Operational- Other ","Product A ","Product B","Product C ","Product D",null,"Checking",null,null,null,null,null,null,null,null,null,null,null,null,null,null,null,null,null,"Annual average ($/year)",{"$f":"CJ187/$E$8","v":{"$error":"#VALUE!"}},{"$f":"CK187/$E$8","v":{"$error":"#VALUE!"}},{"$f":"CL187/$E$8","v":{"$error":"#VALUE!"}},{"$f":"CM187/$E$8","v":{"$error":"#VALUE!"}},{"$f":"CN187/$E$8","v":{"$error":"#VALUE!"}},{"$error":"#VALUE!"},{"$error":"#VALUE!"},{"$error":"#VALUE!"},{"$error":"#VALUE!"},{"$error":"#VALUE!"},{"$error":"#VALUE!"},{"$error":"#VALUE!"},null,null,null,null,null,null,null,null,null,null,null,"Annual average ($/year)",{"$f":"DH187/$E$8","v":{"$error":"#VALUE!"}},{"$f":"DI187/$E$8","v":{"$error":"#VALUE!"}},{"$f":"DJ187/$E$8","v":{"$error":"#VALUE!"}},{"$f":"DK187/$E$8","v":{"$error":"#VALUE!"}},{"$f":"DL187/$E$8","v":{"$error":"#VALUE!"}},{"$error":"#VALUE!"},{"$error":"#VALUE!"},{"$error":"#VALUE!"},{"$error":"#VALUE!"},{"$error":"#VALUE!"},{"$error":"#VALUE!"},{"$error":"#VALUE!"},null,null,null,null,null,null,null,null,null,null,null,null,null,null,null,null,null,null,null,null,null,null,null,null,null,null,"Annual average ($/year)",{"$f":"EU187/$E$8","v":{"$error":"#VALUE!"}},{"$f":"EV187/$E$8","v":{"$error":"#VALUE!"}},{"$f":"EW187/$E$8","v":{"$error":"#VALUE!"}},{"$f":"EX187/$E$8","v":{"$error":"#VALUE!"}},{"$f":"EY187/$E$8","v":{"$error":"#VALUE!"}},{"$error":"#VALUE!"},{"$error":"#VALUE!"},{"$error":"#VALUE!"},{"$error":"#VALUE!"},{"$error":"#VALUE!"},{"$error":"#VALUE!"},{"$error":"#VALUE!"}]
[null,null,null,null,null,null,null,null,null,null,null,null,null,2,2,2,2,null,0,0,0,0,null,0,0,0,0,null,null,null,null,null,null,null,null,null,null,null,null,null,null,null,null,1,1,1,1,null,{"$f":"N$107*N$162","v":0},{"$f":"O$107*O$162","v":0},{"$f":"P$107*P$162","v":0},{"$f":"Q$107*Q$162","v":0},null,{"$f":"N$110*N$162","v":0},{"$f":"O$110*O$162","v":0},{"$f":"P$110*P$162","v":0},{"$f":"Q$110*Q$162","v":0},null,{"$f":"N$113*N$162","v":0},{"$f":"O$113*O$162","v":0},{"$f":"P$113*P$162","v":0},{"$f":"Q$113*Q$162","v":0},null,{"$f":"N$116*N$162","v":0},{"$f":"O$116*O$162","v":0},{"$f":"P$116*P$162","v":0},{"$f":"Q$116*Q$162","v":0},null,{"$f":"SUM(AW189,BB189,BG189,BL189)","v":0},{"$f":"SUM(AX189,BC189,BH189,BM189)","v":0},{"$f":"SUM(AY189,BD189,BI189,BN189)","v":0},{"$f":"SUM(AZ189,BE189,BJ189,BO189)","v":0}]
[null,null,null,null,null,null,null,null,null,null,null,null,null,3,3,3,3,null,0,0,0,0,null,0,0,0,0,null,null,null,null,null,null,null,null,null,null,null,null,null,null,null,null,2,2,2,2,null,0,0,0,0,null,0,0,0,0,null,0,0,0,0,null,0,0,0,0,null,{"$f":"X188","v":0},{"$f":"Y188","v":0},{"$f":"Z188","v":0},{"$f":"AA188","v":0},null,null,null,null,null,null,null,null,null,null,null,null,null,null,null,"Product A ",null,null,"Product B",null,null,"Product C",null,null,"Product D ",null,null,null,null,null,null,null,null,null,null,null,null,null,null,"Product A ",null,null,"Product B",null,null,"Product C",null,null,"Product D ",null,null,null,null,null,null,null,null,null,null,null,null,null,null,null,null,null,null,null,null,null,null,null,null,null,null,null,null,null,"Product A ",null,null,"Product B",null,null,"Product C",null,null,"Product D "]
[null,null,null,null,null,null,null,null,null,null,null,null,null,4,4,4,4,null,0,0,0,0,null,0,0,0,0,null,null,null,null,null,null,null,null,null,null,null,null,null,null,null,null,3,3,3,3,null,0,0,0,0,null,0,0,0,0,null,0,0,0,0,null,0,0,0,0,null,null,null,null,null,null,null,null,null,null,null,null,null,null,null,null,null,null,null,null,"Acquisition","Operational","Disposal","Acquisition","Operational","Disposal","Acquisition","Operational","Disposal","Acquisition","Operational","Disposal",null,null,null,null,null,null,null,null,null,null,null,null,"Acquisition","Operational","Disposal","Acquisition","Operational","Disposal","Acquisition","Operational","Disposal","Acquisition","Operational","Disposal",null,"Checking","Product A ","Product B","Product C","Product D ",null,null,null,null,null,null,null,null,null,null,null,null,null,null,null,null,null,null,null,null,null,"Acquisition","Operational","Disposal","Acquisition","Operational","Disposal","Acquisition","Operational","Disposal","Acquisition","Operational","Disposal"]
[null,null,null,null,null,null,null,null,null,null,null,null,null,5,5,5,5,null,0,0,0,0,null,0,0,0,0,null,null,null,null,null,null,null,null,null,null,null,null,null,null,null,null,4,4,4,4,null,0,0,0,0,null,0,0,0,0,null,0,0,0,0,null,0,0,0,0,null,null,null,null,null,null,null,null,null,null,null,null,null,null,null,null,null,null,null,"Year 1 ($)",{"$f":"CJ167","v":0},{"$f":"CK167","v":"na"},0,0,"na",0,0,"na",0,0,"na",0,null,null,null,null,null,null,null,null,null,null,null,"Year 1 ($)",{"$f":"DH167","v":0},{"$f":"DI167","v":0},0,0,0,0,0,0,0,0,0,0,null,"Year 1 ($)",{"$f":"SUM(DH192:DJ192)","v":0},{"$f":"SUM(DK192:DM192)","v":0},{"$f":"SUM(DN192:DP192)","v":0},{"$f":"SUM(DQ192:DS192)","v":0},null,null,null,null,null,null,null,null,null,null,null,null,null,null,null,null,null,null,null,null,"Year 1 ($)",{"$f":"EU167","v":0},{"$f":"EV167","v":"na"},0,0,"na",0,0,"na",0,0,"na",0]
[null,null,null,null,null,null,null,null,null,null,null,null,null,6,6,6,6,null,0,0,0,0,null,0,0,0,0,null,null,null,null,null,null,null,null,null,null,null,null,null,null,null,null,5,5,5,5,null,0,0,0,0,null,0,0,0,0,null,0,0,0,0,null,0,0,0,0,null,null,null,null,null,null,null,null,null,null,null,null,null,null,null,null,null,null,null,"Total (after time horizon) ($)",{"$f":"CJ187","v":0},{"$f":"CK187","v":0},0,0,0,0,0,0,0,0,0,0,null,null,null,null,null,null,null,null,null,null,null,"Total (after time horizon) ($)",{"$f":"DH187","v":0},{"$f":"DI187","v":0},0,0,0,0,0,0,0,0,0,0,null,"Total (after time horizon) ($)",{"$f":"SUM(DH193:DJ193)","v":0},{"$f":"SUM(DK193:DM193)","v":0},{"$f":"SUM(DN193:DP193)","v":0},{"$f":"SUM(DQ193:DS193)","v":0},null,null,null,null,null,null,null,null,null,null,null,null,null,null,null,null,null,null,null,null,"Total (after time horizon) ($)",{"$f":"EU187","v":0},{"$f":"EV187","v":0},0,0,0,0,0,0,0,0,0,0]
[null,null,null,null,null,null,null,null,null,null,null,null,null,7,7,7,7,null,0,0,0,0,null,0,0,0,0,null,null,null,null,null,null,null,null,null,null,null,null,null,null,null,null,6,6,6,6,null,0,0,0,0,null,0,0,0,0,null,0,0,0,0,null,0,0,0,0,null,null,null,null,null,null,null,null,null,null,null,null,null,null,null,null,null,null,null,"Annual average ($/year)",{"$f":"CJ188","v":{"$error":"#VALUE!"}},{"$f":"CK188","v":{"$error":"#VALUE!"}},{"$f":"CL188","v":{"$error":"#VALUE!"}},{"$f":"CM188","v":{"$error":"#VALUE!"}},{"$f":"CN188","v":{"$error":"#VALUE!"}},{"$error":"#VALUE!"},{"$error":"#VALUE!"},{"$error":"#VALUE!"},{"$error":"#VALUE!"},{"$error":"#VALUE!"},{"$error":"#VALUE!"},{"$error":"#VALUE!"},null,null,null,null,null,null,null,null,null,null,null,"Annual average ($/year)",{"$f":"DH188","v":{"$error":"#VALUE!"}},{"$f":"DI188","v":{"$error":"#VALUE!"}},{"$f":"DJ188","v":{"$error":"#VALUE!"}},{"$f":"DK188","v":{"$error":"#VALUE!"}},{"$f":"DL188","v":{"$error":"#VALUE!"}},{"$error":"#VALUE!"},{"$error":"#VALUE!"},{"$error":"#VALUE!"},{"$error":"#VALUE!"},{"$error":"#VALUE!"},{"$error":"#VALUE!"},{"$error":"#VALUE!"},null," Annual average ($/year)",{"$f":"SUM(DH194:DJ194)","v":{"$error":"#VALUE!"}},{"$f":"SUM(DK194:DM194)","v":{"$error":"#VALUE!"}},{"$f":"SUM(DN194:DP194)","v":{"$error":"#VALUE!"}},{"$f":"SUM(DQ194:DS194)","v":{"$error":"#VALUE!"}},null,null,null,null,null,null,null,null,null,null,null,null,null,null,null,null,null,null,null,null,"Annual average ($/year)",{"$f":"EU188","v":{"$error":"#VALUE!"}},{"$f":"EV188","v":{"$error":"#VALUE!"}},{"$error":"#VALUE!"},{"$f":"EX188","v":{"$error":"#VALUE!"}},{"$f":"EY188","v":{"$error":"#VALUE!"}},{"$error":"#VALUE!"},{"$error":"#VALUE!"},{"$error":"#VALUE!"},{"$error":"#VALUE!"},{"$error":"#VALUE!"},{"$error":"#VALUE!"},{"$error":"#VALUE!"}]
[null,null,null,null,null,null,null,null,null,null,null,null,null,8,8,8,8,null,0,0,0,0,null,0,0,0,0,null,null,null,null,null,null,null,null,null,null,null,null,null,null,null,null,7,7,7,7,null,0,0,0,0,null,0,0,0,0,null,0,0,0,0,null,0,0,0,0]
[null,null,null,null,null,null,null,null,null,null,null,null,null,9,9,9,9,null,0,0,0,0,null,0,0,0,0,null,null,null,null,null,null,null,null,null,null,null,null,null,null,null,null,8,8,8,8,null,0,0,0,0,null,0,0,0,0,null,0,0,0,0,null,0,0,0,0,null,null,null,null,null,null,null,null,null,null,null,null,null,null,null,null,null,null,null,"NPV Summary - Supplemental part 1",null,null,null,null,null,null,null,null,null,null,null,null,null,null,null,null,null,null,null,null,"FINAL",null,null,"NPV Summary - Product and supplemental parts",null,null,null,null,null,null,null,null,null,null,null,null,null,null,null,null,null,null,null,null,null,null,null,null,null,null,null,null,null,null,null,null,null,null,null,null,null,null,"NPV Summary - Supplemental part 2"]
[null,null,null,null,null,null,null,null,null,null,null,null,null,10,10,10,10,null,0,0,0,0,null,0,0,0,0,null,null,null,null,null,null,null,null,null,null,null,null,null,null,null,null,9,9,9,9,null,0,0,0,0,null,0,0,0,0,null,0,0,0,0,null,0,0,0,0,null,null,null,null,null,null,null,null,null,null,null,null,null,null,null,null,null,null,null,null,"Year 1 ($)",null,null,null,"Total (after time horizon) ($)",null,null,null,"Annual average ($/year)",null,null,null,null,null,null,null,null,null,null,null,null,null,null,null,"Year 1 ($)",null,null,null,"Total (after time horizon) ($)",null,null,null,"Annual average ($/year)",null,null,null,null,null,null,null,null,null,null,null,null,null,null,null,null,null,null,null,null,null,null,null,null,null,null,null,null,null,null,"Year 1 ($)",null,null,null,"Total (after time horizon) ($)",null,null,null,"Annual average ($/year)"]
[null,null,null,null,null,null,null,null,null,null,null,null,null,11,11,11,11,null,0,0,0,0,null,0,0,0,0,null,null,null,null,null,null,null,null,null,null,null,null,null,null,null,null,10,10,10,10,null,0,0,0,0,null,0,0,0,0,null,0,0,0,0,null,0,0,0,0,null,null,null,null,null,null,null,null,null,null,null,null,null,null,null,null,null,null,null,"Type of cost","Product A ","Product B","Product C","Product D ","Product A ","Product B","Product C","Product D ","Product A ","Product B","Product C","Product D ",null,null,null,null,null,null,null,null,null,null,null,"Type of cost","Product A ","Product B","Product C","Product D ","Product A ","Product B","Product C","Product D ","Product A ","Product B","Product C","Product D ",null,null,null,null,null,null,null,null,null,null,null,null,null,null,null,null,null,null,null,null,null,null,null,null,null,null,"Type of cost","Product A ","Product B","Product C","Product D ","Product A ","Product B","Product C","Product D ","Product A ","Product B","Product C","Product D "]
[null,null,null,null,null,null,null,null,null,null,null,null,null,12,12,12,12,null,0,0,0,0,null,0,0,0,0,null,null,null,null,null,null,null,null,null,null,null,null,null,null,null,null,11,11,11,11,null,0,0,0,0,null,0,0,0,0,null,0,0,0,0,null,0,0,0,0,null,null,null,null,null,null,null,null,null,null,null,null,null,null,null,null,null,null,null,"Acquisition",{"$f":"CJ192","v":0},{"$f":"CM192","v":0},{"$f":"CP192","v":0},{"$f":"CS192","v":0},{"$f":"CJ193","v":0},{"$f":"CM193","v":0},{"$f":"CP193","v":0},{"$f":"CS193","v":0},{"$f":"CJ194","v":{"$error":"#VALUE!"}},{"$f":"CM194","v":{"$error":"#VALUE!"}},{"$f":"CP194","v":{"$error":"#VALUE!"}},{"$f":"CS194","v":{"$error":"#VALUE!"}},null,null,null,null,null,null,null,null,null,null,null,"Acquisition",{"$f":"DH192","v":0},{"$f":"DK192","v":0},{"$f":"DN192","v":0},{"$f":"DQ192","v":0},{"$f":"DH193","v":0},{"$f":"DK193","v":0},{"$f":"DN193","v":0},{"$f":"DQ193","v":0},{"$f":"DH194","v":{"$error":"#VALUE!"}},{"$f":"DK194","v":{"$error":"#VALUE!"}},{"$f":"DN194","v":{"$error":"#VALUE!"}},{"$f":"DQ194","v":{"$error":"#VALUE!"}},null,null,null,null,null,null,null,null,null,null,null,null,null,null,null,null,null,null,null,null,null,null,null,null,null,null,"Acquisition",{"$f":"EU192","v":0},{"$f":"EX192","v":0},{"$f":"FA192","v":0},{"$f":"FD192","v":0},{"$f":"EU193","v":0},{"$f":"EX193","v":0},{"$f":"FA193","v":0},{"$f":"FD193","v":0},{"$f":"EU194","v":{"$error":"#VALUE!"}},{"$f":"EX194","v":{"$error":"#VALUE!"}},{"$f":"FA194","v":{"$error":"#VALUE!"}},{"$f":"FD194","v":{"$error":"#VALUE!"}}]
[null,null,null,null,null,null,null,null,null,null,null,null,null,13,13,13,13,null,0,0,0,0,null,0,0,0,0,null,null,null,null,null,null,null,null,null,null,null,null,null,null,null,null,12,12,12,12,null,0,0,0,0,null,0,0,0,0,null,0,0,0,0,null,0,0,0,0,null,null,null,null,null,null,null,null,null,null,null,null,null,null,null,null,null,null,null,"Operational",{"$f":"CK192","v":"na"},{"$f":"CN192","v":"na"},{"$f":"CQ192","v":"na"},{"$f":"CT192","v":"na"},{"$f":"CK193","v":0},{"$f":"CN193","v":0},{"$f":"CQ193","v":0},{"$f":"CT193","v":0},{"$f":"CK194","v":{"$error":"#VALUE!"}},{"$f":"CN194","v":{"$error":"#VALUE!"}},{"$f":"CQ194","v":{"$error":"#VALUE!"}},{"$f":"CT194","v":{"$error":"#VALUE!"}},null,null,null,null,null,null,null,null,null,null,null,"Operational",{"$f":"DI192","v":0},{"$f":"DL192","v":0},{"$f":"DO192","v":0},{"$f":"DR192","v":0},{"$f":"DI193","v":0},{"$f":"DL193","v":0},{"$f":"DO193","v":0},{"$f":"DR193","v":0},{"$f":"DI194","v":{"$error":"#VALUE!"}},{"$f":"DL194","v":{"$error":"#VALUE!"}},{"$f":"DO194","v":{"$error":"#VALUE!"}},{"$f":"DR194","v":{"$error":"#VALUE!"}},null,null,null,null,null,null,null,null,null,null,null,null,null,null,null,null,null,null,null,null,null,null,null,null,null,null,"Operational",{"$f":"EV192","v":"na"},{"$f":"EY192","v":"na"},{"$f":"FB192","v":"na"},{"$f":"FE192","v":"na"},{"$f":"EV193","v":0},{"$f":"EY193","v":0},{"$f":"FB193","v":0},{"$f":"FE193","v":0},{"$f":"EV194","v":{"$error":"#VALUE!"}},{"$f":"EY194","v":{"$error":"#VALUE!"}},{"$f":"FB194","v":{"$error":"#VALUE!"}},{"$f":"FE194","v":{"$error":"#VALUE!"}}]
[null,null,null,null,null,null,null,null,null,null,null,null,null,14,14,14,14,null,0,0,0,0,null,0,0,0,0,null,null,null,null,null,null,null,null,null,null,null,null,null,null,null,null,13,13,13,13,null,0,0,0,0,null,0,0,0,0,null,0,0,0,0,null,0,0,0,0,null,null,null,null,null,null,null,null,null,null,null,null,null,null,null,null,null,null,null,"Disposal",{"$f":"CL192","v":0},{"$f":"CO192","v":0},{"$f":"CR192","v":0},{"$f":"CU192","v":0},{"$f":"CL193","v":0},{"$f":"CO193","v":0},{"$f":"CR193","v":0},{"$f":"CU193","v":0},{"$f":"CL194","v":{"$error":"#VALUE!"}},{"$f":"CO194","v":{"$error":"#VALUE!"}},{"$f":"CR194","v":{"$error":"#VALUE!"}},{"$f":"CU194","v":{"$error":"#VALUE!"}},null,null,null,null,null,null,null,null,null,null,null,"Disposal",{"$f":"DJ192","v":0},{"$f":"DM192","v":0},{"$f":"DP192","v":0},{"$f":"DS192","v":0},{"$f":"DJ193","v":0},{"$f":"DM193","v":0},{"$f":"DP193","v":0},{"$f":"DS193","v":0},{"$f":"DJ194","v":{"$error":"#VALUE!"}},{"$f":"DM194","v":{"$error":"#VALUE!"}},{"$f":"DP194","v":{"$error":"#VALUE!"}},{"$f":"DS194","v":{"$error":"#VALUE!"}},null,null,null,null,null,null,null,null,null,null,null,null,null,null,null,null,null,null,null,null,null,null,null,null,null,null,"Disposal",{"$f":"EW192","v":0},{"$f":"EZ192","v":0},{"$f":"FC192","v":0},{"$f":"FF192","v":0},{"$f":"EW193","v":0},{"$f":"EZ193","v":0},{"$f":"FC193","v":0},{"$f":"FF193","v":0},{"$f":"EW194","v":{"$error":"#VALUE!"}},{"$f":"EZ194","v":{"$error":"#VALUE!"}},{"$f":"FC194","v":{"$error":"#VALUE!"}},{"$f":"FF194","v":{"$error":"#VALUE!"}}]
[null,null,null,null,null,null,null,null,null,null,null,null,null,15,15,15,15,null,0,0,0,0,null,0,0,0,0,null,null,null,null,null,null,null,null,null,null,null,null,null,null,null,null,14,14,14,14,null,0,0,0,0,null,0,0,0,0,null,0,0,0,0,null,0,0,0,0,null,null,null,null,null,null,null,null,null,null,null,null,null,null,null,null,null,null,null,"Total",{"$f":"SUM(CJ199:CJ201)","v":0},{"$f":"SUM(CK199:CK201)","v":0},0,0,{"$f":"SUM(CN199:CN201)","v":0},{"$f":"SUM(CO199:CO201)","v":0},0,0,{"$error":"#VALUE!"},{"$error":"#VALUE!"},{"$error":"#VALUE!"},{"$f":"SUM(CU199:CU201)","v":{"$error":"#VALUE!"}},null,null,null,null,null,null,null,null,null,null,null,"Total",{"$f":"SUM(DH199:DH201)","v":0},{"$f":"SUM(DI199:DI201)","v":0},0,0,{"$f":"SUM(DL199:DL201)","v":0},{"$f":"SUM(DM199:DM201)","v":0},{"$f":"SUM(DN199:DN201)","v":0},0,{"$error":"#VALUE!"},{"$error":"#VALUE!"},{"$error":"#VALUE!"},{"$f":"SUM(DS199:DS201)","v":{"$error":"#VALUE!"}},null,null,null,null,null,null,null,null,null,null,null,null,null,null,null,null,null,null,null,null,null,null,null,null,null,null,"Total",{"$f":"SUM(EU199:EU201)","v":0},{"$f":"SUM(EV199:EV201)","v":0},0,0,{"$f":"SUM(EY199:EY201)","v":0},{"$f":"SUM(EZ199:EZ201)","v":0},0,0,{"$error":"#VALUE!"},{"$error":"#VALUE!"},{"$error":"#VALUE!"},{"$f":"SUM(FF199:FF201)","v":{"$error":"#VALUE!"}}]
[null,null,null,null,null,null,null,null,null,null,null,null,null,16,16,16,16,null,0,0,0,0,null,0,0,0,0,null,null,null,null,null,null,null,null,null,null,null,null,null,null,null,null,15,15,15,15,null,0,0,0,0,null,0,0,0,0,null,0,0,0,0,null,0,0,0,0,null,null,null,null,null,null,null,null,null,null,null,null,null,null,null,null,null,null,null,null,null,null,null,null,null,null,null,null,null,null,null,null,null,null,null,null,null,null,null,null,null,null,null,null,null,null,null,null,{"$f":"CN202+R306+EY202","v":0},{"$f":"CO202+S306+EZ202","v":0},{"$f":"CP202+T306+FA202","v":0},0]
[null,null,null,null,null,null,null,null,null,null,null,null,null,17,17,17,17,null,0,0,0,0,null,0,0,0,0,null,null,null,null,null,null,null,null,null,null,null,null,null,null,null,null,16,16,16,16,null,0,0,0,0,null,0,0,0,0,null,0,0,0,0,null,0,0,0,0,null,null,null,null,null,null,null,null,null,null,null,null,null,null,null,null,null,null,null,null,null,null,null,null,null,null,null,null,null,null,null,null,null,null,null,null,null,null,null,null,null,null,null,"NPV Summary"]
[null,null,null,null,null,null,null,null,null,null,null,null,null,18,18,18,18,null,0,0,0,0,null,0,0,0,0,null,null,null,null,null,null,null,null,null,null,null,null,null,null,null,null,17,17,17,17,null,0,0,0,0,null,0,0,0,0,null,0,0,0,0,null,0,0,0,0,null,null,null,null,null,null,null,null,null,null,null,null,null,null,null,null,null,null,null,null,null,null,null,null,null,null,null,null,null,null,null,null,null,null,null,null,null,null,null,null,null,null,null,null,"Year 1 ($)",null,null,null,"Total (after time horizon) ($)",null,null,null,"Annual average ($/year)"]
[null,null,null,null,null,null,null,null,null,null,null,null,null,19,19,19,19,null,0,0,0,0,null,0,0,0,0,null,null,null,null,null,null,null,null,null,null,null,null,null,null,null,null,18,18,18,18,null,0,0,0,0,null,0,0,0,0,null,0,0,0,0,null,0,0,0,0,null,null,null,null,null,null,null,null,null,null,null,null,null,null,null,null,null,null,null,null,null,null,null,null,null,null,null,null,null,null,null,null,null,null,null,null,null,null,null,null,null,null,null,"Type of cost","Product A ","Product B","Product C","Product D ","Product A ","Product B","Product C","Product D ","Product A ","Product B","Product C","Product D "]
[null,null,null,null,null,null,null,null,null,null,null,null,null,20,20,20,20,null,0,0,0,0,null,0,0,0,0,null,null,null,null,null,null,null,null,null,null,null,null,null,null,null,null,19,19,19,19,null,0,0,0,0,null,0,0,0,0,null,0,0,0,0,null,0,0,0,0,null,null,null,null,null,null,null,null,null,null,null,null,null,null,null,null,null,null,null,null,null,null,null,null,null,null,null,null,null,null,null,null,null,null,null,null,null,null,null,null,null,null,null,"Acquisition",{"$f":"DH199","v":0},{"$f":"DI199","v":0},0,0,0,0,0,0,{"$f":"DP199","v":{"$error":"#VALUE!"}},{"$f":"DQ199","v":{"$error":"#VALUE!"}},{"$error":"#VALUE!"},{"$error":"#VALUE!"}]
[null,null,null,null,null,null,null,null,null,null,null,null,"Disposal","Product A ","Product B","Product C ","Product D","Disposal","Product A ","Product B","Product C ","Product D","Disposal","Product A ","Product B","Product C ","Product D",null,null,null,null,null,null,null,null,null,null,null,null,null,null,null,null,20,20,20,20,null,0,0,0,0,null,0,0,0,0,null,0,0,0,0,null,0,0,0,0,null,null,null,null,null,null,null,null,null,null,null,null,null,null,null,null,null,null,null,null,null,null,null,null,null,null,null,null,null,null,null,null,null,null,null,null,null,null,null,null,null,null,null,"Operational - Energy",{"$f":"N312","v":0},0,0,0,0,0,0,0,{"$error":"#VALUE!"},{"$error":"#VALUE!"},{"$error":"#VALUE!"},{"$error":"#VALUE!"}]
[null,null,null,null,null,null,null,null,null,null,null,null,null,{"$f":"N$164*$L167","v":0},0,0,0,null,{"$f":"N$139","v":0},{"$f":"O$139","v":0},{"$f":"P$139","v":0},{"$f":"Q$139","v":0},null,{"$f":"S209*N$162","v":0},{"$f":"T209*O$162","v":0},{"$f":"U209*P$162","v":0},{"$f":"V209*Q$162","v":0},null,null,null,null,null,null,null,null,null,null,null,null,null,null,null,"Disposal","Product A ","Product B","Product C ","Product D","Disposal","Product A ","Product B","Product C ","Product D",null,null,null,null,null,null,null,null,null,null,null,null,null,null,null,null,null,null,null,null,null,null,null,null,null,null,null,null,null,null,null,null,null,null,null,null,null,null,null,null,null,null,null,null,null,null,null,null,null,null,null,null,null,null,null,null,null,null,"Operational - Water",0,0,0,0,0,0,0,0,{"$error":"#VALUE!"},{"$error":"#VALUE!"},{"$error":"#VALUE!"},{"$error":"#VALUE!"}]
[null,null,null,null,null,null,null,null,null,null,null,null,null,0,0,0,0,null,0,0,0,0,null,0,0,0,0,null,null,null,null,null,null,null,null,null,null,null,null,null,null,null,null,{"$f":"N$164*$AP168","v":0},{"$f":"O$164*$AP168","v":0},{"$f":"P$164*$AP168","v":0},{"$f":"Q$164*$AP168","v":0},null,{"$f":"N$139*N$162","v":0},{"$f":"O$139*O$162","v":0},{"$f":"P$139*P$162","v":0},{"$f":"Q$139*Q$162","v":0},"Checking",null,null,null,null,null,null,null,null,null,null,null,null,null,null,null,null,null,null,null,null,null,null,null,null,null,null,null,null,null,null,null,null,null,null,null,null,null,null,null,null,null,null,null,null,null,null,null,null,null,null,null,null,null,null,null,null,"Mapping of supplemental parts changed as per PGH feedback (labor and acq. of supp. parts)","Operational - Maintenance (labor and supplemental parts)",{"$f":"N314+CJ199+EU199","v":0},{"$f":"O314+CK199+EV199","v":0},{"$f":"P314+CL199+EW199","v":0},0,0,0,0,0,{"$error":"#VALUE!"},{"$error":"#VALUE!"},{"$error":"#VALUE!"},{"$error":"#VALUE!"}]
[null,null,null,null,null,null,null,null,null,null,null,null,null,0,0,0,0,null,0,0,0,0,null,0,0,0,0,null,null,null,null,null,null,null,null,null,null,null,null,null,null,null,null,0,0,0,0,null,0,0,0,0,{"$f":"AW211","v":0},{"$f":"AX211","v":0},{"$f":"AY211","v":0},{"$f":"AZ211","v":0},null,null,null,null,null,null,null,null,null,null,null,null,null,null,null,null,null,null,null,null,null,null,null,null,null,null,null,null,null,null,null,null,null,null,null,null,null,null,null,null,null,null,null,null,null,null,null,null,null,null,null,null,null,null,"Operational - Other",{"$f":"N315","v":0},0,0,0,0,0,0,0,{"$error":"#VALUE!"},{"$error":"#VALUE!"},{"$error":"#VALUE!"},{"$error":"#VALUE!"}]
[null,null,null,null,null,null,null,null,null,null,null,null,null,0,0,0,0,null,0,0,0,0,null,0,0,0,0,null,null,null,null,null,null,null,null,null,null,null,null,null,null,null,null,0,0,0,0,null,0,0,0,0,{"$f":"X209","v":0},{"$f":"Y209","v":0},{"$f":"Z209","v":0},{"$f":"AA209","v":0},null,null,null,null,null,null,null,null,null,null,null,null,null,null,null,null,null,null,null,null,null,null,null,null,null,null,null,null,null,null,null,null,null,null,null,null,null,null,null,null,null,null,null,null,null,null,null,null,null,null,null,null,null," (main product and suppl. parts)","Disposal (product and supplemental parts)",{"$f":"DH201","v":0},0,0,0,0,0,0,0,{"$error":"#VALUE!"},{"$error":"#VALUE!"},{"$error":"#VALUE!"},{"$error":"#VALUE!"}]
[null,null,null,null,null,null,null,null,null,null,null,null,null,0,0,0,0,null,0,0,0,0,null,0,0,0,0,null,null,null,null,null,null,null,null,null,null,null,null,null,null,null,null,0,0,0,0,null,0,0,0,0,null,null,null,null,null,null,null,null,null,null,null,null,null,null,null,null,null,null,null,null,null,null,null,null,null,null,null,null,null,null,null,null,null,null,null,null,null,null,null,null,null,null,null,null,null,null,null,null,null,null,null,null,null,null,null,null,null,null,"Total",{"$f":"SUM(DH207:DH212)","v":0},0,0,0,{"$f":"SUM(DL207:DL212)","v":0},0,0,0,{"$error":"#VALUE!"},{"$error":"#VALUE!"},{"$error":"#VALUE!"},{"$error":"#VALUE!"}]
[null,null,null,null,null,null,null,null,null,null,null,null,null,0,0,0,0,null,0,0,0,0,null,0,0,0,0,null,null,null,null,null,null,null,null,null,null,null,null,null,null,null,null,0,0,0,0,null,0,0,0,0]
[null,null,null,null,null,null,null,null,null,null,null,null,null,0,0,0,0,null,0,0,0,0,null,0,0,0,0,null,null,null,null,null,null,null,null,null,null,null,null,null,null,null,null,0,0,0,0,null,0,0,0,0,null,null,null,null,null,null,null,null,null,null,null,null,null,null,null,null,null,null,null,null,null,null,null,null,null,null,null,null,null,null,null,null,null,null,null,null,null,null,null,null,null,null,null,null,null,null,null,null,null,null,null,null,null,null,null,null,null,null,null,null,null,null,null,null,null,null,null,null,null,null,null,"checking",{"$f":"SUM(DL213:DO213)","v":0},"all"]
[null,null,null,null,null,null,null,null,null,null,null,null,null,0,0,0,0,null,0,0,0,0,null,0,0,0,0,null,null,null,null,null,null,null,null,null,null,null,null,null,null,null,null,0,0,0,0,null,0,0,0,0,null,null,null,null,null,null,null,null,null,null,null,null,null,null,null,null,null,null,null,null,null,null,null,null,null,null,null,null,null,null,null,null,null,null,null,null,null,null,null,null,null,null,null,null,null,null,null,null,null,null,null,null,null,null,null,null,null,null,"Environmentally related costs (Energy, water and disposal)",null,null,null,null,{"$f":"SUM(DL208:DL209,DL212)","v":0},{"$f":"SUM(DM208:DM209,DM212)","v":0},{"$f":"SUM(DN208:DN209,DN212)","v":0},{"$f":"SUM(DO208:DO209,DO212)","v":0},{"$f":"CONCATENATE(\"Min Environm cost in year \",E8)","v":"Min Environm cost in year Not applicable"},{"$f":"MIN(DL218:DO218)","v":0}]
[null,null,null,null,null,null,null,null,null,null,null,null,null,0,0,0,0,null,0,0,0,0,null,0,0,0,0,null,null,null,null,null,null,null,null,null,null,null,null,null,null,null,null,0,0,0,0,null,0,0,0,0,null,null,null,null,null,null,null,null,null,null,null,null,null,null,null,null,null,null,null,null,null,null,null,null,null,null,null,null,null,null,null,null,null,null,null,null,null,null,null,null,null,null,null,null,null,null,null,null,null,null,null,null,null,null,null,null,null,null,null,null,null,null,null,{"$f":"DL206","v":"Product A "},{"$f":"DM206","v":"Product B"},{"$f":"DN206","v":"Product C"},{"$f":"DO206","v":"Product D "},null,{"$f":"HLOOKUP(DQ216,DL218:DO219,2,FALSE)","v":{"$error":"#N/A"}},null,null,null,{"$f":"SUM(R317:U317)","v":0},"main product"]
[null,null,null,null,null,null,null,null,null,null,null,null,null,0,0,0,0,null,0,0,0,0,null,0,0,0,0,null,null,null,null,null,null,null,null,null,null,null,null,null,null,null,null,0,0,0,0,null,0,0,0,0,null,null,null,null,null,null,null,null,null,null,null,null,null,null,null,null,null,null,null,null,null,null,null,null,null,null,null,null,null,null,null,null,null,null,null,null,null,null,null,null,null,null,null,null,null,null,null,null,null,null,null,null,null,null,null,null,null,null,null,null,null,null,null,{"$f":"IF(DL216=0,\"na\",DL216)","v":"na"},{"$f":"IF(DM216=0,\"na\",DM216)","v":"na"},{"$f":"IF(DN216=0,\"na\",DN216)","v":"na"},{"$f":"IF(DO216=0,\"na\",DO216)","v":"na"},null,null,null,null,null,{"$f":"SUM(CN202:CQ202)","v":0},"supp part 1"]
[null,null,null,null,null,null,null,null,null,null,null,null,null,0,0,0,0,null,0,0,0,0,null,0,0,0,0,null,null,null,null,null,null,null,null,null,null,null,null,null,null,null,null,0,0,0,0,null,0,0,0,0,null,null,null,null,null,null,null,null,null,null,null,null,null,null,null,null,null,null,null,null,null,null,null,null,null,null,null,null,null,null,null,null,null,null,null,null,null,null,null,null,null,null,null,null,null,null,null,null,null,null,null,null,null,null,null,null,null,null,"OVERALL RESULTS",null,null,null,null,{"$f":"DL206","v":"Product A "},{"$f":"DM206","v":"Product B"},{"$f":"DN206","v":"Product C"},{"$f":"DO206","v":"Product D "},null,null,null,null,null,{"$f":"SUM(EY202:FB202)","v":0},"supp part 2"]
[null,null,null,null,null,null,null,null,null,null,null,null,null,0,0,0,0,null,0,0,0,0,null,0,0,0,0,null,null,null,null,null,null,null,null,null,null,null,null,null,null,null,null,0,0,0,0,null,0,0,0,0,null,null,null,null,null,null,null,null,null,null,null,null,null,null,null,null,null,null,null,null,null,null,null,null,null,null,null,null,null,null,null,null,null,null,null,null,null,null,null,null,null,null,null,null,null,null,null,null,null,null,null,null,null,null,null,null,null,null,null,null,null,null,null,null,null,null,null,null,null,null,null,null,{"$f":"SUM(DU217:DU219)","v":0},"all"]
[null,null,null,null,null,null,null,null,null,null,null,null,null,0,0,0,0,null,0,0,0,0,null,0,0,0,0,null,null,null,null,null,null,null,null,null,null,null,null,null,null,null,null,0,0,0,0,null,0,0,0,0,null,null,null,null,null,null,null,null,null,null,null,null,null,null,null,null,null,null,null,null,null,null,null,null,null,null,null,null,null,null,null,null,null,null,null,null,null,null,null,null,null,null,null,null,null,null,null,null,null,null,null,null,null,null,null,null,null,null,"Total Cost of Ownership in year 1","Units","Product A ","Product B","Product C","Product D "]
[null,null,null,null,null,null,null,null,null,null,null,null,null,0,0,0,0,null,0,0,0,0,null,0,0,0,0,null,null,null,null,null,null,null,null,null,null,null,null,null,null,null,null,0,0,0,0,null,0,0,0,0,null,null,null,null,null,null,null,null,null,null,null,null,null,null,null,null,null,null,null,null,null,null,null,null,null,null,null,null,null,null,null,null,null,null,null,null,null,null,null,null,null,null,null,null,null,null,null,null,null,null,null,null,null,null,null,null,null,null,null,"$",{"$f":"DH202","v":0},{"$f":"DI202","v":0},{"$f":"DJ202","v":0},{"$f":"DK202","v":0}]
[null,null,null,null,null,null,null,null,null,null,null,null,null,0,0,0,0,null,0,0,0,0,null,0,0,0,0,null,null,null,null,null,null,null,null,null,null,null,null,null,null,null,null,0,0,0,0,null,0,0,0,0]
[null,null,null,null,null,null,null,null,null,null,null,null,null,0,0,0,0,null,0,0,0,0,null,0,0,0,0,null,null,null,null,null,null,null,null,null,null,null,null,null,null,null,null,0,0,0,0,null,0,0,0,0,null,null,null,null,null,null,null,null,null,null,null,null,null,null,null,null,null,null,null,null,null,null,null,null,null,null,null,null,null,null,null,null,null,null,null,null,null,null,null,null,null,null,null,null,null,null,null,null,null,null,null,null,null,null,null,null,null,null,{"$f":"CONCATENATE(\"Total cost of ownership in year \",E8)","v":"Total cost of ownership in year Not applicable"},"Units","Product A ","Product B","Product C","Product D ",{"$f":"CONCATENATE(\"Min TCO in year \",E8)","v":"Min TCO in year Not applicable"}]
[null,null,null,null,null,null,null,null,null,null,null,null,null,0,0,0,0,null,0,0,0,0,null,0,0,0,0,null,null,null,null,null,null,null,null,null,null,null,null,null,null,null,null,0,0,0,0,null,0,0,0,0,null,null,null,null,null,null,null,null,null,null,null,null,null,null,null,null,null,null,null,null,null,null,null,null,null,null,null,null,null,null,null,null,null,null,null,null,null,null,null,null,null,null,null,null,null,null,null,null,null,null,null,null,null,null,null,null,null,null,null,"$",{"$f":"DL202","v":0},{"$f":"DM202","v":0},{"$f":"DN202","v":0},{"$f":"DO202","v":0},{"$f":"MIN(DO225:DR225)","v":0},null,{"$f":"IF(DI225=0,\"na\",DI225)","v":"na"},{"$f":"IF(DJ225=0,\"na\",DJ225)","v":"na"},"na","na"]
[null,null,null,null,null,null,null,null,null,null,null,null,null,0,0,0,0,null,0,0,0,0,null,0,0,0,0,null,null,null,null,null,null,null,null,null,null,null,null,null,null,null,null,0,0,0,0,null,0,0,0,0,null,null,null,null,null,null,null,null,null,null,null,null,null,null,null,null,null,null,null,null,null,null,null,null,null,null,null,null,null,null,null,null,null,null,null,null,null,null,null,null,null,null,null,null,null,null,null,null,null,null,null,null,null,null,null,null,null,null,null,null,"Product A ","Product B","Product C","Product D ",{"$f":"HLOOKUP(DM225,DO225:DR226,2,FALSE)","v":{"$error":"#N/A"}},null,{"$f":"DL206","v":"Product A "},{"$f":"DM206","v":"Product B"},{"$f":"DN206","v":"Product C"},{"$f":"DO206","v":"Product D "}]
[null,null,null,null,null,null,null,null,null,null,null,null,null,0,0,0,0,null,0,0,0,0,null,0,0,0,0,null,null,null,null,null,null,null,null,null,null,null,null,null,null,null,null,0,0,0,0,null,0,0,0,0]
[null,null,null,null,null,null,null,null,null,null,null,null,null,0,0,0,0,null,0,0,0,0,null,0,0,0,0,null,null,null,null,null,null,null,null,null,null,null,null,null,null,null,null,0,0,0,0,null,0,0,0,0,null,null,null,null,null,null,null,null,null,null,null,null,null,null,null,null,null,null,null,null,null,null,null,null,null,null,null,null,null,null,null,null,null,null,null,null,null,null,null,null,null,null,null,null,null,null,null,null,null,null,null,null,null,null,null,null,null,null,"Average Total cost of ownership","Unit","Product A ","Product B","Product C","Product D "]
[null,null,null,null,null,null,null,null,null,null,null,null,null,null,null,null,null,null,null,null,null,null,null,null,null,null,null,null,null,null,null,null,null,null,null,null,null,null,null,null,null,null,null,0,0,0,0,null,0,0,0,0,null,null,null,null,null,null,null,null,null,null,null,null,null,null,null,null,null,null,null,null,null,null,null,null,null,null,null,null,null,null,null,null,null,null,null,null,null,null,null,null,null,null,null,null,null,null,null,null,null,null,null,null,null,null,null,null,null,null,null,"$/year",{"$f":"DP202","v":{"$error":"#VALUE!"}},{"$f":"DQ202","v":{"$error":"#VALUE!"}},{"$f":"DR202","v":{"$error":"#VALUE!"}},{"$f":"DS202","v":{"$error":"#VALUE!"}}]
[]
[]
[]
[null,null,null,null,null,null,null,null,null,null,null,null,null,null,null,null,null,null,null,null,null,null,null,null,null,null,null,null,null,null,null,null,null,null,null,null,null,null,null,null,null,null,null,null,null,null,null,null,null,null,null,null,null,null,null,null,null,null,null,null,null,null,null,null,null,null,null,null,null,null,null,null,null,null,null,null,null,null,null,null,null,null,null,null,null,null,null,null,null,null,null,null,null,null,null,null,null,null,null,null,null,null,null,null,null,null,null,null,null,null,{"$f":"CONCATENATE(\"Percentage of Acquisition cost vs Total Cost of Ownership in year \",DH43)","v":"Percentage of Acquisition cost vs Total Cost of Ownership in year "},{"$f":"IFERROR(DL199/DL202,\"Not applicable\")","v":"Not applicable"},{"$f":"IFERROR(DM199/DM202,\"Not applicable\")","v":"Not applicable"},"Not applicable","Not applicable"]
[null,null,null,null,null,null,null,null,null,null,null,null,"RESULTS- Product",null,null,null,null,null,null,null,null,null,null,null,null,null,null,null,null,null,null,null,null,null,null,null,null,null,null,null,null,null,null,null,null,null,null,null,null,null,null,null,null,null,null,null,null,null,null,null,null,null,null,null,null,null,null,null,null,null,null,null,null,null,null,null,null,null,null,null,null,null,null,null,null,null,null,null,null,null,null,null,null,null,null,null,null,null,null,null,null,null,null,null,null,null,null,null,null,null,{"$f":"CONCATENATE(\"Minimum Total Cost of Ownership cost in year \",E8)","v":"Minimum Total Cost of Ownership cost in year Not applicable"},{"$f":"DM226","v":{"$error":"#N/A"}}]
[null,null,null,null,null,null,null,null,null,null,null,null,null,null,null,null,null,null,null,null,null,null,null,null,null,null,null,null,null,null,null,null,null,null,null,null,null,null,null,null,null,"RESULTS- Product",null,null,null,null,null,null,null,null,null,null,null,null,null,null,null,null,null,null,null,null,null,null,null,null,null,null,null,null,null,null,null,null,null,null,null,null,null,null,null,null,null,null,null,null,null,null,null,null,null,null,null,null,null,null,null,null,null,null,null,null,null,null,null,null,null,null,null,null,{"$f":"CONCATENATE(\"Minimum environmentally related cost (energy, water, waste) in year \",E8)","v":"Minimum environmentally related cost (energy, water, waste) in year Not applicable"},{"$f":"DQ217","v":{"$error":"#N/A"}}]
[]
[null,null,null,null,null,null,null,null,null,null,null,null,"Results overall"]
[null,null,null,null,null,null,null,null,null,null,null,null,null,null,null,null,null,null,null,null,null,null,null,null,null,null,null,null,null,null,null,null,null,null,null,null,null,null,null,null,null,"Results split for Environmentally related costs"]
[]
[null,null,null,null,null,null,null,null,null,null,null,null,"Value (not adjusted)"]
[null,null,null,null,null,null,null,null,null,null,null,"Year adapted by the user",null,"Product A ",null,null,"Product B",null,null,"Product C",null,null,"Product D ",null,null,null,null,null,null,null,null,null,null,null,null,null,null,null,null,null,null,"Value (not adjusted)",null," ",null,null,null," "]
[null,null,null,null,null,null,null,null,null,null,null,null,"Year ","Acquisition","Operational","Disposal","Acquisition","Operational","Disposal","Acquisition","Operational","Disposal","Acquisition","Operational","Disposal",null,null,null,null,null,null,null,null,null,null,null,null,null,null,null,"Year adapted by the user",null,"Product A",null,null,null,null,null,"Product B",null,null,null,null,null,"Product C",null,null,null,null,null,"Product D"]
[null,null,null,null,null,null,null,null,null,null,null,{"$f":"IF(OR(M243<$N$145,M243=$N$145),L242+1,\"na\")","v":1},1,{"$f":"IFERROR(VLOOKUP(L243,$N$167:$X$186,11,FALSE),0)","v":0},{"$f":"IFERROR(VLOOKUP(L243,$N$188:$X$207,11,FALSE),0)","v":0},{"$f":"IFERROR(VLOOKUP(L243,$N$209:$X$228,11,FALSE),0)","v":0},{"$f":"IFERROR(VLOOKUP(L243,$O$167:$Y$186,11,FALSE),0)","v":0},{"$f":"IFERROR(VLOOKUP(L243,$O$188:$Y$207,11,FALSE),0)","v":0},{"$f":"IFERROR(VLOOKUP(L243,$O$209:$Y$228,11,FALSE),0)","v":0},{"$f":"IFERROR(VLOOKUP(L243,$P$167:$Z$186,11,FALSE),0)","v":0},{"$f":"IFERROR(VLOOKUP(L243,$P$188:$Z$207,11,FALSE),0)","v":0},{"$f":"IFERROR(VLOOKUP(L243,$P$209:$Z$228,11,FALSE),0)","v":0},{"$f":"IFERROR(VLOOKUP(L243,$Q$167:$AA$186,11,FALSE),0)","v":0},{"$f":"IFERROR(VLOOKUP(L243,$Q$188:$AA$207,11,FALSE),0)","v":0},{"$f":"IFERROR(VLOOKUP(L243,$Q$209:$AA$228,11,FALSE),0)","v":0},null,null,null,null,null,null,null,null,null,null,null,null,null,null,null,null,"Year","Acquisition","Operational  Energy","Operational  Water","Operational- Maintenance (labor)","Operational- Other","Disposal","Acquisition","Operational  Energy","Operational  Water","Operational- Maintenance (labor)","Operational- Other","Disposal","Acquisition","Operational  Energy","Operational  Water","Operational- Maintenance (labor)","Operational- Other","Disposal","Acquisition","Operational  Energy","Operational  Water","Operational- Maintenance (labor)","Operational- Other","Disposal"]
[null,null,null,null,null,null,null,null,null,null,null,2,2,0,0,0,0,0,0,0,0,0,0,0,0,null,null,null,null,null,null,null,null,null,null,null,null,null,null,null,{"$f":"IF(OR(AP244<$N$145,AP244=$N$145),AO243+1,\"na\")","v":1},1,{"$f":"IFERROR(VLOOKUP(AO244,$AR$168:$AW$187,6,FALSE),0)","v":0},{"$f":"IFERROR(VLOOKUP(AO244,$AR$189:$AW$208,6,FALSE),0)","v":0},{"$f":"IFERROR(VLOOKUP($AO244,$AR$189:$BB$208,11,FALSE),0)","v":0},{"$f":"IFERROR(VLOOKUP($AO244,$AR$189:$BG$208,16,FALSE),0)","v":0},{"$f":"IFERROR(VLOOKUP($AO244,$AR$189:$BL$208,21,FALSE),0)","v":0},{"$f":"IFERROR(VLOOKUP($AO244,$AR$210:$AW$229,6,FALSE),0)","v":0},{"$f":"IFERROR(VLOOKUP(AO244,$AS$168:$AX$187,6,FALSE),0)","v":0},{"$f":"IFERROR(VLOOKUP(AO244,$AS$189:$AX$208,6,FALSE),0)","v":0},{"$f":"IFERROR(VLOOKUP($AO244,$AS$189:$BC$208,11,FALSE),0)","v":0},{"$f":"IFERROR(VLOOKUP($AO244,$AS$189:$BH$208,16,FALSE),0)","v":0},{"$f":"IFERROR(VLOOKUP($AO244,$AS$189:$BM$208,21,FALSE),0)","v":0},{"$f":"IFERROR(VLOOKUP($AO244,$AS$210:$AX$229,6,FALSE),0)","v":0},{"$f":"IFERROR(VLOOKUP(AO244,$AT$168:$AY$187,6,FALSE),0)","v":0},{"$f":"IFERROR(VLOOKUP(AO244,$AT$189:$AY$208,6,FALSE),0)","v":0},{"$f":"IFERROR(VLOOKUP($AO244,$AT$189:$BD$208,11,FALSE),0)","v":0},{"$f":"IFERROR(VLOOKUP($AO244,$AT$189:$BI$208,16,FALSE),0)","v":0},{"$f":"IFERROR(VLOOKUP($AO244,$AT$189:$BN$208,21,FALSE),0)","v":0},{"$f":"IFERROR(VLOOKUP($AO244,$AT$210:$AY$229,6,FALSE),0)","v":0},{"$f":"IFERROR(VLOOKUP(AO244,$AU$168:$AZ$187,6,FALSE),0)","v":0},{"$f":"IFERROR(VLOOKUP(AO244,$AU$189:$AZ$208,6,FALSE),0)","v":0},{"$f":"IFERROR(VLOOKUP($AO244,$AU$189:$BE$208,11,FALSE),0)","v":0},{"$f":"IFERROR(VLOOKUP($AO244,$AU$189:$BJ$208,16,FALSE),0)","v":0},{"$f":"IFERROR(VLOOKUP($AO244,$AU$189:$BO$208,21,FALSE),0)","v":0},{"$f":"IFERROR(VLOOKUP($AO244,$AU$210:$AZ$229,6,FALSE),0)","v":0}]
[null,null,null,null,null,null,null,null,null,null,null,3,3,0,0,0,0,0,0,0,0,0,0,0,0,null,null,null,null,null,null,null,null,null,null,null,null,null,null,null,2,2,0,0,0,0,0,0,0,0,0,0,0,0,0,0,0,0,0,0,0,0,0,0,0,0]
[null,null,null,null,null,null,null,null,null,null,null,4,4,0,0,0,0,0,0,0,0,0,0,0,0,null,null,null,null,null,null,null,null,null,null,null,null,null,null,null,3,3,0,0,0,0,0,0,0,0,0,0,0,0,0,0,0,0,0,0,0,0,0,0,0,0]
[null,null,null,null,null,null,null,null,null,null,null,5,5,0,0,0,0,0,0,0,0,0,0,0,0,null,null,null,null,null,null,null,null,null,null,null,null,null,null,null,4,4,0,0,0,0,0,0,0,0,0,0,0,0,0,0,0,0,0,0,0,0,0,0,0,0]
[null,null,null,null,null,null,null,null,null,null,null,6,6,0,0,0,0,0,0,0,0,0,0,0,0,null,null,null,null,null,null,null,null,null,null,null,null,null,null,null,5,5,0,0,0,0,0,0,0,0,0,0,0,0,0,0,0,0,0,0,0,0,0,0,0,0]
[null,null,null,null,null,null,null,null,null,null,null,7,7,0,0,0,0,0,0,0,0,0,0,0,0,null,null,null,null,null,null,null,null,null,null,null,null,null,null,null,6,6,0,0,0,0,0,0,0,0,0,0,0,0,0,0,0,0,0,0,0,0,0,0,0,0]
[null,null,null,null,null,null,null,null,null,null,null,8,8,0,0,0,0,0,0,0,0,0,0,0,0,null,null,null,null,null,null,null,null,null,null,null,null,null,null,null,7,7,0,0,0,0,0,0,0,0,0,0,0,0,0,0,0,0,0,0,0,0,0,0,0,0]
[null,null,null,null,null,null,null,null,null,null,null,9,9,0,0,0,0,0,0,0,0,0,0,0,0,null,null,null,null,null,null,null,null,null,null,null,null,null,null,null,8,8,0,0,0,0,0,0,0,0,0,0,0,0,0,0,0,0,0,0,0,0,0,0,0,0]
[null,null,null,null,null,null,null,null,null,null,null,10,10,0,0,0,0,0,0,0,0,0,0,0,0,null,null,null,null,null,null,null,null,null,null,null,null,null,null,null,9,9,0,0,0,0,0,0,0,0,0,0,0,0,0,0,0,0,0,0,0,0,0,0,0,0]
[null,null,null,null,null,null,null,null,null,null,null,11,11,0,0,0,0,0,0,0,0,0,0,0,0,null,null,null,null,null,null,null,null,null,null,null,null,null,null,null,10,10,0,0,0,0,0,0,0,0,0,0,0,0,0,0,0,0,0,0,0,0,0,0,0,0]
[null,null,null,null,null,null,null,null,null,null,null,12,12,0,0,0,0,0,0,0,0,0,0,0,0,null,null,null,null,null,null,null,null,null,null,null,null,null,null,null,11,11,0,0,0,0,0,0,0,0,0,0,0,0,0,0,0,0,0,0,0,0,0,0,0,0]
[null,null,null,null,null,null,null,null,null,null,null,13,13,0,0,0,0,0,0,0,0,0,0,0,0,null,null,null,null,null,null,null,null,null,null,null,null,null,null,null,12,12,0,0,0,0,0,0,0,0,0,0,0,0,0,0,0,0,0,0,0,0,0,0,0,0]
[null,null,null,null,null,null,null,null,null,null,null,14,14,0,0,0,0,0,0,0,0,0,0,0,0,null,null,null,null,null,null,null,null,null,null,null,null,null,null,null,13,13,0,0,0,0,0,0,0,0,0,0,0,0,0,0,0,0,0,0,0,0,0,0,0,0]
[null,null,null,null,null,null,null,null,null,null,null,15,15,0,0,0,0,0,0,0,0,0,0,0,0,null,null,null,null,null,null,null,null,null,null,null,null,null,null,null,14,14,0,0,0,0,0,0,0,0,0,0,0,0,0,0,0,0,0,0,0,0,0,0,0,0]
[null,null,null,null,null,null,null,null,null,null,null,16,16,0,0,0,0,0,0,0,0,0,0,0,0,null,null,null,null,null,null,null,null,null,null,null,null,null,null,null,15,15,0,0,0,0,0,0,0,0,0,0,0,0,0,0,0,0,0,0,0,0,0,0,0,0]
[null,null,null,null,null,null,null,null,null,null,null,17,17,0,0,0,0,0,0,0,0,0,0,0,0,null,null,null,null,null,null,null,null,null,null,null,null,null,null,null,16,16,0,0,0,0,0,0,0,0,0,0,0,0,0,0,0,0,0,0,0,0,0,0,0,0]
[null,null,null,null,null,null,null,null,null,null,null,18,18,0,0,0,0,0,0,0,0,0,0,0,0,null,null,null,null,null,null,null,null,null,null,null,null,null,null,null,17,17,0,0,0,0,0,0,0,0,0,0,0,0,0,0,0,0,0,0,0,0,0,0,0,0]
[null,null,null,null,null,null,null,null,null,null,null,19,19,0,0,0,0,0,0,0,0,0,0,0,0,null,null,null,null,null,null,null,null,null,null,null,null,null,null,null,18,18,0,0,0,0,0,0,0,0,0,0,0,0,0,0,0,0,0,0,0,0,0,0,0,0]
[null,null,null,null,null,null,null,null,null,null,null,20,20,0,0,0,0,0,0,0,0,0,0,0,0,null,null,null,null,null,null,null,null,null,null,null,null,null,null,null,19,19,0,0,0,0,0,0,0,0,0,0,0,0,0,0,0,0,0,0,0,0,0,0,0,0]
[null,null,null,null,null,null,null,null,null,null,null,null,"Total (after time horizon) ($)",{"$f":"SUM(N243:N262)","v":0},{"$f":"SUM(O243:O262)","v":0},0,0,0,0,0,0,0,0,0,0,null,null,null,null,null,null,null,null,null,null,null,null,null,null,null,20,20,0,0,0,0,0,0,0,0,0,0,0,0,0,0,0,0,0,0,0,0,0,0,0,0]
[null,null,null,null,null,null,null,null,null,null,null,null,"Annual average ($/year)",{"$f":"N263/$E$8","v":{"$error":"#VALUE!"}},{"$f":"O263/$E$8","v":{"$error":"#VALUE!"}},{"$error":"#VALUE!"},{"$error":"#VALUE!"},{"$error":"#VALUE!"},{"$error":"#VALUE!"},{"$error":"#VALUE!"},{"$error":"#VALUE!"},{"$error":"#VALUE!"},{"$error":"#VALUE!"},{"$error":"#VALUE!"},{"$error":"#VALUE!"},null,null,null,null,null,null,null,null,null,null,null,null,null,null,null,null,"Total (after time horizon)",{"$f":"SUM(AQ244:AQ263)","v":0},{"$f":"SUM(AR244:AR263)","v":0},0,0,{"$f":"SUM(AU244:AU263)","v":0},{"$f":"SUM(AV244:AV263)","v":0},0,0,0,0,{"$f":"SUM(BA244:BA263)","v":0},0,0,0,0,0,0,0,0,0,0,0,0,0]
[null,null,null,null,null,null,null,null,null,null,null,null,null,null,null,null,null,null,null,null,null,null,null,null,null,null,null,null,null,null,null,null,null,null,null,null,null,null,null,null,null,"Annual average",{"$f":"AQ264/$E$8","v":{"$error":"#VALUE!"}},{"$f":"AR264/$E$8","v":{"$error":"#VALUE!"}},{"$error":"#VALUE!"},{"$error":"#VALUE!"},{"$f":"AU264/$E$8","v":{"$error":"#VALUE!"}},{"$f":"AV264/$E$8","v":{"$error":"#VALUE!"}},{"$error":"#VALUE!"},{"$error":"#VALUE!"},{"$error":"#VALUE!"},{"$error":"#VALUE!"},{"$f":"BA264/$E$8","v":{"$error":"#VALUE!"}},{"$error":"#VALUE!"},{"$error":"#VALUE!"},{"$error":"#VALUE!"},{"$error":"#VALUE!"},{"$error":"#VALUE!"},{"$error":"#VALUE!"},{"$error":"#VALUE!"},{"$error":"#VALUE!"},{"$error":"#VALUE!"},{"$error":"#VALUE!"},{"$error":"#VALUE!"},{"$error":"#VALUE!"},{"$error":"#VALUE!"}]
[]
[]
[null,null,null,null,null,null,null,null,null,null,null,null,"NPV"]
[null,null,null,null,null,null,null,null,null,null,null,null,null,"Product A ",null,null,"Product B",null,null,"Product C",null,null,"Product D ",null,null,null,"Product A ","Product B","Product C","Product D ","Product A ","Product B","Product C","Product D ",null,null,null,null,null,null,null,"NPV",null," ",null,null,null," "]
[null,null,null,null,null,null,null,null,null,null,null,null,"Year ","Acquisition","Operational","Disposal","Acquisition","Operational","Disposal","Acquisition","Operational","Disposal","Acquisition","Operational","Disposal",null,"Total cost ($)",null,null,null,"Total cost Cumulative ($)",null,null,null,null,null,null,null,null,null,null,null,"Product A",null,null,null,null,null,"Product B",null,null,null,null,null,"Product C",null,null,null,null,null,"Product D"]
[null,null,null,null,null,null,null,null,null,null,null,null,1,{"$f":"IFERROR(N243/(1+$E$7%)^$M271,0)","v":0},0,0,0,0,0,0,0,0,0,0,0,null,{"$f":"SUM(N271:P271)","v":0},{"$f":"SUM(Q271:S271)","v":0},{"$f":"SUM(T271:V271)","v":0},{"$f":"SUM(W271:Y271)","v":0},{"$f":"AA271","v":0},{"$f":"AB271","v":0},{"$f":"AC271","v":0},{"$f":"AD271","v":0},null,null,null,null,null,null,null,"Year","Acquisition","Operational  Energy","Operational  Water","Operational- Maintenance (labor)","Operational- Other","Disposal","Acquisition","Operational  Energy","Operational  Water","Operational- Maintenance (labor)","Operational- Other","Disposal","Acquisition","Operational  Energy","Operational  Water","Operational- Maintenance (labor)","Operational- Other","Disposal","Acquisition","Operational  Energy","Operational  Water","Operational- Maintenance (labor)","Operational- Other","Disposal"]
[null,null,null,null,null,null,null,null,null,null,null,null,2,{"$f":"IFERROR(N244/(1+$E$7%)^$M272,0)","v":0},0,0,0,0,0,0,0,0,0,0,0,null,{"$f":"SUM(N272:P272)","v":0},{"$f":"SUM(Q272:S272)","v":0},{"$f":"SUM(T272:V272)","v":0},{"$f":"SUM(W272:Y272)","v":0},{"$f":"IF(AA272>0,AA272+AE271,\"\")","v":""},{"$f":"IF(AB272>0,AB272+AF271,\"\")","v":""},{"$f":"IF(AC272>0,AC272+AG271,\"\")","v":""},{"$f":"IF(AD272>0,AD272+AH271,\"\")","v":""},null,null,null,null,null,null,null,1,{"$f":"IFERROR(AQ244/(1+$E$7%)^$AP272,0)","v":0},0,0,0,0,0,0,0,0,0,0,0,0,0,0,0,0,0,0,0,0,0,0,0]
[null,null,null,null,null,null,null,null,null,null,null,null,3,{"$f":"IFERROR(N245/(1+$E$7%)^$M273,0)","v":0},0,0,0,0,0,0,0,0,0,0,0,null,0,0,0,0,"","","","",null,null,null,null,null,null,null,2,{"$f":"IFERROR(AQ245/(1+$E$7%)^$AP273,0)","v":0},0,0,0,0,0,0,0,0,0,0,0,0,0,0,0,0,0,0,0,0,0,0,0]
[null,null,null,null,null,null,null,null,null,null,null,null,4,{"$f":"IFERROR(N246/(1+$E$7%)^$M274,0)","v":0},0,0,0,0,0,0,0,0,0,0,0,null,0,0,0,0,"","","","",null,null,null,null,null,null,null,3,{"$f":"IFERROR(AQ246/(1+$E$7%)^$AP274,0)","v":0},0,0,0,0,0,0,0,0,0,0,0,0,0,0,0,0,0,0,0,0,0,0,0]
[null,null,null,null,null,null,null,null,null,null,null,null,5,{"$f":"IFERROR(N247/(1+$E$7%)^$M275,0)","v":0},0,0,0,0,0,0,0,0,0,0,0,null,0,0,0,0,"","","","",null,null,null,null,null,null,null,4,{"$f":"IFERROR(AQ247/(1+$E$7%)^$AP275,0)","v":0},0,0,0,0,0,0,0,0,0,0,0,0,0,0,0,0,0,0,0,0,0,0,0]
[null,null,null,null,null,null,null,null,null,null,null,null,6,{"$f":"IFERROR(N248/(1+$E$7%)^$M276,0)","v":0},0,0,0,0,0,0,0,0,0,0,0,null,0,0,0,0,"","","","",null,null,null,null,null,null,null,5,{"$f":"IFERROR(AQ248/(1+$E$7%)^$AP276,0)","v":0},0,0,0,0,0,0,0,0,0,0,0,0,0,0,0,0,0,0,0,0,0,0,0]
[null,null,null,null,null,null,null,null,null,null,null,null,7,{"$f":"IFERROR(N249/(1+$E$7%)^$M277,0)","v":0},0,0,0,0,0,0,0,0,0,0,0,null,0,0,0,0,"","","","",null,null,null,null,null,null,null,6,{"$f":"IFERROR(AQ249/(1+$E$7%)^$AP277,0)","v":0},0,0,0,0,0,0,0,0,0,0,0,0,0,0,0,0,0,0,0,0,0,0,0]
[null,null,null,null,null,null,null,null,null,null,null,null,8,{"$f":"IFERROR(N250/(1+$E$7%)^$M278,0)","v":0},0,0,0,0,0,0,0,0,0,0,0,null,0,0,0,0,"","","","",null,null,null,null,null,null,null,7,{"$f":"IFERROR(AQ250/(1+$E$7%)^$AP278,0)","v":0},0,0,0,0,0,0,0,0,0,0,0,0,0,0,0,0,0,0,0,0,0,0,0]
[null,null,null,null,null,null,null,null,null,null,null,null,9,{"$f":"IFERROR(N251/(1+$E$7%)^$M279,0)","v":0},0,0,0,0,0,0,0,0,0,0,0,null,0,0,0,0,"","","","",null,null,null,null,null,null,null,8,{"$f":"IFERROR(AQ251/(1+$E$7%)^$AP279,0)","v":0},0,0,0,0,0,0,0,0,0,0,0,0,0,0,0,0,0,0,0,0,0,0,0]
[null,null,null,null,null,null,null,null,null,null,null,null,10,{"$f":"IFERROR(N252/(1+$E$7%)^$M280,0)","v":0},0,0,0,0,0,0,0,0,0,0,0,null,0,0,0,0,"","","","",null,null,null,null,null,null,null,9,{"$f":"IFERROR(AQ252/(1+$E$7%)^$AP280,0)","v":0},0,0,0,0,0,0,0,0,0,0,0,0,0,0,0,0,0,0,0,0,0,0,0]
[null,null,null,null,null,null,null,null,null,null,null,null,11,{"$f":"IFERROR(N253/(1+$E$7%)^$M281,0)","v":0},0,0,0,0,0,0,0,0,0,0,0,null,0,0,0,0,"","","","",null,null,null,null,null,null,null,10,{"$f":"IFERROR(AQ253/(1+$E$7%)^$AP281,0)","v":0},0,0,0,0,0,0,0,0,0,0,0,0,0,0,0,0,0,0,0,0,0,0,0]
[null,null,null,null,null,null,null,null,null,null,null,null,12,{"$f":"IFERROR(N254/(1+$E$7%)^$M282,0)","v":0},0,0,0,0,0,0,0,0,0,0,0,null,0,0,0,0,"","","","",null,null,null,null,null,null,null,11,{"$f":"IFERROR(AQ254/(1+$E$7%)^$AP282,0)","v":0},0,0,0,0,0,0,0,0,0,0,0,0,0,0,0,0,0,0,0,0,0,0,0]
[null,null,null,null,null,null,null,null,null,null,null,null,13,{"$f":"IFERROR(N255/(1+$E$7%)^$M283,0)","v":0},0,0,0,0,0,0,0,0,0,0,0,null,0,0,0,0,"","","","",null,null,null,null,null,null,null,12,{"$f":"IFERROR(AQ255/(1+$E$7%)^$AP283,0)","v":0},0,0,0,0,0,0,0,0,0,0,0,0,0,0,0,0,0,0,0,0,0,0,0]
[null,null,null,null,null,null,null,null,null,null,null,null,14,{"$f":"IFERROR(N256/(1+$E$7%)^$M284,0)","v":0},0,0,0,0,0,0,0,0,0,0,0,null,0,0,0,0,"","","","",null,null,null,null,null,null,null,13,{"$f":"IFERROR(AQ256/(1+$E$7%)^$AP284,0)","v":0},0,0,0,0,0,0,0,0,0,0,0,0,0,0,0,0,0,0,0,0,0,0,0]
[null,null,null,null,null,null,null,null,null,null,null,null,15,{"$f":"IFERROR(N257/(1+$E$7%)^$M285,0)","v":0},0,0,0,0,0,0,0,0,0,0,0,null,0,0,0,0,"","","","",null,null,null,null,null,null,null,14,{"$f":"IFERROR(AQ257/(1+$E$7%)^$AP285,0)","v":0},0,0,0,0,0,0,0,0,0,0,0,0,0,0,0,0,0,0,0,0,0,0,0]
[null,null,null,null,null,null,null,null,null,null,null,null,16,{"$f":"IFERROR(N258/(1+$E$7%)^$M286,0)","v":0},0,0,0,0,0,0,0,0,0,0,0,null,0,0,0,0,"","","","",null,null,null,null,null,null,null,15,{"$f":"IFERROR(AQ258/(1+$E$7%)^$AP286,0)","v":0},0,0,0,0,0,0,0,0,0,0,0,0,0,0,0,0,0,0,0,0,0,0,0]
[null,null,null,null,null,null,null,null,null,null,null,null,17,{"$f":"IFERROR(N259/(1+$E$7%)^$M287,0)","v":0},0,0,0,0,0,0,0,0,0,0,0,null,0,0,0,0,"","","","",null,null,null,null,null,null,null,16,{"$f":"IFERROR(AQ259/(1+$E$7%)^$AP287,0)","v":0},0,0,0,0,0,0,0,0,0,0,0,0,0,0,0,0,0,0,0,0,0,0,0]
[null,null,null,null,null,null,null,null,null,null,null,null,18,{"$f":"IFERROR(N260/(1+$E$7%)^$M288,0)","v":0},0,0,0,0,0,0,0,0,0,0,0,null,0,0,0,0,"","","","",null,null,null,null,null,null,null,17,{"$f":"IFERROR(AQ260/(1+$E$7%)^$AP288,0)","v":0},0,0,0,0,0,0,0,0,0,0,0,0,0,0,0,0,0,0,0,0,0,0,0]
[null,null,null,null,null,null,null,null,null,null,null,null,19,{"$f":"IFERROR(N261/(1+$E$7%)^$M289,0)","v":0},0,0,0,0,0,0,0,0,0,0,0,null,0,0,0,0,"","","","",null,null,null,null,null,null,null,18,{"$f":"IFERROR(AQ261/(1+$E$7%)^$AP289,0)","v":0},0,0,0,0,0,0,0,0,0,0,0,0,0,0,0,0,0,0,0,0,0,0,0]
[null,null,null,null,null,null,null,null,null,null,null,null,20,{"$f":"IFERROR(N262/(1+$E$7%)^$M290,0)","v":0},0,0,0,0,0,0,0,0,0,0,0,null,0,0,0,0,"","","","",null,null,null,null,null,null,null,19,{"$f":"IFERROR(AQ262/(1+$E$7%)^$AP290,0)","v":0},0,0,0,0,0,0,0,0,0,0,0,0,0,0,0,0,0,0,0,0,0,0,0]
[null,null,null,null,null,null,null,null,null,null,null,null,"Total (after time horizon) ($)",{"$f":"SUM(N271:N290)","v":0},{"$f":"SUM(O271:O290)","v":0},{"$f":"SUM(P271:P290)","v":0},0,0,0,0,0,0,0,0,0,null,{"$f":"SUM(AA271:AA290)","v":0},{"$f":"SUM(AB271:AB290)","v":0},{"$f":"SUM(AC271:AC290)","v":0},{"$f":"SUM(AD271:AD290)","v":0},null,null,null,null,null,null,null,null,null,null,null,20,{"$f":"IFERROR(AQ263/(1+$E$7%)^$AP291,0)","v":0},0,0,0,0,0,0,0,0,0,0,0,0,0,0,0,0,0,0,0,0,0,0,0]
[null,null,null,null,null,null,null,null,null,null,null,null,"Annual average ($/year)",{"$f":"N291/$E$8","v":{"$error":"#VALUE!"}},{"$f":"O291/$E$8","v":{"$error":"#VALUE!"}},{"$f":"P291/$E$8","v":{"$error":"#VALUE!"}},{"$f":"Q291/$E$8","v":{"$error":"#VALUE!"}},{"$error":"#VALUE!"},{"$error":"#VALUE!"},{"$error":"#VALUE!"},{"$error":"#VALUE!"},{"$error":"#VALUE!"},{"$error":"#VALUE!"},{"$error":"#VALUE!"},{"$error":"#VALUE!"},null,null,null,null,null,null,null,null,null,null,null,null,null,null,null,null,"Total (after time horizon)",{"$f":"SUM(AQ272:AQ291)","v":0},{"$f":"SUM(AR272:AR291)","v":0},0,0,0,0,0,0,0,0,0,0,0,0,0,0,0,0,0,0,0,0,0,0]
[null,null,null,null,null,null,null,null,null,null,null,null,null,null,null,null,null,null,null,null,null,null,null,null,null,null,{"$f":"AA291/$E$8","v":{"$error":"#VALUE!"}},{"$f":"AB291/$E$8","v":{"$error":"#VALUE!"}},{"$f":"AC291/$E$8","v":{"$error":"#VALUE!"}},{"$f":"AD291/$E$8","v":{"$error":"#VALUE!"}},null,null,null,null,null,null,null,null,null,null,null,"Annual average",{"$f":"AQ292/$E$8","v":{"$error":"#VALUE!"}},{"$f":"AR292/$E$8","v":{"$error":"#VALUE!"}},{"$error":"#VALUE!"},{"$error":"#VALUE!"},{"$error":"#VALUE!"},{"$error":"#VALUE!"},{"$error":"#VALUE!"},{"$error":"#VALUE!"},{"$error":"#VALUE!"},{"$error":"#VALUE!"},{"$error":"#VALUE!"},{"$error":"#VALUE!"},{"$error":"#VALUE!"},{"$error":"#VALUE!"},{"$error":"#VALUE!"},{"$error":"#VALUE!"},{"$error":"#VALUE!"},{"$error":"#VALUE!"},{"$error":"#VALUE!"},{"$error":"#VALUE!"},{"$error":"#VALUE!"},{"$error":"#VALUE!"},{"$error":"#VALUE!"},{"$error":"#VALUE!"}]
[null,null,null,null,null,null,null,null,null,null,null,null,null,"Product A ",null,null,"Product B",null,null,"Product C",null,null,"Product D "]
[null,null,null,null,null,null,null,null,null,null,null,null,null,"Acquisition","Operational","Disposal","Acquisition","Operational","Disposal","Acquisition","Operational","Disposal","Acquisition","Operational","Disposal",null,"Checking","Product A ","Product B","Product C","Product D ",null,null,null,null,null,null,null,null,null,null,null,"Product A ",null,null,null,null,null,"Product B",null,null,null,null,null,"Product C",null,null,null,null,null,"Product D "]
[null,null,null,null,null,null,null,null,null,null,null,null,"Year 1 ($)",{"$f":"N271","v":0},{"$f":"O271","v":0},0,0,0,0,0,0,0,0,0,0,null,"Year 1 ($)",{"$f":"SUM(N296:P296)","v":0},{"$f":"SUM(Q296:S296)","v":0},{"$f":"SUM(T296:V296)","v":0},{"$f":"SUM(W296:Y296)","v":0},null,null,null,null,null,null,null,null,null,null,null,"Acquisition","Operational  Energy","Operational  Water","Operational- Maintenance (labor)","Operational- Other","Disposal","Acquisition","Operational  Energy","Operational  Water","Operational- Maintenance (labor)","Operational- Other","Disposal","Acquisition","Operational  Energy","Operational  Water","Operational- Maintenance (labor)","Operational- Other","Disposal","Acquisition","Operational  Energy","Operational  Water","Operational- Maintenance (labor)","Operational- Other","Disposal"]
[null,null,null,null,null,null,null,null,null,null,null,null,"Total (after time horizon) ($)",{"$f":"N291","v":0},{"$f":"O291","v":0},0,0,0,0,0,0,0,0,0,0,null,"Total (after time horizon) ($)",{"$f":"SUM(N297:P297)","v":0},{"$f":"SUM(Q297:S297)","v":0},{"$f":"SUM(T297:V297)","v":0},{"$f":"SUM(W297:Y297)","v":0},null,null,null,null,null,null,null,null,null,null,"Year 1 ($)",{"$f":"AQ272","v":0},0,{"$f":"AS272","v":0},{"$f":"AT272","v":0},{"$f":"AU272","v":0},0,0,0,0,{"$f":"AZ272","v":0},0,0,0,0,0,{"$f":"BF272","v":0},0,0,{"$f":"BI272","v":0},0,0,0,0,0]
[null,null,null,null,null,null,null,null,null,null,null,null,"Annual average ($/year)",{"$f":"N292","v":{"$error":"#VALUE!"}},{"$f":"O292","v":{"$error":"#VALUE!"}},{"$error":"#VALUE!"},{"$f":"Q292","v":{"$error":"#VALUE!"}},{"$error":"#VALUE!"},{"$error":"#VALUE!"},{"$error":"#VALUE!"},{"$error":"#VALUE!"},{"$error":"#VALUE!"},{"$error":"#VALUE!"},{"$error":"#VALUE!"},{"$error":"#VALUE!"},null," Annual average ($/year)",{"$f":"SUM(N298:P298)","v":{"$error":"#VALUE!"}},{"$f":"SUM(Q298:S298)","v":{"$error":"#VALUE!"}},{"$f":"SUM(T298:V298)","v":{"$error":"#VALUE!"}},{"$f":"SUM(W298:Y298)","v":{"$error":"#VALUE!"}},null,null,null,null,null,null,null,null,null,null,"Total (after time horizon) ($)",{"$f":"AQ292","v":0},{"$f":"AR292","v":0},{"$f":"AS292","v":0},{"$f":"AT292","v":0},0,0,0,0,0,{"$f":"AZ292","v":0},0,0,0,0,0,{"$f":"BF292","v":0},0,0,0,0,0,{"$f":"BL292","v":0},0,0]
[null,null,null,null,null,null,null,null,null,null,null,null,null,null,null,null,null,null,null,null,null,null,null,null,null,null,null,null,null,null,null,null,null,null,null,null,null,null,null,null,null,"Annual average ($/year)",{"$f":"AQ293","v":{"$error":"#VALUE!"}},{"$error":"#VALUE!"},{"$f":"AS293","v":{"$error":"#VALUE!"}},{"$f":"AT293","v":{"$error":"#VALUE!"}},{"$error":"#VALUE!"},{"$error":"#VALUE!"},{"$error":"#VALUE!"},{"$error":"#VALUE!"},{"$error":"#VALUE!"},{"$f":"AZ293","v":{"$error":"#VALUE!"}},{"$error":"#VALUE!"},{"$error":"#VALUE!"},{"$error":"#VALUE!"},{"$error":"#VALUE!"},{"$error":"#VALUE!"},{"$f":"BF293","v":{"$error":"#VALUE!"}},{"$error":"#VALUE!"},{"$error":"#VALUE!"},{"$error":"#VALUE!"},{"$error":"#VALUE!"},{"$error":"#VALUE!"},{"$f":"BL293","v":{"$error":"#VALUE!"}},{"$error":"#VALUE!"},{"$error":"#VALUE!"}]
[null,null,null,null,null,null,null,null,null,null,null,null,"NPV Summary - Product"]
[null,null,null,null,null,null,null,null,null,null,null,null,null,"Year 1 ($)",null,null,null,"Total (after time horizon) ($)",null,null,null,"Annual average ($/year)",null,null,null,null,null,null,null,null,null,null,null,null,null,null,null,null,null,null,null,"NPV Summary - Product (split for env. costs)"]
[null,null,null,null,null,null,null,null,null,null,null,null,"Type of cost","Product A ","Product B","Product C","Product D ","Product A ","Product B","Product C","Product D ","Product A ","Product B","Product C","Product D ",null,null,null,null,null,null,null,null,null,null,null,null,null,null,null,null,null,"Year 1 ($)",null,null,null,"Total (after time horizon) ($)",null,null,null,"Annual average ($/year)"]
[null,null,null,null,null,null,null,null,null,null,null,null,"Acquisition",{"$f":"N296","v":0},{"$f":"Q296","v":0},{"$f":"T296","v":0},{"$f":"W296","v":0},{"$f":"N297","v":0},{"$f":"Q297","v":0},{"$f":"T297","v":0},{"$f":"W297","v":0},{"$f":"N298","v":{"$error":"#VALUE!"}},{"$f":"Q298","v":{"$error":"#VALUE!"}},{"$f":"T298","v":{"$error":"#VALUE!"}},{"$f":"W298","v":{"$error":"#VALUE!"}},null,null,null,null,null,null,null,null,null,null,null,null,null,null,null,null,"Type of cost","Product A ","Product B","Product C","Product D ","Product A ","Product B","Product C","Product D ","Product A ","Product B","Product C","Product D "]
[null,null,null,null,null,null,null,null,null,null,null,null,"Operational",{"$f":"O296","v":0},{"$f":"R296","v":0},{"$f":"U296","v":0},{"$f":"X296","v":0},{"$f":"O297","v":0},{"$f":"R297","v":0},{"$f":"U297","v":0},{"$f":"X297","v":0},{"$f":"O298","v":{"$error":"#VALUE!"}},{"$f":"R298","v":{"$error":"#VALUE!"}},{"$f":"U298","v":{"$error":"#VALUE!"}},{"$f":"X298","v":{"$error":"#VALUE!"}},null,null,null,null,null,null,null,null,null,null,null,null,null,null,null,null,"Acquisition",{"$f":"AQ297","v":0},{"$f":"AW297","v":0},{"$f":"BC297","v":0},{"$f":"BI297","v":0},{"$f":"AQ298","v":0},{"$f":"AW298","v":0},{"$f":"BC298","v":0},{"$f":"BI298","v":0},{"$f":"AQ299","v":{"$error":"#VALUE!"}},{"$f":"AW299","v":{"$error":"#VALUE!"}},{"$f":"BC299","v":{"$error":"#VALUE!"}},{"$f":"BI299","v":{"$error":"#VALUE!"}}]
[null,null,null,null,null,null,null,null,null,null,null,null,"Disposal",{"$f":"P296","v":0},{"$f":"S296","v":0},{"$f":"V296","v":0},{"$f":"Y296","v":0},{"$f":"P297","v":0},{"$f":"S297","v":0},{"$f":"V297","v":0},{"$f":"Y297","v":0},{"$f":"P298","v":{"$error":"#VALUE!"}},{"$f":"S298","v":{"$error":"#VALUE!"}},{"$f":"V298","v":{"$error":"#VALUE!"}},{"$f":"Y298","v":{"$error":"#VALUE!"}},null,null,null,null,null,null,null,null,null,null,null,null,null,null,null,null,"Operational- Energy",{"$f":"AR297","v":0},{"$f":"AX297","v":0},{"$f":"BD297","v":0},{"$f":"BJ297","v":0},{"$f":"AR298","v":0},{"$f":"AX298","v":0},{"$f":"BD298","v":0},{"$f":"BJ298","v":0},{"$f":"AR299","v":{"$error":"#VALUE!"}},{"$f":"AX299","v":{"$error":"#VALUE!"}},{"$f":"BD299","v":{"$error":"#VALUE!"}},{"$f":"BJ299","v":{"$error":"#VALUE!"}}]
[null,null,null,null,null,null,null,null,null,null,null,null,"Total",{"$f":"SUM(N303:N305)","v":0},{"$f":"SUM(O303:O305)","v":0},0,0,{"$f":"SUM(R303:R305)","v":0},0,0,0,{"$error":"#VALUE!"},{"$error":"#VALUE!"},{"$error":"#VALUE!"},{"$f":"SUM(Y303:Y305)","v":{"$error":"#VALUE!"}},null,null,null,null,null,null,null,null,null,null,null,null,null,null,null,null,"Operational- Water",{"$f":"AS297","v":0},{"$f":"AY297","v":0},{"$f":"BE297","v":0},{"$f":"BK297","v":0},{"$f":"AS298","v":0},{"$f":"AY298","v":0},{"$f":"BE298","v":0},{"$f":"BK298","v":0},{"$f":"AS299","v":{"$error":"#VALUE!"}},{"$f":"AY299","v":{"$error":"#VALUE!"}},{"$f":"BE299","v":{"$error":"#VALUE!"}},{"$f":"BK299","v":{"$error":"#VALUE!"}}]
[null,null,null,null,null,null,null,null,null,null,null,null,null,null,null,null,null,null,null,null,null,null,null,null,null,null,null,null,null,null,null,null,null,null,null,null,null,null,null,null,null,"Operational- Maintenance (labor)",{"$f":"AT297","v":0},{"$f":"AZ297","v":0},{"$f":"BF297","v":0},{"$f":"BL297","v":0},{"$f":"AT298","v":0},{"$f":"AZ298","v":0},{"$f":"BF298","v":0},{"$f":"BL298","v":0},{"$f":"AT299","v":{"$error":"#VALUE!"}},{"$f":"AZ299","v":{"$error":"#VALUE!"}},{"$f":"BF299","v":{"$error":"#VALUE!"}},{"$f":"BL299","v":{"$error":"#VALUE!"}}]
[null,null,null,null,null,null,null,null,null,null,null,null,"NPV Summary - Product (split by env.cost)",null,null,null,null,null,null,null,null,null,null,null,null,null,null,null,null,null,null,null,null,null,null,null,null,null,null,null,null,"Operational- Other",{"$f":"AU297","v":0},{"$f":"BA297","v":0},{"$f":"BG297","v":0},{"$f":"BM297","v":0},{"$f":"AU298","v":0},{"$f":"BA298","v":0},{"$f":"BG298","v":0},{"$f":"BM298","v":0},{"$f":"AU299","v":{"$error":"#VALUE!"}},{"$f":"BA299","v":{"$error":"#VALUE!"}},{"$f":"BG299","v":{"$error":"#VALUE!"}},{"$f":"BM299","v":{"$error":"#VALUE!"}}]
[null,null,null,null,null,null,null,null,null,null,null,null,null,"Year 1 ($)",null,null,null,"Total (after time horizon) ($)",null,null,null,"Annual average ($/year)",null,null,null,null,null,null,null,null,null,null,null,null,null,null,null,null,null,null,null,"Disposal",{"$f":"AV297","v":0},{"$f":"BB297","v":0},{"$f":"BH297","v":0},{"$f":"BN297","v":0},{"$f":"AV298","v":0},{"$f":"BB298","v":0},{"$f":"BH298","v":0},{"$f":"BN298","v":0},{"$f":"AV299","v":{"$error":"#VALUE!"}},{"$f":"BB299","v":{"$error":"#VALUE!"}},{"$f":"BH299","v":{"$error":"#VALUE!"}},{"$f":"BN299","v":{"$error":"#VALUE!"}}]
[null,null,null,null,null,null,null,null,null,null,null,null,"Type of cost","Product A ","Product B","Product C","Product D ","Product A ","Product B","Product C","Product D ","Product A ","Product B","Product C","Product D ",null,null,null,null,null,null,null,null,null,null,null,null,null,null,null,null,"Total",{"$f":"SUM(AQ304:AQ309)","v":0},0,0,0,0,0,0,0,{"$error":"#VALUE!"},{"$error":"#VALUE!"},{"$error":"#VALUE!"},{"$error":"#VALUE!"}]
[null,null,null,null,null,null,null,null,null,null,null,null,"Acquisition",{"$f":"N303","v":0},{"$f":"O303","v":0},0,0,0,0,0,0,{"$f":"V303","v":{"$error":"#VALUE!"}},{"$error":"#VALUE!"},{"$error":"#VALUE!"},{"$error":"#VALUE!"}]
[null,null,null,null,null,null,null,null,null,null,null,null,"Operational - Energy",{"$f":"AQ305","v":0},{"$f":"AR305","v":0},0,0,0,0,0,0,{"$error":"#VALUE!"},{"$error":"#VALUE!"},{"$error":"#VALUE!"},{"$error":"#VALUE!"}]
[null,null,null,null,null,null,null,null,null,null,null,null,"Operational - Water",{"$f":"AQ306","v":0},0,0,0,0,0,0,0,{"$error":"#VALUE!"},{"$error":"#VALUE!"},{"$error":"#VALUE!"},{"$error":"#VALUE!"}]
[null,null,null,null,null,null,null,null,null,null,null,null,"Operational - Maintenance (labor)",{"$f":"AQ307","v":0},0,0,0,0,0,0,0,{"$error":"#VALUE!"},{"$error":"#VALUE!"},{"$error":"#VALUE!"},{"$f":"BB307","v":{"$error":"#VALUE!"}}]
[null,null,null,null,null,null,null,null,null,null,null,null,"Operational - Other",{"$f":"AQ308","v":0},{"$f":"AR308","v":0},0,0,0,0,0,0,{"$error":"#VALUE!"},{"$error":"#VALUE!"},{"$error":"#VALUE!"},{"$f":"BB308","v":{"$error":"#VALUE!"}}]
[null,null,null,null,null,null,null,null,null,null,null,null,"Disposal",{"$f":"N305","v":0},0,0,0,0,0,0,0,{"$error":"#VALUE!"},{"$error":"#VALUE!"},{"$error":"#VALUE!"},{"$error":"#VALUE!"}]
[null,null,null,null,null,null,null,null,null,null,null,null,"Total",{"$f":"SUM(N311:N316)","v":0},0,0,0,0,0,0,0,{"$error":"#VALUE!"},{"$error":"#VALUE!"},{"$error":"#VALUE!"},{"$error":"#VALUE!"}]
[]
[null,null,null,null,null,null,null,null,null,null,null,null,null,null,null,null,null,{"$f":"AU310","v":0},{"$f":"AV310","v":0},0,0,"checking"]

{"sheet":"Calcs Screening","index":9,"n_rows":317,"n_cols":149,"rows_kept":317,"cut":false,"hidden":true,"merged":[]}
["TAB TO BE HIDDEN"]
[null,null,"DATA FROM SCREENING ASSESSMENT TAB - Product",null,null,null,null,null,null,null,null,"CALCULATIONS- Product",null,null,null,null,null,null,null,null,null,null,null,null,null,null,null,null,null,null,null,null,null,null,null,null,null,null,null,null,null,"CALCULATIONS- Product split by Environmental costs (below)",null,null,null,null,null,null,null,null,null,null,null,null,null,null,null,null,null,null,null,null,null,null,null,null,null,null,null,null,null,null,null,null,null,null,"DATA FROM REFINING TAB - Supplemental part 1",null,null,null,null,null,null,null,null,"CALCULATIONS - Supplemental part 1",null,null,null,null,null,null,null,null,null,null,null,null,null,null,null,null,null,null,null,null,null,"FINAL",null,"CALCULATIONS - product + supplemental parts 1 and 2",null,null,null,null,null,null,null,null,null,null,null,null,null,null,null,null,null,null,null,null,null,null,null,null,null,null,"DATA FROM REFINING TAB - Supplemental part 2",null,null,null,null,null,null,null,null,null,null,null,"CALCULATIONS - Supplemental part 2"]
[]
[null,null,"GENERAL DATA"]
[]
[null,null,{"$f":"'Data input (screening)'!C26","v":"Financial parameters"},{"$f":"'Data input (screening)'!D26","v":"Unit"},{"$f":"'Data input (screening)'!E26","v":"Data"},null,null,null,null,null,null,{"$f":"C6","v":"Financial parameters"},"Unit","Data"]
[null,null,{"$f":"'Data input (screening)'!C27","v":"Discount rate"},{"$f":"'Data input (screening)'!D27","v":"%"},{"$f":"IF('Data input (screening)'!E27=0,\"Not applicable\",'Data input (screening)'!E27)","v":3},null,null,null,null,null,null,"Discount rate","%",3]
[null,null,{"$f":"'Data input (screening)'!C28","v":"Investment horizon"},{"$f":"'Data input (screening)'!D28","v":"year"},{"$f":"IF('Data input (screening)'!E28=0,\"Not applicable\",'Data input (screening)'!E28)","v":"Not applicable"},null,null,null,null,null,null,"Investment horizon","year","Not applicable"]
[]
[]
[null,null,{"$f":"'Data input (screening)'!C31","v":"Product specific parameters"},{"$f":"'Data input (screening)'!D31","v":"Unit"},"Product A ","Product B","Product C ","Product D",null,null,null,{"$f":"C11","v":"Product specific parameters"},"Unit","Product A ","Product B","Product C ","Product D"]
[null,null,{"$f":"'Data input (screening)'!C32","v":"Product description"},{"$f":"'Data input (screening)'!D32","v":"na"},{"$f":"'Data input (screening)'!E32","v":0},{"$f":"'Data input (screening)'!F32","v":0},{"$f":"'Data input (screening)'!G32","v":0},{"$f":"'Data input (screening)'!H32","v":0},null,null,null,{"$f":"C12","v":"Product description"},{"$f":"D12","v":"na"},0,0,0,0]
[null,null,{"$f":"'Data input (screening)'!C33","v":"Does the product use electricity?"},{"$f":"'Data input (screening)'!D33","v":"Yes/No "},{"$f":"'Data input (screening)'!E33","v":0},{"$f":"'Data input (screening)'!F33","v":0},{"$f":"'Data input (screening)'!G33","v":0},{"$f":"'Data input (screening)'!H33","v":0},null,null,null,{"$f":"C13","v":"Does the product use electricity?"},"Yes/No ",0,0,0,0]
[null,null,{"$f":"'Data input (screening)'!C34","v":"Does the product use fuel?"},{"$f":"'Data input (screening)'!D34","v":"Yes/No "},{"$f":"'Data input (screening)'!E34","v":0},{"$f":"'Data input (screening)'!F34","v":0},{"$f":"'Data input (screening)'!G34","v":0},{"$f":"'Data input (screening)'!H34","v":0},null,null,null,"Does the product use fuel?","Yes/No ",0,0,0,0]
[null,null,{"$f":"'Data input (screening)'!C35","v":"Does the product use water?"},{"$f":"'Data input (screening)'!D35","v":"Yes/No "},{"$f":"'Data input (screening)'!E35","v":0},{"$f":"'Data input (screening)'!F35","v":0},{"$f":"'Data input (screening)'!G35","v":0},{"$f":"'Data input (screening)'!H35","v":0},null,null,null,"Does the product use water?","Yes/No ",0,0,0,0]
[null,null,{"$f":"'Data input (screening)'!C36","v":"Does the product require cleaning and sterilizing?"},{"$f":"'Data input (screening)'!D36","v":"Yes/No "},{"$f":"'Data input (screening)'!E36","v":0},{"$f":"'Data input (screening)'!F36","v":0},{"$f":"'Data input (screening)'!G36","v":0},{"$f":"'Data input (screening)'!H36","v":0},null,null,null,"Does the product require cleaning and sterilizing?","Yes/No ",0,0,0,0]
[null,null,{"$f":"'Data input (screening)'!C37","v":"Is the product a consumable?"},{"$f":"'Data input (screening)'!D37","v":"Yes/No "},{"$f":"'Data input (screening)'!E37","v":0},{"$f":"'Data input (screening)'!F37","v":0},{"$f":"'Data input (screening)'!G37","v":0},{"$f":"'Data input (screening)'!H37","v":0},null,null,null,"Is the product a consumable?","Yes/No ",0,0,0,0]
[null,null,{"$f":"'Data input (screening)'!C38","v":"Option 1. If product is a consumable"},null,null,null,null,null,null,null,null,"Option 1. If product is a consumable"]
[null,null,{"$f":"'Data input (screening)'!C39","v":"Number of times the product can be used"},{"$f":"'Data input (screening)'!D39","v":"# uses"},{"$f":"'Data input (screening)'!E39","v":0},{"$f":"'Data input (screening)'!F39","v":0},{"$f":"'Data input (screening)'!G39","v":0},{"$f":"'Data input (screening)'!H39","v":0},null,null,null,"Number of times the product can be used","# uses",0,0,0,0]
[null,null,{"$f":"'Data input (screening)'!C40","v":"Number of times this type of product is expected to be used per year"},{"$f":"'Data input (screening)'!D40","v":"# uses/ year"},{"$f":"'Data input (screening)'!E40","v":0},{"$f":"'Data input (screening)'!F40","v":0},{"$f":"'Data input (screening)'!G40","v":0},{"$f":"'Data input (screening)'!H40","v":0},null,null,null,"Number of times this type of product is expected to be used per year","# uses/ year",0,0,0,0]
[null,null,{"$f":"'Data input (screening)'!C41","v":"Option 2. If product is not a consumable"},null,null,null,null,null,null,null,null,"Option 2. If product is not a consumable"]
[null,null,{"$f":"'Data input (screening)'!C42","v":"Expected product lifespan"},{"$f":"'Data input (screening)'!D42","v":"year"},{"$f":"'Data input (screening)'!E42","v":0},{"$f":"'Data input (screening)'!F42","v":0},{"$f":"'Data input (screening)'!G42","v":0},{"$f":"'Data input (screening)'!H42","v":0},null,null,null,"Expected product lifespan","year",0,0,0,0]
[]
[null,null,null,null,null,null,null,null,null,null,null,"ACQUISITION COSTS"]
[null,null,{"$f":"'Data input (screening)'!C45","v":"COST RELATED DATA"}]
[null,null,null,null,null,null,null,null,null,null,null,{"$f":"C29","v":"Description"},"Unit","Product A ","Product B","Product C ","Product D"]
[null,null,{"$f":"'Data input (screening)'!C47","v":"ACQUISITION COSTS"},null,null,null,null,null,null,null,null,{"$f":"C30","v":"Purchase cost"},{"$f":"D30","v":"$"},{"$f":"E30","v":0},{"$f":"F30","v":0},{"$f":"G30","v":0},{"$f":"H30","v":0}]
[]
[null,null,{"$f":"'Data input (screening)'!C49","v":"Description"},{"$f":"'Data input (screening)'!D49","v":"Unit"},"Product A ","Product B","Product C ","Product D"]
[null,null,{"$f":"'Data input (screening)'!C50","v":"Purchase cost"},{"$f":"'Data input (screening)'!D50","v":"$"},{"$f":"'Data input (screening)'!E50","v":0},{"$f":"'Data input (screening)'!F50","v":0},{"$f":"'Data input (screening)'!G50","v":0},{"$f":"'Data input (screening)'!H50","v":0}]
[null,null,null,null,null,null,null,null,null,null,null,"TOTAL ACQUISITION COST","$",{"$f":"N27","v":0},{"$f":"O27","v":0},{"$f":"P27","v":0},0]
[null,null,null,null,null,null,null,null,null,null,null,null,"$ per product"]
[]
[null,null,null,null,null,null,null,null,null,null,null,"OPERATIONAL COSTS"]
[]
[null,null,"OPERATIONAL COSTS",null,null,null,null,null,null,null,null,{"$f":"C38","v":"Only applicable to products that use ELECTRICITY"},"Unit","Product A ","Product B","Product C ","Product D"]
[null,null,null,null,null,null,null,null,null,null,null,"Option 1. If annual cost data is available:",null,null,null,null,null,null,"Conversion:"]
[null,null,{"$f":"'Data input (screening)'!C55","v":"Only applicable to products that use ELECTRICITY"},{"$f":"'Data input (screening)'!D55","v":"Unit"},"Product A ","Product B","Product C ","Product D",null,null,null,"Annual cost from electricity use associated with 1 product",{"$f":"D40","v":"$/year"},{"$f":"E40","v":0},{"$f":"F40","v":0},{"$f":"G40","v":0},{"$f":"H40","v":0},null,"1 watt",1E-3,"kilowatt"]
[null,null,{"$f":"'Data input (screening)'!C56","v":"Option 1. If annual cost data is available:"},null,null,null,null,null,null,null,null,"Option 2. If annual cost data is not available:"]
[null,null,{"$f":"'Data input (screening)'!C57","v":"Annual cost from electricity use associated with 1 product"},{"$f":"'Data input (screening)'!D57","v":"$/year"},{"$f":"'Data input (screening)'!E57","v":0},{"$f":"'Data input (screening)'!F57","v":0},{"$f":"'Data input (screening)'!G57","v":0},{"$f":"'Data input (screening)'!H57","v":0},null,null,null,"Annual operating hours",{"$f":"D42","v":"hours/year"},0,0,0,0]
[null,null,{"$f":"'Data input (screening)'!C58","v":"Option 2. If annual cost data is not available:"},null,null,null,null,null,null,null,null,"Product power","watts",0,0,0,0]
[null,null,{"$f":"'Data input (screening)'!C59","v":"Annual operating hours"},{"$f":"'Data input (screening)'!D59","v":"hours/year"},{"$f":"'Data input (screening)'!E59","v":0},{"$f":"'Data input (screening)'!F59","v":0},{"$f":"'Data input (screening)'!G59","v":0},{"$f":"'Data input (screening)'!H59","v":0},null,null,null,"Electricity cost","$/kWh","","","",""]
[null,null,{"$f":"'Data input (screening)'!C60","v":"Product power"},{"$f":"'Data input (screening)'!D60","v":"watts"},{"$f":"'Data input (screening)'!E60","v":0},{"$f":"'Data input (screening)'!F60","v":0},{"$f":"'Data input (screening)'!G60","v":0},{"$f":"'Data input (screening)'!H60","v":0},null,null,null,"Annual cost calculated","$year",{"$f":"IFERROR(N40*N42*N41*$T$38,0)","v":0},{"$f":"IFERROR(O40*O42*O41*$T$38,0)","v":0},0,0]
[null,null,{"$f":"'Data input (screening)'!C61","v":"Electricity cost"},{"$f":"'Data input (screening)'!D61","v":"$/kWh"},{"$f":"'Data input (screening)'!E61","v":""},{"$f":"'Data input (screening)'!F61","v":""},{"$f":"'Data input (screening)'!G61","v":""},{"$f":"'Data input (screening)'!H61","v":""},null,null,null,"Final annual cost","$/year",{"$f":"IF(N38>0,N38,N43)","v":0},{"$f":"IF(O38>0,O38,O43)","v":0},0,0]
[null,null,null,null,null,null,null,null,null,null,null,"Total annual Electricity cost","$/year",{"$f":"N44","v":0},{"$f":"O44","v":0},{"$f":"P44","v":0},{"$f":"Q44","v":0}]
[null,null,null,null,null,null,null,null,null,null,null,null,"$/ year and per product"]
[null,null,{"$f":"'Data input (screening)'!C64","v":"Only applicable to products that use FUEL"},{"$f":"'Data input (screening)'!D64","v":"Unit"},"Product A ","Product B","Product C ","Product D"]
[null,null,{"$f":"'Data input (screening)'!C65","v":"Option 1. If annual cost data is available:"},null,null,null,null,null,null,null,null,{"$f":"C47","v":"Only applicable to products that use FUEL"},"Unit","Product A ","Product B","Product C ","Product D"]
[null,null,{"$f":"'Data input (screening)'!C66","v":"Annual cost from fuel use associated with 1 product"},{"$f":"'Data input (screening)'!D66","v":"$/year"},{"$f":"'Data input (screening)'!E66","v":0},{"$f":"'Data input (screening)'!F66","v":0},{"$f":"'Data input (screening)'!G66","v":0},{"$f":"'Data input (screening)'!H66","v":0},null,null,null,{"$f":"C48","v":"Option 1. If annual cost data is available:"}]
[null,null,{"$f":"'Data input (screening)'!C67","v":"Option 2. If annual cost data is not available:"},null,null,null,null,null,null,null,null,"Annual cost from fuel use associated with 1 product",{"$f":"D49","v":"$/year"},{"$f":"E49","v":0},{"$f":"F49","v":0},{"$f":"G49","v":0},{"$f":"H49","v":0}]
[null,null,{"$f":"'Data input (screening)'!C68","v":"Annual operating hours"},{"$f":"'Data input (screening)'!D68","v":"hours/year"},{"$f":"'Data input (screening)'!E68","v":0},{"$f":"'Data input (screening)'!F68","v":0},{"$f":"'Data input (screening)'!G68","v":0},{"$f":"'Data input (screening)'!H68","v":0},null,null,null,"Option 2. If annual cost data is not available:"]
[null,null,{"$f":"'Data input (screening)'!C69","v":"Fuel type"},{"$f":"'Data input (screening)'!D69","v":"na"},{"$f":"'Data input (screening)'!E69","v":0},{"$f":"'Data input (screening)'!F69","v":0},{"$f":"'Data input (screening)'!G69","v":0},{"$f":"'Data input (screening)'!H69","v":0},null,null,null,"Annual operating hours",{"$f":"D51","v":"hours/year"},0,0,0,0]
[null,null,{"$f":"'Data input (screening)'!C70","v":"Fuel use per hour"},{"$f":"'Data input (screening)'!D70","v":"gallon/hour"},{"$f":"'Data input (screening)'!E70","v":0},{"$f":"'Data input (screening)'!F70","v":0},{"$f":"'Data input (screening)'!G70","v":0},{"$f":"'Data input (screening)'!H70","v":0},null,null,null,"Fuel type","na",0,0,0,0]
[null,null,{"$f":"'Data input (screening)'!C71","v":"Fuel cost"},{"$f":"'Data input (screening)'!D71","v":"$/gallon"},{"$f":"'Data input (screening)'!E71","v":""},{"$f":"'Data input (screening)'!F71","v":""},{"$f":"'Data input (screening)'!G71","v":""},{"$f":"'Data input (screening)'!H71","v":""},null,null,null,"Fuel use per hour","gallon/hour",0,0,0,0]
[null,null,null,null,null,null,null,null,null,null,null,"Fuel cost","$/gallon","","","",""]
[null,null,null,null,null,null,null,null,null,null,null,"Annual cost calculated","$year",{"$f":"IFERROR(N52*N54*N55,0)","v":0},{"$f":"IFERROR(O52*O54*O55,0)","v":0},0,0]
[null,null,{"$f":"'Data input (screening)'!C74","v":"Only applicable to products that use WATER"},{"$f":"'Data input (screening)'!D74","v":"Unit"},"Product A ","Product B","Product C ","Product D",null,null,null,"Final annual cost","$/year",{"$f":"IF(N50>0,N50,N56)","v":0},{"$f":"IF(O50>0,O50,O56)","v":0},0,0]
[null,null,{"$f":"'Data input (screening)'!C75","v":"Option 1. If annual cost data is available:"},null,null,null,null,null,null,null,null,"Total annual Fuel cost","$/year",{"$f":"N57","v":0},{"$f":"O57","v":0},{"$f":"P57","v":0},{"$f":"Q57","v":0}]
[null,null,{"$f":"'Data input (screening)'!C76","v":"Annual cost from water use (incoming plus outgoing water) associated with 1 product"},{"$f":"'Data input (screening)'!D76","v":"$/year"},{"$f":"'Data input (screening)'!E76","v":0},{"$f":"'Data input (screening)'!F76","v":0},{"$f":"'Data input (screening)'!G76","v":0},{"$f":"'Data input (screening)'!H76","v":0},null,null,null,null,"$/ year and per product"]
[null,null,{"$f":"'Data input (screening)'!C77","v":"Option 2. If annual cost data is not available:"}]
[null,null,{"$f":"'Data input (screening)'!C78","v":"Annual operating hours"},{"$f":"'Data input (screening)'!D78","v":"hours/year"},{"$f":"'Data input (screening)'!E78","v":0},{"$f":"'Data input (screening)'!F78","v":0},{"$f":"'Data input (screening)'!G78","v":0},{"$f":"'Data input (screening)'!H78","v":0},null,null,null,{"$f":"C57","v":"Only applicable to products that use WATER"},"Unit","Product A ","Product B","Product C ","Product D"]
[null,null,{"$f":"'Data input (screening)'!C79","v":"In-coming water use per hour"},{"$f":"'Data input (screening)'!D79","v":"gallon/hour"},{"$f":"'Data input (screening)'!E79","v":0},{"$f":"'Data input (screening)'!F79","v":0},{"$f":"'Data input (screening)'!G79","v":0},{"$f":"'Data input (screening)'!H79","v":0},null,null,null,{"$f":"C58","v":"Option 1. If annual cost data is available:"}]
[null,null,{"$f":"'Data input (screening)'!C80","v":"Water cost (includes incoming and outgoing cost)"},{"$f":"'Data input (screening)'!D80","v":"$/ gallon"},{"$f":"'Data input (screening)'!E80","v":""},{"$f":"'Data input (screening)'!F80","v":""},{"$f":"'Data input (screening)'!G80","v":""},{"$f":"'Data input (screening)'!H80","v":""},null,null,null,"Annual cost from water use (incoming plus outgoing water) associated with 1 product",{"$f":"D59","v":"$/year"},{"$f":"E59","v":0},{"$f":"F59","v":0},{"$f":"G59","v":0},{"$f":"H59","v":0},null,null,null,null,null,null,null,null,null,null,null,null,null,null,null,null,null,null,null,null,null,null,null,null,null,null,null,null,null,null,null,null,null,null,null,null,null,null,null,null,null,null,null,null,null,null,null,null,null,null,null,null,null,null,null,null,null,null,null,null,null,null,null,null,null,null,null,null,null,null,null,null,null,null,null,null,null,null,null,null,null,null,"Product C ","Product D"]
[null,null,null,null,null,null,null,null,null,null,null,"Option 2. If annual cost data is not available:",null,null,null,null,null,null,null,null,null,null,null,null,null,null,null,null,null,null,null,null,null,null,null,null,null,null,null,null,null,null,null,null,null,null,null,null,null,null,null,null,null,null,null,null,null,null,null,null,null,null,null,null,null,null,null,null,null,null,null,null,null,null,null,null,null,null,null,null,null,null,null,null,null,null,null,null,null,null,null,null,null,null,null,null,null,null,null,{"$f":"CQ64*CL$59","v":0},0]
[null,null,null,null,null,null,null,null,null,null,null,"Annual operating hours",{"$f":"D61","v":"hours/year"},0,0,0,0,null,null,null,null,null,null,null,null,null,null,null,null,null,null,null,null,null,null,null,null,null,null,null,null,null,null,null,null,null,null,null,null,null,null,null,null,null,null,null,null,null,null,null,null,null,null,null,null,null,null,null,null,null,null,null,null,null,null,null,null,null,null,null,null,null,null,null,null,null,null,null,null,null,null,null,null,null,null,null,null,null,null,0,0]
[null,null,{"$f":"'Data input (screening)'!C83","v":"Only applicable to products that require CLEANING AND STERILIZING (for example reusable or reprocessed products)"},"Unit","Product A ","Product B","Product C ","Product D",null,null,null,"In-coming water use per hour","gallon/hour",0,0,0,0,null,null,null,null,null,null,null,null,null,null,null,null,null,null,null,null,null,null,null,null,null,null,null,null,null,null,null,null,null,null,null,null,null,null,null,null,null,null,null,null,null,null,null,null,null,null,null,null,null,null,null,null,null,null,null,null,null,null,null,null,null,null,null,null,null,null,null,null,null,null,null,null,null,null,null,null,null,null,null,null,null,null,0,0]
[null,null,{"$f":"'Data input (screening)'!C84","v":"Option 1. If cost data split is available:"},null,null,null,null,null,null,null,null,"Water cost (includes incoming and outgoing cost)","$/ gallon","","","","",null,null,null,null,null,null,null,null,null,null,null,null,null,null,null,null,null,null,null,null,null,null,null,null,null,null,null,null,null,null,null,null,null,null,null,null,null,null,null,null,null,null,null,null,null,null,null,null,null,null,null,null,null,null,null,null,null,null,null,null,null,null,null,null,null,null,null,null,null,null,null,null,null,null,null,null,null,null,null,null,null,null,0,0]
[null,null,{"$f":"'Data input (screening)'!C85","v":"Water cost associated with cleaning/sterilizing 1 product after each use"},{"$f":"'Data input (screening)'!D85","v":"$/use"},{"$f":"'Data input (screening)'!E85","v":0},{"$f":"'Data input (screening)'!F85","v":0},{"$f":"'Data input (screening)'!G85","v":0},{"$f":"'Data input (screening)'!H85","v":0},null,null,null,"Annual cost calculated",null,{"$f":"IFERROR(N65*N66*N67,0)","v":0},{"$f":"IFERROR(O65*O66*O67,0)","v":0},0,0,null,null,null,null,null,null,null,null,null,null,null,null,null,null,null,null,null,null,null,null,null,null,null,null,null,null,null,null,null,null,null,null,null,null,null,null,null,null,null,null,null,null,null,null,null,null,null,null,null,null,null,null,null,null,null,null,null,null,null,null,null,null,null,null,null,null,null,null,null,null,null,null,null,null,null,null,null,null,null,null,null,null,0,0]
[null,null,{"$f":"'Data input (screening)'!C86","v":"Energy cost associated with cleaning/sterilizing 1 product after each use"},{"$f":"'Data input (screening)'!D86","v":"$/use"},{"$f":"'Data input (screening)'!E86","v":0},{"$f":"'Data input (screening)'!F86","v":0},{"$f":"'Data input (screening)'!G86","v":0},{"$f":"'Data input (screening)'!H86","v":0},null,null,null,"Final annual cost",null,{"$f":"IF(N63>0,N63,N68)","v":0},{"$f":"IF(O63>0,O63,O68)","v":0},0,0,null,null,null,null,null,null,null,null,null,null,null,null,null,null,null,null,null,null,null,null,null,null,null,null,null,null,null,null,null,null,null,null,null,null,null,null,null,null,null,null,null,null,null,null,null,null,null,null,null,null,null,null,null,null,null,null,null,null,null,null,null,null,null,null,null,null,null,null,null,null,null,null,null,null,null,null,null,null,null,null,null,null,0,0]
[null,null,{"$f":"'Data input (screening)'!C87","v":"Labor cost associated with cleaning/sterilizing 1 product after each use"},{"$f":"'Data input (screening)'!D87","v":"$/use"},{"$f":"'Data input (screening)'!E87","v":0},{"$f":"'Data input (screening)'!F87","v":0},{"$f":"'Data input (screening)'!G87","v":0},{"$f":"'Data input (screening)'!H87","v":0},null,null,null,"Total annual Water cost","$/year",{"$f":"N69","v":0},{"$f":"O69","v":0},0,0,null,null,null,null,null,null,null,null,null,null,null,null,null,null,null,null,null,null,null,null,null,null,null,null,null,null,null,null,null,null,null,null,null,null,null,null,null,null,null,null,null,null,null,null,null,null,null,null,null,null,null,null,null,null,null,null,null,null,null,null,null,null,null,null,null,null,null,null,null,null,null,null,null,null,null,null,null,null,null,null,null,null,0,0]
[null,null,{"$f":"'Data input (screening)'!C88","v":"Option 2. If cost data split is not available:"},null,null,null,null,null,null,null,null,null,"$/ year and per product",null,null,null,null,null,null,null,null,null,null,null,null,null,null,null,null,null,null,null,null,null,null,null,null,null,null,null,null,null,null,null,null,null,null,null,null,null,null,null,null,null,null,null,null,null,null,null,null,null,null,null,null,null,null,null,null,null,null,null,null,null,null,null,null,null,null,null,null,null,null,null,null,null,null,null,null,null,null,null,null,null,null,null,null,null,null,0,0]
[null,null,{"$f":"'Data input (screening)'!C89","v":"Aggregated cost associated with cleaning/sterilizing 1 product after each use"},{"$f":"'Data input (screening)'!D89","v":"$/use"},{"$f":"'Data input (screening)'!E89","v":0},{"$f":"'Data input (screening)'!F89","v":0},{"$f":"'Data input (screening)'!G89","v":0},{"$f":"'Data input (screening)'!H89","v":0},null,null,null,null,null,null,null,null,null,null,null,null,null,null,null,null,null,null,null,null,null,null,null,null,null,null,null,null,null,null,null,null,null,null,null,null,null,null,null,null,null,null,null,null,null,null,null,null,null,null,null,null,null,null,null,null,null,null,null,null,null,null,null,null,null,null,null,null,null,null,null,null,null,null,null,null,null,null,null,null,null,null,null,null,null,null,null,null,null,null,null,0,0]
[null,null,null,null,null,null,null,null,null,null,null,{"$f":"C66","v":"Only applicable to products that require CLEANING AND STERILIZING (for example reusable or reprocessed products)"},{"$f":"D66","v":"Unit"},"Product A ","Product B","Product C ","Product D",null,null,null,null,null,null,null,null,null,null,null,null,null,null,null,null,null,null,null,null,null,null,null,null,null,null,null,null,null,null,null,null,null,null,null,null,null,null,null,null,null,null,null,null,null,null,null,null,null,null,null,null,null,null,null,null,null,null,null,null,null,null,null,null,null,null,null,null,null,null,null,null,null,null,null,null,null,null,null,null,null,null,0,0]
[null,null,null,null,null,null,null,null,null,null,null,{"$f":"C67","v":"Option 1. If cost data split is available:"},null,null,null,null,null,null,null,null,null,null,null,null,null,null,null,null,null,null,null,null,null,null,null,null,null,null,null,null,null,null,null,null,null,null,null,null,null,null,null,null,null,null,null,null,null,null,null,null,null,null,null,null,null,null,null,null,null,null,null,null,null,null,null,null,null,null,null,null,null,null,null,null,null,null,null,null,null,null,null,null,null,null,null,null,null,null,null,0,0]
[null,null,null,null,null,null,null,null,null,null,null,"Water cost associated with cleaning/sterilizing 1 product after each use","$/use",0,0,0,0,null,null,null,null,null,null,null,null,null,null,null,null,null,null,null,null,null,null,null,null,null,null,null,null,null,null,null,null,null,null,null,null,null,null,null,null,null,null,null,null,null,null,null,null,null,null,null,null,null,null,null,null,null,null,null,null,null,null,null,null,null,null,null,null,null,null,null,null,null,null,null,null,null,null,null,null,null,null,null,null,null,null,0,0]
[null,null,null,null,null,null,null,null,null,null,null,"Energy cost associated with cleaning/sterilizing 1 product after each use","$/use",0,0,0,0,null,null,null,null,null,null,null,null,null,null,null,null,null,null,null,null,null,null,null,null,null,null,null,null,null,null,null,null,null,null,null,null,null,null,null,null,null,null,null,null,null,null,null,null,null,null,null,null,null,null,null,null,null,null,null,null,null,null,null,null,null,null,null,null,null,null,null,null,null,null,null,null,null,null,null,null,null,null,null,null,null,null,0,0]
[null,null,null,null,null,null,null,null,null,null,null,"Labor cost associated with cleaning/sterilizing 1 product after each use","$/use",0,0,0,0,null,null,null,null,null,null,null,null,null,null,null,null,null,null,null,null,null,null,null,null,null,null,null,null,null,null,null,null,null,null,null,null,null,null,null,null,null,null,null,null,null,null,null,null,null,null,null,null,null,null,null,null,null,null,null,null,null,null,null,null,null,null,null,null,null,null,null,null,null,null,null,null,null,null,null,null,null,null,null,null,null,null,0,0]
[null,null,null,null,null,null,null,null,null,null,null,"Option 2. If cost data split is not available:",null,null,null,null,null,null,null,null,null,null,null,null,null,null,null,null,null,null,null,null,null,null,null,null,null,null,null,null,null,null,null,null,null,null,null,null,null,null,null,null,null,null,null,null,null,null,null,null,null,null,null,null,null,null,null,null,null,null,null,null,null,null,null,null,null,null,null,null,null,null,null,null,null,null,null,null,null,null,null,null,null,null,null,null,null,null,null,0,0]
[null,null,null,null,null,null,null,null,null,null,null,"Aggregated cost associated with cleaning/sterilizing 1 product after each use","$/use",0,0,0,0,null,null,null,null,null,null,null,null,null,null,null,null,null,null,null,null,null,null,null,null,null,null,null,null,null,null,null,null,null,null,null,null,null,null,null,null,null,null,null,null,null,null,null,null,null,null,null,null,null,null,null,null,null,null,null,null,null,null,null,null,null,null,null,null,null,null,null,null,null,null,null,null,null,null,null,null,null,null,null,null,null,null,0,0]
[null,null,null,null,null,null,null,null,null,null,null,null,null,null,null,null,null,null,null,null,null,null,null,null,null,null,null,null,null,null,null,null,null,null,null,null,null,null,null,null,null,null,null,null,null,null,null,null,null,null,null,null,null,null,null,null,null,null,null,null,null,null,null,null,null,null,null,null,null,null,null,null,null,null,null,null,null,null,null,null,null,null,null,null,null,null,null,null,null,null,null,null,null,null,null,null,null,null,null,{"$f":"CQ80*CL$59","v":0},0]
[null,null,null,null,null,null,null,null,null,null,null,{"$f":"L19","v":"Number of times the product can be used"},{"$f":"M19","v":"# uses"},0,0,0,0,null,null,null,null,null,null,null,null,null,null,null,null,null,null,null,null,null,null,null,null,null,null,null,null,null,null,null,null,null,null,null,null,null,null,null,null,null,null,null,null,null,null,null,null,null,null,null,null,null,null,null,null,null,null,null,null,null,null,null,null,null,null,null,null,null,null,null,null,null,null,null,null,null,null,null,null,null,null,null,null,null,null,0,0]
[null,null,null,null,null,null,null,null,null,null,null,{"$f":"L20","v":"Number of times this type of product is expected to be used per year"},"# uses/ year",0,0,0,0,null,null,null,null,null,null,null,null,null,null,null,null,null,null,null,null,null,null,null,null,null,null,null,null,null,null,null,null,null,null,null,null,null,null,null,null,null,null,null,null,null,null,null,null,null,null,null,null,null,null,null,null,null,null,null,null,null,null,null,null,null,null,null,null,null,null,null,null,null,null,null,null,null,null,null,null,null,null,null,null,null,null,0,0]
[null,null,null,null,null,null,null,null,null,null,null,"Number of times this type of product is expected to be Cleaned and sterilized per year ","# cleaned/ year",{"$f":"N82","v":0},{"$f":"O82","v":0},{"$f":"P82","v":0},{"$f":"Q82","v":0},null,"Assuming product is cleaned before disposal as well",null,null,null,null,null,null,null,null,null,null,null,null,null,null,null,null,null,null,null,null,null,null,null,null,null,null,null,null,null,null,null,null,null,null,null,null,null,null,null,null,null,null,null,null,null,null,null,null,null,null,null,null,null,null,null,null,null,null,null,null,null,null,null,null,null,null,null,null,null,null,null,null,null,null,null,null,null,null,null,null,0,0]
[null,null,null,null,null,null,null,null,null,null,null,"Option 1 annual cost","$/year",{"$f":"IFERROR(SUM(N75:N77)*N83,0)","v":0},{"$f":"IFERROR(SUM(O75:O77)*O83,0)","v":0},{"$f":"IFERROR(SUM(P75:P77)*P83,0)","v":0},{"$f":"IFERROR(SUM(Q75:Q77)*Q83,0)","v":0},null,null,null,null,null,null,null,null,null,null,null,null,null,null,null,null,null,null,null,null,null,null,null,null,null,null,null,null,null,null,null,null,null,null,null,null,null,null,null,null,null,null,null,null,null,null,null,null,null,null,null,null,null,null,null,null,null,null,null,null,null,null,null,null,null,null,null,null,null,null,null,null,null,null,null,null,null,null,null,null,null,null,"Product C ","Product D"]
[null,null,null,null,null,null,null,null,null,null,null,"Option 2 annual cost","$/year",{"$f":"IFERROR(N79*N83,0)","v":0},{"$f":"IFERROR(O79*O83,0)","v":0},{"$f":"IFERROR(P79*P83,0)","v":0},{"$f":"IFERROR(Q79*Q83,0)","v":0},null,null,null,null,null,null,null,null,null,null,null,null,null,null,null,null,null,null,null,null,null,null,null,null,null,null,null,null,null,null,null,null,null,null,null,null,null,null,null,null,null,null,null,null,null,null,null,null,null,null,null,null,null,null,null,null,null,null,null,null,null,null,null,null,null,null,null,null,null,null,null,null,null,null,null,null,null,null,null,null,null,null,"na","na"]
[null,null,null,null,null,null,null,null,null,null,null,"Option 1 annual cost per product","$/year and product",{"$f":"IFERROR(N84/N162,0)","v":0},{"$f":"IFERROR(O84/O162,0)","v":0},{"$f":"IFERROR(P84/P162,0)","v":0},{"$f":"IFERROR(Q84/Q162,0)","v":0},null,null,null,null,null,null,null,null,null,null,null,null,null,null,null,null,null,null,null,null,null,null,null,null,null,null,null,null,null,null,null,null,null,null,null,null,null,null,null,null,null,null,null,null,null,null,null,null,null,null,null,null,null,null,null,null,null,null,null,null,null,null,null,null,null,null,null,null,null,null,null,null,null,null,null,null,null,null,null,null,null,null,"na","na"]
[null,null,null,null,null,null,null,null,null,null,null,"Option 2 annual cost per product","$/year and product",{"$f":"IFERROR(N85/N162,0)","v":0},{"$f":"IFERROR(O85/O162,0)","v":0},{"$f":"IFERROR(P85/P162,0)","v":0},{"$f":"IFERROR(Q85/Q162,0)","v":0},null,null,null,null,null,null,null,null,null,null,null,null,null,null,null,null,null,null,null,null,null,null,null,null,null,null,null,null,null,null,null,null,null,null,null,null,null,null,null,null,null,null,null,null,null,null,null,null,null,null,null,null,null,null,null,null,null,null,null,null,null,null,null,null,null,null,null,null,null,null,null,null,null,null,null,null,null,null,null,null,null,null,"na","na"]
[null,null,null,null,null,null,null,null,null,null,null,null,null,null,null,null,null,null,null,null,null,null,null,null,null,null,null,null,null,null,null,null,null,null,null,null,null,null,null,null,null,null,null,null,null,null,null,null,null,null,null,null,null,null,null,null,null,null,null,null,null,null,null,null,null,null,null,null,null,null,null,null,null,null,null,null,null,null,null,null,null,null,null,null,null,null,null,null,null,null,null,null,null,null,null,null,null,null,null,"na","na"]
[null,null,null,null,null,null,null,null,null,null,null,"Option 1 Water annual cost per product","$/year and product",{"$f":"IFERROR(N75*N$83/N$162,0)","v":0},0,0,0,null,null,null,null,null,null,null,null,null,null,null,null,null,null,null,null,null,null,null,null,null,null,null,null,null,null,null,null,null,null,null,null,null,null,null,null,null,null,null,null,null,null,null,null,null,null,null,null,null,null,null,null,null,null,null,null,null,null,null,null,null,null,null,null,null,null,null,null,null,null,null,null,null,null,null,null,null,null,null,null,null,null,"na","na"]
[null,null,null,null,null,null,null,null,null,null,null,"Option 1 Energy annual cost per product","$/year and product",0,0,0,0,null,null,null,null,null,null,null,null,null,null,null,null,null,null,null,null,null,null,null,null,null,null,null,null,null,null,null,null,null,null,null,null,null,null,null,null,null,null,null,null,null,null,null,null,null,null,null,null,null,null,null,null,null,null,null,null,null,null,null,null,null,null,null,null,null,null,null,null,null,null,null,null,null,null,null,null,null,null,null,null,null,null,"na","na"]
[null,null,null,null,null,null,null,null,null,null,null,"Option 1 Labor annual cost per product","$/year and product",0,0,0,0,null,null,null,null,null,null,null,null,null,null,null,null,null,null,null,null,null,null,null,null,null,null,null,null,null,null,null,null,null,null,null,null,null,null,null,null,null,null,null,null,null,null,null,null,null,null,null,null,null,null,null,null,null,null,null,null,null,null,null,null,null,null,null,null,null,null,null,null,null,null,null,null,null,null,null,null,null,null,null,null,null,null,"na","na"]
[null,null,null,null,null,null,null,null,null,null,null,"Total annual Cleaning and sterilizing cost","$/year",{"$f":"IF(N86>0,N86,N87)","v":0},{"$f":"IF(O86>0,O86,O87)","v":0},0,0,null,null,null,null,null,null,null,null,null,null,null,null,null,null,null,null,null,null,null,null,null,null,null,null,null,null,null,null,null,null,null,null,null,null,null,null,null,null,null,null,null,null,null,null,null,null,null,null,null,null,null,null,null,null,null,null,null,null,null,null,null,null,null,null,null,null,null,null,null,null,null,null,null,null,null,null,null,null,null,null,null,null,"na","na"]
[null,null,null,null,null,null,null,null,null,null,null,null,"$/year and product",null,null,null,null,null,null,null,null,null,null,null,null,null,null,null,null,null,null,null,null,null,null,null,null,null,null,null,null,null,null,null,null,null,null,null,null,null,null,null,null,null,null,null,null,null,null,null,null,null,null,null,null,null,null,null,null,null,null,null,null,null,null,null,null,null,null,null,null,null,null,null,null,null,null,null,null,null,null,null,null,null,null,null,null,null,null,"na","na"]
[null,null,null,null,null,null,null,null,null,null,null,null,null,null,null,null,null,null,null,null,null,null,null,null,null,null,null,null,null,null,null,null,null,null,null,null,null,null,null,null,null,null,null,null,null,null,null,null,null,null,null,null,null,null,null,null,null,null,null,null,null,null,null,null,null,null,null,null,null,null,null,null,null,null,null,null,null,null,null,null,null,null,null,null,null,null,null,null,null,null,null,null,null,null,null,null,null,null,null,"na","na"]
[null,null,null,null,null,null,null,null,null,null,null,null,null,null,null,null,null,null,null,null,null,null,null,null,null,null,null,null,null,null,null,null,null,null,null,null,null,null,null,null,null,null,null,null,null,null,null,null,null,null,null,null,null,null,null,null,null,null,null,null,null,null,null,null,null,null,null,null,null,null,null,null,null,null,null,null,null,null,null,null,null,null,null,null,null,null,null,null,null,null,null,null,null,null,null,null,null,null,null,"na","na"]
[null,null,null,null,null,null,null,null,null,null,null,null,null,null,null,null,null,null,null,null,null,null,null,null,null,null,null,null,null,null,null,null,null,null,null,null,null,null,null,null,null,null,null,null,null,null,null,null,null,null,null,null,null,null,null,null,null,null,null,null,null,null,null,null,null,null,null,null,null,null,null,null,null,null,null,null,null,null,null,null,null,null,null,null,null,null,null,null,null,null,null,null,null,null,null,null,null,null,null,"na","na"]
[null,null,null,null,null,null,null,null,null,null,null,null,null,null,null,null,null,null,null,null,null,null,null,null,null,null,null,null,null,null,null,null,null,null,null,null,null,null,null,null,null,null,null,null,null,null,null,null,null,null,null,null,null,null,null,null,null,null,null,null,null,null,null,null,null,null,null,null,null,null,null,null,null,null,null,null,null,null,null,null,null,null,null,null,null,null,null,null,null,null,null,null,null,null,null,null,null,null,null,"na","na"]
[null,null,null,null,null,null,null,null,null,null,null,null,null,null,null,null,null,null,null,null,null,null,null,null,null,null,null,null,null,null,null,null,null,null,null,null,null,null,null,null,null,null,null,null,null,null,null,null,null,null,null,null,null,null,null,null,null,null,null,null,null,null,null,null,null,null,null,null,null,null,null,null,null,null,null,null,null,null,null,null,null,null,null,null,null,null,null,null,null,null,null,null,null,null,null,null,null,null,null,"na","na"]
[null,null,null,null,null,null,null,null,null,null,null,null,null,null,null,null,null,null,null,null,null,null,null,null,null,null,null,null,null,null,null,null,null,null,null,null,null,null,null,null,null,null,null,null,null,null,null,null,null,null,null,null,null,null,null,null,null,null,null,null,null,null,null,null,null,null,null,null,null,null,null,null,null,null,null,null,null,null,null,null,null,null,null,null,null,null,null,null,null,null,null,null,null,null,null,null,null,null,null,"na","na"]
[null,null,"DISPOSAL COSTS",null,null,null,null,null,null,null,null,null,null,null,null,null,null,null,null,null,null,null,null,null,null,null,null,null,null,null,null,null,null,null,null,null,null,null,null,null,null,null,null,null,null,null,null,null,null,null,null,null,null,null,null,null,null,null,null,null,null,null,null,null,null,null,null,null,null,null,null,null,null,null,null,null,null,null,null,null,null,null,null,null,null,null,null,null,null,null,null,null,null,null,null,null,null,null,null,"na","na"]
[null,null,null,null,null,null,null,null,null,null,null,null,null,null,null,null,null,null,null,null,null,null,null,null,null,null,null,null,null,null,null,null,null,null,null,null,null,null,null,null,null,null,null,null,null,null,null,null,null,null,null,null,null,null,null,null,null,null,null,null,null,null,null,null,null,null,null,null,null,null,null,null,null,null,null,null,null,null,null,null,null,null,null,null,null,null,null,null,null,null,null,null,null,null,null,null,null,null,null,"na","na"]
[null,null,{"$f":"'Data input (screening)'!C94","v":"Description"},"Unit","Product A ","Product B","Product C ","Product D",null,null,null,null,null,null,null,null,null,null,null,null,null,null,null,null,null,null,null,null,null,null,null,null,null,null,null,null,null,null,null,null,null,null,null,null,null,null,null,null,null,null,null,null,null,null,null,null,null,null,null,null,null,null,null,null,null,null,null,null,null,null,null,null,null,null,null,null,null,null,null,null,null,null,null,null,null,null,null,null,null,null,null,null,null,null,null,null,null,null,null,"na","na"]
[null,null,null,null,null,null,null,null,null,null,null,null,"$/ year and per product",null,null,null,null,null,null,null,null,null,null,null,null,null,null,null,null,null,null,null,null,null,null,null,null,null,null,null,null,null,null,null,null,null,null,null,null,null,null,null,null,null,null,null,null,null,null,null,null,null,null,null,null,null,null,null,null,null,null,null,null,null,null,null,null,null,null,null,null,null,null,null,null,null,null,null,null,null,null,null,null,null,null,null,null,null,null,"na","na"]
[null,null,{"$f":"'Data input (screening)'!C95","v":"Type of waste associated with the product"},{"$f":"'Data input (screening)'!D95","v":"na"},{"$f":"'Data input (screening)'!E95","v":0},{"$f":"'Data input (screening)'!F95","v":0},{"$f":"'Data input (screening)'!G95","v":0},{"$f":"'Data input (screening)'!H95","v":0},null,null,null,"TOTAL OPERATIONAL COST","$/year",{"$f":"N45+N58+N70+N92+N102","v":0},{"$f":"O45+O58+O70+O92+O102","v":0},{"$f":"P45+P58+P70+P92+P102","v":0},{"$f":"Q45+Q58+Q70+Q92+Q102","v":0},null,null,null,null,null,null,null,null,null,null,null,null,null,null,null,null,null,null,null,null,null,null,null,null,null,null,null,null,null,null,null,null,null,null,null,null,null,null,null,null,null,null,null,null,null,null,null,null,null,null,null,null,null,null,null,null,null,null,null,null,null,null,null,null,null,null,null,null,null,null,null,null,null,null,null,null,null,null,null,null,null,null,"na","na"]
[null,null,{"$f":"'Data input (screening)'!C96","v":"Weight sent to disposal associated with 1 product"},{"$f":"'Data input (screening)'!D96","v":"lb"},{"$f":"'Data input (screening)'!E96","v":0},{"$f":"'Data input (screening)'!F96","v":0},{"$f":"'Data input (screening)'!G96","v":0},{"$f":"'Data input (screening)'!H96","v":0},null,null,null,null,"$/ year and per product",null,null,null,null,null,null,null,null,null,null,null,null,null,null,null,null,null,null,null,null,null,null,null,null,null,null,null,null,null,null,null,null,null,null,null,null,null,null,null,null,null,null,null,null,null,null,null,null,null,null,null,null,null,null,null,null,null,null,null,null,null,null,null,null,null,null,null,null,null,null,null,null,null,null,null,null,null,null,null,null,null,null,null,null,null,null,"Product C ","Product D"]
[null,null,{"$f":"'Data input (screening)'!C97","v":"Waste cost associated"},{"$f":"'Data input (screening)'!D97","v":"$/lb"},{"$f":"'Data input (screening)'!E97","v":""},{"$f":"'Data input (screening)'!F97","v":""},{"$f":"'Data input (screening)'!G97","v":""},{"$f":"'Data input (screening)'!H97","v":""},null,null,null,null,null,null,null,null,null,null,null,null,null,null,null,null,null,null,null,null,null,null,null,null,null,null,null,null,null,null,null,null,null,null,null,null,null,null,null,null,null,null,null,null,null,null,null,null,null,null,null,null,null,null,null,null,null,null,null,null,null,null,null,null,null,null,null,null,null,null,null,null,null,null,null,null,null,null,null,null,null,null,null,null,null,null,null,null,null,null,null,{"$f":"CQ106*CL$59","v":0},0]
[null,null,null,null,null,null,null,null,null,null,null,"TOTAL OPERATIONAL COST - ENERGY","$/year",{"$f":"N45+N58+N90","v":0},{"$f":"O45+O58+O90","v":0},{"$f":"P45+P58+P90","v":0},{"$f":"Q45+Q58+Q90","v":0},null,null,null,null,null,null,null,null,null,null,null,null,null,null,null,null,null,null,null,null,null,null,null,null,null,null,null,null,null,null,null,null,null,null,null,null,null,null,null,null,null,null,null,null,null,null,null,null,null,null,null,null,null,null,null,null,null,null,null,null,null,null,null,null,null,null,null,null,null,null,null,null,null,null,null,null,null,null,null,null,null,null,0,0]
[null,null,null,null,null,null,null,null,null,null,null,null,"$/ year and per product",null,null,null,null,null,null,null,null,null,null,null,null,null,null,null,null,null,null,null,null,null,null,null,null,null,null,null,null,null,null,null,null,null,null,null,null,null,null,null,null,null,null,null,null,null,null,null,null,null,null,null,null,null,null,null,null,null,null,null,null,null,null,null,null,null,null,null,null,null,null,null,null,null,null,null,null,null,null,null,null,null,null,null,null,null,null,0,0]
[null,null,null,null,null,null,null,null,null,null,null,null,null,null,null,null,null,null,null,null,null,null,null,null,null,null,null,null,null,null,null,null,null,null,null,null,null,null,null,null,null,null,null,null,null,null,null,null,null,null,null,null,null,null,null,null,null,null,null,null,null,null,null,null,null,null,null,null,null,null,null,null,null,null,null,null,null,null,null,null,null,null,null,null,null,null,null,null,null,null,null,null,null,null,null,null,null,null,null,0,0]
[null,null,null,null,null,null,null,null,null,null,null,"TOTAL OPERATIONAL COST - WATER","$/year",{"$f":"N70+N89","v":0},{"$f":"O70+O89","v":0},{"$f":"P70+P89","v":0},{"$f":"Q70+Q89","v":0},null,null,null,null,null,null,null,null,null,null,null,null,null,null,null,null,null,null,null,null,null,null,null,null,null,null,null,null,null,null,null,null,null,null,null,null,null,null,null,null,null,null,null,null,null,null,null,null,null,null,null,null,null,null,null,null,null,null,null,null,null,null,null,null,null,null,null,null,null,null,null,null,null,null,null,null,null,null,null,null,null,null,0,0]
[null,null,null,null,null,null,null,null,null,null,null,null,"$/ year and per product",null,null,null,null,null,null,null,null,null,null,null,null,null,null,null,null,null,null,null,null,null,null,null,null,null,null,null,null,null,null,null,null,null,null,null,null,null,null,null,null,null,null,null,null,null,null,null,null,null,null,null,null,null,null,null,null,null,null,null,null,null,null,null,null,null,null,null,null,null,null,null,null,null,null,null,null,null,null,null,null,null,null,null,null,null,null,0,0]
[null,null,null,null,null,null,null,null,null,null,null,null,null,null,null,null,null,null,null,null,null,null,null,null,null,null,null,null,null,null,null,null,null,null,null,null,null,null,null,null,null,null,null,null,null,null,null,null,null,null,null,null,null,null,null,null,null,null,null,null,null,null,null,null,null,null,null,null,null,null,null,null,null,null,null,null,null,null,null,null,null,null,null,null,null,null,null,null,null,null,null,null,null,null,null,null,null,null,null,0,0]
[null,null,null,null,null,null,null,null,null,null,null,"TOTAL OPERATIONAL COST- MAINTENANCE (labor for sterilizing only)","$/year",{"$f":"N91","v":0},{"$f":"O91","v":0},0,0,null,null,null,null,null,null,null,null,null,null,null,null,null,null,null,null,null,null,null,null,null,null,null,null,null,null,null,null,null,null,null,null,null,null,null,null,null,null,null,null,null,null,null,null,null,null,null,null,null,null,null,null,null,null,null,null,null,null,null,null,null,null,null,null,null,null,null,null,null,null,null,null,null,null,null,null,null,null,null,null,null,null,0,0]
[null,null,null,null,null,null,null,null,null,null,null,null,"$/ year and per product",null,null,null,null,null,null,null,null,null,null,null,null,null,null,null,null,null,null,null,null,null,null,null,null,null,null,null,null,null,null,null,null,null,null,null,null,null,null,null,null,null,null,null,null,null,null,null,null,null,null,null,null,null,null,null,null,null,null,null,null,null,null,null,null,null,null,null,null,null,null,null,null,null,null,null,null,null,null,null,null,null,null,null,null,null,null,0,0]
[null,null,null,null,null,null,null,null,null,null,null,null,null,null,null,null,null,null,null,null,null,null,null,null,null,null,null,null,null,null,null,null,null,null,null,null,null,null,null,null,null,null,null,null,null,null,null,null,null,null,null,null,null,null,null,null,null,null,null,null,null,null,null,null,null,null,null,null,null,null,null,null,null,null,null,null,null,null,null,null,null,null,null,null,null,null,null,null,null,null,null,null,null,null,null,null,null,null,null,0,0]
[null,null,null,null,null,null,null,null,null,null,null,"TOTAL OPERATIONAL COST - OTHER ","$/year",{"$f":"N104-N107-N110-N113","v":0},{"$f":"O104-O107-O110-O113","v":0},{"$f":"P104-P107-P110-P113","v":0},{"$f":"Q104-Q107-Q110-Q113","v":0},null,null,null,null,null,null,null,null,null,null,null,null,null,null,null,null,null,null,null,null,null,null,null,null,null,null,null,null,null,null,null,null,null,null,null,null,null,null,null,null,null,null,null,null,null,null,null,null,null,null,null,null,null,null,null,null,null,null,null,null,null,null,null,null,null,null,null,null,null,null,null,null,null,null,null,null,null,null,null,null,null,null,0,0]
[null,null,null,null,null,null,null,null,null,null,null,null,"$/ year and per product",null,null,null,null,null,null,null,null,null,null,null,null,null,null,null,null,null,null,null,null,null,null,null,null,null,null,null,null,null,null,null,null,null,null,null,null,null,null,null,null,null,null,null,null,null,null,null,null,null,null,null,null,null,null,null,null,null,null,null,null,null,null,null,null,null,null,null,null,null,null,null,null,null,null,null,null,null,null,null,null,null,null,null,null,null,null,0,0]
[null,null,null,null,null,null,null,null,null,null,null,"DISPOSAL COSTS",null,null,null,null,null,null,null,null,null,null,null,null,null,null,null,null,null,null,null,null,null,null,null,null,null,null,null,null,null,null,null,null,null,null,null,null,null,null,null,null,null,null,null,null,null,null,null,null,null,null,null,null,null,null,null,null,null,null,null,null,null,null,null,null,null,null,null,null,null,null,null,null,null,null,null,null,null,null,null,null,null,null,null,null,null,null,null,0,0]
[null,null,null,null,null,null,null,null,null,null,null,null,null,null,null,null,null,null,null,null,null,null,null,null,null,null,null,null,null,null,null,null,null,null,null,null,null,null,null,null,null,null,null,null,null,null,null,null,null,null,null,null,null,null,null,null,null,null,null,null,null,null,null,null,null,null,null,null,null,null,null,null,null,null,null,null,null,null,null,null,null,null,null,null,null,null,null,null,null,null,null,null,null,null,null,null,null,null,null,0,0]
[null,null,null,null,null,null,null,null,null,null,null,{"$f":"C102","v":"Description"},"Unit","Product A ","Product B","Product C ","Product D",null,null,null,null,null,null,null,null,null,null,null,null,null,null,null,null,null,null,null,null,null,null,null,null,null,null,null,null,null,null,null,null,null,null,null,null,null,null,null,null,null,null,null,null,null,null,null,null,null,null,null,null,null,null,null,null,null,null,null,null,null,null,null,null,null,null,null,null,null,null,null,null,null,null,null,null,null,null,null,null,null,null,0,0]
[null,null,null,null,null,null,null,null,null,null,null,null,null,null,null,null,null,null,null,null,null,null,null,null,null,null,null,null,null,null,null,null,null,null,null,null,null,null,null,null,null,null,null,null,null,null,null,null,null,null,null,null,null,null,null,null,null,null,null,null,null,null,null,null,null,null,null,null,null,null,null,null,null,null,null,null,null,null,null,null,null,null,null,null,null,null,null,null,null,null,null,null,null,null,null,null,null,null,null,0,0]
[null,null,null,null,null,null,null,null,null,null,null,{"$f":"C104","v":"Type of waste associated with the product"},"na",0,0,0,0,null,null,null,null,null,null,null,null,null,null,null,null,null,null,null,null,null,null,null,null,null,null,null,null,null,null,null,null,null,null,null,null,null,null,null,null,null,null,null,null,null,null,null,null,null,null,null,null,null,null,null,null,null,null,null,null,null,null,null,null,null,null,null,null,null,null,null,null,null,null,null,null,null,null,null,null,null,null,null,null,null,null,{"$f":"CQ122*CL$59","v":0},0]
[null,null,null,null,null,null,null,null,null,null,null,"Weight sent to disposal associated with 1 product","lb",0,0,0,0,null,null,null,null,null,null,null,null,null,null,null,null,null,null,null,null,null,null,null,null,null,null,null,null,null,null,null,null,null,null,null,null,null,null,null,null,null,null,null,null,null,null,null,null,null,null,null,null,null,null,null,null,null,null,null,null,null,null,null,null,null,null,null,null,null,null,null,null,null,null,null,null,null,null,null,null,null,null,null,null,null,null,0,0]
[null,null,null,null,null,null,null,null,null,null,null,"Waste cost associated","$/lb","","","","",null,null,null,null,null,null,null,null,null,null,null,null,null,null,null,null,null,null,null,null,null,null,null,null,null,null,null,null,null,null,null,null,null,null,null,null,null,null,null,null,null,null,null,null,null,null,null,null,null,null,null,null,null,null,null,null,null,null,null,null,null,null,null,null,null,null,null,null,null,null,null,null,null,null,null,null,null,null,null,null,null,null,0,0]
[null,null,null,null,null,null,null,null,null,null,null,"Waste disposal cost","$",{"$f":"IFERROR(IF(N122=\"Universal waste (revenue)\",-N124*N123,N124*N123),0)","v":0},{"$f":"IFERROR(IF(O122=\"Universal waste (revenue)\",-O124*O123,O124*O123),0)","v":0},0,{"$f":"IFERROR(IF(Q122=\"Universal waste (revenue)\",-Q124*Q123,Q124*Q123),0)","v":0},null,null,null,null,null,null,null,null,null,null,null,null,null,null,null,null,null,null,null,null,null,null,null,null,null,null,null,null,null,null,null,null,null,null,null,null,null,null,null,null,null,null,null,null,null,null,null,null,null,null,null,null,null,null,null,null,null,null,null,null,null,null,null,null,null,null,null,null,null,null,null,null,null,null,null,null,null,null,null,null,null,null,0,0]
[]
[]
[]
[]
[null,null,null,null,null,null,null,null,null,null,null,null,null,null,null,null,null,null,null,null,null,null,null,null,null,null,null,null,null,null,null,null,null,null,null,null,null,null,null,null,null,null,null,null,null,null,null,null,null,null,null,null,null,null,null,null,null,null,null,null,null,null,null,null,null,null,null,null,null,null,null,null,null,null,null,null,null,null,null,null,null,null,null,null,null,null,null,null,null,null,null,null,null,null,null,null,null,null,null,null,null,null,null,null,null,null,null,null,null,null,"RESULTS- product + supplemental parts 1 and 2"]
[]
[]
[]
[]
[null,null,null,null,null,null,null,null,null,null,null,null,null,null,null,null,null,null,null,null,null,null,null,null,null,null,null,null,null,null,null,null,null,null,null,null,null,null,null,null,null,null,null,null,null,null,null,null,null,null,null,null,null,null,null,null,null,null,null,null,null,null,null,null,null,null,null,null,null,null,null,null,null,null,null,null,null,null,null,null,null,null,null,null,null,null,null,null,null,null,null,null,null,null,null,null,null,null,null,null,null,null,null,null,null,null,null,null,null,null,null,null,"(Acquis.)","(Disposal)",null,"(Acquis.)","(Disposal)",null,"(Acquis.)","(Disposal)",null,"(Acquis.)","(Disposal)"]
[null,null,null,null,null,null,null,null,null,null,null,null,null,null,null,null,null,null,null,null,null,null,null,null,null,null,null,null,null,null,null,null,null,null,null,null,null,null,null,null,null,null,null,null,null,null,null,null,null,null,null,null,null,null,null,null,null,null,null,null,null,null,null,null,null,null,null,null,null,null,null,null,null,null,null,null,null,null,null,null,null,null,null,null,null,null,null,null,null,null,null,null,null,null,null,null,null,null,null,null,null,null,null,null,null,null,null,null,null,null,"Value (not adjusted)",null,"Suppl. parts","Suppl. parts",null,"Suppl. parts","Suppl. parts",null,"Suppl. parts","Suppl. parts",null,"Suppl. parts","Suppl. parts"]
[null,null,null,null,null,null,null,null,null,null,null,null,null,null,null,null,null,null,null,null,null,null,null,null,null,null,null,null,null,null,null,null,null,null,null,null,null,null,null,null,null,null,null,null,null,null,null,null,null,null,null,null,null,null,null,null,null,null,null,null,null,null,null,null,null,null,null,null,null,null,null,null,null,null,null,null,null,null,null,null,null,null,null,null,null,null,null,null,null,null,null,null,null,null,null,null,null,null,null,null,null,null,null,null,null,null,null,null,null,"Year adapted by the user",null,"Product A ",null,null,"Product B",null,null,"Product C",null,null,"Product D "]
[null,null,null,null,null,null,null,null,null,null,null,null,null,null,null,null,null,null,null,null,null,null,null,null,null,null,null,null,null,null,null,null,null,null,null,null,null,null,null,null,null,null,null,null,null,null,null,null,null,null,null,null,null,null,null,null,null,null,null,null,null,null,null,null,null,null,null,null,null,null,null,null,null,null,null,null,null,null,null,null,null,null,null,null,null,null,null,null,null,null,null,null,null,null,null,null,null,null,null,null,null,null,null,null,null,null,null,null,null,null,"Year ","Acquisition","Operational","Disposal","Acquisition","Operational","Disposal","Acquisition","Operational","Disposal","Acquisition","Operational","Disposal"]
[null,null,null,null,null,null,null,null,null,null,null,"TOTAL DISPOSAL COST","$",{"$f":"N125","v":0},{"$f":"O125","v":0},0,0,null,null,null,null,null,null,null,null,null,null,null,null,null,null,null,null,null,null,null,null,null,null,null,null,null,null,null,null,null,null,null,null,null,null,null,null,null,null,null,null,null,null,null,null,null,null,null,null,null,null,null,null,null,null,null,null,null,null,null,null,null,null,null,null,null,null,null,null,null,null,null,null,null,null,null,null,null,null,null,null,null,null,null,null,null,null,null,null,null,null,null,null,{"$f":"IF(OR(DG139<$N$145,DG139=$N$145),DF138+1,\"na\")","v":1},1,{"$f":"N243","v":0},{"$f":"O243+CJ139+EU139","v":0},{"$f":"P243+CL139+EW139","v":0},{"$f":"Q243","v":0},{"$f":"R243+CM139+EX139","v":0},{"$f":"S243+CO139+EZ139","v":0},{"$f":"T243","v":0},{"$f":"U243+CP139+FA139","v":0},{"$f":"V243+CR139+FC139","v":0},{"$f":"W243","v":0},{"$f":"X243+CS139+FD139","v":0},{"$f":"Y243+CU139+FF139","v":0}]
[null,null,null,null,null,null,null,null,null,null,null,null,"$ per  product",null,null,null,null,null,null,null,null,null,null,null,null,null,null,null,null,null,null,null,null,null,null,null,null,null,null,null,null,null,null,null,null,null,null,null,null,null,null,null,null,null,null,null,null,null,null,null,null,null,null,null,null,null,null,null,null,null,null,null,null,null,null,null,null,null,null,null,null,null,null,null,null,null,null,null,null,null,null,null,null,null,null,null,null,null,null,null,null,null,null,null,null,null,null,null,null,2,2,0,{"$f":"O244+CJ140+EU140","v":0},{"$f":"P244+CL140+EW140","v":0},0,{"$f":"R244+CM140+EX140","v":0},{"$f":"S244+CO140+EZ140","v":0},0,{"$f":"U244+CP140+FA140","v":0},{"$f":"V244+CR140+FC140","v":0},0,{"$f":"X244+CS140+FD140","v":0},{"$f":"Y244+CU140+FF140","v":0}]
[null,null,null,null,null,null,null,null,null,null,null,null,null,null,null,null,null,null,null,null,null,null,null,null,null,null,null,null,null,null,null,null,null,null,null,null,null,null,null,null,null,null,null,null,null,null,null,null,null,null,null,null,null,null,null,null,null,null,null,null,null,null,null,null,null,null,null,null,null,null,null,null,null,null,null,null,null,null,null,null,null,null,null,null,null,null,null,null,null,null,null,null,null,null,null,null,null,null,null,null,null,null,null,null,null,null,null,null,null,3,3,0,0,0,0,0,0,0,0,0,0,0,0]
[null,null,null,null,null,null,null,null,null,null,null,null,null,null,null,null,null,null,null,null,null,null,null,null,null,null,null,null,null,null,null,null,null,null,null,null,null,null,null,null,null,null,null,null,null,null,null,null,null,null,null,null,null,null,null,null,null,null,null,null,null,null,null,null,null,null,null,null,null,null,null,null,null,null,null,null,null,null,null,null,null,null,null,null,null,null,null,null,null,null,null,null,null,null,null,null,null,null,null,null,null,null,null,null,null,null,null,null,null,4,4,0,0,0,0,0,0,0,0,0,0,0,0]
[null,null,null,null,null,null,null,null,null,null,null,"PARAMETERS",null,null,null,null,null,null,null,null,null,null,null,null,null,null,null,null,null,null,null,null,null,null,null,null,null,null,null,null,null,null,null,null,null,null,null,null,null,null,null,null,null,null,null,null,null,null,null,null,null,null,null,null,null,null,null,null,null,null,null,null,null,null,null,null,null,null,null,null,null,null,null,null,null,null,null,null,null,null,null,null,null,null,null,null,null,null,null,null,null,null,null,null,null,null,null,null,null,5,5,0,0,0,0,0,0,0,0,0,0,0,0]
[null,null,null,null,null,null,null,null,null,null,null,{"$f":"L7","v":"Discount rate"},"%",3,null,null,null,null,null,null,null,null,null,null,null,null,null,null,null,null,null,null,null,null,null,null,null,null,null,null,null,null,null,null,null,null,null,null,null,null,null,null,null,null,null,null,null,null,null,null,null,null,null,null,null,null,null,null,null,null,null,null,null,null,null,null,null,null,null,null,null,null,null,null,null,null,null,null,null,null,null,null,null,null,null,null,null,null,null,null,null,null,null,null,null,null,null,null,null,6,6,0,0,0,0,0,0,0,0,0,0,0,0]
[null,null,null,null,null,null,null,null,null,null,null,"Investment horizon","year","Not applicable",null,null,null,null,null,null,null,null,null,null,null,null,null,null,null,null,null,null,null,null,null,null,null,null,null,null,null,null,null,null,null,null,null,null,null,null,null,null,null,null,null,null,null,null,null,null,null,null,null,null,null,null,null,null,null,null,null,null,null,null,null,null,null,null,null,null,null,null,null,null,null,null,null,null,null,null,null,null,null,null,null,null,null,null,null,null,null,null,null,null,null,null,null,null,null,7,7,0,0,0,0,0,0,0,0,0,0,0,0]
[null,null,null,null,null,null,null,null,null,null,null,null,null,null,null,null,null,null,null,null,null,null,null,null,null,null,null,null,null,null,null,null,null,null,null,null,null,null,null,null,null,null,null,null,null,null,null,null,null,null,null,null,null,null,null,null,null,null,null,null,null,null,null,null,null,null,null,null,null,null,null,null,null,null,null,null,null,null,null,null,null,null,null,null,null,null,null,null,null,null,null,null,null,null,null,null,null,null,null,null,null,null,null,null,null,null,null,null,null,8,8,0,0,0,0,0,0,0,0,0,0,0,0]
[null,null,null,null,null,null,null,null,null,null,null,"Description","Unit","Product A ","Product B","Product C ","Product D",null,null,null,null,null,null,null,null,null,null,null,null,null,null,null,null,null,null,null,null,null,null,null,null,null,null,null,null,null,null,null,null,null,null,null,null,null,null,null,null,null,null,null,null,null,null,null,null,null,null,null,null,null,null,null,null,null,null,null,null,null,null,null,null,null,null,null,null,null,null,null,null,null,null,null,null,null,null,null,null,null,null,null,null,null,null,null,null,null,null,null,null,9,9,0,0,0,0,0,0,0,0,0,0,0,0]
[null,null,null,null,null,null,null,null,null,null,null,{"$f":"L17","v":"Is the product a consumable?"},{"$f":"M17","v":"Yes/No "},0,0,0,0,null,null,null,null,null,null,null,null,null,null,null,null,null,null,null,null,null,null,null,null,null,null,null,null,null,null,null,null,null,null,null,null,null,null,null,null,null,null,null,null,null,null,null,null,null,null,null,null,null,null,null,null,null,null,null,null,null,null,null,null,null,null,null,null,null,null,null,null,null,null,null,null,null,null,null,null,null,null,null,null,null,null,null,null,null,null,null,null,null,null,null,null,10,10,0,0,0,0,0,0,0,0,0,0,0,0]
[null,null,null,null,null,null,null,null,null,null,null,{"$f":"L18","v":"Option 1. If product is a consumable"},null,null,null,null,null,null,null,null,null,null,null,null,null,null,null,null,null,null,null,null,null,null,null,null,null,null,null,null,null,null,null,null,null,null,null,null,null,null,null,null,null,null,null,null,null,null,null,null,null,null,null,null,null,null,null,null,null,null,null,null,null,null,null,null,null,null,null,null,null,null,null,null,null,null,null,null,null,null,null,null,null,null,null,null,null,null,null,null,null,null,null,null,null,null,null,null,null,11,11,0,0,0,0,0,0,0,0,0,0,0,0]
[null,null,null,null,null,null,null,null,null,null,null,"Number of times the product can be used","# uses",0,0,0,0,null,null,null,null,null,null,null,null,null,null,null,null,null,null,null,null,null,null,null,null,null,null,null,null,null,null,null,null,null,null,null,null,null,null,null,null,null,null,null,null,null,null,null,null,null,null,null,null,null,null,null,null,null,null,null,null,null,null,null,null,null,null,null,null,null,null,null,null,null,null,null,null,null,null,null,null,null,null,null,null,null,null,null,null,null,null,null,null,null,null,null,null,12,12,0,0,0,0,0,0,0,0,0,0,0,0]
[null,null,null,null,null,null,null,null,null,null,null,"Number of times this type of product is expected to be used per year","# uses/ year",0,0,0,0,null,null,null,null,null,null,null,null,null,null,null,null,null,null,null,null,null,null,null,null,null,null,null,null,null,null,null,null,null,null,null,null,null,null,null,null,null,null,null,null,null,null,null,null,null,null,null,null,null,null,null,null,null,null,null,null,null,null,null,null,null,null,null,null,null,null,null,null,null,null,null,null,null,null,null,null,null,null,null,null,null,null,null,null,null,null,null,null,null,null,null,null,13,13,0,0,0,0,0,0,0,0,0,0,0,0]
[null,null,null,null,null,null,null,null,null,null,null,"Option 2. If product is not a consumable",null,null,null,null,null,null,null,null,null,null,null,null,null,null,null,null,null,null,null,null,null,null,null,null,null,null,null,null,null,null,null,null,null,null,null,null,null,null,null,null,null,null,null,null,null,null,null,null,null,null,null,null,null,null,null,null,null,null,null,null,null,null,null,null,null,null,null,null,null,null,null,null,null,null,null,null,null,null,null,null,null,null,null,null,null,null,null,null,null,null,null,null,null,null,null,null,null,14,14,0,0,0,0,0,0,0,0,0,0,0,0]
[null,null,null,null,null,null,null,null,null,null,null,"Expected product lifespan","year",0,0,0,0,null,"minimum it will be 1",null,null,null,null,null,null,null,null,null,null,null,null,null,null,null,null,null,null,null,null,null,null,null,null,null,null,null,null,null,null,null,null,null,null,null,null,null,null,null,null,null,null,null,null,null,null,null,null,null,null,null,null,null,null,null,null,null,null,null,null,null,null,null,null,null,null,null,null,null,null,null,null,null,null,null,null,null,null,null,null,null,null,null,null,null,null,null,null,null,null,15,15,0,0,0,0,0,0,0,0,0,0,0,0]
[null,null,null,null,null,null,null,null,null,null,null,null,null,null,null,null,null,null,null,null,null,null,null,null,null,null,null,null,null,null,null,null,null,null,null,null,null,null,null,null,null,null,null,null,null,null,null,null,null,null,null,null,null,null,null,null,null,null,null,null,null,null,null,null,null,null,null,null,null,null,null,null,null,null,null,null,null,null,null,null,null,null,null,null,null,null,null,null,null,null,null,null,null,null,null,null,null,null,null,null,null,null,null,null,null,null,null,null,null,16,16,0,0,0,0,0,0,0,0,0,0,0,0]
[null,null,null,null,null,null,null,null,null,null,null,"Product per year if consumable","product/year",{"$f":"IFERROR(N151/N150,0)","v":0},{"$f":"IFERROR(O151/O150,0)","v":0},{"$f":"IFERROR(P151/P150,0)","v":0},{"$f":"IFERROR(Q151/Q150,0)","v":0},null,null,null,null,null,null,null,null,null,null,null,null,null,null,null,null,null,null,null,null,null,null,null,null,null,null,null,null,null,null,null,null,null,null,null,null,null,null,null,null,null,null,null,null,null,null,null,null,null,null,null,null,null,null,null,null,null,null,null,null,null,null,null,null,null,null,null,null,null,null,null,null,null,null,null,null,null,null,null,null,null,null,null,null,null,null,null,null,null,null,null,null,17,17,0,0,0,0,0,0,0,0,0,0,0,0]
[null,null,null,null,null,null,null,null,null,null,null,"Product per year Rounding if consumable","product/year",{"$f":"IFERROR(ROUNDUP(N155,0),0)","v":0},{"$f":"IFERROR(ROUNDUP(O155,0),0)","v":0},{"$f":"IFERROR(ROUNDUP(P155,0),0)","v":0},{"$f":"IFERROR(ROUNDUP(Q155,0),0)","v":0},null,"minimum it will be 1",null,null,null,null,null,null,null,null,null,null,null,null,null,null,null,null,null,null,null,null,null,null,null,null,null,null,null,null,null,null,null,null,null,null,null,null,null,null,null,null,null,null,null,null,null,null,null,null,null,null,null,null,null,null,null,null,null,null,null,null,null,null,null,null,null,null,null,null,null,null,null,null,null,null,null,null,null,null,null,null,null,null,null,null,null,null,null,null,null,null,18,18,0,0,0,0,0,0,0,0,0,0,0,0]
[null,null,null,null,null,null,null,null,null,null,null,"Disposal interval Consumable",null,{"$f":"IFERROR(IF(N155>1,1,1/N155),0)","v":0},{"$f":"IFERROR(IF(O155>1,1,1/O155),0)","v":0},{"$f":"IFERROR(IF(P155>1,1,1/P155),0)","v":0},{"$f":"IFERROR(IF(Q155>1,1,1/Q155),0)","v":0},null,null,null,null,null,null,null,null,null,null,null,null,null,null,null,null,null,null,null,null,null,null,null,null,null,null,null,null,null,null,null,null,null,null,null,null,null,null,null,null,null,null,null,null,null,null,null,null,null,null,null,null,null,null,null,null,null,null,null,null,null,null,null,null,null,null,null,null,null,null,null,null,null,null,null,null,null,null,null,null,null,null,null,null,null,null,null,null,null,null,null,null,19,19,0,0,0,0,0,0,0,0,0,0,0,0]
[null,null,null,null,null,null,null,null,null,null,null,"Disposal interval Consumable Final",null,{"$f":"ROUND(N157,0)","v":0},{"$f":"ROUND(O157,0)","v":0},0,0,null,null,null,null,null,null,null,null,null,null,null,null,null,null,null,null,null,null,null,null,null,null,null,null,null,null,null,null,null,null,null,null,null,null,null,null,null,null,null,null,null,null,null,null,null,null,null,null,null,null,null,null,null,null,null,null,null,null,null,null,null,null,null,null,null,null,null,null,null,null,null,null,null,null,null,null,null,null,null,null,null,null,null,null,null,null,null,null,null,null,null,null,20,20,0,0,0,0,0,0,0,0,0,0,0,0]
[null,null,null,null,null,null,null,null,null,null,null,"Disposal interval Non consumable",null,{"$f":"IF(N148=\"Yes\",\"not applicable\",N153)","v":0},{"$f":"IF(O148=\"Yes\",\"not applicable\",O153)","v":0},0,0,null,null,null,null,null,null,null,null,null,null,null,null,null,null,null,null,null,null,null,null,null,null,null,null,null,null,null,null,null,null,null,null,null,null,null,null,null,null,null,null,null,null,null,null,null,null,null,null,null,null,null,null,null,null,null,null,null,null,null,null,null,null,null,null,null,null,null,null,null,null,null,null,null,null,null,null,null,null,null,null,null,null,null,null,null,null,null,null,null,null,null,null,null,"Total (after time horizon) ($)",{"$f":"SUM(DH139:DH158)","v":0},{"$f":"SUM(DI139:DI158)","v":0},0,0,0,0,0,0,0,0,0,0]
[null,null,null,null,null,null,null,null,null,null,null,"Disposal interval Consumable",null,{"$f":"IF(N148=\"yes\",N158,\"Not applicable\")","v":"Not applicable"},{"$f":"IF(O148=\"yes\",O158,\"Not applicable\")","v":"Not applicable"},{"$f":"IF(P148=\"yes\",P158,\"Not applicable\")","v":"Not applicable"},{"$f":"IF(Q148=\"yes\",Q158,\"Not applicable\")","v":"Not applicable"},null,null,null,null,null,null,null,null,null,null,null,null,null,null,null,null,null,null,null,null,null,null,null,null,null,null,null,null,null,null,null,null,null,null,null,null,null,null,null,null,null,null,null,null,null,null,null,null,null,null,null,null,null,null,null,null,null,null,null,null,null,null,null,null,null,null,null,null,null,null,null,null,null,null,null,null,null,null,null,null,null,null,null,null,null,null,null,null,null,null,null,null,null,"Annual average ($/year)",{"$f":"DH159/$E$8","v":{"$error":"#VALUE!"}},{"$f":"DI159/$E$8","v":{"$error":"#VALUE!"}},{"$error":"#VALUE!"},{"$error":"#VALUE!"},{"$error":"#VALUE!"},{"$error":"#VALUE!"},{"$error":"#VALUE!"},{"$error":"#VALUE!"},{"$error":"#VALUE!"},{"$error":"#VALUE!"},{"$error":"#VALUE!"},{"$error":"#VALUE!"}]
[null,null,null,null,null,null,null,null,null,null,null,"Products per year","product/year",{"$f":"IF(N148=\"Yes\",N156,(IF(AND(N148=\"No\",(N153=\"Please select\")),\"Not applicable\",1)))","v":1},{"$f":"IF(O148=\"Yes\",O156,(IF(AND(O148=\"No\",(O153=\"Please select\")),\"Not applicable\",1)))","v":1},{"$f":"IF(P148=\"Yes\",P156,(IF(AND(P148=\"No\",(P153=\"Please select\")),\"Not applicable\",1)))","v":1},1]
[null,null,null,null,null,null,null,null,null,null,null,"Products per year- Final","product/year",{"$f":"IF(N164=0,0,N161)","v":0},{"$f":"IF(O164=0,0,O161)","v":0},{"$f":"IF(P164=0,0,P161)","v":0},{"$f":"IF(Q164=0,0,Q161)","v":0},null,"Assumption: if it is not a consumable -> 1 product (as the expected life is assumed to be 1 year minimum)"]
[null,null,null,null,null,null,null,null,null,null,null,"Disposal interval",null,{"$f":"IF(N159=\"Not applicable\",N160,N159)","v":0},{"$f":"IF(O159=\"Not applicable\",O160,O159)","v":0},{"$f":"IF(P159=\"Not applicable\",P160,P159)","v":0},{"$f":"IF(Q159=\"Not applicable\",Q160,Q159)","v":0}]
[null,null,null,null,null,null,null,null,null,null,null,"Disposal interval -Final",null,{"$f":"IF(N163=\"Not applicable\",0,N163)","v":0},{"$f":"IF(O163=\"Not applicable\",0,O163)","v":0},{"$f":"IF(P163=\"Not applicable\",0,P163)","v":0},{"$f":"IF(Q163=\"Not applicable\",0,Q163)","v":0},null,null,null,null,null,null,null,null,null,null,null,null,null,null,null,null,null,null,null,null,null,null,null,null,null,null,null,null,null,null,null,null,null,null,null,null,null,null,null,null,null,null,null,null,null,null,null,null,null,null,null,null,null,null,null,null,null,null,null,null,null,null,null,null,null,null,null,null,null,null,null,null,null,null,null,null,null,null,null,null,null,null,null,null,null,null,null,null,null,null,null,null,null,"NPV",null,"Suppl. parts","Suppl. parts",null,"Suppl. parts","Suppl. parts",null,"Suppl. parts","Suppl. parts",null,"Suppl. parts","Suppl. parts"]
[null,null,null,null,null,null,null,null,null,null,null,null,"INTERVAL (years)",null,null,null,null,"COST PER PRODUCT ($/ product)",null,null,null,null,"COST TOTAL ($)",null,null,null,null,null,null,null,null,null,null,null,null,null,null,null,null,null,null,null,null,null,null,null,null,null,null,null,null,null,null,null,null,null,null,null,null,null,null,null,null,null,null,null,null,null,null,null,null,null,null,null,null,null,null,null,null,null,null,null,null,null,null,null,null,null,null,null,null,null,null,null,null,null,null,null,null,null,null,null,null,null,null,null,null,null,null,"Year adapted by the user",null,"Product A ",null,null,"Product B",null,null,"Product C",null,null,"Product D ",null,null,null,"Product A ","Product B","Product C","Product D ","Product A ","Product B","Product C","Product D "]
[null,null,null,null,null,null,null,null,null,null,null,"Years","Acquisition","Product A ","Product B","Product C ","Product D","Acquisition","Product A ","Product B","Product C ","Product D","Acquisition","Product A ","Product B","Product C ","Product D",null,null,null,null,null,null,null,null,null,null,null,null,null,null,null,"INTERVAL (years)",null,null,null,null,"COST TOTAL ($)",null,null,null,null,null,null,null,null,null,null,null,null,null,null,null,null,null,null,null,null,null,null,null,null,null,null,null,null,null,null,null,null,null,null,null,null,null,null,null,null,null,null,null,null,null,null,null,null,null,null,null,null,null,null,null,null,null,null,null,null,null,null,"Year ","Acquisition","Operational","Disposal","Acquisition","Operational","Disposal","Acquisition","Operational","Disposal","Acquisition","Operational","Disposal",null,"Total cost ($)",null,null,null,"Total cost Cumulative ($)"]
[null,null,null,null,null,null,null,null,null,null,null,1,null,1,1,1,1,null,{"$f":"N$31","v":0},{"$f":"O$31","v":0},{"$f":"P$31","v":0},{"$f":"Q$31","v":0},null,{"$f":"S167*N$162","v":0},0,0,0,null,null,null,null,null,null,null,null,null,null,null,null,null,null,"Years","Acquisition","Product A ","Product B","Product C ","Product D","Acquisition","Product A ","Product B","Product C ","Product D",null,"Checking",null,null,null,null,null,null,null,null,null,null,null,null,null,null,null,null,null,null,null,null,null,null,null,null,null,null,null,null,null,null,null,null,null,null,null,null,null,null,null,null,null,null,null,null,null,null,null,null,null,null,null,null,null,null,null,{"$f":"IF(OR(DG167<$N$145,DG167=$N$145),DF166+1,\"\")","v":1},1,{"$f":"IFERROR(DH139/(1+$E$7%)^$DG167,0)","v":0},0,0,0,0,0,0,0,0,0,0,0,null,{"$f":"SUM(DH167:DJ167)","v":0},{"$f":"SUM(DK167:DM167)","v":0},{"$f":"SUM(DN167:DP167)","v":0},{"$f":"SUM(DQ167:DS167)","v":0},{"$f":"DU167","v":0},{"$f":"DV167","v":0},{"$f":"DW167","v":0},{"$f":"DX167","v":0}]
[null,null,null,null,null,null,null,null,null,null,null,2,null,{"$f":"N209+$N$167","v":1},1,1,1,null,0,0,0,0,null,0,0,0,0,null,null,null,null,null,null,null,null,null,null,null,null,null,null,1,null,1,1,1,1,null,{"$f":"N$31*N$162","v":0},{"$f":"O$31*O$162","v":0},{"$f":"P$31*P$162","v":0},{"$f":"Q$31*Q$162","v":0},null,{"$f":"AW168","v":0},{"$f":"AX168","v":0},{"$f":"AY168","v":0},{"$f":"AZ168","v":0},null,null,null,null,null,null,null,null,null,null,null,null,null,null,null,null,null,null,null,null,null,null,null,null,null,null,null,null,null,null,null,null,null,null,null,null,null,null,null,null,null,null,null,null,null,null,null,null,null,null,null,null,{"$f":"IF(OR(DG168<$N$145,DG168=$N$145),DF167+1,\"\")","v":2},2,{"$f":"IFERROR(DH140/(1+$E$7%)^$DG168,0)","v":0},0,0,0,0,0,0,0,0,0,0,0,null,{"$f":"SUM(DH168:DJ168)","v":0},{"$f":"SUM(DK168:DM168)","v":0},{"$f":"SUM(DN168:DP168)","v":0},{"$f":"SUM(DQ168:DS168)","v":0},{"$f":"IF(DU168>0,DU168+DY167,\"\")","v":""},{"$f":"IF(DV168>0,DV168+DZ167,\"\")","v":""},"",""]
[null,null,null,null,null,null,null,null,null,null,null,3,null,1,1,1,1,null,0,0,0,0,null,0,0,0,0,null,null,null,null,null,null,null,null,null,null,null,null,null,null,2,null,{"$f":"AR210+$AR$168","v":1},{"$f":"AS210+$AR$168","v":1},1,1,null,0,0,0,0,null,{"$f":"X167","v":0},{"$f":"Y167","v":0},{"$f":"Z167","v":0},{"$f":"AA167","v":0},null,null,null,null,null,null,null,null,null,null,null,null,null,null,null,null,null,null,null,null,null,null,null,null,null,null,null,null,null,null,null,null,null,null,null,null,null,null,null,null,null,null,null,null,null,null,null,null,null,null,null,null,3,3,{"$f":"IFERROR(DH141/(1+$E$7%)^$DG169,0)","v":0},0,0,0,0,0,0,0,0,0,0,0,null,0,0,0,0,{"$f":"IF(DU169>0,DU169+DY168,\"\")","v":""},"","",""]
[null,null,null,null,null,null,null,null,null,null,null,4,null,1,1,1,1,null,0,0,0,0,null,0,0,0,0,null,null,null,null,null,null,null,null,null,null,null,null,null,null,3,null,{"$f":"AR211+$AR$168","v":1},1,1,1,null,0,0,0,0,null,null,null,null,null,null,null,null,null,null,null,null,null,null,null,null,null,null,null,null,null,null,null,null,null,null,null,null,null,null,null,null,null,null,null,null,null,null,null,null,null,null,null,null,null,null,null,null,null,null,null,null,null,null,null,null,null,4,4,{"$f":"IFERROR(DH142/(1+$E$7%)^$DG170,0)","v":0},0,0,0,0,0,0,0,0,0,0,0,null,0,0,0,0,"","","",""]
[null,null,null,null,null,null,null,null,null,null,null,5,null,1,1,1,1,null,0,0,0,0,null,0,0,0,0,null,null,null,null,null,null,null,null,null,null,null,null,null,null,4,null,1,1,1,1,null,0,0,0,0,null,null,null,null,null,null,null,null,null,null,null,null,null,null,null,null,null,null,null,null,null,null,null,null,null,null,null,null,null,null,null,null,null,null,null,null,null,null,null,null,null,null,null,null,null,null,null,null,null,null,null,null,null,null,null,null,null,5,5,{"$f":"IFERROR(DH143/(1+$E$7%)^$DG171,0)","v":0},0,0,0,0,0,0,0,0,0,0,0,null,0,0,0,0,"","","",""]
[null,null,null,null,null,null,null,null,null,null,null,6,null,1,1,1,1,null,0,0,0,0,null,0,0,0,0,null,null,null,null,null,null,null,null,null,null,null,null,null,null,5,null,1,1,1,1,null,0,0,0,0,null,null,null,null,null,null,null,null,null,null,null,null,null,null,null,null,null,null,null,null,null,null,null,null,null,null,null,null,null,null,null,null,null,null,null,null,null,null,null,null,null,null,null,null,null,null,null,null,null,null,null,null,null,null,null,null,null,6,6,{"$f":"IFERROR(DH144/(1+$E$7%)^$DG172,0)","v":0},0,0,0,0,0,0,0,0,0,0,0,null,0,0,0,0,"","","",""]
[null,null,null,null,null,null,null,null,null,null,null,7,null,1,1,1,1,null,0,0,0,0,null,0,0,0,0,null,null,null,null,null,null,null,null,null,null,null,null,null,null,6,null,1,1,1,1,null,0,0,0,0,null,null,null,null,null,null,null,null,null,null,null,null,null,null,null,null,null,null,null,null,null,null,null,null,null,null,null,null,null,null,null,null,null,null,null,null,null,null,null,null,null,null,null,null,null,null,null,null,null,null,null,null,null,null,null,null,null,7,7,{"$f":"IFERROR(DH145/(1+$E$7%)^$DG173,0)","v":0},0,0,0,0,0,0,0,0,0,0,0,null,0,0,0,0,"","","",""]
[null,null,null,null,null,null,null,null,null,null,null,8,null,1,1,1,1,null,0,0,0,0,null,0,0,0,0,null,null,null,null,null,null,null,null,null,null,null,null,null,null,7,null,1,1,1,1,null,0,0,0,0,null,null,null,null,null,null,null,null,null,null,null,null,null,null,null,null,null,null,null,null,null,null,null,null,null,null,null,null,null,null,null,null,null,null,null,null,null,null,null,null,null,null,null,null,null,null,null,null,null,null,null,null,null,null,null,null,null,8,8,{"$f":"IFERROR(DH146/(1+$E$7%)^$DG174,0)","v":0},0,0,0,0,0,0,0,0,0,0,0,null,0,0,0,0,"","","",""]
[null,null,null,null,null,null,null,null,null,null,null,9,null,1,1,1,1,null,0,0,0,0,null,0,0,0,0,null,null,null,null,null,null,null,null,null,null,null,null,null,null,8,null,1,1,1,1,null,0,0,0,0,null,null,null,null,null,null,null,null,null,null,null,null,null,null,null,null,null,null,null,null,null,null,null,null,null,null,null,null,null,null,null,null,null,null,null,null,null,null,null,null,null,null,null,null,null,null,null,null,null,null,null,null,null,null,null,null,null,9,9,{"$f":"IFERROR(DH147/(1+$E$7%)^$DG175,0)","v":0},0,0,0,0,0,0,0,0,0,0,0,null,0,0,0,0,"","","",""]
[null,null,null,null,null,null,null,null,null,null,null,10,null,1,1,1,1,null,0,0,0,0,null,0,0,0,0,null,null,null,null,null,null,null,null,null,null,null,null,null,null,9,null,1,1,1,1,null,0,0,0,0,null,null,null,null,null,null,null,null,null,null,null,null,null,null,null,null,null,null,null,null,null,null,null,null,null,null,null,null,null,null,null,null,null,null,null,null,null,null,null,null,null,null,null,null,null,null,null,null,null,null,null,null,null,null,null,null,null,10,10,{"$f":"IFERROR(DH148/(1+$E$7%)^$DG176,0)","v":0},0,0,0,0,0,0,0,0,0,0,0,null,0,0,0,0,"","","",""]
[null,null,null,null,null,null,null,null,null,null,null,11,null,1,1,1,1,null,0,0,0,0,null,0,0,0,0,null,null,null,null,null,null,null,null,null,null,null,null,null,null,10,null,1,1,1,1,null,0,0,0,0,null,null,null,null,null,null,null,null,null,null,null,null,null,null,null,null,null,null,null,null,null,null,null,null,null,null,null,null,null,null,null,null,null,null,null,null,null,null,null,null,null,null,null,null,null,null,null,null,null,null,null,null,null,null,null,null,null,11,11,{"$f":"IFERROR(DH149/(1+$E$7%)^$DG177,0)","v":0},0,0,0,0,0,0,0,0,0,0,0,null,0,0,0,0,"","","",""]
[null,null,null,null,null,null,null,null,null,null,null,12,null,1,1,1,1,null,0,0,0,0,null,0,0,0,0,null,null,null,null,null,null,null,null,null,null,null,null,null,null,11,null,1,1,1,1,null,0,0,0,0,null,null,null,null,null,null,null,null,null,null,null,null,null,null,null,null,null,null,null,null,null,null,null,null,null,null,null,null,null,null,null,null,null,null,null,null,null,null,null,null,null,null,null,null,null,null,null,null,null,null,null,null,null,null,null,null,null,12,12,{"$f":"IFERROR(DH150/(1+$E$7%)^$DG178,0)","v":0},0,0,0,0,0,0,0,0,0,0,0,null,0,0,0,0,"","","",""]
[null,null,null,null,null,null,null,null,null,null,null,13,null,1,1,1,1,null,0,0,0,0,null,0,0,0,0,null,null,null,null,null,null,null,null,null,null,null,null,null,null,12,null,1,1,1,1,null,0,0,0,0,null,null,null,null,null,null,null,null,null,null,null,null,null,null,null,null,null,null,null,null,null,null,null,null,null,null,null,null,null,null,null,null,null,null,null,null,null,null,null,null,null,null,null,null,null,null,null,null,null,null,null,null,null,null,null,null,null,13,13,{"$f":"IFERROR(DH151/(1+$E$7%)^$DG179,0)","v":0},0,0,0,0,0,0,0,0,0,0,0,null,0,0,0,0,"","","",""]
[null,null,null,null,null,null,null,null,null,null,null,14,null,1,1,1,1,null,0,0,0,0,null,0,0,0,0,null,null,null,null,null,null,null,null,null,null,null,null,null,null,13,null,1,1,1,1,null,0,0,0,0,null,null,null,null,null,null,null,null,null,null,null,null,null,null,null,null,null,null,null,null,null,null,null,null,null,null,null,null,null,null,null,null,null,null,null,null,null,null,null,null,null,null,null,null,null,null,null,null,null,null,null,null,null,null,null,null,null,14,14,{"$f":"IFERROR(DH152/(1+$E$7%)^$DG180,0)","v":0},0,0,0,0,0,0,0,0,0,0,0,null,0,0,0,0,"","","",""]
[null,null,null,null,null,null,null,null,null,null,null,15,null,1,1,1,1,null,0,0,0,0,null,0,0,0,0,null,null,null,null,null,null,null,null,null,null,null,null,null,null,14,null,1,1,1,1,null,0,0,0,0,null,null,null,null,null,null,null,null,null,null,null,null,null,null,null,null,null,null,null,null,null,null,null,null,null,null,null,null,null,null,null,null,null,null,null,null,null,null,null,null,null,null,null,null,null,null,null,null,null,null,null,null,null,null,null,null,null,15,15,{"$f":"IFERROR(DH153/(1+$E$7%)^$DG181,0)","v":0},0,0,0,0,0,0,0,0,0,0,0,null,0,0,0,0,"","","",""]
[null,null,null,null,null,null,null,null,null,null,null,16,null,1,1,1,1,null,0,0,0,0,null,0,0,0,0,null,null,null,null,null,null,null,null,null,null,null,null,null,null,15,null,1,1,1,1,null,0,0,0,0,null,null,null,null,null,null,null,null,null,null,null,null,null,null,null,null,null,null,null,null,null,null,null,null,null,null,null,null,null,null,null,null,null,null,null,null,null,null,null,null,null,null,null,null,null,null,null,null,null,null,null,null,null,null,null,null,null,16,16,{"$f":"IFERROR(DH154/(1+$E$7%)^$DG182,0)","v":0},0,0,0,0,0,0,0,0,0,0,0,null,0,0,0,0,"","","",""]
[null,null,null,null,null,null,null,null,null,null,null,17,null,1,1,1,1,null,0,0,0,0,null,0,0,0,0,null,null,null,null,null,null,null,null,null,null,null,null,null,null,16,null,1,1,1,1,null,0,0,0,0,null,null,null,null,null,null,null,null,null,null,null,null,null,null,null,null,null,null,null,null,null,null,null,null,null,null,null,null,null,null,null,null,null,null,null,null,null,null,null,null,null,null,null,null,null,null,null,null,null,null,null,null,null,null,null,null,null,17,17,{"$f":"IFERROR(DH155/(1+$E$7%)^$DG183,0)","v":0},0,0,0,0,0,0,0,0,0,0,0,null,0,0,0,0,"","","",""]
[null,null,null,null,null,null,null,null,null,null,null,18,null,{"$f":"N225+$N$167","v":1},1,1,1,null,0,0,0,0,null,0,0,0,0,null,null,null,null,null,null,null,null,null,null,null,null,null,null,17,null,1,1,1,1,null,0,0,0,0,null,null,null,null,null,null,null,null,null,null,null,null,null,null,null,null,null,null,null,null,null,null,null,null,null,null,null,null,null,null,null,null,null,null,null,null,null,null,null,null,null,null,null,null,null,null,null,null,null,null,null,null,null,null,null,null,null,18,18,{"$f":"IFERROR(DH156/(1+$E$7%)^$DG184,0)","v":0},0,0,0,0,0,0,0,0,0,0,0,null,0,0,0,0,"","","",""]
[null,null,null,null,null,null,null,null,null,null,null,19,null,1,1,1,1,null,0,0,0,0,null,0,0,0,0,null,null,null,null,null,null,null,null,null,null,null,null,null,null,18,null,1,1,1,1,null,0,0,0,0,null,null,null,null,null,null,null,null,null,null,null,null,null,null,null,null,null,null,null,null,null,null,null,null,null,null,null,null,null,null,null,null,null,null,null,null,null,null,null,null,null,null,null,null,null,null,null,null,null,null,null,null,null,null,null,null,null,19,19,{"$f":"IFERROR(DH157/(1+$E$7%)^$DG185,0)","v":0},0,0,0,0,0,0,0,0,0,0,0,null,0,0,0,0,{"$f":"IF(DU185>0,DU185+DY184,\"\")","v":""},"","",""]
[null,null,null,null,null,null,null,null,null,null,null,20,null,1,1,1,1,null,0,0,0,0,null,0,0,0,0,null,null,null,null,null,null,null,null,null,null,null,null,null,null,19,null,{"$f":"AR227+$AR$168","v":1},1,1,1,null,0,0,0,0,null,null,null,null,null,null,null,null,null,null,null,null,null,null,null,null,null,null,null,null,null,null,null,null,null,null,null,null,null,null,null,null,null,null,null,null,null,null,null,null,null,null,null,null,null,null,null,null,null,null,null,null,null,null,null,null,null,20,20,{"$f":"IFERROR(DH158/(1+$E$7%)^$DG186,0)","v":0},0,0,0,0,0,0,0,0,0,0,0,null,0,0,0,0,{"$f":"IF(DU186>0,DU186+DY185,\"\")","v":""},"","",""]
[null,null,null,null,null,null,null,null,null,null,null,null,"Operational","Product A ","Product B","Product C ","Product D","Operational","Product A ","Product B","Product C ","Product D","Operational","Product A ","Product B","Product C ","Product D",null,null,null,null,null,null,null,null,null,null,null,null,null,null,20,null,1,1,1,1,null,0,0,0,0,null,null,null,null,null,null,null,null,null,null,null,null,null,null,null,null,null,null,null,null,null,null,null,null,null,null,null,null,null,null,null,null,null,null,null,null,null,null,null,null,null,null,null,null,null,null,null,null,null,null,null,null,null,null,null,null,null,null,"Total (after time horizon) ($)",{"$f":"SUM(DH167:DH186)","v":0},{"$f":"SUM(DI167:DI186)","v":0},{"$f":"SUM(DJ167:DJ186)","v":0},0,0,0,0,0,0,0,0,0,null,{"$f":"SUM(DU167:DU186)","v":0},{"$f":"SUM(DV167:DV186)","v":0},{"$f":"SUM(DW167:DW186)","v":0},{"$f":"SUM(DX167:DX186)","v":0}]
[null,null,null,null,null,null,null,null,null,null,null,null,null,1,1,1,1,null,{"$f":"N$104","v":0},0,0,0,null,{"$f":"S188*N$162","v":0},0,0,0,null,null,null,null,null,null,null,null,null,null,null,null,null,null,null,"Operational","Product A ","Product B","Product C ","Product D","Operational- Energy","Product A ","Product B","Product C ","Product D","Operational- Water","Product A ","Product B","Product C ","Product D","Operational- Maintenance (labor for sterilizing only)","Product A ","Product B","Product C ","Product D","Operational- Other ","Product A ","Product B","Product C ","Product D",null,"Checking",null,null,null,null,null,null,null,null,null,null,null,null,null,null,null,null,null,null,null,null,null,null,null,null,null,null,null,null,null,null,null,null,null,null,null,null,null,null,null,null,null,"Annual average ($/year)",{"$f":"DH187/$E$8","v":{"$error":"#VALUE!"}},{"$f":"DI187/$E$8","v":{"$error":"#VALUE!"}},{"$f":"DJ187/$E$8","v":{"$error":"#VALUE!"}},{"$f":"DK187/$E$8","v":{"$error":"#VALUE!"}},{"$f":"DL187/$E$8","v":{"$error":"#VALUE!"}},{"$error":"#VALUE!"},{"$error":"#VALUE!"},{"$error":"#VALUE!"},{"$error":"#VALUE!"},{"$error":"#VALUE!"},{"$error":"#VALUE!"},{"$error":"#VALUE!"}]
[null,null,null,null,null,null,null,null,null,null,null,null,null,2,2,2,2,null,0,0,0,0,null,0,0,0,0,null,null,null,null,null,null,null,null,null,null,null,null,null,null,null,null,1,1,1,1,null,{"$f":"N$107*N$162","v":0},0,0,0,null,{"$f":"N$110*N$162","v":0},0,0,0,null,{"$f":"N$113*N$162","v":0},0,0,0,null,{"$f":"N$116*N$162","v":0},0,0,0,null,{"$f":"SUM(AW189,BB189,BG189,BL189)","v":0},{"$f":"SUM(AX189,BC189,BH189,BM189)","v":0},{"$f":"SUM(AY189,BD189,BI189,BN189)","v":0},{"$f":"SUM(AZ189,BE189,BJ189,BO189)","v":0}]
[null,null,null,null,null,null,null,null,null,null,null,null,null,3,3,3,3,null,0,0,0,0,null,0,0,0,0,null,null,null,null,null,null,null,null,null,null,null,null,null,null,null,null,2,2,2,2,null,0,0,0,0,null,0,0,0,0,null,0,0,0,0,null,0,0,0,0,null,{"$f":"X188","v":0},{"$f":"Y188","v":0},{"$f":"Z188","v":0},{"$f":"AA188","v":0},null,null,null,null,null,null,null,null,null,null,null,null,null,null,null,null,null,null,null,null,null,null,null,null,null,null,null,null,null,null,null,null,null,null,null,null,null,null,null,"Product A ",null,null,"Product B",null,null,"Product C",null,null,"Product D "]
[null,null,null,null,null,null,null,null,null,null,null,null,null,4,4,4,4,null,0,0,0,0,null,0,0,0,0,null,null,null,null,null,null,null,null,null,null,null,null,null,null,null,null,3,3,3,3,null,0,0,0,0,null,0,0,0,0,null,0,0,0,0,null,0,0,0,0,null,null,null,null,null,null,null,null,null,null,null,null,null,null,null,null,null,null,null,null,null,null,null,null,null,null,null,null,null,null,null,null,null,null,null,null,null,null,null,null,null,null,null,null,"Acquisition","Operational","Disposal","Acquisition","Operational","Disposal","Acquisition","Operational","Disposal","Acquisition","Operational","Disposal",null,"Checking","Product A ","Product B","Product C","Product D "]
[null,null,null,null,null,null,null,null,null,null,null,null,null,5,5,5,5,null,0,0,0,0,null,0,0,0,0,null,null,null,null,null,null,null,null,null,null,null,null,null,null,null,null,4,4,4,4,null,0,0,0,0,null,0,0,0,0,null,0,0,0,0,null,0,0,0,0,null,null,null,null,null,null,null,null,null,null,null,null,null,null,null,null,null,null,null,null,null,null,null,null,null,null,null,null,null,null,null,null,null,null,null,null,null,null,null,null,null,null,null,"Year 1 ($)",{"$f":"DH167","v":0},{"$f":"DI167","v":0},0,0,0,0,0,0,0,0,0,0,null,"Year 1 ($)",{"$f":"SUM(DH192:DJ192)","v":0},{"$f":"SUM(DK192:DM192)","v":0},{"$f":"SUM(DN192:DP192)","v":0},{"$f":"SUM(DQ192:DS192)","v":0}]
[null,null,null,null,null,null,null,null,null,null,null,null,null,6,6,6,6,null,0,0,0,0,null,0,0,0,0,null,null,null,null,null,null,null,null,null,null,null,null,null,null,null,null,5,5,5,5,null,0,0,0,0,null,0,0,0,0,null,0,0,0,0,null,0,0,0,0,null,null,null,null,null,null,null,null,null,null,null,null,null,null,null,null,null,null,null,null,null,null,null,null,null,null,null,null,null,null,null,null,null,null,null,null,null,null,null,null,null,null,null,"Total (after time horizon) ($)",{"$f":"DH187","v":0},{"$f":"DI187","v":0},0,0,0,0,0,0,0,0,0,0,null,"Total (after time horizon) ($)",{"$f":"SUM(DH193:DJ193)","v":0},{"$f":"SUM(DK193:DM193)","v":0},{"$f":"SUM(DN193:DP193)","v":0},{"$f":"SUM(DQ193:DS193)","v":0}]
[null,null,null,null,null,null,null,null,null,null,null,null,null,7,7,7,7,null,0,0,0,0,null,0,0,0,0,null,null,null,null,null,null,null,null,null,null,null,null,null,null,null,null,6,6,6,6,null,0,0,0,0,null,0,0,0,0,null,0,0,0,0,null,0,0,0,0,null,null,null,null,null,null,null,null,null,null,null,null,null,null,null,null,null,null,null,null,null,null,null,null,null,null,null,null,null,null,null,null,null,null,null,null,null,null,null,null,null,null,null,"Annual average ($/year)",{"$f":"DH188","v":{"$error":"#VALUE!"}},{"$f":"DI188","v":{"$error":"#VALUE!"}},{"$error":"#VALUE!"},{"$f":"DK188","v":{"$error":"#VALUE!"}},{"$error":"#VALUE!"},{"$error":"#VALUE!"},{"$error":"#VALUE!"},{"$error":"#VALUE!"},{"$error":"#VALUE!"},{"$error":"#VALUE!"},{"$error":"#VALUE!"},{"$error":"#VALUE!"},null," Annual average ($/year)",{"$f":"SUM(DH194:DJ194)","v":{"$error":"#VALUE!"}},{"$f":"SUM(DK194:DM194)","v":{"$error":"#VALUE!"}},{"$f":"SUM(DN194:DP194)","v":{"$error":"#VALUE!"}},{"$f":"SUM(DQ194:DS194)","v":{"$error":"#VALUE!"}}]
[null,null,null,null,null,null,null,null,null,null,null,null,null,8,8,8,8,null,0,0,0,0,null,0,0,0,0,null,null,null,null,null,null,null,null,null,null,null,null,null,null,null,null,7,7,7,7,null,0,0,0,0,null,0,0,0,0,null,0,0,0,0,null,0,0,0,0]
[null,null,null,null,null,null,null,null,null,null,null,null,null,9,9,9,9,null,0,0,0,0,null,0,0,0,0,null,null,null,null,null,null,null,null,null,null,null,null,null,null,null,null,8,8,8,8,null,0,0,0,0,null,0,0,0,0,null,0,0,0,0,null,0,0,0,0,null,null,null,null,null,null,null,null,null,null,null,null,null,null,null,null,null,null,null,null,null,null,null,null,null,null,null,null,null,null,null,null,null,null,null,null,null,null,null,null,"FINAL",null,null,"NPV Summary - Product and supplemental parts"]
[null,null,null,null,null,null,null,null,null,null,null,null,null,10,10,10,10,null,0,0,0,0,null,0,0,0,0,null,null,null,null,null,null,null,null,null,null,null,null,null,null,null,null,9,9,9,9,null,0,0,0,0,null,0,0,0,0,null,0,0,0,0,null,0,0,0,0,null,null,null,null,null,null,null,null,null,null,null,null,null,null,null,null,null,null,null,null,null,null,null,null,null,null,null,null,null,null,null,null,null,null,null,null,null,null,null,null,null,null,null,null,"Year 1 ($)",null,null,null,"Total (after time horizon) ($)",null,null,null,"Annual average ($/year)"]
[null,null,null,null,null,null,null,null,null,null,null,null,null,11,11,11,11,null,0,0,0,0,null,0,0,0,0,null,null,null,null,null,null,null,null,null,null,null,null,null,null,null,null,10,10,10,10,null,0,0,0,0,null,0,0,0,0,null,0,0,0,0,null,0,0,0,0,null,null,null,null,null,null,null,null,null,null,null,null,null,null,null,null,null,null,null,null,null,null,null,null,null,null,null,null,null,null,null,null,null,null,null,null,null,null,null,null,null,null,null,"Type of cost","Product A ","Product B","Product C","Product D ","Product A ","Product B","Product C","Product D ","Product A ","Product B","Product C","Product D "]
[null,null,null,null,null,null,null,null,null,null,null,null,null,12,12,12,12,null,0,0,0,0,null,0,0,0,0,null,null,null,null,null,null,null,null,null,null,null,null,null,null,null,null,11,11,11,11,null,0,0,0,0,null,0,0,0,0,null,0,0,0,0,null,0,0,0,0,null,null,null,null,null,null,null,null,null,null,null,null,null,null,null,null,null,null,null,null,null,null,null,null,null,null,null,null,null,null,null,null,null,null,null,null,null,null,null,null,null,null,null,"Acquisition",{"$f":"DH192","v":0},{"$f":"DK192","v":0},{"$f":"DN192","v":0},{"$f":"DQ192","v":0},{"$f":"DH193","v":0},{"$f":"DK193","v":0},{"$f":"DN193","v":0},{"$f":"DQ193","v":0},{"$f":"DH194","v":{"$error":"#VALUE!"}},{"$f":"DK194","v":{"$error":"#VALUE!"}},{"$f":"DN194","v":{"$error":"#VALUE!"}},{"$f":"DQ194","v":{"$error":"#VALUE!"}}]
[null,null,null,null,null,null,null,null,null,null,null,null,null,13,13,13,13,null,0,0,0,0,null,0,0,0,0,null,null,null,null,null,null,null,null,null,null,null,null,null,null,null,null,12,12,12,12,null,0,0,0,0,null,0,0,0,0,null,0,0,0,0,null,0,0,0,0,null,null,null,null,null,null,null,null,null,null,null,null,null,null,null,null,null,null,null,null,null,null,null,null,null,null,null,null,null,null,null,null,null,null,null,null,null,null,null,null,null,null,null,"Operational",{"$f":"DI192","v":0},{"$f":"DL192","v":0},{"$f":"DO192","v":0},{"$f":"DR192","v":0},{"$f":"DI193","v":0},{"$f":"DL193","v":0},{"$f":"DO193","v":0},{"$f":"DR193","v":0},{"$f":"DI194","v":{"$error":"#VALUE!"}},{"$f":"DL194","v":{"$error":"#VALUE!"}},{"$f":"DO194","v":{"$error":"#VALUE!"}},{"$f":"DR194","v":{"$error":"#VALUE!"}}]
[null,null,null,null,null,null,null,null,null,null,null,null,null,14,14,14,14,null,0,0,0,0,null,0,0,0,0,null,null,null,null,null,null,null,null,null,null,null,null,null,null,null,null,13,13,13,13,null,0,0,0,0,null,0,0,0,0,null,0,0,0,0,null,0,0,0,0,null,null,null,null,null,null,null,null,null,null,null,null,null,null,null,null,null,null,null,null,null,null,null,null,null,null,null,null,null,null,null,null,null,null,null,null,null,null,null,null,null,null,null,"Disposal",{"$f":"DJ192","v":0},{"$f":"DM192","v":0},{"$f":"DP192","v":0},{"$f":"DS192","v":0},{"$f":"DJ193","v":0},{"$f":"DM193","v":0},{"$f":"DP193","v":0},{"$f":"DS193","v":0},{"$f":"DJ194","v":{"$error":"#VALUE!"}},{"$f":"DM194","v":{"$error":"#VALUE!"}},{"$f":"DP194","v":{"$error":"#VALUE!"}},{"$f":"DS194","v":{"$error":"#VALUE!"}}]
[null,null,null,null,null,null,null,null,null,null,null,null,null,15,15,15,15,null,0,0,0,0,null,0,0,0,0,null,null,null,null,null,null,null,null,null,null,null,null,null,null,null,null,14,14,14,14,null,0,0,0,0,null,0,0,0,0,null,0,0,0,0,null,0,0,0,0,null,null,null,null,null,null,null,null,null,null,null,null,null,null,null,null,null,null,null,null,null,null,null,null,null,null,null,null,null,null,null,null,null,null,null,null,null,null,null,null,null,null,null,"Total",{"$f":"SUM(DH199:DH201)","v":0},{"$f":"SUM(DI199:DI201)","v":0},0,0,{"$f":"SUM(DL199:DL201)","v":0},{"$f":"SUM(DM199:DM201)","v":0},{"$f":"SUM(DN199:DN201)","v":0},0,{"$error":"#VALUE!"},{"$error":"#VALUE!"},{"$error":"#VALUE!"},{"$f":"SUM(DS199:DS201)","v":{"$error":"#VALUE!"}}]
[null,null,null,null,null,null,null,null,null,null,null,null,null,16,16,16,16,null,0,0,0,0,null,0,0,0,0,null,null,null,null,null,null,null,null,null,null,null,null,null,null,null,null,15,15,15,15,null,0,0,0,0,null,0,0,0,0,null,0,0,0,0,null,0,0,0,0,null,null,null,null,null,null,null,null,null,null,null,null,null,null,null,null,null,null,null,null,null,null,null,null,null,null,null,null,null,null,null,null,null,null,null,null,null,null,null,null,null,null,null,null,null,null,null,null,{"$f":"CN202+R306+EY202","v":0},{"$f":"CO202+S306+EZ202","v":0},{"$f":"CP202+T306+FA202","v":0},0]
[null,null,null,null,null,null,null,null,null,null,null,null,null,17,17,17,17,null,0,0,0,0,null,0,0,0,0,null,null,null,null,null,null,null,null,null,null,null,null,null,null,null,null,16,16,16,16,null,0,0,0,0,null,0,0,0,0,null,0,0,0,0,null,0,0,0,0,null,null,null,null,null,null,null,null,null,null,null,null,null,null,null,null,null,null,null,null,null,null,null,null,null,null,null,null,null,null,null,null,null,null,null,null,null,null,null,null,null,null,null,"NPV Summary"]
[null,null,null,null,null,null,null,null,null,null,null,null,null,18,18,18,18,null,0,0,0,0,null,0,0,0,0,null,null,null,null,null,null,null,null,null,null,null,null,null,null,null,null,17,17,17,17,null,0,0,0,0,null,0,0,0,0,null,0,0,0,0,null,0,0,0,0,null,null,null,null,null,null,null,null,null,null,null,null,null,null,null,null,null,null,null,null,null,null,null,null,null,null,null,null,null,null,null,null,null,null,null,null,null,null,null,null,null,null,null,null,"Year 1 ($)",null,null,null,"Total (after time horizon) ($)",null,null,null,"Annual average ($/year)"]
[null,null,null,null,null,null,null,null,null,null,null,null,null,19,19,19,19,null,0,0,0,0,null,0,0,0,0,null,null,null,null,null,null,null,null,null,null,null,null,null,null,null,null,18,18,18,18,null,0,0,0,0,null,0,0,0,0,null,0,0,0,0,null,0,0,0,0,null,null,null,null,null,null,null,null,null,null,null,null,null,null,null,null,null,null,null,null,null,null,null,null,null,null,null,null,null,null,null,null,null,null,null,null,null,null,null,null,null,null,null,"Type of cost","Product A ","Product B","Product C","Product D ","Product A ","Product B","Product C","Product D ","Product A ","Product B","Product C","Product D "]
[null,null,null,null,null,null,null,null,null,null,null,null,null,20,20,20,20,null,0,0,0,0,null,0,0,0,0,null,null,null,null,null,null,null,null,null,null,null,null,null,null,null,null,19,19,19,19,null,0,0,0,0,null,0,0,0,0,null,0,0,0,0,null,0,0,0,0,null,null,null,null,null,null,null,null,null,null,null,null,null,null,null,null,null,null,null,null,null,null,null,null,null,null,null,null,null,null,null,null,null,null,null,null,null,null,null,null,null,null,null,"Acquisition",{"$f":"DH199","v":0},{"$f":"DI199","v":0},0,0,0,0,0,0,{"$f":"DP199","v":{"$error":"#VALUE!"}},{"$f":"DQ199","v":{"$error":"#VALUE!"}},{"$error":"#VALUE!"},{"$error":"#VALUE!"}]
[null,null,null,null,null,null,null,null,null,null,null,null,"Disposal","Product A ","Product B","Product C ","Product D","Disposal","Product A ","Product B","Product C ","Product D","Disposal","Product A ","Product B","Product C ","Product D",null,null,null,null,null,null,null,null,null,null,null,null,null,null,null,null,20,20,20,20,null,0,0,0,0,null,0,0,0,0,null,0,0,0,0,null,0,0,0,0,null,null,null,null,null,null,null,null,null,null,null,null,null,null,null,null,null,null,null,null,null,null,null,null,null,null,null,null,null,null,null,null,null,null,null,null,null,null,null,null,null,null,null,"Operational - Energy",{"$f":"N312","v":0},0,0,0,0,0,0,0,{"$error":"#VALUE!"},{"$error":"#VALUE!"},{"$error":"#VALUE!"},{"$error":"#VALUE!"}]
[null,null,null,null,null,null,null,null,null,null,null,null,null,{"$f":"N$164*$L167","v":0},0,0,0,null,{"$f":"N$139","v":0},{"$f":"O$139","v":0},{"$f":"P$139","v":0},{"$f":"Q$139","v":0},null,{"$f":"S209*N$162","v":0},0,0,0,null,null,null,null,null,null,null,null,null,null,null,null,null,null,null,"Disposal","Product A ","Product B","Product C ","Product D","Disposal","Product A ","Product B","Product C ","Product D",null,null,null,null,null,null,null,null,null,null,null,null,null,null,null,null,null,null,null,null,null,null,null,null,null,null,null,null,null,null,null,null,null,null,null,null,null,null,null,null,null,null,null,null,null,null,null,null,null,null,null,null,null,null,null,null,null,null,"Operational - Water",0,0,0,0,0,0,0,0,{"$error":"#VALUE!"},{"$error":"#VALUE!"},{"$error":"#VALUE!"},{"$error":"#VALUE!"}]
[null,null,null,null,null,null,null,null,null,null,null,null,null,0,0,0,0,null,0,0,0,0,null,0,0,0,0,null,null,null,null,null,null,null,null,null,null,null,null,null,null,null,null,{"$f":"N$164*$AP168","v":0},0,0,0,null,{"$f":"N$139*N$162","v":0},{"$f":"O$139*O$162","v":0},{"$f":"P$139*P$162","v":0},{"$f":"Q$139*Q$162","v":0},"Checking",null,null,null,null,null,null,null,null,null,null,null,null,null,null,null,null,null,null,null,null,null,null,null,null,null,null,null,null,null,null,null,null,null,null,null,null,null,null,null,null,null,null,null,null,null,null,null,null,null,null,null,null,null,null,null,null,"Mapping of supplemental parts changed as per PGH feedback","Operational - Maintenance (labor)",{"$f":"N314+CJ199+EU199","v":0},{"$f":"O314+CK199+EV199","v":0},{"$f":"P314+CL199+EW199","v":0},0,0,0,0,0,{"$error":"#VALUE!"},{"$error":"#VALUE!"},{"$error":"#VALUE!"},{"$error":"#VALUE!"}]
[null,null,null,null,null,null,null,null,null,null,null,null,null,0,0,0,0,null,0,0,0,0,null,0,0,0,0,null,null,null,null,null,null,null,null,null,null,null,null,null,null,null,null,0,0,0,0,null,0,0,0,0,{"$f":"AW211","v":0},{"$f":"AX211","v":0},{"$f":"AY211","v":0},{"$f":"AZ211","v":0},null,null,null,null,null,null,null,null,null,null,null,null,null,null,null,null,null,null,null,null,null,null,null,null,null,null,null,null,null,null,null,null,null,null,null,null,null,null,null,null,null,null,null,null,null,null,null,null,null,null,null,null,null,null,"Operational - Other",{"$f":"N315","v":0},0,0,0,0,0,0,0,{"$error":"#VALUE!"},{"$error":"#VALUE!"},{"$error":"#VALUE!"},{"$error":"#VALUE!"}]
[null,null,null,null,null,null,null,null,null,null,null,null,null,0,0,0,0,null,0,0,0,0,null,0,0,0,0,null,null,null,null,null,null,null,null,null,null,null,null,null,null,null,null,0,0,0,0,null,0,0,0,0,{"$f":"X209","v":0},{"$f":"Y209","v":0},{"$f":"Z209","v":0},{"$f":"AA209","v":0},null,null,null,null,null,null,null,null,null,null,null,null,null,null,null,null,null,null,null,null,null,null,null,null,null,null,null,null,null,null,null,null,null,null,null,null,null,null,null,null,null,null,null,null,null,null,null,null,null,null,null,null,null,null,"Disposal",{"$f":"DH201","v":0},0,0,0,0,0,0,0,{"$error":"#VALUE!"},{"$error":"#VALUE!"},{"$error":"#VALUE!"},{"$error":"#VALUE!"}]
[null,null,null,null,null,null,null,null,null,null,null,null,null,0,0,0,0,null,0,0,0,0,null,0,0,0,0,null,null,null,null,null,null,null,null,null,null,null,null,null,null,null,null,0,0,0,0,null,0,0,0,0,null,null,null,null,null,null,null,null,null,null,null,null,null,null,null,null,null,null,null,null,null,null,null,null,null,null,null,null,null,null,null,null,null,null,null,null,null,null,null,null,null,null,null,null,null,null,null,null,null,null,null,null,null,null,null,null,null,null,"Total",{"$f":"SUM(DH207:DH212)","v":0},0,0,0,{"$f":"SUM(DL207:DL212)","v":0},0,0,0,{"$error":"#VALUE!"},{"$error":"#VALUE!"},{"$error":"#VALUE!"},{"$error":"#VALUE!"}]
[null,null,null,null,null,null,null,null,null,null,null,null,null,0,0,0,0,null,0,0,0,0,null,0,0,0,0,null,null,null,null,null,null,null,null,null,null,null,null,null,null,null,null,0,0,0,0,null,0,0,0,0]
[null,null,null,null,null,null,null,null,null,null,null,null,null,0,0,0,0,null,0,0,0,0,null,0,0,0,0,null,null,null,null,null,null,null,null,null,null,null,null,null,null,null,null,0,0,0,0,null,0,0,0,0]
[null,null,null,null,null,null,null,null,null,null,null,null,null,0,0,0,0,null,0,0,0,0,null,0,0,0,0,null,null,null,null,null,null,null,null,null,null,null,null,null,null,null,null,0,0,0,0,null,0,0,0,0,null,null,null,null,null,null,null,null,null,null,null,null,null,null,null,null,null,null,null,null,null,null,null,null,null,null,null,null,null,null,null,null,null,null,null,null,null,null,null,null,null,null,null,null,null,null,null,null,null,null,null,null,null,null,null,null,null,null,"Environmentally related costs (Energy, water and disposal)",null,null,null,null,{"$f":"SUM(DL208:DL209,DL212)","v":0},{"$f":"SUM(DM208:DM209,DM212)","v":0},{"$f":"SUM(DN208:DN209,DN212)","v":0},{"$f":"SUM(DO208:DO209,DO212)","v":0},{"$f":"CONCATENATE(\"Min Environm cost in year \",E8)","v":"Min Environm cost in year Not applicable"},{"$f":"MIN(DL218:DO218)","v":0}]
[null,null,null,null,null,null,null,null,null,null,null,null,null,0,0,0,0,null,0,0,0,0,null,0,0,0,0,null,null,null,null,null,null,null,null,null,null,null,null,null,null,null,null,0,0,0,0,null,0,0,0,0,null,null,null,null,null,null,null,null,null,null,null,null,null,null,null,null,null,null,null,null,null,null,null,null,null,null,null,null,null,null,null,null,null,null,null,null,null,null,null,null,null,null,null,null,null,null,null,null,null,null,null,null,null,null,null,null,null,null,null,null,null,null,null,{"$f":"DL206","v":"Product A "},{"$f":"DM206","v":"Product B"},{"$f":"DN206","v":"Product C"},{"$f":"DO206","v":"Product D "},null,{"$f":"HLOOKUP(DQ216,DL218:DO219,2,FALSE)","v":{"$error":"#N/A"}}]
[null,null,null,null,null,null,null,null,null,null,null,null,null,0,0,0,0,null,0,0,0,0,null,0,0,0,0,null,null,null,null,null,null,null,null,null,null,null,null,null,null,null,null,0,0,0,0,null,0,0,0,0,null,null,null,null,null,null,null,null,null,null,null,null,null,null,null,null,null,null,null,null,null,null,null,null,null,null,null,null,null,null,null,null,null,null,null,null,null,null,null,null,null,null,null,null,null,null,null,null,null,null,null,null,null,null,null,null,null,null,null,null,null,null,null,{"$f":"IF(DL216=0,\"na\",DL216)","v":"na"},{"$f":"IF(DM216=0,\"na\",DM216)","v":"na"},{"$f":"IF(DN216=0,\"na\",DN216)","v":"na"},{"$f":"IF(DO216=0,\"na\",DO216)","v":"na"}]
[null,null,null,null,null,null,null,null,null,null,null,null,null,0,0,0,0,null,0,0,0,0,null,0,0,0,0,null,null,null,null,null,null,null,null,null,null,null,null,null,null,null,null,0,0,0,0,null,0,0,0,0,null,null,null,null,null,null,null,null,null,null,null,null,null,null,null,null,null,null,null,null,null,null,null,null,null,null,null,null,null,null,null,null,null,null,null,null,null,null,null,null,null,null,null,null,null,null,null,null,null,null,null,null,null,null,null,null,null,null,"OVERALL RESULTS",null,null,null,null,{"$f":"DL206","v":"Product A "},{"$f":"DM206","v":"Product B"},{"$f":"DN206","v":"Product C"},{"$f":"DO206","v":"Product D "}]
[null,null,null,null,null,null,null,null,null,null,null,null,null,0,0,0,0,null,0,0,0,0,null,0,0,0,0,null,null,null,null,null,null,null,null,null,null,null,null,null,null,null,null,0,0,0,0,null,0,0,0,0]
[null,null,null,null,null,null,null,null,null,null,null,null,null,0,0,0,0,null,0,0,0,0,null,0,0,0,0,null,null,null,null,null,null,null,null,null,null,null,null,null,null,null,null,0,0,0,0,null,0,0,0,0,null,null,null,null,null,null,null,null,null,null,null,null,null,null,null,null,null,null,null,null,null,null,null,null,null,null,null,null,null,null,null,null,null,null,null,null,null,null,null,null,null,null,null,null,null,null,null,null,null,null,null,null,null,null,null,null,null,null,"Total Cost of Ownership in year 1","Units","Product A ","Product B","Product C","Product D "]
[null,null,null,null,null,null,null,null,null,null,null,null,null,0,0,0,0,null,0,0,0,0,null,0,0,0,0,null,null,null,null,null,null,null,null,null,null,null,null,null,null,null,null,0,0,0,0,null,0,0,0,0,null,null,null,null,null,null,null,null,null,null,null,null,null,null,null,null,null,null,null,null,null,null,null,null,null,null,null,null,null,null,null,null,null,null,null,null,null,null,null,null,null,null,null,null,null,null,null,null,null,null,null,null,null,null,null,null,null,null,null,"$",{"$f":"DH202","v":0},{"$f":"DI202","v":0},{"$f":"DJ202","v":0},{"$f":"DK202","v":0}]
[null,null,null,null,null,null,null,null,null,null,null,null,null,0,0,0,0,null,0,0,0,0,null,0,0,0,0,null,null,null,null,null,null,null,null,null,null,null,null,null,null,null,null,0,0,0,0,null,0,0,0,0]
[null,null,null,null,null,null,null,null,null,null,null,null,null,0,0,0,0,null,0,0,0,0,null,0,0,0,0,null,null,null,null,null,null,null,null,null,null,null,null,null,null,null,null,0,0,0,0,null,0,0,0,0,null,null,null,null,null,null,null,null,null,null,null,null,null,null,null,null,null,null,null,null,null,null,null,null,null,null,null,null,null,null,null,null,null,null,null,null,null,null,null,null,null,null,null,null,null,null,null,null,null,null,null,null,null,null,null,null,null,null,{"$f":"CONCATENATE(\"Total cost of ownership in year \",E8)","v":"Total cost of ownership in year Not applicable"},"Units","Product A ","Product B","Product C","Product D ",{"$f":"CONCATENATE(\"Min TCO in year \",E8)","v":"Min TCO in year Not applicable"}]
[null,null,null,null,null,null,null,null,null,null,null,null,null,{"$f":"N$164*$L183","v":0},0,0,0,null,0,0,0,0,null,0,0,0,0,null,null,null,null,null,null,null,null,null,null,null,null,null,null,null,null,0,0,0,0,null,0,0,0,0,null,null,null,null,null,null,null,null,null,null,null,null,null,null,null,null,null,null,null,null,null,null,null,null,null,null,null,null,null,null,null,null,null,null,null,null,null,null,null,null,null,null,null,null,null,null,null,null,null,null,null,null,null,null,null,null,null,null,null,"$",{"$f":"DL202","v":0},{"$f":"DM202","v":0},{"$f":"DN202","v":0},{"$f":"DO202","v":0},{"$f":"MIN(DO225:DR225)","v":0},null,{"$f":"IF(DI225=0,\"na\",DI225)","v":"na"},{"$f":"IF(DJ225=0,\"na\",DJ225)","v":"na"},"na","na"]
[null,null,null,null,null,null,null,null,null,null,null,null,null,0,0,0,0,null,0,0,0,0,null,0,0,0,0,null,null,null,null,null,null,null,null,null,null,null,null,null,null,null,null,{"$f":"N$164*$AP184","v":0},0,0,0,null,0,0,0,0,null,null,null,null,null,null,null,null,null,null,null,null,null,null,null,null,null,null,null,null,null,null,null,null,null,null,null,null,null,null,null,null,null,null,null,null,null,null,null,null,null,null,null,null,null,null,null,null,null,null,null,null,null,null,null,null,null,null,null,null,"Product A ","Product B","Product C","Product D ",{"$f":"HLOOKUP(DM225,DO225:DR226,2,FALSE)","v":{"$error":"#N/A"}},null,{"$f":"DL206","v":"Product A "},{"$f":"DM206","v":"Product B"},{"$f":"DN206","v":"Product C"},{"$f":"DO206","v":"Product D "}]
[null,null,null,null,null,null,null,null,null,null,null,null,null,0,0,0,0,null,0,0,0,0,null,0,0,0,0,null,null,null,null,null,null,null,null,null,null,null,null,null,null,null,null,0,0,0,0,null,0,0,0,0]
[null,null,null,null,null,null,null,null,null,null,null,null,null,0,0,0,0,null,0,0,0,0,null,0,0,0,0,null,null,null,null,null,null,null,null,null,null,null,null,null,null,null,null,0,0,0,0,null,0,0,0,0,null,null,null,null,null,null,null,null,null,null,null,null,null,null,null,null,null,null,null,null,null,null,null,null,null,null,null,null,null,null,null,null,null,null,null,null,null,null,null,null,null,null,null,null,null,null,null,null,null,null,null,null,null,null,null,null,null,null,"Average Total cost of ownership","Unit","Product A ","Product B","Product C","Product D "]
[null,null,null,null,null,null,null,null,null,null,null,null,null,null,null,null,null,null,null,null,null,null,null,null,null,null,null,null,null,null,null,null,null,null,null,null,null,null,null,null,null,null,null,0,0,0,0,null,0,0,0,0,null,null,null,null,null,null,null,null,null,null,null,null,null,null,null,null,null,null,null,null,null,null,null,null,null,null,null,null,null,null,null,null,null,null,null,null,null,null,null,null,null,null,null,null,null,null,null,null,null,null,null,null,null,null,null,null,null,null,null,"$/year",{"$f":"DP202","v":{"$error":"#VALUE!"}},{"$f":"DQ202","v":{"$error":"#VALUE!"}},{"$f":"DR202","v":{"$error":"#VALUE!"}},{"$f":"DS202","v":{"$error":"#VALUE!"}}]
[]
[]
[]
[null,null,null,null,null,null,null,null,null,null,null,null,null,null,null,null,null,null,null,null,null,null,null,null,null,null,null,null,null,null,null,null,null,null,null,null,null,null,null,null,null,null,null,null,null,null,null,null,null,null,null,null,null,null,null,null,null,null,null,null,null,null,null,null,null,null,null,null,null,null,null,null,null,null,null,null,null,null,null,null,null,null,null,null,null,null,null,null,null,null,null,null,null,null,null,null,null,null,null,null,null,null,null,null,null,null,null,null,null,null,{"$f":"CONCATENATE(\"Percentage of Acquisition cost vs Total Cost of Ownership in year \",DH43)","v":"Percentage of Acquisition cost vs Total Cost of Ownership in year "},{"$f":"IFERROR(DL199/DL202,\"Not applicable\")","v":"Not applicable"},{"$f":"IFERROR(DM199/DM202,\"Not applicable\")","v":"Not applicable"},"Not applicable","Not applicable"]
[null,null,null,null,null,null,null,null,null,null,null,null,"RESULTS- Product",null,null,null,null,null,null,null,null,null,null,null,null,null,null,null,null,null,null,null,null,null,null,null,null,null,null,null,null,null,null,null,null,null,null,null,null,null,null,null,null,null,null,null,null,null,null,null,null,null,null,null,null,null,null,null,null,null,null,null,null,null,null,null,null,null,null,null,null,null,null,null,null,null,null,null,null,null,null,null,null,null,null,null,null,null,null,null,null,null,null,null,null,null,null,null,null,null,{"$f":"CONCATENATE(\"Minimum Total Cost of Ownership cost in year \",E8)","v":"Minimum Total Cost of Ownership cost in year Not applicable"},{"$f":"DM226","v":{"$error":"#N/A"}}]
[null,null,null,null,null,null,null,null,null,null,null,null,null,null,null,null,null,null,null,null,null,null,null,null,null,null,null,null,null,null,null,null,null,null,null,null,null,null,null,null,null,"RESULTS- Product",null,null,null,null,null,null,null,null,null,null,null,null,null,null,null,null,null,null,null,null,null,null,null,null,null,null,null,null,null,null,null,null,null,null,null,null,null,null,null,null,null,null,null,null,null,null,null,null,null,null,null,null,null,null,null,null,null,null,null,null,null,null,null,null,null,null,null,null,{"$f":"CONCATENATE(\"Minimum environmentally related cost (energy, water, waste) in year \",E8)","v":"Minimum environmentally related cost (energy, water, waste) in year Not applicable"},{"$f":"DQ217","v":{"$error":"#N/A"}}]
[]
[null,null,null,null,null,null,null,null,null,null,null,null,"Results overall"]
[null,null,null,null,null,null,null,null,null,null,null,null,null,null,null,null,null,null,null,null,null,null,null,null,null,null,null,null,null,null,null,null,null,null,null,null,null,null,null,null,null,"Results split for Environmentally related costs"]
[]
[null,null,null,null,null,null,null,null,null,null,null,null,"Value (not adjusted)"]
[null,null,null,null,null,null,null,null,null,null,null,"Year adapted by the user",null,"Product A ",null,null,"Product B",null,null,"Product C",null,null,"Product D ",null,null,null,null,null,null,null,null,null,null,null,null,null,null,null,null,null,null,"Value (not adjusted)",null," ",null,null,null," "]
[null,null,null,null,null,null,null,null,null,null,null,null,"Year ","Acquisition","Operational","Disposal","Acquisition","Operational","Disposal","Acquisition","Operational","Disposal","Acquisition","Operational","Disposal",null,null,null,null,null,null,null,null,null,null,null,null,null,null,null,"Year adapted by the user",null,"Product A",null,null,null,null,null,"Product B",null,null,null,null,null,"Product C",null,null,null,null,null,"Product D"]
[null,null,null,null,null,null,null,null,null,null,null,{"$f":"IF(OR(M243<$N$145,M243=$N$145),L242+1,\"na\")","v":1},1,{"$f":"IFERROR(VLOOKUP(L243,$N$167:$X$186,11,FALSE),0)","v":0},{"$f":"IFERROR(VLOOKUP(L243,$N$188:$X$207,11,FALSE),0)","v":0},{"$f":"IFERROR(VLOOKUP(L243,$N$209:$X$228,11,FALSE),0)","v":0},{"$f":"IFERROR(VLOOKUP(L243,$O$167:$Y$186,11,FALSE),0)","v":0},{"$f":"IFERROR(VLOOKUP(L243,$O$188:$Y$207,11,FALSE),0)","v":0},{"$f":"IFERROR(VLOOKUP(L243,$O$209:$Y$228,11,FALSE),0)","v":0},{"$f":"IFERROR(VLOOKUP(L243,$P$167:$Z$186,11,FALSE),0)","v":0},{"$f":"IFERROR(VLOOKUP(L243,$P$188:$Z$207,11,FALSE),0)","v":0},{"$f":"IFERROR(VLOOKUP(L243,$P$209:$Z$228,11,FALSE),0)","v":0},{"$f":"IFERROR(VLOOKUP(L243,$Q$167:$AA$186,11,FALSE),0)","v":0},{"$f":"IFERROR(VLOOKUP(L243,$Q$188:$AA$207,11,FALSE),0)","v":0},{"$f":"IFERROR(VLOOKUP(L243,$Q$209:$AA$228,11,FALSE),0)","v":0},null,null,null,null,null,null,null,null,null,null,null,null,null,null,null,null,"Year","Acquisition","Operational  Energy","Operational  Water","Operational- Maintenance (labor)","Operational- Other","Disposal","Acquisition","Operational  Energy","Operational  Water","Operational- Maintenance (labor)","Operational- Other","Disposal","Acquisition","Operational  Energy","Operational  Water","Operational- Maintenance (labor)","Operational- Other","Disposal","Acquisition","Operational  Energy","Operational  Water","Operational- Maintenance (labor)","Operational- Other","Disposal"]
[null,null,null,null,null,null,null,null,null,null,null,2,2,0,0,0,0,0,0,0,0,0,0,0,0,null,null,null,null,null,null,null,null,null,null,null,null,null,null,null,{"$f":"IF(OR(AP244<$N$145,AP244=$N$145),AO243+1,\"na\")","v":1},1,{"$f":"IFERROR(VLOOKUP(AO244,$AR$168:$AW$187,6,FALSE),0)","v":0},{"$f":"IFERROR(VLOOKUP(AO244,$AR$189:$AW$208,6,FALSE),0)","v":0},{"$f":"IFERROR(VLOOKUP($AO244,$AR$189:$BB$208,11,FALSE),0)","v":0},{"$f":"IFERROR(VLOOKUP($AO244,$AR$189:$BG$208,16,FALSE),0)","v":0},{"$f":"IFERROR(VLOOKUP($AO244,$AR$189:$BL$208,21,FALSE),0)","v":0},{"$f":"IFERROR(VLOOKUP($AO244,$AR$210:$AW$229,6,FALSE),0)","v":0},{"$f":"IFERROR(VLOOKUP(AO244,$AS$168:$AX$187,6,FALSE),0)","v":0},{"$f":"IFERROR(VLOOKUP(AO244,$AS$189:$AX$208,6,FALSE),0)","v":0},{"$f":"IFERROR(VLOOKUP($AO244,$AS$189:$BC$208,11,FALSE),0)","v":0},{"$f":"IFERROR(VLOOKUP($AO244,$AS$189:$BH$208,16,FALSE),0)","v":0},{"$f":"IFERROR(VLOOKUP($AO244,$AS$189:$BM$208,21,FALSE),0)","v":0},{"$f":"IFERROR(VLOOKUP($AO244,$AS$210:$AX$229,6,FALSE),0)","v":0},{"$f":"IFERROR(VLOOKUP(AO244,$AT$168:$AY$187,6,FALSE),0)","v":0},{"$f":"IFERROR(VLOOKUP(AO244,$AT$189:$AY$208,6,FALSE),0)","v":0},{"$f":"IFERROR(VLOOKUP($AO244,$AT$189:$BD$208,11,FALSE),0)","v":0},{"$f":"IFERROR(VLOOKUP($AO244,$AT$189:$BI$208,16,FALSE),0)","v":0},{"$f":"IFERROR(VLOOKUP($AO244,$AT$189:$BN$208,21,FALSE),0)","v":0},{"$f":"IFERROR(VLOOKUP($AO244,$AT$210:$AY$229,6,FALSE),0)","v":0},{"$f":"IFERROR(VLOOKUP(AO244,$AU$168:$AZ$187,6,FALSE),0)","v":0},{"$f":"IFERROR(VLOOKUP(AO244,$AU$189:$AZ$208,6,FALSE),0)","v":0},{"$f":"IFERROR(VLOOKUP($AO244,$AU$189:$BE$208,11,FALSE),0)","v":0},{"$f":"IFERROR(VLOOKUP($AO244,$AU$189:$BJ$208,16,FALSE),0)","v":0},{"$f":"IFERROR(VLOOKUP($AO244,$AU$189:$BO$208,21,FALSE),0)","v":0},{"$f":"IFERROR(VLOOKUP($AO244,$AU$210:$AZ$229,6,FALSE),0)","v":0}]
[null,null,null,null,null,null,null,null,null,null,null,3,3,0,0,0,0,0,0,0,0,0,0,0,0,null,null,null,null,null,null,null,null,null,null,null,null,null,null,null,2,2,0,0,0,0,0,0,0,0,0,0,0,0,0,0,0,0,0,0,0,0,0,0,0,0]
[null,null,null,null,null,null,null,null,null,null,null,4,4,0,0,0,0,0,0,0,0,0,0,0,0,null,null,null,null,null,null,null,null,null,null,null,null,null,null,null,3,3,0,0,0,0,0,0,0,0,0,0,0,0,0,0,0,0,0,0,0,0,0,0,0,0]
[null,null,null,null,null,null,null,null,null,null,null,5,5,0,0,0,0,0,0,0,0,0,0,0,0,null,null,null,null,null,null,null,null,null,null,null,null,null,null,null,4,4,0,0,0,0,0,0,0,0,0,0,0,0,0,0,0,0,0,0,0,0,0,0,0,0]
[null,null,null,null,null,null,null,null,null,null,null,6,6,0,0,0,0,0,0,0,0,0,0,0,0,null,null,null,null,null,null,null,null,null,null,null,null,null,null,null,5,5,0,0,0,0,0,0,0,0,0,0,0,0,0,0,0,0,0,0,0,0,0,0,0,0]
[null,null,null,null,null,null,null,null,null,null,null,7,7,0,0,0,0,0,0,0,0,0,0,0,0,null,null,null,null,null,null,null,null,null,null,null,null,null,null,null,6,6,0,0,0,0,0,0,0,0,0,0,0,0,0,0,0,0,0,0,0,0,0,0,0,0]
[null,null,null,null,null,null,null,null,null,null,null,8,8,0,0,0,0,0,0,0,0,0,0,0,0,null,null,null,null,null,null,null,null,null,null,null,null,null,null,null,7,7,0,0,0,0,0,0,0,0,0,0,0,0,0,0,0,0,0,0,0,0,0,0,0,0]
[null,null,null,null,null,null,null,null,null,null,null,9,9,0,0,0,0,0,0,0,0,0,0,0,0,null,null,null,null,null,null,null,null,null,null,null,null,null,null,null,8,8,0,0,0,0,0,0,0,0,0,0,0,0,0,0,0,0,0,0,0,0,0,0,0,0]
[null,null,null,null,null,null,null,null,null,null,null,10,10,0,0,0,0,0,0,0,0,0,0,0,0,null,null,null,null,null,null,null,null,null,null,null,null,null,null,null,9,9,0,0,0,0,0,0,0,0,0,0,0,0,0,0,0,0,0,0,0,0,0,0,0,0]
[null,null,null,null,null,null,null,null,null,null,null,11,11,0,0,0,0,0,0,0,0,0,0,0,0,null,null,null,null,null,null,null,null,null,null,null,null,null,null,null,10,10,0,0,0,0,0,0,0,0,0,0,0,0,0,0,0,0,0,0,0,0,0,0,0,0]
[null,null,null,null,null,null,null,null,null,null,null,12,12,0,0,0,0,0,0,0,0,0,0,0,0,null,null,null,null,null,null,null,null,null,null,null,null,null,null,null,11,11,0,0,0,0,0,0,0,0,0,0,0,0,0,0,0,0,0,0,0,0,0,0,0,0]
[null,null,null,null,null,null,null,null,null,null,null,13,13,0,0,0,0,0,0,0,0,0,0,0,0,null,null,null,null,null,null,null,null,null,null,null,null,null,null,null,12,12,0,0,0,0,0,0,0,0,0,0,0,0,0,0,0,0,0,0,0,0,0,0,0,0]
[null,null,null,null,null,null,null,null,null,null,null,14,14,0,0,0,0,0,0,0,0,0,0,0,0,null,null,null,null,null,null,null,null,null,null,null,null,null,null,null,13,13,0,0,0,0,0,0,0,0,0,0,0,0,0,0,0,0,0,0,0,0,0,0,0,0]
[null,null,null,null,null,null,null,null,null,null,null,15,15,0,0,0,0,0,0,0,0,0,0,0,0,null,null,null,null,null,null,null,null,null,null,null,null,null,null,null,14,14,0,0,0,0,0,0,0,0,0,0,0,0,0,0,0,0,0,0,0,0,0,0,0,0]
[null,null,null,null,null,null,null,null,null,null,null,16,16,0,0,0,0,0,0,0,0,0,0,0,0,null,null,null,null,null,null,null,null,null,null,null,null,null,null,null,15,15,0,0,0,0,0,0,0,0,0,0,0,0,0,0,0,0,0,0,0,0,0,0,0,0]
[null,null,null,null,null,null,null,null,null,null,null,17,17,0,0,0,0,0,0,0,0,0,0,0,0,null,null,null,null,null,null,null,null,null,null,null,null,null,null,null,16,16,0,0,0,0,0,0,0,0,0,0,0,0,0,0,0,0,0,0,0,0,0,0,0,0]
[null,null,null,null,null,null,null,null,null,null,null,18,18,0,0,0,0,0,0,0,0,0,0,0,0,null,null,null,null,null,null,null,null,null,null,null,null,null,null,null,17,17,0,0,0,0,0,0,0,0,0,0,0,0,0,0,0,0,0,0,0,0,0,0,0,0]
[null,null,null,null,null,null,null,null,null,null,null,19,19,0,0,0,0,0,0,0,0,0,0,0,0,null,null,null,null,null,null,null,null,null,null,null,null,null,null,null,18,18,0,0,0,0,0,0,0,0,0,0,0,0,0,0,0,0,0,0,0,0,0,0,0,0]
[null,null,null,null,null,null,null,null,null,null,null,20,20,0,0,0,0,0,0,0,0,0,0,0,0,null,null,null,null,null,null,null,null,null,null,null,null,null,null,null,19,19,0,0,0,0,0,0,0,0,0,0,0,0,0,0,0,0,0,0,0,0,0,0,0,0]
[null,null,null,null,null,null,null,null,null,null,null,null,"Total (after time horizon) ($)",{"$f":"SUM(N243:N262)","v":0},{"$f":"SUM(O243:O262)","v":0},0,0,0,0,0,0,0,0,0,0,null,null,null,null,null,null,null,null,null,null,null,null,null,null,null,20,20,0,0,0,0,0,0,0,0,0,0,0,0,0,0,0,0,0,0,0,0,0,0,0,0]
[null,null,null,null,null,null,null,null,null,null,null,null,"Annual average ($/year)",{"$f":"N263/$E$8","v":{"$error":"#VALUE!"}},{"$f":"O263/$E$8","v":{"$error":"#VALUE!"}},{"$error":"#VALUE!"},{"$error":"#VALUE!"},{"$error":"#VALUE!"},{"$error":"#VALUE!"},{"$error":"#VALUE!"},{"$error":"#VALUE!"},{"$error":"#VALUE!"},{"$error":"#VALUE!"},{"$error":"#VALUE!"},{"$error":"#VALUE!"},null,null,null,null,null,null,null,null,null,null,null,null,null,null,null,null,"Total (after time horizon)",{"$f":"SUM(AQ244:AQ263)","v":0},{"$f":"SUM(AR244:AR263)","v":0},0,0,{"$f":"SUM(AU244:AU263)","v":0},{"$f":"SUM(AV244:AV263)","v":0},0,0,0,0,0,0,0,0,0,0,0,0,0,0,0,0,0,0]
[null,null,null,null,null,null,null,null,null,null,null,null,null,null,null,null,null,null,null,null,null,null,null,null,null,null,null,null,null,null,null,null,null,null,null,null,null,null,null,null,null,"Annual average",{"$f":"AQ264/$E$8","v":{"$error":"#VALUE!"}},{"$f":"AR264/$E$8","v":{"$error":"#VALUE!"}},{"$error":"#VALUE!"},{"$error":"#VALUE!"},{"$f":"AU264/$E$8","v":{"$error":"#VALUE!"}},{"$f":"AV264/$E$8","v":{"$error":"#VALUE!"}},{"$error":"#VALUE!"},{"$error":"#VALUE!"},{"$error":"#VALUE!"},{"$error":"#VALUE!"},{"$error":"#VALUE!"},{"$error":"#VALUE!"},{"$error":"#VALUE!"},{"$error":"#VALUE!"},{"$error":"#VALUE!"},{"$error":"#VALUE!"},{"$error":"#VALUE!"},{"$error":"#VALUE!"},{"$error":"#VALUE!"},{"$error":"#VALUE!"},{"$error":"#VALUE!"},{"$error":"#VALUE!"},{"$error":"#VALUE!"},{"$error":"#VALUE!"}]
[]
[]
[null,null,null,null,null,null,null,null,null,null,null,null,"NPV"]
[null,null,null,null,null,null,null,null,null,null,null,null,null,"Product A ",null,null,"Product B",null,null,"Product C",null,null,"Product D ",null,null,null,"Product A ","Product B","Product C","Product D ","Product A ","Product B","Product C","Product D ",null,null,null,null,null,null,null,"NPV",null," ",null,null,null," "]
[null,null,null,null,null,null,null,null,null,null,null,null,"Year ","Acquisition","Operational","Disposal","Acquisition","Operational","Disposal","Acquisition","Operational","Disposal","Acquisition","Operational","Disposal",null,"Total cost ($)",null,null,null,"Total cost Cumulative ($)",null,null,null,null,null,null,null,null,null,null,null,"Product A",null,null,null,null,null,"Product B",null,null,null,null,null,"Product C",null,null,null,null,null,"Product D"]
[null,null,null,null,null,null,null,null,null,null,null,null,1,{"$f":"IFERROR(N243/(1+$E$7%)^$M271,0)","v":0},0,0,0,0,0,0,0,0,0,0,0,null,{"$f":"SUM(N271:P271)","v":0},{"$f":"SUM(Q271:S271)","v":0},{"$f":"SUM(T271:V271)","v":0},{"$f":"SUM(W271:Y271)","v":0},{"$f":"AA271","v":0},{"$f":"AB271","v":0},{"$f":"AC271","v":0},{"$f":"AD271","v":0},null,null,null,null,null,null,null,"Year","Acquisition","Operational  Energy","Operational  Water","Operational- Maintenance (labor)","Operational- Other","Disposal","Acquisition","Operational  Energy","Operational  Water","Operational- Maintenance (labor)","Operational- Other","Disposal","Acquisition","Operational  Energy","Operational  Water","Operational- Maintenance (labor)","Operational- Other","Disposal","Acquisition","Operational  Energy","Operational  Water","Operational- Maintenance (labor)","Operational- Other","Disposal"]
[null,null,null,null,null,null,null,null,null,null,null,null,2,{"$f":"IFERROR(N244/(1+$E$7%)^$M272,0)","v":0},0,0,0,0,0,0,0,0,0,0,0,null,{"$f":"SUM(N272:P272)","v":0},{"$f":"SUM(Q272:S272)","v":0},{"$f":"SUM(T272:V272)","v":0},{"$f":"SUM(W272:Y272)","v":0},{"$f":"IF(AA272>0,AA272+AE271,\"\")","v":""},{"$f":"IF(AB272>0,AB272+AF271,\"\")","v":""},{"$f":"IF(AC272>0,AC272+AG271,\"\")","v":""},{"$f":"IF(AD272>0,AD272+AH271,\"\")","v":""},null,null,null,null,null,null,null,1,{"$f":"IFERROR(AQ244/(1+$E$7%)^$AP272,0)","v":0},0,0,0,0,0,0,0,0,0,0,0,0,0,0,0,0,0,0,0,0,0,0,0]
[null,null,null,null,null,null,null,null,null,null,null,null,3,{"$f":"IFERROR(N245/(1+$E$7%)^$M273,0)","v":0},0,0,0,0,0,0,0,0,0,0,0,null,0,0,0,0,"","","","",null,null,null,null,null,null,null,2,{"$f":"IFERROR(AQ245/(1+$E$7%)^$AP273,0)","v":0},0,0,0,0,0,0,0,0,0,0,0,0,0,0,0,0,0,0,0,0,0,0,0]
[null,null,null,null,null,null,null,null,null,null,null,null,4,{"$f":"IFERROR(N246/(1+$E$7%)^$M274,0)","v":0},0,0,0,0,0,0,0,0,0,0,0,null,0,0,0,0,"","","","",null,null,null,null,null,null,null,3,{"$f":"IFERROR(AQ246/(1+$E$7%)^$AP274,0)","v":0},0,0,0,0,0,0,0,0,0,0,0,0,0,0,0,0,0,0,0,0,0,0,0]
[null,null,null,null,null,null,null,null,null,null,null,null,5,{"$f":"IFERROR(N247/(1+$E$7%)^$M275,0)","v":0},0,0,0,0,0,0,0,0,0,0,0,null,0,0,0,0,"","","","",null,null,null,null,null,null,null,4,{"$f":"IFERROR(AQ247/(1+$E$7%)^$AP275,0)","v":0},0,0,0,0,0,0,0,0,0,0,0,0,0,0,0,0,0,0,0,0,0,0,0]
[null,null,null,null,null,null,null,null,null,null,null,null,6,{"$f":"IFERROR(N248/(1+$E$7%)^$M276,0)","v":0},0,0,0,0,0,0,0,0,0,0,0,null,0,0,0,0,"","","","",null,null,null,null,null,null,null,5,{"$f":"IFERROR(AQ248/(1+$E$7%)^$AP276,0)","v":0},0,0,0,0,0,0,0,0,0,0,0,0,0,0,0,0,0,0,0,0,0,0,0]
[null,null,null,null,null,null,null,null,null,null,null,null,7,{"$f":"IFERROR(N249/(1+$E$7%)^$M277,0)","v":0},0,0,0,0,0,0,0,0,0,0,0,null,0,0,0,0,"","","","",null,null,null,null,null,null,null,6,{"$f":"IFERROR(AQ249/(1+$E$7%)^$AP277,0)","v":0},0,0,0,0,0,0,0,0,0,0,0,0,0,0,0,0,0,0,0,0,0,0,0]
[null,null,null,null,null,null,null,null,null,null,null,null,8,{"$f":"IFERROR(N250/(1+$E$7%)^$M278,0)","v":0},0,0,0,0,0,0,0,0,0,0,0,null,0,0,0,0,"","","","",null,null,null,null,null,null,null,7,{"$f":"IFERROR(AQ250/(1+$E$7%)^$AP278,0)","v":0},0,0,0,0,0,0,0,0,0,0,0,0,0,0,0,0,0,0,0,0,0,0,0]
[null,null,null,null,null,null,null,null,null,null,null,null,9,{"$f":"IFERROR(N251/(1+$E$7%)^$M279,0)","v":0},0,0,0,0,0,0,0,0,0,0,0,null,0,0,0,0,"","","","",null,null,null,null,null,null,null,8,{"$f":"IFERROR(AQ251/(1+$E$7%)^$AP279,0)","v":0},0,0,0,0,0,0,0,0,0,0,0,0,0,0,0,0,0,0,0,0,0,0,0]
[null,null,null,null,null,null,null,null,null,null,null,null,10,{"$f":"IFERROR(N252/(1+$E$7%)^$M280,0)","v":0},0,0,0,0,0,0,0,0,0,0,0,null,0,0,0,0,"","","","",null,null,null,null,null,null,null,9,{"$f":"IFERROR(AQ252/(1+$E$7%)^$AP280,0)","v":0},0,0,0,0,0,0,0,0,0,0,0,0,0,0,0,0,0,0,0,0,0,0,0]
[null,null,null,null,null,null,null,null,null,null,null,null,11,{"$f":"IFERROR(N253/(1+$E$7%)^$M281,0)","v":0},0,0,0,0,0,0,0,0,0,0,0,null,0,0,0,0,"","","","",null,null,null,null,null,null,null,10,{"$f":"IFERROR(AQ253/(1+$E$7%)^$AP281,0)","v":0},0,0,0,0,0,0,0,0,0,0,0,0,0,0,0,0,0,0,0,0,0,0,0]
[null,null,null,null,null,null,null,null,null,null,null,null,12,{"$f":"IFERROR(N254/(1+$E$7%)^$M282,0)","v":0},0,0,0,0,0,0,0,0,0,0,0,null,0,0,0,0,"","","","",null,null,null,null,null,null,null,11,{"$f":"IFERROR(AQ254/(1+$E$7%)^$AP282,0)","v":0},0,0,0,0,0,0,0,0,0,0,0,0,0,0,0,0,0,0,0,0,0,0,0]
[null,null,null,null,null,null,null,null,null,null,null,null,13,{"$f":"IFERROR(N255/(1+$E$7%)^$M283,0)","v":0},0,0,0,0,0,0,0,0,0,0,0,null,0,0,0,0,"","","","",null,null,null,null,null,null,null,12,{"$f":"IFERROR(AQ255/(1+$E$7%)^$AP283,0)","v":0},0,0,0,0,0,0,0,0,0,0,0,0,0,0,0,0,0,0,0,0,0,0,0]
[null,null,null,null,null,null,null,null,null,null,null,null,14,{"$f":"IFERROR(N256/(1+$E$7%)^$M284,0)","v":0},0,0,0,0,0,0,0,0,0,0,0,null,0,0,0,0,"","","","",null,null,null,null,null,null,null,13,{"$f":"IFERROR(AQ256/(1+$E$7%)^$AP284,0)","v":0},0,0,0,0,0,0,0,0,0,0,0,0,0,0,0,0,0,0,0,0,0,0,0]
[null,null,null,null,null,null,null,null,null,null,null,null,15,{"$f":"IFERROR(N257/(1+$E$7%)^$M285,0)","v":0},0,0,0,0,0,0,0,0,0,0,0,null,0,0,0,0,"","","","",null,null,null,null,null,null,null,14,{"$f":"IFERROR(AQ257/(1+$E$7%)^$AP285,0)","v":0},0,0,0,0,0,0,0,0,0,0,0,0,0,0,0,0,0,0,0,0,0,0,0]
[null,null,null,null,null,null,null,null,null,null,null,null,16,{"$f":"IFERROR(N258/(1+$E$7%)^$M286,0)","v":0},0,0,0,0,0,0,0,0,0,0,0,null,0,0,0,0,"","","","",null,null,null,null,null,null,null,15,{"$f":"IFERROR(AQ258/(1+$E$7%)^$AP286,0)","v":0},0,0,0,0,0,0,0,0,0,0,0,0,0,0,0,0,0,0,0,0,0,0,0]
[null,null,null,null,null,null,null,null,null,null,null,null,17,{"$f":"IFERROR(N259/(1+$E$7%)^$M287,0)","v":0},0,0,0,0,0,0,0,0,0,0,0,null,0,0,0,0,"","","","",null,null,null,null,null,null,null,16,{"$f":"IFERROR(AQ259/(1+$E$7%)^$AP287,0)","v":0},0,0,0,0,0,0,0,0,0,0,0,0,0,0,0,0,0,0,0,0,0,0,0]
[null,null,null,null,null,null,null,null,null,null,null,null,18,{"$f":"IFERROR(N260/(1+$E$7%)^$M288,0)","v":0},0,0,0,0,0,0,0,0,0,0,0,null,0,0,0,0,"","","","",null,null,null,null,null,null,null,17,{"$f":"IFERROR(AQ260/(1+$E$7%)^$AP288,0)","v":0},0,0,0,0,0,0,0,0,0,0,0,0,0,0,0,0,0,0,0,0,0,0,0]
[null,null,null,null,null,null,null,null,null,null,null,null,19,{"$f":"IFERROR(N261/(1+$E$7%)^$M289,0)","v":0},0,0,0,0,0,0,0,0,0,0,0,null,0,0,0,0,"","","","",null,null,null,null,null,null,null,18,{"$f":"IFERROR(AQ261/(1+$E$7%)^$AP289,0)","v":0},0,0,0,0,0,0,0,0,0,0,0,0,0,0,0,0,0,0,0,0,0,0,0]
[null,null,null,null,null,null,null,null,null,null,null,null,20,{"$f":"IFERROR(N262/(1+$E$7%)^$M290,0)","v":0},0,0,0,0,0,0,0,0,0,0,0,null,0,0,0,0,"","","","",null,null,null,null,null,null,null,19,{"$f":"IFERROR(AQ262/(1+$E$7%)^$AP290,0)","v":0},0,0,0,0,0,0,0,0,0,0,0,0,0,0,0,0,0,0,0,0,0,0,0]
[null,null,null,null,null,null,null,null,null,null,null,null,"Total (after time horizon) ($)",{"$f":"SUM(N271:N290)","v":0},{"$f":"SUM(O271:O290)","v":0},{"$f":"SUM(P271:P290)","v":0},0,0,0,0,0,0,0,0,0,null,{"$f":"SUM(AA271:AA290)","v":0},{"$f":"SUM(AB271:AB290)","v":0},{"$f":"SUM(AC271:AC290)","v":0},{"$f":"SUM(AD271:AD290)","v":0},null,null,null,null,null,null,null,null,null,null,null,20,{"$f":"IFERROR(AQ263/(1+$E$7%)^$AP291,0)","v":0},0,0,0,0,0,0,0,0,0,0,0,0,0,0,0,0,0,0,0,0,0,0,0]
[null,null,null,null,null,null,null,null,null,null,null,null,"Annual average ($/year)",{"$f":"N291/$E$8","v":{"$error":"#VALUE!"}},{"$f":"O291/$E$8","v":{"$error":"#VALUE!"}},{"$f":"P291/$E$8","v":{"$error":"#VALUE!"}},{"$f":"Q291/$E$8","v":{"$error":"#VALUE!"}},{"$error":"#VALUE!"},{"$error":"#VALUE!"},{"$error":"#VALUE!"},{"$error":"#VALUE!"},{"$error":"#VALUE!"},{"$error":"#VALUE!"},{"$error":"#VALUE!"},{"$error":"#VALUE!"},null,null,null,null,null,null,null,null,null,null,null,null,null,null,null,null,"Total (after time horizon)",{"$f":"SUM(AQ272:AQ291)","v":0},{"$f":"SUM(AR272:AR291)","v":0},0,0,0,0,0,0,0,0,0,0,0,0,0,0,0,0,0,0,0,0,0,0]
[null,null,null,null,null,null,null,null,null,null,null,null,null,null,null,null,null,null,null,null,null,null,null,null,null,null,{"$f":"AA291/$E$8","v":{"$error":"#VALUE!"}},{"$f":"AB291/$E$8","v":{"$error":"#VALUE!"}},{"$f":"AC291/$E$8","v":{"$error":"#VALUE!"}},{"$f":"AD291/$E$8","v":{"$error":"#VALUE!"}},null,null,null,null,null,null,null,null,null,null,null,"Annual average",{"$f":"AQ292/$E$8","v":{"$error":"#VALUE!"}},{"$f":"AR292/$E$8","v":{"$error":"#VALUE!"}},{"$error":"#VALUE!"},{"$error":"#VALUE!"},{"$error":"#VALUE!"},{"$error":"#VALUE!"},{"$error":"#VALUE!"},{"$error":"#VALUE!"},{"$error":"#VALUE!"},{"$error":"#VALUE!"},{"$error":"#VALUE!"},{"$error":"#VALUE!"},{"$error":"#VALUE!"},{"$error":"#VALUE!"},{"$error":"#VALUE!"},{"$error":"#VALUE!"},{"$error":"#VALUE!"},{"$error":"#VALUE!"},{"$error":"#VALUE!"},{"$error":"#VALUE!"},{"$error":"#VALUE!"},{"$error":"#VALUE!"},{"$error":"#VALUE!"},{"$error":"#VALUE!"}]
[null,null,null,null,null,null,null,null,null,null,null,null,null,"Product A ",null,null,"Product B",null,null,"Product C",null,null,"Product D "]
[null,null,null,null,null,null,null,null,null,null,null,null,null,"Acquisition","Operational","Disposal","Acquisition","Operational","Disposal","Acquisition","Operational","Disposal","Acquisition","Operational","Disposal",null,"Checking","Product A ","Product B","Product C","Product D ",null,null,null,null,null,null,null,null,null,null,null,"Product A ",null,null,null,null,null,"Product B",null,null,null,null,null,"Product C",null,null,null,null,null,"Product D "]
[null,null,null,null,null,null,null,null,null,null,null,null,"Year 1 ($)",{"$f":"N271","v":0},{"$f":"O271","v":0},0,0,0,0,0,0,0,0,0,0,null,"Year 1 ($)",{"$f":"SUM(N296:P296)","v":0},{"$f":"SUM(Q296:S296)","v":0},{"$f":"SUM(T296:V296)","v":0},{"$f":"SUM(W296:Y296)","v":0},null,null,null,null,null,null,null,null,null,null,null,"Acquisition","Operational  Energy","Operational  Water","Operational- Maintenance (labor)","Operational- Other","Disposal","Acquisition","Operational  Energy","Operational  Water","Operational- Maintenance (labor)","Operational- Other","Disposal","Acquisition","Operational  Energy","Operational  Water","Operational- Maintenance (labor)","Operational- Other","Disposal","Acquisition","Operational  Energy","Operational  Water","Operational- Maintenance (labor)","Operational- Other","Disposal"]
[null,null,null,null,null,null,null,null,null,null,null,null,"Total (after time horizon) ($)",{"$f":"N291","v":0},{"$f":"O291","v":0},0,0,0,0,0,0,0,0,0,0,null,"Total (after time horizon) ($)",{"$f":"SUM(N297:P297)","v":0},{"$f":"SUM(Q297:S297)","v":0},{"$f":"SUM(T297:V297)","v":0},{"$f":"SUM(W297:Y297)","v":0},null,null,null,null,null,null,null,null,null,null,"Year 1 ($)",{"$f":"AQ272","v":0},0,{"$f":"AS272","v":0},{"$f":"AT272","v":0},{"$f":"AU272","v":0},0,0,0,0,{"$f":"AZ272","v":0},0,0,0,0,0,{"$f":"BF272","v":0},0,0,0,0,0,0,0,0]
[null,null,null,null,null,null,null,null,null,null,null,null,"Annual average ($/year)",{"$f":"N292","v":{"$error":"#VALUE!"}},{"$f":"O292","v":{"$error":"#VALUE!"}},{"$error":"#VALUE!"},{"$f":"Q292","v":{"$error":"#VALUE!"}},{"$error":"#VALUE!"},{"$error":"#VALUE!"},{"$error":"#VALUE!"},{"$error":"#VALUE!"},{"$error":"#VALUE!"},{"$error":"#VALUE!"},{"$error":"#VALUE!"},{"$error":"#VALUE!"},null," Annual average ($/year)",{"$f":"SUM(N298:P298)","v":{"$error":"#VALUE!"}},{"$f":"SUM(Q298:S298)","v":{"$error":"#VALUE!"}},{"$f":"SUM(T298:V298)","v":{"$error":"#VALUE!"}},{"$f":"SUM(W298:Y298)","v":{"$error":"#VALUE!"}},null,null,null,null,null,null,null,null,null,null,"Total (after time horizon) ($)",{"$f":"AQ292","v":0},{"$f":"AR292","v":0},{"$f":"AS292","v":0},{"$f":"AT292","v":0},0,0,0,0,0,{"$f":"AZ292","v":0},0,0,0,0,0,{"$f":"BF292","v":0},0,0,0,0,0,{"$f":"BL292","v":0},0,0]
[null,null,null,null,null,null,null,null,null,null,null,null,null,null,null,null,null,null,null,null,null,null,null,null,null,null,null,null,null,null,null,null,null,null,null,null,null,null,null,null,null,"Annual average ($/year)",{"$f":"AQ293","v":{"$error":"#VALUE!"}},{"$error":"#VALUE!"},{"$f":"AS293","v":{"$error":"#VALUE!"}},{"$f":"AT293","v":{"$error":"#VALUE!"}},{"$error":"#VALUE!"},{"$error":"#VALUE!"},{"$error":"#VALUE!"},{"$error":"#VALUE!"},{"$error":"#VALUE!"},{"$f":"AZ293","v":{"$error":"#VALUE!"}},{"$error":"#VALUE!"},{"$error":"#VALUE!"},{"$error":"#VALUE!"},{"$error":"#VALUE!"},{"$error":"#VALUE!"},{"$f":"BF293","v":{"$error":"#VALUE!"}},{"$error":"#VALUE!"},{"$error":"#VALUE!"},{"$error":"#VALUE!"},{"$error":"#VALUE!"},{"$error":"#VALUE!"},{"$f":"BL293","v":{"$error":"#VALUE!"}},{"$error":"#VALUE!"},{"$error":"#VALUE!"}]
[null,null,null,null,null,null,null,null,null,null,null,null,"NPV Summary - Product"]
[null,null,null,null,null,null,null,null,null,null,null,null,null,"Year 1 ($)",null,null,null,"Total (after time horizon) ($)",null,null,null,"Annual average ($/year)",null,null,null,null,null,null,null,null,null,null,null,null,null,null,null,null,null,null,null,"NPV Summary - Product (split for env. costs)"]
[null,null,null,null,null,null,null,null,null,null,null,null,"Type of cost","Product A ","Product B","Product C","Product D ","Product A ","Product B","Product C","Product D ","Product A ","Product B","Product C","Product D ",null,null,null,null,null,null,null,null,null,null,null,null,null,null,null,null,null,"Year 1 ($)",null,null,null,"Total (after time horizon) ($)",null,null,null,"Annual average ($/year)"]
[null,null,null,null,null,null,null,null,null,null,null,null,"Acquisition",{"$f":"N296","v":0},{"$f":"Q296","v":0},{"$f":"T296","v":0},{"$f":"W296","v":0},{"$f":"N297","v":0},{"$f":"Q297","v":0},{"$f":"T297","v":0},{"$f":"W297","v":0},{"$f":"N298","v":{"$error":"#VALUE!"}},{"$f":"Q298","v":{"$error":"#VALUE!"}},{"$f":"T298","v":{"$error":"#VALUE!"}},{"$f":"W298","v":{"$error":"#VALUE!"}},null,null,null,null,null,null,null,null,null,null,null,null,null,null,null,null,"Type of cost","Product A ","Product B","Product C","Product D ","Product A ","Product B","Product C","Product D ","Product A ","Product B","Product C","Product D "]
[null,null,null,null,null,null,null,null,null,null,null,null,"Operational",{"$f":"O296","v":0},{"$f":"R296","v":0},{"$f":"U296","v":0},{"$f":"X296","v":0},{"$f":"O297","v":0},{"$f":"R297","v":0},{"$f":"U297","v":0},{"$f":"X297","v":0},{"$f":"O298","v":{"$error":"#VALUE!"}},{"$f":"R298","v":{"$error":"#VALUE!"}},{"$f":"U298","v":{"$error":"#VALUE!"}},{"$f":"X298","v":{"$error":"#VALUE!"}},null,null,null,null,null,null,null,null,null,null,null,null,null,null,null,null,"Acquisition",{"$f":"AQ297","v":0},{"$f":"AW297","v":0},{"$f":"BC297","v":0},{"$f":"BI297","v":0},{"$f":"AQ298","v":0},{"$f":"AW298","v":0},{"$f":"BC298","v":0},{"$f":"BI298","v":0},{"$f":"AQ299","v":{"$error":"#VALUE!"}},{"$f":"AW299","v":{"$error":"#VALUE!"}},{"$f":"BC299","v":{"$error":"#VALUE!"}},{"$f":"BI299","v":{"$error":"#VALUE!"}}]
[null,null,null,null,null,null,null,null,null,null,null,null,"Disposal",{"$f":"P296","v":0},{"$f":"S296","v":0},{"$f":"V296","v":0},{"$f":"Y296","v":0},{"$f":"P297","v":0},{"$f":"S297","v":0},{"$f":"V297","v":0},{"$f":"Y297","v":0},{"$f":"P298","v":{"$error":"#VALUE!"}},{"$f":"S298","v":{"$error":"#VALUE!"}},{"$f":"V298","v":{"$error":"#VALUE!"}},{"$f":"Y298","v":{"$error":"#VALUE!"}},null,null,null,null,null,null,null,null,null,null,null,null,null,null,null,null,"Operational- Energy",{"$f":"AR297","v":0},{"$f":"AX297","v":0},{"$f":"BD297","v":0},{"$f":"BJ297","v":0},{"$f":"AR298","v":0},{"$f":"AX298","v":0},{"$f":"BD298","v":0},{"$f":"BJ298","v":0},{"$f":"AR299","v":{"$error":"#VALUE!"}},{"$f":"AX299","v":{"$error":"#VALUE!"}},{"$f":"BD299","v":{"$error":"#VALUE!"}},{"$f":"BJ299","v":{"$error":"#VALUE!"}}]
[null,null,null,null,null,null,null,null,null,null,null,null,"Total",{"$f":"SUM(N303:N305)","v":0},{"$f":"SUM(O303:O305)","v":0},0,0,{"$f":"SUM(R303:R305)","v":0},0,0,0,{"$error":"#VALUE!"},{"$error":"#VALUE!"},{"$error":"#VALUE!"},{"$f":"SUM(Y303:Y305)","v":{"$error":"#VALUE!"}},null,null,null,null,null,null,null,null,null,null,null,null,null,null,null,null,"Operational- Water",{"$f":"AS297","v":0},{"$f":"AY297","v":0},{"$f":"BE297","v":0},{"$f":"BK297","v":0},{"$f":"AS298","v":0},{"$f":"AY298","v":0},{"$f":"BE298","v":0},{"$f":"BK298","v":0},{"$f":"AS299","v":{"$error":"#VALUE!"}},{"$f":"AY299","v":{"$error":"#VALUE!"}},{"$f":"BE299","v":{"$error":"#VALUE!"}},{"$f":"BK299","v":{"$error":"#VALUE!"}}]
[null,null,null,null,null,null,null,null,null,null,null,null,null,null,null,null,null,null,null,null,null,null,null,null,null,null,null,null,null,null,null,null,null,null,null,null,null,null,null,null,null,"Operational- Maintenance (labor)",{"$f":"AT297","v":0},{"$f":"AZ297","v":0},{"$f":"BF297","v":0},{"$f":"BL297","v":0},{"$f":"AT298","v":0},{"$f":"AZ298","v":0},{"$f":"BF298","v":0},{"$f":"BL298","v":0},{"$f":"AT299","v":{"$error":"#VALUE!"}},{"$f":"AZ299","v":{"$error":"#VALUE!"}},{"$f":"BF299","v":{"$error":"#VALUE!"}},{"$f":"BL299","v":{"$error":"#VALUE!"}}]
[null,null,null,null,null,null,null,null,null,null,null,null,"NPV Summary - Product (split by env.cost)",null,null,null,null,null,null,null,null,null,null,null,null,null,null,null,null,null,null,null,null,null,null,null,null,null,null,null,null,"Operational- Other",{"$f":"AU297","v":0},{"$f":"BA297","v":0},{"$f":"BG297","v":0},{"$f":"BM297","v":0},{"$f":"AU298","v":0},{"$f":"BA298","v":0},{"$f":"BG298","v":0},{"$f":"BM298","v":0},{"$f":"AU299","v":{"$error":"#VALUE!"}},{"$f":"BA299","v":{"$error":"#VALUE!"}},{"$f":"BG299","v":{"$error":"#VALUE!"}},{"$f":"BM299","v":{"$error":"#VALUE!"}}]
[null,null,null,null,null,null,null,null,null,null,null,null,null,"Year 1 ($)",null,null,null,"Total (after time horizon) ($)",null,null,null,"Annual average ($/year)",null,null,null,null,null,null,null,null,null,null,null,null,null,null,null,null,null,null,null,"Disposal",{"$f":"AV297","v":0},{"$f":"BB297","v":0},{"$f":"BH297","v":0},{"$f":"BN297","v":0},{"$f":"AV298","v":0},{"$f":"BB298","v":0},{"$f":"BH298","v":0},{"$f":"BN298","v":0},{"$f":"AV299","v":{"$error":"#VALUE!"}},{"$f":"BB299","v":{"$error":"#VALUE!"}},{"$f":"BH299","v":{"$error":"#VALUE!"}},{"$f":"BN299","v":{"$error":"#VALUE!"}}]
[null,null,null,null,null,null,null,null,null,null,null,null,"Type of cost","Product A ","Product B","Product C","Product D ","Product A ","Product B","Product C","Product D ","Product A ","Product B","Product C","Product D ",null,null,null,null,null,null,null,null,null,null,null,null,null,null,null,null,"Total",{"$f":"SUM(AQ304:AQ309)","v":0},0,0,0,0,0,0,0,{"$error":"#VALUE!"},{"$error":"#VALUE!"},{"$error":"#VALUE!"},{"$error":"#VALUE!"}]
[null,null,null,null,null,null,null,null,null,null,null,null,"Acquisition",{"$f":"N303","v":0},{"$f":"O303","v":0},0,0,0,0,0,0,{"$f":"V303","v":{"$error":"#VALUE!"}},{"$error":"#VALUE!"},{"$error":"#VALUE!"},{"$error":"#VALUE!"}]
[null,null,null,null,null,null,null,null,null,null,null,null,"Operational - Energy",{"$f":"AQ305","v":0},{"$f":"AR305","v":0},0,0,0,0,0,0,{"$error":"#VALUE!"},{"$error":"#VALUE!"},{"$error":"#VALUE!"},{"$error":"#VALUE!"}]
[null,null,null,null,null,null,null,null,null,null,null,null,"Operational - Water",{"$f":"AQ306","v":0},0,0,0,0,0,0,0,{"$error":"#VALUE!"},{"$error":"#VALUE!"},{"$error":"#VALUE!"},{"$error":"#VALUE!"}]
[null,null,null,null,null,null,null,null,null,null,null,null,"Operational - Maintenance (labor)",{"$f":"AQ307","v":0},0,0,0,0,0,0,0,{"$error":"#VALUE!"},{"$error":"#VALUE!"},{"$error":"#VALUE!"},{"$f":"BB307","v":{"$error":"#VALUE!"}}]
[null,null,null,null,null,null,null,null,null,null,null,null,"Operational - Other",{"$f":"AQ308","v":0},0,0,0,0,0,0,0,{"$error":"#VALUE!"},{"$error":"#VALUE!"},{"$error":"#VALUE!"},{"$f":"BB308","v":{"$error":"#VALUE!"}}]
[null,null,null,null,null,null,null,null,null,null,null,null,"Disposal",{"$f":"N305","v":0},0,0,0,0,0,0,0,{"$error":"#VALUE!"},{"$error":"#VALUE!"},{"$error":"#VALUE!"},{"$error":"#VALUE!"}]
[null,null,null,null,null,null,null,null,null,null,null,null,"Total",{"$f":"SUM(N311:N316)","v":0},0,0,0,0,0,0,0,{"$error":"#VALUE!"},{"$error":"#VALUE!"},{"$error":"#VALUE!"},{"$error":"#VALUE!"}]

{"sheet":"Final results for Results page","index":10,"n_rows":84,"n_cols":30,"rows_kept":84,"cut":false,"hidden":true,"merged":[[17,18,17,21],[17,22,17,25],[17,26,17,29],[17,2,18,2],[17,3,17,6],[17,7,17,10],[17,11,17,14],[17,17,18,17],[41,17,41,19],[41,2,41,4],[25,22,25,23],[26,22,26,23],[27,22,27,23],[28,22,28,23],[28,7,28,8],[27,7,27,8],[26,7,26,8],[25,7,25,8]]}
["TAB TO BE HIDDEN"]
[null,null,"Data input (Screening assessment)",null,null,null,null,null,null,null,null,null,null,null,null,null,null,"Data input (Detailed assessment)"]
[]
[null,null,"SUMMARY FIGURES",null,null,null,null,null,null,null,null,null,null,null,null,null,null,"SUMMARY FIGURES"]
[]
[null,null,"Total Cost of Ownership in year 1","Unit","Product A ","Product B","Product C","Product D ",null,null,null,null,null,null,null,null,null,"Total Cost of Ownership in year 1","Unit","Product A ","Product B","Product C","Product D "]
[null,null,null,"$",{"$f":"IF('Data input (screening)'!$E$28=0,0,'Calcs Screening'!DI222)","v":0},{"$f":"IF('Data input (screening)'!$E$28=0,0,'Calcs Screening'!DJ222)","v":0},{"$f":"IF('Data input (screening)'!$E$28=0,0,'Calcs Screening'!DK222)","v":0},{"$f":"IF('Data input (screening)'!$E$28=0,0,'Calcs Screening'!DL222)","v":0},null,null,null,null,null,null,null,null,null,null,"$",{"$f":"IF('Data input (screening)'!$E$28=0,0,'Calcs Detailed'!DI222)","v":0},{"$f":"IF('Data input (screening)'!$E$28=0,0,'Calcs Detailed'!DJ222)","v":0},{"$f":"IF('Data input (screening)'!$E$28=0,0,'Calcs Detailed'!DK222)","v":0},{"$f":"IF('Data input (screening)'!$E$28=0,0,'Calcs Detailed'!DL222)","v":0}]
[]
[]
[null,null,{"$f":"CONCATENATE(\"Total Cost of Ownership in year \",D35)","v":"Total Cost of Ownership in year 0"},"Units","Product A ","Product B","Product C","Product D ",null,null,null,null,null,null,null,null,null,{"$f":"CONCATENATE(\"Total Cost of Ownership in year \",S35)","v":"Total Cost of Ownership in year 0"},"Units","Product A ","Product B","Product C","Product D "]
[null,null,null,"$",{"$f":"IF('Data input (screening)'!$E$28=0,0,'Calcs Screening'!DI225)","v":0},{"$f":"IF('Data input (screening)'!$E$28=0,0,'Calcs Screening'!DJ225)","v":0},{"$f":"IF('Data input (screening)'!$E$28=0,0,'Calcs Screening'!DK225)","v":0},{"$f":"IF('Data input (screening)'!$E$28=0,0,'Calcs Screening'!DL225)","v":0},null,null,null,null,null,null,null,null,null,null,"$",{"$f":"IF('Data input (screening)'!$E$28=0,0,'Calcs Detailed'!DI225)","v":0},{"$f":"IF('Data input (screening)'!$E$28=0,0,'Calcs Detailed'!DJ225)","v":0},{"$f":"IF('Data input (screening)'!$E$28=0,0,'Calcs Detailed'!DK225)","v":0},{"$f":"IF('Data input (screening)'!$E$28=0,0,'Calcs Detailed'!DL225)","v":0}]
[]
[]
[null,null,"Average Total Cost of Ownership","Unit","Product A ","Product B","Product C","Product D ",null,null,null,null,null,null,null,null,null,"Average Total Cost of Ownership","Unit","Product A ","Product B","Product C","Product D "]
[null,null,null,"$/year",{"$f":"IF('Data input (screening)'!$E$28=0,0,'Calcs Screening'!DI229)","v":0},{"$f":"IF('Data input (screening)'!$E$28=0,0,'Calcs Screening'!DJ229)","v":0},{"$f":"IF('Data input (screening)'!$E$28=0,0,'Calcs Screening'!DK229)","v":0},{"$f":"IF('Data input (screening)'!$E$28=0,0,'Calcs Screening'!DL229)","v":0},null,null,null,null,null,null,null,null,null,null,"$/year",{"$f":"IF('Data input (screening)'!$E$28=0,0,'Calcs Detailed'!DI229)","v":0},{"$f":"IF('Data input (screening)'!$E$28=0,0,'Calcs Detailed'!DJ229)","v":0},{"$f":"IF('Data input (screening)'!$E$28=0,0,'Calcs Detailed'!DK229)","v":0},{"$f":"IF('Data input (screening)'!$E$28=0,0,'Calcs Detailed'!DL229)","v":0}]
[]
[]
[null,null,"Type of cost","Year 1 ($)",null,null,null,"Total (after analysis) ($)",null,null,null,"Annual average ($/year)",null,null,null,null,null,"Type of cost","Year 1 ($)",null,null,null,"Total (after analysis) ($)",null,null,null,"Annual average ($/year)"]
[null,null,null,"Product A ","Product B","Product C","Product D ","Product A ","Product B","Product C","Product D ","Product A ","Product B","Product C","Product D ",null,null,null,"Product A ","Product B","Product C","Product D ","Product A ","Product B","Product C","Product D ","Product A ","Product B","Product C","Product D "]
[null,null,"Acquisition",{"$f":"IF('Data input (screening)'!$E$28=0,0,'Calcs Screening'!DH199)","v":0},{"$f":"IF('Data input (screening)'!$E$28=0,0,'Calcs Screening'!DI199)","v":0},{"$f":"IF('Data input (screening)'!$E$28=0,0,'Calcs Screening'!DJ199)","v":0},{"$f":"IF('Data input (screening)'!$E$28=0,0,'Calcs Screening'!DK199)","v":0},{"$f":"IF('Data input (screening)'!$E$28=0,0,'Calcs Screening'!DL199)","v":0},{"$f":"IF('Data input (screening)'!$E$28=0,0,'Calcs Screening'!DM199)","v":0},{"$f":"IF('Data input (screening)'!$E$28=0,0,'Calcs Screening'!DN199)","v":0},{"$f":"IF('Data input (screening)'!$E$28=0,0,'Calcs Screening'!DO199)","v":0},{"$f":"IF('Data input (screening)'!$E$28=0,0,'Calcs Screening'!DP199)","v":0},{"$f":"IF('Data input (screening)'!$E$28=0,0,'Calcs Screening'!DQ199)","v":0},{"$f":"IF('Data input (screening)'!$E$28=0,0,'Calcs Screening'!DR199)","v":0},{"$f":"IF('Data input (screening)'!$E$28=0,0,'Calcs Screening'!DS199)","v":0},null,null,"Acquisition",{"$f":"IF('Data input (screening)'!$E$28=0,0,'Calcs Detailed'!DH199)","v":0},{"$f":"IF('Data input (screening)'!$E$28=0,0,'Calcs Detailed'!DI199)","v":0},{"$f":"IF('Data input (screening)'!$E$28=0,0,'Calcs Detailed'!DJ199)","v":0},{"$f":"IF('Data input (screening)'!$E$28=0,0,'Calcs Detailed'!DK199)","v":0},{"$f":"IF('Data input (screening)'!$E$28=0,0,'Calcs Detailed'!DL199)","v":0},{"$f":"IF('Data input (screening)'!$E$28=0,0,'Calcs Detailed'!DM199)","v":0},{"$f":"IF('Data input (screening)'!$E$28=0,0,'Calcs Detailed'!DN199)","v":0},{"$f":"IF('Data input (screening)'!$E$28=0,0,'Calcs Detailed'!DO199)","v":0},{"$f":"IF('Data input (screening)'!$E$28=0,0,'Calcs Detailed'!DP199)","v":0},{"$f":"IF('Data input (screening)'!$E$28=0,0,'Calcs Detailed'!DQ199)","v":0},{"$f":"IF('Data input (screening)'!$E$28=0,0,'Calcs Detailed'!DR199)","v":0},{"$f":"IF('Data input (screening)'!$E$28=0,0,'Calcs Detailed'!DS199)","v":0}]
[null,null,"Operational",{"$f":"IF('Data input (screening)'!$E$28=0,0,'Calcs Screening'!DH200)","v":0},{"$f":"IF('Data input (screening)'!$E$28=0,0,'Calcs Screening'!DI200)","v":0},{"$f":"IF('Data input (screening)'!$E$28=0,0,'Calcs Screening'!DJ200)","v":0},{"$f":"IF('Data input (screening)'!$E$28=0,0,'Calcs Screening'!DK200)","v":0},{"$f":"IF('Data input (screening)'!$E$28=0,0,'Calcs Screening'!DL200)","v":0},{"$f":"IF('Data input (screening)'!$E$28=0,0,'Calcs Screening'!DM200)","v":0},{"$f":"IF('Data input (screening)'!$E$28=0,0,'Calcs Screening'!DN200)","v":0},{"$f":"IF('Data input (screening)'!$E$28=0,0,'Calcs Screening'!DO200)","v":0},{"$f":"IF('Data input (screening)'!$E$28=0,0,'Calcs Screening'!DP200)","v":0},{"$f":"IF('Data input (screening)'!$E$28=0,0,'Calcs Screening'!DQ200)","v":0},{"$f":"IF('Data input (screening)'!$E$28=0,0,'Calcs Screening'!DR200)","v":0},{"$f":"IF('Data input (screening)'!$E$28=0,0,'Calcs Screening'!DS200)","v":0},null,null,"Operational",{"$f":"IF('Data input (screening)'!$E$28=0,0,'Calcs Detailed'!DH200)","v":0},{"$f":"IF('Data input (screening)'!$E$28=0,0,'Calcs Detailed'!DI200)","v":0},{"$f":"IF('Data input (screening)'!$E$28=0,0,'Calcs Detailed'!DJ200)","v":0},{"$f":"IF('Data input (screening)'!$E$28=0,0,'Calcs Detailed'!DK200)","v":0},{"$f":"IF('Data input (screening)'!$E$28=0,0,'Calcs Detailed'!DL200)","v":0},{"$f":"IF('Data input (screening)'!$E$28=0,0,'Calcs Detailed'!DM200)","v":0},{"$f":"IF('Data input (screening)'!$E$28=0,0,'Calcs Detailed'!DN200)","v":0},{"$f":"IF('Data input (screening)'!$E$28=0,0,'Calcs Detailed'!DO200)","v":0},{"$f":"IF('Data input (screening)'!$E$28=0,0,'Calcs Detailed'!DP200)","v":0},{"$f":"IF('Data input (screening)'!$E$28=0,0,'Calcs Detailed'!DQ200)","v":0},{"$f":"IF('Data input (screening)'!$E$28=0,0,'Calcs Detailed'!DR200)","v":0},{"$f":"IF('Data input (screening)'!$E$28=0,0,'Calcs Detailed'!DS200)","v":0}]
[null,null,"Disposal",{"$f":"IF('Data input (screening)'!$E$28=0,0,'Calcs Screening'!DH201)","v":0},{"$f":"IF('Data input (screening)'!$E$28=0,0,'Calcs Screening'!DI201)","v":0},{"$f":"IF('Data input (screening)'!$E$28=0,0,'Calcs Screening'!DJ201)","v":0},{"$f":"IF('Data input (screening)'!$E$28=0,0,'Calcs Screening'!DK201)","v":0},{"$f":"IF('Data input (screening)'!$E$28=0,0,'Calcs Screening'!DL201)","v":0},{"$f":"IF('Data input (screening)'!$E$28=0,0,'Calcs Screening'!DM201)","v":0},{"$f":"IF('Data input (screening)'!$E$28=0,0,'Calcs Screening'!DN201)","v":0},{"$f":"IF('Data input (screening)'!$E$28=0,0,'Calcs Screening'!DO201)","v":0},{"$f":"IF('Data input (screening)'!$E$28=0,0,'Calcs Screening'!DP201)","v":0},{"$f":"IF('Data input (screening)'!$E$28=0,0,'Calcs Screening'!DQ201)","v":0},{"$f":"IF('Data input (screening)'!$E$28=0,0,'Calcs Screening'!DR201)","v":0},{"$f":"IF('Data input (screening)'!$E$28=0,0,'Calcs Screening'!DS201)","v":0},null,null,"Disposal",{"$f":"IF('Data input (screening)'!$E$28=0,0,'Calcs Detailed'!DH201)","v":0},{"$f":"IF('Data input (screening)'!$E$28=0,0,'Calcs Detailed'!DI201)","v":0},{"$f":"IF('Data input (screening)'!$E$28=0,0,'Calcs Detailed'!DJ201)","v":0},{"$f":"IF('Data input (screening)'!$E$28=0,0,'Calcs Detailed'!DK201)","v":0},{"$f":"IF('Data input (screening)'!$E$28=0,0,'Calcs Detailed'!DL201)","v":0},{"$f":"IF('Data input (screening)'!$E$28=0,0,'Calcs Detailed'!DM201)","v":0},{"$f":"IF('Data input (screening)'!$E$28=0,0,'Calcs Detailed'!DN201)","v":0},{"$f":"IF('Data input (screening)'!$E$28=0,0,'Calcs Detailed'!DO201)","v":0},{"$f":"IF('Data input (screening)'!$E$28=0,0,'Calcs Detailed'!DP201)","v":0},{"$f":"IF('Data input (screening)'!$E$28=0,0,'Calcs Detailed'!DQ201)","v":0},{"$f":"IF('Data input (screening)'!$E$28=0,0,'Calcs Detailed'!DR201)","v":0},{"$f":"IF('Data input (screening)'!$E$28=0,0,'Calcs Detailed'!DS201)","v":0}]
[null,null,"Total",{"$f":"IF('Data input (screening)'!$E$28=0,0,'Calcs Screening'!DH202)","v":0},{"$f":"IF('Data input (screening)'!$E$28=0,0,'Calcs Screening'!DI202)","v":0},{"$f":"IF('Data input (screening)'!$E$28=0,0,'Calcs Screening'!DJ202)","v":0},{"$f":"IF('Data input (screening)'!$E$28=0,0,'Calcs Screening'!DK202)","v":0},{"$f":"IF('Data input (screening)'!$E$28=0,0,'Calcs Screening'!DL202)","v":0},{"$f":"IF('Data input (screening)'!$E$28=0,0,'Calcs Screening'!DM202)","v":0},{"$f":"IF('Data input (screening)'!$E$28=0,0,'Calcs Screening'!DN202)","v":0},{"$f":"IF('Data input (screening)'!$E$28=0,0,'Calcs Screening'!DO202)","v":0},{"$f":"IF('Data input (screening)'!$E$28=0,0,'Calcs Screening'!DP202)","v":0},{"$f":"IF('Data input (screening)'!$E$28=0,0,'Calcs Screening'!DQ202)","v":0},{"$f":"IF('Data input (screening)'!$E$28=0,0,'Calcs Screening'!DR202)","v":0},{"$f":"IF('Data input (screening)'!$E$28=0,0,'Calcs Screening'!DS202)","v":0},null,null,"Total",{"$f":"IF('Data input (screening)'!$E$28=0,0,'Calcs Detailed'!DH202)","v":0},{"$f":"IF('Data input (screening)'!$E$28=0,0,'Calcs Detailed'!DI202)","v":0},{"$f":"IF('Data input (screening)'!$E$28=0,0,'Calcs Detailed'!DJ202)","v":0},{"$f":"IF('Data input (screening)'!$E$28=0,0,'Calcs Detailed'!DK202)","v":0},{"$f":"IF('Data input (screening)'!$E$28=0,0,'Calcs Detailed'!DL202)","v":0},{"$f":"IF('Data input (screening)'!$E$28=0,0,'Calcs Detailed'!DM202)","v":0},{"$f":"IF('Data input (screening)'!$E$28=0,0,'Calcs Detailed'!DN202)","v":0},{"$f":"IF('Data input (screening)'!$E$28=0,0,'Calcs Detailed'!DO202)","v":0},{"$f":"IF('Data input (screening)'!$E$28=0,0,'Calcs Detailed'!DP202)","v":0},{"$f":"IF('Data input (screening)'!$E$28=0,0,'Calcs Detailed'!DQ202)","v":0},{"$f":"IF('Data input (screening)'!$E$28=0,0,'Calcs Detailed'!DR202)","v":0},{"$f":"IF('Data input (screening)'!$E$28=0,0,'Calcs Detailed'!DS202)","v":0}]
[]
[]
[null,null,"Key metrics","Product A ","Product B","Product C","Product D ","Definition",null,null,null,null,null,null,null,null,null,"Key metrics","Product A ","Product B","Product C","Product D ","Definition"]
[null,null,{"$f":"CONCATENATE(\"Percentage of Acquisition cost versus Total Cost of Ownership in year \",D35)","v":"Percentage of Acquisition cost versus Total Cost of Ownership in year 0"},{"$f":"IF('Data input (screening)'!$E$28=0,0,'Calcs Screening'!DH233)","v":0},{"$f":"IF('Data input (screening)'!$E$28=0,0,'Calcs Screening'!DI233)","v":0},{"$f":"IF('Data input (screening)'!$E$28=0,0,'Calcs Screening'!DJ233)","v":0},{"$f":"IF('Data input (screening)'!$E$28=0,0,'Calcs Screening'!DK233)","v":0},"Proportion that acquisition costs represent when compared to the Total Cost of Ownership at the end of the analysis, this is, at the end of the time period that you have selected (for example, 20 years). This percentage informs about the representativeness of acquisition costs when compared to other costs that occur during the product lifetime. This parameter emphasizes that costs other than acquisition can have significant financial implications and can inform procurement decisions.",null,null,null,null,null,null,null,null,null,{"$f":"CONCATENATE(\"Percentage of Acquisition cost versus Total Cost of Ownership in year \",S35)","v":"Percentage of Acquisition cost versus Total Cost of Ownership in year 0"},{"$f":"IF('Data input (screening)'!$E$28=0,0,'Calcs Detailed'!DH233)","v":0},{"$f":"IF('Data input (screening)'!$E$28=0,0,'Calcs Detailed'!DI233)","v":0},{"$f":"IF('Data input (screening)'!$E$28=0,0,'Calcs Detailed'!DJ233)","v":0},{"$f":"IF('Data input (screening)'!$E$28=0,0,'Calcs Detailed'!DK233)","v":0},"Proportion that acquisition costs represent when compared to the Total Cost of Ownership at the end of the analysis, this is, at the end of the time period that you have selected (for example, 20 years). This percentage informs about the representativeness of acquisition costs when compared to other costs that occur during the product lifetime. This parameter emphasizes that costs other than acquisition can have significant financial implications and can inform procurement decisions."]
[null,null,{"$f":"CONCATENATE(\"Minimum Total Cost of Ownership cost in year \",D35)","v":"Minimum Total Cost of Ownership cost in year 0"},{"$f":"IF('Data input (screening)'!$E$28=0,0,'Calcs Screening'!DH234)","v":0},null,null,null,"This parameter identifies which is the product that has the lowest Total Cost of Ownership at the end of the analysis. It has been calculated by aggregating Acquisition, Operational and Disposal costs that you have included in the data input pages during the time period selected for the analysis (for example 20 years). Figure 2 provides the Total Cost of Ownership at the end of the analysis in a visual way.",null,null,null,null,null,null,null,null,null,{"$f":"CONCATENATE(\"Minimum Total Cost of Ownership cost in year \",S35)","v":"Minimum Total Cost of Ownership cost in year 0"},{"$f":"IF('Data input (screening)'!$E$28=0,0,'Calcs Detailed'!DH234)","v":0},null,null,null,"This parameter identifies which is the product that has the lowest Total Cost of Ownership at the end of the analysis. It has been calculated by aggregating Acquisition, Operational and Disposal costs that you have included in the data input pages during the time period selected for the analysis (for example 20 years). Figure 2 provides the Total Cost of Ownership at the end of the analysis in a visual way."]
[null,null,{"$f":"CONCATENATE(\"Minimum environmentally related cost (energy, water, waste) in year \",D35)","v":"Minimum environmentally related cost (energy, water, waste) in year 0"},{"$f":"IF('Data input (screening)'!$E$28=0,0,'Calcs Screening'!DH235)","v":0},null,null,null,"This parameter identifies which is the product that has the lowest environmentally related cost at the end of the analysis. It has been calculated by aggregating certain Operational and all Disposal costs that you have included in the data input pages during the time period selected for the analysis (for example 20 years). Those costs are: 1) energy costs and water costs in terms of operational costs, and 2) disposal costs.   ",null,null,null,null,null,null,null,null,null,{"$f":"CONCATENATE(\"Minimum environmentally related cost (energy, water, waste) in year \",S35)","v":"Minimum environmentally related cost (energy, water, waste) in year 0"},{"$f":"IF('Data input (screening)'!$E$28=0,0,'Calcs Detailed'!DH235)","v":0},null,null,null,"This parameter identifies which is the product that has the lowest environmentally related cost at the end of the analysis. It has been calculated by aggregating certain Operational and all Disposal costs that you have included in the data input pages during the time period selected for the analysis (for example 20 years). Those costs are: 1) energy costs and water costs in terms of operational costs, and 2) disposal costs.   "]
[]
[]
[]
[]
[]
[null,null,"Duration of the analysis",{"$f":"'Data input (screening)'!E28","v":0},null,null,null,null,null,null,null,null,null,null,null,null,null,"Duration of the analysis",{"$f":"'Data input (detailed1)'!E28","v":0}]
[]
[]
[]
[]
[]
[]
[null,null,"Legend",null,null,"Your comments",null,null,null,null,null,null,null,null,null,null,null,"Legend",null,null,"Your comments"]
[null,null,"Product/Scenario A",{"$f":"'Data input (screening)'!E32","v":0},null,{"$f":"'Data input (screening)'!J32","v":0},null,null,null,null,null,null,null,null,null,null,null,"Product/Scenario A",{"$f":"'Data input (detailed1)'!E32","v":0},null,{"$f":"'Data input (detailed1)'!J32","v":""}]
[null,null,"Product/Scenario B",{"$f":"'Data input (screening)'!F32","v":0},null,null,null,null,null,null,null,null,null,null,null,null,null,"Product/Scenario B",{"$f":"'Data input (detailed1)'!F32","v":0}]
[null,null,"Product/Scenario C",{"$f":"'Data input (screening)'!G32","v":0},null,null,null,null,null,null,null,null,null,null,null,null,null,"Product/Scenario C",{"$f":"'Data input (detailed1)'!G32","v":0}]
[null,null,"Product/Scenario D",{"$f":"'Data input (screening)'!H32","v":0},null,null,null,null,null,null,null,null,null,null,null,null,null,"Product/Scenario D",{"$f":"'Data input (detailed1)'!H32","v":0}]
[]
[]
[null,null,{"$f":"CONCATENATE(\"Figure 2. Total Cost of Ownership in year \",D35)","v":"Figure 2. Total Cost of Ownership in year 0"},"DON’T REMOVE. LINKED TO GRAPH TITTLE IN THE RESULTS TAB",null,null,null,null,null,null,null,null,null,null,null,null,null,{"$f":"CONCATENATE(\"Figure 2. Cost of Ownership in year \",S35)","v":"Figure 2. Cost of Ownership in year 0"},"DON’T REMOVE. LINKED TO GRAPH TITTLE IN THE RESULTS TAB"]
[]
[null,null,{"$f":"'Calcs Screening'!DF165","v":"Year adapted by the user"},"Total cost Cumulative ($)",null,null,null,null,null,null,null,null,null,null,null,null,null,{"$f":"'Calcs Detailed'!DF165","v":"Year adapted by the user"},"Total cost Cumulative ($)"]
[null,null,"Year","Product/Scenario A ","Product/Scenario B","Product/Scenario C","Product/Scenario D",null,null,null,null,null,null,null,null,null,null,"Year","Product/Scenario A ","Product/Scenario B","Product/Scenario C","Product/Scenario D"]
[null,null,{"$f":"IF('Data input (screening)'!$E$28=0,0,'Calcs Screening'!DF167)","v":0},{"$f":"IF('Data input (screening)'!$E$28=0,0,'Calcs Screening'!DY167)","v":0},{"$f":"IF('Data input (screening)'!$E$28=0,0,'Calcs Screening'!DZ167)","v":0},{"$f":"IF('Data input (screening)'!$E$28=0,0,'Calcs Screening'!EA167)","v":0},{"$f":"IF('Data input (screening)'!$E$28=0,0,'Calcs Screening'!EB167)","v":0},null,null,null,null,null,null,null,null,null,null,{"$f":"IF('Data input (screening)'!$E$28=0,0,'Calcs Detailed'!DF167)","v":0},{"$f":"IF('Data input (screening)'!$E$28=0,0,'Calcs Detailed'!DY167)","v":0},{"$f":"IF('Data input (screening)'!$E$28=0,0,'Calcs Detailed'!DZ167)","v":0},{"$f":"IF('Data input (screening)'!$E$28=0,0,'Calcs Detailed'!EA167)","v":0},{"$f":"IF('Data input (screening)'!$E$28=0,0,'Calcs Detailed'!EB167)","v":0}]
[null,null,{"$f":"IF('Data input (screening)'!$E$28=0,0,'Calcs Screening'!DF168)","v":0},{"$f":"IF('Data input (screening)'!$E$28=0,0,'Calcs Screening'!DY168)","v":0},{"$f":"IF('Data input (screening)'!$E$28=0,0,'Calcs Screening'!DZ168)","v":0},{"$f":"IF('Data input (screening)'!$E$28=0,0,'Calcs Screening'!EA168)","v":0},{"$f":"IF('Data input (screening)'!$E$28=0,0,'Calcs Screening'!EB168)","v":0},null,null,null,null,null,null,null,null,null,null,{"$f":"IF('Data input (screening)'!$E$28=0,0,'Calcs Detailed'!DF168)","v":0},{"$f":"IF('Data input (screening)'!$E$28=0,0,'Calcs Detailed'!DY168)","v":0},{"$f":"IF('Data input (screening)'!$E$28=0,0,'Calcs Detailed'!DZ168)","v":0},{"$f":"IF('Data input (screening)'!$E$28=0,0,'Calcs Detailed'!EA168)","v":0},{"$f":"IF('Data input (screening)'!$E$28=0,0,'Calcs Detailed'!EB168)","v":0}]
[null,null,{"$f":"IF('Data input (screening)'!$E$28=0,0,'Calcs Screening'!DF169)","v":0},{"$f":"IF('Data input (screening)'!$E$28=0,0,'Calcs Screening'!DY169)","v":0},{"$f":"IF('Data input (screening)'!$E$28=0,0,'Calcs Screening'!DZ169)","v":0},{"$f":"IF('Data input (screening)'!$E$28=0,0,'Calcs Screening'!EA169)","v":0},{"$f":"IF('Data input (screening)'!$E$28=0,0,'Calcs Screening'!EB169)","v":0},null,null,null,null,null,null,null,null,null,null,{"$f":"IF('Data input (screening)'!$E$28=0,0,'Calcs Detailed'!DF169)","v":0},{"$f":"IF('Data input (screening)'!$E$28=0,0,'Calcs Detailed'!DY169)","v":0},{"$f":"IF('Data input (screening)'!$E$28=0,0,'Calcs Detailed'!DZ169)","v":0},{"$f":"IF('Data input (screening)'!$E$28=0,0,'Calcs Detailed'!EA169)","v":0},{"$f":"IF('Data input (screening)'!$E$28=0,0,'Calcs Detailed'!EB169)","v":0}]
[null,null,{"$f":"IF('Data input (screening)'!$E$28=0,0,'Calcs Screening'!DF170)","v":0},{"$f":"IF('Data input (screening)'!$E$28=0,0,'Calcs Screening'!DY170)","v":0},{"$f":"IF('Data input (screening)'!$E$28=0,0,'Calcs Screening'!DZ170)","v":0},{"$f":"IF('Data input (screening)'!$E$28=0,0,'Calcs Screening'!EA170)","v":0},{"$f":"IF('Data input (screening)'!$E$28=0,0,'Calcs Screening'!EB170)","v":0},null,null,null,null,null,null,null,null,null,null,{"$f":"IF('Data input (screening)'!$E$28=0,0,'Calcs Detailed'!DF170)","v":0},{"$f":"IF('Data input (screening)'!$E$28=0,0,'Calcs Detailed'!DY170)","v":0},{"$f":"IF('Data input (screening)'!$E$28=0,0,'Calcs Detailed'!DZ170)","v":0},{"$f":"IF('Data input (screening)'!$E$28=0,0,'Calcs Detailed'!EA170)","v":0},{"$f":"IF('Data input (screening)'!$E$28=0,0,'Calcs Detailed'!EB170)","v":0}]
[null,null,{"$f":"IF('Data input (screening)'!$E$28=0,0,'Calcs Screening'!DF171)","v":0},{"$f":"IF('Data input (screening)'!$E$28=0,0,'Calcs Screening'!DY171)","v":0},{"$f":"IF('Data input (screening)'!$E$28=0,0,'Calcs Screening'!DZ171)","v":0},{"$f":"IF('Data input (screening)'!$E$28=0,0,'Calcs Screening'!EA171)","v":0},{"$f":"IF('Data input (screening)'!$E$28=0,0,'Calcs Screening'!EB171)","v":0},null,null,null,null,null,null,null,null,null,null,{"$f":"IF('Data input (screening)'!$E$28=0,0,'Calcs Detailed'!DF171)","v":0},{"$f":"IF('Data input (screening)'!$E$28=0,0,'Calcs Detailed'!DY171)","v":0},{"$f":"IF('Data input (screening)'!$E$28=0,0,'Calcs Detailed'!DZ171)","v":0},{"$f":"IF('Data input (screening)'!$E$28=0,0,'Calcs Detailed'!EA171)","v":0},{"$f":"IF('Data input (screening)'!$E$28=0,0,'Calcs Detailed'!EB171)","v":0}]
[null,null,{"$f":"IF('Data input (screening)'!$E$28=0,0,'Calcs Screening'!DF172)","v":0},{"$f":"IF('Data input (screening)'!$E$28=0,0,'Calcs Screening'!DY172)","v":0},{"$f":"IF('Data input (screening)'!$E$28=0,0,'Calcs Screening'!DZ172)","v":0},{"$f":"IF('Data input (screening)'!$E$28=0,0,'Calcs Screening'!EA172)","v":0},{"$f":"IF('Data input (screening)'!$E$28=0,0,'Calcs Screening'!EB172)","v":0},null,null,null,null,null,null,null,null,null,null,{"$f":"IF('Data input (screening)'!$E$28=0,0,'Calcs Detailed'!DF172)","v":0},{"$f":"IF('Data input (screening)'!$E$28=0,0,'Calcs Detailed'!DY172)","v":0},{"$f":"IF('Data input (screening)'!$E$28=0,0,'Calcs Detailed'!DZ172)","v":0},{"$f":"IF('Data input (screening)'!$E$28=0,0,'Calcs Detailed'!EA172)","v":0},{"$f":"IF('Data input (screening)'!$E$28=0,0,'Calcs Detailed'!EB172)","v":0}]
[null,null,{"$f":"IF('Data input (screening)'!$E$28=0,0,'Calcs Screening'!DF173)","v":0},{"$f":"IF('Data input (screening)'!$E$28=0,0,'Calcs Screening'!DY173)","v":0},{"$f":"IF('Data input (screening)'!$E$28=0,0,'Calcs Screening'!DZ173)","v":0},{"$f":"IF('Data input (screening)'!$E$28=0,0,'Calcs Screening'!EA173)","v":0},{"$f":"IF('Data input (screening)'!$E$28=0,0,'Calcs Screening'!EB173)","v":0},null,null,null,null,null,null,null,null,null,null,{"$f":"IF('Data input (screening)'!$E$28=0,0,'Calcs Detailed'!DF173)","v":0},{"$f":"IF('Data input (screening)'!$E$28=0,0,'Calcs Detailed'!DY173)","v":0},{"$f":"IF('Data input (screening)'!$E$28=0,0,'Calcs Detailed'!DZ173)","v":0},{"$f":"IF('Data input (screening)'!$E$28=0,0,'Calcs Detailed'!EA173)","v":0},{"$f":"IF('Data input (screening)'!$E$28=0,0,'Calcs Detailed'!EB173)","v":0}]
[null,null,{"$f":"IF('Data input (screening)'!$E$28=0,0,'Calcs Screening'!DF174)","v":0},{"$f":"IF('Data input (screening)'!$E$28=0,0,'Calcs Screening'!DY174)","v":0},{"$f":"IF('Data input (screening)'!$E$28=0,0,'Calcs Screening'!DZ174)","v":0},{"$f":"IF('Data input (screening)'!$E$28=0,0,'Calcs Screening'!EA174)","v":0},{"$f":"IF('Data input (screening)'!$E$28=0,0,'Calcs Screening'!EB174)","v":0},null,null,null,null,null,null,null,null,null,null,{"$f":"IF('Data input (screening)'!$E$28=0,0,'Calcs Detailed'!DF174)","v":0},{"$f":"IF('Data input (screening)'!$E$28=0,0,'Calcs Detailed'!DY174)","v":0},{"$f":"IF('Data input (screening)'!$E$28=0,0,'Calcs Detailed'!DZ174)","v":0},{"$f":"IF('Data input (screening)'!$E$28=0,0,'Calcs Detailed'!EA174)","v":0},{"$f":"IF('Data input (screening)'!$E$28=0,0,'Calcs Detailed'!EB174)","v":0}]
[null,null,{"$f":"IF('Data input (screening)'!$E$28=0,0,'Calcs Screening'!DF175)","v":0},{"$f":"IF('Data input (screening)'!$E$28=0,0,'Calcs Screening'!DY175)","v":0},{"$f":"IF('Data input (screening)'!$E$28=0,0,'Calcs Screening'!DZ175)","v":0},{"$f":"IF('Data input (screening)'!$E$28=0,0,'Calcs Screening'!EA175)","v":0},{"$f":"IF('Data input (screening)'!$E$28=0,0,'Calcs Screening'!EB175)","v":0},null,null,null,null,null,null,null,null,null,null,{"$f":"IF('Data input (screening)'!$E$28=0,0,'Calcs Detailed'!DF175)","v":0},{"$f":"IF('Data input (screening)'!$E$28=0,0,'Calcs Detailed'!DY175)","v":0},{"$f":"IF('Data input (screening)'!$E$28=0,0,'Calcs Detailed'!DZ175)","v":0},{"$f":"IF('Data input (screening)'!$E$28=0,0,'Calcs Detailed'!EA175)","v":0},{"$f":"IF('Data input (screening)'!$E$28=0,0,'Calcs Detailed'!EB175)","v":0}]
[null,null,{"$f":"IF('Data input (screening)'!$E$28=0,0,'Calcs Screening'!DF176)","v":0},{"$f":"IF('Data input (screening)'!$E$28=0,0,'Calcs Screening'!DY176)","v":0},{"$f":"IF('Data input (screening)'!$E$28=0,0,'Calcs Screening'!DZ176)","v":0},{"$f":"IF('Data input (screening)'!$E$28=0,0,'Calcs Screening'!EA176)","v":0},{"$f":"IF('Data input (screening)'!$E$28=0,0,'Calcs Screening'!EB176)","v":0},null,null,null,null,null,null,null,null,null,null,{"$f":"IF('Data input (screening)'!$E$28=0,0,'Calcs Detailed'!DF176)","v":0},{"$f":"IF('Data input (screening)'!$E$28=0,0,'Calcs Detailed'!DY176)","v":0},{"$f":"IF('Data input (screening)'!$E$28=0,0,'Calcs Detailed'!DZ176)","v":0},{"$f":"IF('Data input (screening)'!$E$28=0,0,'Calcs Detailed'!EA176)","v":0},{"$f":"IF('Data input (screening)'!$E$28=0,0,'Calcs Detailed'!EB176)","v":0}]
[null,null,{"$f":"IF('Data input (screening)'!$E$28=0,0,'Calcs Screening'!DF177)","v":0},{"$f":"IF('Data input (screening)'!$E$28=0,0,'Calcs Screening'!DY177)","v":0},{"$f":"IF('Data input (screening)'!$E$28=0,0,'Calcs Screening'!DZ177)","v":0},{"$f":"IF('Data input (screening)'!$E$28=0,0,'Calcs Screening'!EA177)","v":0},{"$f":"IF('Data input (screening)'!$E$28=0,0,'Calcs Screening'!EB177)","v":0},null,null,null,null,null,null,null,null,null,null,{"$f":"IF('Data input (screening)'!$E$28=0,0,'Calcs Detailed'!DF177)","v":0},{"$f":"IF('Data input (screening)'!$E$28=0,0,'Calcs Detailed'!DY177)","v":0},{"$f":"IF('Data input (screening)'!$E$28=0,0,'Calcs Detailed'!DZ177)","v":0},{"$f":"IF('Data input (screening)'!$E$28=0,0,'Calcs Detailed'!EA177)","v":0},{"$f":"IF('Data input (screening)'!$E$28=0,0,'Calcs Detailed'!EB177)","v":0}]
[null,null,{"$f":"IF('Data input (screening)'!$E$28=0,0,'Calcs Screening'!DF178)","v":0},{"$f":"IF('Data input (screening)'!$E$28=0,0,'Calcs Screening'!DY178)","v":0},{"$f":"IF('Data input (screening)'!$E$28=0,0,'Calcs Screening'!DZ178)","v":0},{"$f":"IF('Data input (screening)'!$E$28=0,0,'Calcs Screening'!EA178)","v":0},{"$f":"IF('Data input (screening)'!$E$28=0,0,'Calcs Screening'!EB178)","v":0},null,null,null,null,null,null,null,null,null,null,{"$f":"IF('Data input (screening)'!$E$28=0,0,'Calcs Detailed'!DF178)","v":0},{"$f":"IF('Data input (screening)'!$E$28=0,0,'Calcs Detailed'!DY178)","v":0},{"$f":"IF('Data input (screening)'!$E$28=0,0,'Calcs Detailed'!DZ178)","v":0},{"$f":"IF('Data input (screening)'!$E$28=0,0,'Calcs Detailed'!EA178)","v":0},{"$f":"IF('Data input (screening)'!$E$28=0,0,'Calcs Detailed'!EB178)","v":0}]
[null,null,{"$f":"IF('Data input (screening)'!$E$28=0,0,'Calcs Screening'!DF179)","v":0},{"$f":"IF('Data input (screening)'!$E$28=0,0,'Calcs Screening'!DY179)","v":0},{"$f":"IF('Data input (screening)'!$E$28=0,0,'Calcs Screening'!DZ179)","v":0},{"$f":"IF('Data input (screening)'!$E$28=0,0,'Calcs Screening'!EA179)","v":0},{"$f":"IF('Data input (screening)'!$E$28=0,0,'Calcs Screening'!EB179)","v":0},null,null,null,null,null,null,null,null,null,null,{"$f":"IF('Data input (screening)'!$E$28=0,0,'Calcs Detailed'!DF179)","v":0},{"$f":"IF('Data input (screening)'!$E$28=0,0,'Calcs Detailed'!DY179)","v":0},{"$f":"IF('Data input (screening)'!$E$28=0,0,'Calcs Detailed'!DZ179)","v":0},{"$f":"IF('Data input (screening)'!$E$28=0,0,'Calcs Detailed'!EA179)","v":0},{"$f":"IF('Data input (screening)'!$E$28=0,0,'Calcs Detailed'!EB179)","v":0}]
[null,null,{"$f":"IF('Data input (screening)'!$E$28=0,0,'Calcs Screening'!DF180)","v":0},{"$f":"IF('Data input (screening)'!$E$28=0,0,'Calcs Screening'!DY180)","v":0},{"$f":"IF('Data input (screening)'!$E$28=0,0,'Calcs Screening'!DZ180)","v":0},{"$f":"IF('Data input (screening)'!$E$28=0,0,'Calcs Screening'!EA180)","v":0},{"$f":"IF('Data input (screening)'!$E$28=0,0,'Calcs Screening'!EB180)","v":0},null,null,null,null,null,null,null,null,null,null,{"$f":"IF('Data input (screening)'!$E$28=0,0,'Calcs Detailed'!DF180)","v":0},{"$f":"IF('Data input (screening)'!$E$28=0,0,'Calcs Detailed'!DY180)","v":0},{"$f":"IF('Data input (screening)'!$E$28=0,0,'Calcs Detailed'!DZ180)","v":0},{"$f":"IF('Data input (screening)'!$E$28=0,0,'Calcs Detailed'!EA180)","v":0},{"$f":"IF('Data input (screening)'!$E$28=0,0,'Calcs Detailed'!EB180)","v":0}]
[null,null,{"$f":"IF('Data input (screening)'!$E$28=0,0,'Calcs Screening'!DF181)","v":0},{"$f":"IF('Data input (screening)'!$E$28=0,0,'Calcs Screening'!DY181)","v":0},{"$f":"IF('Data input (screening)'!$E$28=0,0,'Calcs Screening'!DZ181)","v":0},{"$f":"IF('Data input (screening)'!$E$28=0,0,'Calcs Screening'!EA181)","v":0},{"$f":"IF('Data input (screening)'!$E$28=0,0,'Calcs Screening'!EB181)","v":0},null,null,null,null,null,null,null,null,null,null,{"$f":"IF('Data input (screening)'!$E$28=0,0,'Calcs Detailed'!DF181)","v":0},{"$f":"IF('Data input (screening)'!$E$28=0,0,'Calcs Detailed'!DY181)","v":0},{"$f":"IF('Data input (screening)'!$E$28=0,0,'Calcs Detailed'!DZ181)","v":0},{"$f":"IF('Data input (screening)'!$E$28=0,0,'Calcs Detailed'!EA181)","v":0},{"$f":"IF('Data input (screening)'!$E$28=0,0,'Calcs Detailed'!EB181)","v":0}]
[null,null,{"$f":"IF('Data input (screening)'!$E$28=0,0,'Calcs Screening'!DF182)","v":0},{"$f":"IF('Data input (screening)'!$E$28=0,0,'Calcs Screening'!DY182)","v":0},{"$f":"IF('Data input (screening)'!$E$28=0,0,'Calcs Screening'!DZ182)","v":0},{"$f":"IF('Data input (screening)'!$E$28=0,0,'Calcs Screening'!EA182)","v":0},{"$f":"IF('Data input (screening)'!$E$28=0,0,'Calcs Screening'!EB182)","v":0},null,null,null,null,null,null,null,null,null,null,{"$f":"IF('Data input (screening)'!$E$28=0,0,'Calcs Detailed'!DF182)","v":0},{"$f":"IF('Data input (screening)'!$E$28=0,0,'Calcs Detailed'!DY182)","v":0},{"$f":"IF('Data input (screening)'!$E$28=0,0,'Calcs Detailed'!DZ182)","v":0},{"$f":"IF('Data input (screening)'!$E$28=0,0,'Calcs Detailed'!EA182)","v":0},{"$f":"IF('Data input (screening)'!$E$28=0,0,'Calcs Detailed'!EB182)","v":0}]
[null,null,{"$f":"IF('Data input (screening)'!$E$28=0,0,'Calcs Screening'!DF183)","v":0},{"$f":"IF('Data input (screening)'!$E$28=0,0,'Calcs Screening'!DY183)","v":0},{"$f":"IF('Data input (screening)'!$E$28=0,0,'Calcs Screening'!DZ183)","v":0},{"$f":"IF('Data input (screening)'!$E$28=0,0,'Calcs Screening'!EA183)","v":0},{"$f":"IF('Data input (screening)'!$E$28=0,0,'Calcs Screening'!EB183)","v":0},null,null,null,null,null,null,null,null,null,null,{"$f":"IF('Data input (screening)'!$E$28=0,0,'Calcs Detailed'!DF183)","v":0},{"$f":"IF('Data input (screening)'!$E$28=0,0,'Calcs Detailed'!DY183)","v":0},{"$f":"IF('Data input (screening)'!$E$28=0,0,'Calcs Detailed'!DZ183)","v":0},{"$f":"IF('Data input (screening)'!$E$28=0,0,'Calcs Detailed'!EA183)","v":0},{"$f":"IF('Data input (screening)'!$E$28=0,0,'Calcs Detailed'!EB183)","v":0}]
[null,null,{"$f":"IF('Data input (screening)'!$E$28=0,0,'Calcs Screening'!DF184)","v":0},{"$f":"IF('Data input (screening)'!$E$28=0,0,'Calcs Screening'!DY184)","v":0},{"$f":"IF('Data input (screening)'!$E$28=0,0,'Calcs Screening'!DZ184)","v":0},{"$f":"IF('Data input (screening)'!$E$28=0,0,'Calcs Screening'!EA184)","v":0},{"$f":"IF('Data input (screening)'!$E$28=0,0,'Calcs Screening'!EB184)","v":0},null,null,null,null,null,null,null,null,null,null,{"$f":"IF('Data input (screening)'!$E$28=0,0,'Calcs Detailed'!DF184)","v":0},{"$f":"IF('Data input (screening)'!$E$28=0,0,'Calcs Detailed'!DY184)","v":0},{"$f":"IF('Data input (screening)'!$E$28=0,0,'Calcs Detailed'!DZ184)","v":0},{"$f":"IF('Data input (screening)'!$E$28=0,0,'Calcs Detailed'!EA184)","v":0},{"$f":"IF('Data input (screening)'!$E$28=0,0,'Calcs Detailed'!EB184)","v":0}]
[null,null,{"$f":"IF('Data input (screening)'!$E$28=0,0,'Calcs Screening'!DF185)","v":0},{"$f":"IF('Data input (screening)'!$E$28=0,0,'Calcs Screening'!DY185)","v":0},{"$f":"IF('Data input (screening)'!$E$28=0,0,'Calcs Screening'!DZ185)","v":0},{"$f":"IF('Data input (screening)'!$E$28=0,0,'Calcs Screening'!EA185)","v":0},{"$f":"IF('Data input (screening)'!$E$28=0,0,'Calcs Screening'!EB185)","v":0},null,null,null,null,null,null,null,null,null,null,{"$f":"IF('Data input (screening)'!$E$28=0,0,'Calcs Detailed'!DF185)","v":0},{"$f":"IF('Data input (screening)'!$E$28=0,0,'Calcs Detailed'!DY185)","v":0},{"$f":"IF('Data input (screening)'!$E$28=0,0,'Calcs Detailed'!DZ185)","v":0},{"$f":"IF('Data input (screening)'!$E$28=0,0,'Calcs Detailed'!EA185)","v":0},{"$f":"IF('Data input (screening)'!$E$28=0,0,'Calcs Detailed'!EB185)","v":0}]
[null,null,{"$f":"IF('Data input (screening)'!$E$28=0,0,'Calcs Screening'!DF186)","v":0},{"$f":"IF('Data input (screening)'!$E$28=0,0,'Calcs Screening'!DY186)","v":0},{"$f":"IF('Data input (screening)'!$E$28=0,0,'Calcs Screening'!DZ186)","v":0},{"$f":"IF('Data input (screening)'!$E$28=0,0,'Calcs Screening'!EA186)","v":0},{"$f":"IF('Data input (screening)'!$E$28=0,0,'Calcs Screening'!EB186)","v":0},null,null,null,null,null,null,null,null,null,null,{"$f":"IF('Data input (screening)'!$E$28=0,0,'Calcs Detailed'!DF186)","v":0},{"$f":"IF('Data input (screening)'!$E$28=0,0,'Calcs Detailed'!DY186)","v":0},{"$f":"IF('Data input (screening)'!$E$28=0,0,'Calcs Detailed'!DZ186)","v":0},{"$f":"IF('Data input (screening)'!$E$28=0,0,'Calcs Detailed'!EA186)","v":0},{"$f":"IF('Data input (screening)'!$E$28=0,0,'Calcs Detailed'!EB186)","v":0}]
[]
[]
[null,null,null,null,null,null,null,"NPV Summary",null,null,null,null,null,null,null,null,null,null,null,null,null,null,"NPV Summary"]
[null,null,null,null,null,null,null,null,"Annual average ($/year)",null,null,null,null,null,null,null,null,null,null,null,null,null,null,"Annual average ($/year)"]
[null,null,null,null,null,null,null,"Type of cost","Product/Scenario A ","Product/Scenario B","Product/Scenario C","Product/Scenario D",null,null,null,null,null,null,null,null,null,null,"Type of cost","Product/Scenario A ","Product/Scenario B","Product/Scenario C","Product/Scenario D"]
[null,null,null,null,null,null,null,{"$f":"'Calcs Screening'!DG207","v":"Acquisition"},{"$f":"IF('Data input (screening)'!$E$28=0,0,'Calcs Screening'!DP207)","v":0},{"$f":"IF('Data input (screening)'!$E$28=0,0,'Calcs Screening'!DQ207)","v":0},{"$f":"IF('Data input (screening)'!$E$28=0,0,'Calcs Screening'!DR207)","v":0},{"$f":"IF('Data input (screening)'!$E$28=0,0,'Calcs Screening'!DS207)","v":0},null,null,null,null,null,null,null,null,null,null,{"$f":"'Calcs Detailed'!DG207","v":"Acquisition"},{"$f":"IF('Data input (screening)'!$E$28=0,0,'Calcs Detailed'!DP207)","v":0},{"$f":"IF('Data input (screening)'!$E$28=0,0,'Calcs Detailed'!DQ207)","v":0},{"$f":"IF('Data input (screening)'!$E$28=0,0,'Calcs Detailed'!DR207)","v":0},{"$f":"IF('Data input (screening)'!$E$28=0,0,'Calcs Detailed'!DS207)","v":0}]
[null,null,null,null,null,null,null,{"$f":"'Calcs Screening'!DG208","v":"Operational - Energy"},{"$f":"IF('Data input (screening)'!$E$28=0,0,'Calcs Screening'!DP208)","v":0},{"$f":"IF('Data input (screening)'!$E$28=0,0,'Calcs Screening'!DQ208)","v":0},{"$f":"IF('Data input (screening)'!$E$28=0,0,'Calcs Screening'!DR208)","v":0},{"$f":"IF('Data input (screening)'!$E$28=0,0,'Calcs Screening'!DS208)","v":0},null,null,null,null,null,null,null,null,null,null,{"$f":"'Calcs Detailed'!DG208","v":"Operational - Energy"},{"$f":"IF('Data input (screening)'!$E$28=0,0,'Calcs Detailed'!DP208)","v":0},{"$f":"IF('Data input (screening)'!$E$28=0,0,'Calcs Detailed'!DQ208)","v":0},{"$f":"IF('Data input (screening)'!$E$28=0,0,'Calcs Detailed'!DR208)","v":0},{"$f":"IF('Data input (screening)'!$E$28=0,0,'Calcs Detailed'!DS208)","v":0}]
[null,null,null,null,null,null,null,{"$f":"'Calcs Screening'!DG209","v":"Operational - Water"},{"$f":"IF('Data input (screening)'!$E$28=0,0,'Calcs Screening'!DP209)","v":0},{"$f":"IF('Data input (screening)'!$E$28=0,0,'Calcs Screening'!DQ209)","v":0},{"$f":"IF('Data input (screening)'!$E$28=0,0,'Calcs Screening'!DR209)","v":0},{"$f":"IF('Data input (screening)'!$E$28=0,0,'Calcs Screening'!DS209)","v":0},null,null,null,null,null,null,null,null,null,null,{"$f":"'Calcs Detailed'!DG209","v":"Operational - Water"},{"$f":"IF('Data input (screening)'!$E$28=0,0,'Calcs Detailed'!DP209)","v":0},{"$f":"IF('Data input (screening)'!$E$28=0,0,'Calcs Detailed'!DQ209)","v":0},{"$f":"IF('Data input (screening)'!$E$28=0,0,'Calcs Detailed'!DR209)","v":0},{"$f":"IF('Data input (screening)'!$E$28=0,0,'Calcs Detailed'!DS209)","v":0}]
[null,null,null,null,null,null,null,{"$f":"'Calcs Screening'!DG210","v":"Operational - Maintenance (labor)"},{"$f":"IF('Data input (screening)'!$E$28=0,0,'Calcs Screening'!DP210)","v":0},{"$f":"IF('Data input (screening)'!$E$28=0,0,'Calcs Screening'!DQ210)","v":0},{"$f":"IF('Data input (screening)'!$E$28=0,0,'Calcs Screening'!DR210)","v":0},{"$f":"IF('Data input (screening)'!$E$28=0,0,'Calcs Screening'!DS210)","v":0},null,null,null,null,null,null,null,null,null,null,{"$f":"'Calcs Detailed'!DG210","v":"Operational - Maintenance (labor and supplemental parts)"},{"$f":"IF('Data input (screening)'!$E$28=0,0,'Calcs Detailed'!DP210)","v":0},{"$f":"IF('Data input (screening)'!$E$28=0,0,'Calcs Detailed'!DQ210)","v":0},{"$f":"IF('Data input (screening)'!$E$28=0,0,'Calcs Detailed'!DR210)","v":0},{"$f":"IF('Data input (screening)'!$E$28=0,0,'Calcs Detailed'!DS210)","v":0}]
[null,null,null,null,null,null,null,{"$f":"'Calcs Screening'!DG211","v":"Operational - Other"},{"$f":"IF('Data input (screening)'!$E$28=0,0,'Calcs Screening'!DP211)","v":0},{"$f":"IF('Data input (screening)'!$E$28=0,0,'Calcs Screening'!DQ211)","v":0},{"$f":"IF('Data input (screening)'!$E$28=0,0,'Calcs Screening'!DR211)","v":0},{"$f":"IF('Data input (screening)'!$E$28=0,0,'Calcs Screening'!DS211)","v":0},null,null,null,null,null,null,null,null,null,null,{"$f":"'Calcs Detailed'!DG211","v":"Operational - Other"},{"$f":"IF('Data input (screening)'!$E$28=0,0,'Calcs Detailed'!DP211)","v":0},{"$f":"IF('Data input (screening)'!$E$28=0,0,'Calcs Detailed'!DQ211)","v":0},{"$f":"IF('Data input (screening)'!$E$28=0,0,'Calcs Detailed'!DR211)","v":0},{"$f":"IF('Data input (screening)'!$E$28=0,0,'Calcs Detailed'!DS211)","v":0}]
[null,null,null,null,null,null,null,{"$f":"'Calcs Screening'!DG212","v":"Disposal"},{"$f":"IF('Data input (screening)'!$E$28=0,0,'Calcs Screening'!DP212)","v":0},{"$f":"IF('Data input (screening)'!$E$28=0,0,'Calcs Screening'!DQ212)","v":0},{"$f":"IF('Data input (screening)'!$E$28=0,0,'Calcs Screening'!DR212)","v":0},{"$f":"IF('Data input (screening)'!$E$28=0,0,'Calcs Screening'!DS212)","v":0},null,null,null,null,null,null,null,null,null,null,{"$f":"'Calcs Detailed'!DG212","v":"Disposal (product and supplemental parts)"},{"$f":"IF('Data input (screening)'!$E$28=0,0,'Calcs Detailed'!DP212)","v":0},{"$f":"IF('Data input (screening)'!$E$28=0,0,'Calcs Detailed'!DQ212)","v":0},{"$f":"IF('Data input (screening)'!$E$28=0,0,'Calcs Detailed'!DR212)","v":0},{"$f":"IF('Data input (screening)'!$E$28=0,0,'Calcs Detailed'!DS212)","v":0}]
[null,null,null,null,null,null,null,{"$f":"'Calcs Screening'!DG213","v":"Total"},{"$f":"IF('Data input (screening)'!$E$28=0,0,'Calcs Screening'!DP213)","v":0},{"$f":"IF('Data input (screening)'!$E$28=0,0,'Calcs Screening'!DQ213)","v":0},{"$f":"IF('Data input (screening)'!$E$28=0,0,'Calcs Screening'!DR213)","v":0},{"$f":"IF('Data input (screening)'!$E$28=0,0,'Calcs Screening'!DS213)","v":0},null,null,null,null,null,null,null,null,null,null,{"$f":"'Calcs Detailed'!DG213","v":"Total"},{"$f":"IF('Data input (screening)'!$E$28=0,0,'Calcs Detailed'!DP213)","v":0},{"$f":"IF('Data input (screening)'!$E$28=0,0,'Calcs Detailed'!DQ213)","v":0},{"$f":"IF('Data input (screening)'!$E$28=0,0,'Calcs Detailed'!DR213)","v":0},{"$f":"IF('Data input (screening)'!$E$28=0,0,'Calcs Detailed'!DS213)","v":0}]

{"sheet":"Industry av data2","index":11,"n_rows":327,"n_cols":17,"rows_kept":327,"cut":false,"hidden":true,"merged":[]}
["TAB TO BE HIDDEN",1,2,3,4,5,6,7,8]
[]
[null,null,null,null,"ENERGY",null,null,null,"WATER"]
[null,null,null,null,"$/ kWh","$/ cubic feet","$/ gallon","$/ gallon","$/ gallon"]
[null,"State","Region","Region Diesel and gasoline","Electricity","Natural gas","Diesel","Gasoline","Water ",null,null,null,"Type of fuel","State","Concatenate","Value","Unit"]
[null,"United States","United States","United States",{"$f":"VLOOKUP(E5,Method_sources!$E$126:$G$129,3,FALSE)","v":0.1067},{"$f":"VLOOKUP(F5,Method_sources!$E$126:$G$129,3,FALSE)","v":8.1279999999999998E-3},{"$f":"VLOOKUP(G5,Method_sources!$E$126:$G$129,3,FALSE)","v":2.7069999999999999},{"$f":"VLOOKUP(H5,Method_sources!$E$126:$G$129,3,FALSE)","v":2.4289999999999998},{"$f":"VLOOKUP(C6,Method_sources!F174:G174,2,FALSE)","v":9.7739159360000008E-3},null,null,null,"Natural gas","United States",{"$f":"CONCATENATE(N6,M6)","v":"United StatesNatural gas"},{"$f":"VLOOKUP(N6,$B$6:$H$57,5,FALSE)","v":8.1279999999999998E-3},"$/ cubic feet"]
[null,"Connecticut",{"$f":"VLOOKUP(B7,'Mapping geog'!D:E,2, FALSE)","v":"New England"},{"$f":"VLOOKUP(B7,'Mapping geog'!L:M,2,FALSE)","v":"New England"},{"$f":"VLOOKUP(C7,Method_sources!$F$133:$G$141,2,FALSE)","v":0.15579999999999999},{"$f":"VLOOKUP(C7,Method_sources!$F$142:$G$150,2,FALSE)","v":1.1322657407407408E-2},{"$f":"VLOOKUP(D7,Method_sources!$F$151:$G$158,2,FALSE)","v":2.8919999999999999},{"$f":"VLOOKUP(D7,Method_sources!$F$159:$G$166,2,FALSE)","v":2.411},{"$f":"VLOOKUP(C7,Method_sources!$F$178:$G$186,2,FALSE)","v":1.5913671398399998E-2},null,null,null,"Natural gas","Connecticut",{"$f":"CONCATENATE(N7,M7)","v":"ConnecticutNatural gas"},{"$f":"VLOOKUP(N7,$B$6:$H$57,5,FALSE)","v":1.1322657407407408E-2},"$/ cubic feet"]
[null,"Maine",{"$f":"VLOOKUP(B8,'Mapping geog'!D:E,2, FALSE)","v":"New England"},{"$f":"VLOOKUP(B8,'Mapping geog'!L:M,2,FALSE)","v":"New England"},{"$f":"VLOOKUP(C8,Method_sources!$F$133:$G$141,2,FALSE)","v":0.15579999999999999},{"$f":"VLOOKUP(C8,Method_sources!$F$142:$G$150,2,FALSE)","v":1.1322657407407408E-2},{"$f":"VLOOKUP(D8,Method_sources!$F$151:$G$158,2,FALSE)","v":2.8919999999999999},{"$f":"VLOOKUP(D8,Method_sources!$F$159:$G$166,2,FALSE)","v":2.411},{"$f":"VLOOKUP(C8,Method_sources!$F$178:$G$186,2,FALSE)","v":1.5913671398399998E-2},null,null,null,"Natural gas","Maine",{"$f":"CONCATENATE(N8,M8)","v":"MaineNatural gas"},1.1322657407407408E-2,"$/ cubic feet"]
[null,"Massachusetts",{"$f":"VLOOKUP(B9,'Mapping geog'!D:E,2, FALSE)","v":"New England"},{"$f":"VLOOKUP(B9,'Mapping geog'!L:M,2,FALSE)","v":"New England"},{"$f":"VLOOKUP(C9,Method_sources!$F$133:$G$141,2,FALSE)","v":0.15579999999999999},{"$f":"VLOOKUP(C9,Method_sources!$F$142:$G$150,2,FALSE)","v":1.1322657407407408E-2},{"$f":"VLOOKUP(D9,Method_sources!$F$151:$G$158,2,FALSE)","v":2.8919999999999999},{"$f":"VLOOKUP(D9,Method_sources!$F$159:$G$166,2,FALSE)","v":2.411},{"$f":"VLOOKUP(C9,Method_sources!$F$178:$G$186,2,FALSE)","v":1.5913671398399998E-2},null,null,null,"Natural gas","Massachusetts","MassachusettsNatural gas",1.1322657407407408E-2,"$/ cubic feet"]
[null,"New Hampshire",{"$f":"VLOOKUP(B10,'Mapping geog'!D:E,2, FALSE)","v":"New England"},{"$f":"VLOOKUP(B10,'Mapping geog'!L:M,2,FALSE)","v":"New England"},{"$f":"VLOOKUP(C10,Method_sources!$F$133:$G$141,2,FALSE)","v":0.15579999999999999},{"$f":"VLOOKUP(C10,Method_sources!$F$142:$G$150,2,FALSE)","v":1.1322657407407408E-2},{"$f":"VLOOKUP(D10,Method_sources!$F$151:$G$158,2,FALSE)","v":2.8919999999999999},{"$f":"VLOOKUP(D10,Method_sources!$F$159:$G$166,2,FALSE)","v":2.411},{"$f":"VLOOKUP(C10,Method_sources!$F$178:$G$186,2,FALSE)","v":1.5913671398399998E-2},null,null,null,"Natural gas","New Hampshire","New HampshireNatural gas",1.1322657407407408E-2,"$/ cubic feet"]
[null,"Rhode Island",{"$f":"VLOOKUP(B11,'Mapping geog'!D:E,2, FALSE)","v":"New England"},{"$f":"VLOOKUP(B11,'Mapping geog'!L:M,2,FALSE)","v":"New England"},{"$f":"VLOOKUP(C11,Method_sources!$F$133:$G$141,2,FALSE)","v":0.15579999999999999},{"$f":"VLOOKUP(C11,Method_sources!$F$142:$G$150,2,FALSE)","v":1.1322657407407408E-2},{"$f":"VLOOKUP(D11,Method_sources!$F$151:$G$158,2,FALSE)","v":2.8919999999999999},{"$f":"VLOOKUP(D11,Method_sources!$F$159:$G$166,2,FALSE)","v":2.411},{"$f":"VLOOKUP(C11,Method_sources!$F$178:$G$186,2,FALSE)","v":1.5913671398399998E-2},null,null,null,"Natural gas","Rhode Island","Rhode IslandNatural gas",1.1322657407407408E-2,"$/ cubic feet"]
[null,"Vermont",{"$f":"VLOOKUP(B12,'Mapping geog'!D:E,2, FALSE)","v":"New England"},{"$f":"VLOOKUP(B12,'Mapping geog'!L:M,2,FALSE)","v":"New England"},{"$f":"VLOOKUP(C12,Method_sources!$F$133:$G$141,2,FALSE)","v":0.15579999999999999},{"$f":"VLOOKUP(C12,Method_sources!$F$142:$G$150,2,FALSE)","v":1.1322657407407408E-2},{"$f":"VLOOKUP(D12,Method_sources!$F$151:$G$158,2,FALSE)","v":2.8919999999999999},{"$f":"VLOOKUP(D12,Method_sources!$F$159:$G$166,2,FALSE)","v":2.411},{"$f":"VLOOKUP(C12,Method_sources!$F$178:$G$186,2,FALSE)","v":1.5913671398399998E-2},null,null,null,"Natural gas","Vermont","VermontNatural gas",1.1322657407407408E-2,"$/ cubic feet"]
[null,"New Jersey",{"$f":"VLOOKUP(B13,'Mapping geog'!D:E,2, FALSE)","v":"Middle Atlantic"},{"$f":"VLOOKUP(B13,'Mapping geog'!L:M,2,FALSE)","v":"Central Atlantic"},{"$f":"VLOOKUP(C13,Method_sources!$F$133:$G$141,2,FALSE)","v":0.13300000000000001},{"$f":"VLOOKUP(C13,Method_sources!$F$142:$G$150,2,FALSE)","v":8.5018518518518507E-3},{"$f":"VLOOKUP(D13,Method_sources!$F$151:$G$158,2,FALSE)","v":2.927},{"$f":"VLOOKUP(D13,Method_sources!$F$159:$G$166,2,FALSE)","v":2.44},{"$f":"VLOOKUP(C13,Method_sources!$F$178:$G$186,2,FALSE)","v":1.0278792345600002E-2},null,null,null,"Natural gas","New Jersey","New JerseyNatural gas",8.5018518518518507E-3,"$/ cubic feet"]
[null,"New York",{"$f":"VLOOKUP(B14,'Mapping geog'!D:E,2, FALSE)","v":"Middle Atlantic"},{"$f":"VLOOKUP(B14,'Mapping geog'!L:M,2,FALSE)","v":"Central Atlantic"},{"$f":"VLOOKUP(C14,Method_sources!$F$133:$G$141,2,FALSE)","v":0.13300000000000001},{"$f":"VLOOKUP(C14,Method_sources!$F$142:$G$150,2,FALSE)","v":8.5018518518518507E-3},{"$f":"VLOOKUP(D14,Method_sources!$F$151:$G$158,2,FALSE)","v":2.927},{"$f":"VLOOKUP(D14,Method_sources!$F$159:$G$166,2,FALSE)","v":2.44},{"$f":"VLOOKUP(C14,Method_sources!$F$178:$G$186,2,FALSE)","v":1.0278792345600002E-2},null,null,null,"Natural gas","New York","New YorkNatural gas",8.5018518518518507E-3,"$/ cubic feet"]
[null,"Pennsylvania",{"$f":"VLOOKUP(B15,'Mapping geog'!D:E,2, FALSE)","v":"Middle Atlantic"},{"$f":"VLOOKUP(B15,'Mapping geog'!L:M,2,FALSE)","v":"Central Atlantic"},{"$f":"VLOOKUP(C15,Method_sources!$F$133:$G$141,2,FALSE)","v":0.13300000000000001},{"$f":"VLOOKUP(C15,Method_sources!$F$142:$G$150,2,FALSE)","v":8.5018518518518507E-3},{"$f":"VLOOKUP(D15,Method_sources!$F$151:$G$158,2,FALSE)","v":2.927},{"$f":"VLOOKUP(D15,Method_sources!$F$159:$G$166,2,FALSE)","v":2.44},{"$f":"VLOOKUP(C15,Method_sources!$F$178:$G$186,2,FALSE)","v":1.0278792345600002E-2},null,null,null,"Natural gas","Pennsylvania","PennsylvaniaNatural gas",8.5018518518518507E-3,"$/ cubic feet"]
[null,"Indiana",{"$f":"VLOOKUP(B16,'Mapping geog'!D:E,2, FALSE)","v":"East North Central"},{"$f":"VLOOKUP(B16,'Mapping geog'!L:M,2,FALSE)","v":"Midwest"},{"$f":"VLOOKUP(C16,Method_sources!$F$133:$G$141,2,FALSE)","v":9.9100000000000008E-2},{"$f":"VLOOKUP(C16,Method_sources!$F$142:$G$150,2,FALSE)","v":8.0647111111111121E-3},{"$f":"VLOOKUP(D16,Method_sources!$F$151:$G$158,2,FALSE)","v":2.64},{"$f":"VLOOKUP(D16,Method_sources!$F$159:$G$166,2,FALSE)","v":2.339},{"$f":"VLOOKUP(C16,Method_sources!$F$178:$G$186,2,FALSE)","v":8.7549588341333338E-3},null,null,null,"Natural gas","Indiana","IndianaNatural gas",8.0647111111111121E-3,"$/ cubic feet"]
[null,"Illinois",{"$f":"VLOOKUP(B17,'Mapping geog'!D:E,2, FALSE)","v":"East North Central"},{"$f":"VLOOKUP(B17,'Mapping geog'!L:M,2,FALSE)","v":"Midwest"},{"$f":"VLOOKUP(C17,Method_sources!$F$133:$G$141,2,FALSE)","v":9.9100000000000008E-2},{"$f":"VLOOKUP(C17,Method_sources!$F$142:$G$150,2,FALSE)","v":8.0647111111111121E-3},{"$f":"VLOOKUP(D17,Method_sources!$F$151:$G$158,2,FALSE)","v":2.64},{"$f":"VLOOKUP(D17,Method_sources!$F$159:$G$166,2,FALSE)","v":2.339},{"$f":"VLOOKUP(C17,Method_sources!$F$178:$G$186,2,FALSE)","v":8.7549588341333338E-3},null,null,null,"Natural gas","Illinois","IllinoisNatural gas",8.0647111111111121E-3,"$/ cubic feet"]
[null,"Michigan",{"$f":"VLOOKUP(B18,'Mapping geog'!D:E,2, FALSE)","v":"East North Central"},{"$f":"VLOOKUP(B18,'Mapping geog'!L:M,2,FALSE)","v":"Midwest"},{"$f":"VLOOKUP(C18,Method_sources!$F$133:$G$141,2,FALSE)","v":9.9100000000000008E-2},{"$f":"VLOOKUP(C18,Method_sources!$F$142:$G$150,2,FALSE)","v":8.0647111111111121E-3},{"$f":"VLOOKUP(D18,Method_sources!$F$151:$G$158,2,FALSE)","v":2.64},{"$f":"VLOOKUP(D18,Method_sources!$F$159:$G$166,2,FALSE)","v":2.339},{"$f":"VLOOKUP(C18,Method_sources!$F$178:$G$186,2,FALSE)","v":8.7549588341333338E-3},null,null,null,"Natural gas","Michigan","MichiganNatural gas",8.0647111111111121E-3,"$/ cubic feet"]
[null,"Ohio",{"$f":"VLOOKUP(B19,'Mapping geog'!D:E,2, FALSE)","v":"East North Central"},{"$f":"VLOOKUP(B19,'Mapping geog'!L:M,2,FALSE)","v":"Midwest"},{"$f":"VLOOKUP(C19,Method_sources!$F$133:$G$141,2,FALSE)","v":9.9100000000000008E-2},{"$f":"VLOOKUP(C19,Method_sources!$F$142:$G$150,2,FALSE)","v":8.0647111111111121E-3},{"$f":"VLOOKUP(D19,Method_sources!$F$151:$G$158,2,FALSE)","v":2.64},{"$f":"VLOOKUP(D19,Method_sources!$F$159:$G$166,2,FALSE)","v":2.339},{"$f":"VLOOKUP(C19,Method_sources!$F$178:$G$186,2,FALSE)","v":8.7549588341333338E-3},null,null,null,"Natural gas","Ohio","OhioNatural gas",8.0647111111111121E-3,"$/ cubic feet"]
[null,"Wisconsin",{"$f":"VLOOKUP(B20,'Mapping geog'!D:E,2, FALSE)","v":"East North Central"},{"$f":"VLOOKUP(B20,'Mapping geog'!L:M,2,FALSE)","v":"Midwest"},{"$f":"VLOOKUP(C20,Method_sources!$F$133:$G$141,2,FALSE)","v":9.9100000000000008E-2},{"$f":"VLOOKUP(C20,Method_sources!$F$142:$G$150,2,FALSE)","v":8.0647111111111121E-3},{"$f":"VLOOKUP(D20,Method_sources!$F$151:$G$158,2,FALSE)","v":2.64},{"$f":"VLOOKUP(D20,Method_sources!$F$159:$G$166,2,FALSE)","v":2.339},{"$f":"VLOOKUP(C20,Method_sources!$F$178:$G$186,2,FALSE)","v":8.7549588341333338E-3},null,null,null,"Natural gas","Wisconsin","WisconsinNatural gas",8.0647111111111121E-3,"$/ cubic feet"]
[null,"Iowa",{"$f":"VLOOKUP(B21,'Mapping geog'!D:E,2, FALSE)","v":"West North Central"},{"$f":"VLOOKUP(B21,'Mapping geog'!L:M,2,FALSE)","v":"Midwest"},{"$f":"VLOOKUP(C21,Method_sources!$F$133:$G$141,2,FALSE)","v":9.3399999999999997E-2},{"$f":"VLOOKUP(C21,Method_sources!$F$142:$G$150,2,FALSE)","v":8.0099206349206354E-3},{"$f":"VLOOKUP(D21,Method_sources!$F$151:$G$158,2,FALSE)","v":2.64},{"$f":"VLOOKUP(D21,Method_sources!$F$159:$G$166,2,FALSE)","v":2.339},{"$f":"VLOOKUP(C21,Method_sources!$F$178:$G$186,2,FALSE)","v":7.2792370544000002E-3},null,null,null,"Natural gas","Iowa","IowaNatural gas",8.0099206349206354E-3,"$/ cubic feet"]
[null,"Kansas",{"$f":"VLOOKUP(B22,'Mapping geog'!D:E,2, FALSE)","v":"West North Central"},{"$f":"VLOOKUP(B22,'Mapping geog'!L:M,2,FALSE)","v":"Midwest"},{"$f":"VLOOKUP(C22,Method_sources!$F$133:$G$141,2,FALSE)","v":9.3399999999999997E-2},{"$f":"VLOOKUP(C22,Method_sources!$F$142:$G$150,2,FALSE)","v":8.0099206349206354E-3},{"$f":"VLOOKUP(D22,Method_sources!$F$151:$G$158,2,FALSE)","v":2.64},{"$f":"VLOOKUP(D22,Method_sources!$F$159:$G$166,2,FALSE)","v":2.339},{"$f":"VLOOKUP(C22,Method_sources!$F$178:$G$186,2,FALSE)","v":7.2792370544000002E-3},null,null,null,"Natural gas","Kansas","KansasNatural gas",8.0099206349206354E-3,"$/ cubic feet"]
[null,"Minnesota",{"$f":"VLOOKUP(B23,'Mapping geog'!D:E,2, FALSE)","v":"West North Central"},{"$f":"VLOOKUP(B23,'Mapping geog'!L:M,2,FALSE)","v":"Midwest"},{"$f":"VLOOKUP(C23,Method_sources!$F$133:$G$141,2,FALSE)","v":9.3399999999999997E-2},{"$f":"VLOOKUP(C23,Method_sources!$F$142:$G$150,2,FALSE)","v":8.0099206349206354E-3},{"$f":"VLOOKUP(D23,Method_sources!$F$151:$G$158,2,FALSE)","v":2.64},{"$f":"VLOOKUP(D23,Method_sources!$F$159:$G$166,2,FALSE)","v":2.339},{"$f":"VLOOKUP(C23,Method_sources!$F$178:$G$186,2,FALSE)","v":7.2792370544000002E-3},null,null,null,"Natural gas","Minnesota","MinnesotaNatural gas",8.0099206349206354E-3,"$/ cubic feet"]
[null,"Missouri",{"$f":"VLOOKUP(B24,'Mapping geog'!D:E,2, FALSE)","v":"West North Central"},{"$f":"VLOOKUP(B24,'Mapping geog'!L:M,2,FALSE)","v":"Midwest"},{"$f":"VLOOKUP(C24,Method_sources!$F$133:$G$141,2,FALSE)","v":9.3399999999999997E-2},{"$f":"VLOOKUP(C24,Method_sources!$F$142:$G$150,2,FALSE)","v":8.0099206349206354E-3},{"$f":"VLOOKUP(D24,Method_sources!$F$151:$G$158,2,FALSE)","v":2.64},{"$f":"VLOOKUP(D24,Method_sources!$F$159:$G$166,2,FALSE)","v":2.339},{"$f":"VLOOKUP(C24,Method_sources!$F$178:$G$186,2,FALSE)","v":7.2792370544000002E-3},null,null,null,"Natural gas","Missouri","MissouriNatural gas",8.0099206349206354E-3,"$/ cubic feet"]
[null,"Nebraska",{"$f":"VLOOKUP(B25,'Mapping geog'!D:E,2, FALSE)","v":"West North Central"},{"$f":"VLOOKUP(B25,'Mapping geog'!L:M,2,FALSE)","v":"Midwest"},{"$f":"VLOOKUP(C25,Method_sources!$F$133:$G$141,2,FALSE)","v":9.3399999999999997E-2},{"$f":"VLOOKUP(C25,Method_sources!$F$142:$G$150,2,FALSE)","v":8.0099206349206354E-3},{"$f":"VLOOKUP(D25,Method_sources!$F$151:$G$158,2,FALSE)","v":2.64},{"$f":"VLOOKUP(D25,Method_sources!$F$159:$G$166,2,FALSE)","v":2.339},{"$f":"VLOOKUP(C25,Method_sources!$F$178:$G$186,2,FALSE)","v":7.2792370544000002E-3},null,null,null,"Natural gas","Nebraska","NebraskaNatural gas",8.0099206349206354E-3,"$/ cubic feet"]
[null,"North Dakota",{"$f":"VLOOKUP(B26,'Mapping geog'!D:E,2, FALSE)","v":"West North Central"},{"$f":"VLOOKUP(B26,'Mapping geog'!L:M,2,FALSE)","v":"Midwest"},{"$f":"VLOOKUP(C26,Method_sources!$F$133:$G$141,2,FALSE)","v":9.3399999999999997E-2},{"$f":"VLOOKUP(C26,Method_sources!$F$142:$G$150,2,FALSE)","v":8.0099206349206354E-3},{"$f":"VLOOKUP(D26,Method_sources!$F$151:$G$158,2,FALSE)","v":2.64},{"$f":"VLOOKUP(D26,Method_sources!$F$159:$G$166,2,FALSE)","v":2.339},{"$f":"VLOOKUP(C26,Method_sources!$F$178:$G$186,2,FALSE)","v":7.2792370544000002E-3},null,null,null,"Natural gas","North Dakota","North DakotaNatural gas",8.0099206349206354E-3,"$/ cubic feet"]
[null,"South Dakota",{"$f":"VLOOKUP(B27,'Mapping geog'!D:E,2, FALSE)","v":"West North Central"},{"$f":"VLOOKUP(B27,'Mapping geog'!L:M,2,FALSE)","v":"Midwest"},{"$f":"VLOOKUP(C27,Method_sources!$F$133:$G$141,2,FALSE)","v":9.3399999999999997E-2},{"$f":"VLOOKUP(C27,Method_sources!$F$142:$G$150,2,FALSE)","v":8.0099206349206354E-3},{"$f":"VLOOKUP(D27,Method_sources!$F$151:$G$158,2,FALSE)","v":2.64},{"$f":"VLOOKUP(D27,Method_sources!$F$159:$G$166,2,FALSE)","v":2.339},{"$f":"VLOOKUP(C27,Method_sources!$F$178:$G$186,2,FALSE)","v":7.2792370544000002E-3},null,null,null,"Natural gas","South Dakota","South DakotaNatural gas",8.0099206349206354E-3,"$/ cubic feet"]
[null,"Delaware",{"$f":"VLOOKUP(B28,'Mapping geog'!D:E,2, FALSE)","v":"South Atlantic"},{"$f":"VLOOKUP(B28,'Mapping geog'!L:M,2,FALSE)","v":"Central Atlantic"},{"$f":"VLOOKUP(C28,Method_sources!$F$133:$G$141,2,FALSE)","v":9.5500000000000002E-2},{"$f":"VLOOKUP(C28,Method_sources!$F$142:$G$150,2,FALSE)","v":9.921805555555557E-3},{"$f":"VLOOKUP(D28,Method_sources!$F$151:$G$158,2,FALSE)","v":2.927},{"$f":"VLOOKUP(D28,Method_sources!$F$159:$G$166,2,FALSE)","v":2.44},{"$f":"VLOOKUP(C28,Method_sources!$F$178:$G$186,2,FALSE)","v":1.2598736092800001E-2},null,null,null,"Natural gas","Delaware","DelawareNatural gas",9.921805555555557E-3,"$/ cubic feet"]
[null,"District of Columbia",{"$f":"VLOOKUP(B29,'Mapping geog'!D:E,2, FALSE)","v":"South Atlantic"},{"$f":"VLOOKUP(B29,'Mapping geog'!L:M,2,FALSE)","v":"Central Atlantic"},{"$f":"VLOOKUP(C29,Method_sources!$F$133:$G$141,2,FALSE)","v":9.5500000000000002E-2},{"$f":"VLOOKUP(C29,Method_sources!$F$142:$G$150,2,FALSE)","v":9.921805555555557E-3},{"$f":"VLOOKUP(D29,Method_sources!$F$151:$G$158,2,FALSE)","v":2.927},{"$f":"VLOOKUP(D29,Method_sources!$F$159:$G$166,2,FALSE)","v":2.44},{"$f":"VLOOKUP(C29,Method_sources!$F$178:$G$186,2,FALSE)","v":1.2598736092800001E-2},null,null,null,"Natural gas","District of Columbia","District of ColumbiaNatural gas",9.921805555555557E-3,"$/ cubic feet"]
[null,"Florida",{"$f":"VLOOKUP(B30,'Mapping geog'!D:E,2, FALSE)","v":"South Atlantic"},{"$f":"VLOOKUP(B30,'Mapping geog'!L:M,2,FALSE)","v":"Lower Atlantic"},{"$f":"VLOOKUP(C30,Method_sources!$F$133:$G$141,2,FALSE)","v":9.5500000000000002E-2},{"$f":"VLOOKUP(C30,Method_sources!$F$142:$G$150,2,FALSE)","v":9.921805555555557E-3},{"$f":"VLOOKUP(D30,Method_sources!$F$151:$G$158,2,FALSE)","v":2.6680000000000001},{"$f":"VLOOKUP(D30,Method_sources!$F$159:$G$166,2,FALSE)","v":2.29},{"$f":"VLOOKUP(C30,Method_sources!$F$178:$G$186,2,FALSE)","v":1.2598736092800001E-2},null,null,null,"Natural gas","Florida","FloridaNatural gas",9.921805555555557E-3,"$/ cubic feet"]
[null,"Georgia",{"$f":"VLOOKUP(B31,'Mapping geog'!D:E,2, FALSE)","v":"South Atlantic"},{"$f":"VLOOKUP(B31,'Mapping geog'!L:M,2,FALSE)","v":"Lower Atlantic"},{"$f":"VLOOKUP(C31,Method_sources!$F$133:$G$141,2,FALSE)","v":9.5500000000000002E-2},{"$f":"VLOOKUP(C31,Method_sources!$F$142:$G$150,2,FALSE)","v":9.921805555555557E-3},{"$f":"VLOOKUP(D31,Method_sources!$F$151:$G$158,2,FALSE)","v":2.6680000000000001},{"$f":"VLOOKUP(D31,Method_sources!$F$159:$G$166,2,FALSE)","v":2.29},{"$f":"VLOOKUP(C31,Method_sources!$F$178:$G$186,2,FALSE)","v":1.2598736092800001E-2},null,null,null,"Natural gas","Georgia","GeorgiaNatural gas",9.921805555555557E-3,"$/ cubic feet"]
[null,"Maryland",{"$f":"VLOOKUP(B32,'Mapping geog'!D:E,2, FALSE)","v":"South Atlantic"},{"$f":"VLOOKUP(B32,'Mapping geog'!L:M,2,FALSE)","v":"Central Atlantic"},{"$f":"VLOOKUP(C32,Method_sources!$F$133:$G$141,2,FALSE)","v":9.5500000000000002E-2},{"$f":"VLOOKUP(C32,Method_sources!$F$142:$G$150,2,FALSE)","v":9.921805555555557E-3},{"$f":"VLOOKUP(D32,Method_sources!$F$151:$G$158,2,FALSE)","v":2.927},{"$f":"VLOOKUP(D32,Method_sources!$F$159:$G$166,2,FALSE)","v":2.44},{"$f":"VLOOKUP(C32,Method_sources!$F$178:$G$186,2,FALSE)","v":1.2598736092800001E-2},null,null,null,"Natural gas","Maryland","MarylandNatural gas",9.921805555555557E-3,"$/ cubic feet"]
[null,"North Carolina",{"$f":"VLOOKUP(B33,'Mapping geog'!D:E,2, FALSE)","v":"South Atlantic"},{"$f":"VLOOKUP(B33,'Mapping geog'!L:M,2,FALSE)","v":"Lower Atlantic"},{"$f":"VLOOKUP(C33,Method_sources!$F$133:$G$141,2,FALSE)","v":9.5500000000000002E-2},{"$f":"VLOOKUP(C33,Method_sources!$F$142:$G$150,2,FALSE)","v":9.921805555555557E-3},{"$f":"VLOOKUP(D33,Method_sources!$F$151:$G$158,2,FALSE)","v":2.6680000000000001},{"$f":"VLOOKUP(D33,Method_sources!$F$159:$G$166,2,FALSE)","v":2.29},{"$f":"VLOOKUP(C33,Method_sources!$F$178:$G$186,2,FALSE)","v":1.2598736092800001E-2},null,null,null,"Natural gas","North Carolina","North CarolinaNatural gas",9.921805555555557E-3,"$/ cubic feet"]
[null,"South Carolina",{"$f":"VLOOKUP(B34,'Mapping geog'!D:E,2, FALSE)","v":"South Atlantic"},{"$f":"VLOOKUP(B34,'Mapping geog'!L:M,2,FALSE)","v":"Lower Atlantic"},{"$f":"VLOOKUP(C34,Method_sources!$F$133:$G$141,2,FALSE)","v":9.5500000000000002E-2},{"$f":"VLOOKUP(C34,Method_sources!$F$142:$G$150,2,FALSE)","v":9.921805555555557E-3},{"$f":"VLOOKUP(D34,Method_sources!$F$151:$G$158,2,FALSE)","v":2.6680000000000001},{"$f":"VLOOKUP(D34,Method_sources!$F$159:$G$166,2,FALSE)","v":2.29},{"$f":"VLOOKUP(C34,Method_sources!$F$178:$G$186,2,FALSE)","v":1.2598736092800001E-2},null,null,null,"Natural gas","South Carolina","South CarolinaNatural gas",9.921805555555557E-3,"$/ cubic feet"]
[null,"Virginia",{"$f":"VLOOKUP(B35,'Mapping geog'!D:E,2, FALSE)","v":"South Atlantic"},{"$f":"VLOOKUP(B35,'Mapping geog'!L:M,2,FALSE)","v":"Lower Atlantic"},{"$f":"VLOOKUP(C35,Method_sources!$F$133:$G$141,2,FALSE)","v":9.5500000000000002E-2},{"$f":"VLOOKUP(C35,Method_sources!$F$142:$G$150,2,FALSE)","v":9.921805555555557E-3},{"$f":"VLOOKUP(D35,Method_sources!$F$151:$G$158,2,FALSE)","v":2.6680000000000001},{"$f":"VLOOKUP(D35,Method_sources!$F$159:$G$166,2,FALSE)","v":2.29},{"$f":"VLOOKUP(C35,Method_sources!$F$178:$G$186,2,FALSE)","v":1.2598736092800001E-2},null,null,null,"Natural gas","Virginia","VirginiaNatural gas",9.921805555555557E-3,"$/ cubic feet"]
[null,"West Virginia",{"$f":"VLOOKUP(B36,'Mapping geog'!D:E,2, FALSE)","v":"South Atlantic"},{"$f":"VLOOKUP(B36,'Mapping geog'!L:M,2,FALSE)","v":"Lower Atlantic"},{"$f":"VLOOKUP(C36,Method_sources!$F$133:$G$141,2,FALSE)","v":9.5500000000000002E-2},{"$f":"VLOOKUP(C36,Method_sources!$F$142:$G$150,2,FALSE)","v":9.921805555555557E-3},{"$f":"VLOOKUP(D36,Method_sources!$F$151:$G$158,2,FALSE)","v":2.6680000000000001},{"$f":"VLOOKUP(D36,Method_sources!$F$159:$G$166,2,FALSE)","v":2.29},{"$f":"VLOOKUP(C36,Method_sources!$F$178:$G$186,2,FALSE)","v":1.2598736092800001E-2},null,null,null,"Natural gas","West Virginia","West VirginiaNatural gas",9.921805555555557E-3,"$/ cubic feet"]
[null,"Alabama",{"$f":"VLOOKUP(B37,'Mapping geog'!D:E,2, FALSE)","v":"East South Central"},{"$f":"VLOOKUP(B37,'Mapping geog'!L:M,2,FALSE)","v":"Gulf Coast"},{"$f":"VLOOKUP(C37,Method_sources!$F$133:$G$141,2,FALSE)","v":0.1027},{"$f":"VLOOKUP(C37,Method_sources!$F$142:$G$150,2,FALSE)","v":9.5086249999999997E-3},{"$f":"VLOOKUP(D37,Method_sources!$F$151:$G$158,2,FALSE)","v":2.5760000000000001},{"$f":"VLOOKUP(D37,Method_sources!$F$159:$G$166,2,FALSE)","v":2.1640000000000001},{"$f":"VLOOKUP(C37,Method_sources!$F$178:$G$186,2,FALSE)","v":7.7663844672000012E-3},null,null,null,"Natural gas","Alabama","AlabamaNatural gas",9.5086249999999997E-3,"$/ cubic feet"]
[null,"Kentucky",{"$f":"VLOOKUP(B38,'Mapping geog'!D:E,2, FALSE)","v":"East South Central"},{"$f":"VLOOKUP(B38,'Mapping geog'!L:M,2,FALSE)","v":"Midwest"},{"$f":"VLOOKUP(C38,Method_sources!$F$133:$G$141,2,FALSE)","v":0.1027},{"$f":"VLOOKUP(C38,Method_sources!$F$142:$G$150,2,FALSE)","v":9.5086249999999997E-3},{"$f":"VLOOKUP(D38,Method_sources!$F$151:$G$158,2,FALSE)","v":2.64},{"$f":"VLOOKUP(D38,Method_sources!$F$159:$G$166,2,FALSE)","v":2.339},{"$f":"VLOOKUP(C38,Method_sources!$F$178:$G$186,2,FALSE)","v":7.7663844672000012E-3},null,null,null,"Natural gas","Kentucky","KentuckyNatural gas",9.5086249999999997E-3,"$/ cubic feet"]
[null,"Mississippi",{"$f":"VLOOKUP(B39,'Mapping geog'!D:E,2, FALSE)","v":"East South Central"},{"$f":"VLOOKUP(B39,'Mapping geog'!L:M,2,FALSE)","v":"Gulf Coast"},{"$f":"VLOOKUP(C39,Method_sources!$F$133:$G$141,2,FALSE)","v":0.1027},{"$f":"VLOOKUP(C39,Method_sources!$F$142:$G$150,2,FALSE)","v":9.5086249999999997E-3},{"$f":"VLOOKUP(D39,Method_sources!$F$151:$G$158,2,FALSE)","v":2.5760000000000001},{"$f":"VLOOKUP(D39,Method_sources!$F$159:$G$166,2,FALSE)","v":2.1640000000000001},{"$f":"VLOOKUP(C39,Method_sources!$F$178:$G$186,2,FALSE)","v":7.7663844672000012E-3},null,null,null,"Natural gas","Mississippi","MississippiNatural gas",9.5086249999999997E-3,"$/ cubic feet"]
[null,"Tennessee",{"$f":"VLOOKUP(B40,'Mapping geog'!D:E,2, FALSE)","v":"East South Central"},{"$f":"VLOOKUP(B40,'Mapping geog'!L:M,2,FALSE)","v":"Midwest"},{"$f":"VLOOKUP(C40,Method_sources!$F$133:$G$141,2,FALSE)","v":0.1027},{"$f":"VLOOKUP(C40,Method_sources!$F$142:$G$150,2,FALSE)","v":9.5086249999999997E-3},{"$f":"VLOOKUP(D40,Method_sources!$F$151:$G$158,2,FALSE)","v":2.64},{"$f":"VLOOKUP(D40,Method_sources!$F$159:$G$166,2,FALSE)","v":2.339},{"$f":"VLOOKUP(C40,Method_sources!$F$178:$G$186,2,FALSE)","v":7.7663844672000012E-3},null,null,null,"Natural gas","Tennessee","TennesseeNatural gas",9.5086249999999997E-3,"$/ cubic feet"]
[null,"Arkansas",{"$f":"VLOOKUP(B41,'Mapping geog'!D:E,2, FALSE)","v":"West South Central"},{"$f":"VLOOKUP(B41,'Mapping geog'!L:M,2,FALSE)","v":"Gulf Coast"},{"$f":"VLOOKUP(C41,Method_sources!$F$133:$G$141,2,FALSE)","v":7.9399999999999998E-2},{"$f":"VLOOKUP(C41,Method_sources!$F$142:$G$150,2,FALSE)","v":8.5926249999999996E-3},{"$f":"VLOOKUP(D41,Method_sources!$F$151:$G$158,2,FALSE)","v":2.5760000000000001},{"$f":"VLOOKUP(D41,Method_sources!$F$159:$G$166,2,FALSE)","v":2.1640000000000001},{"$f":"VLOOKUP(C41,Method_sources!$F$178:$G$186,2,FALSE)","v":8.2721210901333334E-3},null,null,null,"Natural gas","Arkansas","ArkansasNatural gas",8.5926249999999996E-3,"$/ cubic feet"]
[null,"Louisiana",{"$f":"VLOOKUP(B42,'Mapping geog'!D:E,2, FALSE)","v":"West South Central"},{"$f":"VLOOKUP(B42,'Mapping geog'!L:M,2,FALSE)","v":"Gulf Coast"},{"$f":"VLOOKUP(C42,Method_sources!$F$133:$G$141,2,FALSE)","v":7.9399999999999998E-2},{"$f":"VLOOKUP(C42,Method_sources!$F$142:$G$150,2,FALSE)","v":8.5926249999999996E-3},{"$f":"VLOOKUP(D42,Method_sources!$F$151:$G$158,2,FALSE)","v":2.5760000000000001},{"$f":"VLOOKUP(D42,Method_sources!$F$159:$G$166,2,FALSE)","v":2.1640000000000001},{"$f":"VLOOKUP(C42,Method_sources!$F$178:$G$186,2,FALSE)","v":8.2721210901333334E-3},null,null,null,"Natural gas","Louisiana","LouisianaNatural gas",8.5926249999999996E-3,"$/ cubic feet"]
[null,"Oklahoma",{"$f":"VLOOKUP(B43,'Mapping geog'!D:E,2, FALSE)","v":"West South Central"},{"$f":"VLOOKUP(B43,'Mapping geog'!L:M,2,FALSE)","v":"Midwest"},{"$f":"VLOOKUP(C43,Method_sources!$F$133:$G$141,2,FALSE)","v":7.9399999999999998E-2},{"$f":"VLOOKUP(C43,Method_sources!$F$142:$G$150,2,FALSE)","v":8.5926249999999996E-3},{"$f":"VLOOKUP(D43,Method_sources!$F$151:$G$158,2,FALSE)","v":2.64},{"$f":"VLOOKUP(D43,Method_sources!$F$159:$G$166,2,FALSE)","v":2.339},{"$f":"VLOOKUP(C43,Method_sources!$F$178:$G$186,2,FALSE)","v":8.2721210901333334E-3},null,null,null,"Natural gas","Oklahoma","OklahomaNatural gas",8.5926249999999996E-3,"$/ cubic feet"]
[null,"Texas",{"$f":"VLOOKUP(B44,'Mapping geog'!D:E,2, FALSE)","v":"West South Central"},{"$f":"VLOOKUP(B44,'Mapping geog'!L:M,2,FALSE)","v":"Gulf Coast"},{"$f":"VLOOKUP(C44,Method_sources!$F$133:$G$141,2,FALSE)","v":7.9399999999999998E-2},{"$f":"VLOOKUP(C44,Method_sources!$F$142:$G$150,2,FALSE)","v":8.5926249999999996E-3},{"$f":"VLOOKUP(D44,Method_sources!$F$151:$G$158,2,FALSE)","v":2.5760000000000001},{"$f":"VLOOKUP(D44,Method_sources!$F$159:$G$166,2,FALSE)","v":2.1640000000000001},{"$f":"VLOOKUP(C44,Method_sources!$F$178:$G$186,2,FALSE)","v":8.2721210901333334E-3},null,null,null,"Natural gas","Texas","TexasNatural gas",8.5926249999999996E-3,"$/ cubic feet"]
[null,"Arizona",{"$f":"VLOOKUP(B45,'Mapping geog'!D:E,2, FALSE)","v":"Mountain"},{"$f":"VLOOKUP(B45,'Mapping geog'!L:M,2,FALSE)","v":"West Coast less California"},{"$f":"VLOOKUP(C45,Method_sources!$F$133:$G$141,2,FALSE)","v":9.8599999999999993E-2},{"$f":"VLOOKUP(C45,Method_sources!$F$142:$G$150,2,FALSE)","v":8.3592881944444444E-3},{"$f":"VLOOKUP(D45,Method_sources!$F$151:$G$158,2,FALSE)","v":2.7549999999999999},{"$f":"VLOOKUP(D45,Method_sources!$F$159:$G$166,2,FALSE)","v":2.65},{"$f":"VLOOKUP(C45,Method_sources!$F$178:$G$186,2,FALSE)","v":7.5124199981714303E-3},null,null,null,"Natural gas","Arizona","ArizonaNatural gas",8.3592881944444444E-3,"$/ cubic feet"]
[null,"Colorado",{"$f":"VLOOKUP(B46,'Mapping geog'!D:E,2, FALSE)","v":"Mountain"},{"$f":"VLOOKUP(B46,'Mapping geog'!L:M,2,FALSE)","v":"Rocky Mountain"},{"$f":"VLOOKUP(C46,Method_sources!$F$133:$G$141,2,FALSE)","v":9.8599999999999993E-2},{"$f":"VLOOKUP(C46,Method_sources!$F$142:$G$150,2,FALSE)","v":8.3592881944444444E-3},{"$f":"VLOOKUP(D46,Method_sources!$F$151:$G$158,2,FALSE)","v":2.6739999999999999},{"$f":"VLOOKUP(D46,Method_sources!$F$159:$G$166,2,FALSE)","v":2.4079999999999999},{"$f":"VLOOKUP(C46,Method_sources!$F$178:$G$186,2,FALSE)","v":7.5124199981714303E-3},null,null,null,"Natural gas","Colorado","ColoradoNatural gas",8.3592881944444444E-3,"$/ cubic feet"]
[null,"Idaho",{"$f":"VLOOKUP(B47,'Mapping geog'!D:E,2, FALSE)","v":"Mountain"},{"$f":"VLOOKUP(B47,'Mapping geog'!L:M,2,FALSE)","v":"Rocky Mountain"},{"$f":"VLOOKUP(C47,Method_sources!$F$133:$G$141,2,FALSE)","v":9.8599999999999993E-2},{"$f":"VLOOKUP(C47,Method_sources!$F$142:$G$150,2,FALSE)","v":8.3592881944444444E-3},{"$f":"VLOOKUP(D47,Method_sources!$F$151:$G$158,2,FALSE)","v":2.6739999999999999},{"$f":"VLOOKUP(D47,Method_sources!$F$159:$G$166,2,FALSE)","v":2.4079999999999999},{"$f":"VLOOKUP(C47,Method_sources!$F$178:$G$186,2,FALSE)","v":7.5124199981714303E-3},null,null,null,"Natural gas","Idaho","IdahoNatural gas",8.3592881944444444E-3,"$/ cubic feet"]
[null,"New Mexico",{"$f":"VLOOKUP(B48,'Mapping geog'!D:E,2, FALSE)","v":"Mountain"},{"$f":"VLOOKUP(B48,'Mapping geog'!L:M,2,FALSE)","v":"Gulf Coast"},{"$f":"VLOOKUP(C48,Method_sources!$F$133:$G$141,2,FALSE)","v":9.8599999999999993E-2},{"$f":"VLOOKUP(C48,Method_sources!$F$142:$G$150,2,FALSE)","v":8.3592881944444444E-3},{"$f":"VLOOKUP(D48,Method_sources!$F$151:$G$158,2,FALSE)","v":2.5760000000000001},{"$f":"VLOOKUP(D48,Method_sources!$F$159:$G$166,2,FALSE)","v":2.1640000000000001},{"$f":"VLOOKUP(C48,Method_sources!$F$178:$G$186,2,FALSE)","v":7.5124199981714303E-3},null,null,null,"Natural gas","New Mexico","New MexicoNatural gas",8.3592881944444444E-3,"$/ cubic feet"]
[null,"Montana",{"$f":"VLOOKUP(B49,'Mapping geog'!D:E,2, FALSE)","v":"Mountain"},{"$f":"VLOOKUP(B49,'Mapping geog'!L:M,2,FALSE)","v":"Rocky Mountain"},{"$f":"VLOOKUP(C49,Method_sources!$F$133:$G$141,2,FALSE)","v":9.8599999999999993E-2},{"$f":"VLOOKUP(C49,Method_sources!$F$142:$G$150,2,FALSE)","v":8.3592881944444444E-3},{"$f":"VLOOKUP(D49,Method_sources!$F$151:$G$158,2,FALSE)","v":2.6739999999999999},{"$f":"VLOOKUP(D49,Method_sources!$F$159:$G$166,2,FALSE)","v":2.4079999999999999},{"$f":"VLOOKUP(C49,Method_sources!$F$178:$G$186,2,FALSE)","v":7.5124199981714303E-3},null,null,null,"Natural gas","Montana","MontanaNatural gas",8.3592881944444444E-3,"$/ cubic feet"]
[null,"Utah",{"$f":"VLOOKUP(B50,'Mapping geog'!D:E,2, FALSE)","v":"Mountain"},{"$f":"VLOOKUP(B50,'Mapping geog'!L:M,2,FALSE)","v":"Rocky Mountain"},{"$f":"VLOOKUP(C50,Method_sources!$F$133:$G$141,2,FALSE)","v":9.8599999999999993E-2},{"$f":"VLOOKUP(C50,Method_sources!$F$142:$G$150,2,FALSE)","v":8.3592881944444444E-3},{"$f":"VLOOKUP(D50,Method_sources!$F$151:$G$158,2,FALSE)","v":2.6739999999999999},{"$f":"VLOOKUP(D50,Method_sources!$F$159:$G$166,2,FALSE)","v":2.4079999999999999},{"$f":"VLOOKUP(C50,Method_sources!$F$178:$G$186,2,FALSE)","v":7.5124199981714303E-3},null,null,null,"Natural gas","Utah","UtahNatural gas",8.3592881944444444E-3,"$/ cubic feet"]
[null,"Nevada",{"$f":"VLOOKUP(B51,'Mapping geog'!D:E,2, FALSE)","v":"Mountain"},{"$f":"VLOOKUP(B51,'Mapping geog'!L:M,2,FALSE)","v":"West Coast less California"},{"$f":"VLOOKUP(C51,Method_sources!$F$133:$G$141,2,FALSE)","v":9.8599999999999993E-2},{"$f":"VLOOKUP(C51,Method_sources!$F$142:$G$150,2,FALSE)","v":8.3592881944444444E-3},{"$f":"VLOOKUP(D51,Method_sources!$F$151:$G$158,2,FALSE)","v":2.7549999999999999},{"$f":"VLOOKUP(D51,Method_sources!$F$159:$G$166,2,FALSE)","v":2.65},{"$f":"VLOOKUP(C51,Method_sources!$F$178:$G$186,2,FALSE)","v":7.5124199981714303E-3},null,null,null,"Natural gas","Nevada","NevadaNatural gas",8.3592881944444444E-3,"$/ cubic feet"]
[null,"Wyoming",{"$f":"VLOOKUP(B52,'Mapping geog'!D:E,2, FALSE)","v":"Mountain"},{"$f":"VLOOKUP(B52,'Mapping geog'!L:M,2,FALSE)","v":"Rocky Mountain"},{"$f":"VLOOKUP(C52,Method_sources!$F$133:$G$141,2,FALSE)","v":9.8599999999999993E-2},{"$f":"VLOOKUP(C52,Method_sources!$F$142:$G$150,2,FALSE)","v":8.3592881944444444E-3},{"$f":"VLOOKUP(D52,Method_sources!$F$151:$G$158,2,FALSE)","v":2.6739999999999999},{"$f":"VLOOKUP(D52,Method_sources!$F$159:$G$166,2,FALSE)","v":2.4079999999999999},{"$f":"VLOOKUP(C52,Method_sources!$F$178:$G$186,2,FALSE)","v":7.5124199981714303E-3},null,null,null,"Natural gas","Wyoming","WyomingNatural gas",8.3592881944444444E-3,"$/ cubic feet"]
[null,"Alaska",{"$f":"VLOOKUP(B53,'Mapping geog'!D:E,2, FALSE)","v":"Pacific"},{"$f":"VLOOKUP(B53,'Mapping geog'!L:M,2,FALSE)","v":"West Coast less California"},{"$f":"VLOOKUP(C53,Method_sources!$F$133:$G$141,2,FALSE)","v":0.18429999999999999},{"$f":"VLOOKUP(C53,Method_sources!$F$142:$G$150,2,FALSE)","v":1.3511E-2},{"$f":"VLOOKUP(D53,Method_sources!$F$151:$G$158,2,FALSE)","v":2.7549999999999999},{"$f":"VLOOKUP(D53,Method_sources!$F$159:$G$166,2,FALSE)","v":2.65},{"$f":"VLOOKUP(C53,Method_sources!$F$178:$G$186,2,FALSE)","v":1.1945276754560001E-2},null,null,null,"Natural gas","Alaska","AlaskaNatural gas",1.3511E-2,"$/ cubic feet"]
[null,"California",{"$f":"VLOOKUP(B54,'Mapping geog'!D:E,2, FALSE)","v":"Pacific"},{"$f":"VLOOKUP(B54,'Mapping geog'!L:M,2,FALSE)","v":"West Coast"},{"$f":"VLOOKUP(C54,Method_sources!$F$133:$G$141,2,FALSE)","v":0.18429999999999999},{"$f":"VLOOKUP(C54,Method_sources!$F$142:$G$150,2,FALSE)","v":1.3511E-2},{"$f":"VLOOKUP(D54,Method_sources!$F$151:$G$158,2,FALSE)","v":2.8980000000000001},{"$f":"VLOOKUP(D54,Method_sources!$F$159:$G$166,2,FALSE)","v":2.9780000000000002},{"$f":"VLOOKUP(C54,Method_sources!$F$178:$G$186,2,FALSE)","v":1.1945276754560001E-2},null,null,null,"Natural gas","California","CaliforniaNatural gas",1.3511E-2,"$/ cubic feet"]
[null,"Hawaii",{"$f":"VLOOKUP(B55,'Mapping geog'!D:E,2, FALSE)","v":"Pacific"},{"$f":"VLOOKUP(B55,'Mapping geog'!L:M,2,FALSE)","v":"West Coast less California"},{"$f":"VLOOKUP(C55,Method_sources!$F$133:$G$141,2,FALSE)","v":0.18429999999999999},{"$f":"VLOOKUP(C55,Method_sources!$F$142:$G$150,2,FALSE)","v":1.3511E-2},{"$f":"VLOOKUP(D55,Method_sources!$F$151:$G$158,2,FALSE)","v":2.7549999999999999},{"$f":"VLOOKUP(D55,Method_sources!$F$159:$G$166,2,FALSE)","v":2.65},{"$f":"VLOOKUP(C55,Method_sources!$F$178:$G$186,2,FALSE)","v":1.1945276754560001E-2},null,null,null,"Natural gas","Hawaii","HawaiiNatural gas",1.3511E-2,"$/ cubic feet"]
[null,"Oregon",{"$f":"VLOOKUP(B56,'Mapping geog'!D:E,2, FALSE)","v":"Pacific"},{"$f":"VLOOKUP(B56,'Mapping geog'!L:M,2,FALSE)","v":"West Coast less California"},{"$f":"VLOOKUP(C56,Method_sources!$F$133:$G$141,2,FALSE)","v":0.18429999999999999},{"$f":"VLOOKUP(C56,Method_sources!$F$142:$G$150,2,FALSE)","v":1.3511E-2},{"$f":"VLOOKUP(D56,Method_sources!$F$151:$G$158,2,FALSE)","v":2.7549999999999999},{"$f":"VLOOKUP(D56,Method_sources!$F$159:$G$166,2,FALSE)","v":2.65},{"$f":"VLOOKUP(C56,Method_sources!$F$178:$G$186,2,FALSE)","v":1.1945276754560001E-2},null,null,null,"Natural gas","Oregon","OregonNatural gas",1.3511E-2,"$/ cubic feet"]
[null,"Washington",{"$f":"VLOOKUP(B57,'Mapping geog'!D:E,2, FALSE)","v":"Pacific"},{"$f":"VLOOKUP(B57,'Mapping geog'!L:M,2,FALSE)","v":"West Coast less California"},{"$f":"VLOOKUP(C57,Method_sources!$F$133:$G$141,2,FALSE)","v":0.18429999999999999},{"$f":"VLOOKUP(C57,Method_sources!$F$142:$G$150,2,FALSE)","v":1.3511E-2},{"$f":"VLOOKUP(D57,Method_sources!$F$151:$G$158,2,FALSE)","v":2.7549999999999999},{"$f":"VLOOKUP(D57,Method_sources!$F$159:$G$166,2,FALSE)","v":2.65},{"$f":"VLOOKUP(C57,Method_sources!$F$178:$G$186,2,FALSE)","v":1.1945276754560001E-2},null,null,null,"Natural gas","Washington","WashingtonNatural gas",1.3511E-2,"$/ cubic feet"]
[null,"Please select",null,null,"Not applicable",null,null,null,"Not applicable",null,null,null,"Diesel","United States","United StatesDiesel",{"$f":"VLOOKUP(N58,$B$6:$H$57,6,FALSE)","v":2.7069999999999999}]
[null,"Not applicable",null,null,"Not applicable",null,null,null,"Not applicable",null,null,null,"Diesel","Connecticut","ConnecticutDiesel",{"$f":"VLOOKUP(N59,$B$6:$H$57,6,FALSE)","v":2.8919999999999999},"$/ gallon"]
[null,0,null,null,"Not applicable","Not applicable","Not applicable","Not applicable","Not applicable",null,null,null,"Diesel","Maine","MaineDiesel",2.8919999999999999,"$/ gallon"]
[null,null,null,null,null,null,null,null,null,null,null,null,"Diesel","Massachusetts","MassachusettsDiesel",2.8919999999999999,"$/ gallon"]
[null,null,null,null,null,null,null,null,null,null,null,null,"Diesel","New Hampshire","New HampshireDiesel",2.8919999999999999,"$/ gallon"]
[null,null,null,null,null,null,null,null,null,null,null,null,"Diesel","Rhode Island","Rhode IslandDiesel",2.8919999999999999,"$/ gallon"]
[null,null,null,null,"WASTE - Median values from PGH",null,null,null,null,null,null,null,"Diesel","Vermont","VermontDiesel",2.8919999999999999,"$/ gallon"]
[null,null,null,null,null,"$/lbs",null,null,null,null,null,null,"Diesel","New Jersey","New JerseyDiesel",2.927,"$/ gallon"]
[null,null,null,"US","Solid waste",{"$f":"VLOOKUP(E66,Method_sources!$E$194:$G$203,3,FALSE)","v":0.05},null,null,null,null,null,null,"Diesel","New York","New YorkDiesel",2.927,"$/ gallon"]
[null,null,null,"US","Recycling waste",{"$f":"VLOOKUP(E67,Method_sources!$E$194:$G$203,3,FALSE)","v":0.04},null,null,null,null,null,null,"Diesel","Pennsylvania","PennsylvaniaDiesel",2.927,"$/ gallon"]
[null,null,null,"US","Regulated Medical Waste",{"$f":"VLOOKUP(E68,Method_sources!$E$194:$G$203,3,FALSE)","v":0.3},null,null,null,null,null,null,"Diesel","Indiana","IndianaDiesel",2.64,"$/ gallon"]
[null,null,null,"US","Hazardous waste",{"$f":"VLOOKUP(E69,Method_sources!$E$194:$G$203,3,FALSE)","v":2.2200000000000002},null,null,null,null,null,null,"Diesel","Illinois","IllinoisDiesel",2.64,"$/ gallon"]
[null,null,null,"US","Non-RCRA Pharmaceutical waste",{"$f":"VLOOKUP(E70,Method_sources!$E$194:$G$203,3,FALSE)","v":0.57999999999999996},null,null,null,null,null,null,"Diesel","Michigan","MichiganDiesel",2.64,"$/ gallon"]
[null,null,null,"US","RCRA Pharmaceutical waste",{"$f":"VLOOKUP(E71,Method_sources!$E$194:$G$203,3,FALSE)","v":2.4900000000000002},null,null,null,null,null,null,"Diesel","Ohio","OhioDiesel",2.64,"$/ gallon"]
[null,null,null,"US","Composting waste",{"$f":"VLOOKUP(E72,Method_sources!$E$194:$G$203,3,FALSE)","v":7.0000000000000007E-2},null,null,null,null,null,null,"Diesel","Wisconsin","WisconsinDiesel",2.64,"$/ gallon"]
[null,null,null,"US","Universal waste (cost)",{"$f":"VLOOKUP(E73,Method_sources!$E$194:$G$203,3,FALSE)","v":0.28000000000000003},null,null,null,null,null,null,"Diesel","Iowa",{"$f":"CONCATENATE(N73,M73)","v":"IowaDiesel"},2.64,"$/ gallon"]
[null,null,null,"US","Universal waste (revenue)",{"$f":"VLOOKUP(E74,Method_sources!$E$194:$G$203,3,FALSE)","v":0.17},null,null,null,null,null,null,"Diesel","Kansas","KansasDiesel",2.64,"$/ gallon"]
[null,null,null,"US","Universal waste (unknown)",{"$f":"VLOOKUP(E75,Method_sources!$E$194:$G$203,3,FALSE)","v":0.18},null,null,null,null,null,null,"Diesel","Minnesota","MinnesotaDiesel",2.64,"$/ gallon"]
[null,null,null,"US","Please select","Not applicable",null,null,null,null,null,null,"Diesel","Missouri","MissouriDiesel",2.64,"$/ gallon"]
[null,null,null,"US","Not applicable","Not applicable",null,null,null,null,null,null,"Diesel","Nebraska","NebraskaDiesel",2.64,"$/ gallon"]
[null,null,null,null,null,null,null,null,null,null,null,null,"Diesel","North Dakota","North DakotaDiesel",2.64,"$/ gallon"]
[null,null,null,null,null,null,null,null,null,null,null,null,"Diesel","South Dakota","South DakotaDiesel",2.64,"$/ gallon"]
[null,null,null,null,null,null,null,null,null,null,null,null,"Diesel","Delaware","DelawareDiesel",2.927,"$/ gallon"]
[null,null,null,null,null,null,null,null,null,null,null,null,"Diesel","District of Columbia","District of ColumbiaDiesel",2.927,"$/ gallon"]
[null,null,null,null,null,null,null,null,null,null,null,null,"Diesel","Florida","FloridaDiesel",2.6680000000000001,"$/ gallon"]
[null,null,null,null,null,null,null,null,null,null,null,null,"Diesel","Georgia","GeorgiaDiesel",2.6680000000000001,"$/ gallon"]
[null,null,null,null,null,null,null,null,null,null,null,null,"Diesel","Maryland","MarylandDiesel",2.927,"$/ gallon"]
[null,null,null,null,null,null,null,null,null,null,null,null,"Diesel","North Carolina","North CarolinaDiesel",2.6680000000000001,"$/ gallon"]
[null,null,null,null,null,null,null,null,null,null,null,null,"Diesel","South Carolina","South CarolinaDiesel",2.6680000000000001,"$/ gallon"]
[null,null,null,null,null,null,null,null,null,null,null,null,"Diesel","Virginia","VirginiaDiesel",2.6680000000000001,"$/ gallon"]
[null,null,null,null,null,null,null,null,null,null,null,null,"Diesel","West Virginia","West VirginiaDiesel",2.6680000000000001,"$/ gallon"]
[null,null,null,null,null,null,null,null,null,null,null,null,"Diesel","Alabama","AlabamaDiesel",2.5760000000000001,"$/ gallon"]
[null,null,null,null,null,null,null,null,null,null,null,null,"Diesel","Kentucky","KentuckyDiesel",2.64,"$/ gallon"]
[null,null,null,null,null,null,null,null,null,null,null,null,"Diesel","Mississippi","MississippiDiesel",2.5760000000000001,"$/ gallon"]
[null,null,null,null,null,null,null,null,null,null,null,null,"Diesel","Tennessee","TennesseeDiesel",2.64,"$/ gallon"]
[null,null,null,null,null,null,null,null,null,null,null,null,"Diesel","Arkansas","ArkansasDiesel",2.5760000000000001,"$/ gallon"]
[null,null,null,null,null,null,null,null,null,null,null,null,"Diesel","Louisiana","LouisianaDiesel",2.5760000000000001,"$/ gallon"]
[null,null,null,null,null,null,null,null,null,null,null,null,"Diesel","Oklahoma","OklahomaDiesel",2.64,"$/ gallon"]
[null,null,null,null,null,null,null,null,null,null,null,null,"Diesel","Texas","TexasDiesel",2.5760000000000001,"$/ gallon"]
[null,null,null,null,null,null,null,null,null,null,null,null,"Diesel","Arizona","ArizonaDiesel",2.7549999999999999,"$/ gallon"]
[null,null,null,null,null,null,null,null,null,null,null,null,"Diesel","Colorado","ColoradoDiesel",2.6739999999999999,"$/ gallon"]
[null,null,null,null,null,null,null,null,null,null,null,null,"Diesel","Idaho","IdahoDiesel",2.6739999999999999,"$/ gallon"]
[null,null,null,null,null,null,null,null,null,null,null,null,"Diesel","New Mexico","New MexicoDiesel",2.5760000000000001,"$/ gallon"]
[null,null,null,null,null,null,null,null,null,null,null,null,"Diesel","Montana","MontanaDiesel",2.6739999999999999,"$/ gallon"]
[null,null,null,null,null,null,null,null,null,null,null,null,"Diesel","Utah","UtahDiesel",2.6739999999999999,"$/ gallon"]
[null,null,null,null,null,null,null,null,null,null,null,null,"Diesel","Nevada","NevadaDiesel",2.7549999999999999,"$/ gallon"]
[null,null,null,null,null,null,null,null,null,null,null,null,"Diesel","Wyoming","WyomingDiesel",2.6739999999999999,"$/ gallon"]
[null,null,null,null,null,null,null,null,null,null,null,null,"Diesel","Alaska","AlaskaDiesel",2.7549999999999999,"$/ gallon"]
[null,null,null,null,null,null,null,null,null,null,null,null,"Diesel","California","CaliforniaDiesel",2.8980000000000001,"$/ gallon"]
[null,null,null,null,null,null,null,null,null,null,null,null,"Diesel","Hawaii","HawaiiDiesel",2.7549999999999999,"$/ gallon"]
[null,null,null,null,null,null,null,null,null,null,null,null,"Diesel","Oregon","OregonDiesel",2.7549999999999999,"$/ gallon"]
[null,null,null,null,null,null,null,null,null,null,null,null,"Diesel","Washington","WashingtonDiesel",2.7549999999999999,"$/ gallon"]
[null,null,null,null,null,null,null,null,null,null,null,null,"Gasoline","United States","United StatesGasoline",{"$f":"VLOOKUP(N110,$B$6:$H$57,7,FALSE)","v":2.4289999999999998}]
[null,null,null,null,null,null,null,null,null,null,null,null,"Gasoline","Connecticut","ConnecticutGasoline",{"$f":"VLOOKUP(N111,$B$6:$H$57,7,FALSE)","v":2.411},"$/ gallon"]
[null,null,null,null,null,null,null,null,null,null,null,null,"Gasoline","Maine","MaineGasoline",2.411,"$/ gallon"]
[null,null,null,null,null,null,null,null,null,null,null,null,"Gasoline","Massachusetts","MassachusettsGasoline",2.411,"$/ gallon"]
[null,null,null,null,null,null,null,null,null,null,null,null,"Gasoline","New Hampshire","New HampshireGasoline",2.411,"$/ gallon"]
[null,null,null,null,null,null,null,null,null,null,null,null,"Gasoline","Rhode Island","Rhode IslandGasoline",2.411,"$/ gallon"]
[null,null,null,null,null,null,null,null,null,null,null,null,"Gasoline","Vermont","VermontGasoline",2.411,"$/ gallon"]
[null,null,null,null,null,null,null,null,null,null,null,null,"Gasoline","New Jersey","New JerseyGasoline",2.44,"$/ gallon"]
[null,null,null,null,null,null,null,null,null,null,null,null,"Gasoline","New York","New YorkGasoline",2.44,"$/ gallon"]
[null,null,null,null,null,null,null,null,null,null,null,null,"Gasoline","Pennsylvania","PennsylvaniaGasoline",2.44,"$/ gallon"]
[null,null,null,null,null,null,null,null,null,null,null,null,"Gasoline","Indiana","IndianaGasoline",2.339,"$/ gallon"]
[null,null,null,null,null,null,null,null,null,null,null,null,"Gasoline","Illinois","IllinoisGasoline",2.339,"$/ gallon"]
[null,null,null,null,null,null,null,null,null,null,null,null,"Gasoline","Michigan","MichiganGasoline",2.339,"$/ gallon"]
[null,null,null,null,null,null,null,null,null,null,null,null,"Gasoline","Ohio","OhioGasoline",2.339,"$/ gallon"]
[null,null,null,null,null,null,null,null,null,null,null,null,"Gasoline","Wisconsin","WisconsinGasoline",2.339,"$/ gallon"]
[null,null,null,null,null,null,null,null,null,null,null,null,"Gasoline","Iowa","IowaGasoline",2.339,"$/ gallon"]
[null,null,null,null,null,null,null,null,null,null,null,null,"Gasoline","Kansas","KansasGasoline",2.339,"$/ gallon"]
[null,null,null,null,null,null,null,null,null,null,null,null,"Gasoline","Minnesota","MinnesotaGasoline",2.339,"$/ gallon"]
[null,null,null,null,null,null,null,null,null,null,null,null,"Gasoline","Missouri","MissouriGasoline",2.339,"$/ gallon"]
[null,null,null,null,null,null,null,null,null,null,null,null,"Gasoline","Nebraska","NebraskaGasoline",2.339,"$/ gallon"]
[null,null,null,null,null,null,null,null,null,null,null,null,"Gasoline","North Dakota","North DakotaGasoline",2.339,"$/ gallon"]
[null,null,null,null,null,null,null,null,null,null,null,null,"Gasoline","South Dakota","South DakotaGasoline",2.339,"$/ gallon"]
[null,null,null,null,null,null,null,null,null,null,null,null,"Gasoline","Delaware","DelawareGasoline",2.44,"$/ gallon"]
[null,null,null,null,null,null,null,null,null,null,null,null,"Gasoline","District of Columbia","District of ColumbiaGasoline",2.44,"$/ gallon"]
[null,null,null,null,null,null,null,null,null,null,null,null,"Gasoline","Florida","FloridaGasoline",2.29,"$/ gallon"]
[null,null,null,null,null,null,null,null,null,null,null,null,"Gasoline","Georgia","GeorgiaGasoline",2.29,"$/ gallon"]
[null,null,null,null,null,null,null,null,null,null,null,null,"Gasoline","Maryland","MarylandGasoline",2.44,"$/ gallon"]
[null,null,null,null,null,null,null,null,null,null,null,null,"Gasoline","North Carolina","North CarolinaGasoline",2.29,"$/ gallon"]
[null,null,null,null,null,null,null,null,null,null,null,null,"Gasoline","South Carolina",{"$f":"CONCATENATE(N138,M138)","v":"South CarolinaGasoline"},2.29,"$/ gallon"]
[null,null,null,null,null,null,null,null,null,null,null,null,"Gasoline","Virginia","VirginiaGasoline",2.29,"$/ gallon"]
[null,null,null,null,null,null,null,null,null,null,null,null,"Gasoline","West Virginia","West VirginiaGasoline",2.29,"$/ gallon"]
[null,null,null,null,null,null,null,null,null,null,null,null,"Gasoline","Alabama","AlabamaGasoline",2.1640000000000001,"$/ gallon"]
[null,null,null,null,null,null,null,null,null,null,null,null,"Gasoline","Kentucky","KentuckyGasoline",2.339,"$/ gallon"]
[null,null,null,null,null,null,null,null,null,null,null,null,"Gasoline","Mississippi","MississippiGasoline",2.1640000000000001,"$/ gallon"]
[null,null,null,null,null,null,null,null,null,null,null,null,"Gasoline","Tennessee","TennesseeGasoline",2.339,"$/ gallon"]
[null,null,null,null,null,null,null,null,null,null,null,null,"Gasoline","Arkansas","ArkansasGasoline",2.1640000000000001,"$/ gallon"]
[null,null,null,null,null,null,null,null,null,null,null,null,"Gasoline","Louisiana","LouisianaGasoline",2.1640000000000001,"$/ gallon"]
[null,null,null,null,null,null,null,null,null,null,null,null,"Gasoline","Oklahoma","OklahomaGasoline",2.339,"$/ gallon"]
[null,null,null,null,null,null,null,null,null,null,null,null,"Gasoline","Texas","TexasGasoline",2.1640000000000001,"$/ gallon"]
[null,null,null,null,null,null,null,null,null,null,null,null,"Gasoline","Arizona","ArizonaGasoline",2.65,"$/ gallon"]
[null,null,null,null,null,null,null,null,null,null,null,null,"Gasoline","Colorado","ColoradoGasoline",2.4079999999999999,"$/ gallon"]
[null,null,null,null,null,null,null,null,null,null,null,null,"Gasoline","Idaho","IdahoGasoline",2.4079999999999999,"$/ gallon"]
[null,null,null,null,null,null,null,null,null,null,null,null,"Gasoline","New Mexico","New MexicoGasoline",2.1640000000000001,"$/ gallon"]
[null,null,null,null,null,null,null,null,null,null,null,null,"Gasoline","Montana","MontanaGasoline",2.4079999999999999,"$/ gallon"]
[null,null,null,null,null,null,null,null,null,null,null,null,"Gasoline","Utah","UtahGasoline",2.4079999999999999,"$/ gallon"]
[null,null,null,null,null,null,null,null,null,null,null,null,"Gasoline","Nevada","NevadaGasoline",2.65,"$/ gallon"]
[null,null,null,null,null,null,null,null,null,null,null,null,"Gasoline","Wyoming","WyomingGasoline",2.4079999999999999,"$/ gallon"]
[null,null,null,null,null,null,null,null,null,null,null,null,"Gasoline","Alaska","AlaskaGasoline",2.65,"$/ gallon"]
[null,null,null,null,null,null,null,null,null,null,null,null,"Gasoline","California","CaliforniaGasoline",2.9780000000000002,"$/ gallon"]
[null,null,null,null,null,null,null,null,null,null,null,null,"Gasoline","Hawaii","HawaiiGasoline",2.65,"$/ gallon"]
[null,null,null,null,null,null,null,null,null,null,null,null,"Gasoline","Oregon","OregonGasoline",2.65,"$/ gallon"]
[null,null,null,null,null,null,null,null,null,null,null,null,"Gasoline","Washington","WashingtonGasoline",2.65,"$/ gallon"]
[null,null,null,null,null,null,null,null,null,null,null,null,null,null,"United StatesPlease select","Not applicable"]
[null,null,null,null,null,null,null,null,null,null,null,null,null,null,"United StatesNot applicable","Not applicable"]
[null,null,null,null,null,null,null,null,null,null,null,null,null,null,"Please selectPlease select","Not applicable"]
[null,null,null,null,null,null,null,null,null,null,null,null,null,null,"Not applicablePlease select","Not applicable"]
[null,null,null,null,null,null,null,null,null,null,null,null,null,null,"Not applicableNot applicable","Not applicable"]
[null,null,null,null,null,null,null,null,null,null,null,null,null,null,"Please selectNot applicable","Not applicable"]
[null,null,null,null,null,null,null,null,null,null,null,null,null,null,"Please selectNatural gas","Not applicable"]
[null,null,null,null,null,null,null,null,null,null,null,null,null,null,"Please selectDiesel","Not applicable"]
[null,null,null,null,null,null,null,null,null,null,null,null,null,null,"Please selectGasoline","Not applicable"]
[null,null,null,null,null,null,null,null,null,null,null,null,null,null,"ConnecticutPlease select","Not applicable"]
[null,null,null,null,null,null,null,null,null,null,null,null,null,null,"MainePlease select","Not applicable"]
[null,null,null,null,null,null,null,null,null,null,null,null,null,null,"MassachusettsPlease select","Not applicable"]
[null,null,null,null,null,null,null,null,null,null,null,null,null,null,"New HampshirePlease select","Not applicable"]
[null,null,null,null,null,null,null,null,null,null,null,null,null,null,"Rhode IslandPlease select","Not applicable"]
[null,null,null,null,null,null,null,null,null,null,null,null,null,null,"VermontPlease select","Not applicable"]
[null,null,null,null,null,null,null,null,null,null,null,null,null,null,"New JerseyPlease select","Not applicable"]
[null,null,null,null,null,null,null,null,null,null,null,null,null,null,"New YorkPlease select","Not applicable"]
[null,null,null,null,null,null,null,null,null,null,null,null,null,null,"PennsylvaniaPlease select","Not applicable"]
[null,null,null,null,null,null,null,null,null,null,null,null,null,null,"IndianaPlease select","Not applicable"]
[null,null,null,null,null,null,null,null,null,null,null,null,null,null,"IllinoisPlease select","Not applicable"]
[null,null,null,null,null,null,null,null,null,null,null,null,null,null,"MichiganPlease select","Not applicable"]
[null,null,null,null,null,null,null,null,null,null,null,null,null,null,"OhioPlease select","Not applicable"]
[null,null,null,null,null,null,null,null,null,null,null,null,null,null,"WisconsinPlease select","Not applicable"]
[null,null,null,null,null,null,null,null,null,null,null,null,null,null,"IowaPlease select","Not applicable"]
[null,null,null,null,null,null,null,null,null,null,null,null,null,null,"KansasPlease select","Not applicable"]
[null,null,null,null,null,null,null,null,null,null,null,null,null,null,"MinnesotaPlease select","Not applicable"]
[null,null,null,null,null,null,null,null,null,null,null,null,null,null,"MissouriPlease select","Not applicable"]
[null,null,null,null,null,null,null,null,null,null,null,null,null,null,"NebraskaPlease select","Not applicable"]
[null,null,null,null,null,null,null,null,null,null,null,null,null,null,"North DakotaPlease select","Not applicable"]
[null,null,null,null,null,null,null,null,null,null,null,null,null,null,"South DakotaPlease select","Not applicable"]
[null,null,null,null,null,null,null,null,null,null,null,null,null,null,"DelawarePlease select","Not applicable"]
[null,null,null,null,null,null,null,null,null,null,null,null,null,null,"District of ColumbiaPlease select","Not applicable"]
[null,null,null,null,null,null,null,null,null,null,null,null,null,null,"FloridaPlease select","Not applicable"]
[null,null,null,null,null,null,null,null,null,null,null,null,null,null,"GeorgiaPlease select","Not applicable"]
[null,null,null,null,null,null,null,null,null,null,null,null,null,null,"MarylandPlease select","Not applicable"]
[null,null,null,null,null,null,null,null,null,null,null,null,null,null,"North CarolinaPlease select","Not applicable"]
[null,null,null,null,null,null,null,null,null,null,null,null,null,null,"South CarolinaPlease select","Not applicable"]
[null,null,null,null,null,null,null,null,null,null,null,null,null,null,"VirginiaPlease select","Not applicable"]
[null,null,null,null,null,null,null,null,null,null,null,null,null,null,"West VirginiaPlease select","Not applicable"]
[null,null,null,null,null,null,null,null,null,null,null,null,null,null,"AlabamaPlease select","Not applicable"]
[null,null,null,null,null,null,null,null,null,null,null,null,null,null,"KentuckyPlease select","Not applicable"]
[null,null,null,null,null,null,null,null,null,null,null,null,null,null,"MississippiPlease select","Not applicable"]
[null,null,null,null,null,null,null,null,null,null,null,null,null,null,"TennesseePlease select","Not applicable"]
[null,null,null,null,null,null,null,null,null,null,null,null,null,null,"ArkansasPlease select","Not applicable"]
[null,null,null,null,null,null,null,null,null,null,null,null,null,null,"LouisianaPlease select","Not applicable"]
[null,null,null,null,null,null,null,null,null,null,null,null,null,null,"OklahomaPlease select","Not applicable"]
[null,null,null,null,null,null,null,null,null,null,null,null,null,null,"TexasPlease select","Not applicable"]
[null,null,null,null,null,null,null,null,null,null,null,null,null,null,"ArizonaPlease select","Not applicable"]
[null,null,null,null,null,null,null,null,null,null,null,null,null,null,"ColoradoPlease select","Not applicable"]
[null,null,null,null,null,null,null,null,null,null,null,null,null,null,"IdahoPlease select","Not applicable"]
[null,null,null,null,null,null,null,null,null,null,null,null,null,null,"New MexicoPlease select","Not applicable"]
[null,null,null,null,null,null,null,null,null,null,null,null,null,null,"MontanaPlease select","Not applicable"]
[null,null,null,null,null,null,null,null,null,null,null,null,null,null,"UtahPlease select","Not applicable"]
[null,null,null,null,null,null,null,null,null,null,null,null,null,null,"NevadaPlease select","Not applicable"]
[null,null,null,null,null,null,null,null,null,null,null,null,null,null,"WyomingPlease select","Not applicable"]
[null,null,null,null,null,null,null,null,null,null,null,null,null,null,"AlaskaPlease select","Not applicable"]
[null,null,null,null,null,null,null,null,null,null,null,null,null,null,"CaliforniaPlease select","Not applicable"]
[null,null,null,null,null,null,null,null,null,null,null,null,null,null,"HawaiiPlease select","Not applicable"]
[null,null,null,null,null,null,null,null,null,null,null,null,null,null,"OregonPlease select","Not applicable"]
[null,null,null,null,null,null,null,null,null,null,null,null,null,null,"WashingtonPlease select","Not applicable"]
[null,null,null,null,null,null,null,null,null,null,null,null,null,null,"ConnecticutNot applicable","Not applicable"]
[null,null,null,null,null,null,null,null,null,null,null,null,null,null,"MaineNot applicable","Not applicable"]
[null,null,null,null,null,null,null,null,null,null,null,null,null,null,"MassachusettsNot applicable","Not applicable"]
[null,null,null,null,null,null,null,null,null,null,null,null,null,null,"New HampshireNot applicable","Not applicable"]
[null,null,null,null,null,null,null,null,null,null,null,null,null,null,"Rhode IslandNot applicable","Not applicable"]
[null,null,null,null,null,null,null,null,null,null,null,null,null,null,"VermontNot applicable","Not applicable"]
[null,null,null,null,null,null,null,null,null,null,null,null,null,null,"New JerseyNot applicable","Not applicable"]
[null,null,null,null,null,null,null,null,null,null,null,null,null,null,"New YorkNot applicable","Not applicable"]
[null,null,null,null,null,null,null,null,null,null,null,null,null,null,"PennsylvaniaNot applicable","Not applicable"]
[null,null,null,null,null,null,null,null,null,null,null,null,null,null,"IndianaNot applicable","Not applicable"]
[null,null,null,null,null,null,null,null,null,null,null,null,null,null,"IllinoisNot applicable","Not applicable"]
[null,null,null,null,null,null,null,null,null,null,null,null,null,null,"MichiganNot applicable","Not applicable"]
[null,null,null,null,null,null,null,null,null,null,null,null,null,null,"OhioNot applicable","Not applicable"]
[null,null,null,null,null,null,null,null,null,null,null,null,null,null,"WisconsinNot applicable","Not applicable"]
[null,null,null,null,null,null,null,null,null,null,null,null,null,null,"IowaNot applicable","Not applicable"]
[null,null,null,null,null,null,null,null,null,null,null,null,null,null,"KansasNot applicable","Not applicable"]
[null,null,null,null,null,null,null,null,null,null,null,null,null,null,"MinnesotaNot applicable","Not applicable"]
[null,null,null,null,null,null,null,null,null,null,null,null,null,null,"MissouriNot applicable","Not applicable"]
[null,null,null,null,null,null,null,null,null,null,null,null,null,null,"NebraskaNot applicable","Not applicable"]
[null,null,null,null,null,null,null,null,null,null,null,null,null,null,"North DakotaNot applicable","Not applicable"]
[null,null,null,null,null,null,null,null,null,null,null,null,null,null,"South DakotaNot applicable","Not applicable"]
[null,null,null,null,null,null,null,null,null,null,null,null,null,null,"DelawareNot applicable","Not applicable"]
[null,null,null,null,null,null,null,null,null,null,null,null,null,null,"District of ColumbiaNot applicable","Not applicable"]
[null,null,null,null,null,null,null,null,null,null,null,null,null,null,"FloridaNot applicable","Not applicable"]
[null,null,null,null,null,null,null,null,null,null,null,null,null,null,"GeorgiaNot applicable","Not applicable"]
[null,null,null,null,null,null,null,null,null,null,null,null,null,null,"MarylandNot applicable","Not applicable"]
[null,null,null,null,null,null,null,null,null,null,null,null,null,null,"North CarolinaNot applicable","Not applicable"]
[null,null,null,null,null,null,null,null,null,null,null,null,null,null,"South CarolinaNot applicable","Not applicable"]
[null,null,null,null,null,null,null,null,null,null,null,null,null,null,"VirginiaNot applicable","Not applicable"]
[null,null,null,null,null,null,null,null,null,null,null,null,null,null,"West VirginiaNot applicable","Not applicable"]
[null,null,null,null,null,null,null,null,null,null,null,null,null,null,"AlabamaNot applicable","Not applicable"]
[null,null,null,null,null,null,null,null,null,null,null,null,null,null,"KentuckyNot applicable","Not applicable"]
[null,null,null,null,null,null,null,null,null,null,null,null,null,null,"MississippiNot applicable","Not applicable"]
[null,null,null,null,null,null,null,null,null,null,null,null,null,null,"TennesseeNot applicable","Not applicable"]
[null,null,null,null,null,null,null,null,null,null,null,null,null,null,"ArkansasNot applicable","Not applicable"]
[null,null,null,null,null,null,null,null,null,null,null,null,null,null,"LouisianaNot applicable","Not applicable"]
[null,null,null,null,null,null,null,null,null,null,null,null,null,null,"OklahomaNot applicable","Not applicable"]
[null,null,null,null,null,null,null,null,null,null,null,null,null,null,"TexasNot applicable","Not applicable"]
[null,null,null,null,null,null,null,null,null,null,null,null,null,null,"ArizonaNot applicable","Not applicable"]
[null,null,null,null,null,null,null,null,null,null,null,null,null,null,"ColoradoNot applicable","Not applicable"]
[null,null,null,null,null,null,null,null,null,null,null,null,null,null,"IdahoNot applicable","Not applicable"]
[null,null,null,null,null,null,null,null,null,null,null,null,null,null,"New MexicoNot applicable","Not applicable"]
[null,null,null,null,null,null,null,null,null,null,null,null,null,null,"MontanaNot applicable","Not applicable"]
[null,null,null,null,null,null,null,null,null,null,null,null,null,null,"UtahNot applicable","Not applicable"]
[null,null,null,null,null,null,null,null,null,null,null,null,null,null,"NevadaNot applicable","Not applicable"]
[null,null,null,null,null,null,null,null,null,null,null,null,null,null,"WyomingNot applicable","Not applicable"]
[null,null,null,null,null,null,null,null,null,null,null,null,null,null,"AlaskaNot applicable","Not applicable"]
[null,null,null,null,null,null,null,null,null,null,null,null,null,null,"CaliforniaNot applicable","Not applicable"]
[null,null,null,null,null,null,null,null,null,null,null,null,null,null,"HawaiiNot applicable","Not applicable"]
[null,null,null,null,null,null,null,null,null,null,null,null,null,null,"OregonNot applicable","Not applicable"]
[null,null,null,null,null,null,null,null,null,null,null,null,null,null,"WashingtonNot applicable","Not applicable"]
[null,null,null,null,null,null,null,null,null,null,null,null,null,null,"Natural gas","Not applicable"]
[null,null,null,null,null,null,null,null,null,null,null,null,null,null,"Diesel","Not applicable"]
[null,null,null,null,null,null,null,null,null,null,null,null,null,null,"Gasoline","Not applicable"]
[null,null,null,null,null,null,null,null,null,null,null,null,null,null,"United States","Not applicable"]
[null,null,null,null,null,null,null,null,null,null,null,null,null,null,"Connecticut","Not applicable"]
[null,null,null,null,null,null,null,null,null,null,null,null,null,null,"Maine","Not applicable"]
[null,null,null,null,null,null,null,null,null,null,null,null,null,null,"Massachusetts","Not applicable"]
[null,null,null,null,null,null,null,null,null,null,null,null,null,null,"New Hampshire","Not applicable"]
[null,null,null,null,null,null,null,null,null,null,null,null,null,null,"Rhode Island","Not applicable"]
[null,null,null,null,null,null,null,null,null,null,null,null,null,null,"Vermont","Not applicable"]
[null,null,null,null,null,null,null,null,null,null,null,null,null,null,"New Jersey","Not applicable"]
[null,null,null,null,null,null,null,null,null,null,null,null,null,null,"New York","Not applicable"]
[null,null,null,null,null,null,null,null,null,null,null,null,null,null,"Pennsylvania","Not applicable"]
[null,null,null,null,null,null,null,null,null,null,null,null,null,null,"Indiana","Not applicable"]
[null,null,null,null,null,null,null,null,null,null,null,null,null,null,"Illinois","Not applicable"]
[null,null,null,null,null,null,null,null,null,null,null,null,null,null,"Michigan","Not applicable"]
[null,null,null,null,null,null,null,null,null,null,null,null,null,null,"Ohio","Not applicable"]
[null,null,null,null,null,null,null,null,null,null,null,null,null,null,"Wisconsin","Not applicable"]
[null,null,null,null,null,null,null,null,null,null,null,null,null,null,"Iowa","Not applicable"]
[null,null,null,null,null,null,null,null,null,null,null,null,null,null,"Kansas","Not applicable"]
[null,null,null,null,null,null,null,null,null,null,null,null,null,null,"Minnesota","Not applicable"]
[null,null,null,null,null,null,null,null,null,null,null,null,null,null,"Missouri","Not applicable"]
[null,null,null,null,null,null,null,null,null,null,null,null,null,null,"Nebraska","Not applicable"]
[null,null,null,null,null,null,null,null,null,null,null,null,null,null,"North Dakota","Not applicable"]
[null,null,null,null,null,null,null,null,null,null,null,null,null,null,"South Dakota","Not applicable"]
[null,null,null,null,null,null,null,null,null,null,null,null,null,null,"Delaware","Not applicable"]
[null,null,null,null,null,null,null,null,null,null,null,null,null,null,"District of Columbia","Not applicable"]
[null,null,null,null,null,null,null,null,null,null,null,null,null,null,"Florida","Not applicable"]
[null,null,null,null,null,null,null,null,null,null,null,null,null,null,"Georgia","Not applicable"]
[null,null,null,null,null,null,null,null,null,null,null,null,null,null,"Maryland","Not applicable"]
[null,null,null,null,null,null,null,null,null,null,null,null,null,null,"North Carolina","Not applicable"]
[null,null,null,null,null,null,null,null,null,null,null,null,null,null,"South Carolina","Not applicable"]
[null,null,null,null,null,null,null,null,null,null,null,null,null,null,"Virginia","Not applicable"]
[null,null,null,null,null,null,null,null,null,null,null,null,null,null,"West Virginia","Not applicable"]
[null,null,null,null,null,null,null,null,null,null,null,null,null,null,"Alabama","Not applicable"]
[null,null,null,null,null,null,null,null,null,null,null,null,null,null,"Kentucky","Not applicable"]
[null,null,null,null,null,null,null,null,null,null,null,null,null,null,"Mississippi","Not applicable"]
[null,null,null,null,null,null,null,null,null,null,null,null,null,null,"Tennessee","Not applicable"]
[null,null,null,null,null,null,null,null,null,null,null,null,null,null,"Arkansas","Not applicable"]
[null,null,null,null,null,null,null,null,null,null,null,null,null,null,"Louisiana","Not applicable"]
[null,null,null,null,null,null,null,null,null,null,null,null,null,null,"Oklahoma","Not applicable"]
[null,null,null,null,null,null,null,null,null,null,null,null,null,null,"Texas","Not applicable"]
[null,null,null,null,null,null,null,null,null,null,null,null,null,null,"Arizona","Not applicable"]
[null,null,null,null,null,null,null,null,null,null,null,null,null,null,"Colorado","Not applicable"]
[null,null,null,null,null,null,null,null,null,null,null,null,null,null,"Idaho","Not applicable"]
[null,null,null,null,null,null,null,null,null,null,null,null,null,null,"New Mexico","Not applicable"]
[null,null,null,null,null,null,null,null,null,null,null,null,null,null,"Montana","Not applicable"]
[null,null,null,null,null,null,null,null,null,null,null,null,null,null,"Utah","Not applicable"]
[null,null,null,null,null,null,null,null,null,null,null,null,null,null,"Nevada","Not applicable"]
[null,null,null,null,null,null,null,null,null,null,null,null,null,null,"Wyoming","Not applicable"]
[null,null,null,null,null,null,null,null,null,null,null,null,null,null,"Alaska","Not applicable"]
[null,null,null,null,null,null,null,null,null,null,null,null,null,null,"California","Not applicable"]
[null,null,null,null,null,null,null,null,null,null,null,null,null,null,"Hawaii","Not applicable"]
[null,null,null,null,null,null,null,null,null,null,null,null,null,null,"Oregon","Not applicable"]
[null,null,null,null,null,null,null,null,null,null,null,null,null,null,"Washington","Not applicable"]

{"sheet":"Dropdown","index":12,"n_rows":10005,"n_cols":14,"rows_kept":4500,"cut":true,"hidden":true,"merged":[],"bounds":{"rows_first":2000,"rows_last":500,"rows_between":2000,"halvings":0}}
["TAB TO BE HIDDEN"]
[]
["YesNo",null,null,"FuelType",null,"WasteType",null,"DiscountRate",null,"TimeHorizon",null,"UsState",null,"Numbers"]
["Please select",null,null,"Please select",null,"Please select",null,"Please select",null,"Please select",null,"Please select",null,"Please select"]
["Yes",null,null,"Natural gas",null,"Solid waste",null,1,null,1,null,"United States",null,1]
["No",null,null,"Diesel",null,"Recycling waste",null,2,null,2,null,"Alabama",null,2]
[null,null,null,"Gasoline",null,"Regulated Medical Waste",null,3,null,3,null,"Alaska",null,3]
[null,null,null,"Not applicable",null,"Hazardous waste",null,4,null,4,null,"Arizona",null,4]
[null,null,null,null,null,"Non-RCRA Pharmaceutical waste",null,5,null,5,null,"Arkansas",null,5]
[null,null,null,null,null,"RCRA Pharmaceutical waste",null,6,null,6,null,"California",null,6]
[null,null,null,null,null,"Composting waste",null,7,null,7,null,"Colorado",null,7]
[null,null,null,null,null,"Universal waste (cost)",null,8,null,8,null,"Connecticut",null,8]
[null,null,null,null,null,"Universal waste (revenue)",null,9,null,9,null,"Delaware",null,9]
[null,null,null,null,null,"Universal waste (unknown)",null,10,null,10,null,"District of Columbia",null,10]
[null,null,null,null,null,"Not applicable",null,null,null,11,null,"Florida",null,11]
[null,null,null,null,null,null,null,null,null,12,null,"Georgia",null,12]
[null,null,null,null,null,null,null,null,null,13,null,"Hawaii",null,13]
[null,null,null,null,null,null,null,null,null,14,null,"Idaho",null,14]
[null,null,null,null,null,null,null,null,null,15,null,"Illinois",null,15]
[null,null,null,null,null,null,null,null,null,16,null,"Indiana",null,16]
[null,null,null,null,null,null,null,null,null,17,null,"Iowa",null,17]
[null,null,null,null,null,null,null,null,null,18,null,"Kansas",null,18]
[null,null,null,null,null,null,null,null,null,19,null,"Kentucky",null,19]
[null,null,null,null,null,null,null,null,null,20,null,"Louisiana",null,20]
[null,null,null,null,null,null,null,null,null,null,null,"Maine",null,21]
[null,null,null,null,null,null,null,null,null,null,null,"Maryland",null,22]
[null,null,null,null,null,null,null,null,null,null,null,"Massachusetts",null,23]
[null,null,null,null,null,null,null,null,null,null,null,"Michigan",null,24]
[null,null,null,null,null,null,null,null,null,null,null,"Minnesota",null,25]
[null,null,null,null,null,null,null,null,null,null,null,"Mississippi",null,26]
[null,null,null,null,null,null,null,null,null,null,null,"Missouri",null,27]
[null,null,null,null,null,null,null,null,null,null,null,"Montana",null,28]
[null,null,null,null,null,null,null,null,null,null,null,"Nebraska",null,29]
[null,null,null,null,null,null,null,null,null,null,null,"Nevada",null,30]
[null,null,null,null,null,null,null,null,null,null,null,"New Hampshire",null,31]
[null,null,null,null,null,null,null,null,null,null,null,"New Jersey",null,32]
[null,null,null,null,null,null,null,null,null,null,null,"New Mexico",null,33]
[null,null,null,null,null,null,null,null,null,null,null,"New York",null,34]
[null,null,null,null,null,null,null,null,null,null,null,"North Carolina",null,35]
[null,null,null,null,null,null,null,null,null,null,null,"North Dakota",null,36]
[null,null,null,null,null,null,null,null,null,null,null,"Ohio",null,37]
[null,null,null,null,null,null,null,null,null,null,null,"Oklahoma",null,38]
[null,null,null,null,null,null,null,null,null,null,null,"Oregon",null,39]
[null,null,null,null,null,null,null,null,null,null,null,"Pennsylvania",null,40]
[null,null,null,null,null,null,null,null,null,null,null,"Rhode Island",null,41]
[null,null,null,null,null,null,null,null,null,null,null,"South Carolina",null,42]
[null,null,null,null,null,null,null,null,null,null,null,"South Dakota",null,43]
[null,null,null,null,null,null,null,null,null,null,null,"Tennessee",null,44]
[null,null,null,null,null,null,null,null,null,null,null,"Texas",null,45]
[null,null,null,null,null,null,null,null,null,null,null,"Utah",null,46]
[null,null,null,null,null,null,null,null,null,null,null,"Vermont",null,47]
[null,null,null,null,null,null,null,null,null,null,null,"Virginia",null,48]
[null,null,null,null,null,null,null,null,null,null,null,"Washington",null,49]
[null,null,null,null,null,null,null,null,null,null,null,"West Virginia",null,50]
[null,null,null,null,null,null,null,null,null,null,null,"Wisconsin",null,51]
[null,null,null,null,null,null,null,null,null,null,null,"Wyoming",null,52]
[null,null,null,null,null,null,null,null,null,null,null,null,null,53]
[null,null,null,null,null,null,null,null,null,null,null,null,null,54]
[null,null,null,null,null,null,null,null,null,null,null,null,null,55]
[null,null,null,null,null,null,null,null,null,null,null,null,null,56]
[null,null,null,null,null,null,null,null,null,null,null,null,null,57]
[null,null,null,null,null,null,null,null,null,null,null,null,null,58]
[null,null,null,null,null,null,null,null,null,null,null,null,null,59]
[null,null,null,null,null,null,null,null,null,null,null,null,null,60]
[null,null,null,null,null,null,null,null,null,null,null,null,null,61]
[null,null,null,null,null,null,null,null,null,null,null,null,null,62]
[null,null,null,null,null,null,null,null,null,null,null,null,null,63]
[null,null,null,null,null,null,null,null,null,null,null,null,null,64]
[null,null,null,null,null,null,null,null,null,null,null,null,null,65]
[null,null,null,null,null,null,null,null,null,null,null,null,null,66]
[null,null,null,null,null,null,null,null,null,null,null,null,null,67]
[null,null,null,null,null,null,null,null,null,null,null,null,null,68]
[null,null,null,null,null,null,null,null,null,null,null,null,null,69]
[null,null,null,null,null,null,null,null,null,null,null,null,null,70]
[null,null,null,null,null,null,null,null,null,null,null,null,null,71]
[null,null,null,null,null,null,null,null,null,null,null,null,null,72]
[null,null,null,null,null,null,null,null,null,null,null,null,null,73]
[null,null,null,null,null,null,null,null,null,null,null,null,null,74]
[null,null,null,null,null,null,null,null,null,null,null,null,null,75]
[null,null,null,null,null,null,null,null,null,null,null,null,null,76]
[null,null,null,null,null,null,null,null,null,null,null,null,null,77]
[null,null,null,null,null,null,null,null,null,null,null,null,null,78]
[null,null,null,null,null,null,null,null,null,null,null,null,null,79]
[null,null,null,null,null,null,null,null,null,null,null,null,null,80]
[null,null,null,null,null,null,null,null,null,null,null,null,null,81]
[null,null,null,null,null,null,null,null,null,null,null,null,null,82]
[null,null,null,null,null,null,null,null,null,null,null,null,null,83]
[null,null,null,null,null,null,null,null,null,null,null,null,null,84]
[null,null,null,null,null,null,null,null,null,null,null,null,null,85]
[null,null,null,null,null,null,null,null,null,null,null,null,null,86]
[null,null,null,null,null,null,null,null,null,null,null,null,null,87]
[null,null,null,null,null,null,null,null,null,null,null,null,null,88]
[null,null,null,null,null,null,null,null,null,null,null,null,null,89]
[null,null,null,null,null,null,null,null,null,null,null,null,null,90]
[null,null,null,null,null,null,null,null,null,null,null,null,null,91]
[null,null,null,null,null,null,null,null,null,null,null,null,null,92]
[null,null,null,null,null,null,null,null,null,null,null,null,null,93]
[null,null,null,null,null,null,null,null,null,null,null,null,null,94]
[null,null,null,null,null,null,null,null,null,null,null,null,null,95]
[null,null,null,null,null,null,null,null,null,null,null,null,null,96]
[null,null,null,null,null,null,null,null,null,null,null,null,null,97]
[null,null,null,null,null,null,null,null,null,null,null,null,null,98]
[null,null,null,null,null,null,null,null,null,null,null,null,null,99]
[null,null,null,null,null,null,null,null,null,null,null,null,null,100]
[null,null,null,null,null,null,null,null,null,null,null,null,null,101]
[null,null,null,null,null,null,null,null,null,null,null,null,null,102]
[null,null,null,null,null,null,null,null,null,null,null,null,null,103]
[null,null,null,null,null,null,null,null,null,null,null,null,null,104]
[null,null,null,null,null,null,null,null,null,null,null,null,null,105]
[null,null,null,null,null,null,null,null,null,null,null,null,null,106]
[null,null,null,null,null,null,null,null,null,null,null,null,null,107]
[null,null,null,null,null,null,null,null,null,null,null,null,null,108]
[null,null,null,null,null,null,null,null,null,null,null,null,null,109]
[null,null,null,null,null,null,null,null,null,null,null,null,null,110]
[null,null,null,null,null,null,null,null,null,null,null,null,null,111]
[null,null,null,null,null,null,null,null,null,null,null,null,null,112]
[null,null,null,null,null,null,null,null,null,null,null,null,null,113]
[null,null,null,null,null,null,null,null,null,null,null,null,null,114]
[null,null,null,null,null,null,null,null,null,null,null,null,null,115]
[null,null,null,null,null,null,null,null,null,null,null,null,null,116]
[null,null,null,null,null,null,null,null,null,null,null,null,null,117]
[null,null,null,null,null,null,null,null,null,null,null,null,null,118]
[null,null,null,null,null,null,null,null,null,null,null,null,null,119]
[null,null,null,null,null,null,null,null,null,null,null,null,null,120]
[null,null,null,null,null,null,null,null,null,null,null,null,null,121]
[null,null,null,null,null,null,null,null,null,null,null,null,null,122]
[null,null,null,null,null,null,null,null,null,null,null,null,null,123]
[null,null,null,null,null,null,null,null,null,null,null,null,null,124]
[null,null,null,null,null,null,null,null,null,null,null,null,null,125]
[null,null,null,null,null,null,null,null,null,null,null,null,null,126]
[null,null,null,null,null,null,null,null,null,null,null,null,null,127]
[null,null,null,null,null,null,null,null,null,null,null,null,null,128]
[null,null,null,null,null,null,null,null,null,null,null,null,null,129]
[null,null,null,null,null,null,null,null,null,null,null,null,null,130]
[null,null,null,null,null,null,null,null,null,null,null,null,null,131]
[null,null,null,null,null,null,null,null,null,null,null,null,null,132]
[null,null,null,null,null,null,null,null,null,null,null,null,null,133]
[null,null,null,null,null,null,null,null,null,null,null,null,null,134]
[null,null,null,null,null,null,null,null,null,null,null,null,null,135]
[null,null,null,null,null,null,null,null,null,null,null,null,null,136]
[null,null,null,null,null,null,null,null,null,null,null,null,null,137]
[null,null,null,null,null,null,null,null,null,null,null,null,null,138]
[null,null,null,null,null,null,null,null,null,null,null,null,null,139]
[null,null,null,null,null,null,null,null,null,null,null,null,null,140]
[null,null,null,null,null,null,null,null,null,null,null,null,null,141]
[null,null,null,null,null,null,null,null,null,null,null,null,null,142]
[null,null,null,null,null,null,null,null,null,null,null,null,null,143]
[null,null,null,null,null,null,null,null,null,null,null,null,null,144]
[null,null,null,null,null,null,null,null,null,null,null,null,null,145]
[null,null,null,null,null,null,null,null,null,null,null,null,null,146]
[null,null,null,null,null,null,null,null,null,null,null,null,null,147]
[null,null,null,null,null,null,null,null,null,null,null,null,null,148]
[null,null,null,null,null,null,null,null,null,null,null,null,null,149]
[null,null,null,null,null,null,null,null,null,null,null,null,null,150]
[null,null,null,null,null,null,null,null,null,null,null,null,null,151]
[null,null,null,null,null,null,null,null,null,null,null,null,null,152]
[null,null,null,null,null,null,null,null,null,null,null,null,null,153]
[null,null,null,null,null,null,null,null,null,null,null,null,null,154]
[null,null,null,null,null,null,null,null,null,null,null,null,null,155]
[null,null,null,null,null,null,null,null,null,null,null,null,null,156]
[null,null,null,null,null,null,null,null,null,null,null,null,null,157]
[null,null,null,null,null,null,null,null,null,null,null,null,null,158]
[null,null,null,null,null,null,null,null,null,null,null,null,null,159]
[null,null,null,null,null,null,null,null,null,null,null,null,null,160]
[null,null,null,null,null,null,null,null,null,null,null,null,null,161]
[null,null,null,null,null,null,null,null,null,null,null,null,null,162]
[null,null,null,null,null,null,null,null,null,null,null,null,null,163]
[null,null,null,null,null,null,null,null,null,null,null,null,null,164]
[null,null,null,null,null,null,null,null,null,null,null,null,null,165]
[null,null,null,null,null,null,null,null,null,null,null,null,null,166]
[null,null,null,null,null,null,null,null,null,null,null,null,null,167]
[null,null,null,null,null,null,null,null,null,null,null,null,null,168]
[null,null,null,null,null,null,null,null,null,null,null,null,null,169]
[null,null,null,null,null,null,null,null,null,null,null,null,null,170]
[null,null,null,null,null,null,null,null,null,null,null,null,null,171]
[null,null,null,null,null,null,null,null,null,null,null,null,null,172]
[null,null,null,null,null,null,null,null,null,null,null,null,null,173]
[null,null,null,null,null,null,null,null,null,null,null,null,null,174]
[null,null,null,null,null,null,null,null,null,null,null,null,null,175]
[null,null,null,null,null,null,null,null,null,null,null,null,null,176]
[null,null,null,null,null,null,null,null,null,null,null,null,null,177]
[null,null,null,null,null,null,null,null,null,null,null,null,null,178]
[null,null,null,null,null,null,null,null,null,null,null,null,null,179]
[null,null,null,null,null,null,null,null,null,null,null,null,null,180]
[null,null,null,null,null,null,null,null,null,null,null,null,null,181]
[null,null,null,null,null,null,null,null,null,null,null,null,null,182]
[null,null,null,null,null,null,null,null,null,null,null,null,null,183]
[null,null,null,null,null,null,null,null,null,null,null,null,null,184]
[null,null,null,null,null,null,null,null,null,null,null,null,null,185]
[null,null,null,null,null,null,null,null,null,null,null,null,null,186]
[null,null,null,null,null,null,null,null,null,null,null,null,null,187]
[null,null,null,null,null,null,null,null,null,null,null,null,null,188]
[null,null,null,null,null,null,null,null,null,null,null,null,null,189]
[null,null,null,null,null,null,null,null,null,null,null,null,null,190]
[null,null,null,null,null,null,null,null,null,null,null,null,null,191]
[null,null,null,null,null,null,null,null,null,null,null,null,null,192]
[null,null,null,null,null,null,null,null,null,null,null,null,null,193]
[null,null,null,null,null,null,null,null,null,null,null,null,null,194]
[null,null,null,null,null,null,null,null,null,null,null,null,null,195]
[null,null,null,null,null,null,null,null,null,null,null,null,null,196]
[null,null,null,null,null,null,null,null,null,null,null,null,null,197]
[null,null,null,null,null,null,null,null,null,null,null,null,null,198]
[null,null,null,null,null,null,null,null,null,null,null,null,null,199]
[null,null,null,null,null,null,null,null,null,null,null,null,null,200]
[null,null,null,null,null,null,null,null,null,null,null,null,null,201]
[null,null,null,null,null,null,null,null,null,null,null,null,null,202]
[null,null,null,null,null,null,null,null,null,null,null,null,null,203]
[null,null,null,null,null,null,null,null,null,null,null,null,null,204]
[null,null,null,null,null,null,null,null,null,null,null,null,null,205]
[null,null,null,null,null,null,null,null,null,null,null,null,null,206]
[null,null,null,null,null,null,null,null,null,null,null,null,null,207]
[null,null,null,null,null,null,null,null,null,null,null,null,null,208]
[null,null,null,null,null,null,null,null,null,null,null,null,null,209]
[null,null,null,null,null,null,null,null,null,null,null,null,null,210]
[null,null,null,null,null,null,null,null,null,null,null,null,null,211]
[null,null,null,null,null,null,null,null,null,null,null,null,null,212]
[null,null,null,null,null,null,null,null,null,null,null,null,null,213]
[null,null,null,null,null,null,null,null,null,null,null,null,null,214]
[null,null,null,null,null,null,null,null,null,null,null,null,null,215]
[null,null,null,null,null,null,null,null,null,null,null,null,null,216]
[null,null,null,null,null,null,null,null,null,null,null,null,null,217]
[null,null,null,null,null,null,null,null,null,null,null,null,null,218]
[null,null,null,null,null,null,null,null,null,null,null,null,null,219]
[null,null,null,null,null,null,null,null,null,null,null,null,null,220]
[null,null,null,null,null,null,null,null,null,null,null,null,null,221]
[null,null,null,null,null,null,null,null,null,null,null,null,null,222]
[null,null,null,null,null,null,null,null,null,null,null,null,null,223]
[null,null,null,null,null,null,null,null,null,null,null,null,null,224]
[null,null,null,null,null,null,null,null,null,null,null,null,null,225]
[null,null,null,null,null,null,null,null,null,null,null,null,null,226]
[null,null,null,null,null,null,null,null,null,null,null,null,null,227]
[null,null,null,null,null,null,null,null,null,null,null,null,null,228]
[null,null,null,null,null,null,null,null,null,null,null,null,null,229]
[null,null,null,null,null,null,null,null,null,null,null,null,null,230]
[null,null,null,null,null,null,null,null,null,null,null,null,null,231]
[null,null,null,null,null,null,null,null,null,null,null,null,null,232]
[null,null,null,null,null,null,null,null,null,null,null,null,null,233]
[null,null,null,null,null,null,null,null,null,null,null,null,null,234]
[null,null,null,null,null,null,null,null,null,null,null,null,null,235]
[null,null,null,null,null,null,null,null,null,null,null,null,null,236]
[null,null,null,null,null,null,null,null,null,null,null,null,null,237]
[null,null,null,null,null,null,null,null,null,null,null,null,null,238]
[null,null,null,null,null,null,null,null,null,null,null,null,null,239]
[null,null,null,null,null,null,null,null,null,null,null,null,null,240]
[null,null,null,null,null,null,null,null,null,null,null,null,null,241]
[null,null,null,null,null,null,null,null,null,null,null,null,null,242]
[null,null,null,null,null,null,null,null,null,null,null,null,null,243]
[null,null,null,null,null,null,null,null,null,null,null,null,null,244]
[null,null,null,null,null,null,null,null,null,null,null,null,null,245]
[null,null,null,null,null,null,null,null,null,null,null,null,null,246]
[null,null,null,null,null,null,null,null,null,null,null,null,null,247]
[null,null,null,null,null,null,null,null,null,null,null,null,null,248]
[null,null,null,null,null,null,null,null,null,null,null,null,null,249]
[null,null,null,null,null,null,null,null,null,null,null,null,null,250]
[null,null,null,null,null,null,null,null,null,null,null,null,null,251]
[null,null,null,null,null,null,null,null,null,null,null,null,null,252]
[null,null,null,null,null,null,null,null,null,null,null,null,null,253]
[null,null,null,null,null,null,null,null,null,null,null,null,null,254]
[null,null,null,null,null,null,null,null,null,null,null,null,null,255]
[null,null,null,null,null,null,null,null,null,null,null,null,null,256]
[null,null,null,null,null,null,null,null,null,null,null,null,null,257]
[null,null,null,null,null,null,null,null,null,null,null,null,null,258]
[null,null,null,null,null,null,null,null,null,null,null,null,null,259]
[null,null,null,null,null,null,null,null,null,null,null,null,null,260]
[null,null,null,null,null,null,null,null,null,null,null,null,null,261]
[null,null,null,null,null,null,null,null,null,null,null,null,null,262]
[null,null,null,null,null,null,null,null,null,null,null,null,null,263]
[null,null,null,null,null,null,null,null,null,null,null,null,null,264]
[null,null,null,null,null,null,null,null,null,null,null,null,null,265]
[null,null,null,null,null,null,null,null,null,null,null,null,null,266]
[null,null,null,null,null,null,null,null,null,null,null,null,null,267]
[null,null,null,null,null,null,null,null,null,null,null,null,null,268]
[null,null,null,null,null,null,null,null,null,null,null,null,null,269]
[null,null,null,null,null,null,null,null,null,null,null,null,null,270]
[null,null,null,null,null,null,null,null,null,null,null,null,null,271]
[null,null,null,null,null,null,null,null,null,null,null,null,null,272]
[null,null,null,null,null,null,null,null,null,null,null,null,null,273]
[null,null,null,null,null,null,null,null,null,null,null,null,null,274]
[null,null,null,null,null,null,null,null,null,null,null,null,null,275]
[null,null,null,null,null,null,null,null,null,null,null,null,null,276]
[null,null,null,null,null,null,null,null,null,null,null,null,null,277]
[null,null,null,null,null,null,null,null,null,null,null,null,null,278]
[null,null,null,null,null,null,null,null,null,null,null,null,null,279]
[null,null,null,null,null,null,null,null,null,null,null,null,null,280]
[null,null,null,null,null,null,null,null,null,null,null,null,null,281]
[null,null,null,null,null,null,null,null,null,null,null,null,null,282]
[null,null,null,null,null,null,null,null,null,null,null,null,null,283]
[null,null,null,null,null,null,null,null,null,null,null,null,null,284]
[null,null,null,null,null,null,null,null,null,null,null,null,null,285]
[null,null,null,null,null,null,null,null,null,null,null,null,null,286]
[null,null,null,null,null,null,null,null,null,null,null,null,null,287]
[null,null,null,null,null,null,null,null,null,null,null,null,null,288]
[null,null,null,null,null,null,null,null,null,null,null,null,null,289]
[null,null,null,null,null,null,null,null,null,null,null,null,null,290]
[null,null,null,null,null,null,null,null,null,null,null,null,null,291]
[null,null,null,null,null,null,null,null,null,null,null,null,null,292]
[null,null,null,null,null,null,null,null,null,null,null,null,null,293]
[null,null,null,null,null,null,null,null,null,null,null,null,null,294]
[null,null,null,null,null,null,null,null,null,null,null,null,null,295]
[null,null,null,null,null,null,null,null,null,null,null,null,null,296]
[null,null,null,null,null,null,null,null,null,null,null,null,null,297]
[null,null,null,null,null,null,null,null,null,null,null,null,null,298]
[null,null,null,null,null,null,null,null,null,null,null,null,null,299]
[null,null,null,null,null,null,null,null,null,null,null,null,null,300]
[null,null,null,null,null,null,null,null,null,null,null,null,null,301]
[null,null,null,null,null,null,null,null,null,null,null,null,null,302]
[null,null,null,null,null,null,null,null,null,null,null,null,null,303]
[null,null,null,null,null,null,null,null,null,null,null,null,null,304]
[null,null,null,null,null,null,null,null,null,null,null,null,null,305]
[null,null,null,null,null,null,null,null,null,null,null,null,null,306]
[null,null,null,null,null,null,null,null,null,null,null,null,null,307]
[null,null,null,null,null,null,null,null,null,null,null,null,null,308]
[null,null,null,null,null,null,null,null,null,null,null,null,null,309]
[null,null,null,null,null,null,null,null,null,null,null,null,null,310]
[null,null,null,null,null,null,null,null,null,null,null,null,null,311]
[null,null,null,null,null,null,null,null,null,null,null,null,null,312]
[null,null,null,null,null,null,null,null,null,null,null,null,null,313]
[null,null,null,null,null,null,null,null,null,null,null,null,null,314]
[null,null,null,null,null,null,null,null,null,null,null,null,null,315]
[null,null,null,null,null,null,null,null,null,null,null,null,null,316]
[null,null,null,null,null,null,null,null,null,null,null,null,null,317]
[null,null,null,null,null,null,null,null,null,null,null,null,null,318]
[null,null,null,null,null,null,null,null,null,null,null,null,null,319]
[null,null,null,null,null,null,null,null,null,null,null,null,null,320]
[null,null,null,null,null,null,null,null,null,null,null,null,null,321]
[null,null,null,null,null,null,null,null,null,null,null,null,null,322]
[null,null,null,null,null,null,null,null,null,null,null,null,null,323]
[null,null,null,null,null,null,null,null,null,null,null,null,null,324]
[null,null,null,null,null,null,null,null,null,null,null,null,null,325]
[null,null,null,null,null,null,null,null,null,null,null,null,null,326]
[null,null,null,null,null,null,null,null,null,null,null,null,null,327]
[null,null,null,null,null,null,null,null,null,null,null,null,null,328]
[null,null,null,null,null,null,null,null,null,null,null,null,null,329]
[null,null,null,null,null,null,null,null,null,null,null,null,null,330]
[null,null,null,null,null,null,null,null,null,null,null,null,null,331]
[null,null,null,null,null,null,null,null,null,null,null,null,null,332]
[null,null,null,null,null,null,null,null,null,null,null,null,null,333]
[null,null,null,null,null,null,null,null,null,null,null,null,null,334]
[null,null,null,null,null,null,null,null,null,null,null,null,null,335]
[null,null,null,null,null,null,null,null,null,null,null,null,null,336]
[null,null,null,null,null,null,null,null,null,null,null,null,null,337]
[null,null,null,null,null,null,null,null,null,null,null,null,null,338]
[null,null,null,null,null,null,null,null,null,null,null,null,null,339]
[null,null,null,null,null,null,null,null,null,null,null,null,null,340]
[null,null,null,null,null,null,null,null,null,null,null,null,null,341]
[null,null,null,null,null,null,null,null,null,null,null,null,null,342]
[null,null,null,null,null,null,null,null,null,null,null,null,null,343]
[null,null,null,null,null,null,null,null,null,null,null,null,null,344]
[null,null,null,null,null,null,null,null,null,null,null,null,null,345]
[null,null,null,null,null,null,null,null,null,null,null,null,null,346]
[null,null,null,null,null,null,null,null,null,null,null,null,null,347]
[null,null,null,null,null,null,null,null,null,null,null,null,null,348]
[null,null,null,null,null,null,null,null,null,null,null,null,null,349]
[null,null,null,null,null,null,null,null,null,null,null,null,null,350]
[null,null,null,null,null,null,null,null,null,null,null,null,null,351]
[null,null,null,null,null,null,null,null,null,null,null,null,null,352]
[null,null,null,null,null,null,null,null,null,null,null,null,null,353]
[null,null,null,null,null,null,null,null,null,null,null,null,null,354]
[null,null,null,null,null,null,null,null,null,null,null,null,null,355]
[null,null,null,null,null,null,null,null,null,null,null,null,null,356]
[null,null,null,null,null,null,null,null,null,null,null,null,null,357]
[null,null,null,null,null,null,null,null,null,null,null,null,null,358]
[null,null,null,null,null,null,null,null,null,null,null,null,null,359]
[null,null,null,null,null,null,null,null,null,null,null,null,null,360]
[null,null,null,null,null,null,null,null,null,null,null,null,null,361]
[null,null,null,null,null,null,null,null,null,null,null,null,null,362]
[null,null,null,null,null,null,null,null,null,null,null,null,null,363]
[null,null,null,null,null,null,null,null,null,null,null,null,null,364]
[null,null,null,null,null,null,null,null,null,null,null,null,null,365]
[null,null,null,null,null,null,null,null,null,null,null,null,null,366]
[null,null,null,null,null,null,null,null,null,null,null,null,null,367]
[null,null,null,null,null,null,null,null,null,null,null,null,null,368]
[null,null,null,null,null,null,null,null,null,null,null,null,null,369]
[null,null,null,null,null,null,null,null,null,null,null,null,null,370]
[null,null,null,null,null,null,null,null,null,null,null,null,null,371]
[null,null,null,null,null,null,null,null,null,null,null,null,null,372]
[null,null,null,null,null,null,null,null,null,null,null,null,null,373]
[null,null,null,null,null,null,null,null,null,null,null,null,null,374]
[null,null,null,null,null,null,null,null,null,null,null,null,null,375]
[null,null,null,null,null,null,null,null,null,null,null,null,null,376]
[null,null,null,null,null,null,null,null,null,null,null,null,null,377]
[null,null,null,null,null,null,null,null,null,null,null,null,null,378]
[null,null,null,null,null,null,null,null,null,null,null,null,null,379]
[null,null,null,null,null,null,null,null,null,null,null,null,null,380]
[null,null,null,null,null,null,null,null,null,null,null,null,null,381]
[null,null,null,null,null,null,null,null,null,null,null,null,null,382]
[null,null,null,null,null,null,null,null,null,null,null,null,null,383]
[null,null,null,null,null,null,null,null,null,null,null,null,null,384]
[null,null,null,null,null,null,null,null,null,null,null,null,null,385]
[null,null,null,null,null,null,null,null,null,null,null,null,null,386]
[null,null,null,null,null,null,null,null,null,null,null,null,null,387]
[null,null,null,null,null,null,null,null,null,null,null,null,null,388]
[null,null,null,null,null,null,null,null,null,null,null,null,null,389]
[null,null,null,null,null,null,null,null,null,null,null,null,null,390]
[null,null,null,null,null,null,null,null,null,null,null,null,null,391]
[null,null,null,null,null,null,null,null,null,null,null,null,null,392]
[null,null,null,null,null,null,null,null,null,null,null,null,null,393]
[null,null,null,null,null,null,null,null,null,null,null,null,null,394]
[null,null,null,null,null,null,null,null,null,null,null,null,null,395]
[null,null,null,null,null,null,null,null,null,null,null,null,null,396]
[null,null,null,null,null,null,null,null,null,null,null,null,null,397]
[null,null,null,null,null,null,null,null,null,null,null,null,null,398]
[null,null,null,null,null,null,null,null,null,null,null,null,null,399]
[null,null,null,null,null,null,null,null,null,null,null,null,null,400]
[null,null,null,null,null,null,null,null,null,null,null,null,null,401]
[null,null,null,null,null,null,null,null,null,null,null,null,null,402]
[null,null,null,null,null,null,null,null,null,null,null,null,null,403]
[null,null,null,null,null,null,null,null,null,null,null,null,null,404]
[null,null,null,null,null,null,null,null,null,null,null,null,null,405]
[null,null,null,null,null,null,null,null,null,null,null,null,null,406]
[null,null,null,null,null,null,null,null,null,null,null,null,null,407]
[null,null,null,null,null,null,null,null,null,null,null,null,null,408]
[null,null,null,null,null,null,null,null,null,null,null,null,null,409]
[null,null,null,null,null,null,null,null,null,null,null,null,null,410]
[null,null,null,null,null,null,null,null,null,null,null,null,null,411]
[null,null,null,null,null,null,null,null,null,null,null,null,null,412]
[null,null,null,null,null,null,null,null,null,null,null,null,null,413]
[null,null,null,null,null,null,null,null,null,null,null,null,null,414]
[null,null,null,null,null,null,null,null,null,null,null,null,null,415]
[null,null,null,null,null,null,null,null,null,null,null,null,null,416]
[null,null,null,null,null,null,null,null,null,null,null,null,null,417]
[null,null,null,null,null,null,null,null,null,null,null,null,null,418]
[null,null,null,null,null,null,null,null,null,null,null,null,null,419]
[null,null,null,null,null,null,null,null,null,null,null,null,null,420]
[null,null,null,null,null,null,null,null,null,null,null,null,null,421]
[null,null,null,null,null,null,null,null,null,null,null,null,null,422]
[null,null,null,null,null,null,null,null,null,null,null,null,null,423]
[null,null,null,null,null,null,null,null,null,null,null,null,null,424]
[null,null,null,null,null,null,null,null,null,null,null,null,null,425]
[null,null,null,null,null,null,null,null,null,null,null,null,null,426]
[null,null,null,null,null,null,null,null,null,null,null,null,null,427]
[null,null,null,null,null,null,null,null,null,null,null,null,null,428]
[null,null,null,null,null,null,null,null,null,null,null,null,null,429]
[null,null,null,null,null,null,null,null,null,null,null,null,null,430]
[null,null,null,null,null,null,null,null,null,null,null,null,null,431]
[null,null,null,null,null,null,null,null,null,null,null,null,null,432]
[null,null,null,null,null,null,null,null,null,null,null,null,null,433]
[null,null,null,null,null,null,null,null,null,null,null,null,null,434]
[null,null,null,null,null,null,null,null,null,null,null,null,null,435]
[null,null,null,null,null,null,null,null,null,null,null,null,null,436]
[null,null,null,null,null,null,null,null,null,null,null,null,null,437]
[null,null,null,null,null,null,null,null,null,null,null,null,null,438]
[null,null,null,null,null,null,null,null,null,null,null,null,null,439]
[null,null,null,null,null,null,null,null,null,null,null,null,null,440]
[null,null,null,null,null,null,null,null,null,null,null,null,null,441]
[null,null,null,null,null,null,null,null,null,null,null,null,null,442]
[null,null,null,null,null,null,null,null,null,null,null,null,null,443]
[null,null,null,null,null,null,null,null,null,null,null,null,null,444]
[null,null,null,null,null,null,null,null,null,null,null,null,null,445]
[null,null,null,null,null,null,null,null,null,null,null,null,null,446]
[null,null,null,null,null,null,null,null,null,null,null,null,null,447]
[null,null,null,null,null,null,null,null,null,null,null,null,null,448]
[null,null,null,null,null,null,null,null,null,null,null,null,null,449]
[null,null,null,null,null,null,null,null,null,null,null,null,null,450]
[null,null,null,null,null,null,null,null,null,null,null,null,null,451]
[null,null,null,null,null,null,null,null,null,null,null,null,null,452]
[null,null,null,null,null,null,null,null,null,null,null,null,null,453]
[null,null,null,null,null,null,null,null,null,null,null,null,null,454]
[null,null,null,null,null,null,null,null,null,null,null,null,null,455]
[null,null,null,null,null,null,null,null,null,null,null,null,null,456]
[null,null,null,null,null,null,null,null,null,null,null,null,null,457]
[null,null,null,null,null,null,null,null,null,null,null,null,null,458]
[null,null,null,null,null,null,null,null,null,null,null,null,null,459]
[null,null,null,null,null,null,null,null,null,null,null,null,null,460]
[null,null,null,null,null,null,null,null,null,null,null,null,null,461]
[null,null,null,null,null,null,null,null,null,null,null,null,null,462]
[null,null,null,null,null,null,null,null,null,null,null,null,null,463]
[null,null,null,null,null,null,null,null,null,null,null,null,null,464]
[null,null,null,null,null,null,null,null,null,null,null,null,null,465]
[null,null,null,null,null,null,null,null,null,null,null,null,null,466]
[null,null,null,null,null,null,null,null,null,null,null,null,null,467]
[null,null,null,null,null,null,null,null,null,null,null,null,null,468]
[null,null,null,null,null,null,null,null,null,null,null,null,null,469]
[null,null,null,null,null,null,null,null,null,null,null,null,null,470]
[null,null,null,null,null,null,null,null,null,null,null,null,null,471]
[null,null,null,null,null,null,null,null,null,null,null,null,null,472]
[null,null,null,null,null,null,null,null,null,null,null,null,null,473]
[null,null,null,null,null,null,null,null,null,null,null,null,null,474]
[null,null,null,null,null,null,null,null,null,null,null,null,null,475]
[null,null,null,null,null,null,null,null,null,null,null,null,null,476]
[null,null,null,null,null,null,null,null,null,null,null,null,null,477]
[null,null,null,null,null,null,null,null,null,null,null,null,null,478]
[null,null,null,null,null,null,null,null,null,null,null,null,null,479]
[null,null,null,null,null,null,null,null,null,null,null,null,null,480]
[null,null,null,null,null,null,null,null,null,null,null,null,null,481]
[null,null,null,null,null,null,null,null,null,null,null,null,null,482]
[null,null,null,null,null,null,null,null,null,null,null,null,null,483]
[null,null,null,null,null,null,null,null,null,null,null,null,null,484]
[null,null,null,null,null,null,null,null,null,null,null,null,null,485]
[null,null,null,null,null,null,null,null,null,null,null,null,null,486]
[null,null,null,null,null,null,null,null,null,null,null,null,null,487]
[null,null,null,null,null,null,null,null,null,null,null,null,null,488]
[null,null,null,null,null,null,null,null,null,null,null,null,null,489]
[null,null,null,null,null,null,null,null,null,null,null,null,null,490]
[null,null,null,null,null,null,null,null,null,null,null,null,null,491]
[null,null,null,null,null,null,null,null,null,null,null,null,null,492]
[null,null,null,null,null,null,null,null,null,null,null,null,null,493]
[null,null,null,null,null,null,null,null,null,null,null,null,null,494]
[null,null,null,null,null,null,null,null,null,null,null,null,null,495]
[null,null,null,null,null,null,null,null,null,null,null,null,null,496]
[null,null,null,null,null,null,null,null,null,null,null,null,null,497]
[null,null,null,null,null,null,null,null,null,null,null,null,null,498]
[null,null,null,null,null,null,null,null,null,null,null,null,null,499]
[null,null,null,null,null,null,null,null,null,null,null,null,null,500]
[null,null,null,null,null,null,null,null,null,null,null,null,null,501]
[null,null,null,null,null,null,null,null,null,null,null,null,null,502]
[null,null,null,null,null,null,null,null,null,null,null,null,null,503]
[null,null,null,null,null,null,null,null,null,null,null,null,null,504]
[null,null,null,null,null,null,null,null,null,null,null,null,null,505]
[null,null,null,null,null,null,null,null,null,null,null,null,null,506]
[null,null,null,null,null,null,null,null,null,null,null,null,null,507]
[null,null,null,null,null,null,null,null,null,null,null,null,null,508]
[null,null,null,null,null,null,null,null,null,null,null,null,null,509]
[null,null,null,null,null,null,null,null,null,null,null,null,null,510]
[null,null,null,null,null,null,null,null,null,null,null,null,null,511]
[null,null,null,null,null,null,null,null,null,null,null,null,null,512]
[null,null,null,null,null,null,null,null,null,null,null,null,null,513]
[null,null,null,null,null,null,null,null,null,null,null,null,null,514]
[null,null,null,null,null,null,null,null,null,null,null,null,null,515]
[null,null,null,null,null,null,null,null,null,null,null,null,null,516]
[null,null,null,null,null,null,null,null,null,null,null,null,null,517]
[null,null,null,null,null,null,null,null,null,null,null,null,null,518]
[null,null,null,null,null,null,null,null,null,null,null,null,null,519]
[null,null,null,null,null,null,null,null,null,null,null,null,null,520]
[null,null,null,null,null,null,null,null,null,null,null,null,null,521]
[null,null,null,null,null,null,null,null,null,null,null,null,null,522]
[null,null,null,null,null,null,null,null,null,null,null,null,null,523]
[null,null,null,null,null,null,null,null,null,null,null,null,null,524]
[null,null,null,null,null,null,null,null,null,null,null,null,null,525]
[null,null,null,null,null,null,null,null,null,null,null,null,null,526]
[null,null,null,null,null,null,null,null,null,null,null,null,null,527]
[null,null,null,null,null,null,null,null,null,null,null,null,null,528]
[null,null,null,null,null,null,null,null,null,null,null,null,null,529]
[null,null,null,null,null,null,null,null,null,null,null,null,null,530]
[null,null,null,null,null,null,null,null,null,null,null,null,null,531]
[null,null,null,null,null,null,null,null,null,null,null,null,null,532]
[null,null,null,null,null,null,null,null,null,null,null,null,null,533]
[null,null,null,null,null,null,null,null,null,null,null,null,null,534]
[null,null,null,null,null,null,null,null,null,null,null,null,null,535]
[null,null,null,null,null,null,null,null,null,null,null,null,null,536]
[null,null,null,null,null,null,null,null,null,null,null,null,null,537]
[null,null,null,null,null,null,null,null,null,null,null,null,null,538]
[null,null,null,null,null,null,null,null,null,null,null,null,null,539]
[null,null,null,null,null,null,null,null,null,null,null,null,null,540]
[null,null,null,null,null,null,null,null,null,null,null,null,null,541]
[null,null,null,null,null,null,null,null,null,null,null,null,null,542]
[null,null,null,null,null,null,null,null,null,null,null,null,null,543]
[null,null,null,null,null,null,null,null,null,null,null,null,null,544]
[null,null,null,null,null,null,null,null,null,null,null,null,null,545]
[null,null,null,null,null,null,null,null,null,null,null,null,null,546]
[null,null,null,null,null,null,null,null,null,null,null,null,null,547]
[null,null,null,null,null,null,null,null,null,null,null,null,null,548]
[null,null,null,null,null,null,null,null,null,null,null,null,null,549]
[null,null,null,null,null,null,null,null,null,null,null,null,null,550]
[null,null,null,null,null,null,null,null,null,null,null,null,null,551]
[null,null,null,null,null,null,null,null,null,null,null,null,null,552]
[null,null,null,null,null,null,null,null,null,null,null,null,null,553]
[null,null,null,null,null,null,null,null,null,null,null,null,null,554]
[null,null,null,null,null,null,null,null,null,null,null,null,null,555]
[null,null,null,null,null,null,null,null,null,null,null,null,null,556]
[null,null,null,null,null,null,null,null,null,null,null,null,null,557]
[null,null,null,null,null,null,null,null,null,null,null,null,null,558]
[null,null,null,null,null,null,null,null,null,null,null,null,null,559]
[null,null,null,null,null,null,null,null,null,null,null,null,null,560]
[null,null,null,null,null,null,null,null,null,null,null,null,null,561]
[null,null,null,null,null,null,null,null,null,null,null,null,null,562]
[null,null,null,null,null,null,null,null,null,null,null,null,null,563]
[null,null,null,null,null,null,null,null,null,null,null,null,null,564]
[null,null,null,null,null,null,null,null,null,null,null,null,null,565]
[null,null,null,null,null,null,null,null,null,null,null,null,null,566]
[null,null,null,null,null,null,null,null,null,null,null,null,null,567]
[null,null,null,null,null,null,null,null,null,null,null,null,null,568]
[null,null,null,null,null,null,null,null,null,null,null,null,null,569]
[null,null,null,null,null,null,null,null,null,null,null,null,null,570]
[null,null,null,null,null,null,null,null,null,null,null,null,null,571]
[null,null,null,null,null,null,null,null,null,null,null,null,null,572]
[null,null,null,null,null,null,null,null,null,null,null,null,null,573]
[null,null,null,null,null,null,null,null,null,null,null,null,null,574]
[null,null,null,null,null,null,null,null,null,null,null,null,null,575]
[null,null,null,null,null,null,null,null,null,null,null,null,null,576]
[null,null,null,null,null,null,null,null,null,null,null,null,null,577]
[null,null,null,null,null,null,null,null,null,null,null,null,null,578]
[null,null,null,null,null,null,null,null,null,null,null,null,null,579]
[null,null,null,null,null,null,null,null,null,null,null,null,null,580]
[null,null,null,null,null,null,null,null,null,null,null,null,null,581]
[null,null,null,null,null,null,null,null,null,null,null,null,null,582]
[null,null,null,null,null,null,null,null,null,null,null,null,null,583]
[null,null,null,null,null,null,null,null,null,null,null,null,null,584]
[null,null,null,null,null,null,null,null,null,null,null,null,null,585]
[null,null,null,null,null,null,null,null,null,null,null,null,null,586]
[null,null,null,null,null,null,null,null,null,null,null,null,null,587]
[null,null,null,null,null,null,null,null,null,null,null,null,null,588]
[null,null,null,null,null,null,null,null,null,null,null,null,null,589]
[null,null,null,null,null,null,null,null,null,null,null,null,null,590]
[null,null,null,null,null,null,null,null,null,null,null,null,null,591]
[null,null,null,null,null,null,null,null,null,null,null,null,null,592]
[null,null,null,null,null,null,null,null,null,null,null,null,null,593]
[null,null,null,null,null,null,null,null,null,null,null,null,null,594]
[null,null,null,null,null,null,null,null,null,null,null,null,null,595]
[null,null,null,null,null,null,null,null,null,null,null,null,null,596]
[null,null,null,null,null,null,null,null,null,null,null,null,null,597]
[null,null,null,null,null,null,null,null,null,null,null,null,null,598]
[null,null,null,null,null,null,null,null,null,null,null,null,null,599]
[null,null,null,null,null,null,null,null,null,null,null,null,null,600]
[null,null,null,null,null,null,null,null,null,null,null,null,null,601]
[null,null,null,null,null,null,null,null,null,null,null,null,null,602]
[null,null,null,null,null,null,null,null,null,null,null,null,null,603]
[null,null,null,null,null,null,null,null,null,null,null,null,null,604]
[null,null,null,null,null,null,null,null,null,null,null,null,null,605]
[null,null,null,null,null,null,null,null,null,null,null,null,null,606]
[null,null,null,null,null,null,null,null,null,null,null,null,null,607]
[null,null,null,null,null,null,null,null,null,null,null,null,null,608]
[null,null,null,null,null,null,null,null,null,null,null,null,null,609]
[null,null,null,null,null,null,null,null,null,null,null,null,null,610]
[null,null,null,null,null,null,null,null,null,null,null,null,null,611]
[null,null,null,null,null,null,null,null,null,null,null,null,null,612]
[null,null,null,null,null,null,null,null,null,null,null,null,null,613]
[null,null,null,null,null,null,null,null,null,null,null,null,null,614]
[null,null,null,null,null,null,null,null,null,null,null,null,null,615]
[null,null,null,null,null,null,null,null,null,null,null,null,null,616]
[null,null,null,null,null,null,null,null,null,null,null,null,null,617]
[null,null,null,null,null,null,null,null,null,null,null,null,null,618]
[null,null,null,null,null,null,null,null,null,null,null,null,null,619]
[null,null,null,null,null,null,null,null,null,null,null,null,null,620]
[null,null,null,null,null,null,null,null,null,null,null,null,null,621]
[null,null,null,null,null,null,null,null,null,null,null,null,null,622]
[null,null,null,null,null,null,null,null,null,null,null,null,null,623]
[null,null,null,null,null,null,null,null,null,null,null,null,null,624]
[null,null,null,null,null,null,null,null,null,null,null,null,null,625]
[null,null,null,null,null,null,null,null,null,null,null,null,null,626]
[null,null,null,null,null,null,null,null,null,null,null,null,null,627]
[null,null,null,null,null,null,null,null,null,null,null,null,null,628]
[null,null,null,null,null,null,null,null,null,null,null,null,null,629]
[null,null,null,null,null,null,null,null,null,null,null,null,null,630]
[null,null,null,null,null,null,null,null,null,null,null,null,null,631]
[null,null,null,null,null,null,null,null,null,null,null,null,null,632]
[null,null,null,null,null,null,null,null,null,null,null,null,null,633]
[null,null,null,null,null,null,null,null,null,null,null,null,null,634]
[null,null,null,null,null,null,null,null,null,null,null,null,null,635]
[null,null,null,null,null,null,null,null,null,null,null,null,null,636]
[null,null,null,null,null,null,null,null,null,null,null,null,null,637]
[null,null,null,null,null,null,null,null,null,null,null,null,null,638]
[null,null,null,null,null,null,null,null,null,null,null,null,null,639]
[null,null,null,null,null,null,null,null,null,null,null,null,null,640]
[null,null,null,null,null,null,null,null,null,null,null,null,null,641]
[null,null,null,null,null,null,null,null,null,null,null,null,null,642]
[null,null,null,null,null,null,null,null,null,null,null,null,null,643]
[null,null,null,null,null,null,null,null,null,null,null,null,null,644]
[null,null,null,null,null,null,null,null,null,null,null,null,null,645]
[null,null,null,null,null,null,null,null,null,null,null,null,null,646]
[null,null,null,null,null,null,null,null,null,null,null,null,null,647]
[null,null,null,null,null,null,null,null,null,null,null,null,null,648]
[null,null,null,null,null,null,null,null,null,null,null,null,null,649]
[null,null,null,null,null,null,null,null,null,null,null,null,null,650]
[null,null,null,null,null,null,null,null,null,null,null,null,null,651]
[null,null,null,null,null,null,null,null,null,null,null,null,null,652]
[null,null,null,null,null,null,null,null,null,null,null,null,null,653]
[null,null,null,null,null,null,null,null,null,null,null,null,null,654]
[null,null,null,null,null,null,null,null,null,null,null,null,null,655]
[null,null,null,null,null,null,null,null,null,null,null,null,null,656]
[null,null,null,null,null,null,null,null,null,null,null,null,null,657]
[null,null,null,null,null,null,null,null,null,null,null,null,null,658]
[null,null,null,null,null,null,null,null,null,null,null,null,null,659]
[null,null,null,null,null,null,null,null,null,null,null,null,null,660]
[null,null,null,null,null,null,null,null,null,null,null,null,null,661]
[null,null,null,null,null,null,null,null,null,null,null,null,null,662]
[null,null,null,null,null,null,null,null,null,null,null,null,null,663]
[null,null,null,null,null,null,null,null,null,null,null,null,null,664]
[null,null,null,null,null,null,null,null,null,null,null,null,null,665]
[null,null,null,null,null,null,null,null,null,null,null,null,null,666]
[null,null,null,null,null,null,null,null,null,null,null,null,null,667]
[null,null,null,null,null,null,null,null,null,null,null,null,null,668]
[null,null,null,null,null,null,null,null,null,null,null,null,null,669]
[null,null,null,null,null,null,null,null,null,null,null,null,null,670]
[null,null,null,null,null,null,null,null,null,null,null,null,null,671]
[null,null,null,null,null,null,null,null,null,null,null,null,null,672]
[null,null,null,null,null,null,null,null,null,null,null,null,null,673]
[null,null,null,null,null,null,null,null,null,null,null,null,null,674]
[null,null,null,null,null,null,null,null,null,null,null,null,null,675]
[null,null,null,null,null,null,null,null,null,null,null,null,null,676]
[null,null,null,null,null,null,null,null,null,null,null,null,null,677]
[null,null,null,null,null,null,null,null,null,null,null,null,null,678]
[null,null,null,null,null,null,null,null,null,null,null,null,null,679]
[null,null,null,null,null,null,null,null,null,null,null,null,null,680]
[null,null,null,null,null,null,null,null,null,null,null,null,null,681]
[null,null,null,null,null,null,null,null,null,null,null,null,null,682]
[null,null,null,null,null,null,null,null,null,null,null,null,null,683]
[null,null,null,null,null,null,null,null,null,null,null,null,null,684]
[null,null,null,null,null,null,null,null,null,null,null,null,null,685]
[null,null,null,null,null,null,null,null,null,null,null,null,null,686]
[null,null,null,null,null,null,null,null,null,null,null,null,null,687]
[null,null,null,null,null,null,null,null,null,null,null,null,null,688]
[null,null,null,null,null,null,null,null,null,null,null,null,null,689]
[null,null,null,null,null,null,null,null,null,null,null,null,null,690]
[null,null,null,null,null,null,null,null,null,null,null,null,null,691]
[null,null,null,null,null,null,null,null,null,null,null,null,null,692]
[null,null,null,null,null,null,null,null,null,null,null,null,null,693]
[null,null,null,null,null,null,null,null,null,null,null,null,null,694]
[null,null,null,null,null,null,null,null,null,null,null,null,null,695]
[null,null,null,null,null,null,null,null,null,null,null,null,null,696]
[null,null,null,null,null,null,null,null,null,null,null,null,null,697]
[null,null,null,null,null,null,null,null,null,null,null,null,null,698]
[null,null,null,null,null,null,null,null,null,null,null,null,null,699]
[null,null,null,null,null,null,null,null,null,null,null,null,null,700]
[null,null,null,null,null,null,null,null,null,null,null,null,null,701]
[null,null,null,null,null,null,null,null,null,null,null,null,null,702]
[null,null,null,null,null,null,null,null,null,null,null,null,null,703]
[null,null,null,null,null,null,null,null,null,null,null,null,null,704]
[null,null,null,null,null,null,null,null,null,null,null,null,null,705]
[null,null,null,null,null,null,null,null,null,null,null,null,null,706]
[null,null,null,null,null,null,null,null,null,null,null,null,null,707]
[null,null,null,null,null,null,null,null,null,null,null,null,null,708]
[null,null,null,null,null,null,null,null,null,null,null,null,null,709]
[null,null,null,null,null,null,null,null,null,null,null,null,null,710]
[null,null,null,null,null,null,null,null,null,null,null,null,null,711]
[null,null,null,null,null,null,null,null,null,null,null,null,null,712]
[null,null,null,null,null,null,null,null,null,null,null,null,null,713]
[null,null,null,null,null,null,null,null,null,null,null,null,null,714]
[null,null,null,null,null,null,null,null,null,null,null,null,null,715]
[null,null,null,null,null,null,null,null,null,null,null,null,null,716]
[null,null,null,null,null,null,null,null,null,null,null,null,null,717]
[null,null,null,null,null,null,null,null,null,null,null,null,null,718]
[null,null,null,null,null,null,null,null,null,null,null,null,null,719]
[null,null,null,null,null,null,null,null,null,null,null,null,null,720]
[null,null,null,null,null,null,null,null,null,null,null,null,null,721]
[null,null,null,null,null,null,null,null,null,null,null,null,null,722]
[null,null,null,null,null,null,null,null,null,null,null,null,null,723]
[null,null,null,null,null,null,null,null,null,null,null,null,null,724]
[null,null,null,null,null,null,null,null,null,null,null,null,null,725]
[null,null,null,null,null,null,null,null,null,null,null,null,null,726]
[null,null,null,null,null,null,null,null,null,null,null,null,null,727]
[null,null,null,null,null,null,null,null,null,null,null,null,null,728]
[null,null,null,null,null,null,null,null,null,null,null,null,null,729]
[null,null,null,null,null,null,null,null,null,null,null,null,null,730]
[null,null,null,null,null,null,null,null,null,null,null,null,null,731]
[null,null,null,null,null,null,null,null,null,null,null,null,null,732]
[null,null,null,null,null,null,null,null,null,null,null,null,null,733]
[null,null,null,null,null,null,null,null,null,null,null,null,null,734]
[null,null,null,null,null,null,null,null,null,null,null,null,null,735]
[null,null,null,null,null,null,null,null,null,null,null,null,null,736]
[null,null,null,null,null,null,null,null,null,null,null,null,null,737]
[null,null,null,null,null,null,null,null,null,null,null,null,null,738]
[null,null,null,null,null,null,null,null,null,null,null,null,null,739]
[null,null,null,null,null,null,null,null,null,null,null,null,null,740]
[null,null,null,null,null,null,null,null,null,null,null,null,null,741]
[null,null,null,null,null,null,null,null,null,null,null,null,null,742]
[null,null,null,null,null,null,null,null,null,null,null,null,null,743]
[null,null,null,null,null,null,null,null,null,null,null,null,null,744]
[null,null,null,null,null,null,null,null,null,null,null,null,null,745]
[null,null,null,null,null,null,null,null,null,null,null,null,null,746]
[null,null,null,null,null,null,null,null,null,null,null,null,null,747]
[null,null,null,null,null,null,null,null,null,null,null,null,null,748]
[null,null,null,null,null,null,null,null,null,null,null,null,null,749]
[null,null,null,null,null,null,null,null,null,null,null,null,null,750]
[null,null,null,null,null,null,null,null,null,null,null,null,null,751]
[null,null,null,null,null,null,null,null,null,null,null,null,null,752]
[null,null,null,null,null,null,null,null,null,null,null,null,null,753]
[null,null,null,null,null,null,null,null,null,null,null,null,null,754]
[null,null,null,null,null,null,null,null,null,null,null,null,null,755]
[null,null,null,null,null,null,null,null,null,null,null,null,null,756]
[null,null,null,null,null,null,null,null,null,null,null,null,null,757]
[null,null,null,null,null,null,null,null,null,null,null,null,null,758]
[null,null,null,null,null,null,null,null,null,null,null,null,null,759]
[null,null,null,null,null,null,null,null,null,null,null,null,null,760]
[null,null,null,null,null,null,null,null,null,null,null,null,null,761]
[null,null,null,null,null,null,null,null,null,null,null,null,null,762]
[null,null,null,null,null,null,null,null,null,null,null,null,null,763]
[null,null,null,null,null,null,null,null,null,null,null,null,null,764]
[null,null,null,null,null,null,null,null,null,null,null,null,null,765]
[null,null,null,null,null,null,null,null,null,null,null,null,null,766]
[null,null,null,null,null,null,null,null,null,null,null,null,null,767]
[null,null,null,null,null,null,null,null,null,null,null,null,null,768]
[null,null,null,null,null,null,null,null,null,null,null,null,null,769]
[null,null,null,null,null,null,null,null,null,null,null,null,null,770]
[null,null,null,null,null,null,null,null,null,null,null,null,null,771]
[null,null,null,null,null,null,null,null,null,null,null,null,null,772]
[null,null,null,null,null,null,null,null,null,null,null,null,null,773]
[null,null,null,null,null,null,null,null,null,null,null,null,null,774]
[null,null,null,null,null,null,null,null,null,null,null,null,null,775]
[null,null,null,null,null,null,null,null,null,null,null,null,null,776]
[null,null,null,null,null,null,null,null,null,null,null,null,null,777]
[null,null,null,null,null,null,null,null,null,null,null,null,null,778]
[null,null,null,null,null,null,null,null,null,null,null,null,null,779]
[null,null,null,null,null,null,null,null,null,null,null,null,null,780]
[null,null,null,null,null,null,null,null,null,null,null,null,null,781]
[null,null,null,null,null,null,null,null,null,null,null,null,null,782]
[null,null,null,null,null,null,null,null,null,null,null,null,null,783]
[null,null,null,null,null,null,null,null,null,null,null,null,null,784]
[null,null,null,null,null,null,null,null,null,null,null,null,null,785]
[null,null,null,null,null,null,null,null,null,null,null,null,null,786]
[null,null,null,null,null,null,null,null,null,null,null,null,null,787]
[null,null,null,null,null,null,null,null,null,null,null,null,null,788]
[null,null,null,null,null,null,null,null,null,null,null,null,null,789]
[null,null,null,null,null,null,null,null,null,null,null,null,null,790]
[null,null,null,null,null,null,null,null,null,null,null,null,null,791]
[null,null,null,null,null,null,null,null,null,null,null,null,null,792]
[null,null,null,null,null,null,null,null,null,null,null,null,null,793]
[null,null,null,null,null,null,null,null,null,null,null,null,null,794]
[null,null,null,null,null,null,null,null,null,null,null,null,null,795]
[null,null,null,null,null,null,null,null,null,null,null,null,null,796]
[null,null,null,null,null,null,null,null,null,null,null,null,null,797]
[null,null,null,null,null,null,null,null,null,null,null,null,null,798]
[null,null,null,null,null,null,null,null,null,null,null,null,null,799]
[null,null,null,null,null,null,null,null,null,null,null,null,null,800]
[null,null,null,null,null,null,null,null,null,null,null,null,null,801]
[null,null,null,null,null,null,null,null,null,null,null,null,null,802]
[null,null,null,null,null,null,null,null,null,null,null,null,null,803]
[null,null,null,null,null,null,null,null,null,null,null,null,null,804]
[null,null,null,null,null,null,null,null,null,null,null,null,null,805]
[null,null,null,null,null,null,null,null,null,null,null,null,null,806]
[null,null,null,null,null,null,null,null,null,null,null,null,null,807]
[null,null,null,null,null,null,null,null,null,null,null,null,null,808]
[null,null,null,null,null,null,null,null,null,null,null,null,null,809]
[null,null,null,null,null,null,null,null,null,null,null,null,null,810]
[null,null,null,null,null,null,null,null,null,null,null,null,null,811]
[null,null,null,null,null,null,null,null,null,null,null,null,null,812]
[null,null,null,null,null,null,null,null,null,null,null,null,null,813]
[null,null,null,null,null,null,null,null,null,null,null,null,null,814]
[null,null,null,null,null,null,null,null,null,null,null,null,null,815]
[null,null,null,null,null,null,null,null,null,null,null,null,null,816]
[null,null,null,null,null,null,null,null,null,null,null,null,null,817]
[null,null,null,null,null,null,null,null,null,null,null,null,null,818]
[null,null,null,null,null,null,null,null,null,null,null,null,null,819]
[null,null,null,null,null,null,null,null,null,null,null,null,null,820]
[null,null,null,null,null,null,null,null,null,null,null,null,null,821]
[null,null,null,null,null,null,null,null,null,null,null,null,null,822]
[null,null,null,null,null,null,null,null,null,null,null,null,null,823]
[null,null,null,null,null,null,null,null,null,null,null,null,null,824]
[null,null,null,null,null,null,null,null,null,null,null,null,null,825]
[null,null,null,null,null,null,null,null,null,null,null,null,null,826]
[null,null,null,null,null,null,null,null,null,null,null,null,null,827]
[null,null,null,null,null,null,null,null,null,null,null,null,null,828]
[null,null,null,null,null,null,null,null,null,null,null,null,null,829]
[null,null,null,null,null,null,null,null,null,null,null,null,null,830]
[null,null,null,null,null,null,null,null,null,null,null,null,null,831]
[null,null,null,null,null,null,null,null,null,null,null,null,null,832]
[null,null,null,null,null,null,null,null,null,null,null,null,null,833]
[null,null,null,null,null,null,null,null,null,null,null,null,null,834]
[null,null,null,null,null,null,null,null,null,null,null,null,null,835]
[null,null,null,null,null,null,null,null,null,null,null,null,null,836]
[null,null,null,null,null,null,null,null,null,null,null,null,null,837]
[null,null,null,null,null,null,null,null,null,null,null,null,null,838]
[null,null,null,null,null,null,null,null,null,null,null,null,null,839]
[null,null,null,null,null,null,null,null,null,null,null,null,null,840]
[null,null,null,null,null,null,null,null,null,null,null,null,null,841]
[null,null,null,null,null,null,null,null,null,null,null,null,null,842]
[null,null,null,null,null,null,null,null,null,null,null,null,null,843]
[null,null,null,null,null,null,null,null,null,null,null,null,null,844]
[null,null,null,null,null,null,null,null,null,null,null,null,null,845]
[null,null,null,null,null,null,null,null,null,null,null,null,null,846]
[null,null,null,null,null,null,null,null,null,null,null,null,null,847]
[null,null,null,null,null,null,null,null,null,null,null,null,null,848]
[null,null,null,null,null,null,null,null,null,null,null,null,null,849]
[null,null,null,null,null,null,null,null,null,null,null,null,null,850]
[null,null,null,null,null,null,null,null,null,null,null,null,null,851]
[null,null,null,null,null,null,null,null,null,null,null,null,null,852]
[null,null,null,null,null,null,null,null,null,null,null,null,null,853]
[null,null,null,null,null,null,null,null,null,null,null,null,null,854]
[null,null,null,null,null,null,null,null,null,null,null,null,null,855]
[null,null,null,null,null,null,null,null,null,null,null,null,null,856]
[null,null,null,null,null,null,null,null,null,null,null,null,null,857]
[null,null,null,null,null,null,null,null,null,null,null,null,null,858]
[null,null,null,null,null,null,null,null,null,null,null,null,null,859]
[null,null,null,null,null,null,null,null,null,null,null,null,null,860]
[null,null,null,null,null,null,null,null,null,null,null,null,null,861]
[null,null,null,null,null,null,null,null,null,null,null,null,null,862]
[null,null,null,null,null,null,null,null,null,null,null,null,null,863]
[null,null,null,null,null,null,null,null,null,null,null,null,null,864]
[null,null,null,null,null,null,null,null,null,null,null,null,null,865]
[null,null,null,null,null,null,null,null,null,null,null,null,null,866]
[null,null,null,null,null,null,null,null,null,null,null,null,null,867]
[null,null,null,null,null,null,null,null,null,null,null,null,null,868]
[null,null,null,null,null,null,null,null,null,null,null,null,null,869]
[null,null,null,null,null,null,null,null,null,null,null,null,null,870]
[null,null,null,null,null,null,null,null,null,null,null,null,null,871]
[null,null,null,null,null,null,null,null,null,null,null,null,null,872]
[null,null,null,null,null,null,null,null,null,null,null,null,null,873]
[null,null,null,null,null,null,null,null,null,null,null,null,null,874]
[null,null,null,null,null,null,null,null,null,null,null,null,null,875]
[null,null,null,null,null,null,null,null,null,null,null,null,null,876]
[null,null,null,null,null,null,null,null,null,null,null,null,null,877]
[null,null,null,null,null,null,null,null,null,null,null,null,null,878]
[null,null,null,null,null,null,null,null,null,null,null,null,null,879]
[null,null,null,null,null,null,null,null,null,null,null,null,null,880]
[null,null,null,null,null,null,null,null,null,null,null,null,null,881]
[null,null,null,null,null,null,null,null,null,null,null,null,null,882]
[null,null,null,null,null,null,null,null,null,null,null,null,null,883]
[null,null,null,null,null,null,null,null,null,null,null,null,null,884]
[null,null,null,null,null,null,null,null,null,null,null,null,null,885]
[null,null,null,null,null,null,null,null,null,null,null,null,null,886]
[null,null,null,null,null,null,null,null,null,null,null,null,null,887]
[null,null,null,null,null,null,null,null,null,null,null,null,null,888]
[null,null,null,null,null,null,null,null,null,null,null,null,null,889]
[null,null,null,null,null,null,null,null,null,null,null,null,null,890]
[null,null,null,null,null,null,null,null,null,null,null,null,null,891]
[null,null,null,null,null,null,null,null,null,null,null,null,null,892]
[null,null,null,null,null,null,null,null,null,null,null,null,null,893]
[null,null,null,null,null,null,null,null,null,null,null,null,null,894]
[null,null,null,null,null,null,null,null,null,null,null,null,null,895]
[null,null,null,null,null,null,null,null,null,null,null,null,null,896]
[null,null,null,null,null,null,null,null,null,null,null,null,null,897]
[null,null,null,null,null,null,null,null,null,null,null,null,null,898]
[null,null,null,null,null,null,null,null,null,null,null,null,null,899]
[null,null,null,null,null,null,null,null,null,null,null,null,null,900]
[null,null,null,null,null,null,null,null,null,null,null,null,null,901]
[null,null,null,null,null,null,null,null,null,null,null,null,null,902]
[null,null,null,null,null,null,null,null,null,null,null,null,null,903]
[null,null,null,null,null,null,null,null,null,null,null,null,null,904]
[null,null,null,null,null,null,null,null,null,null,null,null,null,905]
[null,null,null,null,null,null,null,null,null,null,null,null,null,906]
[null,null,null,null,null,null,null,null,null,null,null,null,null,907]
[null,null,null,null,null,null,null,null,null,null,null,null,null,908]
[null,null,null,null,null,null,null,null,null,null,null,null,null,909]
[null,null,null,null,null,null,null,null,null,null,null,null,null,910]
[null,null,null,null,null,null,null,null,null,null,null,null,null,911]
[null,null,null,null,null,null,null,null,null,null,null,null,null,912]
[null,null,null,null,null,null,null,null,null,null,null,null,null,913]
[null,null,null,null,null,null,null,null,null,null,null,null,null,914]
[null,null,null,null,null,null,null,null,null,null,null,null,null,915]
[null,null,null,null,null,null,null,null,null,null,null,null,null,916]
[null,null,null,null,null,null,null,null,null,null,null,null,null,917]
[null,null,null,null,null,null,null,null,null,null,null,null,null,918]
[null,null,null,null,null,null,null,null,null,null,null,null,null,919]
[null,null,null,null,null,null,null,null,null,null,null,null,null,920]
[null,null,null,null,null,null,null,null,null,null,null,null,null,921]
[null,null,null,null,null,null,null,null,null,null,null,null,null,922]
[null,null,null,null,null,null,null,null,null,null,null,null,null,923]
[null,null,null,null,null,null,null,null,null,null,null,null,null,924]
[null,null,null,null,null,null,null,null,null,null,null,null,null,925]
[null,null,null,null,null,null,null,null,null,null,null,null,null,926]
[null,null,null,null,null,null,null,null,null,null,null,null,null,927]
[null,null,null,null,null,null,null,null,null,null,null,null,null,928]
[null,null,null,null,null,null,null,null,null,null,null,null,null,929]
[null,null,null,null,null,null,null,null,null,null,null,null,null,930]
[null,null,null,null,null,null,null,null,null,null,null,null,null,931]
[null,null,null,null,null,null,null,null,null,null,null,null,null,932]
[null,null,null,null,null,null,null,null,null,null,null,null,null,933]
[null,null,null,null,null,null,null,null,null,null,null,null,null,934]
[null,null,null,null,null,null,null,null,null,null,null,null,null,935]
[null,null,null,null,null,null,null,null,null,null,null,null,null,936]
[null,null,null,null,null,null,null,null,null,null,null,null,null,937]
[null,null,null,null,null,null,null,null,null,null,null,null,null,938]
[null,null,null,null,null,null,null,null,null,null,null,null,null,939]
[null,null,null,null,null,null,null,null,null,null,null,null,null,940]
[null,null,null,null,null,null,null,null,null,null,null,null,null,941]
[null,null,null,null,null,null,null,null,null,null,null,null,null,942]
[null,null,null,null,null,null,null,null,null,null,null,null,null,943]
[null,null,null,null,null,null,null,null,null,null,null,null,null,944]
[null,null,null,null,null,null,null,null,null,null,null,null,null,945]
[null,null,null,null,null,null,null,null,null,null,null,null,null,946]
[null,null,null,null,null,null,null,null,null,null,null,null,null,947]
[null,null,null,null,null,null,null,null,null,null,null,null,null,948]
[null,null,null,null,null,null,null,null,null,null,null,null,null,949]
[null,null,null,null,null,null,null,null,null,null,null,null,null,950]
[null,null,null,null,null,null,null,null,null,null,null,null,null,951]
[null,null,null,null,null,null,null,null,null,null,null,null,null,952]
[null,null,null,null,null,null,null,null,null,null,null,null,null,953]
[null,null,null,null,null,null,null,null,null,null,null,null,null,954]
[null,null,null,null,null,null,null,null,null,null,null,null,null,955]
[null,null,null,null,null,null,null,null,null,null,null,null,null,956]
[null,null,null,null,null,null,null,null,null,null,null,null,null,957]
[null,null,null,null,null,null,null,null,null,null,null,null,null,958]
[null,null,null,null,null,null,null,null,null,null,null,null,null,959]
[null,null,null,null,null,null,null,null,null,null,null,null,null,960]
[null,null,null,null,null,null,null,null,null,null,null,null,null,961]
[null,null,null,null,null,null,null,null,null,null,null,null,null,962]
[null,null,null,null,null,null,null,null,null,null,null,null,null,963]
[null,null,null,null,null,null,null,null,null,null,null,null,null,964]
[null,null,null,null,null,null,null,null,null,null,null,null,null,965]
[null,null,null,null,null,null,null,null,null,null,null,null,null,966]
[null,null,null,null,null,null,null,null,null,null,null,null,null,967]
[null,null,null,null,null,null,null,null,null,null,null,null,null,968]
[null,null,null,null,null,null,null,null,null,null,null,null,null,969]
[null,null,null,null,null,null,null,null,null,null,null,null,null,970]
[null,null,null,null,null,null,null,null,null,null,null,null,null,971]
[null,null,null,null,null,null,null,null,null,null,null,null,null,972]
[null,null,null,null,null,null,null,null,null,null,null,null,null,973]
[null,null,null,null,null,null,null,null,null,null,null,null,null,974]
[null,null,null,null,null,null,null,null,null,null,null,null,null,975]
[null,null,null,null,null,null,null,null,null,null,null,null,null,976]
[null,null,null,null,null,null,null,null,null,null,null,null,null,977]
[null,null,null,null,null,null,null,null,null,null,null,null,null,978]
[null,null,null,null,null,null,null,null,null,null,null,null,null,979]
[null,null,null,null,null,null,null,null,null,null,null,null,null,980]
[null,null,null,null,null,null,null,null,null,null,null,null,null,981]
[null,null,null,null,null,null,null,null,null,null,null,null,null,982]
[null,null,null,null,null,null,null,null,null,null,null,null,null,983]
[null,null,null,null,null,null,null,null,null,null,null,null,null,984]
[null,null,null,null,null,null,null,null,null,null,null,null,null,985]
[null,null,null,null,null,null,null,null,null,null,null,null,null,986]
[null,null,null,null,null,null,null,null,null,null,null,null,null,987]
[null,null,null,null,null,null,null,null,null,null,null,null,null,988]
[null,null,null,null,null,null,null,null,null,null,null,null,null,989]
[null,null,null,null,null,null,null,null,null,null,null,null,null,990]
[null,null,null,null,null,null,null,null,null,null,null,null,null,991]
[null,null,null,null,null,null,null,null,null,null,null,null,null,992]
[null,null,null,null,null,null,null,null,null,null,null,null,null,993]
[null,null,null,null,null,null,null,null,null,null,null,null,null,994]
[null,null,null,null,null,null,null,null,null,null,null,null,null,995]
[null,null,null,null,null,null,null,null,null,null,null,null,null,996]
[null,null,null,null,null,null,null,null,null,null,null,null,null,997]
[null,null,null,null,null,null,null,null,null,null,null,null,null,998]
[null,null,null,null,null,null,null,null,null,null,null,null,null,999]
[null,null,null,null,null,null,null,null,null,null,null,null,null,1000]
[null,null,null,null,null,null,null,null,null,null,null,null,null,1001]
[null,null,null,null,null,null,null,null,null,null,null,null,null,1002]
[null,null,null,null,null,null,null,null,null,null,null,null,null,1003]
[null,null,null,null,null,null,null,null,null,null,null,null,null,1004]
[null,null,null,null,null,null,null,null,null,null,null,null,null,1005]
[null,null,null,null,null,null,null,null,null,null,null,null,null,1006]
[null,null,null,null,null,null,null,null,null,null,null,null,null,1007]
[null,null,null,null,null,null,null,null,null,null,null,null,null,1008]
[null,null,null,null,null,null,null,null,null,null,null,null,null,1009]
[null,null,null,null,null,null,null,null,null,null,null,null,null,1010]
[null,null,null,null,null,null,null,null,null,null,null,null,null,1011]
[null,null,null,null,null,null,null,null,null,null,null,null,null,1012]
[null,null,null,null,null,null,null,null,null,null,null,null,null,1013]
[null,null,null,null,null,null,null,null,null,null,null,null,null,1014]
[null,null,null,null,null,null,null,null,null,null,null,null,null,1015]
[null,null,null,null,null,null,null,null,null,null,null,null,null,1016]
[null,null,null,null,null,null,null,null,null,null,null,null,null,1017]
[null,null,null,null,null,null,null,null,null,null,null,null,null,1018]
[null,null,null,null,null,null,null,null,null,null,null,null,null,1019]
[null,null,null,null,null,null,null,null,null,null,null,null,null,1020]
[null,null,null,null,null,null,null,null,null,null,null,null,null,1021]
[null,null,null,null,null,null,null,null,null,null,null,null,null,1022]
[null,null,null,null,null,null,null,null,null,null,null,null,null,1023]
[null,null,null,null,null,null,null,null,null,null,null,null,null,1024]
[null,null,null,null,null,null,null,null,null,null,null,null,null,1025]
[null,null,null,null,null,null,null,null,null,null,null,null,null,1026]
[null,null,null,null,null,null,null,null,null,null,null,null,null,1027]
[null,null,null,null,null,null,null,null,null,null,null,null,null,1028]
[null,null,null,null,null,null,null,null,null,null,null,null,null,1029]
[null,null,null,null,null,null,null,null,null,null,null,null,null,1030]
[null,null,null,null,null,null,null,null,null,null,null,null,null,1031]
[null,null,null,null,null,null,null,null,null,null,null,null,null,1032]
[null,null,null,null,null,null,null,null,null,null,null,null,null,1033]
[null,null,null,null,null,null,null,null,null,null,null,null,null,1034]
[null,null,null,null,null,null,null,null,null,null,null,null,null,1035]
[null,null,null,null,null,null,null,null,null,null,null,null,null,1036]
[null,null,null,null,null,null,null,null,null,null,null,null,null,1037]
[null,null,null,null,null,null,null,null,null,null,null,null,null,1038]
[null,null,null,null,null,null,null,null,null,null,null,null,null,1039]
[null,null,null,null,null,null,null,null,null,null,null,null,null,1040]
[null,null,null,null,null,null,null,null,null,null,null,null,null,1041]
[null,null,null,null,null,null,null,null,null,null,null,null,null,1042]
[null,null,null,null,null,null,null,null,null,null,null,null,null,1043]
[null,null,null,null,null,null,null,null,null,null,null,null,null,1044]
[null,null,null,null,null,null,null,null,null,null,null,null,null,1045]
[null,null,null,null,null,null,null,null,null,null,null,null,null,1046]
[null,null,null,null,null,null,null,null,null,null,null,null,null,1047]
[null,null,null,null,null,null,null,null,null,null,null,null,null,1048]
[null,null,null,null,null,null,null,null,null,null,null,null,null,1049]
[null,null,null,null,null,null,null,null,null,null,null,null,null,1050]
[null,null,null,null,null,null,null,null,null,null,null,null,null,1051]
[null,null,null,null,null,null,null,null,null,null,null,null,null,1052]
[null,null,null,null,null,null,null,null,null,null,null,null,null,1053]
[null,null,null,null,null,null,null,null,null,null,null,null,null,1054]
[null,null,null,null,null,null,null,null,null,null,null,null,null,1055]
[null,null,null,null,null,null,null,null,null,null,null,null,null,1056]
[null,null,null,null,null,null,null,null,null,null,null,null,null,1057]
[null,null,null,null,null,null,null,null,null,null,null,null,null,1058]
[null,null,null,null,null,null,null,null,null,null,null,null,null,1059]
[null,null,null,null,null,null,null,null,null,null,null,null,null,1060]
[null,null,null,null,null,null,null,null,null,null,null,null,null,1061]
[null,null,null,null,null,null,null,null,null,null,null,null,null,1062]
[null,null,null,null,null,null,null,null,null,null,null,null,null,1063]
[null,null,null,null,null,null,null,null,null,null,null,null,null,1064]
[null,null,null,null,null,null,null,null,null,null,null,null,null,1065]
[null,null,null,null,null,null,null,null,null,null,null,null,null,1066]
[null,null,null,null,null,null,null,null,null,null,null,null,null,1067]
[null,null,null,null,null,null,null,null,null,null,null,null,null,1068]
[null,null,null,null,null,null,null,null,null,null,null,null,null,1069]
[null,null,null,null,null,null,null,null,null,null,null,null,null,1070]
[null,null,null,null,null,null,null,null,null,null,null,null,null,1071]
[null,null,null,null,null,null,null,null,null,null,null,null,null,1072]
[null,null,null,null,null,null,null,null,null,null,null,null,null,1073]
[null,null,null,null,null,null,null,null,null,null,null,null,null,1074]
[null,null,null,null,null,null,null,null,null,null,null,null,null,1075]
[null,null,null,null,null,null,null,null,null,null,null,null,null,1076]
[null,null,null,null,null,null,null,null,null,null,null,null,null,1077]
[null,null,null,null,null,null,null,null,null,null,null,null,null,1078]
[null,null,null,null,null,null,null,null,null,null,null,null,null,1079]
[null,null,null,null,null,null,null,null,null,null,null,null,null,1080]
[null,null,null,null,null,null,null,null,null,null,null,null,null,1081]
[null,null,null,null,null,null,null,null,null,null,null,null,null,1082]
[null,null,null,null,null,null,null,null,null,null,null,null,null,1083]
[null,null,null,null,null,null,null,null,null,null,null,null,null,1084]
[null,null,null,null,null,null,null,null,null,null,null,null,null,1085]
[null,null,null,null,null,null,null,null,null,null,null,null,null,1086]
[null,null,null,null,null,null,null,null,null,null,null,null,null,1087]
[null,null,null,null,null,null,null,null,null,null,null,null,null,1088]
[null,null,null,null,null,null,null,null,null,null,null,null,null,1089]
[null,null,null,null,null,null,null,null,null,null,null,null,null,1090]
[null,null,null,null,null,null,null,null,null,null,null,null,null,1091]
[null,null,null,null,null,null,null,null,null,null,null,null,null,1092]
[null,null,null,null,null,null,null,null,null,null,null,null,null,1093]
[null,null,null,null,null,null,null,null,null,null,null,null,null,1094]
[null,null,null,null,null,null,null,null,null,null,null,null,null,1095]
[null,null,null,null,null,null,null,null,null,null,null,null,null,1096]
[null,null,null,null,null,null,null,null,null,null,null,null,null,1097]
[null,null,null,null,null,null,null,null,null,null,null,null,null,1098]
[null,null,null,null,null,null,null,null,null,null,null,null,null,1099]
[null,null,null,null,null,null,null,null,null,null,null,null,null,1100]
[null,null,null,null,null,null,null,null,null,null,null,null,null,1101]
[null,null,null,null,null,null,null,null,null,null,null,null,null,1102]
[null,null,null,null,null,null,null,null,null,null,null,null,null,1103]
[null,null,null,null,null,null,null,null,null,null,null,null,null,1104]
[null,null,null,null,null,null,null,null,null,null,null,null,null,1105]
[null,null,null,null,null,null,null,null,null,null,null,null,null,1106]
[null,null,null,null,null,null,null,null,null,null,null,null,null,1107]
[null,null,null,null,null,null,null,null,null,null,null,null,null,1108]
[null,null,null,null,null,null,null,null,null,null,null,null,null,1109]
[null,null,null,null,null,null,null,null,null,null,null,null,null,1110]
[null,null,null,null,null,null,null,null,null,null,null,null,null,1111]
[null,null,null,null,null,null,null,null,null,null,null,null,null,1112]
[null,null,null,null,null,null,null,null,null,null,null,null,null,1113]
[null,null,null,null,null,null,null,null,null,null,null,null,null,1114]
[null,null,null,null,null,null,null,null,null,null,null,null,null,1115]
[null,null,null,null,null,null,null,null,null,null,null,null,null,1116]
[null,null,null,null,null,null,null,null,null,null,null,null,null,1117]
[null,null,null,null,null,null,null,null,null,null,null,null,null,1118]
[null,null,null,null,null,null,null,null,null,null,null,null,null,1119]
[null,null,null,null,null,null,null,null,null,null,null,null,null,1120]
[null,null,null,null,null,null,null,null,null,null,null,null,null,1121]
[null,null,null,null,null,null,null,null,null,null,null,null,null,1122]
[null,null,null,null,null,null,null,null,null,null,null,null,null,1123]
[null,null,null,null,null,null,null,null,null,null,null,null,null,1124]
[null,null,null,null,null,null,null,null,null,null,null,null,null,1125]
[null,null,null,null,null,null,null,null,null,null,null,null,null,1126]
[null,null,null,null,null,null,null,null,null,null,null,null,null,1127]
[null,null,null,null,null,null,null,null,null,null,null,null,null,1128]
[null,null,null,null,null,null,null,null,null,null,null,null,null,1129]
[null,null,null,null,null,null,null,null,null,null,null,null,null,1130]
[null,null,null,null,null,null,null,null,null,null,null,null,null,1131]
[null,null,null,null,null,null,null,null,null,null,null,null,null,1132]
[null,null,null,null,null,null,null,null,null,null,null,null,null,1133]
[null,null,null,null,null,null,null,null,null,null,null,null,null,1134]
[null,null,null,null,null,null,null,null,null,null,null,null,null,1135]
[null,null,null,null,null,null,null,null,null,null,null,null,null,1136]
[null,null,null,null,null,null,null,null,null,null,null,null,null,1137]
[null,null,null,null,null,null,null,null,null,null,null,null,null,1138]
[null,null,null,null,null,null,null,null,null,null,null,null,null,1139]
[null,null,null,null,null,null,null,null,null,null,null,null,null,1140]
[null,null,null,null,null,null,null,null,null,null,null,null,null,1141]
[null,null,null,null,null,null,null,null,null,null,null,null,null,1142]
[null,null,null,null,null,null,null,null,null,null,null,null,null,1143]
[null,null,null,null,null,null,null,null,null,null,null,null,null,1144]
[null,null,null,null,null,null,null,null,null,null,null,null,null,1145]
[null,null,null,null,null,null,null,null,null,null,null,null,null,1146]
[null,null,null,null,null,null,null,null,null,null,null,null,null,1147]
[null,null,null,null,null,null,null,null,null,null,null,null,null,1148]
[null,null,null,null,null,null,null,null,null,null,null,null,null,1149]
[null,null,null,null,null,null,null,null,null,null,null,null,null,1150]
[null,null,null,null,null,null,null,null,null,null,null,null,null,1151]
[null,null,null,null,null,null,null,null,null,null,null,null,null,1152]
[null,null,null,null,null,null,null,null,null,null,null,null,null,1153]
[null,null,null,null,null,null,null,null,null,null,null,null,null,1154]
[null,null,null,null,null,null,null,null,null,null,null,null,null,1155]
[null,null,null,null,null,null,null,null,null,null,null,null,null,1156]
[null,null,null,null,null,null,null,null,null,null,null,null,null,1157]
[null,null,null,null,null,null,null,null,null,null,null,null,null,1158]
[null,null,null,null,null,null,null,null,null,null,null,null,null,1159]
[null,null,null,null,null,null,null,null,null,null,null,null,null,1160]
[null,null,null,null,null,null,null,null,null,null,null,null,null,1161]
[null,null,null,null,null,null,null,null,null,null,null,null,null,1162]
[null,null,null,null,null,null,null,null,null,null,null,null,null,1163]
[null,null,null,null,null,null,null,null,null,null,null,null,null,1164]
[null,null,null,null,null,null,null,null,null,null,null,null,null,1165]
[null,null,null,null,null,null,null,null,null,null,null,null,null,1166]
[null,null,null,null,null,null,null,null,null,null,null,null,null,1167]
[null,null,null,null,null,null,null,null,null,null,null,null,null,1168]
[null,null,null,null,null,null,null,null,null,null,null,null,null,1169]
[null,null,null,null,null,null,null,null,null,null,null,null,null,1170]
[null,null,null,null,null,null,null,null,null,null,null,null,null,1171]
[null,null,null,null,null,null,null,null,null,null,null,null,null,1172]
[null,null,null,null,null,null,null,null,null,null,null,null,null,1173]
[null,null,null,null,null,null,null,null,null,null,null,null,null,1174]
[null,null,null,null,null,null,null,null,null,null,null,null,null,1175]
[null,null,null,null,null,null,null,null,null,null,null,null,null,1176]
[null,null,null,null,null,null,null,null,null,null,null,null,null,1177]
[null,null,null,null,null,null,null,null,null,null,null,null,null,1178]
[null,null,null,null,null,null,null,null,null,null,null,null,null,1179]
[null,null,null,null,null,null,null,null,null,null,null,null,null,1180]
[null,null,null,null,null,null,null,null,null,null,null,null,null,1181]
[null,null,null,null,null,null,null,null,null,null,null,null,null,1182]
[null,null,null,null,null,null,null,null,null,null,null,null,null,1183]
[null,null,null,null,null,null,null,null,null,null,null,null,null,1184]
[null,null,null,null,null,null,null,null,null,null,null,null,null,1185]
[null,null,null,null,null,null,null,null,null,null,null,null,null,1186]
[null,null,null,null,null,null,null,null,null,null,null,null,null,1187]
[null,null,null,null,null,null,null,null,null,null,null,null,null,1188]
[null,null,null,null,null,null,null,null,null,null,null,null,null,1189]
[null,null,null,null,null,null,null,null,null,null,null,null,null,1190]
[null,null,null,null,null,null,null,null,null,null,null,null,null,1191]
[null,null,null,null,null,null,null,null,null,null,null,null,null,1192]
[null,null,null,null,null,null,null,null,null,null,null,null,null,1193]
[null,null,null,null,null,null,null,null,null,null,null,null,null,1194]
[null,null,null,null,null,null,null,null,null,null,null,null,null,1195]
[null,null,null,null,null,null,null,null,null,null,null,null,null,1196]
[null,null,null,null,null,null,null,null,null,null,null,null,null,1197]
[null,null,null,null,null,null,null,null,null,null,null,null,null,1198]
[null,null,null,null,null,null,null,null,null,null,null,null,null,1199]
[null,null,null,null,null,null,null,null,null,null,null,null,null,1200]
[null,null,null,null,null,null,null,null,null,null,null,null,null,1201]
[null,null,null,null,null,null,null,null,null,null,null,null,null,1202]
[null,null,null,null,null,null,null,null,null,null,null,null,null,1203]
[null,null,null,null,null,null,null,null,null,null,null,null,null,1204]
[null,null,null,null,null,null,null,null,null,null,null,null,null,1205]
[null,null,null,null,null,null,null,null,null,null,null,null,null,1206]
[null,null,null,null,null,null,null,null,null,null,null,null,null,1207]
[null,null,null,null,null,null,null,null,null,null,null,null,null,1208]
[null,null,null,null,null,null,null,null,null,null,null,null,null,1209]
[null,null,null,null,null,null,null,null,null,null,null,null,null,1210]
[null,null,null,null,null,null,null,null,null,null,null,null,null,1211]
[null,null,null,null,null,null,null,null,null,null,null,null,null,1212]
[null,null,null,null,null,null,null,null,null,null,null,null,null,1213]
[null,null,null,null,null,null,null,null,null,null,null,null,null,1214]
[null,null,null,null,null,null,null,null,null,null,null,null,null,1215]
[null,null,null,null,null,null,null,null,null,null,null,null,null,1216]
[null,null,null,null,null,null,null,null,null,null,null,null,null,1217]
[null,null,null,null,null,null,null,null,null,null,null,null,null,1218]
[null,null,null,null,null,null,null,null,null,null,null,null,null,1219]
[null,null,null,null,null,null,null,null,null,null,null,null,null,1220]
[null,null,null,null,null,null,null,null,null,null,null,null,null,1221]
[null,null,null,null,null,null,null,null,null,null,null,null,null,1222]
[null,null,null,null,null,null,null,null,null,null,null,null,null,1223]
[null,null,null,null,null,null,null,null,null,null,null,null,null,1224]
[null,null,null,null,null,null,null,null,null,null,null,null,null,1225]
[null,null,null,null,null,null,null,null,null,null,null,null,null,1226]
[null,null,null,null,null,null,null,null,null,null,null,null,null,1227]
[null,null,null,null,null,null,null,null,null,null,null,null,null,1228]
[null,null,null,null,null,null,null,null,null,null,null,null,null,1229]
[null,null,null,null,null,null,null,null,null,null,null,null,null,1230]
[null,null,null,null,null,null,null,null,null,null,null,null,null,1231]
[null,null,null,null,null,null,null,null,null,null,null,null,null,1232]
[null,null,null,null,null,null,null,null,null,null,null,null,null,1233]
[null,null,null,null,null,null,null,null,null,null,null,null,null,1234]
[null,null,null,null,null,null,null,null,null,null,null,null,null,1235]
[null,null,null,null,null,null,null,null,null,null,null,null,null,1236]
[null,null,null,null,null,null,null,null,null,null,null,null,null,1237]
[null,null,null,null,null,null,null,null,null,null,null,null,null,1238]
[null,null,null,null,null,null,null,null,null,null,null,null,null,1239]
[null,null,null,null,null,null,null,null,null,null,null,null,null,1240]
[null,null,null,null,null,null,null,null,null,null,null,null,null,1241]
[null,null,null,null,null,null,null,null,null,null,null,null,null,1242]
[null,null,null,null,null,null,null,null,null,null,null,null,null,1243]
[null,null,null,null,null,null,null,null,null,null,null,null,null,1244]
[null,null,null,null,null,null,null,null,null,null,null,null,null,1245]
[null,null,null,null,null,null,null,null,null,null,null,null,null,1246]
[null,null,null,null,null,null,null,null,null,null,null,null,null,1247]
[null,null,null,null,null,null,null,null,null,null,null,null,null,1248]
[null,null,null,null,null,null,null,null,null,null,null,null,null,1249]
[null,null,null,null,null,null,null,null,null,null,null,null,null,1250]
[null,null,null,null,null,null,null,null,null,null,null,null,null,1251]
[null,null,null,null,null,null,null,null,null,null,null,null,null,1252]
[null,null,null,null,null,null,null,null,null,null,null,null,null,1253]
[null,null,null,null,null,null,null,null,null,null,null,null,null,1254]
[null,null,null,null,null,null,null,null,null,null,null,null,null,1255]
[null,null,null,null,null,null,null,null,null,null,null,null,null,1256]
[null,null,null,null,null,null,null,null,null,null,null,null,null,1257]
[null,null,null,null,null,null,null,null,null,null,null,null,null,1258]
[null,null,null,null,null,null,null,null,null,null,null,null,null,1259]
[null,null,null,null,null,null,null,null,null,null,null,null,null,1260]
[null,null,null,null,null,null,null,null,null,null,null,null,null,1261]
[null,null,null,null,null,null,null,null,null,null,null,null,null,1262]
[null,null,null,null,null,null,null,null,null,null,null,null,null,1263]
[null,null,null,null,null,null,null,null,null,null,null,null,null,1264]
[null,null,null,null,null,null,null,null,null,null,null,null,null,1265]
[null,null,null,null,null,null,null,null,null,null,null,null,null,1266]
[null,null,null,null,null,null,null,null,null,null,null,null,null,1267]
[null,null,null,null,null,null,null,null,null,null,null,null,null,1268]
[null,null,null,null,null,null,null,null,null,null,null,null,null,1269]
[null,null,null,null,null,null,null,null,null,null,null,null,null,1270]
[null,null,null,null,null,null,null,null,null,null,null,null,null,1271]
[null,null,null,null,null,null,null,null,null,null,null,null,null,1272]
[null,null,null,null,null,null,null,null,null,null,null,null,null,1273]
[null,null,null,null,null,null,null,null,null,null,null,null,null,1274]
[null,null,null,null,null,null,null,null,null,null,null,null,null,1275]
[null,null,null,null,null,null,null,null,null,null,null,null,null,1276]
[null,null,null,null,null,null,null,null,null,null,null,null,null,1277]
[null,null,null,null,null,null,null,null,null,null,null,null,null,1278]
[null,null,null,null,null,null,null,null,null,null,null,null,null,1279]
[null,null,null,null,null,null,null,null,null,null,null,null,null,1280]
[null,null,null,null,null,null,null,null,null,null,null,null,null,1281]
[null,null,null,null,null,null,null,null,null,null,null,null,null,1282]
[null,null,null,null,null,null,null,null,null,null,null,null,null,1283]
[null,null,null,null,null,null,null,null,null,null,null,null,null,1284]
[null,null,null,null,null,null,null,null,null,null,null,null,null,1285]
[null,null,null,null,null,null,null,null,null,null,null,null,null,1286]
[null,null,null,null,null,null,null,null,null,null,null,null,null,1287]
[null,null,null,null,null,null,null,null,null,null,null,null,null,1288]
[null,null,null,null,null,null,null,null,null,null,null,null,null,1289]
[null,null,null,null,null,null,null,null,null,null,null,null,null,1290]
[null,null,null,null,null,null,null,null,null,null,null,null,null,1291]
[null,null,null,null,null,null,null,null,null,null,null,null,null,1292]
[null,null,null,null,null,null,null,null,null,null,null,null,null,1293]
[null,null,null,null,null,null,null,null,null,null,null,null,null,1294]
[null,null,null,null,null,null,null,null,null,null,null,null,null,1295]
[null,null,null,null,null,null,null,null,null,null,null,null,null,1296]
[null,null,null,null,null,null,null,null,null,null,null,null,null,1297]
[null,null,null,null,null,null,null,null,null,null,null,null,null,1298]
[null,null,null,null,null,null,null,null,null,null,null,null,null,1299]
[null,null,null,null,null,null,null,null,null,null,null,null,null,1300]
[null,null,null,null,null,null,null,null,null,null,null,null,null,1301]
[null,null,null,null,null,null,null,null,null,null,null,null,null,1302]
[null,null,null,null,null,null,null,null,null,null,null,null,null,1303]
[null,null,null,null,null,null,null,null,null,null,null,null,null,1304]
[null,null,null,null,null,null,null,null,null,null,null,null,null,1305]
[null,null,null,null,null,null,null,null,null,null,null,null,null,1306]
[null,null,null,null,null,null,null,null,null,null,null,null,null,1307]
[null,null,null,null,null,null,null,null,null,null,null,null,null,1308]
[null,null,null,null,null,null,null,null,null,null,null,null,null,1309]
[null,null,null,null,null,null,null,null,null,null,null,null,null,1310]
[null,null,null,null,null,null,null,null,null,null,null,null,null,1311]
[null,null,null,null,null,null,null,null,null,null,null,null,null,1312]
[null,null,null,null,null,null,null,null,null,null,null,null,null,1313]
[null,null,null,null,null,null,null,null,null,null,null,null,null,1314]
[null,null,null,null,null,null,null,null,null,null,null,null,null,1315]
[null,null,null,null,null,null,null,null,null,null,null,null,null,1316]
[null,null,null,null,null,null,null,null,null,null,null,null,null,1317]
[null,null,null,null,null,null,null,null,null,null,null,null,null,1318]
[null,null,null,null,null,null,null,null,null,null,null,null,null,1319]
[null,null,null,null,null,null,null,null,null,null,null,null,null,1320]
[null,null,null,null,null,null,null,null,null,null,null,null,null,1321]
[null,null,null,null,null,null,null,null,null,null,null,null,null,1322]
[null,null,null,null,null,null,null,null,null,null,null,null,null,1323]
[null,null,null,null,null,null,null,null,null,null,null,null,null,1324]
[null,null,null,null,null,null,null,null,null,null,null,null,null,1325]
[null,null,null,null,null,null,null,null,null,null,null,null,null,1326]
[null,null,null,null,null,null,null,null,null,null,null,null,null,1327]
[null,null,null,null,null,null,null,null,null,null,null,null,null,1328]
[null,null,null,null,null,null,null,null,null,null,null,null,null,1329]
[null,null,null,null,null,null,null,null,null,null,null,null,null,1330]
[null,null,null,null,null,null,null,null,null,null,null,null,null,1331]
[null,null,null,null,null,null,null,null,null,null,null,null,null,1332]
[null,null,null,null,null,null,null,null,null,null,null,null,null,1333]
[null,null,null,null,null,null,null,null,null,null,null,null,null,1334]
[null,null,null,null,null,null,null,null,null,null,null,null,null,1335]
[null,null,null,null,null,null,null,null,null,null,null,null,null,1336]
[null,null,null,null,null,null,null,null,null,null,null,null,null,1337]
[null,null,null,null,null,null,null,null,null,null,null,null,null,1338]
[null,null,null,null,null,null,null,null,null,null,null,null,null,1339]
[null,null,null,null,null,null,null,null,null,null,null,null,null,1340]
[null,null,null,null,null,null,null,null,null,null,null,null,null,1341]
[null,null,null,null,null,null,null,null,null,null,null,null,null,1342]
[null,null,null,null,null,null,null,null,null,null,null,null,null,1343]
[null,null,null,null,null,null,null,null,null,null,null,null,null,1344]
[null,null,null,null,null,null,null,null,null,null,null,null,null,1345]
[null,null,null,null,null,null,null,null,null,null,null,null,null,1346]
[null,null,null,null,null,null,null,null,null,null,null,null,null,1347]
[null,null,null,null,null,null,null,null,null,null,null,null,null,1348]
[null,null,null,null,null,null,null,null,null,null,null,null,null,1349]
[null,null,null,null,null,null,null,null,null,null,null,null,null,1350]
[null,null,null,null,null,null,null,null,null,null,null,null,null,1351]
[null,null,null,null,null,null,null,null,null,null,null,null,null,1352]
[null,null,null,null,null,null,null,null,null,null,null,null,null,1353]
[null,null,null,null,null,null,null,null,null,null,null,null,null,1354]
[null,null,null,null,null,null,null,null,null,null,null,null,null,1355]
[null,null,null,null,null,null,null,null,null,null,null,null,null,1356]
[null,null,null,null,null,null,null,null,null,null,null,null,null,1357]
[null,null,null,null,null,null,null,null,null,null,null,null,null,1358]
[null,null,null,null,null,null,null,null,null,null,null,null,null,1359]
[null,null,null,null,null,null,null,null,null,null,null,null,null,1360]
[null,null,null,null,null,null,null,null,null,null,null,null,null,1361]
[null,null,null,null,null,null,null,null,null,null,null,null,null,1362]
[null,null,null,null,null,null,null,null,null,null,null,null,null,1363]
[null,null,null,null,null,null,null,null,null,null,null,null,null,1364]
[null,null,null,null,null,null,null,null,null,null,null,null,null,1365]
[null,null,null,null,null,null,null,null,null,null,null,null,null,1366]
[null,null,null,null,null,null,null,null,null,null,null,null,null,1367]
[null,null,null,null,null,null,null,null,null,null,null,null,null,1368]
[null,null,null,null,null,null,null,null,null,null,null,null,null,1369]
[null,null,null,null,null,null,null,null,null,null,null,null,null,1370]
[null,null,null,null,null,null,null,null,null,null,null,null,null,1371]
[null,null,null,null,null,null,null,null,null,null,null,null,null,1372]
[null,null,null,null,null,null,null,null,null,null,null,null,null,1373]
[null,null,null,null,null,null,null,null,null,null,null,null,null,1374]
[null,null,null,null,null,null,null,null,null,null,null,null,null,1375]
[null,null,null,null,null,null,null,null,null,null,null,null,null,1376]
[null,null,null,null,null,null,null,null,null,null,null,null,null,1377]
[null,null,null,null,null,null,null,null,null,null,null,null,null,1378]
[null,null,null,null,null,null,null,null,null,null,null,null,null,1379]
[null,null,null,null,null,null,null,null,null,null,null,null,null,1380]
[null,null,null,null,null,null,null,null,null,null,null,null,null,1381]
[null,null,null,null,null,null,null,null,null,null,null,null,null,1382]
[null,null,null,null,null,null,null,null,null,null,null,null,null,1383]
[null,null,null,null,null,null,null,null,null,null,null,null,null,1384]
[null,null,null,null,null,null,null,null,null,null,null,null,null,1385]
[null,null,null,null,null,null,null,null,null,null,null,null,null,1386]
[null,null,null,null,null,null,null,null,null,null,null,null,null,1387]
[null,null,null,null,null,null,null,null,null,null,null,null,null,1388]
[null,null,null,null,null,null,null,null,null,null,null,null,null,1389]
[null,null,null,null,null,null,null,null,null,null,null,null,null,1390]
[null,null,null,null,null,null,null,null,null,null,null,null,null,1391]
[null,null,null,null,null,null,null,null,null,null,null,null,null,1392]
[null,null,null,null,null,null,null,null,null,null,null,null,null,1393]
[null,null,null,null,null,null,null,null,null,null,null,null,null,1394]
[null,null,null,null,null,null,null,null,null,null,null,null,null,1395]
[null,null,null,null,null,null,null,null,null,null,null,null,null,1396]
[null,null,null,null,null,null,null,null,null,null,null,null,null,1397]
[null,null,null,null,null,null,null,null,null,null,null,null,null,1398]
[null,null,null,null,null,null,null,null,null,null,null,null,null,1399]
[null,null,null,null,null,null,null,null,null,null,null,null,null,1400]
[null,null,null,null,null,null,null,null,null,null,null,null,null,1401]
[null,null,null,null,null,null,null,null,null,null,null,null,null,1402]
[null,null,null,null,null,null,null,null,null,null,null,null,null,1403]
[null,null,null,null,null,null,null,null,null,null,null,null,null,1404]
[null,null,null,null,null,null,null,null,null,null,null,null,null,1405]
[null,null,null,null,null,null,null,null,null,null,null,null,null,1406]
[null,null,null,null,null,null,null,null,null,null,null,null,null,1407]
[null,null,null,null,null,null,null,null,null,null,null,null,null,1408]
[null,null,null,null,null,null,null,null,null,null,null,null,null,1409]
[null,null,null,null,null,null,null,null,null,null,null,null,null,1410]
[null,null,null,null,null,null,null,null,null,null,null,null,null,1411]
[null,null,null,null,null,null,null,null,null,null,null,null,null,1412]
[null,null,null,null,null,null,null,null,null,null,null,null,null,1413]
[null,null,null,null,null,null,null,null,null,null,null,null,null,1414]
[null,null,null,null,null,null,null,null,null,null,null,null,null,1415]
[null,null,null,null,null,null,null,null,null,null,null,null,null,1416]
[null,null,null,null,null,null,null,null,null,null,null,null,null,1417]
[null,null,null,null,null,null,null,null,null,null,null,null,null,1418]
[null,null,null,null,null,null,null,null,null,null,null,null,null,1419]
[null,null,null,null,null,null,null,null,null,null,null,null,null,1420]
[null,null,null,null,null,null,null,null,null,null,null,null,null,1421]
[null,null,null,null,null,null,null,null,null,null,null,null,null,1422]
[null,null,null,null,null,null,null,null,null,null,null,null,null,1423]
[null,null,null,null,null,null,null,null,null,null,null,null,null,1424]
[null,null,null,null,null,null,null,null,null,null,null,null,null,1425]
[null,null,null,null,null,null,null,null,null,null,null,null,null,1426]
[null,null,null,null,null,null,null,null,null,null,null,null,null,1427]
[null,null,null,null,null,null,null,null,null,null,null,null,null,1428]
[null,null,null,null,null,null,null,null,null,null,null,null,null,1429]
[null,null,null,null,null,null,null,null,null,null,null,null,null,1430]
[null,null,null,null,null,null,null,null,null,null,null,null,null,1431]
[null,null,null,null,null,null,null,null,null,null,null,null,null,1432]
[null,null,null,null,null,null,null,null,null,null,null,null,null,1433]
[null,null,null,null,null,null,null,null,null,null,null,null,null,1434]
[null,null,null,null,null,null,null,null,null,null,null,null,null,1435]
[null,null,null,null,null,null,null,null,null,null,null,null,null,1436]
[null,null,null,null,null,null,null,null,null,null,null,null,null,1437]
[null,null,null,null,null,null,null,null,null,null,null,null,null,1438]
[null,null,null,null,null,null,null,null,null,null,null,null,null,1439]
[null,null,null,null,null,null,null,null,null,null,null,null,null,1440]
[null,null,null,null,null,null,null,null,null,null,null,null,null,1441]
[null,null,null,null,null,null,null,null,null,null,null,null,null,1442]
[null,null,null,null,null,null,null,null,null,null,null,null,null,1443]
[null,null,null,null,null,null,null,null,null,null,null,null,null,1444]
[null,null,null,null,null,null,null,null,null,null,null,null,null,1445]
[null,null,null,null,null,null,null,null,null,null,null,null,null,1446]
[null,null,null,null,null,null,null,null,null,null,null,null,null,1447]
[null,null,null,null,null,null,null,null,null,null,null,null,null,1448]
[null,null,null,null,null,null,null,null,null,null,null,null,null,1449]
[null,null,null,null,null,null,null,null,null,null,null,null,null,1450]
[null,null,null,null,null,null,null,null,null,null,null,null,null,1451]
[null,null,null,null,null,null,null,null,null,null,null,null,null,1452]
[null,null,null,null,null,null,null,null,null,null,null,null,null,1453]
[null,null,null,null,null,null,null,null,null,null,null,null,null,1454]
[null,null,null,null,null,null,null,null,null,null,null,null,null,1455]
[null,null,null,null,null,null,null,null,null,null,null,null,null,1456]
[null,null,null,null,null,null,null,null,null,null,null,null,null,1457]
[null,null,null,null,null,null,null,null,null,null,null,null,null,1458]
[null,null,null,null,null,null,null,null,null,null,null,null,null,1459]
[null,null,null,null,null,null,null,null,null,null,null,null,null,1460]
[null,null,null,null,null,null,null,null,null,null,null,null,null,1461]
[null,null,null,null,null,null,null,null,null,null,null,null,null,1462]
[null,null,null,null,null,null,null,null,null,null,null,null,null,1463]
[null,null,null,null,null,null,null,null,null,null,null,null,null,1464]
[null,null,null,null,null,null,null,null,null,null,null,null,null,1465]
[null,null,null,null,null,null,null,null,null,null,null,null,null,1466]
[null,null,null,null,null,null,null,null,null,null,null,null,null,1467]
[null,null,null,null,null,null,null,null,null,null,null,null,null,1468]
[null,null,null,null,null,null,null,null,null,null,null,null,null,1469]
[null,null,null,null,null,null,null,null,null,null,null,null,null,1470]
[null,null,null,null,null,null,null,null,null,null,null,null,null,1471]
[null,null,null,null,null,null,null,null,null,null,null,null,null,1472]
[null,null,null,null,null,null,null,null,null,null,null,null,null,1473]
[null,null,null,null,null,null,null,null,null,null,null,null,null,1474]
[null,null,null,null,null,null,null,null,null,null,null,null,null,1475]
[null,null,null,null,null,null,null,null,null,null,null,null,null,1476]
[null,null,null,null,null,null,null,null,null,null,null,null,null,1477]
[null,null,null,null,null,null,null,null,null,null,null,null,null,1478]
[null,null,null,null,null,null,null,null,null,null,null,null,null,1479]
[null,null,null,null,null,null,null,null,null,null,null,null,null,1480]
[null,null,null,null,null,null,null,null,null,null,null,null,null,1481]
[null,null,null,null,null,null,null,null,null,null,null,null,null,1482]
[null,null,null,null,null,null,null,null,null,null,null,null,null,1483]
[null,null,null,null,null,null,null,null,null,null,null,null,null,1484]
[null,null,null,null,null,null,null,null,null,null,null,null,null,1485]
[null,null,null,null,null,null,null,null,null,null,null,null,null,1486]
[null,null,null,null,null,null,null,null,null,null,null,null,null,1487]
[null,null,null,null,null,null,null,null,null,null,null,null,null,1488]
[null,null,null,null,null,null,null,null,null,null,null,null,null,1489]
[null,null,null,null,null,null,null,null,null,null,null,null,null,1490]
[null,null,null,null,null,null,null,null,null,null,null,null,null,1491]
[null,null,null,null,null,null,null,null,null,null,null,null,null,1492]
[null,null,null,null,null,null,null,null,null,null,null,null,null,1493]
[null,null,null,null,null,null,null,null,null,null,null,null,null,1494]
[null,null,null,null,null,null,null,null,null,null,null,null,null,1495]
[null,null,null,null,null,null,null,null,null,null,null,null,null,1496]
[null,null,null,null,null,null,null,null,null,null,null,null,null,1497]
[null,null,null,null,null,null,null,null,null,null,null,null,null,1498]
[null,null,null,null,null,null,null,null,null,null,null,null,null,1499]
[null,null,null,null,null,null,null,null,null,null,null,null,null,1500]
[null,null,null,null,null,null,null,null,null,null,null,null,null,1501]
[null,null,null,null,null,null,null,null,null,null,null,null,null,1502]
[null,null,null,null,null,null,null,null,null,null,null,null,null,1503]
[null,null,null,null,null,null,null,null,null,null,null,null,null,1504]
[null,null,null,null,null,null,null,null,null,null,null,null,null,1505]
[null,null,null,null,null,null,null,null,null,null,null,null,null,1506]
[null,null,null,null,null,null,null,null,null,null,null,null,null,1507]
[null,null,null,null,null,null,null,null,null,null,null,null,null,1508]
[null,null,null,null,null,null,null,null,null,null,null,null,null,1509]
[null,null,null,null,null,null,null,null,null,null,null,null,null,1510]
[null,null,null,null,null,null,null,null,null,null,null,null,null,1511]
[null,null,null,null,null,null,null,null,null,null,null,null,null,1512]
[null,null,null,null,null,null,null,null,null,null,null,null,null,1513]
[null,null,null,null,null,null,null,null,null,null,null,null,null,1514]
[null,null,null,null,null,null,null,null,null,null,null,null,null,1515]
[null,null,null,null,null,null,null,null,null,null,null,null,null,1516]
[null,null,null,null,null,null,null,null,null,null,null,null,null,1517]
[null,null,null,null,null,null,null,null,null,null,null,null,null,1518]
[null,null,null,null,null,null,null,null,null,null,null,null,null,1519]
[null,null,null,null,null,null,null,null,null,null,null,null,null,1520]
[null,null,null,null,null,null,null,null,null,null,null,null,null,1521]
[null,null,null,null,null,null,null,null,null,null,null,null,null,1522]
[null,null,null,null,null,null,null,null,null,null,null,null,null,1523]
[null,null,null,null,null,null,null,null,null,null,null,null,null,1524]
[null,null,null,null,null,null,null,null,null,null,null,null,null,1525]
[null,null,null,null,null,null,null,null,null,null,null,null,null,1526]
[null,null,null,null,null,null,null,null,null,null,null,null,null,1527]
[null,null,null,null,null,null,null,null,null,null,null,null,null,1528]
[null,null,null,null,null,null,null,null,null,null,null,null,null,1529]
[null,null,null,null,null,null,null,null,null,null,null,null,null,1530]
[null,null,null,null,null,null,null,null,null,null,null,null,null,1531]
[null,null,null,null,null,null,null,null,null,null,null,null,null,1532]
[null,null,null,null,null,null,null,null,null,null,null,null,null,1533]
[null,null,null,null,null,null,null,null,null,null,null,null,null,1534]
[null,null,null,null,null,null,null,null,null,null,null,null,null,1535]
[null,null,null,null,null,null,null,null,null,null,null,null,null,1536]
[null,null,null,null,null,null,null,null,null,null,null,null,null,1537]
[null,null,null,null,null,null,null,null,null,null,null,null,null,1538]
[null,null,null,null,null,null,null,null,null,null,null,null,null,1539]
[null,null,null,null,null,null,null,null,null,null,null,null,null,1540]
[null,null,null,null,null,null,null,null,null,null,null,null,null,1541]
[null,null,null,null,null,null,null,null,null,null,null,null,null,1542]
[null,null,null,null,null,null,null,null,null,null,null,null,null,1543]
[null,null,null,null,null,null,null,null,null,null,null,null,null,1544]
[null,null,null,null,null,null,null,null,null,null,null,null,null,1545]
[null,null,null,null,null,null,null,null,null,null,null,null,null,1546]
[null,null,null,null,null,null,null,null,null,null,null,null,null,1547]
[null,null,null,null,null,null,null,null,null,null,null,null,null,1548]
[null,null,null,null,null,null,null,null,null,null,null,null,null,1549]
[null,null,null,null,null,null,null,null,null,null,null,null,null,1550]
[null,null,null,null,null,null,null,null,null,null,null,null,null,1551]
[null,null,null,null,null,null,null,null,null,null,null,null,null,1552]
[null,null,null,null,null,null,null,null,null,null,null,null,null,1553]
[null,null,null,null,null,null,null,null,null,null,null,null,null,1554]
[null,null,null,null,null,null,null,null,null,null,null,null,null,1555]
[null,null,null,null,null,null,null,null,null,null,null,null,null,1556]
[null,null,null,null,null,null,null,null,null,null,null,null,null,1557]
[null,null,null,null,null,null,null,null,null,null,null,null,null,1558]
[null,null,null,null,null,null,null,null,null,null,null,null,null,1559]
[null,null,null,null,null,null,null,null,null,null,null,null,null,1560]
[null,null,null,null,null,null,null,null,null,null,null,null,null,1561]
[null,null,null,null,null,null,null,null,null,null,null,null,null,1562]
[null,null,null,null,null,null,null,null,null,null,null,null,null,1563]
[null,null,null,null,null,null,null,null,null,null,null,null,null,1564]
[null,null,null,null,null,null,null,null,null,null,null,null,null,1565]
[null,null,null,null,null,null,null,null,null,null,null,null,null,1566]
[null,null,null,null,null,null,null,null,null,null,null,null,null,1567]
[null,null,null,null,null,null,null,null,null,null,null,null,null,1568]
[null,null,null,null,null,null,null,null,null,null,null,null,null,1569]
[null,null,null,null,null,null,null,null,null,null,null,null,null,1570]
[null,null,null,null,null,null,null,null,null,null,null,null,null,1571]
[null,null,null,null,null,null,null,null,null,null,null,null,null,1572]
[null,null,null,null,null,null,null,null,null,null,null,null,null,1573]
[null,null,null,null,null,null,null,null,null,null,null,null,null,1574]
[null,null,null,null,null,null,null,null,null,null,null,null,null,1575]
[null,null,null,null,null,null,null,null,null,null,null,null,null,1576]
[null,null,null,null,null,null,null,null,null,null,null,null,null,1577]
[null,null,null,null,null,null,null,null,null,null,null,null,null,1578]
[null,null,null,null,null,null,null,null,null,null,null,null,null,1579]
[null,null,null,null,null,null,null,null,null,null,null,null,null,1580]
[null,null,null,null,null,null,null,null,null,null,null,null,null,1581]
[null,null,null,null,null,null,null,null,null,null,null,null,null,1582]
[null,null,null,null,null,null,null,null,null,null,null,null,null,1583]
[null,null,null,null,null,null,null,null,null,null,null,null,null,1584]
[null,null,null,null,null,null,null,null,null,null,null,null,null,1585]
[null,null,null,null,null,null,null,null,null,null,null,null,null,1586]
[null,null,null,null,null,null,null,null,null,null,null,null,null,1587]
[null,null,null,null,null,null,null,null,null,null,null,null,null,1588]
[null,null,null,null,null,null,null,null,null,null,null,null,null,1589]
[null,null,null,null,null,null,null,null,null,null,null,null,null,1590]
[null,null,null,null,null,null,null,null,null,null,null,null,null,1591]
[null,null,null,null,null,null,null,null,null,null,null,null,null,1592]
[null,null,null,null,null,null,null,null,null,null,null,null,null,1593]
[null,null,null,null,null,null,null,null,null,null,null,null,null,1594]
[null,null,null,null,null,null,null,null,null,null,null,null,null,1595]
[null,null,null,null,null,null,null,null,null,null,null,null,null,1596]
[null,null,null,null,null,null,null,null,null,null,null,null,null,1597]
[null,null,null,null,null,null,null,null,null,null,null,null,null,1598]
[null,null,null,null,null,null,null,null,null,null,null,null,null,1599]
[null,null,null,null,null,null,null,null,null,null,null,null,null,1600]
[null,null,null,null,null,null,null,null,null,null,null,null,null,1601]
[null,null,null,null,null,null,null,null,null,null,null,null,null,1602]
[null,null,null,null,null,null,null,null,null,null,null,null,null,1603]
[null,null,null,null,null,null,null,null,null,null,null,null,null,1604]
[null,null,null,null,null,null,null,null,null,null,null,null,null,1605]
[null,null,null,null,null,null,null,null,null,null,null,null,null,1606]
[null,null,null,null,null,null,null,null,null,null,null,null,null,1607]
[null,null,null,null,null,null,null,null,null,null,null,null,null,1608]
[null,null,null,null,null,null,null,null,null,null,null,null,null,1609]
[null,null,null,null,null,null,null,null,null,null,null,null,null,1610]
[null,null,null,null,null,null,null,null,null,null,null,null,null,1611]
[null,null,null,null,null,null,null,null,null,null,null,null,null,1612]
[null,null,null,null,null,null,null,null,null,null,null,null,null,1613]
[null,null,null,null,null,null,null,null,null,null,null,null,null,1614]
[null,null,null,null,null,null,null,null,null,null,null,null,null,1615]
[null,null,null,null,null,null,null,null,null,null,null,null,null,1616]
[null,null,null,null,null,null,null,null,null,null,null,null,null,1617]
[null,null,null,null,null,null,null,null,null,null,null,null,null,1618]
[null,null,null,null,null,null,null,null,null,null,null,null,null,1619]
[null,null,null,null,null,null,null,null,null,null,null,null,null,1620]
[null,null,null,null,null,null,null,null,null,null,null,null,null,1621]
[null,null,null,null,null,null,null,null,null,null,null,null,null,1622]
[null,null,null,null,null,null,null,null,null,null,null,null,null,1623]
[null,null,null,null,null,null,null,null,null,null,null,null,null,1624]
[null,null,null,null,null,null,null,null,null,null,null,null,null,1625]
[null,null,null,null,null,null,null,null,null,null,null,null,null,1626]
[null,null,null,null,null,null,null,null,null,null,null,null,null,1627]
[null,null,null,null,null,null,null,null,null,null,null,null,null,1628]
[null,null,null,null,null,null,null,null,null,null,null,null,null,1629]
[null,null,null,null,null,null,null,null,null,null,null,null,null,1630]
[null,null,null,null,null,null,null,null,null,null,null,null,null,1631]
[null,null,null,null,null,null,null,null,null,null,null,null,null,1632]
[null,null,null,null,null,null,null,null,null,null,null,null,null,1633]
[null,null,null,null,null,null,null,null,null,null,null,null,null,1634]
[null,null,null,null,null,null,null,null,null,null,null,null,null,1635]
[null,null,null,null,null,null,null,null,null,null,null,null,null,1636]
[null,null,null,null,null,null,null,null,null,null,null,null,null,1637]
[null,null,null,null,null,null,null,null,null,null,null,null,null,1638]
[null,null,null,null,null,null,null,null,null,null,null,null,null,1639]
[null,null,null,null,null,null,null,null,null,null,null,null,null,1640]
[null,null,null,null,null,null,null,null,null,null,null,null,null,1641]
[null,null,null,null,null,null,null,null,null,null,null,null,null,1642]
[null,null,null,null,null,null,null,null,null,null,null,null,null,1643]
[null,null,null,null,null,null,null,null,null,null,null,null,null,1644]
[null,null,null,null,null,null,null,null,null,null,null,null,null,1645]
[null,null,null,null,null,null,null,null,null,null,null,null,null,1646]
[null,null,null,null,null,null,null,null,null,null,null,null,null,1647]
[null,null,null,null,null,null,null,null,null,null,null,null,null,1648]
[null,null,null,null,null,null,null,null,null,null,null,null,null,1649]
[null,null,null,null,null,null,null,null,null,null,null,null,null,1650]
[null,null,null,null,null,null,null,null,null,null,null,null,null,1651]
[null,null,null,null,null,null,null,null,null,null,null,null,null,1652]
[null,null,null,null,null,null,null,null,null,null,null,null,null,1653]
[null,null,null,null,null,null,null,null,null,null,null,null,null,1654]
[null,null,null,null,null,null,null,null,null,null,null,null,null,1655]
[null,null,null,null,null,null,null,null,null,null,null,null,null,1656]
[null,null,null,null,null,null,null,null,null,null,null,null,null,1657]
[null,null,null,null,null,null,null,null,null,null,null,null,null,1658]
[null,null,null,null,null,null,null,null,null,null,null,null,null,1659]
[null,null,null,null,null,null,null,null,null,null,null,null,null,1660]
[null,null,null,null,null,null,null,null,null,null,null,null,null,1661]
[null,null,null,null,null,null,null,null,null,null,null,null,null,1662]
[null,null,null,null,null,null,null,null,null,null,null,null,null,1663]
[null,null,null,null,null,null,null,null,null,null,null,null,null,1664]
[null,null,null,null,null,null,null,null,null,null,null,null,null,1665]
[null,null,null,null,null,null,null,null,null,null,null,null,null,1666]
[null,null,null,null,null,null,null,null,null,null,null,null,null,1667]
[null,null,null,null,null,null,null,null,null,null,null,null,null,1668]
[null,null,null,null,null,null,null,null,null,null,null,null,null,1669]
[null,null,null,null,null,null,null,null,null,null,null,null,null,1670]
[null,null,null,null,null,null,null,null,null,null,null,null,null,1671]
[null,null,null,null,null,null,null,null,null,null,null,null,null,1672]
[null,null,null,null,null,null,null,null,null,null,null,null,null,1673]
[null,null,null,null,null,null,null,null,null,null,null,null,null,1674]
[null,null,null,null,null,null,null,null,null,null,null,null,null,1675]
[null,null,null,null,null,null,null,null,null,null,null,null,null,1676]
[null,null,null,null,null,null,null,null,null,null,null,null,null,1677]
[null,null,null,null,null,null,null,null,null,null,null,null,null,1678]
[null,null,null,null,null,null,null,null,null,null,null,null,null,1679]
[null,null,null,null,null,null,null,null,null,null,null,null,null,1680]
[null,null,null,null,null,null,null,null,null,null,null,null,null,1681]
[null,null,null,null,null,null,null,null,null,null,null,null,null,1682]
[null,null,null,null,null,null,null,null,null,null,null,null,null,1683]
[null,null,null,null,null,null,null,null,null,null,null,null,null,1684]
[null,null,null,null,null,null,null,null,null,null,null,null,null,1685]
[null,null,null,null,null,null,null,null,null,null,null,null,null,1686]
[null,null,null,null,null,null,null,null,null,null,null,null,null,1687]
[null,null,null,null,null,null,null,null,null,null,null,null,null,1688]
[null,null,null,null,null,null,null,null,null,null,null,null,null,1689]
[null,null,null,null,null,null,null,null,null,null,null,null,null,1690]
[null,null,null,null,null,null,null,null,null,null,null,null,null,1691]
[null,null,null,null,null,null,null,null,null,null,null,null,null,1692]
[null,null,null,null,null,null,null,null,null,null,null,null,null,1693]
[null,null,null,null,null,null,null,null,null,null,null,null,null,1694]
[null,null,null,null,null,null,null,null,null,null,null,null,null,1695]
[null,null,null,null,null,null,null,null,null,null,null,null,null,1696]
[null,null,null,null,null,null,null,null,null,null,null,null,null,1697]
[null,null,null,null,null,null,null,null,null,null,null,null,null,1698]
[null,null,null,null,null,null,null,null,null,null,null,null,null,1699]
[null,null,null,null,null,null,null,null,null,null,null,null,null,1700]
[null,null,null,null,null,null,null,null,null,null,null,null,null,1701]
[null,null,null,null,null,null,null,null,null,null,null,null,null,1702]
[null,null,null,null,null,null,null,null,null,null,null,null,null,1703]
[null,null,null,null,null,null,null,null,null,null,null,null,null,1704]
[null,null,null,null,null,null,null,null,null,null,null,null,null,1705]
[null,null,null,null,null,null,null,null,null,null,null,null,null,1706]
[null,null,null,null,null,null,null,null,null,null,null,null,null,1707]
[null,null,null,null,null,null,null,null,null,null,null,null,null,1708]
[null,null,null,null,null,null,null,null,null,null,null,null,null,1709]
[null,null,null,null,null,null,null,null,null,null,null,null,null,1710]
[null,null,null,null,null,null,null,null,null,null,null,null,null,1711]
[null,null,null,null,null,null,null,null,null,null,null,null,null,1712]
[null,null,null,null,null,null,null,null,null,null,null,null,null,1713]
[null,null,null,null,null,null,null,null,null,null,null,null,null,1714]
[null,null,null,null,null,null,null,null,null,null,null,null,null,1715]
[null,null,null,null,null,null,null,null,null,null,null,null,null,1716]
[null,null,null,null,null,null,null,null,null,null,null,null,null,1717]
[null,null,null,null,null,null,null,null,null,null,null,null,null,1718]
[null,null,null,null,null,null,null,null,null,null,null,null,null,1719]
[null,null,null,null,null,null,null,null,null,null,null,null,null,1720]
[null,null,null,null,null,null,null,null,null,null,null,null,null,1721]
[null,null,null,null,null,null,null,null,null,null,null,null,null,1722]
[null,null,null,null,null,null,null,null,null,null,null,null,null,1723]
[null,null,null,null,null,null,null,null,null,null,null,null,null,1724]
[null,null,null,null,null,null,null,null,null,null,null,null,null,1725]
[null,null,null,null,null,null,null,null,null,null,null,null,null,1726]
[null,null,null,null,null,null,null,null,null,null,null,null,null,1727]
[null,null,null,null,null,null,null,null,null,null,null,null,null,1728]
[null,null,null,null,null,null,null,null,null,null,null,null,null,1729]
[null,null,null,null,null,null,null,null,null,null,null,null,null,1730]
[null,null,null,null,null,null,null,null,null,null,null,null,null,1731]
[null,null,null,null,null,null,null,null,null,null,null,null,null,1732]
[null,null,null,null,null,null,null,null,null,null,null,null,null,1733]
[null,null,null,null,null,null,null,null,null,null,null,null,null,1734]
[null,null,null,null,null,null,null,null,null,null,null,null,null,1735]
[null,null,null,null,null,null,null,null,null,null,null,null,null,1736]
[null,null,null,null,null,null,null,null,null,null,null,null,null,1737]
[null,null,null,null,null,null,null,null,null,null,null,null,null,1738]
[null,null,null,null,null,null,null,null,null,null,null,null,null,1739]
[null,null,null,null,null,null,null,null,null,null,null,null,null,1740]
[null,null,null,null,null,null,null,null,null,null,null,null,null,1741]
[null,null,null,null,null,null,null,null,null,null,null,null,null,1742]
[null,null,null,null,null,null,null,null,null,null,null,null,null,1743]
[null,null,null,null,null,null,null,null,null,null,null,null,null,1744]
[null,null,null,null,null,null,null,null,null,null,null,null,null,1745]
[null,null,null,null,null,null,null,null,null,null,null,null,null,1746]
[null,null,null,null,null,null,null,null,null,null,null,null,null,1747]
[null,null,null,null,null,null,null,null,null,null,null,null,null,1748]
[null,null,null,null,null,null,null,null,null,null,null,null,null,1749]
[null,null,null,null,null,null,null,null,null,null,null,null,null,1750]
[null,null,null,null,null,null,null,null,null,null,null,null,null,1751]
[null,null,null,null,null,null,null,null,null,null,null,null,null,1752]
[null,null,null,null,null,null,null,null,null,null,null,null,null,1753]
[null,null,null,null,null,null,null,null,null,null,null,null,null,1754]
[null,null,null,null,null,null,null,null,null,null,null,null,null,1755]
[null,null,null,null,null,null,null,null,null,null,null,null,null,1756]
[null,null,null,null,null,null,null,null,null,null,null,null,null,1757]
[null,null,null,null,null,null,null,null,null,null,null,null,null,1758]
[null,null,null,null,null,null,null,null,null,null,null,null,null,1759]
[null,null,null,null,null,null,null,null,null,null,null,null,null,1760]
[null,null,null,null,null,null,null,null,null,null,null,null,null,1761]
[null,null,null,null,null,null,null,null,null,null,null,null,null,1762]
[null,null,null,null,null,null,null,null,null,null,null,null,null,1763]
[null,null,null,null,null,null,null,null,null,null,null,null,null,1764]
[null,null,null,null,null,null,null,null,null,null,null,null,null,1765]
[null,null,null,null,null,null,null,null,null,null,null,null,null,1766]
[null,null,null,null,null,null,null,null,null,null,null,null,null,1767]
[null,null,null,null,null,null,null,null,null,null,null,null,null,1768]
[null,null,null,null,null,null,null,null,null,null,null,null,null,1769]
[null,null,null,null,null,null,null,null,null,null,null,null,null,1770]
[null,null,null,null,null,null,null,null,null,null,null,null,null,1771]
[null,null,null,null,null,null,null,null,null,null,null,null,null,1772]
[null,null,null,null,null,null,null,null,null,null,null,null,null,1773]
[null,null,null,null,null,null,null,null,null,null,null,null,null,1774]
[null,null,null,null,null,null,null,null,null,null,null,null,null,1775]
[null,null,null,null,null,null,null,null,null,null,null,null,null,1776]
[null,null,null,null,null,null,null,null,null,null,null,null,null,1777]
[null,null,null,null,null,null,null,null,null,null,null,null,null,1778]
[null,null,null,null,null,null,null,null,null,null,null,null,null,1779]
[null,null,null,null,null,null,null,null,null,null,null,null,null,1780]
[null,null,null,null,null,null,null,null,null,null,null,null,null,1781]
[null,null,null,null,null,null,null,null,null,null,null,null,null,1782]
[null,null,null,null,null,null,null,null,null,null,null,null,null,1783]
[null,null,null,null,null,null,null,null,null,null,null,null,null,1784]
[null,null,null,null,null,null,null,null,null,null,null,null,null,1785]
[null,null,null,null,null,null,null,null,null,null,null,null,null,1786]
[null,null,null,null,null,null,null,null,null,null,null,null,null,1787]
[null,null,null,null,null,null,null,null,null,null,null,null,null,1788]
[null,null,null,null,null,null,null,null,null,null,null,null,null,1789]
[null,null,null,null,null,null,null,null,null,null,null,null,null,1790]
[null,null,null,null,null,null,null,null,null,null,null,null,null,1791]
[null,null,null,null,null,null,null,null,null,null,null,null,null,1792]
[null,null,null,null,null,null,null,null,null,null,null,null,null,1793]
[null,null,null,null,null,null,null,null,null,null,null,null,null,1794]
[null,null,null,null,null,null,null,null,null,null,null,null,null,1795]
[null,null,null,null,null,null,null,null,null,null,null,null,null,1796]
[null,null,null,null,null,null,null,null,null,null,null,null,null,1797]
[null,null,null,null,null,null,null,null,null,null,null,null,null,1798]
[null,null,null,null,null,null,null,null,null,null,null,null,null,1799]
[null,null,null,null,null,null,null,null,null,null,null,null,null,1800]
[null,null,null,null,null,null,null,null,null,null,null,null,null,1801]
[null,null,null,null,null,null,null,null,null,null,null,null,null,1802]
[null,null,null,null,null,null,null,null,null,null,null,null,null,1803]
[null,null,null,null,null,null,null,null,null,null,null,null,null,1804]
[null,null,null,null,null,null,null,null,null,null,null,null,null,1805]
[null,null,null,null,null,null,null,null,null,null,null,null,null,1806]
[null,null,null,null,null,null,null,null,null,null,null,null,null,1807]
[null,null,null,null,null,null,null,null,null,null,null,null,null,1808]
[null,null,null,null,null,null,null,null,null,null,null,null,null,1809]
[null,null,null,null,null,null,null,null,null,null,null,null,null,1810]
[null,null,null,null,null,null,null,null,null,null,null,null,null,1811]
[null,null,null,null,null,null,null,null,null,null,null,null,null,1812]
[null,null,null,null,null,null,null,null,null,null,null,null,null,1813]
[null,null,null,null,null,null,null,null,null,null,null,null,null,1814]
[null,null,null,null,null,null,null,null,null,null,null,null,null,1815]
[null,null,null,null,null,null,null,null,null,null,null,null,null,1816]
[null,null,null,null,null,null,null,null,null,null,null,null,null,1817]
[null,null,null,null,null,null,null,null,null,null,null,null,null,1818]
[null,null,null,null,null,null,null,null,null,null,null,null,null,1819]
[null,null,null,null,null,null,null,null,null,null,null,null,null,1820]
[null,null,null,null,null,null,null,null,null,null,null,null,null,1821]
[null,null,null,null,null,null,null,null,null,null,null,null,null,1822]
[null,null,null,null,null,null,null,null,null,null,null,null,null,1823]
[null,null,null,null,null,null,null,null,null,null,null,null,null,1824]
[null,null,null,null,null,null,null,null,null,null,null,null,null,1825]
[null,null,null,null,null,null,null,null,null,null,null,null,null,1826]
[null,null,null,null,null,null,null,null,null,null,null,null,null,1827]
[null,null,null,null,null,null,null,null,null,null,null,null,null,1828]
[null,null,null,null,null,null,null,null,null,null,null,null,null,1829]
[null,null,null,null,null,null,null,null,null,null,null,null,null,1830]
[null,null,null,null,null,null,null,null,null,null,null,null,null,1831]
[null,null,null,null,null,null,null,null,null,null,null,null,null,1832]
[null,null,null,null,null,null,null,null,null,null,null,null,null,1833]
[null,null,null,null,null,null,null,null,null,null,null,null,null,1834]
[null,null,null,null,null,null,null,null,null,null,null,null,null,1835]
[null,null,null,null,null,null,null,null,null,null,null,null,null,1836]
[null,null,null,null,null,null,null,null,null,null,null,null,null,1837]
[null,null,null,null,null,null,null,null,null,null,null,null,null,1838]
[null,null,null,null,null,null,null,null,null,null,null,null,null,1839]
[null,null,null,null,null,null,null,null,null,null,null,null,null,1840]
[null,null,null,null,null,null,null,null,null,null,null,null,null,1841]
[null,null,null,null,null,null,null,null,null,null,null,null,null,1842]
[null,null,null,null,null,null,null,null,null,null,null,null,null,1843]
[null,null,null,null,null,null,null,null,null,null,null,null,null,1844]
[null,null,null,null,null,null,null,null,null,null,null,null,null,1845]
[null,null,null,null,null,null,null,null,null,null,null,null,null,1846]
[null,null,null,null,null,null,null,null,null,null,null,null,null,1847]
[null,null,null,null,null,null,null,null,null,null,null,null,null,1848]
[null,null,null,null,null,null,null,null,null,null,null,null,null,1849]
[null,null,null,null,null,null,null,null,null,null,null,null,null,1850]
[null,null,null,null,null,null,null,null,null,null,null,null,null,1851]
[null,null,null,null,null,null,null,null,null,null,null,null,null,1852]
[null,null,null,null,null,null,null,null,null,null,null,null,null,1853]
[null,null,null,null,null,null,null,null,null,null,null,null,null,1854]
[null,null,null,null,null,null,null,null,null,null,null,null,null,1855]
[null,null,null,null,null,null,null,null,null,null,null,null,null,1856]
[null,null,null,null,null,null,null,null,null,null,null,null,null,1857]
[null,null,null,null,null,null,null,null,null,null,null,null,null,1858]
[null,null,null,null,null,null,null,null,null,null,null,null,null,1859]
[null,null,null,null,null,null,null,null,null,null,null,null,null,1860]
[null,null,null,null,null,null,null,null,null,null,null,null,null,1861]
[null,null,null,null,null,null,null,null,null,null,null,null,null,1862]
[null,null,null,null,null,null,null,null,null,null,null,null,null,1863]
[null,null,null,null,null,null,null,null,null,null,null,null,null,1864]
[null,null,null,null,null,null,null,null,null,null,null,null,null,1865]
[null,null,null,null,null,null,null,null,null,null,null,null,null,1866]
[null,null,null,null,null,null,null,null,null,null,null,null,null,1867]
[null,null,null,null,null,null,null,null,null,null,null,null,null,1868]
[null,null,null,null,null,null,null,null,null,null,null,null,null,1869]
[null,null,null,null,null,null,null,null,null,null,null,null,null,1870]
[null,null,null,null,null,null,null,null,null,null,null,null,null,1871]
[null,null,null,null,null,null,null,null,null,null,null,null,null,1872]
[null,null,null,null,null,null,null,null,null,null,null,null,null,1873]
[null,null,null,null,null,null,null,null,null,null,null,null,null,1874]
[null,null,null,null,null,null,null,null,null,null,null,null,null,1875]
[null,null,null,null,null,null,null,null,null,null,null,null,null,1876]
[null,null,null,null,null,null,null,null,null,null,null,null,null,1877]
[null,null,null,null,null,null,null,null,null,null,null,null,null,1878]
[null,null,null,null,null,null,null,null,null,null,null,null,null,1879]
[null,null,null,null,null,null,null,null,null,null,null,null,null,1880]
[null,null,null,null,null,null,null,null,null,null,null,null,null,1881]
[null,null,null,null,null,null,null,null,null,null,null,null,null,1882]
[null,null,null,null,null,null,null,null,null,null,null,null,null,1883]
[null,null,null,null,null,null,null,null,null,null,null,null,null,1884]
[null,null,null,null,null,null,null,null,null,null,null,null,null,1885]
[null,null,null,null,null,null,null,null,null,null,null,null,null,1886]
[null,null,null,null,null,null,null,null,null,null,null,null,null,1887]
[null,null,null,null,null,null,null,null,null,null,null,null,null,1888]
[null,null,null,null,null,null,null,null,null,null,null,null,null,1889]
[null,null,null,null,null,null,null,null,null,null,null,null,null,1890]
[null,null,null,null,null,null,null,null,null,null,null,null,null,1891]
[null,null,null,null,null,null,null,null,null,null,null,null,null,1892]
[null,null,null,null,null,null,null,null,null,null,null,null,null,1893]
[null,null,null,null,null,null,null,null,null,null,null,null,null,1894]
[null,null,null,null,null,null,null,null,null,null,null,null,null,1895]
[null,null,null,null,null,null,null,null,null,null,null,null,null,1896]
[null,null,null,null,null,null,null,null,null,null,null,null,null,1897]
[null,null,null,null,null,null,null,null,null,null,null,null,null,1898]
[null,null,null,null,null,null,null,null,null,null,null,null,null,1899]
[null,null,null,null,null,null,null,null,null,null,null,null,null,1900]
[null,null,null,null,null,null,null,null,null,null,null,null,null,1901]
[null,null,null,null,null,null,null,null,null,null,null,null,null,1902]
[null,null,null,null,null,null,null,null,null,null,null,null,null,1903]
[null,null,null,null,null,null,null,null,null,null,null,null,null,1904]
[null,null,null,null,null,null,null,null,null,null,null,null,null,1905]
[null,null,null,null,null,null,null,null,null,null,null,null,null,1906]
[null,null,null,null,null,null,null,null,null,null,null,null,null,1907]
[null,null,null,null,null,null,null,null,null,null,null,null,null,1908]
[null,null,null,null,null,null,null,null,null,null,null,null,null,1909]
[null,null,null,null,null,null,null,null,null,null,null,null,null,1910]
[null,null,null,null,null,null,null,null,null,null,null,null,null,1911]
[null,null,null,null,null,null,null,null,null,null,null,null,null,1912]
[null,null,null,null,null,null,null,null,null,null,null,null,null,1913]
[null,null,null,null,null,null,null,null,null,null,null,null,null,1914]
[null,null,null,null,null,null,null,null,null,null,null,null,null,1915]
[null,null,null,null,null,null,null,null,null,null,null,null,null,1916]
[null,null,null,null,null,null,null,null,null,null,null,null,null,1917]
[null,null,null,null,null,null,null,null,null,null,null,null,null,1918]
[null,null,null,null,null,null,null,null,null,null,null,null,null,1919]
[null,null,null,null,null,null,null,null,null,null,null,null,null,1920]
[null,null,null,null,null,null,null,null,null,null,null,null,null,1921]
[null,null,null,null,null,null,null,null,null,null,null,null,null,1922]
[null,null,null,null,null,null,null,null,null,null,null,null,null,1923]
[null,null,null,null,null,null,null,null,null,null,null,null,null,1924]
[null,null,null,null,null,null,null,null,null,null,null,null,null,1925]
[null,null,null,null,null,null,null,null,null,null,null,null,null,1926]
[null,null,null,null,null,null,null,null,null,null,null,null,null,1927]
[null,null,null,null,null,null,null,null,null,null,null,null,null,1928]
[null,null,null,null,null,null,null,null,null,null,null,null,null,1929]
[null,null,null,null,null,null,null,null,null,null,null,null,null,1930]
[null,null,null,null,null,null,null,null,null,null,null,null,null,1931]
[null,null,null,null,null,null,null,null,null,null,null,null,null,1932]
[null,null,null,null,null,null,null,null,null,null,null,null,null,1933]
[null,null,null,null,null,null,null,null,null,null,null,null,null,1934]
[null,null,null,null,null,null,null,null,null,null,null,null,null,1935]
[null,null,null,null,null,null,null,null,null,null,null,null,null,1936]
[null,null,null,null,null,null,null,null,null,null,null,null,null,1937]
[null,null,null,null,null,null,null,null,null,null,null,null,null,1938]
[null,null,null,null,null,null,null,null,null,null,null,null,null,1939]
[null,null,null,null,null,null,null,null,null,null,null,null,null,1940]
[null,null,null,null,null,null,null,null,null,null,null,null,null,1941]
[null,null,null,null,null,null,null,null,null,null,null,null,null,1942]
[null,null,null,null,null,null,null,null,null,null,null,null,null,1943]
[null,null,null,null,null,null,null,null,null,null,null,null,null,1944]
[null,null,null,null,null,null,null,null,null,null,null,null,null,1945]
[null,null,null,null,null,null,null,null,null,null,null,null,null,1946]
[null,null,null,null,null,null,null,null,null,null,null,null,null,1947]
[null,null,null,null,null,null,null,null,null,null,null,null,null,1948]
[null,null,null,null,null,null,null,null,null,null,null,null,null,1949]
[null,null,null,null,null,null,null,null,null,null,null,null,null,1950]
[null,null,null,null,null,null,null,null,null,null,null,null,null,1951]
[null,null,null,null,null,null,null,null,null,null,null,null,null,1952]
[null,null,null,null,null,null,null,null,null,null,null,null,null,1953]
[null,null,null,null,null,null,null,null,null,null,null,null,null,1954]
[null,null,null,null,null,null,null,null,null,null,null,null,null,1955]
[null,null,null,null,null,null,null,null,null,null,null,null,null,1956]
[null,null,null,null,null,null,null,null,null,null,null,null,null,1957]
[null,null,null,null,null,null,null,null,null,null,null,null,null,1958]
[null,null,null,null,null,null,null,null,null,null,null,null,null,1959]
[null,null,null,null,null,null,null,null,null,null,null,null,null,1960]
[null,null,null,null,null,null,null,null,null,null,null,null,null,1961]
[null,null,null,null,null,null,null,null,null,null,null,null,null,1962]
[null,null,null,null,null,null,null,null,null,null,null,null,null,1963]
[null,null,null,null,null,null,null,null,null,null,null,null,null,1964]
[null,null,null,null,null,null,null,null,null,null,null,null,null,1965]
[null,null,null,null,null,null,null,null,null,null,null,null,null,1966]
[null,null,null,null,null,null,null,null,null,null,null,null,null,1967]
[null,null,null,null,null,null,null,null,null,null,null,null,null,1968]
[null,null,null,null,null,null,null,null,null,null,null,null,null,1969]
[null,null,null,null,null,null,null,null,null,null,null,null,null,1970]
[null,null,null,null,null,null,null,null,null,null,null,null,null,1971]
[null,null,null,null,null,null,null,null,null,null,null,null,null,1972]
[null,null,null,null,null,null,null,null,null,null,null,null,null,1973]
[null,null,null,null,null,null,null,null,null,null,null,null,null,1974]
[null,null,null,null,null,null,null,null,null,null,null,null,null,1975]
[null,null,null,null,null,null,null,null,null,null,null,null,null,1976]
[null,null,null,null,null,null,null,null,null,null,null,null,null,1977]
[null,null,null,null,null,null,null,null,null,null,null,null,null,1978]
[null,null,null,null,null,null,null,null,null,null,null,null,null,1979]
[null,null,null,null,null,null,null,null,null,null,null,null,null,1980]
[null,null,null,null,null,null,null,null,null,null,null,null,null,1981]
[null,null,null,null,null,null,null,null,null,null,null,null,null,1982]
[null,null,null,null,null,null,null,null,null,null,null,null,null,1983]
[null,null,null,null,null,null,null,null,null,null,null,null,null,1984]
[null,null,null,null,null,null,null,null,null,null,null,null,null,1985]
[null,null,null,null,null,null,null,null,null,null,null,null,null,1986]
[null,null,null,null,null,null,null,null,null,null,null,null,null,1987]
[null,null,null,null,null,null,null,null,null,null,null,null,null,1988]
[null,null,null,null,null,null,null,null,null,null,null,null,null,1989]
[null,null,null,null,null,null,null,null,null,null,null,null,null,1990]
[null,null,null,null,null,null,null,null,null,null,null,null,null,1991]
[null,null,null,null,null,null,null,null,null,null,null,null,null,1992]
[null,null,null,null,null,null,null,null,null,null,null,null,null,1993]
[null,null,null,null,null,null,null,null,null,null,null,null,null,1994]
[null,null,null,null,null,null,null,null,null,null,null,null,null,1995]
[null,null,null,null,null,null,null,null,null,null,null,null,null,1996]
[null,null,null,null,null,null,null,null,null,null,null,null,null,1997]
[null,null,null,null,null,null,null,null,null,null,null,null,null,2002]
[null,null,null,null,null,null,null,null,null,null,null,null,null,2007]
[null,null,null,null,null,null,null,null,null,null,null,null,null,2008]
[null,null,null,null,null,null,null,null,null,null,null,null,null,2014]
[null,null,null,null,null,null,null,null,null,null,null,null,null,2017]
[null,null,null,null,null,null,null,null,null,null,null,null,null,2022]
[null,null,null,null,null,null,null,null,null,null,null,null,null,2023]
[null,null,null,null,null,null,null,null,null,null,null,null,null,2028]
[null,null,null,null,null,null,null,null,null,null,null,null,null,2032]
[null,null,null,null,null,null,null,null,null,null,null,null,null,2037]
[null,null,null,null,null,null,null,null,null,null,null,null,null,2038]
[null,null,null,null,null,null,null,null,null,null,null,null,null,2044]
[null,null,null,null,null,null,null,null,null,null,null,null,null,2047]
[null,null,null,null,null,null,null,null,null,null,null,null,null,2052]
[null,null,null,null,null,null,null,null,null,null,null,null,null,2053]
[null,null,null,null,null,null,null,null,null,null,null,null,null,2058]
[null,null,null,null,null,null,null,null,null,null,null,null,null,2062]
[null,null,null,null,null,null,null,null,null,null,null,null,null,2067]
[null,null,null,null,null,null,null,null,null,null,null,null,null,2068]
[null,null,null,null,null,null,null,null,null,null,null,null,null,2074]
[null,null,null,null,null,null,null,null,null,null,null,null,null,2077]
[null,null,null,null,null,null,null,null,null,null,null,null,null,2082]
[null,null,null,null,null,null,null,null,null,null,null,null,null,2083]
[null,null,null,null,null,null,null,null,null,null,null,null,null,2088]
[null,null,null,null,null,null,null,null,null,null,null,null,null,2092]
[null,null,null,null,null,null,null,null,null,null,null,null,null,2097]
[null,null,null,null,null,null,null,null,null,null,null,null,null,2098]
[null,null,null,null,null,null,null,null,null,null,null,null,null,2104]
[null,null,null,null,null,null,null,null,null,null,null,null,null,2107]
[null,null,null,null,null,null,null,null,null,null,null,null,null,2112]
[null,null,null,null,null,null,null,null,null,null,null,null,null,2113]
[null,null,null,null,null,null,null,null,null,null,null,null,null,2118]
[null,null,null,null,null,null,null,null,null,null,null,null,null,2122]
[null,null,null,null,null,null,null,null,null,null,null,null,null,2127]
[null,null,null,null,null,null,null,null,null,null,null,null,null,2128]
[null,null,null,null,null,null,null,null,null,null,null,null,null,2134]
[null,null,null,null,null,null,null,null,null,null,null,null,null,2137]
[null,null,null,null,null,null,null,null,null,null,null,null,null,2142]
[null,null,null,null,null,null,null,null,null,null,null,null,null,2143]
[null,null,null,null,null,null,null,null,null,null,null,null,null,2148]
[null,null,null,null,null,null,null,null,null,null,null,null,null,2152]
[null,null,null,null,null,null,null,null,null,null,null,null,null,2157]
[null,null,null,null,null,null,null,null,null,null,null,null,null,2158]
[null,null,null,null,null,null,null,null,null,null,null,null,null,2164]
[null,null,null,null,null,null,null,null,null,null,null,null,null,2167]
[null,null,null,null,null,null,null,null,null,null,null,null,null,2172]
[null,null,null,null,null,null,null,null,null,null,null,null,null,2173]
[null,null,null,null,null,null,null,null,null,null,null,null,null,2178]
[null,null,null,null,null,null,null,null,null,null,null,null,null,2182]
[null,null,null,null,null,null,null,null,null,null,null,null,null,2187]
[null,null,null,null,null,null,null,null,null,null,null,null,null,2188]
[null,null,null,null,null,null,null,null,null,null,null,null,null,2194]
[null,null,null,null,null,null,null,null,null,null,null,null,null,2197]
[null,null,null,null,null,null,null,null,null,null,null,null,null,2202]
[null,null,null,null,null,null,null,null,null,null,null,null,null,2203]
[null,null,null,null,null,null,null,null,null,null,null,null,null,2208]
[null,null,null,null,null,null,null,null,null,null,null,null,null,2212]
[null,null,null,null,null,null,null,null,null,null,null,null,null,2217]
[null,null,null,null,null,null,null,null,null,null,null,null,null,2218]
[null,null,null,null,null,null,null,null,null,null,null,null,null,2224]
[null,null,null,null,null,null,null,null,null,null,null,null,null,2227]
[null,null,null,null,null,null,null,null,null,null,null,null,null,2232]
[null,null,null,null,null,null,null,null,null,null,null,null,null,2233]
[null,null,null,null,null,null,null,null,null,null,null,null,null,2238]
[null,null,null,null,null,null,null,null,null,null,null,null,null,2242]
[null,null,null,null,null,null,null,null,null,null,null,null,null,2247]
[null,null,null,null,null,null,null,null,null,null,null,null,null,2248]
[null,null,null,null,null,null,null,null,null,null,null,null,null,2254]
[null,null,null,null,null,null,null,null,null,null,null,null,null,2257]
[null,null,null,null,null,null,null,null,null,null,null,null,null,2262]
[null,null,null,null,null,null,null,null,null,null,null,null,null,2263]
[null,null,null,null,null,null,null,null,null,null,null,null,null,2268]
[null,null,null,null,null,null,null,null,null,null,null,null,null,2272]
[null,null,null,null,null,null,null,null,null,null,null,null,null,2277]
[null,null,null,null,null,null,null,null,null,null,null,null,null,2278]
[null,null,null,null,null,null,null,null,null,null,null,null,null,2282]
[null,null,null,null,null,null,null,null,null,null,null,null,null,2287]
[null,null,null,null,null,null,null,null,null,null,null,null,null,2292]
[null,null,null,null,null,null,null,null,null,null,null,null,null,2293]
[null,null,null,null,null,null,null,null,null,null,null,null,null,2298]
[null,null,null,null,null,null,null,null,null,null,null,null,null,2302]
[null,null,null,null,null,null,null,null,null,null,null,null,null,2307]
[null,null,null,null,null,null,null,null,null,null,null,null,null,2308]
[null,null,null,null,null,null,null,null,null,null,null,null,null,2312]
[null,null,null,null,null,null,null,null,null,null,null,null,null,2317]
[null,null,null,null,null,null,null,null,null,null,null,null,null,2322]
[null,null,null,null,null,null,null,null,null,null,null,null,null,2323]
[null,null,null,null,null,null,null,null,null,null,null,null,null,2328]
[null,null,null,null,null,null,null,null,null,null,null,null,null,2332]
[null,null,null,null,null,null,null,null,null,null,null,null,null,2337]
[null,null,null,null,null,null,null,null,null,null,null,null,null,2338]
[null,null,null,null,null,null,null,null,null,null,null,null,null,2342]
[null,null,null,null,null,null,null,null,null,null,null,null,null,2347]
[null,null,null,null,null,null,null,null,null,null,null,null,null,2352]
[null,null,null,null,null,null,null,null,null,null,null,null,null,2353]
[null,null,null,null,null,null,null,null,null,null,null,null,null,2358]
[null,null,null,null,null,null,null,null,null,null,null,null,null,2362]
[null,null,null,null,null,null,null,null,null,null,null,null,null,2367]
[null,null,null,null,null,null,null,null,null,null,null,null,null,2368]
[null,null,null,null,null,null,null,null,null,null,null,null,null,2373]
[null,null,null,null,null,null,null,null,null,null,null,null,null,2376]
[null,null,null,null,null,null,null,null,null,null,null,null,null,2382]
[null,null,null,null,null,null,null,null,null,null,null,null,null,2383]
[null,null,null,null,null,null,null,null,null,null,null,null,null,2388]
[null,null,null,null,null,null,null,null,null,null,null,null,null,2393]
[null,null,null,null,null,null,null,null,null,null,null,null,null,2397]
[null,null,null,null,null,null,null,null,null,null,null,null,null,2398]
[null,null,null,null,null,null,null,null,null,null,null,null,null,2403]
[null,null,null,null,null,null,null,null,null,null,null,null,null,2406]
[null,null,null,null,null,null,null,null,null,null,null,null,null,2412]
[null,null,null,null,null,null,null,null,null,null,null,null,null,2413]
[null,null,null,null,null,null,null,null,null,null,null,null,null,2418]
[null,null,null,null,null,null,null,null,null,null,null,null,null,2423]
[null,null,null,null,null,null,null,null,null,null,null,null,null,2427]
[null,null,null,null,null,null,null,null,null,null,null,null,null,2428]
[null,null,null,null,null,null,null,null,null,null,null,null,null,2433]
[null,null,null,null,null,null,null,null,null,null,null,null,null,2436]
[null,null,null,null,null,null,null,null,null,null,null,null,null,2442]
[null,null,null,null,null,null,null,null,null,null,null,null,null,2443]
[null,null,null,null,null,null,null,null,null,null,null,null,null,2448]
[null,null,null,null,null,null,null,null,null,null,null,null,null,2453]
[null,null,null,null,null,null,null,null,null,null,null,null,null,2457]
[null,null,null,null,null,null,null,null,null,null,null,null,null,2458]
[null,null,null,null,null,null,null,null,null,null,null,null,null,2463]
[null,null,null,null,null,null,null,null,null,null,null,null,null,2466]
[null,null,null,null,null,null,null,null,null,null,null,null,null,2472]
[null,null,null,null,null,null,null,null,null,null,null,null,null,2473]
[null,null,null,null,null,null,null,null,null,null,null,null,null,2478]
[null,null,null,null,null,null,null,null,null,null,null,null,null,2483]
[null,null,null,null,null,null,null,null,null,null,null,null,null,2487]
[null,null,null,null,null,null,null,null,null,null,null,null,null,2488]
[null,null,null,null,null,null,null,null,null,null,null,null,null,2493]
[null,null,null,null,null,null,null,null,null,null,null,null,null,2496]
[null,null,null,null,null,null,null,null,null,null,null,null,null,2502]
[null,null,null,null,null,null,null,null,null,null,null,null,null,2503]
[null,null,null,null,null,null,null,null,null,null,null,null,null,2508]
[null,null,null,null,null,null,null,null,null,null,null,null,null,2513]
[null,null,null,null,null,null,null,null,null,null,null,null,null,2517]
[null,null,null,null,null,null,null,null,null,null,null,null,null,2518]
[null,null,null,null,null,null,null,null,null,null,null,null,null,2523]
[null,null,null,null,null,null,null,null,null,null,null,null,null,2526]
[null,null,null,null,null,null,null,null,null,null,null,null,null,2532]
[null,null,null,null,null,null,null,null,null,null,null,null,null,2533]
[null,null,null,null,null,null,null,null,null,null,null,null,null,2538]
[null,null,null,null,null,null,null,null,null,null,null,null,null,2543]
[null,null,null,null,null,null,null,null,null,null,null,null,null,2547]
[null,null,null,null,null,null,null,null,null,null,null,null,null,2548]
[null,null,null,null,null,null,null,null,null,null,null,null,null,2553]
[null,null,null,null,null,null,null,null,null,null,null,null,null,2556]
[null,null,null,null,null,null,null,null,null,null,null,null,null,2562]
[null,null,null,null,null,null,null,null,null,null,null,null,null,2563]
[null,null,null,null,null,null,null,null,null,null,null,null,null,2568]
[null,null,null,null,null,null,null,null,null,null,null,null,null,2573]
[null,null,null,null,null,null,null,null,null,null,null,null,null,2577]
[null,null,null,null,null,null,null,null,null,null,null,null,null,2578]
[null,null,null,null,null,null,null,null,null,null,null,null,null,2583]
[null,null,null,null,null,null,null,null,null,null,null,null,null,2586]
[null,null,null,null,null,null,null,null,null,null,null,null,null,2592]
[null,null,null,null,null,null,null,null,null,null,null,null,null,2593]
[null,null,null,null,null,null,null,null,null,null,null,null,null,2598]
[null,null,null,null,null,null,null,null,null,null,null,null,null,2603]
[null,null,null,null,null,null,null,null,null,null,null,null,null,2607]
[null,null,null,null,null,null,null,null,null,null,null,null,null,2608]
[null,null,null,null,null,null,null,null,null,null,null,null,null,2613]
[null,null,null,null,null,null,null,null,null,null,null,null,null,2617]
[null,null,null,null,null,null,null,null,null,null,null,null,null,2622]
[null,null,null,null,null,null,null,null,null,null,null,null,null,2623]
[null,null,null,null,null,null,null,null,null,null,null,null,null,2628]
[null,null,null,null,null,null,null,null,null,null,null,null,null,2633]
[null,null,null,null,null,null,null,null,null,null,null,null,null,2637]
[null,null,null,null,null,null,null,null,null,null,null,null,null,2638]
[null,null,null,null,null,null,null,null,null,null,null,null,null,2643]
[null,null,null,null,null,null,null,null,null,null,null,null,null,2647]
[null,null,null,null,null,null,null,null,null,null,null,null,null,2652]
[null,null,null,null,null,null,null,null,null,null,null,null,null,2653]
[null,null,null,null,null,null,null,null,null,null,null,null,null,2658]
[null,null,null,null,null,null,null,null,null,null,null,null,null,2663]
[null,null,null,null,null,null,null,null,null,null,null,null,null,2667]
[null,null,null,null,null,null,null,null,null,null,null,null,null,2668]
[null,null,null,null,null,null,null,null,null,null,null,null,null,2673]
[null,null,null,null,null,null,null,null,null,null,null,null,null,2677]
[null,null,null,null,null,null,null,null,null,null,null,null,null,2682]
[null,null,null,null,null,null,null,null,null,null,null,null,null,2683]
[null,null,null,null,null,null,null,null,null,null,null,null,null,2688]
[null,null,null,null,null,null,null,null,null,null,null,null,null,2693]
[null,null,null,null,null,null,null,null,null,null,null,null,null,2697]
[null,null,null,null,null,null,null,null,null,null,null,null,null,2698]
[null,null,null,null,null,null,null,null,null,null,null,null,null,2703]
[null,null,null,null,null,null,null,null,null,null,null,null,null,2707]
[null,null,null,null,null,null,null,null,null,null,null,null,null,2712]
[null,null,null,null,null,null,null,null,null,null,null,null,null,2713]
[null,null,null,null,null,null,null,null,null,null,null,null,null,2718]
[null,null,null,null,null,null,null,null,null,null,null,null,null,2723]
[null,null,null,null,null,null,null,null,null,null,null,null,null,2727]
[null,null,null,null,null,null,null,null,null,null,null,null,null,2728]
[null,null,null,null,null,null,null,null,null,null,null,null,null,2733]
[null,null,null,null,null,null,null,null,null,null,null,null,null,2737]
[null,null,null,null,null,null,null,null,null,null,null,null,null,2742]
[null,null,null,null,null,null,null,null,null,null,null,null,null,2743]
[null,null,null,null,null,null,null,null,null,null,null,null,null,2748]
[null,null,null,null,null,null,null,null,null,null,null,null,null,2753]
[null,null,null,null,null,null,null,null,null,null,null,null,null,2755]
[null,null,null,null,null,null,null,null,null,null,null,null,null,2758]
[null,null,null,null,null,null,null,null,null,null,null,null,null,2763]
[null,null,null,null,null,null,null,null,null,null,null,null,null,2768]
[null,null,null,null,null,null,null,null,null,null,null,null,null,2771]
[null,null,null,null,null,null,null,null,null,null,null,null,null,2773]
[null,null,null,null,null,null,null,null,null,null,null,null,null,2778]
[null,null,null,null,null,null,null,null,null,null,null,null,null,2783]
[null,null,null,null,null,null,null,null,null,null,null,null,null,2785]
[null,null,null,null,null,null,null,null,null,null,null,null,null,2788]
[null,null,null,null,null,null,null,null,null,null,null,null,null,2793]
[null,null,null,null,null,null,null,null,null,null,null,null,null,2798]
[null,null,null,null,null,null,null,null,null,null,null,null,null,2801]
[null,null,null,null,null,null,null,null,null,null,null,null,null,2803]
[null,null,null,null,null,null,null,null,null,null,null,null,null,2808]
[null,null,null,null,null,null,null,null,null,null,null,null,null,2813]
[null,null,null,null,null,null,null,null,null,null,null,null,null,2815]
[null,null,null,null,null,null,null,null,null,null,null,null,null,2818]
[null,null,null,null,null,null,null,null,null,null,null,null,null,2823]
[null,null,null,null,null,null,null,null,null,null,null,null,null,2828]
[null,null,null,null,null,null,null,null,null,null,null,null,null,2831]
[null,null,null,null,null,null,null,null,null,null,null,null,null,2833]
[null,null,null,null,null,null,null,null,null,null,null,null,null,2838]
[null,null,null,null,null,null,null,null,null,null,null,null,null,2843]
[null,null,null,null,null,null,null,null,null,null,null,null,null,2845]
[null,null,null,null,null,null,null,null,null,null,null,null,null,2848]
[null,null,null,null,null,null,null,null,null,null,null,null,null,2853]
[null,null,null,null,null,null,null,null,null,null,null,null,null,2858]
[null,null,null,null,null,null,null,null,null,null,null,null,null,2861]
[null,null,null,null,null,null,null,null,null,null,null,null,null,2863]
[null,null,null,null,null,null,null,null,null,null,null,null,null,2868]
[null,null,null,null,null,null,null,null,null,null,null,null,null,2873]
[null,null,null,null,null,null,null,null,null,null,null,null,null,2875]
[null,null,null,null,null,null,null,null,null,null,null,null,null,2878]
[null,null,null,null,null,null,null,null,null,null,null,null,null,2883]
[null,null,null,null,null,null,null,null,null,null,null,null,null,2888]
[null,null,null,null,null,null,null,null,null,null,null,null,null,2891]
[null,null,null,null,null,null,null,null,null,null,null,null,null,2893]
[null,null,null,null,null,null,null,null,null,null,null,null,null,2898]
[null,null,null,null,null,null,null,null,null,null,null,null,null,2903]
[null,null,null,null,null,null,null,null,null,null,null,null,null,2905]
[null,null,null,null,null,null,null,null,null,null,null,null,null,2908]
[null,null,null,null,null,null,null,null,null,null,null,null,null,2913]
[null,null,null,null,null,null,null,null,null,null,null,null,null,2918]
[null,null,null,null,null,null,null,null,null,null,null,null,null,2921]
[null,null,null,null,null,null,null,null,null,null,null,null,null,2923]
[null,null,null,null,null,null,null,null,null,null,null,null,null,2928]
[null,null,null,null,null,null,null,null,null,null,null,null,null,2933]
[null,null,null,null,null,null,null,null,null,null,null,null,null,2935]
[null,null,null,null,null,null,null,null,null,null,null,null,null,2938]
[null,null,null,null,null,null,null,null,null,null,null,null,null,2943]
[null,null,null,null,null,null,null,null,null,null,null,null,null,2948]
[null,null,null,null,null,null,null,null,null,null,null,null,null,2952]
[null,null,null,null,null,null,null,null,null,null,null,null,null,2953]
[null,null,null,null,null,null,null,null,null,null,null,null,null,2958]
[null,null,null,null,null,null,null,null,null,null,null,null,null,2963]
[null,null,null,null,null,null,null,null,null,null,null,null,null,2965]
[null,null,null,null,null,null,null,null,null,null,null,null,null,2968]
[null,null,null,null,null,null,null,null,null,null,null,null,null,2973]
[null,null,null,null,null,null,null,null,null,null,null,null,null,2978]
[null,null,null,null,null,null,null,null,null,null,null,null,null,2982]
[null,null,null,null,null,null,null,null,null,null,null,null,null,2983]
[null,null,null,null,null,null,null,null,null,null,null,null,null,2988]
[null,null,null,null,null,null,null,null,null,null,null,null,null,2993]
[null,null,null,null,null,null,null,null,null,null,null,null,null,2995]
[null,null,null,null,null,null,null,null,null,null,null,null,null,2998]
[null,null,null,null,null,null,null,null,null,null,null,null,null,3003]
[null,null,null,null,null,null,null,null,null,null,null,null,null,3008]
[null,null,null,null,null,null,null,null,null,null,null,null,null,3012]
[null,null,null,null,null,null,null,null,null,null,null,null,null,3013]
[null,null,null,null,null,null,null,null,null,null,null,null,null,3018]
[null,null,null,null,null,null,null,null,null,null,null,null,null,3023]
[null,null,null,null,null,null,null,null,null,null,null,null,null,3025]
[null,null,null,null,null,null,null,null,null,null,null,null,null,3028]
[null,null,null,null,null,null,null,null,null,null,null,null,null,3033]
[null,null,null,null,null,null,null,null,null,null,null,null,null,3038]
[null,null,null,null,null,null,null,null,null,null,null,null,null,3042]
[null,null,null,null,null,null,null,null,null,null,null,null,null,3043]
[null,null,null,null,null,null,null,null,null,null,null,null,null,3048]
[null,null,null,null,null,null,null,null,null,null,null,null,null,3053]
[null,null,null,null,null,null,null,null,null,null,null,null,null,3055]
[null,null,null,null,null,null,null,null,null,null,null,null,null,3058]
[null,null,null,null,null,null,null,null,null,null,null,null,null,3063]
[null,null,null,null,null,null,null,null,null,null,null,null,null,3068]
[null,null,null,null,null,null,null,null,null,null,null,null,null,3072]
[null,null,null,null,null,null,null,null,null,null,null,null,null,3073]
[null,null,null,null,null,null,null,null,null,null,null,null,null,3078]
[null,null,null,null,null,null,null,null,null,null,null,null,null,3083]
[null,null,null,null,null,null,null,null,null,null,null,null,null,3085]
[null,null,null,null,null,null,null,null,null,null,null,null,null,3088]
[null,null,null,null,null,null,null,null,null,null,null,null,null,3093]
[null,null,null,null,null,null,null,null,null,null,null,null,null,3098]
[null,null,null,null,null,null,null,null,null,null,null,null,null,3102]
[null,null,null,null,null,null,null,null,null,null,null,null,null,3103]
[null,null,null,null,null,null,null,null,null,null,null,null,null,3108]
[null,null,null,null,null,null,null,null,null,null,null,null,null,3113]
[null,null,null,null,null,null,null,null,null,null,null,null,null,3115]
[null,null,null,null,null,null,null,null,null,null,null,null,null,3118]
[null,null,null,null,null,null,null,null,null,null,null,null,null,3123]
[null,null,null,null,null,null,null,null,null,null,null,null,null,3128]
[null,null,null,null,null,null,null,null,null,null,null,null,null,3133]
[null,null,null,null,null,null,null,null,null,null,null,null,null,3136]
[null,null,null,null,null,null,null,null,null,null,null,null,null,3138]
[null,null,null,null,null,null,null,null,null,null,null,null,null,3143]
[null,null,null,null,null,null,null,null,null,null,null,null,null,3148]
[null,null,null,null,null,null,null,null,null,null,null,null,null,3150]
[null,null,null,null,null,null,null,null,null,null,null,null,null,3153]
[null,null,null,null,null,null,null,null,null,null,null,null,null,3158]
[null,null,null,null,null,null,null,null,null,null,null,null,null,3163]
[null,null,null,null,null,null,null,null,null,null,null,null,null,3166]
[null,null,null,null,null,null,null,null,null,null,null,null,null,3168]
[null,null,null,null,null,null,null,null,null,null,null,null,null,3173]
[null,null,null,null,null,null,null,null,null,null,null,null,null,3178]
[null,null,null,null,null,null,null,null,null,null,null,null,null,3180]
[null,null,null,null,null,null,null,null,null,null,null,null,null,3183]
[null,null,null,null,null,null,null,null,null,null,null,null,null,3188]
[null,null,null,null,null,null,null,null,null,null,null,null,null,3193]
[null,null,null,null,null,null,null,null,null,null,null,null,null,3196]
[null,null,null,null,null,null,null,null,null,null,null,null,null,3198]
[null,null,null,null,null,null,null,null,null,null,null,null,null,3203]
[null,null,null,null,null,null,null,null,null,null,null,null,null,3208]
[null,null,null,null,null,null,null,null,null,null,null,null,null,3210]
[null,null,null,null,null,null,null,null,null,null,null,null,null,3213]
[null,null,null,null,null,null,null,null,null,null,null,null,null,3218]
[null,null,null,null,null,null,null,null,null,null,null,null,null,3223]
[null,null,null,null,null,null,null,null,null,null,null,null,null,3226]
[null,null,null,null,null,null,null,null,null,null,null,null,null,3228]
[null,null,null,null,null,null,null,null,null,null,null,null,null,3233]
[null,null,null,null,null,null,null,null,null,null,null,null,null,3238]
[null,null,null,null,null,null,null,null,null,null,null,null,null,3240]
[null,null,null,null,null,null,null,null,null,null,null,null,null,3243]
[null,null,null,null,null,null,null,null,null,null,null,null,null,3248]
[null,null,null,null,null,null,null,null,null,null,null,null,null,3253]
[null,null,null,null,null,null,null,null,null,null,null,null,null,3256]
[null,null,null,null,null,null,null,null,null,null,null,null,null,3258]
[null,null,null,null,null,null,null,null,null,null,null,null,null,3263]
[null,null,null,null,null,null,null,null,null,null,null,null,null,3268]
[null,null,null,null,null,null,null,null,null,null,null,null,null,3270]
[null,null,null,null,null,null,null,null,null,null,null,null,null,3273]
[null,null,null,null,null,null,null,null,null,null,null,null,null,3278]
[null,null,null,null,null,null,null,null,null,null,null,null,null,3283]
[null,null,null,null,null,null,null,null,null,null,null,null,null,3284]
[null,null,null,null,null,null,null,null,null,null,null,null,null,3288]
[null,null,null,null,null,null,null,null,null,null,null,null,null,3293]
[null,null,null,null,null,null,null,null,null,null,null,null,null,3298]
[null,null,null,null,null,null,null,null,null,null,null,null,null,3300]
[null,null,null,null,null,null,null,null,null,null,null,null,null,3303]
[null,null,null,null,null,null,null,null,null,null,null,null,null,3308]
[null,null,null,null,null,null,null,null,null,null,null,null,null,3313]
[null,null,null,null,null,null,null,null,null,null,null,null,null,3314]
[null,null,null,null,null,null,null,null,null,null,null,null,null,3318]
[null,null,null,null,null,null,null,null,null,null,null,null,null,3323]
[null,null,null,null,null,null,null,null,null,null,null,null,null,3328]
[null,null,null,null,null,null,null,null,null,null,null,null,null,3330]
[null,null,null,null,null,null,null,null,null,null,null,null,null,3333]
[null,null,null,null,null,null,null,null,null,null,null,null,null,3338]
[null,null,null,null,null,null,null,null,null,null,null,null,null,3343]
[null,null,null,null,null,null,null,null,null,null,null,null,null,3344]
[null,null,null,null,null,null,null,null,null,null,null,null,null,3348]
[null,null,null,null,null,null,null,null,null,null,null,null,null,3353]
[null,null,null,null,null,null,null,null,null,null,null,null,null,3358]
[null,null,null,null,null,null,null,null,null,null,null,null,null,3360]
[null,null,null,null,null,null,null,null,null,null,null,null,null,3363]
[null,null,null,null,null,null,null,null,null,null,null,null,null,3368]
[null,null,null,null,null,null,null,null,null,null,null,null,null,3373]
[null,null,null,null,null,null,null,null,null,null,null,null,null,3374]
[null,null,null,null,null,null,null,null,null,null,null,null,null,3378]
[null,null,null,null,null,null,null,null,null,null,null,null,null,3383]
[null,null,null,null,null,null,null,null,null,null,null,null,null,3388]
[null,null,null,null,null,null,null,null,null,null,null,null,null,3390]
[null,null,null,null,null,null,null,null,null,null,null,null,null,3393]
[null,null,null,null,null,null,null,null,null,null,null,null,null,3398]
[null,null,null,null,null,null,null,null,null,null,null,null,null,3403]
[null,null,null,null,null,null,null,null,null,null,null,null,null,3404]
[null,null,null,null,null,null,null,null,null,null,null,null,null,3408]
[null,null,null,null,null,null,null,null,null,null,null,null,null,3413]
[null,null,null,null,null,null,null,null,null,null,null,null,null,3418]
[null,null,null,null,null,null,null,null,null,null,null,null,null,3420]
[null,null,null,null,null,null,null,null,null,null,null,null,null,3423]
[null,null,null,null,null,null,null,null,null,null,null,null,null,3428]
[null,null,null,null,null,null,null,null,null,null,null,null,null,3433]
[null,null,null,null,null,null,null,null,null,null,null,null,null,3434]
[null,null,null,null,null,null,null,null,null,null,null,null,null,3438]
[null,null,null,null,null,null,null,null,null,null,null,null,null,3443]
[null,null,null,null,null,null,null,null,null,null,null,null,null,3448]
[null,null,null,null,null,null,null,null,null,null,null,null,null,3450]
[null,null,null,null,null,null,null,null,null,null,null,null,null,3453]
[null,null,null,null,null,null,null,null,null,null,null,null,null,3458]
[null,null,null,null,null,null,null,null,null,null,null,null,null,3463]
[null,null,null,null,null,null,null,null,null,null,null,null,null,3464]
[null,null,null,null,null,null,null,null,null,null,null,null,null,3468]
[null,null,null,null,null,null,null,null,null,null,null,null,null,3473]
[null,null,null,null,null,null,null,null,null,null,null,null,null,3478]
[null,null,null,null,null,null,null,null,null,null,null,null,null,3480]
[null,null,null,null,null,null,null,null,null,null,null,null,null,3483]
[null,null,null,null,null,null,null,null,null,null,null,null,null,3488]
[null,null,null,null,null,null,null,null,null,null,null,null,null,3493]
[null,null,null,null,null,null,null,null,null,null,null,null,null,3494]
[null,null,null,null,null,null,null,null,null,null,null,null,null,3498]
[null,null,null,null,null,null,null,null,null,null,null,null,null,3503]
[null,null,null,null,null,null,null,null,null,null,null,null,null,3508]
[null,null,null,null,null,null,null,null,null,null,null,null,null,3509]
[null,null,null,null,null,null,null,null,null,null,null,null,null,3515]
[null,null,null,null,null,null,null,null,null,null,null,null,null,3518]
[null,null,null,null,null,null,null,null,null,null,null,null,null,3523]
[null,null,null,null,null,null,null,null,null,null,null,null,null,3524]
[null,null,null,null,null,null,null,null,null,null,null,null,null,3528]
[null,null,null,null,null,null,null,null,null,null,null,null,null,3533]
[null,null,null,null,null,null,null,null,null,null,null,null,null,3538]
[null,null,null,null,null,null,null,null,null,null,null,null,null,3539]
[null,null,null,null,null,null,null,null,null,null,null,null,null,3545]
[null,null,null,null,null,null,null,null,null,null,null,null,null,3548]
[null,null,null,null,null,null,null,null,null,null,null,null,null,3553]
[null,null,null,null,null,null,null,null,null,null,null,null,null,3554]
[null,null,null,null,null,null,null,null,null,null,null,null,null,3558]
[null,null,null,null,null,null,null,null,null,null,null,null,null,3563]
[null,null,null,null,null,null,null,null,null,null,null,null,null,3568]
[null,null,null,null,null,null,null,null,null,null,null,null,null,3569]
[null,null,null,null,null,null,null,null,null,null,null,null,null,3575]
[null,null,null,null,null,null,null,null,null,null,null,null,null,3578]
[null,null,null,null,null,null,null,null,null,null,null,null,null,3583]
[null,null,null,null,null,null,null,null,null,null,null,null,null,3584]
[null,null,null,null,null,null,null,null,null,null,null,null,null,3588]
[null,null,null,null,null,null,null,null,null,null,null,null,null,3593]
[null,null,null,null,null,null,null,null,null,null,null,null,null,3598]
[null,null,null,null,null,null,null,null,null,null,null,null,null,3599]
[null,null,null,null,null,null,null,null,null,null,null,null,null,3605]
[null,null,null,null,null,null,null,null,null,null,null,null,null,3608]
[null,null,null,null,null,null,null,null,null,null,null,null,null,3613]
[null,null,null,null,null,null,null,null,null,null,null,null,null,3614]
[null,null,null,null,null,null,null,null,null,null,null,null,null,3619]
[null,null,null,null,null,null,null,null,null,null,null,null,null,3623]
[null,null,null,null,null,null,null,null,null,null,null,null,null,3628]
[null,null,null,null,null,null,null,null,null,null,null,null,null,3629]
[null,null,null,null,null,null,null,null,null,null,null,null,null,3635]
[null,null,null,null,null,null,null,null,null,null,null,null,null,3638]
[null,null,null,null,null,null,null,null,null,null,null,null,null,3643]
[null,null,null,null,null,null,null,null,null,null,null,null,null,3644]
[null,null,null,null,null,null,null,null,null,null,null,null,null,3649]
[null,null,null,null,null,null,null,null,null,null,null,null,null,3653]
[null,null,null,null,null,null,null,null,null,null,null,null,null,3658]
[null,null,null,null,null,null,null,null,null,null,null,null,null,3659]
[null,null,null,null,null,null,null,null,null,null,null,null,null,3665]
[null,null,null,null,null,null,null,null,null,null,null,null,null,3668]
[null,null,null,null,null,null,null,null,null,null,null,null,null,3673]
[null,null,null,null,null,null,null,null,null,null,null,null,null,3674]
[null,null,null,null,null,null,null,null,null,null,null,null,null,3679]
[null,null,null,null,null,null,null,null,null,null,null,null,null,3683]
[null,null,null,null,null,null,null,null,null,null,null,null,null,3688]
[null,null,null,null,null,null,null,null,null,null,null,null,null,3689]
[null,null,null,null,null,null,null,null,null,null,null,null,null,3695]
[null,null,null,null,null,null,null,null,null,null,null,null,null,3698]
[null,null,null,null,null,null,null,null,null,null,null,null,null,3703]
[null,null,null,null,null,null,null,null,null,null,null,null,null,3704]
[null,null,null,null,null,null,null,null,null,null,null,null,null,3709]
[null,null,null,null,null,null,null,null,null,null,null,null,null,3713]
[null,null,null,null,null,null,null,null,null,null,null,null,null,3718]
[null,null,null,null,null,null,null,null,null,null,null,null,null,3719]
[null,null,null,null,null,null,null,null,null,null,null,null,null,3725]
[null,null,null,null,null,null,null,null,null,null,null,null,null,3728]
[null,null,null,null,null,null,null,null,null,null,null,null,null,3733]
[null,null,null,null,null,null,null,null,null,null,null,null,null,3734]
[null,null,null,null,null,null,null,null,null,null,null,null,null,3739]
[null,null,null,null,null,null,null,null,null,null,null,null,null,3743]
[null,null,null,null,null,null,null,null,null,null,null,null,null,3748]
[null,null,null,null,null,null,null,null,null,null,null,null,null,3749]
[null,null,null,null,null,null,null,null,null,null,null,null,null,3755]
[null,null,null,null,null,null,null,null,null,null,null,null,null,3758]
[null,null,null,null,null,null,null,null,null,null,null,null,null,3763]
[null,null,null,null,null,null,null,null,null,null,null,null,null,3764]
[null,null,null,null,null,null,null,null,null,null,null,null,null,3769]
[null,null,null,null,null,null,null,null,null,null,null,null,null,3773]
[null,null,null,null,null,null,null,null,null,null,null,null,null,3778]
[null,null,null,null,null,null,null,null,null,null,null,null,null,3779]
[null,null,null,null,null,null,null,null,null,null,null,null,null,3785]
[null,null,null,null,null,null,null,null,null,null,null,null,null,3788]
[null,null,null,null,null,null,null,null,null,null,null,null,null,3793]
[null,null,null,null,null,null,null,null,null,null,null,null,null,3794]
[null,null,null,null,null,null,null,null,null,null,null,null,null,3799]
[null,null,null,null,null,null,null,null,null,null,null,null,null,3803]
[null,null,null,null,null,null,null,null,null,null,null,null,null,3808]
[null,null,null,null,null,null,null,null,null,null,null,null,null,3809]
[null,null,null,null,null,null,null,null,null,null,null,null,null,3815]
[null,null,null,null,null,null,null,null,null,null,null,null,null,3818]
[null,null,null,null,null,null,null,null,null,null,null,null,null,3823]
[null,null,null,null,null,null,null,null,null,null,null,null,null,3824]
[null,null,null,null,null,null,null,null,null,null,null,null,null,3829]
[null,null,null,null,null,null,null,null,null,null,null,null,null,3833]
[null,null,null,null,null,null,null,null,null,null,null,null,null,3838]
[null,null,null,null,null,null,null,null,null,null,null,null,null,3839]
[null,null,null,null,null,null,null,null,null,null,null,null,null,3845]
[null,null,null,null,null,null,null,null,null,null,null,null,null,3848]
[null,null,null,null,null,null,null,null,null,null,null,null,null,3853]
[null,null,null,null,null,null,null,null,null,null,null,null,null,3854]
[null,null,null,null,null,null,null,null,null,null,null,null,null,3859]
[null,null,null,null,null,null,null,null,null,null,null,null,null,3863]
[null,null,null,null,null,null,null,null,null,null,null,null,null,3868]
[null,null,null,null,null,null,null,null,null,null,null,null,null,3869]
[null,null,null,null,null,null,null,null,null,null,null,null,null,3874]
[null,null,null,null,null,null,null,null,null,null,null,null,null,3877]
[null,null,null,null,null,null,null,null,null,null,null,null,null,3883]
[null,null,null,null,null,null,null,null,null,null,null,null,null,3884]
[null,null,null,null,null,null,null,null,null,null,null,null,null,3889]
[null,null,null,null,null,null,null,null,null,null,null,null,null,3893]
[null,null,null,null,null,null,null,null,null,null,null,null,null,3898]
[null,null,null,null,null,null,null,null,null,null,null,null,null,3899]
[null,null,null,null,null,null,null,null,null,null,null,null,null,3904]
[null,null,null,null,null,null,null,null,null,null,null,null,null,3907]
[null,null,null,null,null,null,null,null,null,null,null,null,null,3913]
[null,null,null,null,null,null,null,null,null,null,null,null,null,3914]
[null,null,null,null,null,null,null,null,null,null,null,null,null,3919]
[null,null,null,null,null,null,null,null,null,null,null,null,null,3923]
[null,null,null,null,null,null,null,null,null,null,null,null,null,3928]
[null,null,null,null,null,null,null,null,null,null,null,null,null,3929]
[null,null,null,null,null,null,null,null,null,null,null,null,null,3934]
[null,null,null,null,null,null,null,null,null,null,null,null,null,3937]
[null,null,null,null,null,null,null,null,null,null,null,null,null,3943]
[null,null,null,null,null,null,null,null,null,null,null,null,null,3944]
[null,null,null,null,null,null,null,null,null,null,null,null,null,3949]
[null,null,null,null,null,null,null,null,null,null,null,null,null,3954]
[null,null,null,null,null,null,null,null,null,null,null,null,null,3958]
[null,null,null,null,null,null,null,null,null,null,null,null,null,3959]
[null,null,null,null,null,null,null,null,null,null,null,null,null,3964]
[null,null,null,null,null,null,null,null,null,null,null,null,null,3967]
[null,null,null,null,null,null,null,null,null,null,null,null,null,3973]
[null,null,null,null,null,null,null,null,null,null,null,null,null,3974]
[null,null,null,null,null,null,null,null,null,null,null,null,null,3979]
[null,null,null,null,null,null,null,null,null,null,null,null,null,3984]
[null,null,null,null,null,null,null,null,null,null,null,null,null,3988]
[null,null,null,null,null,null,null,null,null,null,null,null,null,3989]
[null,null,null,null,null,null,null,null,null,null,null,null,null,3994]
[null,null,null,null,null,null,null,null,null,null,null,null,null,3997]
[null,null,null,null,null,null,null,null,null,null,null,null,null,4003]
[null,null,null,null,null,null,null,null,null,null,null,null,null,4004]
[null,null,null,null,null,null,null,null,null,null,null,null,null,4009]
[null,null,null,null,null,null,null,null,null,null,null,null,null,4014]
[null,null,null,null,null,null,null,null,null,null,null,null,null,4018]
[null,null,null,null,null,null,null,null,null,null,null,null,null,4019]
[null,null,null,null,null,null,null,null,null,null,null,null,null,4024]
[null,null,null,null,null,null,null,null,null,null,null,null,null,4027]
[null,null,null,null,null,null,null,null,null,null,null,null,null,4033]
[null,null,null,null,null,null,null,null,null,null,null,null,null,4034]
[null,null,null,null,null,null,null,null,null,null,null,null,null,4039]
[null,null,null,null,null,null,null,null,null,null,null,null,null,4044]
[null,null,null,null,null,null,null,null,null,null,null,null,null,4048]
[null,null,null,null,null,null,null,null,null,null,null,null,null,4049]
[null,null,null,null,null,null,null,null,null,null,null,null,null,4054]
[null,null,null,null,null,null,null,null,null,null,null,null,null,4057]
[null,null,null,null,null,null,null,null,null,null,null,null,null,4063]
[null,null,null,null,null,null,null,null,null,null,null,null,null,4064]
[null,null,null,null,null,null,null,null,null,null,null,null,null,4069]
[null,null,null,null,null,null,null,null,null,null,null,null,null,4074]
[null,null,null,null,null,null,null,null,null,null,null,null,null,4078]
[null,null,null,null,null,null,null,null,null,null,null,null,null,4079]
[null,null,null,null,null,null,null,null,null,null,null,null,null,4084]
[null,null,null,null,null,null,null,null,null,null,null,null,null,4087]
[null,null,null,null,null,null,null,null,null,null,null,null,null,4093]
[null,null,null,null,null,null,null,null,null,null,null,null,null,4094]
[null,null,null,null,null,null,null,null,null,null,null,null,null,4099]
[null,null,null,null,null,null,null,null,null,null,null,null,null,4104]
[null,null,null,null,null,null,null,null,null,null,null,null,null,4108]
[null,null,null,null,null,null,null,null,null,null,null,null,null,4109]
[null,null,null,null,null,null,null,null,null,null,null,null,null,4114]
[null,null,null,null,null,null,null,null,null,null,null,null,null,4117]
[null,null,null,null,null,null,null,null,null,null,null,null,null,4123]
[null,null,null,null,null,null,null,null,null,null,null,null,null,4124]
[null,null,null,null,null,null,null,null,null,null,null,null,null,4129]
[null,null,null,null,null,null,null,null,null,null,null,null,null,4134]
[null,null,null,null,null,null,null,null,null,null,null,null,null,4138]
[null,null,null,null,null,null,null,null,null,null,null,null,null,4139]
[null,null,null,null,null,null,null,null,null,null,null,null,null,4144]
[null,null,null,null,null,null,null,null,null,null,null,null,null,4147]
[null,null,null,null,null,null,null,null,null,null,null,null,null,4153]
[null,null,null,null,null,null,null,null,null,null,null,null,null,4154]
[null,null,null,null,null,null,null,null,null,null,null,null,null,4159]
[null,null,null,null,null,null,null,null,null,null,null,null,null,4164]
[null,null,null,null,null,null,null,null,null,null,null,null,null,4168]
[null,null,null,null,null,null,null,null,null,null,null,null,null,4169]
[null,null,null,null,null,null,null,null,null,null,null,null,null,4174]
[null,null,null,null,null,null,null,null,null,null,null,null,null,4177]
[null,null,null,null,null,null,null,null,null,null,null,null,null,4183]
[null,null,null,null,null,null,null,null,null,null,null,null,null,4184]
[null,null,null,null,null,null,null,null,null,null,null,null,null,4189]
[null,null,null,null,null,null,null,null,null,null,null,null,null,4194]
[null,null,null,null,null,null,null,null,null,null,null,null,null,4198]
[null,null,null,null,null,null,null,null,null,null,null,null,null,4199]
[null,null,null,null,null,null,null,null,null,null,null,null,null,4204]
[null,null,null,null,null,null,null,null,null,null,null,null,null,4207]
[null,null,null,null,null,null,null,null,null,null,null,null,null,4213]
[null,null,null,null,null,null,null,null,null,null,null,null,null,4214]
[null,null,null,null,null,null,null,null,null,null,null,null,null,4219]
[null,null,null,null,null,null,null,null,null,null,null,null,null,4224]
[null,null,null,null,null,null,null,null,null,null,null,null,null,4228]
[null,null,null,null,null,null,null,null,null,null,null,null,null,4229]
[null,null,null,null,null,null,null,null,null,null,null,null,null,4234]
[null,null,null,null,null,null,null,null,null,null,null,null,null,4238]
[null,null,null,null,null,null,null,null,null,null,null,null,null,4243]
[null,null,null,null,null,null,null,null,null,null,null,null,null,4244]
[null,null,null,null,null,null,null,null,null,null,null,null,null,4249]
[null,null,null,null,null,null,null,null,null,null,null,null,null,4254]
[null,null,null,null,null,null,null,null,null,null,null,null,null,4258]
[null,null,null,null,null,null,null,null,null,null,null,null,null,4259]
[null,null,null,null,null,null,null,null,null,null,null,null,null,4264]
[null,null,null,null,null,null,null,null,null,null,null,null,null,4269]
[null,null,null,null,null,null,null,null,null,null,null,null,null,4272]
[null,null,null,null,null,null,null,null,null,null,null,null,null,4274]
[null,null,null,null,null,null,null,null,null,null,null,null,null,4279]
[null,null,null,null,null,null,null,null,null,null,null,null,null,4284]
[null,null,null,null,null,null,null,null,null,null,null,null,null,4288]
[null,null,null,null,null,null,null,null,null,null,null,null,null,4289]
[null,null,null,null,null,null,null,null,null,null,null,null,null,4294]
[null,null,null,null,null,null,null,null,null,null,null,null,null,4299]
[null,null,null,null,null,null,null,null,null,null,null,null,null,4302]
[null,null,null,null,null,null,null,null,null,null,null,null,null,4304]
[null,null,null,null,null,null,null,null,null,null,null,null,null,4309]
[null,null,null,null,null,null,null,null,null,null,null,null,null,4314]
[null,null,null,null,null,null,null,null,null,null,null,null,null,4316]
[null,null,null,null,null,null,null,null,null,null,null,null,null,4319]
[null,null,null,null,null,null,null,null,null,null,null,null,null,4324]
[null,null,null,null,null,null,null,null,null,null,null,null,null,4329]
[null,null,null,null,null,null,null,null,null,null,null,null,null,4332]
[null,null,null,null,null,null,null,null,null,null,null,null,null,4334]
[null,null,null,null,null,null,null,null,null,null,null,null,null,4339]
[null,null,null,null,null,null,null,null,null,null,null,null,null,4344]
[null,null,null,null,null,null,null,null,null,null,null,null,null,4346]
[null,null,null,null,null,null,null,null,null,null,null,null,null,4349]
[null,null,null,null,null,null,null,null,null,null,null,null,null,4354]
[null,null,null,null,null,null,null,null,null,null,null,null,null,4359]
[null,null,null,null,null,null,null,null,null,null,null,null,null,4362]
[null,null,null,null,null,null,null,null,null,null,null,null,null,4364]
[null,null,null,null,null,null,null,null,null,null,null,null,null,4369]
[null,null,null,null,null,null,null,null,null,null,null,null,null,4374]
[null,null,null,null,null,null,null,null,null,null,null,null,null,4376]
[null,null,null,null,null,null,null,null,null,null,null,null,null,4379]
[null,null,null,null,null,null,null,null,null,null,null,null,null,4384]
[null,null,null,null,null,null,null,null,null,null,null,null,null,4389]
[null,null,null,null,null,null,null,null,null,null,null,null,null,4392]
[null,null,null,null,null,null,null,null,null,null,null,null,null,4394]
[null,null,null,null,null,null,null,null,null,null,null,null,null,4399]
[null,null,null,null,null,null,null,null,null,null,null,null,null,4404]
[null,null,null,null,null,null,null,null,null,null,null,null,null,4406]
[null,null,null,null,null,null,null,null,null,null,null,null,null,4409]
[null,null,null,null,null,null,null,null,null,null,null,null,null,4414]
[null,null,null,null,null,null,null,null,null,null,null,null,null,4419]
[null,null,null,null,null,null,null,null,null,null,null,null,null,4422]
[null,null,null,null,null,null,null,null,null,null,null,null,null,4424]
[null,null,null,null,null,null,null,null,null,null,null,null,null,4429]
[null,null,null,null,null,null,null,null,null,null,null,null,null,4434]
[null,null,null,null,null,null,null,null,null,null,null,null,null,4436]
[null,null,null,null,null,null,null,null,null,null,null,null,null,4439]
[null,null,null,null,null,null,null,null,null,null,null,null,null,4444]
[null,null,null,null,null,null,null,null,null,null,null,null,null,4449]
[null,null,null,null,null,null,null,null,null,null,null,null,null,4452]
[null,null,null,null,null,null,null,null,null,null,null,null,null,4454]
[null,null,null,null,null,null,null,null,null,null,null,null,null,4459]
[null,null,null,null,null,null,null,null,null,null,null,null,null,4464]
[null,null,null,null,null,null,null,null,null,null,null,null,null,4466]
[null,null,null,null,null,null,null,null,null,null,null,null,null,4469]
[null,null,null,null,null,null,null,null,null,null,null,null,null,4474]
[null,null,null,null,null,null,null,null,null,null,null,null,null,4479]
[null,null,null,null,null,null,null,null,null,null,null,null,null,4482]
[null,null,null,null,null,null,null,null,null,null,null,null,null,4484]
[null,null,null,null,null,null,null,null,null,null,null,null,null,4489]
[null,null,null,null,null,null,null,null,null,null,null,null,null,4494]
[null,null,null,null,null,null,null,null,null,null,null,null,null,4496]
[null,null,null,null,null,null,null,null,null,null,null,null,null,4499]
[null,null,null,null,null,null,null,null,null,null,null,null,null,4504]
[null,null,null,null,null,null,null,null,null,null,null,null,null,4509]
[null,null,null,null,null,null,null,null,null,null,null,null,null,4512]
[null,null,null,null,null,null,null,null,null,null,null,null,null,4514]
[null,null,null,null,null,null,null,null,null,null,null,null,null,4519]
[null,null,null,null,null,null,null,null,null,null,null,null,null,4524]
[null,null,null,null,null,null,null,null,null,null,null,null,null,4526]
[null,null,null,null,null,null,null,null,null,null,null,null,null,4529]
[null,null,null,null,null,null,null,null,null,null,null,null,null,4534]
[null,null,null,null,null,null,null,null,null,null,null,null,null,4539]
[null,null,null,null,null,null,null,null,null,null,null,null,null,4542]
[null,null,null,null,null,null,null,null,null,null,null,null,null,4544]
[null,null,null,null,null,null,null,null,null,null,null,null,null,4549]
[null,null,null,null,null,null,null,null,null,null,null,null,null,4554]
[null,null,null,null,null,null,null,null,null,null,null,null,null,4556]
[null,null,null,null,null,null,null,null,null,null,null,null,null,4559]
[null,null,null,null,null,null,null,null,null,null,null,null,null,4564]
[null,null,null,null,null,null,null,null,null,null,null,null,null,4569]
[null,null,null,null,null,null,null,null,null,null,null,null,null,4573]
[null,null,null,null,null,null,null,null,null,null,null,null,null,4574]
[null,null,null,null,null,null,null,null,null,null,null,null,null,4579]
[null,null,null,null,null,null,null,null,null,null,null,null,null,4584]
[null,null,null,null,null,null,null,null,null,null,null,null,null,4586]
[null,null,null,null,null,null,null,null,null,null,null,null,null,4589]
[null,null,null,null,null,null,null,null,null,null,null,null,null,4594]
[null,null,null,null,null,null,null,null,null,null,null,null,null,4599]
[null,null,null,null,null,null,null,null,null,null,null,null,null,4603]
[null,null,null,null,null,null,null,null,null,null,null,null,null,4604]
[null,null,null,null,null,null,null,null,null,null,null,null,null,4609]
[null,null,null,null,null,null,null,null,null,null,null,null,null,4614]
[null,null,null,null,null,null,null,null,null,null,null,null,null,4616]
[null,null,null,null,null,null,null,null,null,null,null,null,null,4619]
[null,null,null,null,null,null,null,null,null,null,null,null,null,4624]
[null,null,null,null,null,null,null,null,null,null,null,null,null,4629]
[null,null,null,null,null,null,null,null,null,null,null,null,null,4634]
[null,null,null,null,null,null,null,null,null,null,null,null,null,4637]
[null,null,null,null,null,null,null,null,null,null,null,null,null,4639]
[null,null,null,null,null,null,null,null,null,null,null,null,null,4644]
[null,null,null,null,null,null,null,null,null,null,null,null,null,4649]
[null,null,null,null,null,null,null,null,null,null,null,null,null,4651]
[null,null,null,null,null,null,null,null,null,null,null,null,null,4654]
[null,null,null,null,null,null,null,null,null,null,null,null,null,4659]
[null,null,null,null,null,null,null,null,null,null,null,null,null,4664]
[null,null,null,null,null,null,null,null,null,null,null,null,null,4667]
[null,null,null,null,null,null,null,null,null,null,null,null,null,4669]
[null,null,null,null,null,null,null,null,null,null,null,null,null,4674]
[null,null,null,null,null,null,null,null,null,null,null,null,null,4679]
[null,null,null,null,null,null,null,null,null,null,null,null,null,4681]
[null,null,null,null,null,null,null,null,null,null,null,null,null,4684]
[null,null,null,null,null,null,null,null,null,null,null,null,null,4689]
[null,null,null,null,null,null,null,null,null,null,null,null,null,4694]
[null,null,null,null,null,null,null,null,null,null,null,null,null,4697]
[null,null,null,null,null,null,null,null,null,null,null,null,null,4699]
[null,null,null,null,null,null,null,null,null,null,null,null,null,4704]
[null,null,null,null,null,null,null,null,null,null,null,null,null,4709]
[null,null,null,null,null,null,null,null,null,null,null,null,null,4711]
[null,null,null,null,null,null,null,null,null,null,null,null,null,4714]
[null,null,null,null,null,null,null,null,null,null,null,null,null,4719]
[null,null,null,null,null,null,null,null,null,null,null,null,null,4724]
[null,null,null,null,null,null,null,null,null,null,null,null,null,4727]
[null,null,null,null,null,null,null,null,null,null,null,null,null,4729]
[null,null,null,null,null,null,null,null,null,null,null,null,null,4734]
[null,null,null,null,null,null,null,null,null,null,null,null,null,4739]
[null,null,null,null,null,null,null,null,null,null,null,null,null,4741]
[null,null,null,null,null,null,null,null,null,null,null,null,null,4744]
[null,null,null,null,null,null,null,null,null,null,null,null,null,4749]
[null,null,null,null,null,null,null,null,null,null,null,null,null,4754]
[null,null,null,null,null,null,null,null,null,null,null,null,null,4757]
[null,null,null,null,null,null,null,null,null,null,null,null,null,4759]
[null,null,null,null,null,null,null,null,null,null,null,null,null,4764]
[null,null,null,null,null,null,null,null,null,null,null,null,null,4769]
[null,null,null,null,null,null,null,null,null,null,null,null,null,4771]
[null,null,null,null,null,null,null,null,null,null,null,null,null,4774]
[null,null,null,null,null,null,null,null,null,null,null,null,null,4779]
[null,null,null,null,null,null,null,null,null,null,null,null,null,4784]
[null,null,null,null,null,null,null,null,null,null,null,null,null,4787]
[null,null,null,null,null,null,null,null,null,null,null,null,null,4789]
[null,null,null,null,null,null,null,null,null,null,null,null,null,4794]
[null,null,null,null,null,null,null,null,null,null,null,null,null,4799]
[null,null,null,null,null,null,null,null,null,null,null,null,null,4801]
[null,null,null,null,null,null,null,null,null,null,null,null,null,4804]
[null,null,null,null,null,null,null,null,null,null,null,null,null,4809]
[null,null,null,null,null,null,null,null,null,null,null,null,null,4814]
[null,null,null,null,null,null,null,null,null,null,null,null,null,4817]
[null,null,null,null,null,null,null,null,null,null,null,null,null,4819]
[null,null,null,null,null,null,null,null,null,null,null,null,null,4824]
[null,null,null,null,null,null,null,null,null,null,null,null,null,4829]
[null,null,null,null,null,null,null,null,null,null,null,null,null,4831]
[null,null,null,null,null,null,null,null,null,null,null,null,null,4834]
[null,null,null,null,null,null,null,null,null,null,null,null,null,4839]
[null,null,null,null,null,null,null,null,null,null,null,null,null,4844]
[null,null,null,null,null,null,null,null,null,null,null,null,null,4847]
[null,null,null,null,null,null,null,null,null,null,null,null,null,4849]
[null,null,null,null,null,null,null,null,null,null,null,null,null,4854]
[null,null,null,null,null,null,null,null,null,null,null,null,null,4859]
[null,null,null,null,null,null,null,null,null,null,null,null,null,4861]
[null,null,null,null,null,null,null,null,null,null,null,null,null,4864]
[null,null,null,null,null,null,null,null,null,null,null,null,null,4869]
[null,null,null,null,null,null,null,null,null,null,null,null,null,4874]
[null,null,null,null,null,null,null,null,null,null,null,null,null,4877]
[null,null,null,null,null,null,null,null,null,null,null,null,null,4879]
[null,null,null,null,null,null,null,null,null,null,null,null,null,4884]
[null,null,null,null,null,null,null,null,null,null,null,null,null,4889]
[null,null,null,null,null,null,null,null,null,null,null,null,null,4891]
[null,null,null,null,null,null,null,null,null,null,null,null,null,4894]
[null,null,null,null,null,null,null,null,null,null,null,null,null,4899]
[null,null,null,null,null,null,null,null,null,null,null,null,null,4904]
[null,null,null,null,null,null,null,null,null,null,null,null,null,4905]
[null,null,null,null,null,null,null,null,null,null,null,null,null,4909]
[null,null,null,null,null,null,null,null,null,null,null,null,null,4914]
[null,null,null,null,null,null,null,null,null,null,null,null,null,4919]
[null,null,null,null,null,null,null,null,null,null,null,null,null,4921]
[null,null,null,null,null,null,null,null,null,null,null,null,null,4924]
[null,null,null,null,null,null,null,null,null,null,null,null,null,4929]
[null,null,null,null,null,null,null,null,null,null,null,null,null,4934]
[null,null,null,null,null,null,null,null,null,null,null,null,null,4935]
[null,null,null,null,null,null,null,null,null,null,null,null,null,4939]
[null,null,null,null,null,null,null,null,null,null,null,null,null,4944]
[null,null,null,null,null,null,null,null,null,null,null,null,null,4949]
[null,null,null,null,null,null,null,null,null,null,null,null,null,4951]
[null,null,null,null,null,null,null,null,null,null,null,null,null,4954]
[null,null,null,null,null,null,null,null,null,null,null,null,null,4959]
[null,null,null,null,null,null,null,null,null,null,null,null,null,4964]
[null,null,null,null,null,null,null,null,null,null,null,null,null,4965]
[null,null,null,null,null,null,null,null,null,null,null,null,null,4969]
[null,null,null,null,null,null,null,null,null,null,null,null,null,4974]
[null,null,null,null,null,null,null,null,null,null,null,null,null,4979]
[null,null,null,null,null,null,null,null,null,null,null,null,null,4981]
[null,null,null,null,null,null,null,null,null,null,null,null,null,4984]
[null,null,null,null,null,null,null,null,null,null,null,null,null,4989]
[null,null,null,null,null,null,null,null,null,null,null,null,null,4994]
[null,null,null,null,null,null,null,null,null,null,null,null,null,4995]
[null,null,null,null,null,null,null,null,null,null,null,null,null,4999]
[null,null,null,null,null,null,null,null,null,null,null,null,null,5004]
[null,null,null,null,null,null,null,null,null,null,null,null,null,5009]
[null,null,null,null,null,null,null,null,null,null,null,null,null,5010]
[null,null,null,null,null,null,null,null,null,null,null,null,null,5016]
[null,null,null,null,null,null,null,null,null,null,null,null,null,5019]
[null,null,null,null,null,null,null,null,null,null,null,null,null,5024]
[null,null,null,null,null,null,null,null,null,null,null,null,null,5025]
[null,null,null,null,null,null,null,null,null,null,null,null,null,5029]
[null,null,null,null,null,null,null,null,null,null,null,null,null,5034]
[null,null,null,null,null,null,null,null,null,null,null,null,null,5039]
[null,null,null,null,null,null,null,null,null,null,null,null,null,5040]
[null,null,null,null,null,null,null,null,null,null,null,null,null,5046]
[null,null,null,null,null,null,null,null,null,null,null,null,null,5049]
[null,null,null,null,null,null,null,null,null,null,null,null,null,5054]
[null,null,null,null,null,null,null,null,null,null,null,null,null,5055]
[null,null,null,null,null,null,null,null,null,null,null,null,null,5059]
[null,null,null,null,null,null,null,null,null,null,null,null,null,5064]
[null,null,null,null,null,null,null,null,null,null,null,null,null,5069]
[null,null,null,null,null,null,null,null,null,null,null,null,null,5070]
[null,null,null,null,null,null,null,null,null,null,null,null,null,5076]
[null,null,null,null,null,null,null,null,null,null,null,null,null,5079]
[null,null,null,null,null,null,null,null,null,null,null,null,null,5084]
[null,null,null,null,null,null,null,null,null,null,null,null,null,5085]
[null,null,null,null,null,null,null,null,null,null,null,null,null,5089]
[null,null,null,null,null,null,null,null,null,null,null,null,null,5094]
[null,null,null,null,null,null,null,null,null,null,null,null,null,5099]
[null,null,null,null,null,null,null,null,null,null,null,null,null,5100]
[null,null,null,null,null,null,null,null,null,null,null,null,null,5106]
[null,null,null,null,null,null,null,null,null,null,null,null,null,5109]
[null,null,null,null,null,null,null,null,null,null,null,null,null,5114]
[null,null,null,null,null,null,null,null,null,null,null,null,null,5115]
[null,null,null,null,null,null,null,null,null,null,null,null,null,5119]
[null,null,null,null,null,null,null,null,null,null,null,null,null,5124]
[null,null,null,null,null,null,null,null,null,null,null,null,null,5129]
[null,null,null,null,null,null,null,null,null,null,null,null,null,5130]
[null,null,null,null,null,null,null,null,null,null,null,null,null,5136]
[null,null,null,null,null,null,null,null,null,null,null,null,null,5139]
[null,null,null,null,null,null,null,null,null,null,null,null,null,5144]
[null,null,null,null,null,null,null,null,null,null,null,null,null,5145]
[null,null,null,null,null,null,null,null,null,null,null,null,null,5149]
[null,null,null,null,null,null,null,null,null,null,null,null,null,5154]
[null,null,null,null,null,null,null,null,null,null,null,null,null,5159]
[null,null,null,null,null,null,null,null,null,null,null,null,null,5160]
[null,null,null,null,null,null,null,null,null,null,null,null,null,5166]
[null,null,null,null,null,null,null,null,null,null,null,null,null,5169]
[null,null,null,null,null,null,null,null,null,null,null,null,null,5174]
[null,null,null,null,null,null,null,null,null,null,null,null,null,5175]
[null,null,null,null,null,null,null,null,null,null,null,null,null,5179]
[null,null,null,null,null,null,null,null,null,null,null,null,null,5184]
[null,null,null,null,null,null,null,null,null,null,null,null,null,5189]
[null,null,null,null,null,null,null,null,null,null,null,null,null,5190]
[null,null,null,null,null,null,null,null,null,null,null,null,null,5196]
[null,null,null,null,null,null,null,null,null,null,null,null,null,5199]
[null,null,null,null,null,null,null,null,null,null,null,null,null,5204]
[null,null,null,null,null,null,null,null,null,null,null,null,null,5205]
[null,null,null,null,null,null,null,null,null,null,null,null,null,5209]
[null,null,null,null,null,null,null,null,null,null,null,null,null,5214]
[null,null,null,null,null,null,null,null,null,null,null,null,null,5219]
[null,null,null,null,null,null,null,null,null,null,null,null,null,5220]
[null,null,null,null,null,null,null,null,null,null,null,null,null,5226]
[null,null,null,null,null,null,null,null,null,null,null,null,null,5229]
[null,null,null,null,null,null,null,null,null,null,null,null,null,5234]
[null,null,null,null,null,null,null,null,null,null,null,null,null,5235]
[null,null,null,null,null,null,null,null,null,null,null,null,null,5240]
[null,null,null,null,null,null,null,null,null,null,null,null,null,5244]
[null,null,null,null,null,null,null,null,null,null,null,null,null,5249]
[null,null,null,null,null,null,null,null,null,null,null,null,null,5250]
[null,null,null,null,null,null,null,null,null,null,null,null,null,5256]
[null,null,null,null,null,null,null,null,null,null,null,null,null,5259]
[null,null,null,null,null,null,null,null,null,null,null,null,null,5264]
[null,null,null,null,null,null,null,null,null,null,null,null,null,5265]
[null,null,null,null,null,null,null,null,null,null,null,null,null,5270]
[null,null,null,null,null,null,null,null,null,null,null,null,null,5274]
[null,null,null,null,null,null,null,null,null,null,null,null,null,5279]
[null,null,null,null,null,null,null,null,null,null,null,null,null,5280]
[null,null,null,null,null,null,null,null,null,null,null,null,null,5286]
[null,null,null,null,null,null,null,null,null,null,null,null,null,5289]
[null,null,null,null,null,null,null,null,null,null,null,null,null,5294]
[null,null,null,null,null,null,null,null,null,null,null,null,null,5295]
[null,null,null,null,null,null,null,null,null,null,null,null,null,5300]
[null,null,null,null,null,null,null,null,null,null,null,null,null,5304]
[null,null,null,null,null,null,null,null,null,null,null,null,null,5309]
[null,null,null,null,null,null,null,null,null,null,null,null,null,5310]
[null,null,null,null,null,null,null,null,null,null,null,null,null,5316]
[null,null,null,null,null,null,null,null,null,null,null,null,null,5319]
[null,null,null,null,null,null,null,null,null,null,null,null,null,5324]
[null,null,null,null,null,null,null,null,null,null,null,null,null,5325]
[null,null,null,null,null,null,null,null,null,null,null,null,null,5330]
[null,null,null,null,null,null,null,null,null,null,null,null,null,5334]
[null,null,null,null,null,null,null,null,null,null,null,null,null,5339]
[null,null,null,null,null,null,null,null,null,null,null,null,null,5340]
[null,null,null,null,null,null,null,null,null,null,null,null,null,5346]
[null,null,null,null,null,null,null,null,null,null,null,null,null,5349]
[null,null,null,null,null,null,null,null,null,null,null,null,null,5354]
[null,null,null,null,null,null,null,null,null,null,null,null,null,5355]
[null,null,null,null,null,null,null,null,null,null,null,null,null,5360]
[null,null,null,null,null,null,null,null,null,null,null,null,null,5364]
[null,null,null,null,null,null,null,null,null,null,null,null,null,5369]
[null,null,null,null,null,null,null,null,null,null,null,null,null,5370]
[null,null,null,null,null,null,null,null,null,null,null,null,null,5375]
[null,null,null,null,null,null,null,null,null,null,null,null,null,5378]
[null,null,null,null,null,null,null,null,null,null,null,null,null,5384]
[null,null,null,null,null,null,null,null,null,null,null,null,null,5385]
[null,null,null,null,null,null,null,null,null,null,null,null,null,5390]
[null,null,null,null,null,null,null,null,null,null,null,null,null,5394]
[null,null,null,null,null,null,null,null,null,null,null,null,null,5399]
[null,null,null,null,null,null,null,null,null,null,null,null,null,5400]
[null,null,null,null,null,null,null,null,null,null,null,null,null,5405]
[null,null,null,null,null,null,null,null,null,null,null,null,null,5408]
[null,null,null,null,null,null,null,null,null,null,null,null,null,5414]
[null,null,null,null,null,null,null,null,null,null,null,null,null,5415]
[null,null,null,null,null,null,null,null,null,null,null,null,null,5420]
[null,null,null,null,null,null,null,null,null,null,null,null,null,5424]
[null,null,null,null,null,null,null,null,null,null,null,null,null,5429]
[null,null,null,null,null,null,null,null,null,null,null,null,null,5430]
[null,null,null,null,null,null,null,null,null,null,null,null,null,5435]
[null,null,null,null,null,null,null,null,null,null,null,null,null,5438]
[null,null,null,null,null,null,null,null,null,null,null,null,null,5444]
[null,null,null,null,null,null,null,null,null,null,null,null,null,5445]
[null,null,null,null,null,null,null,null,null,null,null,null,null,5450]
[null,null,null,null,null,null,null,null,null,null,null,null,null,5454]
[null,null,null,null,null,null,null,null,null,null,null,null,null,5459]
[null,null,null,null,null,null,null,null,null,null,null,null,null,5460]
[null,null,null,null,null,null,null,null,null,null,null,null,null,5465]
[null,null,null,null,null,null,null,null,null,null,null,null,null,5468]
[null,null,null,null,null,null,null,null,null,null,null,null,null,5474]
[null,null,null,null,null,null,null,null,null,null,null,null,null,5475]
[null,null,null,null,null,null,null,null,null,null,null,null,null,5480]
[null,null,null,null,null,null,null,null,null,null,null,null,null,5484]
[null,null,null,null,null,null,null,null,null,null,null,null,null,5489]
[null,null,null,null,null,null,null,null,null,null,null,null,null,5490]
[null,null,null,null,null,null,null,null,null,null,null,null,null,5495]
[null,null,null,null,null,null,null,null,null,null,null,null,null,5498]
[null,null,null,null,null,null,null,null,null,null,null,null,null,5504]
[null,null,null,null,null,null,null,null,null,null,null,null,null,5505]
[null,null,null,null,null,null,null,null,null,null,null,null,null,5510]
[null,null,null,null,null,null,null,null,null,null,null,null,null,5514]
[null,null,null,null,null,null,null,null,null,null,null,null,null,5519]
[null,null,null,null,null,null,null,null,null,null,null,null,null,5520]
[null,null,null,null,null,null,null,null,null,null,null,null,null,5525]
[null,null,null,null,null,null,null,null,null,null,null,null,null,5528]
[null,null,null,null,null,null,null,null,null,null,null,null,null,5534]
[null,null,null,null,null,null,null,null,null,null,null,null,null,5535]
[null,null,null,null,null,null,null,null,null,null,null,null,null,5540]
[null,null,null,null,null,null,null,null,null,null,null,null,null,5544]
[null,null,null,null,null,null,null,null,null,null,null,null,null,5549]
[null,null,null,null,null,null,null,null,null,null,null,null,null,5550]
[null,null,null,null,null,null,null,null,null,null,null,null,null,5555]
[null,null,null,null,null,null,null,null,null,null,null,null,null,5558]
[null,null,null,null,null,null,null,null,null,null,null,null,null,5564]
[null,null,null,null,null,null,null,null,null,null,null,null,null,5565]
[null,null,null,null,null,null,null,null,null,null,null,null,null,5570]
[null,null,null,null,null,null,null,null,null,null,null,null,null,5575]
[null,null,null,null,null,null,null,null,null,null,null,null,null,5579]
[null,null,null,null,null,null,null,null,null,null,null,null,null,5580]
[null,null,null,null,null,null,null,null,null,null,null,null,null,5585]
[null,null,null,null,null,null,null,null,null,null,null,null,null,5588]
[null,null,null,null,null,null,null,null,null,null,null,null,null,5594]
[null,null,null,null,null,null,null,null,null,null,null,null,null,5595]
[null,null,null,null,null,null,null,null,null,null,null,null,null,5600]
[null,null,null,null,null,null,null,null,null,null,null,null,null,5605]
[null,null,null,null,null,null,null,null,null,null,null,null,null,5609]
[null,null,null,null,null,null,null,null,null,null,null,null,null,5610]
[null,null,null,null,null,null,null,null,null,null,null,null,null,5615]
[null,null,null,null,null,null,null,null,null,null,null,null,null,5618]
[null,null,null,null,null,null,null,null,null,null,null,null,null,5624]
[null,null,null,null,null,null,null,null,null,null,null,null,null,5625]
[null,null,null,null,null,null,null,null,null,null,null,null,null,5630]
[null,null,null,null,null,null,null,null,null,null,null,null,null,5635]
[null,null,null,null,null,null,null,null,null,null,null,null,null,5639]
[null,null,null,null,null,null,null,null,null,null,null,null,null,5640]
[null,null,null,null,null,null,null,null,null,null,null,null,null,5645]
[null,null,null,null,null,null,null,null,null,null,null,null,null,5648]
[null,null,null,null,null,null,null,null,null,null,null,null,null,5654]
[null,null,null,null,null,null,null,null,null,null,null,null,null,5655]
[null,null,null,null,null,null,null,null,null,null,null,null,null,5660]
[null,null,null,null,null,null,null,null,null,null,null,null,null,5665]
[null,null,null,null,null,null,null,null,null,null,null,null,null,5669]
[null,null,null,null,null,null,null,null,null,null,null,null,null,5670]
[null,null,null,null,null,null,null,null,null,null,null,null,null,5675]
[null,null,null,null,null,null,null,null,null,null,null,null,null,5678]
[null,null,null,null,null,null,null,null,null,null,null,null,null,5684]
[null,null,null,null,null,null,null,null,null,null,null,null,null,5685]
[null,null,null,null,null,null,null,null,null,null,null,null,null,5690]
[null,null,null,null,null,null,null,null,null,null,null,null,null,5695]
[null,null,null,null,null,null,null,null,null,null,null,null,null,5699]
[null,null,null,null,null,null,null,null,null,null,null,null,null,5700]
[null,null,null,null,null,null,null,null,null,null,null,null,null,5705]
[null,null,null,null,null,null,null,null,null,null,null,null,null,5708]
[null,null,null,null,null,null,null,null,null,null,null,null,null,5714]
[null,null,null,null,null,null,null,null,null,null,null,null,null,5715]
[null,null,null,null,null,null,null,null,null,null,null,null,null,5720]
[null,null,null,null,null,null,null,null,null,null,null,null,null,5725]
[null,null,null,null,null,null,null,null,null,null,null,null,null,5729]
[null,null,null,null,null,null,null,null,null,null,null,null,null,5730]
[null,null,null,null,null,null,null,null,null,null,null,null,null,5735]
[null,null,null,null,null,null,null,null,null,null,null,null,null,5738]
[null,null,null,null,null,null,null,null,null,null,null,null,null,5744]
[null,null,null,null,null,null,null,null,null,null,null,null,null,5745]
[null,null,null,null,null,null,null,null,null,null,null,null,null,5750]
[null,null,null,null,null,null,null,null,null,null,null,null,null,5755]
[null,null,null,null,null,null,null,null,null,null,null,null,null,5759]
[null,null,null,null,null,null,null,null,null,null,null,null,null,5760]
[null,null,null,null,null,null,null,null,null,null,null,null,null,5765]
[null,null,null,null,null,null,null,null,null,null,null,null,null,5770]
[null,null,null,null,null,null,null,null,null,null,null,null,null,5773]
[null,null,null,null,null,null,null,null,null,null,null,null,null,5775]
[null,null,null,null,null,null,null,null,null,null,null,null,null,5780]
[null,null,null,null,null,null,null,null,null,null,null,null,null,5785]
[null,null,null,null,null,null,null,null,null,null,null,null,null,5789]
[null,null,null,null,null,null,null,null,null,null,null,null,null,5790]
[null,null,null,null,null,null,null,null,null,null,null,null,null,5795]
[null,null,null,null,null,null,null,null,null,null,null,null,null,5800]
[null,null,null,null,null,null,null,null,null,null,null,null,null,5803]
[null,null,null,null,null,null,null,null,null,null,null,null,null,5805]
[null,null,null,null,null,null,null,null,null,null,null,null,null,5810]
[null,null,null,null,null,null,null,null,null,null,null,null,null,5815]
[null,null,null,null,null,null,null,null,null,null,null,null,null,5819]
[null,null,null,null,null,null,null,null,null,null,null,null,null,5820]
[null,null,null,null,null,null,null,null,null,null,null,null,null,5825]
[null,null,null,null,null,null,null,null,null,null,null,null,null,5830]
[null,null,null,null,null,null,null,null,null,null,null,null,null,5833]
[null,null,null,null,null,null,null,null,null,null,null,null,null,5835]
[null,null,null,null,null,null,null,null,null,null,null,null,null,5840]
[null,null,null,null,null,null,null,null,null,null,null,null,null,5845]
[null,null,null,null,null,null,null,null,null,null,null,null,null,5849]
[null,null,null,null,null,null,null,null,null,null,null,null,null,5850]
[null,null,null,null,null,null,null,null,null,null,null,null,null,5855]
[null,null,null,null,null,null,null,null,null,null,null,null,null,5860]
[null,null,null,null,null,null,null,null,null,null,null,null,null,5863]
[null,null,null,null,null,null,null,null,null,null,null,null,null,5865]
[null,null,null,null,null,null,null,null,null,null,null,null,null,5870]
[null,null,null,null,null,null,null,null,null,null,null,null,null,5875]
[null,null,null,null,null,null,null,null,null,null,null,null,null,5879]
[null,null,null,null,null,null,null,null,null,null,null,null,null,5880]
[null,null,null,null,null,null,null,null,null,null,null,null,null,5885]
[null,null,null,null,null,null,null,null,null,null,null,null,null,5890]
[null,null,null,null,null,null,null,null,null,null,null,null,null,5893]
[null,null,null,null,null,null,null,null,null,null,null,null,null,5895]
[null,null,null,null,null,null,null,null,null,null,null,null,null,5900]
[null,null,null,null,null,null,null,null,null,null,null,null,null,5905]
[null,null,null,null,null,null,null,null,null,null,null,null,null,5907]
[null,null,null,null,null,null,null,null,null,null,null,null,null,5910]
[null,null,null,null,null,null,null,null,null,null,null,null,null,5915]
[null,null,null,null,null,null,null,null,null,null,null,null,null,5920]
[null,null,null,null,null,null,null,null,null,null,null,null,null,5923]
[null,null,null,null,null,null,null,null,null,null,null,null,null,5925]
[null,null,null,null,null,null,null,null,null,null,null,null,null,5930]
[null,null,null,null,null,null,null,null,null,null,null,null,null,5935]
[null,null,null,null,null,null,null,null,null,null,null,null,null,5937]
[null,null,null,null,null,null,null,null,null,null,null,null,null,5940]
[null,null,null,null,null,null,null,null,null,null,null,null,null,5945]
[null,null,null,null,null,null,null,null,null,null,null,null,null,5950]
[null,null,null,null,null,null,null,null,null,null,null,null,null,5953]
[null,null,null,null,null,null,null,null,null,null,null,null,null,5955]
[null,null,null,null,null,null,null,null,null,null,null,null,null,5960]
[null,null,null,null,null,null,null,null,null,null,null,null,null,5965]
[null,null,null,null,null,null,null,null,null,null,null,null,null,5967]
[null,null,null,null,null,null,null,null,null,null,null,null,null,5970]
[null,null,null,null,null,null,null,null,null,null,null,null,null,5975]
[null,null,null,null,null,null,null,null,null,null,null,null,null,5980]
[null,null,null,null,null,null,null,null,null,null,null,null,null,5983]
[null,null,null,null,null,null,null,null,null,null,null,null,null,5985]
[null,null,null,null,null,null,null,null,null,null,null,null,null,5990]
[null,null,null,null,null,null,null,null,null,null,null,null,null,5995]
[null,null,null,null,null,null,null,null,null,null,null,null,null,5997]
[null,null,null,null,null,null,null,null,null,null,null,null,null,6000]
[null,null,null,null,null,null,null,null,null,null,null,null,null,6005]
[null,null,null,null,null,null,null,null,null,null,null,null,null,6010]
[null,null,null,null,null,null,null,null,null,null,null,null,null,6013]
[null,null,null,null,null,null,null,null,null,null,null,null,null,6015]
[null,null,null,null,null,null,null,null,null,null,null,null,null,6020]
[null,null,null,null,null,null,null,null,null,null,null,null,null,6025]
[null,null,null,null,null,null,null,null,null,null,null,null,null,6027]
[null,null,null,null,null,null,null,null,null,null,null,null,null,6030]
[null,null,null,null,null,null,null,null,null,null,null,null,null,6035]
[null,null,null,null,null,null,null,null,null,null,null,null,null,6040]
[null,null,null,null,null,null,null,null,null,null,null,null,null,6043]
[null,null,null,null,null,null,null,null,null,null,null,null,null,6045]
[null,null,null,null,null,null,null,null,null,null,null,null,null,6050]
[null,null,null,null,null,null,null,null,null,null,null,null,null,6055]
[null,null,null,null,null,null,null,null,null,null,null,null,null,6057]
[null,null,null,null,null,null,null,null,null,null,null,null,null,6060]
[null,null,null,null,null,null,null,null,null,null,null,null,null,6065]
[null,null,null,null,null,null,null,null,null,null,null,null,null,6070]
[null,null,null,null,null,null,null,null,null,null,null,null,null,6073]
[null,null,null,null,null,null,null,null,null,null,null,null,null,6075]
[null,null,null,null,null,null,null,null,null,null,null,null,null,6080]
[null,null,null,null,null,null,null,null,null,null,null,null,null,6085]
[null,null,null,null,null,null,null,null,null,null,null,null,null,6087]
[null,null,null,null,null,null,null,null,null,null,null,null,null,6090]
[null,null,null,null,null,null,null,null,null,null,null,null,null,6095]
[null,null,null,null,null,null,null,null,null,null,null,null,null,6100]
[null,null,null,null,null,null,null,null,null,null,null,null,null,6103]
[null,null,null,null,null,null,null,null,null,null,null,null,null,6105]
[null,null,null,null,null,null,null,null,null,null,null,null,null,6110]
[null,null,null,null,null,null,null,null,null,null,null,null,null,6115]
[null,null,null,null,null,null,null,null,null,null,null,null,null,6117]
[null,null,null,null,null,null,null,null,null,null,null,null,null,6120]
[null,null,null,null,null,null,null,null,null,null,null,null,null,6125]
[null,null,null,null,null,null,null,null,null,null,null,null,null,6130]
[null,null,null,null,null,null,null,null,null,null,null,null,null,6135]
[null,null,null,null,null,null,null,null,null,null,null,null,null,6138]
[null,null,null,null,null,null,null,null,null,null,null,null,null,6140]
[null,null,null,null,null,null,null,null,null,null,null,null,null,6145]
[null,null,null,null,null,null,null,null,null,null,null,null,null,6150]
[null,null,null,null,null,null,null,null,null,null,null,null,null,6151]
[null,null,null,null,null,null,null,null,null,null,null,null,null,6155]
[null,null,null,null,null,null,null,null,null,null,null,null,null,6160]
[null,null,null,null,null,null,null,null,null,null,null,null,null,6165]
[null,null,null,null,null,null,null,null,null,null,null,null,null,6168]
[null,null,null,null,null,null,null,null,null,null,null,null,null,6170]
[null,null,null,null,null,null,null,null,null,null,null,null,null,6175]
[null,null,null,null,null,null,null,null,null,null,null,null,null,6180]
[null,null,null,null,null,null,null,null,null,null,null,null,null,6181]
[null,null,null,null,null,null,null,null,null,null,null,null,null,6185]
[null,null,null,null,null,null,null,null,null,null,null,null,null,6190]
[null,null,null,null,null,null,null,null,null,null,null,null,null,6195]
[null,null,null,null,null,null,null,null,null,null,null,null,null,6198]
[null,null,null,null,null,null,null,null,null,null,null,null,null,6200]
[null,null,null,null,null,null,null,null,null,null,null,null,null,6205]
[null,null,null,null,null,null,null,null,null,null,null,null,null,6210]
[null,null,null,null,null,null,null,null,null,null,null,null,null,6211]
[null,null,null,null,null,null,null,null,null,null,null,null,null,6215]
[null,null,null,null,null,null,null,null,null,null,null,null,null,6220]
[null,null,null,null,null,null,null,null,null,null,null,null,null,6225]
[null,null,null,null,null,null,null,null,null,null,null,null,null,6228]
[null,null,null,null,null,null,null,null,null,null,null,null,null,6230]
[null,null,null,null,null,null,null,null,null,null,null,null,null,6235]
[null,null,null,null,null,null,null,null,null,null,null,null,null,6240]
[null,null,null,null,null,null,null,null,null,null,null,null,null,6242]
[null,null,null,null,null,null,null,null,null,null,null,null,null,6245]
[null,null,null,null,null,null,null,null,null,null,null,null,null,6250]
[null,null,null,null,null,null,null,null,null,null,null,null,null,6255]
[null,null,null,null,null,null,null,null,null,null,null,null,null,6258]
[null,null,null,null,null,null,null,null,null,null,null,null,null,6260]
[null,null,null,null,null,null,null,null,null,null,null,null,null,6265]
[null,null,null,null,null,null,null,null,null,null,null,null,null,6270]
[null,null,null,null,null,null,null,null,null,null,null,null,null,6272]
[null,null,null,null,null,null,null,null,null,null,null,null,null,6275]
[null,null,null,null,null,null,null,null,null,null,null,null,null,6280]
[null,null,null,null,null,null,null,null,null,null,null,null,null,6285]
[null,null,null,null,null,null,null,null,null,null,null,null,null,6288]
[null,null,null,null,null,null,null,null,null,null,null,null,null,6290]
[null,null,null,null,null,null,null,null,null,null,null,null,null,6295]
[null,null,null,null,null,null,null,null,null,null,null,null,null,6300]
[null,null,null,null,null,null,null,null,null,null,null,null,null,6302]
[null,null,null,null,null,null,null,null,null,null,null,null,null,6305]
[null,null,null,null,null,null,null,null,null,null,null,null,null,6310]
[null,null,null,null,null,null,null,null,null,null,null,null,null,6315]
[null,null,null,null,null,null,null,null,null,null,null,null,null,6318]
[null,null,null,null,null,null,null,null,null,null,null,null,null,6320]
[null,null,null,null,null,null,null,null,null,null,null,null,null,6325]
[null,null,null,null,null,null,null,null,null,null,null,null,null,6330]
[null,null,null,null,null,null,null,null,null,null,null,null,null,6332]
[null,null,null,null,null,null,null,null,null,null,null,null,null,6335]
[null,null,null,null,null,null,null,null,null,null,null,null,null,6340]
[null,null,null,null,null,null,null,null,null,null,null,null,null,6345]
[null,null,null,null,null,null,null,null,null,null,null,null,null,6348]
[null,null,null,null,null,null,null,null,null,null,null,null,null,6350]
[null,null,null,null,null,null,null,null,null,null,null,null,null,6355]
[null,null,null,null,null,null,null,null,null,null,null,null,null,6360]
[null,null,null,null,null,null,null,null,null,null,null,null,null,6362]
[null,null,null,null,null,null,null,null,null,null,null,null,null,6365]
[null,null,null,null,null,null,null,null,null,null,null,null,null,6370]
[null,null,null,null,null,null,null,null,null,null,null,null,null,6375]
[null,null,null,null,null,null,null,null,null,null,null,null,null,6378]
[null,null,null,null,null,null,null,null,null,null,null,null,null,6380]
[null,null,null,null,null,null,null,null,null,null,null,null,null,6385]
[null,null,null,null,null,null,null,null,null,null,null,null,null,6390]
[null,null,null,null,null,null,null,null,null,null,null,null,null,6392]
[null,null,null,null,null,null,null,null,null,null,null,null,null,6395]
[null,null,null,null,null,null,null,null,null,null,null,null,null,6400]
[null,null,null,null,null,null,null,null,null,null,null,null,null,6405]
[null,null,null,null,null,null,null,null,null,null,null,null,null,6408]
[null,null,null,null,null,null,null,null,null,null,null,null,null,6410]
[null,null,null,null,null,null,null,null,null,null,null,null,null,6415]
[null,null,null,null,null,null,null,null,null,null,null,null,null,6420]
[null,null,null,null,null,null,null,null,null,null,null,null,null,6422]
[null,null,null,null,null,null,null,null,null,null,null,null,null,6425]
[null,null,null,null,null,null,null,null,null,null,null,null,null,6430]
[null,null,null,null,null,null,null,null,null,null,null,null,null,6435]
[null,null,null,null,null,null,null,null,null,null,null,null,null,6438]
[null,null,null,null,null,null,null,null,null,null,null,null,null,6440]
[null,null,null,null,null,null,null,null,null,null,null,null,null,6445]
[null,null,null,null,null,null,null,null,null,null,null,null,null,6450]
[null,null,null,null,null,null,null,null,null,null,null,null,null,6452]
[null,null,null,null,null,null,null,null,null,null,null,null,null,6455]
[null,null,null,null,null,null,null,null,null,null,null,null,null,6460]
[null,null,null,null,null,null,null,null,null,null,null,null,null,6465]
[null,null,null,null,null,null,null,null,null,null,null,null,null,6468]
[null,null,null,null,null,null,null,null,null,null,null,null,null,6470]
[null,null,null,null,null,null,null,null,null,null,null,null,null,6475]
[null,null,null,null,null,null,null,null,null,null,null,null,null,6480]
[null,null,null,null,null,null,null,null,null,null,null,null,null,6482]
[null,null,null,null,null,null,null,null,null,null,null,null,null,6485]
[null,null,null,null,null,null,null,null,null,null,null,null,null,6490]
[null,null,null,null,null,null,null,null,null,null,null,null,null,6495]
[null,null,null,null,null,null,null,null,null,null,null,null,null,6496]
[null,null,null,null,null,null,null,null,null,null,null,null,null,6500]
[null,null,null,null,null,null,null,null,null,null,null,null,null,6505]
[null,null,null,null,null,null,null,null,null,null,null,null,null,6510]
[null,null,null,null,null,null,null,null,null,null,null,null,null,6511]
[null,null,null,null,null,null,null,null,null,null,null,null,null,6516]
[null,null,null,null,null,null,null,null,null,null,null,null,null,6520]
[null,null,null,null,null,null,null,null,null,null,null,null,null,6525]
[null,null,null,null,null,null,null,null,null,null,null,null,null,6526]
[null,null,null,null,null,null,null,null,null,null,null,null,null,6530]
[null,null,null,null,null,null,null,null,null,null,null,null,null,6535]
[null,null,null,null,null,null,null,null,null,null,null,null,null,6540]
[null,null,null,null,null,null,null,null,null,null,null,null,null,6541]
[null,null,null,null,null,null,null,null,null,null,null,null,null,6546]
[null,null,null,null,null,null,null,null,null,null,null,null,null,6550]
[null,null,null,null,null,null,null,null,null,null,null,null,null,6555]
[null,null,null,null,null,null,null,null,null,null,null,null,null,6556]
[null,null,null,null,null,null,null,null,null,null,null,null,null,6560]
[null,null,null,null,null,null,null,null,null,null,null,null,null,6565]
[null,null,null,null,null,null,null,null,null,null,null,null,null,6570]
[null,null,null,null,null,null,null,null,null,null,null,null,null,6571]
[null,null,null,null,null,null,null,null,null,null,null,null,null,6576]
[null,null,null,null,null,null,null,null,null,null,null,null,null,6580]
[null,null,null,null,null,null,null,null,null,null,null,null,null,6585]
[null,null,null,null,null,null,null,null,null,null,null,null,null,6586]
[null,null,null,null,null,null,null,null,null,null,null,null,null,6590]
[null,null,null,null,null,null,null,null,null,null,null,null,null,6595]
[null,null,null,null,null,null,null,null,null,null,null,null,null,6600]
[null,null,null,null,null,null,null,null,null,null,null,null,null,6601]
[null,null,null,null,null,null,null,null,null,null,null,null,null,6607]
[null,null,null,null,null,null,null,null,null,null,null,null,null,6610]
[null,null,null,null,null,null,null,null,null,null,null,null,null,6615]
[null,null,null,null,null,null,null,null,null,null,null,null,null,6616]
[null,null,null,null,null,null,null,null,null,null,null,null,null,6620]
[null,null,null,null,null,null,null,null,null,null,null,null,null,6625]
[null,null,null,null,null,null,null,null,null,null,null,null,null,6630]
[null,null,null,null,null,null,null,null,null,null,null,null,null,6631]
[null,null,null,null,null,null,null,null,null,null,null,null,null,6637]
[null,null,null,null,null,null,null,null,null,null,null,null,null,6640]
[null,null,null,null,null,null,null,null,null,null,null,null,null,6645]
[null,null,null,null,null,null,null,null,null,null,null,null,null,6646]
[null,null,null,null,null,null,null,null,null,null,null,null,null,6650]
[null,null,null,null,null,null,null,null,null,null,null,null,null,6655]
[null,null,null,null,null,null,null,null,null,null,null,null,null,6660]
[null,null,null,null,null,null,null,null,null,null,null,null,null,6661]
[null,null,null,null,null,null,null,null,null,null,null,null,null,6667]
[null,null,null,null,null,null,null,null,null,null,null,null,null,6670]
[null,null,null,null,null,null,null,null,null,null,null,null,null,6675]
[null,null,null,null,null,null,null,null,null,null,null,null,null,6676]
[null,null,null,null,null,null,null,null,null,null,null,null,null,6680]
[null,null,null,null,null,null,null,null,null,null,null,null,null,6685]
[null,null,null,null,null,null,null,null,null,null,null,null,null,6690]
[null,null,null,null,null,null,null,null,null,null,null,null,null,6691]
[null,null,null,null,null,null,null,null,null,null,null,null,null,6697]
[null,null,null,null,null,null,null,null,null,null,null,null,null,6700]
[null,null,null,null,null,null,null,null,null,null,null,null,null,6705]
[null,null,null,null,null,null,null,null,null,null,null,null,null,6706]
[null,null,null,null,null,null,null,null,null,null,null,null,null,6710]
[null,null,null,null,null,null,null,null,null,null,null,null,null,6715]
[null,null,null,null,null,null,null,null,null,null,null,null,null,6720]
[null,null,null,null,null,null,null,null,null,null,null,null,null,6721]
[null,null,null,null,null,null,null,null,null,null,null,null,null,6727]
[null,null,null,null,null,null,null,null,null,null,null,null,null,6730]
[null,null,null,null,null,null,null,null,null,null,null,null,null,6735]
[null,null,null,null,null,null,null,null,null,null,null,null,null,6736]
[null,null,null,null,null,null,null,null,null,null,null,null,null,6740]
[null,null,null,null,null,null,null,null,null,null,null,null,null,6745]
[null,null,null,null,null,null,null,null,null,null,null,null,null,6750]
[null,null,null,null,null,null,null,null,null,null,null,null,null,6751]
[null,null,null,null,null,null,null,null,null,null,null,null,null,6757]
[null,null,null,null,null,null,null,null,null,null,null,null,null,6760]
[null,null,null,null,null,null,null,null,null,null,null,null,null,6765]
[null,null,null,null,null,null,null,null,null,null,null,null,null,6766]
[null,null,null,null,null,null,null,null,null,null,null,null,null,6770]
[null,null,null,null,null,null,null,null,null,null,null,null,null,6775]
[null,null,null,null,null,null,null,null,null,null,null,null,null,6780]
[null,null,null,null,null,null,null,null,null,null,null,null,null,6781]
[null,null,null,null,null,null,null,null,null,null,null,null,null,6787]
[null,null,null,null,null,null,null,null,null,null,null,null,null,6790]
[null,null,null,null,null,null,null,null,null,null,null,null,null,6795]
[null,null,null,null,null,null,null,null,null,null,null,null,null,6796]
[null,null,null,null,null,null,null,null,null,null,null,null,null,6800]
[null,null,null,null,null,null,null,null,null,null,null,null,null,6805]
[null,null,null,null,null,null,null,null,null,null,null,null,null,6810]
[null,null,null,null,null,null,null,null,null,null,null,null,null,6811]
[null,null,null,null,null,null,null,null,null,null,null,null,null,6817]
[null,null,null,null,null,null,null,null,null,null,null,null,null,6820]
[null,null,null,null,null,null,null,null,null,null,null,null,null,6825]
[null,null,null,null,null,null,null,null,null,null,null,null,null,6826]
[null,null,null,null,null,null,null,null,null,null,null,null,null,6830]
[null,null,null,null,null,null,null,null,null,null,null,null,null,6835]
[null,null,null,null,null,null,null,null,null,null,null,null,null,6840]
[null,null,null,null,null,null,null,null,null,null,null,null,null,6841]
[null,null,null,null,null,null,null,null,null,null,null,null,null,6847]
[null,null,null,null,null,null,null,null,null,null,null,null,null,6850]
[null,null,null,null,null,null,null,null,null,null,null,null,null,6855]
[null,null,null,null,null,null,null,null,null,null,null,null,null,6856]
[null,null,null,null,null,null,null,null,null,null,null,null,null,6861]
[null,null,null,null,null,null,null,null,null,null,null,null,null,6865]
[null,null,null,null,null,null,null,null,null,null,null,null,null,6870]
[null,null,null,null,null,null,null,null,null,null,null,null,null,6871]
[null,null,null,null,null,null,null,null,null,null,null,null,null,6876]
[null,null,null,null,null,null,null,null,null,null,null,null,null,6881]
[null,null,null,null,null,null,null,null,null,null,null,null,null,6885]
[null,null,null,null,null,null,null,null,null,null,null,null,null,6886]
[null,null,null,null,null,null,null,null,null,null,null,null,null,6891]
[null,null,null,null,null,null,null,null,null,null,null,null,null,6895]
[null,null,null,null,null,null,null,null,null,null,null,null,null,6900]
[null,null,null,null,null,null,null,null,null,null,null,null,null,6901]
[null,null,null,null,null,null,null,null,null,null,null,null,null,6906]
[null,null,null,null,null,null,null,null,null,null,null,null,null,6911]
[null,null,null,null,null,null,null,null,null,null,null,null,null,6915]
[null,null,null,null,null,null,null,null,null,null,null,null,null,6916]
[null,null,null,null,null,null,null,null,null,null,null,null,null,6921]
[null,null,null,null,null,null,null,null,null,null,null,null,null,6925]
[null,null,null,null,null,null,null,null,null,null,null,null,null,6930]
[null,null,null,null,null,null,null,null,null,null,null,null,null,6931]
[null,null,null,null,null,null,null,null,null,null,null,null,null,6936]
[null,null,null,null,null,null,null,null,null,null,null,null,null,6939]
[null,null,null,null,null,null,null,null,null,null,null,null,null,6945]
[null,null,null,null,null,null,null,null,null,null,null,null,null,6946]
[null,null,null,null,null,null,null,null,null,null,null,null,null,6951]
[null,null,null,null,null,null,null,null,null,null,null,null,null,6955]
[null,null,null,null,null,null,null,null,null,null,null,null,null,6960]
[null,null,null,null,null,null,null,null,null,null,null,null,null,6961]
[null,null,null,null,null,null,null,null,null,null,null,null,null,6966]
[null,null,null,null,null,null,null,null,null,null,null,null,null,6969]
[null,null,null,null,null,null,null,null,null,null,null,null,null,6975]
[null,null,null,null,null,null,null,null,null,null,null,null,null,6976]
[null,null,null,null,null,null,null,null,null,null,null,null,null,6981]
[null,null,null,null,null,null,null,null,null,null,null,null,null,6985]
[null,null,null,null,null,null,null,null,null,null,null,null,null,6990]
[null,null,null,null,null,null,null,null,null,null,null,null,null,6991]
[null,null,null,null,null,null,null,null,null,null,null,null,null,6996]
[null,null,null,null,null,null,null,null,null,null,null,null,null,6999]
[null,null,null,null,null,null,null,null,null,null,null,null,null,7005]
[null,null,null,null,null,null,null,null,null,null,null,null,null,7006]
[null,null,null,null,null,null,null,null,null,null,null,null,null,7011]
[null,null,null,null,null,null,null,null,null,null,null,null,null,7015]
[null,null,null,null,null,null,null,null,null,null,null,null,null,7020]
[null,null,null,null,null,null,null,null,null,null,null,null,null,7021]
[null,null,null,null,null,null,null,null,null,null,null,null,null,7026]
[null,null,null,null,null,null,null,null,null,null,null,null,null,7029]
[null,null,null,null,null,null,null,null,null,null,null,null,null,7035]
[null,null,null,null,null,null,null,null,null,null,null,null,null,7036]
[null,null,null,null,null,null,null,null,null,null,null,null,null,7041]
[null,null,null,null,null,null,null,null,null,null,null,null,null,7045]
[null,null,null,null,null,null,null,null,null,null,null,null,null,7050]
[null,null,null,null,null,null,null,null,null,null,null,null,null,7051]
[null,null,null,null,null,null,null,null,null,null,null,null,null,7056]
[null,null,null,null,null,null,null,null,null,null,null,null,null,7059]
[null,null,null,null,null,null,null,null,null,null,null,null,null,7065]
[null,null,null,null,null,null,null,null,null,null,null,null,null,7066]
[null,null,null,null,null,null,null,null,null,null,null,null,null,7071]
[null,null,null,null,null,null,null,null,null,null,null,null,null,7075]
[null,null,null,null,null,null,null,null,null,null,null,null,null,7080]
[null,null,null,null,null,null,null,null,null,null,null,null,null,7081]
[null,null,null,null,null,null,null,null,null,null,null,null,null,7086]
[null,null,null,null,null,null,null,null,null,null,null,null,null,7089]
[null,null,null,null,null,null,null,null,null,null,null,null,null,7095]
[null,null,null,null,null,null,null,null,null,null,null,null,null,7096]
[null,null,null,null,null,null,null,null,null,null,null,null,null,7101]
[null,null,null,null,null,null,null,null,null,null,null,null,null,7105]
[null,null,null,null,null,null,null,null,null,null,null,null,null,7110]
[null,null,null,null,null,null,null,null,null,null,null,null,null,7111]
[null,null,null,null,null,null,null,null,null,null,null,null,null,7116]
[null,null,null,null,null,null,null,null,null,null,null,null,null,7119]
[null,null,null,null,null,null,null,null,null,null,null,null,null,7125]
[null,null,null,null,null,null,null,null,null,null,null,null,null,7126]
[null,null,null,null,null,null,null,null,null,null,null,null,null,7131]
[null,null,null,null,null,null,null,null,null,null,null,null,null,7135]
[null,null,null,null,null,null,null,null,null,null,null,null,null,7140]
[null,null,null,null,null,null,null,null,null,null,null,null,null,7141]
[null,null,null,null,null,null,null,null,null,null,null,null,null,7146]
[null,null,null,null,null,null,null,null,null,null,null,null,null,7149]
[null,null,null,null,null,null,null,null,null,null,null,null,null,7155]
[null,null,null,null,null,null,null,null,null,null,null,null,null,7156]
[null,null,null,null,null,null,null,null,null,null,null,null,null,7161]
[null,null,null,null,null,null,null,null,null,null,null,null,null,7165]
[null,null,null,null,null,null,null,null,null,null,null,null,null,7170]
[null,null,null,null,null,null,null,null,null,null,null,null,null,7171]
[null,null,null,null,null,null,null,null,null,null,null,null,null,7176]
[null,null,null,null,null,null,null,null,null,null,null,null,null,7179]
[null,null,null,null,null,null,null,null,null,null,null,null,null,7185]
[null,null,null,null,null,null,null,null,null,null,null,null,null,7186]
[null,null,null,null,null,null,null,null,null,null,null,null,null,7191]
[null,null,null,null,null,null,null,null,null,null,null,null,null,7196]
[null,null,null,null,null,null,null,null,null,null,null,null,null,7200]
[null,null,null,null,null,null,null,null,null,null,null,null,null,7201]
[null,null,null,null,null,null,null,null,null,null,null,null,null,7206]
[null,null,null,null,null,null,null,null,null,null,null,null,null,7209]
[null,null,null,null,null,null,null,null,null,null,null,null,null,7215]
[null,null,null,null,null,null,null,null,null,null,null,null,null,7216]
[null,null,null,null,null,null,null,null,null,null,null,null,null,7221]
[null,null,null,null,null,null,null,null,null,null,null,null,null,7226]
[null,null,null,null,null,null,null,null,null,null,null,null,null,7230]
[null,null,null,null,null,null,null,null,null,null,null,null,null,7231]
[null,null,null,null,null,null,null,null,null,null,null,null,null,7236]
[null,null,null,null,null,null,null,null,null,null,null,null,null,7239]
[null,null,null,null,null,null,null,null,null,null,null,null,null,7245]
[null,null,null,null,null,null,null,null,null,null,null,null,null,7246]
[null,null,null,null,null,null,null,null,null,null,null,null,null,7251]
[null,null,null,null,null,null,null,null,null,null,null,null,null,7256]
[null,null,null,null,null,null,null,null,null,null,null,null,null,7260]
[null,null,null,null,null,null,null,null,null,null,null,null,null,7261]
[null,null,null,null,null,null,null,null,null,null,null,null,null,7266]
[null,null,null,null,null,null,null,null,null,null,null,null,null,7271]
[null,null,null,null,null,null,null,null,null,null,null,null,null,7274]
[null,null,null,null,null,null,null,null,null,null,null,null,null,7276]
[null,null,null,null,null,null,null,null,null,null,null,null,null,7281]
[null,null,null,null,null,null,null,null,null,null,null,null,null,7286]
[null,null,null,null,null,null,null,null,null,null,null,null,null,7290]
[null,null,null,null,null,null,null,null,null,null,null,null,null,7291]
[null,null,null,null,null,null,null,null,null,null,null,null,null,7296]
[null,null,null,null,null,null,null,null,null,null,null,null,null,7301]
[null,null,null,null,null,null,null,null,null,null,null,null,null,7304]
[null,null,null,null,null,null,null,null,null,null,null,null,null,7306]
[null,null,null,null,null,null,null,null,null,null,null,null,null,7311]
[null,null,null,null,null,null,null,null,null,null,null,null,null,7316]
[null,null,null,null,null,null,null,null,null,null,null,null,null,7320]
[null,null,null,null,null,null,null,null,null,null,null,null,null,7321]
[null,null,null,null,null,null,null,null,null,null,null,null,null,7326]
[null,null,null,null,null,null,null,null,null,null,null,null,null,7331]
[null,null,null,null,null,null,null,null,null,null,null,null,null,7334]
[null,null,null,null,null,null,null,null,null,null,null,null,null,7336]
[null,null,null,null,null,null,null,null,null,null,null,null,null,7341]
[null,null,null,null,null,null,null,null,null,null,null,null,null,7346]
[null,null,null,null,null,null,null,null,null,null,null,null,null,7350]
[null,null,null,null,null,null,null,null,null,null,null,null,null,7351]
[null,null,null,null,null,null,null,null,null,null,null,null,null,7356]
[null,null,null,null,null,null,null,null,null,null,null,null,null,7361]
[null,null,null,null,null,null,null,null,null,null,null,null,null,7364]
[null,null,null,null,null,null,null,null,null,null,null,null,null,7366]
[null,null,null,null,null,null,null,null,null,null,null,null,null,7371]
[null,null,null,null,null,null,null,null,null,null,null,null,null,7376]
[null,null,null,null,null,null,null,null,null,null,null,null,null,7380]
[null,null,null,null,null,null,null,null,null,null,null,null,null,7381]
[null,null,null,null,null,null,null,null,null,null,null,null,null,7386]
[null,null,null,null,null,null,null,null,null,null,null,null,null,7391]
[null,null,null,null,null,null,null,null,null,null,null,null,null,7394]
[null,null,null,null,null,null,null,null,null,null,null,null,null,7396]
[null,null,null,null,null,null,null,null,null,null,null,null,null,7401]
[null,null,null,null,null,null,null,null,null,null,null,null,null,7406]
[null,null,null,null,null,null,null,null,null,null,null,null,null,7410]
[null,null,null,null,null,null,null,null,null,null,null,null,null,7411]
[null,null,null,null,null,null,null,null,null,null,null,null,null,7416]
[null,null,null,null,null,null,null,null,null,null,null,null,null,7421]
[null,null,null,null,null,null,null,null,null,null,null,null,null,7424]
[null,null,null,null,null,null,null,null,null,null,null,null,null,7426]
[null,null,null,null,null,null,null,null,null,null,null,null,null,7431]
[null,null,null,null,null,null,null,null,null,null,null,null,null,7436]
[null,null,null,null,null,null,null,null,null,null,null,null,null,7440]
[null,null,null,null,null,null,null,null,null,null,null,null,null,7441]
[null,null,null,null,null,null,null,null,null,null,null,null,null,7446]
[null,null,null,null,null,null,null,null,null,null,null,null,null,7451]
[null,null,null,null,null,null,null,null,null,null,null,null,null,7454]
[null,null,null,null,null,null,null,null,null,null,null,null,null,7456]
[null,null,null,null,null,null,null,null,null,null,null,null,null,7461]
[null,null,null,null,null,null,null,null,null,null,null,null,null,7466]
[null,null,null,null,null,null,null,null,null,null,null,null,null,7470]
[null,null,null,null,null,null,null,null,null,null,null,null,null,7471]
[null,null,null,null,null,null,null,null,null,null,null,null,null,7476]
[null,null,null,null,null,null,null,null,null,null,null,null,null,7481]
[null,null,null,null,null,null,null,null,null,null,null,null,null,7484]
[null,null,null,null,null,null,null,null,null,null,null,null,null,7486]
[null,null,null,null,null,null,null,null,null,null,null,null,null,7491]
[null,null,null,null,null,null,null,null,null,null,null,null,null,7496]
[null,null,null,null,null,null,null,null,null,null,null,null,null,7500]
[null,null,null,null,null,null,null,null,null,null,null,null,null,7501]
[null,null,null,null,null,null,null,null,null,null,null,null,null,7506]
[null,null,null,null,null,null,null,null,null,null,null,null,null,7511]
[null,null,null,null,null,null,null,null,null,null,null,null,null,7514]
[null,null,null,null,null,null,null,null,null,null,null,null,null,7516]
[null,null,null,null,null,null,null,null,null,null,null,null,null,7521]
[null,null,null,null,null,null,null,null,null,null,null,null,null,7526]
[null,null,null,null,null,null,null,null,null,null,null,null,null,7528]
[null,null,null,null,null,null,null,null,null,null,null,null,null,7531]
[null,null,null,null,null,null,null,null,null,null,null,null,null,7536]
[null,null,null,null,null,null,null,null,null,null,null,null,null,7541]
[null,null,null,null,null,null,null,null,null,null,null,null,null,7544]
[null,null,null,null,null,null,null,null,null,null,null,null,null,7546]
[null,null,null,null,null,null,null,null,null,null,null,null,null,7551]
[null,null,null,null,null,null,null,null,null,null,null,null,null,7556]
[null,null,null,null,null,null,null,null,null,null,null,null,null,7558]
[null,null,null,null,null,null,null,null,null,null,null,null,null,7561]
[null,null,null,null,null,null,null,null,null,null,null,null,null,7566]
[null,null,null,null,null,null,null,null,null,null,null,null,null,7571]
[null,null,null,null,null,null,null,null,null,null,null,null,null,7574]
[null,null,null,null,null,null,null,null,null,null,null,null,null,7576]
[null,null,null,null,null,null,null,null,null,null,null,null,null,7581]
[null,null,null,null,null,null,null,null,null,null,null,null,null,7586]
[null,null,null,null,null,null,null,null,null,null,null,null,null,7588]
[null,null,null,null,null,null,null,null,null,null,null,null,null,7591]
[null,null,null,null,null,null,null,null,null,null,null,null,null,7596]
[null,null,null,null,null,null,null,null,null,null,null,null,null,7601]
[null,null,null,null,null,null,null,null,null,null,null,null,null,7604]
[null,null,null,null,null,null,null,null,null,null,null,null,null,7606]
[null,null,null,null,null,null,null,null,null,null,null,null,null,7611]
[null,null,null,null,null,null,null,null,null,null,null,null,null,7616]
[null,null,null,null,null,null,null,null,null,null,null,null,null,7618]
[null,null,null,null,null,null,null,null,null,null,null,null,null,7621]
[null,null,null,null,null,null,null,null,null,null,null,null,null,7626]
[null,null,null,null,null,null,null,null,null,null,null,null,null,7631]
[null,null,null,null,null,null,null,null,null,null,null,null,null,7636]
[null,null,null,null,null,null,null,null,null,null,null,null,null,7639]
[null,null,null,null,null,null,null,null,null,null,null,null,null,7641]
[null,null,null,null,null,null,null,null,null,null,null,null,null,7646]
[null,null,null,null,null,null,null,null,null,null,null,null,null,7651]
[null,null,null,null,null,null,null,null,null,null,null,null,null,7652]
[null,null,null,null,null,null,null,null,null,null,null,null,null,7656]
[null,null,null,null,null,null,null,null,null,null,null,null,null,7661]
[null,null,null,null,null,null,null,null,null,null,null,null,null,7666]
[null,null,null,null,null,null,null,null,null,null,null,null,null,7669]
[null,null,null,null,null,null,null,null,null,null,null,null,null,7671]
[null,null,null,null,null,null,null,null,null,null,null,null,null,7676]
[null,null,null,null,null,null,null,null,null,null,null,null,null,7681]
[null,null,null,null,null,null,null,null,null,null,null,null,null,7682]
[null,null,null,null,null,null,null,null,null,null,null,null,null,7686]
[null,null,null,null,null,null,null,null,null,null,null,null,null,7691]
[null,null,null,null,null,null,null,null,null,null,null,null,null,7696]
[null,null,null,null,null,null,null,null,null,null,null,null,null,7699]
[null,null,null,null,null,null,null,null,null,null,null,null,null,7701]
[null,null,null,null,null,null,null,null,null,null,null,null,null,7706]
[null,null,null,null,null,null,null,null,null,null,null,null,null,7711]
[null,null,null,null,null,null,null,null,null,null,null,null,null,7712]
[null,null,null,null,null,null,null,null,null,null,null,null,null,7716]
[null,null,null,null,null,null,null,null,null,null,null,null,null,7721]
[null,null,null,null,null,null,null,null,null,null,null,null,null,7726]
[null,null,null,null,null,null,null,null,null,null,null,null,null,7729]
[null,null,null,null,null,null,null,null,null,null,null,null,null,7731]
[null,null,null,null,null,null,null,null,null,null,null,null,null,7736]
[null,null,null,null,null,null,null,null,null,null,null,null,null,7741]
[null,null,null,null,null,null,null,null,null,null,null,null,null,7742]
[null,null,null,null,null,null,null,null,null,null,null,null,null,7746]
[null,null,null,null,null,null,null,null,null,null,null,null,null,7751]
[null,null,null,null,null,null,null,null,null,null,null,null,null,7756]
[null,null,null,null,null,null,null,null,null,null,null,null,null,7759]
[null,null,null,null,null,null,null,null,null,null,null,null,null,7761]
[null,null,null,null,null,null,null,null,null,null,null,null,null,7766]
[null,null,null,null,null,null,null,null,null,null,null,null,null,7771]
[null,null,null,null,null,null,null,null,null,null,null,null,null,7772]
[null,null,null,null,null,null,null,null,null,null,null,null,null,7776]
[null,null,null,null,null,null,null,null,null,null,null,null,null,7781]
[null,null,null,null,null,null,null,null,null,null,null,null,null,7786]
[null,null,null,null,null,null,null,null,null,null,null,null,null,7789]
[null,null,null,null,null,null,null,null,null,null,null,null,null,7791]
[null,null,null,null,null,null,null,null,null,null,null,null,null,7796]
[null,null,null,null,null,null,null,null,null,null,null,null,null,7801]
[null,null,null,null,null,null,null,null,null,null,null,null,null,7802]
[null,null,null,null,null,null,null,null,null,null,null,null,null,7806]
[null,null,null,null,null,null,null,null,null,null,null,null,null,7811]
[null,null,null,null,null,null,null,null,null,null,null,null,null,7816]
[null,null,null,null,null,null,null,null,null,null,null,null,null,7819]
[null,null,null,null,null,null,null,null,null,null,null,null,null,7821]
[null,null,null,null,null,null,null,null,null,null,null,null,null,7826]
[null,null,null,null,null,null,null,null,null,null,null,null,null,7831]
[null,null,null,null,null,null,null,null,null,null,null,null,null,7832]
[null,null,null,null,null,null,null,null,null,null,null,null,null,7836]
[null,null,null,null,null,null,null,null,null,null,null,null,null,7841]
[null,null,null,null,null,null,null,null,null,null,null,null,null,7846]
[null,null,null,null,null,null,null,null,null,null,null,null,null,7849]
[null,null,null,null,null,null,null,null,null,null,null,null,null,7851]
[null,null,null,null,null,null,null,null,null,null,null,null,null,7856]
[null,null,null,null,null,null,null,null,null,null,null,null,null,7861]
[null,null,null,null,null,null,null,null,null,null,null,null,null,7863]
[null,null,null,null,null,null,null,null,null,null,null,null,null,7866]
[null,null,null,null,null,null,null,null,null,null,null,null,null,7871]
[null,null,null,null,null,null,null,null,null,null,null,null,null,7876]
[null,null,null,null,null,null,null,null,null,null,null,null,null,7879]
[null,null,null,null,null,null,null,null,null,null,null,null,null,7881]
[null,null,null,null,null,null,null,null,null,null,null,null,null,7886]
[null,null,null,null,null,null,null,null,null,null,null,null,null,7891]
[null,null,null,null,null,null,null,null,null,null,null,null,null,7893]
[null,null,null,null,null,null,null,null,null,null,null,null,null,7896]
[null,null,null,null,null,null,null,null,null,null,null,null,null,7901]
[null,null,null,null,null,null,null,null,null,null,null,null,null,7906]
[null,null,null,null,null,null,null,null,null,null,null,null,null,7909]
[null,null,null,null,null,null,null,null,null,null,null,null,null,7911]
[null,null,null,null,null,null,null,null,null,null,null,null,null,7916]
[null,null,null,null,null,null,null,null,null,null,null,null,null,7921]
[null,null,null,null,null,null,null,null,null,null,null,null,null,7923]
[null,null,null,null,null,null,null,null,null,null,null,null,null,7926]
[null,null,null,null,null,null,null,null,null,null,null,null,null,7931]
[null,null,null,null,null,null,null,null,null,null,null,null,null,7936]
[null,null,null,null,null,null,null,null,null,null,null,null,null,7939]
[null,null,null,null,null,null,null,null,null,null,null,null,null,7941]
[null,null,null,null,null,null,null,null,null,null,null,null,null,7946]
[null,null,null,null,null,null,null,null,null,null,null,null,null,7951]
[null,null,null,null,null,null,null,null,null,null,null,null,null,7953]
[null,null,null,null,null,null,null,null,null,null,null,null,null,7956]
[null,null,null,null,null,null,null,null,null,null,null,null,null,7961]
[null,null,null,null,null,null,null,null,null,null,null,null,null,7966]
[null,null,null,null,null,null,null,null,null,null,null,null,null,7969]
[null,null,null,null,null,null,null,null,null,null,null,null,null,7971]
[null,null,null,null,null,null,null,null,null,null,null,null,null,7976]
[null,null,null,null,null,null,null,null,null,null,null,null,null,7981]
[null,null,null,null,null,null,null,null,null,null,null,null,null,7983]
[null,null,null,null,null,null,null,null,null,null,null,null,null,7986]
[null,null,null,null,null,null,null,null,null,null,null,null,null,7991]
[null,null,null,null,null,null,null,null,null,null,null,null,null,7996]
[null,null,null,null,null,null,null,null,null,null,null,null,null,7997]
[null,null,null,null,null,null,null,null,null,null,null,null,null,8001]
[null,null,null,null,null,null,null,null,null,null,null,null,null,8006]
[null,null,null,null,null,null,null,null,null,null,null,null,null,8011]
[null,null,null,null,null,null,null,null,null,null,null,null,null,8012]
[null,null,null,null,null,null,null,null,null,null,null,null,null,8017]
[null,null,null,null,null,null,null,null,null,null,null,null,null,8021]
[null,null,null,null,null,null,null,null,null,null,null,null,null,8026]
[null,null,null,null,null,null,null,null,null,null,null,null,null,8027]
[null,null,null,null,null,null,null,null,null,null,null,null,null,8031]
[null,null,null,null,null,null,null,null,null,null,null,null,null,8036]
[null,null,null,null,null,null,null,null,null,null,null,null,null,8041]
[null,null,null,null,null,null,null,null,null,null,null,null,null,8042]
[null,null,null,null,null,null,null,null,null,null,null,null,null,8047]
[null,null,null,null,null,null,null,null,null,null,null,null,null,8051]
[null,null,null,null,null,null,null,null,null,null,null,null,null,8056]
[null,null,null,null,null,null,null,null,null,null,null,null,null,8057]
[null,null,null,null,null,null,null,null,null,null,null,null,null,8061]
[null,null,null,null,null,null,null,null,null,null,null,null,null,8066]
[null,null,null,null,null,null,null,null,null,null,null,null,null,8071]
[null,null,null,null,null,null,null,null,null,null,null,null,null,8072]
[null,null,null,null,null,null,null,null,null,null,null,null,null,8077]
[null,null,null,null,null,null,null,null,null,null,null,null,null,8081]
[null,null,null,null,null,null,null,null,null,null,null,null,null,8086]
[null,null,null,null,null,null,null,null,null,null,null,null,null,8087]
[null,null,null,null,null,null,null,null,null,null,null,null,null,8091]
[null,null,null,null,null,null,null,null,null,null,null,null,null,8096]
[null,null,null,null,null,null,null,null,null,null,null,null,null,8101]
[null,null,null,null,null,null,null,null,null,null,null,null,null,8102]
[null,null,null,null,null,null,null,null,null,null,null,null,null,8107]
[null,null,null,null,null,null,null,null,null,null,null,null,null,8111]
[null,null,null,null,null,null,null,null,null,null,null,null,null,8116]
[null,null,null,null,null,null,null,null,null,null,null,null,null,8117]
[null,null,null,null,null,null,null,null,null,null,null,null,null,8121]
[null,null,null,null,null,null,null,null,null,null,null,null,null,8126]
[null,null,null,null,null,null,null,null,null,null,null,null,null,8131]
[null,null,null,null,null,null,null,null,null,null,null,null,null,8132]
[null,null,null,null,null,null,null,null,null,null,null,null,null,8137]
[null,null,null,null,null,null,null,null,null,null,null,null,null,8141]
[null,null,null,null,null,null,null,null,null,null,null,null,null,8146]
[null,null,null,null,null,null,null,null,null,null,null,null,null,8147]
[null,null,null,null,null,null,null,null,null,null,null,null,null,8151]
[null,null,null,null,null,null,null,null,null,null,null,null,null,8156]
[null,null,null,null,null,null,null,null,null,null,null,null,null,8161]
[null,null,null,null,null,null,null,null,null,null,null,null,null,8162]
[null,null,null,null,null,null,null,null,null,null,null,null,null,8167]
[null,null,null,null,null,null,null,null,null,null,null,null,null,8171]
[null,null,null,null,null,null,null,null,null,null,null,null,null,8176]
[null,null,null,null,null,null,null,null,null,null,null,null,null,8177]
[null,null,null,null,null,null,null,null,null,null,null,null,null,8181]
[null,null,null,null,null,null,null,null,null,null,null,null,null,8186]
[null,null,null,null,null,null,null,null,null,null,null,null,null,8191]
[null,null,null,null,null,null,null,null,null,null,null,null,null,8192]
[null,null,null,null,null,null,null,null,null,null,null,null,null,8198]
[null,null,null,null,null,null,null,null,null,null,null,null,null,8201]
[null,null,null,null,null,null,null,null,null,null,null,null,null,8206]
[null,null,null,null,null,null,null,null,null,null,null,null,null,8207]
[null,null,null,null,null,null,null,null,null,null,null,null,null,8211]
[null,null,null,null,null,null,null,null,null,null,null,null,null,8216]
[null,null,null,null,null,null,null,null,null,null,null,null,null,8221]
[null,null,null,null,null,null,null,null,null,null,null,null,null,8222]
[null,null,null,null,null,null,null,null,null,null,null,null,null,8228]
[null,null,null,null,null,null,null,null,null,null,null,null,null,8231]
[null,null,null,null,null,null,null,null,null,null,null,null,null,8236]
[null,null,null,null,null,null,null,null,null,null,null,null,null,8237]
[null,null,null,null,null,null,null,null,null,null,null,null,null,8241]
[null,null,null,null,null,null,null,null,null,null,null,null,null,8246]
[null,null,null,null,null,null,null,null,null,null,null,null,null,8251]
[null,null,null,null,null,null,null,null,null,null,null,null,null,8252]
[null,null,null,null,null,null,null,null,null,null,null,null,null,8258]
[null,null,null,null,null,null,null,null,null,null,null,null,null,8261]
[null,null,null,null,null,null,null,null,null,null,null,null,null,8266]
[null,null,null,null,null,null,null,null,null,null,null,null,null,8267]
[null,null,null,null,null,null,null,null,null,null,null,null,null,8271]
[null,null,null,null,null,null,null,null,null,null,null,null,null,8276]
[null,null,null,null,null,null,null,null,null,null,null,null,null,8281]
[null,null,null,null,null,null,null,null,null,null,null,null,null,8282]
[null,null,null,null,null,null,null,null,null,null,null,null,null,8288]
[null,null,null,null,null,null,null,null,null,null,null,null,null,8291]
[null,null,null,null,null,null,null,null,null,null,null,null,null,8296]
[null,null,null,null,null,null,null,null,null,null,null,null,null,8297]
[null,null,null,null,null,null,null,null,null,null,null,null,null,8301]
[null,null,null,null,null,null,null,null,null,null,null,null,null,8306]
[null,null,null,null,null,null,null,null,null,null,null,null,null,8311]
[null,null,null,null,null,null,null,null,null,null,null,null,null,8312]
[null,null,null,null,null,null,null,null,null,null,null,null,null,8318]
[null,null,null,null,null,null,null,null,null,null,null,null,null,8321]
[null,null,null,null,null,null,null,null,null,null,null,null,null,8326]
[null,null,null,null,null,null,null,null,null,null,null,null,null,8327]
[null,null,null,null,null,null,null,null,null,null,null,null,null,8331]
[null,null,null,null,null,null,null,null,null,null,null,null,null,8336]
[null,null,null,null,null,null,null,null,null,null,null,null,null,8341]
[null,null,null,null,null,null,null,null,null,null,null,null,null,8342]
[null,null,null,null,null,null,null,null,null,null,null,null,null,8348]
[null,null,null,null,null,null,null,null,null,null,null,null,null,8351]
[null,null,null,null,null,null,null,null,null,null,null,null,null,8356]
[null,null,null,null,null,null,null,null,null,null,null,null,null,8357]
[null,null,null,null,null,null,null,null,null,null,null,null,null,8361]
[null,null,null,null,null,null,null,null,null,null,null,null,null,8366]
[null,null,null,null,null,null,null,null,null,null,null,null,null,8371]
[null,null,null,null,null,null,null,null,null,null,null,null,null,8372]
[null,null,null,null,null,null,null,null,null,null,null,null,null,8377]
[null,null,null,null,null,null,null,null,null,null,null,null,null,8382]
[null,null,null,null,null,null,null,null,null,null,null,null,null,8386]
[null,null,null,null,null,null,null,null,null,null,null,null,null,8387]
[null,null,null,null,null,null,null,null,null,null,null,null,null,8392]
[null,null,null,null,null,null,null,null,null,null,null,null,null,8396]
[null,null,null,null,null,null,null,null,null,null,null,null,null,8401]
[null,null,null,null,null,null,null,null,null,null,null,null,null,8402]
[null,null,null,null,null,null,null,null,null,null,null,null,null,8407]
[null,null,null,null,null,null,null,null,null,null,null,null,null,8412]
[null,null,null,null,null,null,null,null,null,null,null,null,null,8416]
[null,null,null,null,null,null,null,null,null,null,null,null,null,8417]
[null,null,null,null,null,null,null,null,null,null,null,null,null,8422]
[null,null,null,null,null,null,null,null,null,null,null,null,null,8426]
[null,null,null,null,null,null,null,null,null,null,null,null,null,8431]
[null,null,null,null,null,null,null,null,null,null,null,null,null,8432]
[null,null,null,null,null,null,null,null,null,null,null,null,null,8437]
[null,null,null,null,null,null,null,null,null,null,null,null,null,8442]
[null,null,null,null,null,null,null,null,null,null,null,null,null,8446]
[null,null,null,null,null,null,null,null,null,null,null,null,null,8447]
[null,null,null,null,null,null,null,null,null,null,null,null,null,8452]
[null,null,null,null,null,null,null,null,null,null,null,null,null,8456]
[null,null,null,null,null,null,null,null,null,null,null,null,null,8461]
[null,null,null,null,null,null,null,null,null,null,null,null,null,8462]
[null,null,null,null,null,null,null,null,null,null,null,null,null,8467]
[null,null,null,null,null,null,null,null,null,null,null,null,null,8472]
[null,null,null,null,null,null,null,null,null,null,null,null,null,8476]
[null,null,null,null,null,null,null,null,null,null,null,null,null,8477]
[null,null,null,null,null,null,null,null,null,null,null,null,null,8482]
[null,null,null,null,null,null,null,null,null,null,null,null,null,8486]
[null,null,null,null,null,null,null,null,null,null,null,null,null,8491]
[null,null,null,null,null,null,null,null,null,null,null,null,null,8492]
[null,null,null,null,null,null,null,null,null,null,null,null,null,8497]
[null,null,null,null,null,null,null,null,null,null,null,null,null,8502]
[null,null,null,null,null,null,null,null,null,null,null,null,null,8506]
[null,null,null,null,null,null,null,null,null,null,null,null,null,8507]
[null,null,null,null,null,null,null,null,null,null,null,null,null,8512]
[null,null,null,null,null,null,null,null,null,null,null,null,null,8516]
[null,null,null,null,null,null,null,null,null,null,null,null,null,8521]
[null,null,null,null,null,null,null,null,null,null,null,null,null,8522]
[null,null,null,null,null,null,null,null,null,null,null,null,null,8527]
[null,null,null,null,null,null,null,null,null,null,null,null,null,8530]
[null,null,null,null,null,null,null,null,null,null,null,null,null,8536]
[null,null,null,null,null,null,null,null,null,null,null,null,null,8537]
[null,null,null,null,null,null,null,null,null,null,null,null,null,8542]
[null,null,null,null,null,null,null,null,null,null,null,null,null,8546]
[null,null,null,null,null,null,null,null,null,null,null,null,null,8551]
[null,null,null,null,null,null,null,null,null,null,null,null,null,8552]
[null,null,null,null,null,null,null,null,null,null,null,null,null,8557]
[null,null,null,null,null,null,null,null,null,null,null,null,null,8560]
[null,null,null,null,null,null,null,null,null,null,null,null,null,8566]
[null,null,null,null,null,null,null,null,null,null,null,null,null,8567]
[null,null,null,null,null,null,null,null,null,null,null,null,null,8572]
[null,null,null,null,null,null,null,null,null,null,null,null,null,8576]
[null,null,null,null,null,null,null,null,null,null,null,null,null,8581]
[null,null,null,null,null,null,null,null,null,null,null,null,null,8582]
[null,null,null,null,null,null,null,null,null,null,null,null,null,8587]
[null,null,null,null,null,null,null,null,null,null,null,null,null,8590]
[null,null,null,null,null,null,null,null,null,null,null,null,null,8596]
[null,null,null,null,null,null,null,null,null,null,null,null,null,8597]
[null,null,null,null,null,null,null,null,null,null,null,null,null,8602]
[null,null,null,null,null,null,null,null,null,null,null,null,null,8606]
[null,null,null,null,null,null,null,null,null,null,null,null,null,8611]
[null,null,null,null,null,null,null,null,null,null,null,null,null,8612]
[null,null,null,null,null,null,null,null,null,null,null,null,null,8617]
[null,null,null,null,null,null,null,null,null,null,null,null,null,8620]
[null,null,null,null,null,null,null,null,null,null,null,null,null,8626]
[null,null,null,null,null,null,null,null,null,null,null,null,null,8627]
[null,null,null,null,null,null,null,null,null,null,null,null,null,8632]
[null,null,null,null,null,null,null,null,null,null,null,null,null,8636]
[null,null,null,null,null,null,null,null,null,null,null,null,null,8641]
[null,null,null,null,null,null,null,null,null,null,null,null,null,8642]
[null,null,null,null,null,null,null,null,null,null,null,null,null,8647]
[null,null,null,null,null,null,null,null,null,null,null,null,null,8650]
[null,null,null,null,null,null,null,null,null,null,null,null,null,8656]
[null,null,null,null,null,null,null,null,null,null,null,null,null,8657]
[null,null,null,null,null,null,null,null,null,null,null,null,null,8662]
[null,null,null,null,null,null,null,null,null,null,null,null,null,8666]
[null,null,null,null,null,null,null,null,null,null,null,null,null,8671]
[null,null,null,null,null,null,null,null,null,null,null,null,null,8672]
[null,null,null,null,null,null,null,null,null,null,null,null,null,8677]
[null,null,null,null,null,null,null,null,null,null,null,null,null,8680]
[null,null,null,null,null,null,null,null,null,null,null,null,null,8686]
[null,null,null,null,null,null,null,null,null,null,null,null,null,8687]
[null,null,null,null,null,null,null,null,null,null,null,null,null,8692]
[null,null,null,null,null,null,null,null,null,null,null,null,null,8696]
[null,null,null,null,null,null,null,null,null,null,null,null,null,8701]
[null,null,null,null,null,null,null,null,null,null,null,null,null,8702]
[null,null,null,null,null,null,null,null,null,null,null,null,null,8707]
[null,null,null,null,null,null,null,null,null,null,null,null,null,8710]
[null,null,null,null,null,null,null,null,null,null,null,null,null,8716]
[null,null,null,null,null,null,null,null,null,null,null,null,null,8717]
[null,null,null,null,null,null,null,null,null,null,null,null,null,8722]
[null,null,null,null,null,null,null,null,null,null,null,null,null,8726]
[null,null,null,null,null,null,null,null,null,null,null,null,null,8731]
[null,null,null,null,null,null,null,null,null,null,null,null,null,8732]
[null,null,null,null,null,null,null,null,null,null,null,null,null,8737]
[null,null,null,null,null,null,null,null,null,null,null,null,null,8740]
[null,null,null,null,null,null,null,null,null,null,null,null,null,8746]
[null,null,null,null,null,null,null,null,null,null,null,null,null,8747]
[null,null,null,null,null,null,null,null,null,null,null,null,null,8752]
[null,null,null,null,null,null,null,null,null,null,null,null,null,8757]
[null,null,null,null,null,null,null,null,null,null,null,null,null,8761]
[null,null,null,null,null,null,null,null,null,null,null,null,null,8762]
[null,null,null,null,null,null,null,null,null,null,null,null,null,8767]
[null,null,null,null,null,null,null,null,null,null,null,null,null,8772]
[null,null,null,null,null,null,null,null,null,null,null,null,null,8774]
[null,null,null,null,null,null,null,null,null,null,null,null,null,8777]
[null,null,null,null,null,null,null,null,null,null,null,null,null,8782]
[null,null,null,null,null,null,null,null,null,null,null,null,null,8787]
[null,null,null,null,null,null,null,null,null,null,null,null,null,8791]
[null,null,null,null,null,null,null,null,null,null,null,null,null,8792]
[null,null,null,null,null,null,null,null,null,null,null,null,null,8797]
[null,null,null,null,null,null,null,null,null,null,null,null,null,8802]
[null,null,null,null,null,null,null,null,null,null,null,null,null,8804]
[null,null,null,null,null,null,null,null,null,null,null,null,null,8807]
[null,null,null,null,null,null,null,null,null,null,null,null,null,8812]
[null,null,null,null,null,null,null,null,null,null,null,null,null,8817]
[null,null,null,null,null,null,null,null,null,null,null,null,null,8821]
[null,null,null,null,null,null,null,null,null,null,null,null,null,8822]
[null,null,null,null,null,null,null,null,null,null,null,null,null,8827]
[null,null,null,null,null,null,null,null,null,null,null,null,null,8832]
[null,null,null,null,null,null,null,null,null,null,null,null,null,8834]
[null,null,null,null,null,null,null,null,null,null,null,null,null,8837]
[null,null,null,null,null,null,null,null,null,null,null,null,null,8842]
[null,null,null,null,null,null,null,null,null,null,null,null,null,8847]
[null,null,null,null,null,null,null,null,null,null,null,null,null,8851]
[null,null,null,null,null,null,null,null,null,null,null,null,null,8852]
[null,null,null,null,null,null,null,null,null,null,null,null,null,8857]
[null,null,null,null,null,null,null,null,null,null,null,null,null,8862]
[null,null,null,null,null,null,null,null,null,null,null,null,null,8864]
[null,null,null,null,null,null,null,null,null,null,null,null,null,8867]
[null,null,null,null,null,null,null,null,null,null,null,null,null,8872]
[null,null,null,null,null,null,null,null,null,null,null,null,null,8877]
[null,null,null,null,null,null,null,null,null,null,null,null,null,8881]
[null,null,null,null,null,null,null,null,null,null,null,null,null,8882]
[null,null,null,null,null,null,null,null,null,null,null,null,null,8887]
[null,null,null,null,null,null,null,null,null,null,null,null,null,8892]
[null,null,null,null,null,null,null,null,null,null,null,null,null,8895]
[null,null,null,null,null,null,null,null,null,null,null,null,null,8897]
[null,null,null,null,null,null,null,null,null,null,null,null,null,8902]
[null,null,null,null,null,null,null,null,null,null,null,null,null,8907]
[null,null,null,null,null,null,null,null,null,null,null,null,null,8911]
[null,null,null,null,null,null,null,null,null,null,null,null,null,8912]
[null,null,null,null,null,null,null,null,null,null,null,null,null,8917]
[null,null,null,null,null,null,null,null,null,null,null,null,null,8922]
[null,null,null,null,null,null,null,null,null,null,null,null,null,8925]
[null,null,null,null,null,null,null,null,null,null,null,null,null,8927]
[null,null,null,null,null,null,null,null,null,null,null,null,null,8932]
[null,null,null,null,null,null,null,null,null,null,null,null,null,8937]
[null,null,null,null,null,null,null,null,null,null,null,null,null,8941]
[null,null,null,null,null,null,null,null,null,null,null,null,null,8942]
[null,null,null,null,null,null,null,null,null,null,null,null,null,8947]
[null,null,null,null,null,null,null,null,null,null,null,null,null,8952]
[null,null,null,null,null,null,null,null,null,null,null,null,null,8955]
[null,null,null,null,null,null,null,null,null,null,null,null,null,8957]
[null,null,null,null,null,null,null,null,null,null,null,null,null,8962]
[null,null,null,null,null,null,null,null,null,null,null,null,null,8967]
[null,null,null,null,null,null,null,null,null,null,null,null,null,8971]
[null,null,null,null,null,null,null,null,null,null,null,null,null,8972]
[null,null,null,null,null,null,null,null,null,null,null,null,null,8977]
[null,null,null,null,null,null,null,null,null,null,null,null,null,8982]
[null,null,null,null,null,null,null,null,null,null,null,null,null,8985]
[null,null,null,null,null,null,null,null,null,null,null,null,null,8987]
[null,null,null,null,null,null,null,null,null,null,null,null,null,8992]
[null,null,null,null,null,null,null,null,null,null,null,null,null,8997]
[null,null,null,null,null,null,null,null,null,null,null,null,null,9001]
[null,null,null,null,null,null,null,null,null,null,null,null,null,9002]
[null,null,null,null,null,null,null,null,null,null,null,null,null,9007]
[null,null,null,null,null,null,null,null,null,null,null,null,null,9012]
[null,null,null,null,null,null,null,null,null,null,null,null,null,9015]
[null,null,null,null,null,null,null,null,null,null,null,null,null,9017]
[null,null,null,null,null,null,null,null,null,null,null,null,null,9022]
[null,null,null,null,null,null,null,null,null,null,null,null,null,9027]
[null,null,null,null,null,null,null,null,null,null,null,null,null,9031]
[null,null,null,null,null,null,null,null,null,null,null,null,null,9032]
[null,null,null,null,null,null,null,null,null,null,null,null,null,9037]
[null,null,null,null,null,null,null,null,null,null,null,null,null,9042]
[null,null,null,null,null,null,null,null,null,null,null,null,null,9045]
[null,null,null,null,null,null,null,null,null,null,null,null,null,9047]
[null,null,null,null,null,null,null,null,null,null,null,null,null,9052]
[null,null,null,null,null,null,null,null,null,null,null,null,null,9057]
[null,null,null,null,null,null,null,null,null,null,null,null,null,9061]
[null,null,null,null,null,null,null,null,null,null,null,null,null,9062]
[null,null,null,null,null,null,null,null,null,null,null,null,null,9067]
[null,null,null,null,null,null,null,null,null,null,null,null,null,9072]
[null,null,null,null,null,null,null,null,null,null,null,null,null,9075]
[null,null,null,null,null,null,null,null,null,null,null,null,null,9077]
[null,null,null,null,null,null,null,null,null,null,null,null,null,9082]
[null,null,null,null,null,null,null,null,null,null,null,null,null,9087]
[null,null,null,null,null,null,null,null,null,null,null,null,null,9091]
[null,null,null,null,null,null,null,null,null,null,null,null,null,9092]
[null,null,null,null,null,null,null,null,null,null,null,null,null,9097]
[null,null,null,null,null,null,null,null,null,null,null,null,null,9102]
[null,null,null,null,null,null,null,null,null,null,null,null,null,9105]
[null,null,null,null,null,null,null,null,null,null,null,null,null,9107]
[null,null,null,null,null,null,null,null,null,null,null,null,null,9112]
[null,null,null,null,null,null,null,null,null,null,null,null,null,9117]
[null,null,null,null,null,null,null,null,null,null,null,null,null,9121]
[null,null,null,null,null,null,null,null,null,null,null,null,null,9122]
[null,null,null,null,null,null,null,null,null,null,null,null,null,9127]
[null,null,null,null,null,null,null,null,null,null,null,null,null,9132]
[null,null,null,null,null,null,null,null,null,null,null,null,null,9137]
[null,null,null,null,null,null,null,null,null,null,null,null,null,9139]
[null,null,null,null,null,null,null,null,null,null,null,null,null,9142]
[null,null,null,null,null,null,null,null,null,null,null,null,null,9147]
[null,null,null,null,null,null,null,null,null,null,null,null,null,9152]
[null,null,null,null,null,null,null,null,null,null,null,null,null,9153]
[null,null,null,null,null,null,null,null,null,null,null,null,null,9157]
[null,null,null,null,null,null,null,null,null,null,null,null,null,9162]
[null,null,null,null,null,null,null,null,null,null,null,null,null,9167]
[null,null,null,null,null,null,null,null,null,null,null,null,null,9169]
[null,null,null,null,null,null,null,null,null,null,null,null,null,9172]
[null,null,null,null,null,null,null,null,null,null,null,null,null,9177]
[null,null,null,null,null,null,null,null,null,null,null,null,null,9182]
[null,null,null,null,null,null,null,null,null,null,null,null,null,9183]
[null,null,null,null,null,null,null,null,null,null,null,null,null,9187]
[null,null,null,null,null,null,null,null,null,null,null,null,null,9192]
[null,null,null,null,null,null,null,null,null,null,null,null,null,9197]
[null,null,null,null,null,null,null,null,null,null,null,null,null,9199]
[null,null,null,null,null,null,null,null,null,null,null,null,null,9202]
[null,null,null,null,null,null,null,null,null,null,null,null,null,9207]
[null,null,null,null,null,null,null,null,null,null,null,null,null,9212]
[null,null,null,null,null,null,null,null,null,null,null,null,null,9213]
[null,null,null,null,null,null,null,null,null,null,null,null,null,9217]
[null,null,null,null,null,null,null,null,null,null,null,null,null,9222]
[null,null,null,null,null,null,null,null,null,null,null,null,null,9227]
[null,null,null,null,null,null,null,null,null,null,null,null,null,9230]
[null,null,null,null,null,null,null,null,null,null,null,null,null,9232]
[null,null,null,null,null,null,null,null,null,null,null,null,null,9237]
[null,null,null,null,null,null,null,null,null,null,null,null,null,9242]
[null,null,null,null,null,null,null,null,null,null,null,null,null,9243]
[null,null,null,null,null,null,null,null,null,null,null,null,null,9247]
[null,null,null,null,null,null,null,null,null,null,null,null,null,9252]
[null,null,null,null,null,null,null,null,null,null,null,null,null,9257]
[null,null,null,null,null,null,null,null,null,null,null,null,null,9260]
[null,null,null,null,null,null,null,null,null,null,null,null,null,9262]
[null,null,null,null,null,null,null,null,null,null,null,null,null,9267]
[null,null,null,null,null,null,null,null,null,null,null,null,null,9272]
[null,null,null,null,null,null,null,null,null,null,null,null,null,9273]
[null,null,null,null,null,null,null,null,null,null,null,null,null,9277]
[null,null,null,null,null,null,null,null,null,null,null,null,null,9282]
[null,null,null,null,null,null,null,null,null,null,null,null,null,9287]
[null,null,null,null,null,null,null,null,null,null,null,null,null,9290]
[null,null,null,null,null,null,null,null,null,null,null,null,null,9292]
[null,null,null,null,null,null,null,null,null,null,null,null,null,9297]
[null,null,null,null,null,null,null,null,null,null,null,null,null,9302]
[null,null,null,null,null,null,null,null,null,null,null,null,null,9303]
[null,null,null,null,null,null,null,null,null,null,null,null,null,9307]
[null,null,null,null,null,null,null,null,null,null,null,null,null,9312]
[null,null,null,null,null,null,null,null,null,null,null,null,null,9317]
[null,null,null,null,null,null,null,null,null,null,null,null,null,9320]
[null,null,null,null,null,null,null,null,null,null,null,null,null,9322]
[null,null,null,null,null,null,null,null,null,null,null,null,null,9327]
[null,null,null,null,null,null,null,null,null,null,null,null,null,9332]
[null,null,null,null,null,null,null,null,null,null,null,null,null,9333]
[null,null,null,null,null,null,null,null,null,null,null,null,null,9337]
[null,null,null,null,null,null,null,null,null,null,null,null,null,9342]
[null,null,null,null,null,null,null,null,null,null,null,null,null,9347]
[null,null,null,null,null,null,null,null,null,null,null,null,null,9350]
[null,null,null,null,null,null,null,null,null,null,null,null,null,9352]
[null,null,null,null,null,null,null,null,null,null,null,null,null,9357]
[null,null,null,null,null,null,null,null,null,null,null,null,null,9362]
[null,null,null,null,null,null,null,null,null,null,null,null,null,9363]
[null,null,null,null,null,null,null,null,null,null,null,null,null,9367]
[null,null,null,null,null,null,null,null,null,null,null,null,null,9372]
[null,null,null,null,null,null,null,null,null,null,null,null,null,9377]
[null,null,null,null,null,null,null,null,null,null,null,null,null,9380]
[null,null,null,null,null,null,null,null,null,null,null,null,null,9382]
[null,null,null,null,null,null,null,null,null,null,null,null,null,9387]
[null,null,null,null,null,null,null,null,null,null,null,null,null,9392]
[null,null,null,null,null,null,null,null,null,null,null,null,null,9393]
[null,null,null,null,null,null,null,null,null,null,null,null,null,9397]
[null,null,null,null,null,null,null,null,null,null,null,null,null,9402]
[null,null,null,null,null,null,null,null,null,null,null,null,null,9407]
[null,null,null,null,null,null,null,null,null,null,null,null,null,9410]
[null,null,null,null,null,null,null,null,null,null,null,null,null,9412]
[null,null,null,null,null,null,null,null,null,null,null,null,null,9417]
[null,null,null,null,null,null,null,null,null,null,null,null,null,9422]
[null,null,null,null,null,null,null,null,null,null,null,null,null,9423]
[null,null,null,null,null,null,null,null,null,null,null,null,null,9427]
[null,null,null,null,null,null,null,null,null,null,null,null,null,9432]
[null,null,null,null,null,null,null,null,null,null,null,null,null,9437]
[null,null,null,null,null,null,null,null,null,null,null,null,null,9440]
[null,null,null,null,null,null,null,null,null,null,null,null,null,9442]
[null,null,null,null,null,null,null,null,null,null,null,null,null,9447]
[null,null,null,null,null,null,null,null,null,null,null,null,null,9452]
[null,null,null,null,null,null,null,null,null,null,null,null,null,9453]
[null,null,null,null,null,null,null,null,null,null,null,null,null,9457]
[null,null,null,null,null,null,null,null,null,null,null,null,null,9462]
[null,null,null,null,null,null,null,null,null,null,null,null,null,9467]
[null,null,null,null,null,null,null,null,null,null,null,null,null,9470]
[null,null,null,null,null,null,null,null,null,null,null,null,null,9472]
[null,null,null,null,null,null,null,null,null,null,null,null,null,9477]
[null,null,null,null,null,null,null,null,null,null,null,null,null,9482]
[null,null,null,null,null,null,null,null,null,null,null,null,null,9484]
[null,null,null,null,null,null,null,null,null,null,null,null,null,9487]
[null,null,null,null,null,null,null,null,null,null,null,null,null,9492]
[null,null,null,null,null,null,null,null,null,null,null,null,null,9497]
[null,null,null,null,null,null,null,null,null,null,null,null,null,9498]
[null,null,null,null,null,null,null,null,null,null,null,null,null,9502]
[null,null,null,null,null,null,null,null,null,null,null,null,null,9503]
[null,null,null,null,null,null,null,null,null,null,null,null,null,9504]
[null,null,null,null,null,null,null,null,null,null,null,null,null,9505]
[null,null,null,null,null,null,null,null,null,null,null,null,null,9506]
[null,null,null,null,null,null,null,null,null,null,null,null,null,9507]
[null,null,null,null,null,null,null,null,null,null,null,null,null,9508]
[null,null,null,null,null,null,null,null,null,null,null,null,null,9509]
[null,null,null,null,null,null,null,null,null,null,null,null,null,9510]
[null,null,null,null,null,null,null,null,null,null,null,null,null,9511]
[null,null,null,null,null,null,null,null,null,null,null,null,null,9512]
[null,null,null,null,null,null,null,null,null,null,null,null,null,9513]
[null,null,null,null,null,null,null,null,null,null,null,null,null,9514]
[null,null,null,null,null,null,null,null,null,null,null,null,null,9515]
[null,null,null,null,null,null,null,null,null,null,null,null,null,9516]
[null,null,null,null,null,null,null,null,null,null,null,null,null,9517]
[null,null,null,null,null,null,null,null,null,null,null,null,null,9518]
[null,null,null,null,null,null,null,null,null,null,null,null,null,9519]
[null,null,null,null,null,null,null,null,null,null,null,null,null,9520]
[null,null,null,null,null,null,null,null,null,null,null,null,null,9521]
[null,null,null,null,null,null,null,null,null,null,null,null,null,9522]
[null,null,null,null,null,null,null,null,null,null,null,null,null,9523]
[null,null,null,null,null,null,null,null,null,null,null,null,null,9524]
[null,null,null,null,null,null,null,null,null,null,null,null,null,9525]
[null,null,null,null,null,null,null,null,null,null,null,null,null,9526]
[null,null,null,null,null,null,null,null,null,null,null,null,null,9527]
[null,null,null,null,null,null,null,null,null,null,null,null,null,9528]
[null,null,null,null,null,null,null,null,null,null,null,null,null,9529]
[null,null,null,null,null,null,null,null,null,null,null,null,null,9530]
[null,null,null,null,null,null,null,null,null,null,null,null,null,9531]
[null,null,null,null,null,null,null,null,null,null,null,null,null,9532]
[null,null,null,null,null,null,null,null,null,null,null,null,null,9533]
[null,null,null,null,null,null,null,null,null,null,null,null,null,9534]
[null,null,null,null,null,null,null,null,null,null,null,null,null,9535]
[null,null,null,null,null,null,null,null,null,null,null,null,null,9536]
[null,null,null,null,null,null,null,null,null,null,null,null,null,9537]
[null,null,null,null,null,null,null,null,null,null,null,null,null,9538]
[null,null,null,null,null,null,null,null,null,null,null,null,null,9539]
[null,null,null,null,null,null,null,null,null,null,null,null,null,9540]
[null,null,null,null,null,null,null,null,null,null,null,null,null,9541]
[null,null,null,null,null,null,null,null,null,null,null,null,null,9542]
[null,null,null,null,null,null,null,null,null,null,null,null,null,9543]
[null,null,null,null,null,null,null,null,null,null,null,null,null,9544]
[null,null,null,null,null,null,null,null,null,null,null,null,null,9545]
[null,null,null,null,null,null,null,null,null,null,null,null,null,9546]
[null,null,null,null,null,null,null,null,null,null,null,null,null,9547]
[null,null,null,null,null,null,null,null,null,null,null,null,null,9548]
[null,null,null,null,null,null,null,null,null,null,null,null,null,9549]
[null,null,null,null,null,null,null,null,null,null,null,null,null,9550]
[null,null,null,null,null,null,null,null,null,null,null,null,null,9551]
[null,null,null,null,null,null,null,null,null,null,null,null,null,9552]
[null,null,null,null,null,null,null,null,null,null,null,null,null,9553]
[null,null,null,null,null,null,null,null,null,null,null,null,null,9554]
[null,null,null,null,null,null,null,null,null,null,null,null,null,9555]
[null,null,null,null,null,null,null,null,null,null,null,null,null,9556]
[null,null,null,null,null,null,null,null,null,null,null,null,null,9557]
[null,null,null,null,null,null,null,null,null,null,null,null,null,9558]
[null,null,null,null,null,null,null,null,null,null,null,null,null,9559]
[null,null,null,null,null,null,null,null,null,null,null,null,null,9560]
[null,null,null,null,null,null,null,null,null,null,null,null,null,9561]
[null,null,null,null,null,null,null,null,null,null,null,null,null,9562]
[null,null,null,null,null,null,null,null,null,null,null,null,null,9563]
[null,null,null,null,null,null,null,null,null,null,null,null,null,9564]
[null,null,null,null,null,null,null,null,null,null,null,null,null,9565]
[null,null,null,null,null,null,null,null,null,null,null,null,null,9566]
[null,null,null,null,null,null,null,null,null,null,null,null,null,9567]
[null,null,null,null,null,null,null,null,null,null,null,null,null,9568]
[null,null,null,null,null,null,null,null,null,null,null,null,null,9569]
[null,null,null,null,null,null,null,null,null,null,null,null,null,9570]
[null,null,null,null,null,null,null,null,null,null,null,null,null,9571]
[null,null,null,null,null,null,null,null,null,null,null,null,null,9572]
[null,null,null,null,null,null,null,null,null,null,null,null,null,9573]
[null,null,null,null,null,null,null,null,null,null,null,null,null,9574]
[null,null,null,null,null,null,null,null,null,null,null,null,null,9575]
[null,null,null,null,null,null,null,null,null,null,null,null,null,9576]
[null,null,null,null,null,null,null,null,null,null,null,null,null,9577]
[null,null,null,null,null,null,null,null,null,null,null,null,null,9578]
[null,null,null,null,null,null,null,null,null,null,null,null,null,9579]
[null,null,null,null,null,null,null,null,null,null,null,null,null,9580]
[null,null,null,null,null,null,null,null,null,null,null,null,null,9581]
[null,null,null,null,null,null,null,null,null,null,null,null,null,9582]
[null,null,null,null,null,null,null,null,null,null,null,null,null,9583]
[null,null,null,null,null,null,null,null,null,null,null,null,null,9584]
[null,null,null,null,null,null,null,null,null,null,null,null,null,9585]
[null,null,null,null,null,null,null,null,null,null,null,null,null,9586]
[null,null,null,null,null,null,null,null,null,null,null,null,null,9587]
[null,null,null,null,null,null,null,null,null,null,null,null,null,9588]
[null,null,null,null,null,null,null,null,null,null,null,null,null,9589]
[null,null,null,null,null,null,null,null,null,null,null,null,null,9590]
[null,null,null,null,null,null,null,null,null,null,null,null,null,9591]
[null,null,null,null,null,null,null,null,null,null,null,null,null,9592]
[null,null,null,null,null,null,null,null,null,null,null,null,null,9593]
[null,null,null,null,null,null,null,null,null,null,null,null,null,9594]
[null,null,null,null,null,null,null,null,null,null,null,null,null,9595]
[null,null,null,null,null,null,null,null,null,null,null,null,null,9596]
[null,null,null,null,null,null,null,null,null,null,null,null,null,9597]
[null,null,null,null,null,null,null,null,null,null,null,null,null,9598]
[null,null,null,null,null,null,null,null,null,null,null,null,null,9599]
[null,null,null,null,null,null,null,null,null,null,null,null,null,9600]
[null,null,null,null,null,null,null,null,null,null,null,null,null,9601]
[null,null,null,null,null,null,null,null,null,null,null,null,null,9602]
[null,null,null,null,null,null,null,null,null,null,null,null,null,9603]
[null,null,null,null,null,null,null,null,null,null,null,null,null,9604]
[null,null,null,null,null,null,null,null,null,null,null,null,null,9605]
[null,null,null,null,null,null,null,null,null,null,null,null,null,9606]
[null,null,null,null,null,null,null,null,null,null,null,null,null,9607]
[null,null,null,null,null,null,null,null,null,null,null,null,null,9608]
[null,null,null,null,null,null,null,null,null,null,null,null,null,9609]
[null,null,null,null,null,null,null,null,null,null,null,null,null,9610]
[null,null,null,null,null,null,null,null,null,null,null,null,null,9611]
[null,null,null,null,null,null,null,null,null,null,null,null,null,9612]
[null,null,null,null,null,null,null,null,null,null,null,null,null,9613]
[null,null,null,null,null,null,null,null,null,null,null,null,null,9614]
[null,null,null,null,null,null,null,null,null,null,null,null,null,9615]
[null,null,null,null,null,null,null,null,null,null,null,null,null,9616]
[null,null,null,null,null,null,null,null,null,null,null,null,null,9617]
[null,null,null,null,null,null,null,null,null,null,null,null,null,9618]
[null,null,null,null,null,null,null,null,null,null,null,null,null,9619]
[null,null,null,null,null,null,null,null,null,null,null,null,null,9620]
[null,null,null,null,null,null,null,null,null,null,null,null,null,9621]
[null,null,null,null,null,null,null,null,null,null,null,null,null,9622]
[null,null,null,null,null,null,null,null,null,null,null,null,null,9623]
[null,null,null,null,null,null,null,null,null,null,null,null,null,9624]
[null,null,null,null,null,null,null,null,null,null,null,null,null,9625]
[null,null,null,null,null,null,null,null,null,null,null,null,null,9626]
[null,null,null,null,null,null,null,null,null,null,null,null,null,9627]
[null,null,null,null,null,null,null,null,null,null,null,null,null,9628]
[null,null,null,null,null,null,null,null,null,null,null,null,null,9629]
[null,null,null,null,null,null,null,null,null,null,null,null,null,9630]
[null,null,null,null,null,null,null,null,null,null,null,null,null,9631]
[null,null,null,null,null,null,null,null,null,null,null,null,null,9632]
[null,null,null,null,null,null,null,null,null,null,null,null,null,9633]
[null,null,null,null,null,null,null,null,null,null,null,null,null,9634]
[null,null,null,null,null,null,null,null,null,null,null,null,null,9635]
[null,null,null,null,null,null,null,null,null,null,null,null,null,9636]
[null,null,null,null,null,null,null,null,null,null,null,null,null,9637]
[null,null,null,null,null,null,null,null,null,null,null,null,null,9638]
[null,null,null,null,null,null,null,null,null,null,null,null,null,9639]
[null,null,null,null,null,null,null,null,null,null,null,null,null,9640]
[null,null,null,null,null,null,null,null,null,null,null,null,null,9641]
[null,null,null,null,null,null,null,null,null,null,null,null,null,9642]
[null,null,null,null,null,null,null,null,null,null,null,null,null,9643]
[null,null,null,null,null,null,null,null,null,null,null,null,null,9644]
[null,null,null,null,null,null,null,null,null,null,null,null,null,9645]
[null,null,null,null,null,null,null,null,null,null,null,null,null,9646]
[null,null,null,null,null,null,null,null,null,null,null,null,null,9647]
[null,null,null,null,null,null,null,null,null,null,null,null,null,9648]
[null,null,null,null,null,null,null,null,null,null,null,null,null,9649]
[null,null,null,null,null,null,null,null,null,null,null,null,null,9650]
[null,null,null,null,null,null,null,null,null,null,null,null,null,9651]
[null,null,null,null,null,null,null,null,null,null,null,null,null,9652]
[null,null,null,null,null,null,null,null,null,null,null,null,null,9653]
[null,null,null,null,null,null,null,null,null,null,null,null,null,9654]
[null,null,null,null,null,null,null,null,null,null,null,null,null,9655]
[null,null,null,null,null,null,null,null,null,null,null,null,null,9656]
[null,null,null,null,null,null,null,null,null,null,null,null,null,9657]
[null,null,null,null,null,null,null,null,null,null,null,null,null,9658]
[null,null,null,null,null,null,null,null,null,null,null,null,null,9659]
[null,null,null,null,null,null,null,null,null,null,null,null,null,9660]
[null,null,null,null,null,null,null,null,null,null,null,null,null,9661]
[null,null,null,null,null,null,null,null,null,null,null,null,null,9662]
[null,null,null,null,null,null,null,null,null,null,null,null,null,9663]
[null,null,null,null,null,null,null,null,null,null,null,null,null,9664]
[null,null,null,null,null,null,null,null,null,null,null,null,null,9665]
[null,null,null,null,null,null,null,null,null,null,null,null,null,9666]
[null,null,null,null,null,null,null,null,null,null,null,null,null,9667]
[null,null,null,null,null,null,null,null,null,null,null,null,null,9668]
[null,null,null,null,null,null,null,null,null,null,null,null,null,9669]
[null,null,null,null,null,null,null,null,null,null,null,null,null,9670]
[null,null,null,null,null,null,null,null,null,null,null,null,null,9671]
[null,null,null,null,null,null,null,null,null,null,null,null,null,9672]
[null,null,null,null,null,null,null,null,null,null,null,null,null,9673]
[null,null,null,null,null,null,null,null,null,null,null,null,null,9674]
[null,null,null,null,null,null,null,null,null,null,null,null,null,9675]
[null,null,null,null,null,null,null,null,null,null,null,null,null,9676]
[null,null,null,null,null,null,null,null,null,null,null,null,null,9677]
[null,null,null,null,null,null,null,null,null,null,null,null,null,9678]
[null,null,null,null,null,null,null,null,null,null,null,null,null,9679]
[null,null,null,null,null,null,null,null,null,null,null,null,null,9680]
[null,null,null,null,null,null,null,null,null,null,null,null,null,9681]
[null,null,null,null,null,null,null,null,null,null,null,null,null,9682]
[null,null,null,null,null,null,null,null,null,null,null,null,null,9683]
[null,null,null,null,null,null,null,null,null,null,null,null,null,9684]
[null,null,null,null,null,null,null,null,null,null,null,null,null,9685]
[null,null,null,null,null,null,null,null,null,null,null,null,null,9686]
[null,null,null,null,null,null,null,null,null,null,null,null,null,9687]
[null,null,null,null,null,null,null,null,null,null,null,null,null,9688]
[null,null,null,null,null,null,null,null,null,null,null,null,null,9689]
[null,null,null,null,null,null,null,null,null,null,null,null,null,9690]
[null,null,null,null,null,null,null,null,null,null,null,null,null,9691]
[null,null,null,null,null,null,null,null,null,null,null,null,null,9692]
[null,null,null,null,null,null,null,null,null,null,null,null,null,9693]
[null,null,null,null,null,null,null,null,null,null,null,null,null,9694]
[null,null,null,null,null,null,null,null,null,null,null,null,null,9695]
[null,null,null,null,null,null,null,null,null,null,null,null,null,9696]
[null,null,null,null,null,null,null,null,null,null,null,null,null,9697]
[null,null,null,null,null,null,null,null,null,null,null,null,null,9698]
[null,null,null,null,null,null,null,null,null,null,null,null,null,9699]
[null,null,null,null,null,null,null,null,null,null,null,null,null,9700]
[null,null,null,null,null,null,null,null,null,null,null,null,null,9701]
[null,null,null,null,null,null,null,null,null,null,null,null,null,9702]
[null,null,null,null,null,null,null,null,null,null,null,null,null,9703]
[null,null,null,null,null,null,null,null,null,null,null,null,null,9704]
[null,null,null,null,null,null,null,null,null,null,null,null,null,9705]
[null,null,null,null,null,null,null,null,null,null,null,null,null,9706]
[null,null,null,null,null,null,null,null,null,null,null,null,null,9707]
[null,null,null,null,null,null,null,null,null,null,null,null,null,9708]
[null,null,null,null,null,null,null,null,null,null,null,null,null,9709]
[null,null,null,null,null,null,null,null,null,null,null,null,null,9710]
[null,null,null,null,null,null,null,null,null,null,null,null,null,9711]
[null,null,null,null,null,null,null,null,null,null,null,null,null,9712]
[null,null,null,null,null,null,null,null,null,null,null,null,null,9713]
[null,null,null,null,null,null,null,null,null,null,null,null,null,9714]
[null,null,null,null,null,null,null,null,null,null,null,null,null,9715]
[null,null,null,null,null,null,null,null,null,null,null,null,null,9716]
[null,null,null,null,null,null,null,null,null,null,null,null,null,9717]
[null,null,null,null,null,null,null,null,null,null,null,null,null,9718]
[null,null,null,null,null,null,null,null,null,null,null,null,null,9719]
[null,null,null,null,null,null,null,null,null,null,null,null,null,9720]
[null,null,null,null,null,null,null,null,null,null,null,null,null,9721]
[null,null,null,null,null,null,null,null,null,null,null,null,null,9722]
[null,null,null,null,null,null,null,null,null,null,null,null,null,9723]
[null,null,null,null,null,null,null,null,null,null,null,null,null,9724]
[null,null,null,null,null,null,null,null,null,null,null,null,null,9725]
[null,null,null,null,null,null,null,null,null,null,null,null,null,9726]
[null,null,null,null,null,null,null,null,null,null,null,null,null,9727]
[null,null,null,null,null,null,null,null,null,null,null,null,null,9728]
[null,null,null,null,null,null,null,null,null,null,null,null,null,9729]
[null,null,null,null,null,null,null,null,null,null,null,null,null,9730]
[null,null,null,null,null,null,null,null,null,null,null,null,null,9731]
[null,null,null,null,null,null,null,null,null,null,null,null,null,9732]
[null,null,null,null,null,null,null,null,null,null,null,null,null,9733]
[null,null,null,null,null,null,null,null,null,null,null,null,null,9734]
[null,null,null,null,null,null,null,null,null,null,null,null,null,9735]
[null,null,null,null,null,null,null,null,null,null,null,null,null,9736]
[null,null,null,null,null,null,null,null,null,null,null,null,null,9737]
[null,null,null,null,null,null,null,null,null,null,null,null,null,9738]
[null,null,null,null,null,null,null,null,null,null,null,null,null,9739]
[null,null,null,null,null,null,null,null,null,null,null,null,null,9740]
[null,null,null,null,null,null,null,null,null,null,null,null,null,9741]
[null,null,null,null,null,null,null,null,null,null,null,null,null,9742]
[null,null,null,null,null,null,null,null,null,null,null,null,null,9743]
[null,null,null,null,null,null,null,null,null,null,null,null,null,9744]
[null,null,null,null,null,null,null,null,null,null,null,null,null,9745]
[null,null,null,null,null,null,null,null,null,null,null,null,null,9746]
[null,null,null,null,null,null,null,null,null,null,null,null,null,9747]
[null,null,null,null,null,null,null,null,null,null,null,null,null,9748]
[null,null,null,null,null,null,null,null,null,null,null,null,null,9749]
[null,null,null,null,null,null,null,null,null,null,null,null,null,9750]
[null,null,null,null,null,null,null,null,null,null,null,null,null,9751]
[null,null,null,null,null,null,null,null,null,null,null,null,null,9752]
[null,null,null,null,null,null,null,null,null,null,null,null,null,9753]
[null,null,null,null,null,null,null,null,null,null,null,null,null,9754]
[null,null,null,null,null,null,null,null,null,null,null,null,null,9755]
[null,null,null,null,null,null,null,null,null,null,null,null,null,9756]
[null,null,null,null,null,null,null,null,null,null,null,null,null,9757]
[null,null,null,null,null,null,null,null,null,null,null,null,null,9758]
[null,null,null,null,null,null,null,null,null,null,null,null,null,9759]
[null,null,null,null,null,null,null,null,null,null,null,null,null,9760]
[null,null,null,null,null,null,null,null,null,null,null,null,null,9761]
[null,null,null,null,null,null,null,null,null,null,null,null,null,9762]
[null,null,null,null,null,null,null,null,null,null,null,null,null,9763]
[null,null,null,null,null,null,null,null,null,null,null,null,null,9764]
[null,null,null,null,null,null,null,null,null,null,null,null,null,9765]
[null,null,null,null,null,null,null,null,null,null,null,null,null,9766]
[null,null,null,null,null,null,null,null,null,null,null,null,null,9767]
[null,null,null,null,null,null,null,null,null,null,null,null,null,9768]
[null,null,null,null,null,null,null,null,null,null,null,null,null,9769]
[null,null,null,null,null,null,null,null,null,null,null,null,null,9770]
[null,null,null,null,null,null,null,null,null,null,null,null,null,9771]
[null,null,null,null,null,null,null,null,null,null,null,null,null,9772]
[null,null,null,null,null,null,null,null,null,null,null,null,null,9773]
[null,null,null,null,null,null,null,null,null,null,null,null,null,9774]
[null,null,null,null,null,null,null,null,null,null,null,null,null,9775]
[null,null,null,null,null,null,null,null,null,null,null,null,null,9776]
[null,null,null,null,null,null,null,null,null,null,null,null,null,9777]
[null,null,null,null,null,null,null,null,null,null,null,null,null,9778]
[null,null,null,null,null,null,null,null,null,null,null,null,null,9779]
[null,null,null,null,null,null,null,null,null,null,null,null,null,9780]
[null,null,null,null,null,null,null,null,null,null,null,null,null,9781]
[null,null,null,null,null,null,null,null,null,null,null,null,null,9782]
[null,null,null,null,null,null,null,null,null,null,null,null,null,9783]
[null,null,null,null,null,null,null,null,null,null,null,null,null,9784]
[null,null,null,null,null,null,null,null,null,null,null,null,null,9785]
[null,null,null,null,null,null,null,null,null,null,null,null,null,9786]
[null,null,null,null,null,null,null,null,null,null,null,null,null,9787]
[null,null,null,null,null,null,null,null,null,null,null,null,null,9788]
[null,null,null,null,null,null,null,null,null,null,null,null,null,9789]
[null,null,null,null,null,null,null,null,null,null,null,null,null,9790]
[null,null,null,null,null,null,null,null,null,null,null,null,null,9791]
[null,null,null,null,null,null,null,null,null,null,null,null,null,9792]
[null,null,null,null,null,null,null,null,null,null,null,null,null,9793]
[null,null,null,null,null,null,null,null,null,null,null,null,null,9794]
[null,null,null,null,null,null,null,null,null,null,null,null,null,9795]
[null,null,null,null,null,null,null,null,null,null,null,null,null,9796]
[null,null,null,null,null,null,null,null,null,null,null,null,null,9797]
[null,null,null,null,null,null,null,null,null,null,null,null,null,9798]
[null,null,null,null,null,null,null,null,null,null,null,null,null,9799]
[null,null,null,null,null,null,null,null,null,null,null,null,null,9800]
[null,null,null,null,null,null,null,null,null,null,null,null,null,9801]
[null,null,null,null,null,null,null,null,null,null,null,null,null,9802]
[null,null,null,null,null,null,null,null,null,null,null,null,null,9803]
[null,null,null,null,null,null,null,null,null,null,null,null,null,9804]
[null,null,null,null,null,null,null,null,null,null,null,null,null,9805]
[null,null,null,null,null,null,null,null,null,null,null,null,null,9806]
[null,null,null,null,null,null,null,null,null,null,null,null,null,9807]
[null,null,null,null,null,null,null,null,null,null,null,null,null,9808]
[null,null,null,null,null,null,null,null,null,null,null,null,null,9809]
[null,null,null,null,null,null,null,null,null,null,null,null,null,9810]
[null,null,null,null,null,null,null,null,null,null,null,null,null,9811]
[null,null,null,null,null,null,null,null,null,null,null,null,null,9812]
[null,null,null,null,null,null,null,null,null,null,null,null,null,9813]
[null,null,null,null,null,null,null,null,null,null,null,null,null,9814]
[null,null,null,null,null,null,null,null,null,null,null,null,null,9815]
[null,null,null,null,null,null,null,null,null,null,null,null,null,9816]
[null,null,null,null,null,null,null,null,null,null,null,null,null,9817]
[null,null,null,null,null,null,null,null,null,null,null,null,null,9818]
[null,null,null,null,null,null,null,null,null,null,null,null,null,9819]
[null,null,null,null,null,null,null,null,null,null,null,null,null,9820]
[null,null,null,null,null,null,null,null,null,null,null,null,null,9821]
[null,null,null,null,null,null,null,null,null,null,null,null,null,9822]
[null,null,null,null,null,null,null,null,null,null,null,null,null,9823]
[null,null,null,null,null,null,null,null,null,null,null,null,null,9824]
[null,null,null,null,null,null,null,null,null,null,null,null,null,9825]
[null,null,null,null,null,null,null,null,null,null,null,null,null,9826]
[null,null,null,null,null,null,null,null,null,null,null,null,null,9827]
[null,null,null,null,null,null,null,null,null,null,null,null,null,9828]
[null,null,null,null,null,null,null,null,null,null,null,null,null,9829]
[null,null,null,null,null,null,null,null,null,null,null,null,null,9830]
[null,null,null,null,null,null,null,null,null,null,null,null,null,9831]
[null,null,null,null,null,null,null,null,null,null,null,null,null,9832]
[null,null,null,null,null,null,null,null,null,null,null,null,null,9833]
[null,null,null,null,null,null,null,null,null,null,null,null,null,9834]
[null,null,null,null,null,null,null,null,null,null,null,null,null,9835]
[null,null,null,null,null,null,null,null,null,null,null,null,null,9836]
[null,null,null,null,null,null,null,null,null,null,null,null,null,9837]
[null,null,null,null,null,null,null,null,null,null,null,null,null,9838]
[null,null,null,null,null,null,null,null,null,null,null,null,null,9839]
[null,null,null,null,null,null,null,null,null,null,null,null,null,9840]
[null,null,null,null,null,null,null,null,null,null,null,null,null,9841]
[null,null,null,null,null,null,null,null,null,null,null,null,null,9842]
[null,null,null,null,null,null,null,null,null,null,null,null,null,9843]
[null,null,null,null,null,null,null,null,null,null,null,null,null,9844]
[null,null,null,null,null,null,null,null,null,null,null,null,null,9845]
[null,null,null,null,null,null,null,null,null,null,null,null,null,9846]
[null,null,null,null,null,null,null,null,null,null,null,null,null,9847]
[null,null,null,null,null,null,null,null,null,null,null,null,null,9848]
[null,null,null,null,null,null,null,null,null,null,null,null,null,9849]
[null,null,null,null,null,null,null,null,null,null,null,null,null,9850]
[null,null,null,null,null,null,null,null,null,null,null,null,null,9851]
[null,null,null,null,null,null,null,null,null,null,null,null,null,9852]
[null,null,null,null,null,null,null,null,null,null,null,null,null,9853]
[null,null,null,null,null,null,null,null,null,null,null,null,null,9854]
[null,null,null,null,null,null,null,null,null,null,null,null,null,9855]
[null,null,null,null,null,null,null,null,null,null,null,null,null,9856]
[null,null,null,null,null,null,null,null,null,null,null,null,null,9857]
[null,null,null,null,null,null,null,null,null,null,null,null,null,9858]
[null,null,null,null,null,null,null,null,null,null,null,null,null,9859]
[null,null,null,null,null,null,null,null,null,null,null,null,null,9860]
[null,null,null,null,null,null,null,null,null,null,null,null,null,9861]
[null,null,null,null,null,null,null,null,null,null,null,null,null,9862]
[null,null,null,null,null,null,null,null,null,null,null,null,null,9863]
[null,null,null,null,null,null,null,null,null,null,null,null,null,9864]
[null,null,null,null,null,null,null,null,null,null,null,null,null,9865]
[null,null,null,null,null,null,null,null,null,null,null,null,null,9866]
[null,null,null,null,null,null,null,null,null,null,null,null,null,9867]
[null,null,null,null,null,null,null,null,null,null,null,null,null,9868]
[null,null,null,null,null,null,null,null,null,null,null,null,null,9869]
[null,null,null,null,null,null,null,null,null,null,null,null,null,9870]
[null,null,null,null,null,null,null,null,null,null,null,null,null,9871]
[null,null,null,null,null,null,null,null,null,null,null,null,null,9872]
[null,null,null,null,null,null,null,null,null,null,null,null,null,9873]
[null,null,null,null,null,null,null,null,null,null,null,null,null,9874]
[null,null,null,null,null,null,null,null,null,null,null,null,null,9875]
[null,null,null,null,null,null,null,null,null,null,null,null,null,9876]
[null,null,null,null,null,null,null,null,null,null,null,null,null,9877]
[null,null,null,null,null,null,null,null,null,null,null,null,null,9878]
[null,null,null,null,null,null,null,null,null,null,null,null,null,9879]
[null,null,null,null,null,null,null,null,null,null,null,null,null,9880]
[null,null,null,null,null,null,null,null,null,null,null,null,null,9881]
[null,null,null,null,null,null,null,null,null,null,null,null,null,9882]
[null,null,null,null,null,null,null,null,null,null,null,null,null,9883]
[null,null,null,null,null,null,null,null,null,null,null,null,null,9884]
[null,null,null,null,null,null,null,null,null,null,null,null,null,9885]
[null,null,null,null,null,null,null,null,null,null,null,null,null,9886]
[null,null,null,null,null,null,null,null,null,null,null,null,null,9887]
[null,null,null,null,null,null,null,null,null,null,null,null,null,9888]
[null,null,null,null,null,null,null,null,null,null,null,null,null,9889]
[null,null,null,null,null,null,null,null,null,null,null,null,null,9890]
[null,null,null,null,null,null,null,null,null,null,null,null,null,9891]
[null,null,null,null,null,null,null,null,null,null,null,null,null,9892]
[null,null,null,null,null,null,null,null,null,null,null,null,null,9893]
[null,null,null,null,null,null,null,null,null,null,null,null,null,9894]
[null,null,null,null,null,null,null,null,null,null,null,null,null,9895]
[null,null,null,null,null,null,null,null,null,null,null,null,null,9896]
[null,null,null,null,null,null,null,null,null,null,null,null,null,9897]
[null,null,null,null,null,null,null,null,null,null,null,null,null,9898]
[null,null,null,null,null,null,null,null,null,null,null,null,null,9899]
[null,null,null,null,null,null,null,null,null,null,null,null,null,9900]
[null,null,null,null,null,null,null,null,null,null,null,null,null,9901]
[null,null,null,null,null,null,null,null,null,null,null,null,null,9902]
[null,null,null,null,null,null,null,null,null,null,null,null,null,9903]
[null,null,null,null,null,null,null,null,null,null,null,null,null,9904]
[null,null,null,null,null,null,null,null,null,null,null,null,null,9905]
[null,null,null,null,null,null,null,null,null,null,null,null,null,9906]
[null,null,null,null,null,null,null,null,null,null,null,null,null,9907]
[null,null,null,null,null,null,null,null,null,null,null,null,null,9908]
[null,null,null,null,null,null,null,null,null,null,null,null,null,9909]
[null,null,null,null,null,null,null,null,null,null,null,null,null,9910]
[null,null,null,null,null,null,null,null,null,null,null,null,null,9911]
[null,null,null,null,null,null,null,null,null,null,null,null,null,9912]
[null,null,null,null,null,null,null,null,null,null,null,null,null,9913]
[null,null,null,null,null,null,null,null,null,null,null,null,null,9914]
[null,null,null,null,null,null,null,null,null,null,null,null,null,9915]
[null,null,null,null,null,null,null,null,null,null,null,null,null,9916]
[null,null,null,null,null,null,null,null,null,null,null,null,null,9917]
[null,null,null,null,null,null,null,null,null,null,null,null,null,9918]
[null,null,null,null,null,null,null,null,null,null,null,null,null,9919]
[null,null,null,null,null,null,null,null,null,null,null,null,null,9920]
[null,null,null,null,null,null,null,null,null,null,null,null,null,9921]
[null,null,null,null,null,null,null,null,null,null,null,null,null,9922]
[null,null,null,null,null,null,null,null,null,null,null,null,null,9923]
[null,null,null,null,null,null,null,null,null,null,null,null,null,9924]
[null,null,null,null,null,null,null,null,null,null,null,null,null,9925]
[null,null,null,null,null,null,null,null,null,null,null,null,null,9926]
[null,null,null,null,null,null,null,null,null,null,null,null,null,9927]
[null,null,null,null,null,null,null,null,null,null,null,null,null,9928]
[null,null,null,null,null,null,null,null,null,null,null,null,null,9929]
[null,null,null,null,null,null,null,null,null,null,null,null,null,9930]
[null,null,null,null,null,null,null,null,null,null,null,null,null,9931]
[null,null,null,null,null,null,null,null,null,null,null,null,null,9932]
[null,null,null,null,null,null,null,null,null,null,null,null,null,9933]
[null,null,null,null,null,null,null,null,null,null,null,null,null,9934]
[null,null,null,null,null,null,null,null,null,null,null,null,null,9935]
[null,null,null,null,null,null,null,null,null,null,null,null,null,9936]
[null,null,null,null,null,null,null,null,null,null,null,null,null,9937]
[null,null,null,null,null,null,null,null,null,null,null,null,null,9938]
[null,null,null,null,null,null,null,null,null,null,null,null,null,9939]
[null,null,null,null,null,null,null,null,null,null,null,null,null,9940]
[null,null,null,null,null,null,null,null,null,null,null,null,null,9941]
[null,null,null,null,null,null,null,null,null,null,null,null,null,9942]
[null,null,null,null,null,null,null,null,null,null,null,null,null,9943]
[null,null,null,null,null,null,null,null,null,null,null,null,null,9944]
[null,null,null,null,null,null,null,null,null,null,null,null,null,9945]
[null,null,null,null,null,null,null,null,null,null,null,null,null,9946]
[null,null,null,null,null,null,null,null,null,null,null,null,null,9947]
[null,null,null,null,null,null,null,null,null,null,null,null,null,9948]
[null,null,null,null,null,null,null,null,null,null,null,null,null,9949]
[null,null,null,null,null,null,null,null,null,null,null,null,null,9950]
[null,null,null,null,null,null,null,null,null,null,null,null,null,9951]
[null,null,null,null,null,null,null,null,null,null,null,null,null,9952]
[null,null,null,null,null,null,null,null,null,null,null,null,null,9953]
[null,null,null,null,null,null,null,null,null,null,null,null,null,9954]
[null,null,null,null,null,null,null,null,null,null,null,null,null,9955]
[null,null,null,null,null,null,null,null,null,null,null,null,null,9956]
[null,null,null,null,null,null,null,null,null,null,null,null,null,9957]
[null,null,null,null,null,null,null,null,null,null,null,null,null,9958]
[null,null,null,null,null,null,null,null,null,null,null,null,null,9959]
[null,null,null,null,null,null,null,null,null,null,null,null,null,9960]
[null,null,null,null,null,null,null,null,null,null,null,null,null,9961]
[null,null,null,null,null,null,null,null,null,null,null,null,null,9962]
[null,null,null,null,null,null,null,null,null,null,null,null,null,9963]
[null,null,null,null,null,null,null,null,null,null,null,null,null,9964]
[null,null,null,null,null,null,null,null,null,null,null,null,null,9965]
[null,null,null,null,null,null,null,null,null,null,null,null,null,9966]
[null,null,null,null,null,null,null,null,null,null,null,null,null,9967]
[null,null,null,null,null,null,null,null,null,null,null,null,null,9968]
[null,null,null,null,null,null,null,null,null,null,null,null,null,9969]
[null,null,null,null,null,null,null,null,null,null,null,null,null,9970]
[null,null,null,null,null,null,null,null,null,null,null,null,null,9971]
[null,null,null,null,null,null,null,null,null,null,null,null,null,9972]
[null,null,null,null,null,null,null,null,null,null,null,null,null,9973]
[null,null,null,null,null,null,null,null,null,null,null,null,null,9974]
[null,null,null,null,null,null,null,null,null,null,null,null,null,9975]
[null,null,null,null,null,null,null,null,null,null,null,null,null,9976]
[null,null,null,null,null,null,null,null,null,null,null,null,null,9977]
[null,null,null,null,null,null,null,null,null,null,null,null,null,9978]
[null,null,null,null,null,null,null,null,null,null,null,null,null,9979]
[null,null,null,null,null,null,null,null,null,null,null,null,null,9980]
[null,null,null,null,null,null,null,null,null,null,null,null,null,9981]
[null,null,null,null,null,null,null,null,null,null,null,null,null,9982]
[null,null,null,null,null,null,null,null,null,null,null,null,null,9983]
[null,null,null,null,null,null,null,null,null,null,null,null,null,9984]
[null,null,null,null,null,null,null,null,null,null,null,null,null,9985]
[null,null,null,null,null,null,null,null,null,null,null,null,null,9986]
[null,null,null,null,null,null,null,null,null,null,null,null,null,9987]
[null,null,null,null,null,null,null,null,null,null,null,null,null,9988]
[null,null,null,null,null,null,null,null,null,null,null,null,null,9989]
[null,null,null,null,null,null,null,null,null,null,null,null,null,9990]
[null,null,null,null,null,null,null,null,null,null,null,null,null,9991]
[null,null,null,null,null,null,null,null,null,null,null,null,null,9992]
[null,null,null,null,null,null,null,null,null,null,null,null,null,9993]
[null,null,null,null,null,null,null,null,null,null,null,null,null,9994]
[null,null,null,null,null,null,null,null,null,null,null,null,null,9995]
[null,null,null,null,null,null,null,null,null,null,null,null,null,9996]
[null,null,null,null,null,null,null,null,null,null,null,null,null,9997]
[null,null,null,null,null,null,null,null,null,null,null,null,null,9998]
[null,null,null,null,null,null,null,null,null,null,null,null,null,9999]
[null,null,null,null,null,null,null,null,null,null,null,null,null,10000]
[null,null,null,null,null,null,null,null,null,null,null,null,null,"Not applicable"]

{"sheet":"Mapping geog","index":13,"n_rows":56,"n_cols":13,"rows_kept":56,"cut":false,"hidden":true,"merged":[]}
["TAB TO BE HIDDEN"]
[null,null,"From: http://www2.census.gov/geo/pdfs/maps-data/maps/reference/us_regdiv.pdf ",null,null,null,null,null,null,null,"From: http://www.eia.gov/dnav/pet/pet_pri_allmg_a_EPM0_PTC_dpgal_a.htm"]
[]
["US regions",null,"REGION","STATE","REGION",null,null,null,"Gasoline and Diesel EIA regions",null,"REGION","STATE","REGION"]
["New England",null,null,null,null,null,null,null,"New England",1,"New England","Connecticut","New England"]
["Middle Atlantic",1,"New England","Connecticut","New England",null,null,null,"Central Atlantic",2,"New England","Maine","New England"]
["East North Central",2,"New England","Maine","New England",null,null,null,"Lower Atlantic",3,"New England","Massachusetts","New England"]
["West North Central",3,"New England","Massachusetts","New England",null,null,null,"Midwest",4,"New England","New Hampshire","New England"]
["South Atlantic",4,"New England","New Hampshire","New England",null,null,null,"Gulf Coast",5,"New England","Rhode Island","New England"]
["East South Central",5,"New England","Rhode Island","New England",null,null,null,"Rocky Mountain",6,"New England","Vermont","New England"]
["West South Central",6,"New England","Vermont","New England",null,null,null,"West Coast",7,"Central Atlantic","Delaware","Central Atlantic"]
["Mountain",7,"Middle Atlantic","New Jersey","Middle Atlantic",null,null,null,"West Coast less California",8,"Central Atlantic","District of Columbia","Central Atlantic"]
["Pacific",8,"Middle Atlantic","New York","Middle Atlantic",null,null,null,null,9,"Central Atlantic","Maryland","Central Atlantic"]
[null,9,"Middle Atlantic","Pennsylvania","Middle Atlantic",null,null,null,null,10,"Central Atlantic","New Jersey","Central Atlantic"]
[null,10,"East North Central","Indiana","East North Central",null,null,null,null,11,"Central Atlantic","New York","Central Atlantic"]
[null,11,"East North Central","Illinois","East North Central",null,null,null,null,12,"Central Atlantic","Pennsylvania","Central Atlantic"]
[null,12,"East North Central","Michigan","East North Central",null,null,null,null,13,"Lower Atlantic","Florida","Lower Atlantic"]
[null,13,"East North Central","Ohio","East North Central",null,null,null,null,14,"Lower Atlantic","Georgia","Lower Atlantic"]
[null,14,"East North Central","Wisconsin","East North Central",null,null,null,null,15,"Lower Atlantic","North Carolina","Lower Atlantic"]
[null,15,"West North Central","Iowa","West North Central",null,null,null,null,16,"Lower Atlantic","South Carolina","Lower Atlantic"]
[null,16,"West North Central","Kansas","West North Central",null,null,null,null,17,"Lower Atlantic","Virginia","Lower Atlantic"]
[null,17,"West North Central","Minnesota","West North Central",null,null,null,null,18,"Lower Atlantic","West Virginia","Lower Atlantic"]
[null,18,"West North Central","Missouri","West North Central",null,null,null,null,19,"Midwest","Illinois","Midwest"]
[null,19,"West North Central","Nebraska","West North Central",null,null,null,null,20,"Midwest","Indiana","Midwest"]
[null,20,"West North Central","North Dakota","West North Central",null,null,null,null,21,"Midwest","Iowa","Midwest"]
[null,21,"West North Central","South Dakota","West North Central",null,null,null,null,22,"Midwest","Kansas","Midwest"]
[null,22,"South Atlantic","Delaware","South Atlantic",null,null,null,null,23,"Midwest","Kentucky","Midwest"]
[null,23,"South Atlantic","District of Columbia","South Atlantic",null,null,null,null,24,"Midwest","Michigan","Midwest"]
[null,24,"South Atlantic","Florida","South Atlantic",null,null,null,null,25,"Midwest","Minnesota","Midwest"]
[null,25,"South Atlantic","Georgia","South Atlantic",null,null,null,null,26,"Midwest","Missouri","Midwest"]
[null,26,"South Atlantic","Maryland","South Atlantic",null,null,null,null,27,"Midwest","Nebraska","Midwest"]
[null,27,"South Atlantic","North Carolina","South Atlantic",null,null,null,null,28,"Midwest","North Dakota","Midwest"]
[null,28,"South Atlantic","South Carolina","South Atlantic",null,null,null,null,29,"Midwest","Ohio","Midwest"]
[null,29,"South Atlantic","Virginia","South Atlantic",null,null,null,null,30,"Midwest","Oklahoma","Midwest"]
[null,30,"South Atlantic","West Virginia","South Atlantic",null,null,null,null,31,"Midwest","South Dakota","Midwest"]
[null,31,"East South Central","Alabama","East South Central",null,null,null,null,32,"Midwest","Tennessee","Midwest"]
[null,32,"East South Central","Kentucky","East South Central",null,null,null,null,33,"Midwest","Wisconsin","Midwest"]
[null,33,"East South Central","Mississippi","East South Central",null,null,null,null,34,"Gulf Coast","Alabama","Gulf Coast"]
[null,34,"East South Central","Tennessee","East South Central",null,null,null,null,35,"Gulf Coast","Arkansas","Gulf Coast"]
[null,35,"West South Central","Arkansas","West South Central",null,null,null,null,36,"Gulf Coast","Louisiana","Gulf Coast"]
[null,36,"West South Central","Louisiana","West South Central",null,null,null,null,37,"Gulf Coast","Mississippi","Gulf Coast"]
[null,37,"West South Central","Oklahoma","West South Central",null,null,null,null,38,"Gulf Coast","New Mexico","Gulf Coast"]
[null,38,"West South Central","Texas","West South Central",null,null,null,null,39,"Gulf Coast","Texas","Gulf Coast"]
[null,39,"Mountain","Arizona","Mountain",null,null,null,null,40,"Rocky Mountain","Colorado","Rocky Mountain"]
[null,40,"Mountain","Colorado","Mountain",null,null,null,null,41,"Rocky Mountain","Idaho","Rocky Mountain"]
[null,41,"Mountain","Idaho","Mountain",null,null,null,null,42,"Rocky Mountain","Montana","Rocky Mountain"]
[null,42,"Mountain","New Mexico","Mountain",null,null,null,null,43,"Rocky Mountain","Utah","Rocky Mountain"]
[null,43,"Mountain","Montana","Mountain",null,null,null,null,44,"Rocky Mountain","Wyoming","Rocky Mountain"]
[null,44,"Mountain","Utah","Mountain",null,null,null,null,45,"West Coast","Alaska","West Coast less California"]
[null,45,"Mountain","Nevada","Mountain",null,null,null,null,46,"West Coast","Arizona","West Coast less California"]
[null,46,"Mountain","Wyoming","Mountain",null,null,null,null,47,"West Coast","California","West Coast"]
[null,47,"Pacific","Alaska","Pacific",null,null,null,null,48,"West Coast","Hawaii","West Coast less California"]
[null,48,"Pacific","California","Pacific",null,null,null,null,49,"West Coast","Nevada","West Coast less California"]
[null,49,"Pacific","Hawaii","Pacific",null,null,null,null,50,"West Coast","Oregon","West Coast less California"]
[null,50,"Pacific","Oregon","Pacific",null,null,null,null,51,"West Coast","Washington","West Coast less California"]
[null,51,"Pacific","Washington","Pacific"]