{"text_format":"1","workbook":"xlsx","n_sheets":6,"sheets":["System changelog","Instructions & Import","System Results","System Results & Graphs","Aux_grafico","Lists"],"not_rendered":{"charts":1,"images":3,"macros":1,"external_links":0,"defined_names":4,"comments":0,"pivot_tables":0},"unopened":[],"bounds":{"document_bytes":16777216,"sheet_cells":100000,"rows_first":2000,"rows_last":500,"rows_between":2000,"halvings":0,"cell_chars":16384,"cell_head_chars":4096},"cells_cut":0,"cells_raw":0,"read":"whole","date_system":"1900"}

{"sheet":"System changelog","index":0,"n_rows":6,"n_cols":3,"rows_kept":6,"cut":false,"hidden":false,"merged":[]}
["|",null," "]
[null,"Health Care Emissions Impact Calculator - System"]
["#","Date","Description"]
[1,"2023-04-01","1st release of this US based System GHG emissions calculator"]
[1.1000000000000001,"2024-05-13","Corrected issue with Scope 3 data import from new facility version 2.0"]
[1.2,"2025-04-29","Corrected issue with Scope 3 data import from new facility version 2.1"]

{"sheet":"Instructions & Import","index":1,"n_rows":26,"n_cols":3,"rows_kept":26,"cut":false,"hidden":false,"merged":[[15,0,15,3],[13,0,13,3],[14,0,14,3],[2,0,2,3],[9,0,9,3],[10,0,10,3],[11,0,11,3],[12,0,12,3]]}
["|",null," "]
[null,"Health Care Emissions Impact Calculator - System"]
["Welcome! This tool will allow you to upload a folder containing up to 300 facility GHG emission inventories in order to see your total health system GHG emissions. \nFirst, input this system data:"]
[]
["System name"]
["Year"]
["Quantity of facilities"]
["Country"]
[]
["Second, you will want to import the individual facility files (Health Care Emission Impact Calculator-Facility excel)  to this file. So, be sure that you have the excel tool files already completed and all files located in one folder. Then, follow these instructions:"]
["1- Put all the facility-level calculator files already completed into a single directory (one folder). Do not put any other files into that folder. This system calculator can handle a maximum of 300 facilities. "]
["2- Click the button below labeled \"Import Data\"."]
["3- A window will appear asking to select the folder where your completed individual facility excel files are located."]
["4- Click on the folder you want to import. Then wait as the system pastes in the data. This may take several seconds."]
["5- Go to System Results  and Graphs sheets to see the results and graphs of your total system GHG emissions."]
["6- If there is already data in the sheet, any new data will be pasted after the existing data. Data will not be overwritten."]
[]
[]
[]
[]
[]
[]
["**IMPORTANT: Macros must be enabled in order to import files into this excel sheet. If you are getting an error message not allowing you to import your facility files, follow these steps to ensure your macros are enabled:"]
["1. To enable Macros, click on the File tab in the upper left of the excel sheet, click on Options at the bottom, click on Trust Center,"]
[" click on Trust Center Settings, click on Macro Settings and make sure the box is checked to Enable All Marcos. Then click OK. "]
["2. If you still can't import files, close the program, right click on the file and choose properties. At the bottom, check the box 'Unblock' next to security and click on 'Apply'. Open up the file and it should work this time to import."]

{"sheet":"System Results","index":2,"n_rows":51,"n_cols":905,"rows_kept":51,"cut":false,"hidden":false,"merged":[[3,90,3,91],[3,93,3,94],[3,69,3,70],[3,72,3,73],[3,75,3,76],[3,78,3,79],[3,81,3,82],[3,48,3,49],[3,51,3,52],[3,54,3,55],[3,57,3,58],[3,60,3,61],[3,63,3,64],[3,66,3,67],[3,84,3,85],[3,87,3,88],[3,21,3,22],[3,24,3,25],[3,27,3,28],[3,30,3,31],[3,33,3,34],[3,36,3,37],[3,39,3,40],[3,42,3,43],[3,45,3,46],[20,0,22,0],[3,9,3,10],[3,12,3,13],[3,15,3,16],[3,18,3,19],[3,6,3,7],[12,0,19,0],[4,0,11,0],[3,3,3,4],[3,111,3,112],[3,114,3,115],[3,117,3,118],[3,120,3,121],[3,123,3,124],[3,96,3,97],[3,99,3,100],[3,102,3,103],[3,105,3,106],[3,108,3,109],[3,141,3,142],[3,144,3,145],[3,147,3,148],[3,150,3,151],[3,153,3,154],[3,126,3,127],[3,129,3,130],[3,132,3,133],[3,135,3,136],[3,138,3,139],[3,171,3,172],[3,174,3,175],[3,177,3,178],[3,180,3,181],[3,183,3,184],[3,156,3,157],[3,159,3,160],[3,162,3,163],[3,165,3,166],[3,168,3,169],[3,201,3,202],[3,204,3,205],[3,207,3,208],[3,210,3,211],[3,213,3,214],[3,186,3,187],[3,189,3,190],[3,192,3,193],[3,195,3,196],[3,198,3,199],[3,231,3,232],[3,234,3,235],[3,237,3,238],[3,240,3,241],[3,243,3,244],[3,216,3,217],[3,219,3,220],[3,222,3,223],[3,225,3,226],[3,228,3,229],[3,261,3,262],[3,264,3,265],[3,267,3,268],[3,270,3,271],[3,246,3,247],[3,249,3,250],[3,252,3,253],[3,255,3,256],[3,258,3,259],[3,288,3,289],[3,291,3,292],[3,294,3,295],[3,297,3,298],[3,300,3,301],[3,273,3,274],[3,276,3,277],[3,279,3,280],[3,282,3,283],[3,285,3,286],[3,318,3,319],[3,321,3,322],[3,324,3,325],[3,327,3,328],[3,330,3,331],[3,303,3,304],[3,306,3,307],[3,309,3,310],[3,312,3,313],[3,315,3,316],[3,348,3,349],[3,351,3,352],[3,354,3,355],[3,357,3,358],[3,360,3,361],[3,333,3,334],[3,336,3,337],[3,339,3,340],[3,342,3,343],[3,345,3,346],[3,378,3,379],[3,381,3,382],[3,384,3,385],[3,387,3,388],[3,390,3,391],[3,363,3,364],[3,366,3,367],[3,369,3,370],[3,372,3,373],[3,375,3,376],[3,408,3,409],[3,411,3,412],[3,414,3,415],[3,417,3,418],[3,420,3,421],[3,393,3,394],[3,396,3,397],[3,399,3,400],[3,402,3,403],[3,405,3,406],[3,438,3,439],[3,441,3,442],[3,444,3,445],[3,447,3,448],[3,450,3,451],[3,423,3,424],[3,426,3,427],[3,429,3,430],[3,432,3,433],[3,435,3,436],[3,468,3,469],[3,471,3,472],[3,474,3,475],[3,477,3,478],[3,480,3,481],[3,453,3,454],[3,456,3,457],[3,459,3,460],[3,462,3,463],[3,465,3,466],[3,498,3,499],[3,501,3,502],[3,504,3,505],[3,507,3,508],[3,510,3,511],[3,483,3,484],[3,486,3,487],[3,489,3,490],[3,492,3,493],[3,495,3,496],[3,528,3,529],[3,531,3,532],[3,534,3,535],[3,537,3,538],[3,513,3,514],[3,516,3,517],[3,519,3,520],[3,522,3,523],[3,525,3,526],[3,555,3,556],[3,558,3,559],[3,561,3,562],[3,564,3,565],[3,567,3,568],[3,540,3,541],[3,543,3,544],[3,546,3,547],[3,549,3,550],[3,552,3,553],[3,585,3,586],[3,588,3,589],[3,591,3,592],[3,594,3,595],[3,597,3,598],[3,570,3,571],[3,573,3,574],[3,576,3,577],[3,579,3,580],[3,582,3,583],[3,615,3,616],[3,618,3,619],[3,621,3,622],[3,624,3,625],[3,627,3,628],[3,600,3,601],[3,603,3,604],[3,606,3,607],[3,609,3,610],[3,612,3,613],[3,645,3,646],[3,648,3,649],[3,651,3,652],[3,654,3,655],[3,657,3,658],[3,630,3,631],[3,633,3,634],[3,636,3,637],[3,639,3,640],[3,642,3,643],[3,675,3,676],[3,678,3,679],[3,681,3,682],[3,684,3,685],[3,687,3,688],[3,660,3,661],[3,663,3,664],[3,666,3,667],[3,669,3,670],[3,672,3,673],[3,705,3,706],[3,708,3,709],[3,711,3,712],[3,714,3,715],[3,717,3,718],[3,690,3,691],[3,693,3,694],[3,696,3,697],[3,699,3,700],[3,702,3,703],[3,735,3,736],[3,738,3,739],[3,741,3,742],[3,744,3,745],[3,747,3,748],[3,720,3,721],[3,723,3,724],[3,726,3,727],[3,729,3,730],[3,732,3,733],[3,765,3,766],[3,768,3,769],[3,771,3,772],[3,774,3,775],[3,777,3,778],[3,750,3,751],[3,753,3,754],[3,756,3,757],[3,759,3,760],[3,762,3,763],[3,795,3,796],[3,798,3,799],[3,801,3,802],[3,804,3,805],[3,780,3,781],[3,783,3,784],[3,786,3,787],[3,789,3,790],[3,792,3,793],[3,822,3,823],[3,825,3,826],[3,828,3,829],[3,831,3,832],[3,834,3,835],[3,807,3,808],[3,810,3,811],[3,813,3,814],[3,816,3,817],[3,819,3,820],[3,852,3,853],[3,855,3,856],[3,858,3,859],[3,861,3,862],[3,864,3,865],[3,837,3,838],[3,840,3,841],[3,843,3,844],[3,846,3,847],[3,849,3,850],[3,897,3,898],[3,900,3,901],[3,903,3,904],[3,882,3,883],[3,885,3,886],[3,888,3,889],[3,891,3,892],[3,894,3,895],[3,867,3,868],[3,870,3,871],[3,873,3,874],[3,876,3,877],[3,879,3,880]]}
["|",null,null,null,null,null," ",null,null,null,null,null,null,null,null,null,null,null,null,null,null,null,null,null,null,null,null,{"$f":"+'Instructions & Import'!B2","v":"Health Care Emissions Impact Calculator - System"},null,null,null,null,null,null,null,null,null,null,null,null,null,null,null,null,null,{"$f":"+'Instructions & Import'!B2","v":"Health Care Emissions Impact Calculator - System"},null,null,null,null,null,null,null,null,null,null,null,null,null,null,null,null,null,null,{"$f":"+'Instructions & Import'!B2","v":"Health Care Emissions Impact Calculator - System"},null,null,null,null,null,null,null,null,null,null,null,null,null,null,null,null,null,null,null,{"$f":"+'Instructions & Import'!B2","v":"Health Care Emissions Impact Calculator - System"}]
[null,{"$f":"+'Instructions & Import'!B2","v":"Health Care Emissions Impact Calculator - System"}]
[null,{"$f":"+'Instructions & Import'!B5&\" - Year \"&'Instructions & Import'!B6","v":" - Year "}]
[null,null,null,"System",null,null,"Facility 1",null,null,"Facility 2",null,null,"Facility 3",null,null,"Facility 4",null,null,"Facility 5",null,null,"Facility 6",null,null,"Facility 7",null,null,"Facility 8",null,null,"Facility 9",null,null,"Facility 10",null,null,"Facility 11",null,null,"Facility 12",null,null,"Facility 13",null,null,"Facility 14",null,null,"Facility 15",null,null,"Facility 16",null,null,"Facility 17",null,null,"Facility 18",null,null,"Facility 19",null,null,"Facility 20",null,null,"Facility 21",null,null,"Facility 22",null,null,"Facility 23",null,null,"Facility 24",null,null,"Facility 25",null,null,"Facility 26",null,null,"Facility 27",null,null,"Facility 28",null,null,"Facility 29",null,null,"Facility 30",null,null,"Facility 31",null,null,"Facility 32",null,null,"Facility 33",null,null,"Facility 34",null,null,"Facility 35",null,null,"Facility 36",null,null,"Facility 37",null,null,"Facility 38",null,null,"Facility 39",null,null,"Facility 40",null,null,"Facility 41",null,null,"Facility 42",null,null,"Facility 43",null,null,"Facility 44",null,null,"Facility 45",null,null,"Facility 46",null,null,"Facility 47",null,null,"Facility 48",null,null,"Facility 49",null,null,"Facility 50",null,null,"Facility 51",null,null,"Facility 52",null,null,"Facility 53",null,null,"Facility 54",null,null,"Facility 55",null,null,"Facility 56",null,null,"Facility 57",null,null,"Facility 58",null,null,"Facility 59",null,null,"Facility 60",null,null,"Facility 61",null,null,"Facility 62",null,null,"Facility 63",null,null,"Facility 64",null,null,"Facility 65",null,null,"Facility 66",null,null,"Facility 67",null,null,"Facility 68",null,null,"Facility 69",null,null,"Facility 70",null,null,"Facility 71",null,null,"Facility 72",null,null,"Facility 73",null,null,"Facility 74",null,null,"Facility 75",null,null,"Facility 76",null,null,"Facility 77",null,null,"Facility 78",null,null,"Facility 79",null,null,"Facility 80",null,null,"Facility 81",null,null,"Facility 82",null,null,"Facility 83",null,null,"Facility 84",null,null,"Facility 85",null,null,"Facility 86",null,null,"Facility 87",null,null,"Facility 88",null,null,"Facility 89",null,null,"Facility 90",null,null,"Facility 91",null,null,"Facility 92",null,null,"Facility 93",null,null,"Facility 94",null,null,"Facility 95",null,null,"Facility 96",null,null,"Facility 97",null,null,"Facility 98",null,null,"Facility 99",null,null,"Facility 100",null,null,"Facility 101",null,null,"Facility 102",null,null,"Facility 103",null,null,"Facility 104",null,null,"Facility 105",null,null,"Facility 106",null,null,"Facility 107",null,null,"Facility 108",null,null,"Facility 109",null,null,"Facility 110",null,null,"Facility 111",null,null,"Facility 112",null,null,"Facility 113",null,null,"Facility 114",null,null,"Facility 115",null,null,"Facility 116",null,null,"Facility 117",null,null,"Facility 118",null,null,"Facility 119",null,null,"Facility 120",null,null,"Facility 121",null,null,"Facility 122",null,null,"Facility 123",null,null,"Facility 124",null,null,"Facility 125",null,null,"Facility 126",null,null,"Facility 127",null,null,"Facility 128",null,null,"Facility 129",null,null,"Facility 130",null,null,"Facility 131",null,null,"Facility 132",null,null,"Facility 133",null,null,"Facility 134",null,null,"Facility 135",null,null,"Facility 136",null,null,"Facility 137",null,null,"Facility 138",null,null,"Facility 139",null,null,"Facility 140",null,null,"Facility 141",null,null,"Facility 142",null,null,"Facility 143",null,null,"Facility 144",null,null,"Facility 145",null,null,"Facility 146",null,null,"Facility 147",null,null,"Facility 148",null,null,"Facility 149",null,null,"Facility 150",null,null,"Facility 151",null,null,"Facility 152",null,null,"Facility 153",null,null,"Facility 154",null,null,"Facility 155",null,null,"Facility 156",null,null,"Facility 157",null,null,"Facility 158",null,null,"Facility 159",null,null,"Facility 160",null,null,"Facility 161",null,null,"Facility 162",null,null,"Facility 163",null,null,"Facility 164",null,null,"Facility 165",null,null,"Facility 166",null,null,"Facility 167",null,null,"Facility 168",null,null,"Facility 169",null,null,"Facility 170",null,null,"Facility 171",null,null,"Facility 172",null,null,"Facility 173",null,null,"Facility 174",null,null,"Facility 175",null,null,"Facility 176",null,null,"Facility 177",null,null,"Facility 178",null,null,"Facility 179",null,null,"Facility 180",null,null,"Facility 181",null,null,"Facility 182",null,null,"Facility 183",null,null,"Facility 184",null,null,"Facility 185",null,null,"Facility 186",null,null,"Facility 187",null,null,"Facility 188",null,null,"Facility 189",null,null,"Facility 190",null,null,"Facility 191",null,null,"Facility 192",null,null,"Facility 193",null,null,"Facility 194",null,null,"Facility 195",null,null,"Facility 196",null,null,"Facility 197",null,null,"Facility 198",null,null,"Facility 199",null,null,"Facility 200",null,null,"Facility 201",null,null,"Facility 202",null,null,"Facility 203",null,null,"Facility 204",null,null,"Facility 205",null,null,"Facility 206",null,null,"Facility 207",null,null,"Facility 208",null,null,"Facility 209",null,null,"Facility 210",null,null,"Facility 211",null,null,"Facility 212",null,null,"Facility 213",null,null,"Facility 214",null,null,"Facility 215",null,null,"Facility 216",null,null,"Facility 217",null,null,"Facility 218",null,null,"Facility 219",null,null,"Facility 220",null,null,"Facility 221",null,null,"Facility 222",null,null,"Facility 223",null,null,"Facility 224",null,null,"Facility 225",null,null,"Facility 226",null,null,"Facility 227",null,null,"Facility 228",null,null,"Facility 229",null,null,"Facility 230",null,null,"Facility 231",null,null,"Facility 232",null,null,"Facility 233",null,null,"Facility 234",null,null,"Facility 235",null,null,"Facility 236",null,null,"Facility 237",null,null,"Facility 238",null,null,"Facility 239",null,null,"Facility 240",null,null,"Facility 241",null,null,"Facility 242",null,null,"Facility 243",null,null,"Facility 244",null,null,"Facility 245",null,null,"Facility 246",null,null,"Facility 247",null,null,"Facility 248",null,null,"Facility 249",null,null,"Facility 250",null,null,"Facility 251",null,null,"Facility 252",null,null,"Facility 253",null,null,"Facility 254",null,null,"Facility 255",null,null,"Facility 256",null,null,"Facility 257",null,null,"Facility 258",null,null,"Facility 259",null,null,"Facility 260",null,null,"Facility 261",null,null,"Facility 262",null,null,"Facility 263",null,null,"Facility 264",null,null,"Facility 265",null,null,"Facility 266",null,null,"Facility 267",null,null,"Facility 268",null,null,"Facility 269",null,null,"Facility 270",null,null,"Facility 271",null,null,"Facility 272",null,null,"Facility 273",null,null,"Facility 274",null,null,"Facility 275",null,null,"Facility 276",null,null,"Facility 277",null,null,"Facility 278",null,null,"Facility 279",null,null,"Facility 280",null,null,"Facility 281",null,null,"Facility 282",null,null,"Facility 283",null,null,"Facility 284",null,null,"Facility 285",null,null,"Facility 286",null,null,"Facility 287",null,null,"Facility 288",null,null,"Facility 289",null,null,"Facility 290",null,null,"Facility 291",null,null,"Facility 292",null,null,"Facility 293",null,null,"Facility 294",null,null,"Facility 295",null,null,"Facility 296",null,null,"Facility 297",null,null,"Facility 298",null,null,"Facility 299",null,null,"Facility 300"]
["General information","Name of Facility"]
[null,"Health System",null,{"$f":"+'Instructions & Import'!B5","v":0}]
[null,"State/Province"]
[null,"City"]
[null,"Street Address "]
[null,"Zip code/Postal code"]
[null,"Type of health care institution"]
[null,"Short description of boundaries defined for this GHG inventory (Equity-financial-operational boundary, facilities included or excluded)"]
["Information about the health care institution","Full Time Employees (FTEs)",null,{"$f":"SUM(G13:AHT13)","v":0}]
[null,"Total Patient Days",null,0]
[null,"Total Adjusted Patient Days",null,0]
[null,"Total Outpatient Visits",null,0]
[null,"Number of Staffed Beds (annual average)",null,0]
[null,"Number of Operating Rooms",null,0]
[null,"Gross floor area (building square footage)",null,0]
[null,"Hours of operation [hrs/ day]"]
["Metrics","Emissions per employee (kg CO2e/employee)",null,{"$f":"+IFERROR($D$26*1000/D13,\"\")","v":""},null,null,{"$f":"+IFERROR($D$26*1000/G13,\"\")","v":""},null,null,{"$f":"+IFERROR($D$26*1000/J13,\"\")","v":""},null,null,{"$f":"+IFERROR($D$26*1000/M13,\"\")","v":""},null,null,{"$f":"+IFERROR($D$26*1000/P13,\"\")","v":""},null,null,{"$f":"+IFERROR($D$26*1000/S13,\"\")","v":""},null,null,{"$f":"+IFERROR($D$26*1000/V13,\"\")","v":""},null,null,{"$f":"+IFERROR($D$26*1000/Y13,\"\")","v":""},null,null,{"$f":"+IFERROR($D$26*1000/AB13,\"\")","v":""},null,null,{"$f":"+IFERROR($D$26*1000/AE13,\"\")","v":""},null,null,{"$f":"+IFERROR($D$26*1000/AH13,\"\")","v":""},null,null,{"$f":"+IFERROR($D$26*1000/AK13,\"\")","v":""},null,null,{"$f":"+IFERROR($D$26*1000/AN13,\"\")","v":""},null,null,{"$f":"+IFERROR($D$26*1000/AQ13,\"\")","v":""},null,null,{"$f":"+IFERROR($D$26*1000/AT13,\"\")","v":""},null,null,{"$f":"+IFERROR($D$26*1000/AW13,\"\")","v":""},null,null,{"$f":"+IFERROR($D$26*1000/AZ13,\"\")","v":""},null,null,{"$f":"+IFERROR($D$26*1000/BC13,\"\")","v":""},null,null,{"$f":"+IFERROR($D$26*1000/BF13,\"\")","v":""},null,null,{"$f":"+IFERROR($D$26*1000/BI13,\"\")","v":""},null,null,{"$f":"+IFERROR($D$26*1000/BL13,\"\")","v":""},null,null,{"$f":"+IFERROR($D$26*1000/BO13,\"\")","v":""},null,null,{"$f":"+IFERROR($D$26*1000/BR13,\"\")","v":""},null,null,{"$f":"+IFERROR($D$26*1000/BU13,\"\")","v":""},null,null,{"$f":"+IFERROR($D$26*1000/BX13,\"\")","v":""},null,null,{"$f":"+IFERROR($D$26*1000/CA13,\"\")","v":""},null,null,{"$f":"+IFERROR($D$26*1000/CD13,\"\")","v":""},null,null,{"$f":"+IFERROR($D$26*1000/CG13,\"\")","v":""},null,null,{"$f":"+IFERROR($D$26*1000/CJ13,\"\")","v":""},null,null,{"$f":"+IFERROR($D$26*1000/CM13,\"\")","v":""},null,null,{"$f":"+IFERROR($D$26*1000/CP13,\"\")","v":""},null,null,{"$f":"+IFERROR($D$26*1000/CS13,\"\")","v":""},null,null,{"$f":"+IFERROR($D$26*1000/CV13,\"\")","v":""},null,null,{"$f":"+IFERROR($D$26*1000/CY13,\"\")","v":""},null,null,{"$f":"+IFERROR($D$26*1000/DB13,\"\")","v":""},null,null,{"$f":"+IFERROR($D$26*1000/DE13,\"\")","v":""},null,null,{"$f":"+IFERROR($D$26*1000/DH13,\"\")","v":""},null,null,{"$f":"+IFERROR($D$26*1000/DK13,\"\")","v":""},null,null,{"$f":"+IFERROR($D$26*1000/DN13,\"\")","v":""},null,null,{"$f":"+IFERROR($D$26*1000/DQ13,\"\")","v":""},null,null,{"$f":"+IFERROR($D$26*1000/DT13,\"\")","v":""},null,null,{"$f":"+IFERROR($D$26*1000/DW13,\"\")","v":""},null,null,{"$f":"+IFERROR($D$26*1000/DZ13,\"\")","v":""},null,null,{"$f":"+IFERROR($D$26*1000/EC13,\"\")","v":""},null,null,{"$f":"+IFERROR($D$26*1000/EF13,\"\")","v":""},null,null,{"$f":"+IFERROR($D$26*1000/EI13,\"\")","v":""},null,null,{"$f":"+$G$26*1000/EL13","v":{"$error":"#DIV/0!"}},null,null,{"$f":"+IFERROR($D$26*1000/EO13,\"\")","v":""},null,null,{"$f":"+IFERROR($D$26*1000/ER13,\"\")","v":""},null,null,{"$f":"+IFERROR($D$26*1000/EU13,\"\")","v":""},null,null,{"$f":"+IFERROR($D$26*1000/EX13,\"\")","v":""},null,null,{"$f":"+IFERROR($D$26*1000/FA13,\"\")","v":""},null,null,{"$f":"+IFERROR($D$26*1000/FD13,\"\")","v":""},null,null,{"$f":"+IFERROR($D$26*1000/FG13,\"\")","v":""},null,null,{"$f":"+IFERROR($D$26*1000/FJ13,\"\")","v":""},null,null,{"$f":"+IFERROR($D$26*1000/FM13,\"\")","v":""},null,null,{"$f":"+IFERROR($D$26*1000/FP13,\"\")","v":""},null,null,{"$f":"+IFERROR($D$26*1000/FS13,\"\")","v":""},null,null,{"$f":"+IFERROR($D$26*1000/FV13,\"\")","v":""},null,null,{"$f":"+IFERROR($D$26*1000/FY13,\"\")","v":""},null,null,{"$f":"+IFERROR($D$26*1000/GB13,\"\")","v":""},null,null,{"$f":"+IFERROR($D$26*1000/GE13,\"\")","v":""},null,null,{"$f":"+IFERROR($D$26*1000/GH13,\"\")","v":""},null,null,{"$f":"+IFERROR($D$26*1000/GK13,\"\")","v":""},null,null,{"$f":"+IFERROR($D$26*1000/GN13,\"\")","v":""},null,null,{"$f":"+IFERROR($D$26*1000/GQ13,\"\")","v":""},null,null,{"$f":"+IFERROR($D$26*1000/GT13,\"\")","v":""},null,null,{"$f":"+IFERROR($D$26*1000/GW13,\"\")","v":""},null,null,{"$f":"+IFERROR($D$26*1000/GZ13,\"\")","v":""},null,null,{"$f":"+IFERROR($D$26*1000/HC13,\"\")","v":""},null,null,{"$f":"+IFERROR($D$26*1000/HF13,\"\")","v":""},null,null,{"$f":"+IFERROR($D$26*1000/HI13,\"\")","v":""},null,null,{"$f":"+IFERROR($D$26*1000/HL13,\"\")","v":""},null,null,{"$f":"+IFERROR($D$26*1000/HO13,\"\")","v":""},null,null,{"$f":"+IFERROR($D$26*1000/HR13,\"\")","v":""},null,null,{"$f":"+IFERROR($D$26*1000/HU13,\"\")","v":""},null,null,{"$f":"+IFERROR($D$26*1000/HX13,\"\")","v":""},null,null,{"$f":"+IFERROR($D$26*1000/IA13,\"\")","v":""},null,null,{"$f":"+IFERROR($D$26*1000/ID13,\"\")","v":""},null,null,{"$f":"+IFERROR($D$26*1000/IG13,\"\")","v":""},null,null,{"$f":"+IFERROR($D$26*1000/IJ13,\"\")","v":""},null,null,{"$f":"+IFERROR($D$26*1000/IM13,\"\")","v":""},null,null,{"$f":"+IFERROR($D$26*1000/IP13,\"\")","v":""},null,null,{"$f":"+IFERROR($D$26*1000/IS13,\"\")","v":""},null,null,{"$f":"+IFERROR($D$26*1000/IV13,\"\")","v":""},null,null,{"$f":"+IFERROR($D$26*1000/IY13,\"\")","v":""},null,null,{"$f":"+IFERROR($D$26*1000/JB13,\"\")","v":""},null,null,{"$f":"+IFERROR($D$26*1000/JE13,\"\")","v":""},null,null,{"$f":"+IFERROR($D$26*1000/JH13,\"\")","v":""},null,null,{"$f":"+IFERROR($D$26*1000/JK13,\"\")","v":""},null,null,{"$f":"+IFERROR($D$26*1000/JN13,\"\")","v":""},null,null,{"$f":"+IFERROR($D$26*1000/JQ13,\"\")","v":""},null,null,{"$f":"+IFERROR($D$26*1000/JT13,\"\")","v":""},null,null,{"$f":"+IFERROR($D$26*1000/JW13,\"\")","v":""},null,null,{"$f":"+IFERROR($D$26*1000/JZ13,\"\")","v":""},null,null,{"$f":"+IFERROR($D$26*1000/KC13,\"\")","v":""},null,null,{"$f":"+IFERROR($D$26*1000/KF13,\"\")","v":""},null,null,{"$f":"+IFERROR($D$26*1000/KI13,\"\")","v":""},null,null,{"$f":"+IFERROR($D$26*1000/KL13,\"\")","v":""},null,null,{"$f":"+IFERROR($D$26*1000/KO13,\"\")","v":""},null,null,{"$f":"+IFERROR($D$26*1000/KR13,\"\")","v":""},null,null,{"$f":"+IFERROR($D$26*1000/KU13,\"\")","v":""},null,null,{"$f":"+IFERROR($D$26*1000/KX13,\"\")","v":""},null,null,{"$f":"+IFERROR($D$26*1000/LA13,\"\")","v":""},null,null,{"$f":"+IFERROR($D$26*1000/LD13,\"\")","v":""},null,null,{"$f":"+IFERROR($D$26*1000/LG13,\"\")","v":""},null,null,{"$f":"+IFERROR($D$26*1000/LJ13,\"\")","v":""},null,null,{"$f":"+IFERROR($D$26*1000/LM13,\"\")","v":""},null,null,{"$f":"+IFERROR($D$26*1000/LP13,\"\")","v":""},null,null,{"$f":"+IFERROR($D$26*1000/LS13,\"\")","v":""},null,null,{"$f":"+IFERROR($D$26*1000/LV13,\"\")","v":""},null,null,{"$f":"+IFERROR($D$26*1000/LY13,\"\")","v":""},null,null,{"$f":"+IFERROR($D$26*1000/MB13,\"\")","v":""},null,null,{"$f":"+IFERROR($D$26*1000/ME13,\"\")","v":""},null,null,{"$f":"+IFERROR($D$26*1000/MH13,\"\")","v":""},null,null,{"$f":"+IFERROR($D$26*1000/MK13,\"\")","v":""},null,null,{"$f":"+IFERROR($D$26*1000/MN13,\"\")","v":""},null,null,{"$f":"+IFERROR($D$26*1000/MQ13,\"\")","v":""},null,null,{"$f":"+IFERROR($D$26*1000/MT13,\"\")","v":""},null,null,{"$f":"+IFERROR($D$26*1000/MW13,\"\")","v":""},null,null,{"$f":"+IFERROR($D$26*1000/MZ13,\"\")","v":""},null,null,{"$f":"+IFERROR($D$26*1000/NC13,\"\")","v":""},null,null,{"$f":"+IFERROR($D$26*1000/NF13,\"\")","v":""},null,null,{"$f":"+IFERROR($D$26*1000/NI13,\"\")","v":""},null,null,{"$f":"+IFERROR($D$26*1000/NL13,\"\")","v":""},null,null,{"$f":"+IFERROR($D$26*1000/NO13,\"\")","v":""},null,null,{"$f":"+IFERROR($D$26*1000/NR13,\"\")","v":""},null,null,{"$f":"+IFERROR($D$26*1000/NU13,\"\")","v":""},null,null,{"$f":"+IFERROR($D$26*1000/NX13,\"\")","v":""},null,null,{"$f":"+IFERROR($D$26*1000/OA13,\"\")","v":""},null,null,{"$f":"+IFERROR($D$26*1000/OD13,\"\")","v":""},null,null,{"$f":"+IFERROR($D$26*1000/OG13,\"\")","v":""},null,null,{"$f":"+IFERROR($D$26*1000/OJ13,\"\")","v":""},null,null,{"$f":"+IFERROR($D$26*1000/OM13,\"\")","v":""},null,null,{"$f":"+IFERROR($D$26*1000/OP13,\"\")","v":""},null,null,{"$f":"+IFERROR($D$26*1000/OS13,\"\")","v":""},null,null,{"$f":"+IFERROR($D$26*1000/OV13,\"\")","v":""},null,null,{"$f":"+IFERROR($D$26*1000/OY13,\"\")","v":""},null,null,{"$f":"+IFERROR($D$26*1000/PB13,\"\")","v":""},null,null,{"$f":"+IFERROR($D$26*1000/PE13,\"\")","v":""},null,null,{"$f":"+IFERROR($D$26*1000/PH13,\"\")","v":""},null,null,{"$f":"+IFERROR($D$26*1000/PK13,\"\")","v":""},null,null,{"$f":"+IFERROR($D$26*1000/PN13,\"\")","v":""},null,null,{"$f":"+IFERROR($D$26*1000/PQ13,\"\")","v":""},null,null,{"$f":"+IFERROR($D$26*1000/PT13,\"\")","v":""},null,null,{"$f":"+IFERROR($D$26*1000/PW13,\"\")","v":""},null,null,{"$f":"+IFERROR($D$26*1000/PZ13,\"\")","v":""},null,null,{"$f":"+IFERROR($D$26*1000/QC13,\"\")","v":""},null,null,{"$f":"+IFERROR($D$26*1000/QF13,\"\")","v":""},null,null,{"$f":"+IFERROR($D$26*1000/QI13,\"\")","v":""},null,null,{"$f":"+IFERROR($D$26*1000/QL13,\"\")","v":""},null,null,{"$f":"+IFERROR($D$26*1000/QO13,\"\")","v":""},null,null,{"$f":"+IFERROR($D$26*1000/QR13,\"\")","v":""},null,null,{"$f":"+IFERROR($D$26*1000/QU13,\"\")","v":""},null,null,{"$f":"+IFERROR($D$26*1000/QX13,\"\")","v":""},null,null,{"$f":"+IFERROR($D$26*1000/RA13,\"\")","v":""},null,null,{"$f":"+IFERROR($D$26*1000/RD13,\"\")","v":""},null,null,{"$f":"+IFERROR($D$26*1000/RG13,\"\")","v":""},null,null,{"$f":"+IFERROR($D$26*1000/RJ13,\"\")","v":""},null,null,{"$f":"+IFERROR($D$26*1000/RM13,\"\")","v":""},null,null,{"$f":"+IFERROR($D$26*1000/RP13,\"\")","v":""},null,null,{"$f":"+IFERROR($D$26*1000/RS13,\"\")","v":""},null,null,{"$f":"+IFERROR($D$26*1000/RV13,\"\")","v":""},null,null,{"$f":"+IFERROR($D$26*1000/RY13,\"\")","v":""},null,null,{"$f":"+IFERROR($D$26*1000/SB13,\"\")","v":""},null,null,{"$f":"+IFERROR($D$26*1000/SE13,\"\")","v":""},null,null,{"$f":"+IFERROR($D$26*1000/SH13,\"\")","v":""},null,null,{"$f":"+IFERROR($D$26*1000/SK13,\"\")","v":""},null,null,{"$f":"+IFERROR($D$26*1000/SN13,\"\")","v":""},null,null,{"$f":"+IFERROR($D$26*1000/SQ13,\"\")","v":""},null,null,{"$f":"+IFERROR($D$26*1000/ST13,\"\")","v":""},null,null,{"$f":"+IFERROR($D$26*1000/SW13,\"\")","v":""},null,null,{"$f":"+IFERROR($D$26*1000/SZ13,\"\")","v":""},null,null,{"$f":"+IFERROR($D$26*1000/TC13,\"\")","v":""},null,null,{"$f":"+IFERROR($D$26*1000/TF13,\"\")","v":""},null,null,{"$f":"+IFERROR($D$26*1000/TI13,\"\")","v":""},null,null,{"$f":"+IFERROR($D$26*1000/TL13,\"\")","v":""},null,null,{"$f":"+IFERROR($D$26*1000/TO13,\"\")","v":""},null,null,{"$f":"+IFERROR($D$26*1000/TR13,\"\")","v":""},null,null,{"$f":"+IFERROR($D$26*1000/TU13,\"\")","v":""},null,null,{"$f":"+IFERROR($D$26*1000/TX13,\"\")","v":""},null,null,{"$f":"+IFERROR($D$26*1000/UA13,\"\")","v":""},null,null,{"$f":"+IFERROR($D$26*1000/UD13,\"\")","v":""},null,null,{"$f":"+IFERROR($D$26*1000/UG13,\"\")","v":""},null,null,{"$f":"+IFERROR($D$26*1000/UJ13,\"\")","v":""},null,null,{"$f":"+IFERROR($D$26*1000/UM13,\"\")","v":""},null,null,{"$f":"+IFERROR($D$26*1000/UP13,\"\")","v":""},null,null,{"$f":"+IFERROR($D$26*1000/US13,\"\")","v":""},null,null,{"$f":"+IFERROR($D$26*1000/UV13,\"\")","v":""},null,null,{"$f":"+IFERROR($D$26*1000/UY13,\"\")","v":""},null,null,{"$f":"+IFERROR($D$26*1000/VB13,\"\")","v":""},null,null,{"$f":"+IFERROR($D$26*1000/VE13,\"\")","v":""},null,null,{"$f":"+IFERROR($D$26*1000/VH13,\"\")","v":""},null,null,{"$f":"+IFERROR($D$26*1000/VK13,\"\")","v":""},null,null,{"$f":"+IFERROR($D$26*1000/VN13,\"\")","v":""},null,null,{"$f":"+IFERROR($D$26*1000/VQ13,\"\")","v":""},null,null,{"$f":"+IFERROR($D$26*1000/VT13,\"\")","v":""},null,null,{"$f":"+IFERROR($D$26*1000/VW13,\"\")","v":""},null,null,{"$f":"+IFERROR($D$26*1000/VZ13,\"\")","v":""},null,null,{"$f":"+IFERROR($D$26*1000/WC13,\"\")","v":""},null,null,{"$f":"+IFERROR($D$26*1000/WF13,\"\")","v":""},null,null,{"$f":"+IFERROR($D$26*1000/WI13,\"\")","v":""},null,null,{"$f":"+IFERROR($D$26*1000/WL13,\"\")","v":""},null,null,{"$f":"+IFERROR($D$26*1000/WO13,\"\")","v":""},null,null,{"$f":"+IFERROR($D$26*1000/WR13,\"\")","v":""},null,null,{"$f":"+IFERROR($D$26*1000/WU13,\"\")","v":""},null,null,{"$f":"+IFERROR($D$26*1000/WX13,\"\")","v":""},null,null,{"$f":"+IFERROR($D$26*1000/XA13,\"\")","v":""},null,null,{"$f":"+IFERROR($D$26*1000/XD13,\"\")","v":""},null,null,{"$f":"+IFERROR($D$26*1000/XG13,\"\")","v":""},null,null,{"$f":"+IFERROR($D$26*1000/XJ13,\"\")","v":""},null,null,{"$f":"+IFERROR($D$26*1000/XM13,\"\")","v":""},null,null,{"$f":"+IFERROR($D$26*1000/XP13,\"\")","v":""},null,null,{"$f":"+IFERROR($D$26*1000/XS13,\"\")","v":""},null,null,{"$f":"+IFERROR($D$26*1000/XV13,\"\")","v":""},null,null,{"$f":"+IFERROR($D$26*1000/XY13,\"\")","v":""},null,null,{"$f":"+IFERROR($D$26*1000/YB13,\"\")","v":""},null,null,{"$f":"+IFERROR($D$26*1000/YE13,\"\")","v":""},null,null,{"$f":"+IFERROR($D$26*1000/YH13,\"\")","v":""},null,null,{"$f":"+IFERROR($D$26*1000/YK13,\"\")","v":""},null,null,{"$f":"+IFERROR($D$26*1000/YN13,\"\")","v":""},null,null,{"$f":"+IFERROR($D$26*1000/YQ13,\"\")","v":""},null,null,{"$f":"+IFERROR($D$26*1000/YT13,\"\")","v":""},null,null,{"$f":"+IFERROR($D$26*1000/YW13,\"\")","v":""},null,null,{"$f":"+IFERROR($D$26*1000/YZ13,\"\")","v":""},null,null,{"$f":"+IFERROR($D$26*1000/ZC13,\"\")","v":""},null,null,{"$f":"+IFERROR($D$26*1000/ZF13,\"\")","v":""},null,null,{"$f":"+IFERROR($D$26*1000/ZI13,\"\")","v":""},null,null,{"$f":"+IFERROR($D$26*1000/ZL13,\"\")","v":""},null,null,{"$f":"+IFERROR($D$26*1000/ZO13,\"\")","v":""},null,null,{"$f":"+IFERROR($D$26*1000/ZR13,\"\")","v":""},null,null,{"$f":"+IFERROR($D$26*1000/ZU13,\"\")","v":""},null,null,{"$f":"+IFERROR($D$26*1000/ZX13,\"\")","v":""},null,null,{"$f":"+IFERROR($D$26*1000/AAA13,\"\")","v":""},null,null,{"$f":"+IFERROR($D$26*1000/AAD13,\"\")","v":""},null,null,{"$f":"+IFERROR($D$26*1000/AAG13,\"\")","v":""},null,null,{"$f":"+IFERROR($D$26*1000/AAJ13,\"\")","v":""},null,null,{"$f":"+IFERROR($D$26*1000/AAM13,\"\")","v":""},null,null,{"$f":"+IFERROR($D$26*1000/AAP13,\"\")","v":""},null,null,{"$f":"+IFERROR($D$26*1000/AAS13,\"\")","v":""},null,null,{"$f":"+IFERROR($D$26*1000/AAV13,\"\")","v":""},null,null,{"$f":"+IFERROR($D$26*1000/AAY13,\"\")","v":""},null,null,{"$f":"+IFERROR($D$26*1000/ABB13,\"\")","v":""},null,null,{"$f":"+IFERROR($D$26*1000/ABE13,\"\")","v":""},null,null,{"$f":"+IFERROR($D$26*1000/ABH13,\"\")","v":""},null,null,{"$f":"+IFERROR($D$26*1000/ABK13,\"\")","v":""},null,null,{"$f":"+IFERROR($D$26*1000/ABN13,\"\")","v":""},null,null,{"$f":"+IFERROR($D$26*1000/ABQ13,\"\")","v":""},null,null,{"$f":"+IFERROR($D$26*1000/ABT13,\"\")","v":""},null,null,{"$f":"+IFERROR($D$26*1000/ABW13,\"\")","v":""},null,null,{"$f":"+IFERROR($D$26*1000/ABZ13,\"\")","v":""},null,null,{"$f":"+IFERROR($D$26*1000/ACC13,\"\")","v":""},null,null,{"$f":"+IFERROR($D$26*1000/ACF13,\"\")","v":""},null,null,{"$f":"+IFERROR($D$26*1000/ACI13,\"\")","v":""},null,null,{"$f":"+IFERROR($D$26*1000/ACL13,\"\")","v":""},null,null,{"$f":"+IFERROR($D$26*1000/ACO13,\"\")","v":""},null,null,{"$f":"+IFERROR($D$26*1000/ACR13,\"\")","v":""},null,null,{"$f":"+IFERROR($D$26*1000/ACU13,\"\")","v":""},null,null,{"$f":"+IFERROR($D$26*1000/ACX13,\"\")","v":""},null,null,{"$f":"+IFERROR($D$26*1000/ADA13,\"\")","v":""},null,null,{"$f":"+IFERROR($D$26*1000/ADD13,\"\")","v":""},null,null,{"$f":"+IFERROR($D$26*1000/ADG13,\"\")","v":""},null,null,{"$f":"+IFERROR($D$26*1000/ADJ13,\"\")","v":""},null,null,{"$f":"+IFERROR($D$26*1000/ADM13,\"\")","v":""},null,null,{"$f":"+IFERROR($D$26*1000/ADP13,\"\")","v":""},null,null,{"$f":"+IFERROR($D$26*1000/ADS13,\"\")","v":""},null,null,{"$f":"+IFERROR($D$26*1000/ADV13,\"\")","v":""},null,null,{"$f":"+IFERROR($D$26*1000/ADY13,\"\")","v":""},null,null,{"$f":"+IFERROR($D$26*1000/AEB13,\"\")","v":""},null,null,{"$f":"+IFERROR($D$26*1000/AEE13,\"\")","v":""},null,null,{"$f":"+IFERROR($D$26*1000/AEH13,\"\")","v":""},null,null,{"$f":"+IFERROR($D$26*1000/AEK13,\"\")","v":""},null,null,{"$f":"+IFERROR($D$26*1000/AEN13,\"\")","v":""},null,null,{"$f":"+IFERROR($D$26*1000/AEQ13,\"\")","v":""},null,null,{"$f":"+IFERROR($D$26*1000/AET13,\"\")","v":""},null,null,{"$f":"+IFERROR($D$26*1000/AEW13,\"\")","v":""},null,null,{"$f":"+IFERROR($D$26*1000/AEZ13,\"\")","v":""},null,null,{"$f":"+IFERROR($D$26*1000/AFC13,\"\")","v":""},null,null,{"$f":"+IFERROR($D$26*1000/AFF13,\"\")","v":""},null,null,{"$f":"+IFERROR($D$26*1000/AFI13,\"\")","v":""},null,null,{"$f":"+IFERROR($D$26*1000/AFL13,\"\")","v":""},null,null,{"$f":"+IFERROR($D$26*1000/AFO13,\"\")","v":""},null,null,{"$f":"+IFERROR($D$26*1000/AFR13,\"\")","v":""},null,null,{"$f":"+IFERROR($D$26*1000/AFU13,\"\")","v":""},null,null,{"$f":"+IFERROR($D$26*1000/AFX13,\"\")","v":""},null,null,{"$f":"+IFERROR($D$26*1000/AGA13,\"\")","v":""},null,null,{"$f":"+IFERROR($D$26*1000/AGD13,\"\")","v":""},null,null,{"$f":"+IFERROR($D$26*1000/AGG13,\"\")","v":""},null,null,{"$f":"+IFERROR($D$26*1000/AGJ13,\"\")","v":""},null,null,{"$f":"+IFERROR($D$26*1000/AGM13,\"\")","v":""},null,null,{"$f":"+IFERROR($D$26*1000/AGP13,\"\")","v":""},null,null,{"$f":"+IFERROR($D$26*1000/AGS13,\"\")","v":""},null,null,{"$f":"+IFERROR($D$26*1000/AGV13,\"\")","v":""},null,null,{"$f":"+IFERROR($D$26*1000/AGY13,\"\")","v":""},null,null,{"$f":"+IFERROR($D$26*1000/AHB13,\"\")","v":""},null,null,{"$f":"+IFERROR($D$26*1000/AHE13,\"\")","v":""},null,null,{"$f":"+IFERROR($D$26*1000/AHH13,\"\")","v":""},null,null,{"$f":"+IFERROR($D$26*1000/AHK13,\"\")","v":""},null,null,{"$f":"+IFERROR($D$26*1000/AHN13,\"\")","v":""},null,null,{"$f":"+IFERROR($D$26*1000/AHQ13,\"\")","v":""},null,null,{"$f":"+IFERROR($D$26*1000/AHT13,\"\")","v":""}]
[null,"Emissions per adjusted patient day (kg CO2e/patient)",null,{"$f":"+IFERROR($D$26*1000/D15,\"\")","v":""},null,null,{"$f":"+IFERROR($D$26*1000/G15,\"\")","v":""},null,null,{"$f":"+IFERROR($D$26*1000/J15,\"\")","v":""},null,null,{"$f":"+IFERROR($D$26*1000/M15,\"\")","v":""},null,null,{"$f":"+IFERROR($D$26*1000/P15,\"\")","v":""},null,null,{"$f":"+IFERROR($D$26*1000/S15,\"\")","v":""},null,null,{"$f":"+IFERROR($D$26*1000/V15,\"\")","v":""},null,null,{"$f":"+IFERROR($D$26*1000/Y15,\"\")","v":""},null,null,{"$f":"+IFERROR($D$26*1000/AB15,\"\")","v":""},null,null,{"$f":"+IFERROR($D$26*1000/AE15,\"\")","v":""},null,null,{"$f":"+IFERROR($D$26*1000/AH15,\"\")","v":""},null,null,{"$f":"+IFERROR($D$26*1000/AK15,\"\")","v":""},null,null,{"$f":"+IFERROR($D$26*1000/AN15,\"\")","v":""},null,null,{"$f":"+IFERROR($D$26*1000/AQ15,\"\")","v":""},null,null,{"$f":"+IFERROR($D$26*1000/AT15,\"\")","v":""},null,null,{"$f":"+IFERROR($D$26*1000/AW15,\"\")","v":""},null,null,{"$f":"+IFERROR($D$26*1000/AZ15,\"\")","v":""},null,null,{"$f":"+IFERROR($D$26*1000/BC15,\"\")","v":""},null,null,{"$f":"+IFERROR($D$26*1000/BF15,\"\")","v":""},null,null,{"$f":"+IFERROR($D$26*1000/BI15,\"\")","v":""},null,null,{"$f":"+IFERROR($D$26*1000/BL15,\"\")","v":""},null,null,{"$f":"+IFERROR($D$26*1000/BO15,\"\")","v":""},null,null,{"$f":"+IFERROR($D$26*1000/BR15,\"\")","v":""},null,null,{"$f":"+IFERROR($D$26*1000/BU15,\"\")","v":""},null,null,{"$f":"+IFERROR($D$26*1000/BX15,\"\")","v":""},null,null,{"$f":"+IFERROR($D$26*1000/CA15,\"\")","v":""},null,null,{"$f":"+IFERROR($D$26*1000/CD15,\"\")","v":""},null,null,{"$f":"+IFERROR($D$26*1000/CG15,\"\")","v":""},null,null,{"$f":"+IFERROR($D$26*1000/CJ15,\"\")","v":""},null,null,{"$f":"+IFERROR($D$26*1000/CM15,\"\")","v":""},null,null,{"$f":"+IFERROR($D$26*1000/CP15,\"\")","v":""},null,null,{"$f":"+IFERROR($D$26*1000/CS15,\"\")","v":""},null,null,{"$f":"+IFERROR($D$26*1000/CV15,\"\")","v":""},null,null,{"$f":"+IFERROR($D$26*1000/CY15,\"\")","v":""},null,null,{"$f":"+IFERROR($D$26*1000/DB15,\"\")","v":""},null,null,{"$f":"+IFERROR($D$26*1000/DE15,\"\")","v":""},null,null,{"$f":"+IFERROR($D$26*1000/DH15,\"\")","v":""},null,null,{"$f":"+IFERROR($D$26*1000/DK15,\"\")","v":""},null,null,{"$f":"+IFERROR($D$26*1000/DN15,\"\")","v":""},null,null,{"$f":"+IFERROR($D$26*1000/DQ15,\"\")","v":""},null,null,{"$f":"+IFERROR($D$26*1000/DT15,\"\")","v":""},null,null,{"$f":"+IFERROR($D$26*1000/DW15,\"\")","v":""},null,null,{"$f":"+IFERROR($D$26*1000/DZ15,\"\")","v":""},null,null,{"$f":"+IFERROR($D$26*1000/EC15,\"\")","v":""},null,null,{"$f":"+IFERROR($D$26*1000/EF15,\"\")","v":""},null,null,{"$f":"+IFERROR($D$26*1000/EI15,\"\")","v":""},null,null,{"$f":"+$G$26*1000/EL15","v":{"$error":"#DIV/0!"}},null,null,{"$f":"+IFERROR($D$26*1000/EO15,\"\")","v":""},null,null,{"$f":"+IFERROR($D$26*1000/ER15,\"\")","v":""},null,null,{"$f":"+IFERROR($D$26*1000/EU15,\"\")","v":""},null,null,{"$f":"+IFERROR($D$26*1000/EX15,\"\")","v":""},null,null,{"$f":"+IFERROR($D$26*1000/FA15,\"\")","v":""},null,null,{"$f":"+IFERROR($D$26*1000/FD15,\"\")","v":""},null,null,{"$f":"+IFERROR($D$26*1000/FG15,\"\")","v":""},null,null,{"$f":"+IFERROR($D$26*1000/FJ15,\"\")","v":""},null,null,{"$f":"+IFERROR($D$26*1000/FM15,\"\")","v":""},null,null,{"$f":"+IFERROR($D$26*1000/FP15,\"\")","v":""},null,null,{"$f":"+IFERROR($D$26*1000/FS15,\"\")","v":""},null,null,{"$f":"+IFERROR($D$26*1000/FV15,\"\")","v":""},null,null,{"$f":"+IFERROR($D$26*1000/FY15,\"\")","v":""},null,null,{"$f":"+IFERROR($D$26*1000/GB15,\"\")","v":""},null,null,{"$f":"+IFERROR($D$26*1000/GE15,\"\")","v":""},null,null,{"$f":"+IFERROR($D$26*1000/GH15,\"\")","v":""},null,null,{"$f":"+IFERROR($D$26*1000/GK15,\"\")","v":""},null,null,{"$f":"+IFERROR($D$26*1000/GN15,\"\")","v":""},null,null,{"$f":"+IFERROR($D$26*1000/GQ15,\"\")","v":""},null,null,{"$f":"+IFERROR($D$26*1000/GT15,\"\")","v":""},null,null,{"$f":"+IFERROR($D$26*1000/GW15,\"\")","v":""},null,null,{"$f":"+IFERROR($D$26*1000/GZ15,\"\")","v":""},null,null,{"$f":"+IFERROR($D$26*1000/HC15,\"\")","v":""},null,null,{"$f":"+IFERROR($D$26*1000/HF15,\"\")","v":""},null,null,{"$f":"+IFERROR($D$26*1000/HI15,\"\")","v":""},null,null,{"$f":"+IFERROR($D$26*1000/HL15,\"\")","v":""},null,null,{"$f":"+IFERROR($D$26*1000/HO15,\"\")","v":""},null,null,{"$f":"+IFERROR($D$26*1000/HR15,\"\")","v":""},null,null,{"$f":"+IFERROR($D$26*1000/HU15,\"\")","v":""},null,null,{"$f":"+IFERROR($D$26*1000/HX15,\"\")","v":""},null,null,{"$f":"+IFERROR($D$26*1000/IA15,\"\")","v":""},null,null,{"$f":"+IFERROR($D$26*1000/ID15,\"\")","v":""},null,null,{"$f":"+IFERROR($D$26*1000/IG15,\"\")","v":""},null,null,{"$f":"+IFERROR($D$26*1000/IJ15,\"\")","v":""},null,null,{"$f":"+IFERROR($D$26*1000/IM15,\"\")","v":""},null,null,{"$f":"+IFERROR($D$26*1000/IP15,\"\")","v":""},null,null,{"$f":"+IFERROR($D$26*1000/IS15,\"\")","v":""},null,null,{"$f":"+IFERROR($D$26*1000/IV15,\"\")","v":""},null,null,{"$f":"+IFERROR($D$26*1000/IY15,\"\")","v":""},null,null,{"$f":"+IFERROR($D$26*1000/JB15,\"\")","v":""},null,null,{"$f":"+IFERROR($D$26*1000/JE15,\"\")","v":""},null,null,{"$f":"+IFERROR($D$26*1000/JH15,\"\")","v":""},null,null,{"$f":"+IFERROR($D$26*1000/JK15,\"\")","v":""},null,null,{"$f":"+IFERROR($D$26*1000/JN15,\"\")","v":""},null,null,{"$f":"+IFERROR($D$26*1000/JQ15,\"\")","v":""},null,null,{"$f":"+IFERROR($D$26*1000/JT15,\"\")","v":""},null,null,{"$f":"+IFERROR($D$26*1000/JW15,\"\")","v":""},null,null,{"$f":"+IFERROR($D$26*1000/JZ15,\"\")","v":""},null,null,{"$f":"+IFERROR($D$26*1000/KC15,\"\")","v":""},null,null,{"$f":"+IFERROR($D$26*1000/KF15,\"\")","v":""},null,null,{"$f":"+IFERROR($D$26*1000/KI15,\"\")","v":""},null,null,{"$f":"+IFERROR($D$26*1000/KL15,\"\")","v":""},null,null,{"$f":"+IFERROR($D$26*1000/KO15,\"\")","v":""},null,null,{"$f":"+IFERROR($D$26*1000/KR15,\"\")","v":""},null,null,{"$f":"+IFERROR($D$26*1000/KU15,\"\")","v":""},null,null,{"$f":"+IFERROR($D$26*1000/KX15,\"\")","v":""},null,null,{"$f":"+IFERROR($D$26*1000/LA15,\"\")","v":""},null,null,{"$f":"+IFERROR($D$26*1000/LD15,\"\")","v":""},null,null,{"$f":"+IFERROR($D$26*1000/LG15,\"\")","v":""},null,null,{"$f":"+IFERROR($D$26*1000/LJ15,\"\")","v":""},null,null,{"$f":"+IFERROR($D$26*1000/LM15,\"\")","v":""},null,null,{"$f":"+IFERROR($D$26*1000/LP15,\"\")","v":""},null,null,{"$f":"+IFERROR($D$26*1000/LS15,\"\")","v":""},null,null,{"$f":"+IFERROR($D$26*1000/LV15,\"\")","v":""},null,null,{"$f":"+IFERROR($D$26*1000/LY15,\"\")","v":""},null,null,{"$f":"+IFERROR($D$26*1000/MB15,\"\")","v":""},null,null,{"$f":"+IFERROR($D$26*1000/ME15,\"\")","v":""},null,null,{"$f":"+IFERROR($D$26*1000/MH15,\"\")","v":""},null,null,{"$f":"+IFERROR($D$26*1000/MK15,\"\")","v":""},null,null,{"$f":"+IFERROR($D$26*1000/MN15,\"\")","v":""},null,null,{"$f":"+IFERROR($D$26*1000/MQ15,\"\")","v":""},null,null,{"$f":"+IFERROR($D$26*1000/MT15,\"\")","v":""},null,null,{"$f":"+IFERROR($D$26*1000/MW15,\"\")","v":""},null,null,{"$f":"+IFERROR($D$26*1000/MZ15,\"\")","v":""},null,null,{"$f":"+IFERROR($D$26*1000/NC15,\"\")","v":""},null,null,{"$f":"+IFERROR($D$26*1000/NF15,\"\")","v":""},null,null,{"$f":"+IFERROR($D$26*1000/NI15,\"\")","v":""},null,null,{"$f":"+IFERROR($D$26*1000/NL15,\"\")","v":""},null,null,{"$f":"+IFERROR($D$26*1000/NO15,\"\")","v":""},null,null,{"$f":"+IFERROR($D$26*1000/NR15,\"\")","v":""},null,null,{"$f":"+IFERROR($D$26*1000/NU15,\"\")","v":""},null,null,{"$f":"+IFERROR($D$26*1000/NX15,\"\")","v":""},null,null,{"$f":"+IFERROR($D$26*1000/OA15,\"\")","v":""},null,null,{"$f":"+IFERROR($D$26*1000/OD15,\"\")","v":""},null,null,{"$f":"+IFERROR($D$26*1000/OG15,\"\")","v":""},null,null,{"$f":"+IFERROR($D$26*1000/OJ15,\"\")","v":""},null,null,{"$f":"+IFERROR($D$26*1000/OM15,\"\")","v":""},null,null,{"$f":"+IFERROR($D$26*1000/OP15,\"\")","v":""},null,null,{"$f":"+IFERROR($D$26*1000/OS15,\"\")","v":""},null,null,{"$f":"+IFERROR($D$26*1000/OV15,\"\")","v":""},null,null,{"$f":"+IFERROR($D$26*1000/OY15,\"\")","v":""},null,null,{"$f":"+IFERROR($D$26*1000/PB15,\"\")","v":""},null,null,{"$f":"+IFERROR($D$26*1000/PE15,\"\")","v":""},null,null,{"$f":"+IFERROR($D$26*1000/PH15,\"\")","v":""},null,null,{"$f":"+IFERROR($D$26*1000/PK15,\"\")","v":""},null,null,{"$f":"+IFERROR($D$26*1000/PN15,\"\")","v":""},null,null,{"$f":"+IFERROR($D$26*1000/PQ15,\"\")","v":""},null,null,{"$f":"+IFERROR($D$26*1000/PT15,\"\")","v":""},null,null,{"$f":"+IFERROR($D$26*1000/PW15,\"\")","v":""},null,null,{"$f":"+IFERROR($D$26*1000/PZ15,\"\")","v":""},null,null,{"$f":"+IFERROR($D$26*1000/QC15,\"\")","v":""},null,null,{"$f":"+IFERROR($D$26*1000/QF15,\"\")","v":""},null,null,{"$f":"+IFERROR($D$26*1000/QI15,\"\")","v":""},null,null,{"$f":"+IFERROR($D$26*1000/QL15,\"\")","v":""},null,null,{"$f":"+IFERROR($D$26*1000/QO15,\"\")","v":""},null,null,{"$f":"+IFERROR($D$26*1000/QR15,\"\")","v":""},null,null,{"$f":"+IFERROR($D$26*1000/QU15,\"\")","v":""},null,null,{"$f":"+IFERROR($D$26*1000/QX15,\"\")","v":""},null,null,{"$f":"+IFERROR($D$26*1000/RA15,\"\")","v":""},null,null,{"$f":"+IFERROR($D$26*1000/RD15,\"\")","v":""},null,null,{"$f":"+IFERROR($D$26*1000/RG15,\"\")","v":""},null,null,{"$f":"+IFERROR($D$26*1000/RJ15,\"\")","v":""},null,null,{"$f":"+IFERROR($D$26*1000/RM15,\"\")","v":""},null,null,{"$f":"+IFERROR($D$26*1000/RP15,\"\")","v":""},null,null,{"$f":"+IFERROR($D$26*1000/RS15,\"\")","v":""},null,null,{"$f":"+IFERROR($D$26*1000/RV15,\"\")","v":""},null,null,{"$f":"+IFERROR($D$26*1000/RY15,\"\")","v":""},null,null,{"$f":"+IFERROR($D$26*1000/SB15,\"\")","v":""},null,null,{"$f":"+IFERROR($D$26*1000/SE15,\"\")","v":""},null,null,{"$f":"+IFERROR($D$26*1000/SH15,\"\")","v":""},null,null,{"$f":"+IFERROR($D$26*1000/SK15,\"\")","v":""},null,null,{"$f":"+IFERROR($D$26*1000/SN15,\"\")","v":""},null,null,{"$f":"+IFERROR($D$26*1000/SQ15,\"\")","v":""},null,null,{"$f":"+IFERROR($D$26*1000/ST15,\"\")","v":""},null,null,{"$f":"+IFERROR($D$26*1000/SW15,\"\")","v":""},null,null,{"$f":"+IFERROR($D$26*1000/SZ15,\"\")","v":""},null,null,{"$f":"+IFERROR($D$26*1000/TC15,\"\")","v":""},null,null,{"$f":"+IFERROR($D$26*1000/TF15,\"\")","v":""},null,null,{"$f":"+IFERROR($D$26*1000/TI15,\"\")","v":""},null,null,{"$f":"+IFERROR($D$26*1000/TL15,\"\")","v":""},null,null,{"$f":"+IFERROR($D$26*1000/TO15,\"\")","v":""},null,null,{"$f":"+IFERROR($D$26*1000/TR15,\"\")","v":""},null,null,{"$f":"+IFERROR($D$26*1000/TU15,\"\")","v":""},null,null,{"$f":"+IFERROR($D$26*1000/TX15,\"\")","v":""},null,null,{"$f":"+IFERROR($D$26*1000/UA15,\"\")","v":""},null,null,{"$f":"+IFERROR($D$26*1000/UD15,\"\")","v":""},null,null,{"$f":"+IFERROR($D$26*1000/UG15,\"\")","v":""},null,null,{"$f":"+IFERROR($D$26*1000/UJ15,\"\")","v":""},null,null,{"$f":"+IFERROR($D$26*1000/UM15,\"\")","v":""},null,null,{"$f":"+IFERROR($D$26*1000/UP15,\"\")","v":""},null,null,{"$f":"+IFERROR($D$26*1000/US15,\"\")","v":""},null,null,{"$f":"+IFERROR($D$26*1000/UV15,\"\")","v":""},null,null,{"$f":"+IFERROR($D$26*1000/UY15,\"\")","v":""},null,null,{"$f":"+IFERROR($D$26*1000/VB15,\"\")","v":""},null,null,{"$f":"+IFERROR($D$26*1000/VE15,\"\")","v":""},null,null,{"$f":"+IFERROR($D$26*1000/VH15,\"\")","v":""},null,null,{"$f":"+IFERROR($D$26*1000/VK15,\"\")","v":""},null,null,{"$f":"+IFERROR($D$26*1000/VN15,\"\")","v":""},null,null,{"$f":"+IFERROR($D$26*1000/VQ15,\"\")","v":""},null,null,{"$f":"+IFERROR($D$26*1000/VT15,\"\")","v":""},null,null,{"$f":"+IFERROR($D$26*1000/VW15,\"\")","v":""},null,null,{"$f":"+IFERROR($D$26*1000/VZ15,\"\")","v":""},null,null,{"$f":"+IFERROR($D$26*1000/WC15,\"\")","v":""},null,null,{"$f":"+IFERROR($D$26*1000/WF15,\"\")","v":""},null,null,{"$f":"+IFERROR($D$26*1000/WI15,\"\")","v":""},null,null,{"$f":"+IFERROR($D$26*1000/WL15,\"\")","v":""},null,null,{"$f":"+IFERROR($D$26*1000/WO15,\"\")","v":""},null,null,{"$f":"+IFERROR($D$26*1000/WR15,\"\")","v":""},null,null,{"$f":"+IFERROR($D$26*1000/WU15,\"\")","v":""},null,null,{"$f":"+IFERROR($D$26*1000/WX15,\"\")","v":""},null,null,{"$f":"+IFERROR($D$26*1000/XA15,\"\")","v":""},null,null,{"$f":"+IFERROR($D$26*1000/XD15,\"\")","v":""},null,null,{"$f":"+IFERROR($D$26*1000/XG15,\"\")","v":""},null,null,{"$f":"+IFERROR($D$26*1000/XJ15,\"\")","v":""},null,null,{"$f":"+IFERROR($D$26*1000/XM15,\"\")","v":""},null,null,{"$f":"+IFERROR($D$26*1000/XP15,\"\")","v":""},null,null,{"$f":"+IFERROR($D$26*1000/XS15,\"\")","v":""},null,null,{"$f":"+IFERROR($D$26*1000/XV15,\"\")","v":""},null,null,{"$f":"+IFERROR($D$26*1000/XY15,\"\")","v":""},null,null,{"$f":"+IFERROR($D$26*1000/YB15,\"\")","v":""},null,null,{"$f":"+IFERROR($D$26*1000/YE15,\"\")","v":""},null,null,{"$f":"+IFERROR($D$26*1000/YH15,\"\")","v":""},null,null,{"$f":"+IFERROR($D$26*1000/YK15,\"\")","v":""},null,null,{"$f":"+IFERROR($D$26*1000/YN15,\"\")","v":""},null,null,{"$f":"+IFERROR($D$26*1000/YQ15,\"\")","v":""},null,null,{"$f":"+IFERROR($D$26*1000/YT15,\"\")","v":""},null,null,{"$f":"+IFERROR($D$26*1000/YW15,\"\")","v":""},null,null,{"$f":"+IFERROR($D$26*1000/YZ15,\"\")","v":""},null,null,{"$f":"+IFERROR($D$26*1000/ZC15,\"\")","v":""},null,null,{"$f":"+IFERROR($D$26*1000/ZF15,\"\")","v":""},null,null,{"$f":"+IFERROR($D$26*1000/ZI15,\"\")","v":""},null,null,{"$f":"+IFERROR($D$26*1000/ZL15,\"\")","v":""},null,null,{"$f":"+IFERROR($D$26*1000/ZO15,\"\")","v":""},null,null,{"$f":"+IFERROR($D$26*1000/ZR15,\"\")","v":""},null,null,{"$f":"+IFERROR($D$26*1000/ZU15,\"\")","v":""},null,null,{"$f":"+IFERROR($D$26*1000/ZX15,\"\")","v":""},null,null,{"$f":"+IFERROR($D$26*1000/AAA15,\"\")","v":""},null,null,{"$f":"+IFERROR($D$26*1000/AAD15,\"\")","v":""},null,null,{"$f":"+IFERROR($D$26*1000/AAG15,\"\")","v":""},null,null,{"$f":"+IFERROR($D$26*1000/AAJ15,\"\")","v":""},null,null,{"$f":"+IFERROR($D$26*1000/AAM15,\"\")","v":""},null,null,{"$f":"+IFERROR($D$26*1000/AAP15,\"\")","v":""},null,null,{"$f":"+IFERROR($D$26*1000/AAS15,\"\")","v":""},null,null,{"$f":"+IFERROR($D$26*1000/AAV15,\"\")","v":""},null,null,{"$f":"+IFERROR($D$26*1000/AAY15,\"\")","v":""},null,null,{"$f":"+IFERROR($D$26*1000/ABB15,\"\")","v":""},null,null,{"$f":"+IFERROR($D$26*1000/ABE15,\"\")","v":""},null,null,{"$f":"+IFERROR($D$26*1000/ABH15,\"\")","v":""},null,null,{"$f":"+IFERROR($D$26*1000/ABK15,\"\")","v":""},null,null,{"$f":"+IFERROR($D$26*1000/ABN15,\"\")","v":""},null,null,{"$f":"+IFERROR($D$26*1000/ABQ15,\"\")","v":""},null,null,{"$f":"+IFERROR($D$26*1000/ABT15,\"\")","v":""},null,null,{"$f":"+IFERROR($D$26*1000/ABW15,\"\")","v":""},null,null,{"$f":"+IFERROR($D$26*1000/ABZ15,\"\")","v":""},null,null,{"$f":"+IFERROR($D$26*1000/ACC15,\"\")","v":""},null,null,{"$f":"+IFERROR($D$26*1000/ACF15,\"\")","v":""},null,null,{"$f":"+IFERROR($D$26*1000/ACI15,\"\")","v":""},null,null,{"$f":"+IFERROR($D$26*1000/ACL15,\"\")","v":""},null,null,{"$f":"+IFERROR($D$26*1000/ACO15,\"\")","v":""},null,null,{"$f":"+IFERROR($D$26*1000/ACR15,\"\")","v":""},null,null,{"$f":"+IFERROR($D$26*1000/ACU15,\"\")","v":""},null,null,{"$f":"+IFERROR($D$26*1000/ACX15,\"\")","v":""},null,null,{"$f":"+IFERROR($D$26*1000/ADA15,\"\")","v":""},null,null,{"$f":"+IFERROR($D$26*1000/ADD15,\"\")","v":""},null,null,{"$f":"+IFERROR($D$26*1000/ADG15,\"\")","v":""},null,null,{"$f":"+IFERROR($D$26*1000/ADJ15,\"\")","v":""},null,null,{"$f":"+IFERROR($D$26*1000/ADM15,\"\")","v":""},null,null,{"$f":"+IFERROR($D$26*1000/ADP15,\"\")","v":""},null,null,{"$f":"+IFERROR($D$26*1000/ADS15,\"\")","v":""},null,null,{"$f":"+IFERROR($D$26*1000/ADV15,\"\")","v":""},null,null,{"$f":"+IFERROR($D$26*1000/ADY15,\"\")","v":""},null,null,{"$f":"+IFERROR($D$26*1000/AEB15,\"\")","v":""},null,null,{"$f":"+IFERROR($D$26*1000/AEE15,\"\")","v":""},null,null,{"$f":"+IFERROR($D$26*1000/AEH15,\"\")","v":""},null,null,{"$f":"+IFERROR($D$26*1000/AEK15,\"\")","v":""},null,null,{"$f":"+IFERROR($D$26*1000/AEN15,\"\")","v":""},null,null,{"$f":"+IFERROR($D$26*1000/AEQ15,\"\")","v":""},null,null,{"$f":"+IFERROR($D$26*1000/AET15,\"\")","v":""},null,null,{"$f":"+IFERROR($D$26*1000/AEW15,\"\")","v":""},null,null,{"$f":"+IFERROR($D$26*1000/AEZ15,\"\")","v":""},null,null,{"$f":"+IFERROR($D$26*1000/AFC15,\"\")","v":""},null,null,{"$f":"+IFERROR($D$26*1000/AFF15,\"\")","v":""},null,null,{"$f":"+IFERROR($D$26*1000/AFI15,\"\")","v":""},null,null,{"$f":"+IFERROR($D$26*1000/AFL15,\"\")","v":""},null,null,{"$f":"+IFERROR($D$26*1000/AFO15,\"\")","v":""},null,null,{"$f":"+IFERROR($D$26*1000/AFR15,\"\")","v":""},null,null,{"$f":"+IFERROR($D$26*1000/AFU15,\"\")","v":""},null,null,{"$f":"+IFERROR($D$26*1000/AFX15,\"\")","v":""},null,null,{"$f":"+IFERROR($D$26*1000/AGA15,\"\")","v":""},null,null,{"$f":"+IFERROR($D$26*1000/AGD15,\"\")","v":""},null,null,{"$f":"+IFERROR($D$26*1000/AGG15,\"\")","v":""},null,null,{"$f":"+IFERROR($D$26*1000/AGJ15,\"\")","v":""},null,null,{"$f":"+IFERROR($D$26*1000/AGM15,\"\")","v":""},null,null,{"$f":"+IFERROR($D$26*1000/AGP15,\"\")","v":""},null,null,{"$f":"+IFERROR($D$26*1000/AGS15,\"\")","v":""},null,null,{"$f":"+IFERROR($D$26*1000/AGV15,\"\")","v":""},null,null,{"$f":"+IFERROR($D$26*1000/AGY15,\"\")","v":""},null,null,{"$f":"+IFERROR($D$26*1000/AHB15,\"\")","v":""},null,null,{"$f":"+IFERROR($D$26*1000/AHE15,\"\")","v":""},null,null,{"$f":"+IFERROR($D$26*1000/AHH15,\"\")","v":""},null,null,{"$f":"+IFERROR($D$26*1000/AHK15,\"\")","v":""},null,null,{"$f":"+IFERROR($D$26*1000/AHN15,\"\")","v":""},null,null,{"$f":"+IFERROR($D$26*1000/AHQ15,\"\")","v":""},null,null,{"$f":"+IFERROR($D$26*1000/AHT15,\"\")","v":""}]
[null,"Emissions per staffed bed (kg CO2e/occupied bed)",null,{"$f":"+IFERROR($D$26*1000/D17,\"\")","v":""},null,null,{"$f":"+IFERROR($D$26*1000/G17,\"\")","v":""},null,null,{"$f":"+IFERROR($D$26*1000/J17,\"\")","v":""},null,null,{"$f":"+IFERROR($D$26*1000/M17,\"\")","v":""},null,null,{"$f":"+IFERROR($D$26*1000/P17,\"\")","v":""},null,null,{"$f":"+IFERROR($D$26*1000/S17,\"\")","v":""},null,null,{"$f":"+IFERROR($D$26*1000/V17,\"\")","v":""},null,null,{"$f":"+IFERROR($D$26*1000/Y17,\"\")","v":""},null,null,{"$f":"+IFERROR($D$26*1000/AB17,\"\")","v":""},null,null,{"$f":"+IFERROR($D$26*1000/AE17,\"\")","v":""},null,null,{"$f":"+IFERROR($D$26*1000/AH17,\"\")","v":""},null,null,{"$f":"+IFERROR($D$26*1000/AK17,\"\")","v":""},null,null,{"$f":"+IFERROR($D$26*1000/AN17,\"\")","v":""},null,null,{"$f":"+IFERROR($D$26*1000/AQ17,\"\")","v":""},null,null,{"$f":"+IFERROR($D$26*1000/AT17,\"\")","v":""},null,null,{"$f":"+IFERROR($D$26*1000/AW17,\"\")","v":""},null,null,{"$f":"+IFERROR($D$26*1000/AZ17,\"\")","v":""},null,null,{"$f":"+IFERROR($D$26*1000/BC17,\"\")","v":""},null,null,{"$f":"+IFERROR($D$26*1000/BF17,\"\")","v":""},null,null,{"$f":"+IFERROR($D$26*1000/BI17,\"\")","v":""},null,null,{"$f":"+IFERROR($D$26*1000/BL17,\"\")","v":""},null,null,{"$f":"+IFERROR($D$26*1000/BO17,\"\")","v":""},null,null,{"$f":"+IFERROR($D$26*1000/BR17,\"\")","v":""},null,null,{"$f":"+IFERROR($D$26*1000/BU17,\"\")","v":""},null,null,{"$f":"+IFERROR($D$26*1000/BX17,\"\")","v":""},null,null,{"$f":"+IFERROR($D$26*1000/CA17,\"\")","v":""},null,null,{"$f":"+IFERROR($D$26*1000/CD17,\"\")","v":""},null,null,{"$f":"+IFERROR($D$26*1000/CG17,\"\")","v":""},null,null,{"$f":"+IFERROR($D$26*1000/CJ17,\"\")","v":""},null,null,{"$f":"+IFERROR($D$26*1000/CM17,\"\")","v":""},null,null,{"$f":"+IFERROR($D$26*1000/CP17,\"\")","v":""},null,null,{"$f":"+IFERROR($D$26*1000/CS17,\"\")","v":""},null,null,{"$f":"+IFERROR($D$26*1000/CV17,\"\")","v":""},null,null,{"$f":"+IFERROR($D$26*1000/CY17,\"\")","v":""},null,null,{"$f":"+IFERROR($D$26*1000/DB17,\"\")","v":""},null,null,{"$f":"+IFERROR($D$26*1000/DE17,\"\")","v":""},null,null,{"$f":"+IFERROR($D$26*1000/DH17,\"\")","v":""},null,null,{"$f":"+IFERROR($D$26*1000/DK17,\"\")","v":""},null,null,{"$f":"+IFERROR($D$26*1000/DN17,\"\")","v":""},null,null,{"$f":"+IFERROR($D$26*1000/DQ17,\"\")","v":""},null,null,{"$f":"+IFERROR($D$26*1000/DT17,\"\")","v":""},null,null,{"$f":"+IFERROR($D$26*1000/DW17,\"\")","v":""},null,null,{"$f":"+IFERROR($D$26*1000/DZ17,\"\")","v":""},null,null,{"$f":"+IFERROR($D$26*1000/EC17,\"\")","v":""},null,null,{"$f":"+IFERROR($D$26*1000/EF17,\"\")","v":""},null,null,{"$f":"+IFERROR($D$26*1000/EI17,\"\")","v":""},null,null,{"$f":"+$G$26*1000/EL17","v":{"$error":"#DIV/0!"}},null,null,{"$f":"+IFERROR($D$26*1000/EO17,\"\")","v":""},null,null,{"$f":"+IFERROR($D$26*1000/ER17,\"\")","v":""},null,null,{"$f":"+IFERROR($D$26*1000/EU17,\"\")","v":""},null,null,{"$f":"+IFERROR($D$26*1000/EX17,\"\")","v":""},null,null,{"$f":"+IFERROR($D$26*1000/FA17,\"\")","v":""},null,null,{"$f":"+IFERROR($D$26*1000/FD17,\"\")","v":""},null,null,{"$f":"+IFERROR($D$26*1000/FG17,\"\")","v":""},null,null,{"$f":"+IFERROR($D$26*1000/FJ17,\"\")","v":""},null,null,{"$f":"+IFERROR($D$26*1000/FM17,\"\")","v":""},null,null,{"$f":"+IFERROR($D$26*1000/FP17,\"\")","v":""},null,null,{"$f":"+IFERROR($D$26*1000/FS17,\"\")","v":""},null,null,{"$f":"+IFERROR($D$26*1000/FV17,\"\")","v":""},null,null,{"$f":"+IFERROR($D$26*1000/FY17,\"\")","v":""},null,null,{"$f":"+IFERROR($D$26*1000/GB17,\"\")","v":""},null,null,{"$f":"+IFERROR($D$26*1000/GE17,\"\")","v":""},null,null,{"$f":"+IFERROR($D$26*1000/GH17,\"\")","v":""},null,null,{"$f":"+IFERROR($D$26*1000/GK17,\"\")","v":""},null,null,{"$f":"+IFERROR($D$26*1000/GN17,\"\")","v":""},null,null,{"$f":"+IFERROR($D$26*1000/GQ17,\"\")","v":""},null,null,{"$f":"+IFERROR($D$26*1000/GT17,\"\")","v":""},null,null,{"$f":"+IFERROR($D$26*1000/GW17,\"\")","v":""},null,null,{"$f":"+IFERROR($D$26*1000/GZ17,\"\")","v":""},null,null,{"$f":"+IFERROR($D$26*1000/HC17,\"\")","v":""},null,null,{"$f":"+IFERROR($D$26*1000/HF17,\"\")","v":""},null,null,{"$f":"+IFERROR($D$26*1000/HI17,\"\")","v":""},null,null,{"$f":"+IFERROR($D$26*1000/HL17,\"\")","v":""},null,null,{"$f":"+IFERROR($D$26*1000/HO17,\"\")","v":""},null,null,{"$f":"+IFERROR($D$26*1000/HR17,\"\")","v":""},null,null,{"$f":"+IFERROR($D$26*1000/HU17,\"\")","v":""},null,null,{"$f":"+IFERROR($D$26*1000/HX17,\"\")","v":""},null,null,{"$f":"+IFERROR($D$26*1000/IA17,\"\")","v":""},null,null,{"$f":"+IFERROR($D$26*1000/ID17,\"\")","v":""},null,null,{"$f":"+IFERROR($D$26*1000/IG17,\"\")","v":""},null,null,{"$f":"+IFERROR($D$26*1000/IJ17,\"\")","v":""},null,null,{"$f":"+IFERROR($D$26*1000/IM17,\"\")","v":""},null,null,{"$f":"+IFERROR($D$26*1000/IP17,\"\")","v":""},null,null,{"$f":"+IFERROR($D$26*1000/IS17,\"\")","v":""},null,null,{"$f":"+IFERROR($D$26*1000/IV17,\"\")","v":""},null,null,{"$f":"+IFERROR($D$26*1000/IY17,\"\")","v":""},null,null,{"$f":"+IFERROR($D$26*1000/JB17,\"\")","v":""},null,null,{"$f":"+IFERROR($D$26*1000/JE17,\"\")","v":""},null,null,{"$f":"+IFERROR($D$26*1000/JH17,\"\")","v":""},null,null,{"$f":"+IFERROR($D$26*1000/JK17,\"\")","v":""},null,null,{"$f":"+IFERROR($D$26*1000/JN17,\"\")","v":""},null,null,{"$f":"+IFERROR($D$26*1000/JQ17,\"\")","v":""},null,null,{"$f":"+IFERROR($D$26*1000/JT17,\"\")","v":""},null,null,{"$f":"+IFERROR($D$26*1000/JW17,\"\")","v":""},null,null,{"$f":"+IFERROR($D$26*1000/JZ17,\"\")","v":""},null,null,{"$f":"+IFERROR($D$26*1000/KC17,\"\")","v":""},null,null,{"$f":"+IFERROR($D$26*1000/KF17,\"\")","v":""},null,null,{"$f":"+IFERROR($D$26*1000/KI17,\"\")","v":""},null,null,{"$f":"+IFERROR($D$26*1000/KL17,\"\")","v":""},null,null,{"$f":"+IFERROR($D$26*1000/KO17,\"\")","v":""},null,null,{"$f":"+IFERROR($D$26*1000/KR17,\"\")","v":""},null,null,{"$f":"+IFERROR($D$26*1000/KU17,\"\")","v":""},null,null,{"$f":"+IFERROR($D$26*1000/KX17,\"\")","v":""},null,null,{"$f":"+IFERROR($D$26*1000/LA17,\"\")","v":""},null,null,{"$f":"+IFERROR($D$26*1000/LD17,\"\")","v":""},null,null,{"$f":"+IFERROR($D$26*1000/LG17,\"\")","v":""},null,null,{"$f":"+IFERROR($D$26*1000/LJ17,\"\")","v":""},null,null,{"$f":"+IFERROR($D$26*1000/LM17,\"\")","v":""},null,null,{"$f":"+IFERROR($D$26*1000/LP17,\"\")","v":""},null,null,{"$f":"+IFERROR($D$26*1000/LS17,\"\")","v":""},null,null,{"$f":"+IFERROR($D$26*1000/LV17,\"\")","v":""},null,null,{"$f":"+IFERROR($D$26*1000/LY17,\"\")","v":""},null,null,{"$f":"+IFERROR($D$26*1000/MB17,\"\")","v":""},null,null,{"$f":"+IFERROR($D$26*1000/ME17,\"\")","v":""},null,null,{"$f":"+IFERROR($D$26*1000/MH17,\"\")","v":""},null,null,{"$f":"+IFERROR($D$26*1000/MK17,\"\")","v":""},null,null,{"$f":"+IFERROR($D$26*1000/MN17,\"\")","v":""},null,null,{"$f":"+IFERROR($D$26*1000/MQ17,\"\")","v":""},null,null,{"$f":"+IFERROR($D$26*1000/MT17,\"\")","v":""},null,null,{"$f":"+IFERROR($D$26*1000/MW17,\"\")","v":""},null,null,{"$f":"+IFERROR($D$26*1000/MZ17,\"\")","v":""},null,null,{"$f":"+IFERROR($D$26*1000/NC17,\"\")","v":""},null,null,{"$f":"+IFERROR($D$26*1000/NF17,\"\")","v":""},null,null,{"$f":"+IFERROR($D$26*1000/NI17,\"\")","v":""},null,null,{"$f":"+IFERROR($D$26*1000/NL17,\"\")","v":""},null,null,{"$f":"+IFERROR($D$26*1000/NO17,\"\")","v":""},null,null,{"$f":"+IFERROR($D$26*1000/NR17,\"\")","v":""},null,null,{"$f":"+IFERROR($D$26*1000/NU17,\"\")","v":""},null,null,{"$f":"+IFERROR($D$26*1000/NX17,\"\")","v":""},null,null,{"$f":"+IFERROR($D$26*1000/OA17,\"\")","v":""},null,null,{"$f":"+IFERROR($D$26*1000/OD17,\"\")","v":""},null,null,{"$f":"+IFERROR($D$26*1000/OG17,\"\")","v":""},null,null,{"$f":"+IFERROR($D$26*1000/OJ17,\"\")","v":""},null,null,{"$f":"+IFERROR($D$26*1000/OM17,\"\")","v":""},null,null,{"$f":"+IFERROR($D$26*1000/OP17,\"\")","v":""},null,null,{"$f":"+IFERROR($D$26*1000/OS17,\"\")","v":""},null,null,{"$f":"+IFERROR($D$26*1000/OV17,\"\")","v":""},null,null,{"$f":"+IFERROR($D$26*1000/OY17,\"\")","v":""},null,null,{"$f":"+IFERROR($D$26*1000/PB17,\"\")","v":""},null,null,{"$f":"+IFERROR($D$26*1000/PE17,\"\")","v":""},null,null,{"$f":"+IFERROR($D$26*1000/PH17,\"\")","v":""},null,null,{"$f":"+IFERROR($D$26*1000/PK17,\"\")","v":""},null,null,{"$f":"+IFERROR($D$26*1000/PN17,\"\")","v":""},null,null,{"$f":"+IFERROR($D$26*1000/PQ17,\"\")","v":""},null,null,{"$f":"+IFERROR($D$26*1000/PT17,\"\")","v":""},null,null,{"$f":"+IFERROR($D$26*1000/PW17,\"\")","v":""},null,null,{"$f":"+IFERROR($D$26*1000/PZ17,\"\")","v":""},null,null,{"$f":"+IFERROR($D$26*1000/QC17,\"\")","v":""},null,null,{"$f":"+IFERROR($D$26*1000/QF17,\"\")","v":""},null,null,{"$f":"+IFERROR($D$26*1000/QI17,\"\")","v":""},null,null,{"$f":"+IFERROR($D$26*1000/QL17,\"\")","v":""},null,null,{"$f":"+IFERROR($D$26*1000/QO17,\"\")","v":""},null,null,{"$f":"+IFERROR($D$26*1000/QR17,\"\")","v":""},null,null,{"$f":"+IFERROR($D$26*1000/QU17,\"\")","v":""},null,null,{"$f":"+IFERROR($D$26*1000/QX17,\"\")","v":""},null,null,{"$f":"+IFERROR($D$26*1000/RA17,\"\")","v":""},null,null,{"$f":"+IFERROR($D$26*1000/RD17,\"\")","v":""},null,null,{"$f":"+IFERROR($D$26*1000/RG17,\"\")","v":""},null,null,{"$f":"+IFERROR($D$26*1000/RJ17,\"\")","v":""},null,null,{"$f":"+IFERROR($D$26*1000/RM17,\"\")","v":""},null,null,{"$f":"+IFERROR($D$26*1000/RP17,\"\")","v":""},null,null,{"$f":"+IFERROR($D$26*1000/RS17,\"\")","v":""},null,null,{"$f":"+IFERROR($D$26*1000/RV17,\"\")","v":""},null,null,{"$f":"+IFERROR($D$26*1000/RY17,\"\")","v":""},null,null,{"$f":"+IFERROR($D$26*1000/SB17,\"\")","v":""},null,null,{"$f":"+IFERROR($D$26*1000/SE17,\"\")","v":""},null,null,{"$f":"+IFERROR($D$26*1000/SH17,\"\")","v":""},null,null,{"$f":"+IFERROR($D$26*1000/SK17,\"\")","v":""},null,null,{"$f":"+IFERROR($D$26*1000/SN17,\"\")","v":""},null,null,{"$f":"+IFERROR($D$26*1000/SQ17,\"\")","v":""},null,null,{"$f":"+IFERROR($D$26*1000/ST17,\"\")","v":""},null,null,{"$f":"+IFERROR($D$26*1000/SW17,\"\")","v":""},null,null,{"$f":"+IFERROR($D$26*1000/SZ17,\"\")","v":""},null,null,{"$f":"+IFERROR($D$26*1000/TC17,\"\")","v":""},null,null,{"$f":"+IFERROR($D$26*1000/TF17,\"\")","v":""},null,null,{"$f":"+IFERROR($D$26*1000/TI17,\"\")","v":""},null,null,{"$f":"+IFERROR($D$26*1000/TL17,\"\")","v":""},null,null,{"$f":"+IFERROR($D$26*1000/TO17,\"\")","v":""},null,null,{"$f":"+IFERROR($D$26*1000/TR17,\"\")","v":""},null,null,{"$f":"+IFERROR($D$26*1000/TU17,\"\")","v":""},null,null,{"$f":"+IFERROR($D$26*1000/TX17,\"\")","v":""},null,null,{"$f":"+IFERROR($D$26*1000/UA17,\"\")","v":""},null,null,{"$f":"+IFERROR($D$26*1000/UD17,\"\")","v":""},null,null,{"$f":"+IFERROR($D$26*1000/UG17,\"\")","v":""},null,null,{"$f":"+IFERROR($D$26*1000/UJ17,\"\")","v":""},null,null,{"$f":"+IFERROR($D$26*1000/UM17,\"\")","v":""},null,null,{"$f":"+IFERROR($D$26*1000/UP17,\"\")","v":""},null,null,{"$f":"+IFERROR($D$26*1000/US17,\"\")","v":""},null,null,{"$f":"+IFERROR($D$26*1000/UV17,\"\")","v":""},null,null,{"$f":"+IFERROR($D$26*1000/UY17,\"\")","v":""},null,null,{"$f":"+IFERROR($D$26*1000/VB17,\"\")","v":""},null,null,{"$f":"+IFERROR($D$26*1000/VE17,\"\")","v":""},null,null,{"$f":"+IFERROR($D$26*1000/VH17,\"\")","v":""},null,null,{"$f":"+IFERROR($D$26*1000/VK17,\"\")","v":""},null,null,{"$f":"+IFERROR($D$26*1000/VN17,\"\")","v":""},null,null,{"$f":"+IFERROR($D$26*1000/VQ17,\"\")","v":""},null,null,{"$f":"+IFERROR($D$26*1000/VT17,\"\")","v":""},null,null,{"$f":"+IFERROR($D$26*1000/VW17,\"\")","v":""},null,null,{"$f":"+IFERROR($D$26*1000/VZ17,\"\")","v":""},null,null,{"$f":"+IFERROR($D$26*1000/WC17,\"\")","v":""},null,null,{"$f":"+IFERROR($D$26*1000/WF17,\"\")","v":""},null,null,{"$f":"+IFERROR($D$26*1000/WI17,\"\")","v":""},null,null,{"$f":"+IFERROR($D$26*1000/WL17,\"\")","v":""},null,null,{"$f":"+IFERROR($D$26*1000/WO17,\"\")","v":""},null,null,{"$f":"+IFERROR($D$26*1000/WR17,\"\")","v":""},null,null,{"$f":"+IFERROR($D$26*1000/WU17,\"\")","v":""},null,null,{"$f":"+IFERROR($D$26*1000/WX17,\"\")","v":""},null,null,{"$f":"+IFERROR($D$26*1000/XA17,\"\")","v":""},null,null,{"$f":"+IFERROR($D$26*1000/XD17,\"\")","v":""},null,null,{"$f":"+IFERROR($D$26*1000/XG17,\"\")","v":""},null,null,{"$f":"+IFERROR($D$26*1000/XJ17,\"\")","v":""},null,null,{"$f":"+IFERROR($D$26*1000/XM17,\"\")","v":""},null,null,{"$f":"+IFERROR($D$26*1000/XP17,\"\")","v":""},null,null,{"$f":"+IFERROR($D$26*1000/XS17,\"\")","v":""},null,null,{"$f":"+IFERROR($D$26*1000/XV17,\"\")","v":""},null,null,{"$f":"+IFERROR($D$26*1000/XY17,\"\")","v":""},null,null,{"$f":"+IFERROR($D$26*1000/YB17,\"\")","v":""},null,null,{"$f":"+IFERROR($D$26*1000/YE17,\"\")","v":""},null,null,{"$f":"+IFERROR($D$26*1000/YH17,\"\")","v":""},null,null,{"$f":"+IFERROR($D$26*1000/YK17,\"\")","v":""},null,null,{"$f":"+IFERROR($D$26*1000/YN17,\"\")","v":""},null,null,{"$f":"+IFERROR($D$26*1000/YQ17,\"\")","v":""},null,null,{"$f":"+IFERROR($D$26*1000/YT17,\"\")","v":""},null,null,{"$f":"+IFERROR($D$26*1000/YW17,\"\")","v":""},null,null,{"$f":"+IFERROR($D$26*1000/YZ17,\"\")","v":""},null,null,{"$f":"+IFERROR($D$26*1000/ZC17,\"\")","v":""},null,null,{"$f":"+IFERROR($D$26*1000/ZF17,\"\")","v":""},null,null,{"$f":"+IFERROR($D$26*1000/ZI17,\"\")","v":""},null,null,{"$f":"+IFERROR($D$26*1000/ZL17,\"\")","v":""},null,null,{"$f":"+IFERROR($D$26*1000/ZO17,\"\")","v":""},null,null,{"$f":"+IFERROR($D$26*1000/ZR17,\"\")","v":""},null,null,{"$f":"+IFERROR($D$26*1000/ZU17,\"\")","v":""},null,null,{"$f":"+IFERROR($D$26*1000/ZX17,\"\")","v":""},null,null,{"$f":"+IFERROR($D$26*1000/AAA17,\"\")","v":""},null,null,{"$f":"+IFERROR($D$26*1000/AAD17,\"\")","v":""},null,null,{"$f":"+IFERROR($D$26*1000/AAG17,\"\")","v":""},null,null,{"$f":"+IFERROR($D$26*1000/AAJ17,\"\")","v":""},null,null,{"$f":"+IFERROR($D$26*1000/AAM17,\"\")","v":""},null,null,{"$f":"+IFERROR($D$26*1000/AAP17,\"\")","v":""},null,null,{"$f":"+IFERROR($D$26*1000/AAS17,\"\")","v":""},null,null,{"$f":"+IFERROR($D$26*1000/AAV17,\"\")","v":""},null,null,{"$f":"+IFERROR($D$26*1000/AAY17,\"\")","v":""},null,null,{"$f":"+IFERROR($D$26*1000/ABB17,\"\")","v":""},null,null,{"$f":"+IFERROR($D$26*1000/ABE17,\"\")","v":""},null,null,{"$f":"+IFERROR($D$26*1000/ABH17,\"\")","v":""},null,null,{"$f":"+IFERROR($D$26*1000/ABK17,\"\")","v":""},null,null,{"$f":"+IFERROR($D$26*1000/ABN17,\"\")","v":""},null,null,{"$f":"+IFERROR($D$26*1000/ABQ17,\"\")","v":""},null,null,{"$f":"+IFERROR($D$26*1000/ABT17,\"\")","v":""},null,null,{"$f":"+IFERROR($D$26*1000/ABW17,\"\")","v":""},null,null,{"$f":"+IFERROR($D$26*1000/ABZ17,\"\")","v":""},null,null,{"$f":"+IFERROR($D$26*1000/ACC17,\"\")","v":""},null,null,{"$f":"+IFERROR($D$26*1000/ACF17,\"\")","v":""},null,null,{"$f":"+IFERROR($D$26*1000/ACI17,\"\")","v":""},null,null,{"$f":"+IFERROR($D$26*1000/ACL17,\"\")","v":""},null,null,{"$f":"+IFERROR($D$26*1000/ACO17,\"\")","v":""},null,null,{"$f":"+IFERROR($D$26*1000/ACR17,\"\")","v":""},null,null,{"$f":"+IFERROR($D$26*1000/ACU17,\"\")","v":""},null,null,{"$f":"+IFERROR($D$26*1000/ACX17,\"\")","v":""},null,null,{"$f":"+IFERROR($D$26*1000/ADA17,\"\")","v":""},null,null,{"$f":"+IFERROR($D$26*1000/ADD17,\"\")","v":""},null,null,{"$f":"+IFERROR($D$26*1000/ADG17,\"\")","v":""},null,null,{"$f":"+IFERROR($D$26*1000/ADJ17,\"\")","v":""},null,null,{"$f":"+IFERROR($D$26*1000/ADM17,\"\")","v":""},null,null,{"$f":"+IFERROR($D$26*1000/ADP17,\"\")","v":""},null,null,{"$f":"+IFERROR($D$26*1000/ADS17,\"\")","v":""},null,null,{"$f":"+IFERROR($D$26*1000/ADV17,\"\")","v":""},null,null,{"$f":"+IFERROR($D$26*1000/ADY17,\"\")","v":""},null,null,{"$f":"+IFERROR($D$26*1000/AEB17,\"\")","v":""},null,null,{"$f":"+IFERROR($D$26*1000/AEE17,\"\")","v":""},null,null,{"$f":"+IFERROR($D$26*1000/AEH17,\"\")","v":""},null,null,{"$f":"+IFERROR($D$26*1000/AEK17,\"\")","v":""},null,null,{"$f":"+IFERROR($D$26*1000/AEN17,\"\")","v":""},null,null,{"$f":"+IFERROR($D$26*1000/AEQ17,\"\")","v":""},null,null,{"$f":"+IFERROR($D$26*1000/AET17,\"\")","v":""},null,null,{"$f":"+IFERROR($D$26*1000/AEW17,\"\")","v":""},null,null,{"$f":"+IFERROR($D$26*1000/AEZ17,\"\")","v":""},null,null,{"$f":"+IFERROR($D$26*1000/AFC17,\"\")","v":""},null,null,{"$f":"+IFERROR($D$26*1000/AFF17,\"\")","v":""},null,null,{"$f":"+IFERROR($D$26*1000/AFI17,\"\")","v":""},null,null,{"$f":"+IFERROR($D$26*1000/AFL17,\"\")","v":""},null,null,{"$f":"+IFERROR($D$26*1000/AFO17,\"\")","v":""},null,null,{"$f":"+IFERROR($D$26*1000/AFR17,\"\")","v":""},null,null,{"$f":"+IFERROR($D$26*1000/AFU17,\"\")","v":""},null,null,{"$f":"+IFERROR($D$26*1000/AFX17,\"\")","v":""},null,null,{"$f":"+IFERROR($D$26*1000/AGA17,\"\")","v":""},null,null,{"$f":"+IFERROR($D$26*1000/AGD17,\"\")","v":""},null,null,{"$f":"+IFERROR($D$26*1000/AGG17,\"\")","v":""},null,null,{"$f":"+IFERROR($D$26*1000/AGJ17,\"\")","v":""},null,null,{"$f":"+IFERROR($D$26*1000/AGM17,\"\")","v":""},null,null,{"$f":"+IFERROR($D$26*1000/AGP17,\"\")","v":""},null,null,{"$f":"+IFERROR($D$26*1000/AGS17,\"\")","v":""},null,null,{"$f":"+IFERROR($D$26*1000/AGV17,\"\")","v":""},null,null,{"$f":"+IFERROR($D$26*1000/AGY17,\"\")","v":""},null,null,{"$f":"+IFERROR($D$26*1000/AHB17,\"\")","v":""},null,null,{"$f":"+IFERROR($D$26*1000/AHE17,\"\")","v":""},null,null,{"$f":"+IFERROR($D$26*1000/AHH17,\"\")","v":""},null,null,{"$f":"+IFERROR($D$26*1000/AHK17,\"\")","v":""},null,null,{"$f":"+IFERROR($D$26*1000/AHN17,\"\")","v":""},null,null,{"$f":"+IFERROR($D$26*1000/AHQ17,\"\")","v":""},null,null,{"$f":"+IFERROR($D$26*1000/AHT17,\"\")","v":""}]
[]
[null,null,null,"MTCO2e","%",null,"MTCO2e","%",null,"MTCO2e","%",null,"MTCO2e","%",null,"MTCO2e","%",null,"MTCO2e","%",null,"MTCO2e","%",null,"MTCO2e","%",null,"MTCO2e","%",null,"MTCO2e","%",null,"MTCO2e","%",null,"MTCO2e","%",null,"MTCO2e","%",null,"MTCO2e","%",null,"MTCO2e","%",null,"MTCO2e","%",null,"MTCO2e","%",null,"MTCO2e","%",null,"MTCO2e","%",null,"MTCO2e","%",null,"MTCO2e","%",null,"MTCO2e","%",null,"MTCO2e","%",null,"MTCO2e","%",null,"MTCO2e","%",null,"MTCO2e","%",null,"MTCO2e","%",null,"MTCO2e","%",null,"MTCO2e","%",null,"MTCO2e","%",null,"MTCO2e","%",null,"MTCO2e","%",null,"MTCO2e","%",null,"MTCO2e","%",null,"MTCO2e","%",null,"MTCO2e","%",null,"MTCO2e","%",null,"MTCO2e","%",null,"MTCO2e","%",null,"MTCO2e","%",null,"MTCO2e","%",null,"MTCO2e","%",null,"MTCO2e","%",null,"MTCO2e","%",null,"MTCO2e","%",null,"MTCO2e","%",null,"MTCO2e","%",null,"MTCO2e","%",null,"MTCO2e","%",null,"MTCO2e","%",null,"MTCO2e","%",null,"MTCO2e","%",null,"MTCO2e","%",null,"MTCO2e","%",null,"MTCO2e","%",null,"MTCO2e","%",null,"MTCO2e","%",null,"MTCO2e","%",null,"MTCO2e","%",null,"MTCO2e","%",null,"MTCO2e","%",null,"MTCO2e","%",null,"MTCO2e","%",null,"MTCO2e","%",null,"MTCO2e","%",null,"MTCO2e","%",null,"MTCO2e","%",null,"MTCO2e","%",null,"MTCO2e","%",null,"MTCO2e","%",null,"MTCO2e","%",null,"MTCO2e","%",null,"MTCO2e","%",null,"MTCO2e","%",null,"MTCO2e","%",null,"MTCO2e","%",null,"MTCO2e","%",null,"MTCO2e","%",null,"MTCO2e","%",null,"MTCO2e","%",null,"MTCO2e","%",null,"MTCO2e","%",null,"MTCO2e","%",null,"MTCO2e","%",null,"MTCO2e","%",null,"MTCO2e","%",null,"MTCO2e","%",null,"MTCO2e","%",null,"MTCO2e","%",null,"MTCO2e","%",null,"MTCO2e","%",null,"MTCO2e","%",null,"MTCO2e","%",null,"MTCO2e","%",null,"MTCO2e","%",null,"MTCO2e","%",null,"MTCO2e","%",null,"MTCO2e","%",null,"MTCO2e","%",null,"MTCO2e","%",null,"MTCO2e","%",null,"MTCO2e","%",null,"MTCO2e","%",null,"MTCO2e","%",null,"MTCO2e","%",null,"MTCO2e","%",null,"MTCO2e","%",null,"MTCO2e","%",null,"MTCO2e","%",null,"MTCO2e","%",null,"MTCO2e","%",null,"MTCO2e","%",null,"MTCO2e","%",null,"MTCO2e","%",null,"MTCO2e","%",null,"MTCO2e","%",null,"MTCO2e","%",null,"MTCO2e","%",null,"MTCO2e","%",null,"MTCO2e","%",null,"MTCO2e","%",null,"MTCO2e","%",null,"MTCO2e","%",null,"MTCO2e","%",null,"MTCO2e","%",null,"MTCO2e","%",null,"MTCO2e","%",null,"MTCO2e","%",null,"MTCO2e","%",null,"MTCO2e","%",null,"MTCO2e","%",null,"MTCO2e","%",null,"MTCO2e","%",null,"MTCO2e","%",null,"MTCO2e","%",null,"MTCO2e","%",null,"MTCO2e","%",null,"MTCO2e","%",null,"MTCO2e","%",null,"MTCO2e","%",null,"MTCO2e","%",null,"MTCO2e","%",null,"MTCO2e","%",null,"MTCO2e","%",null,"MTCO2e","%",null,"MTCO2e","%",null,"MTCO2e","%",null,"MTCO2e","%",null,"MTCO2e","%",null,"MTCO2e","%",null,"MTCO2e","%",null,"MTCO2e","%",null,"MTCO2e","%",null,"MTCO2e","%",null,"MTCO2e","%",null,"MTCO2e","%",null,"MTCO2e","%",null,"MTCO2e","%",null,"MTCO2e","%",null,"MTCO2e","%",null,"MTCO2e","%",null,"MTCO2e","%",null,"MTCO2e","%",null,"MTCO2e","%",null,"MTCO2e","%",null,"MTCO2e","%",null,"MTCO2e","%",null,"MTCO2e","%",null,"MTCO2e","%",null,"MTCO2e","%",null,"MTCO2e","%",null,"MTCO2e","%",null,"MTCO2e","%",null,"MTCO2e","%",null,"MTCO2e","%",null,"MTCO2e","%",null,"MTCO2e","%",null,"MTCO2e","%",null,"MTCO2e","%",null,"MTCO2e","%",null,"MTCO2e","%",null,"MTCO2e","%",null,"MTCO2e","%",null,"MTCO2e","%",null,"MTCO2e","%",null,"MTCO2e","%",null,"MTCO2e","%",null,"MTCO2e","%",null,"MTCO2e","%",null,"MTCO2e","%",null,"MTCO2e","%",null,"MTCO2e","%",null,"MTCO2e","%",null,"MTCO2e","%",null,"MTCO2e","%",null,"MTCO2e","%",null,"MTCO2e","%",null,"MTCO2e","%",null,"MTCO2e","%",null,"MTCO2e","%",null,"MTCO2e","%",null,"MTCO2e","%",null,"MTCO2e","%",null,"MTCO2e","%",null,"MTCO2e","%",null,"MTCO2e","%",null,"MTCO2e","%",null,"MTCO2e","%",null,"MTCO2e","%",null,"MTCO2e","%",null,"MTCO2e","%",null,"MTCO2e","%",null,"MTCO2e","%",null,"MTCO2e","%",null,"MTCO2e","%",null,"MTCO2e","%",null,"MTCO2e","%",null,"MTCO2e","%",null,"MTCO2e","%",null,"MTCO2e","%",null,"MTCO2e","%",null,"MTCO2e","%",null,"MTCO2e","%",null,"MTCO2e","%",null,"MTCO2e","%",null,"MTCO2e","%",null,"MTCO2e","%",null,"MTCO2e","%",null,"MTCO2e","%",null,"MTCO2e","%",null,"MTCO2e","%",null,"MTCO2e","%",null,"MTCO2e","%",null,"MTCO2e","%",null,"MTCO2e","%",null,"MTCO2e","%",null,"MTCO2e","%",null,"MTCO2e","%",null,"MTCO2e","%",null,"MTCO2e","%",null,"MTCO2e","%",null,"MTCO2e","%",null,"MTCO2e","%",null,"MTCO2e","%",null,"MTCO2e","%",null,"MTCO2e","%",null,"MTCO2e","%",null,"MTCO2e","%",null,"MTCO2e","%",null,"MTCO2e","%",null,"MTCO2e","%",null,"MTCO2e","%",null,"MTCO2e","%",null,"MTCO2e","%",null,"MTCO2e","%",null,"MTCO2e","%",null,"MTCO2e","%",null,"MTCO2e","%",null,"MTCO2e","%",null,"MTCO2e","%",null,"MTCO2e","%",null,"MTCO2e","%",null,"MTCO2e","%",null,"MTCO2e","%",null,"MTCO2e","%",null,"MTCO2e","%",null,"MTCO2e","%",null,"MTCO2e","%",null,"MTCO2e","%",null,"MTCO2e","%",null,"MTCO2e","%",null,"MTCO2e","%",null,"MTCO2e","%",null,"MTCO2e","%",null,"MTCO2e","%",null,"MTCO2e","%",null,"MTCO2e","%",null,"MTCO2e","%",null,"MTCO2e","%",null,"MTCO2e","%",null,"MTCO2e","%",null,"MTCO2e","%",null,"MTCO2e","%",null,"MTCO2e","%",null,"MTCO2e","%",null,"MTCO2e","%",null,"MTCO2e","%",null,"MTCO2e","%",null,"MTCO2e","%",null,"MTCO2e","%",null,"MTCO2e","%",null,"MTCO2e","%",null,"MTCO2e","%",null,"MTCO2e","%",null,"MTCO2e","%",null,"MTCO2e","%",null,"MTCO2e","%",null,"MTCO2e","%",null,"MTCO2e","%",null,"MTCO2e","%",null,"MTCO2e","%"]
[null,"Total System GHG Emissions",null,{"$f":"+D27+D33+D36","v":0},{"$f":"+IFERROR(E27+E33+E36,0)","v":0},null,{"$f":"+G27+G33+G36","v":0},{"$f":"+IFERROR(H27+H33+H36,0)","v":0},null,{"$f":"+J27+J33+J36","v":0},{"$f":"+IFERROR(K27+K33+K36,0)","v":0},null,{"$f":"+M27+M33+M36","v":0},{"$f":"+IFERROR(N27+N33+N36,0)","v":0},null,{"$f":"+P27+P33+P36","v":0},{"$f":"+IFERROR(Q27+Q33+Q36,0)","v":0},null,{"$f":"+S27+S33+S36","v":0},{"$f":"+IFERROR(T27+T33+T36,0)","v":0},null,{"$f":"+V27+V33+V36","v":0},{"$f":"+IFERROR(W27+W33+W36,0)","v":0},null,{"$f":"+Y27+Y33+Y36","v":0},{"$f":"+IFERROR(Z27+Z33+Z36,0)","v":0},null,{"$f":"+AB27+AB33+AB36","v":0},{"$f":"+IFERROR(AC27+AC33+AC36,0)","v":0},null,{"$f":"+AE27+AE33+AE36","v":0},{"$f":"+IFERROR(AF27+AF33+AF36,0)","v":0},null,{"$f":"+AH27+AH33+AH36","v":0},{"$f":"+IFERROR(AI27+AI33+AI36,0)","v":0},null,{"$f":"+AK27+AK33+AK36","v":0},{"$f":"+IFERROR(AL27+AL33+AL36,0)","v":0},null,{"$f":"+AN27+AN33+AN36","v":0},{"$f":"+IFERROR(AO27+AO33+AO36,0)","v":0},null,{"$f":"+AQ27+AQ33+AQ36","v":0},{"$f":"+IFERROR(AR27+AR33+AR36,0)","v":0},null,{"$f":"+AT27+AT33+AT36","v":0},{"$f":"+IFERROR(AU27+AU33+AU36,0)","v":0},null,{"$f":"+AW27+AW33+AW36","v":0},{"$f":"+IFERROR(AX27+AX33+AX36,0)","v":0},null,{"$f":"+AZ27+AZ33+AZ36","v":0},{"$f":"+IFERROR(BA27+BA33+BA36,0)","v":0},null,{"$f":"+BC27+BC33+BC36","v":0},{"$f":"+IFERROR(BD27+BD33+BD36,0)","v":0},null,{"$f":"+BF27+BF33+BF36","v":0},{"$f":"+IFERROR(BG27+BG33+BG36,0)","v":0},null,{"$f":"+BI27+BI33+BI36","v":0},{"$f":"+IFERROR(BJ27+BJ33+BJ36,0)","v":0},null,{"$f":"+BL27+BL33+BL36","v":0},{"$f":"+IFERROR(BM27+BM33+BM36,0)","v":0},null,{"$f":"+BO27+BO33+BO36","v":0},{"$f":"+IFERROR(BP27+BP33+BP36,0)","v":0},null,{"$f":"+BR27+BR33+BR36","v":0},{"$f":"+IFERROR(BS27+BS33+BS36,0)","v":0},null,{"$f":"+BU27+BU33+BU36","v":0},{"$f":"+IFERROR(BV27+BV33+BV36,0)","v":0},null,{"$f":"+BX27+BX33+BX36","v":0},{"$f":"+IFERROR(BY27+BY33+BY36,0)","v":0},null,{"$f":"+CA27+CA33+CA36","v":0},{"$f":"+IFERROR(CB27+CB33+CB36,0)","v":0},null,{"$f":"+CD27+CD33+CD36","v":0},{"$f":"+IFERROR(CE27+CE33+CE36,0)","v":0},null,{"$f":"+CG27+CG33+CG36","v":0},{"$f":"+IFERROR(CH27+CH33+CH36,0)","v":0},null,{"$f":"+CJ27+CJ33+CJ36","v":0},{"$f":"+IFERROR(CK27+CK33+CK36,0)","v":0},null,{"$f":"+CM27+CM33+CM36","v":0},{"$f":"+IFERROR(CN27+CN33+CN36,0)","v":0},null,{"$f":"+CP27+CP33+CP36","v":0},{"$f":"+IFERROR(CQ27+CQ33+CQ36,0)","v":0},null,{"$f":"+CS27+CS33+CS36","v":0},{"$f":"+IFERROR(CT27+CT33+CT36,0)","v":0},null,{"$f":"+CV27+CV33+CV36","v":0},{"$f":"+IFERROR(CW27+CW33+CW36,0)","v":0},null,{"$f":"+CY27+CY33+CY36","v":0},{"$f":"+IFERROR(CZ27+CZ33+CZ36,0)","v":0},null,{"$f":"+DB27+DB33+DB36","v":0},{"$f":"+IFERROR(DC27+DC33+DC36,0)","v":0},null,{"$f":"+DE27+DE33+DE36","v":0},{"$f":"+IFERROR(DF27+DF33+DF36,0)","v":0},null,{"$f":"+DH27+DH33+DH36","v":0},{"$f":"+IFERROR(DI27+DI33+DI36,0)","v":0},null,{"$f":"+DK27+DK33+DK36","v":0},{"$f":"+IFERROR(DL27+DL33+DL36,0)","v":0},null,{"$f":"+DN27+DN33+DN36","v":0},{"$f":"+IFERROR(DO27+DO33+DO36,0)","v":0},null,{"$f":"+DQ27+DQ33+DQ36","v":0},{"$f":"+IFERROR(DR27+DR33+DR36,0)","v":0},null,{"$f":"+DT27+DT33+DT36","v":0},{"$f":"+IFERROR(DU27+DU33+DU36,0)","v":0},null,{"$f":"+DW27+DW33+DW36","v":0},{"$f":"+IFERROR(DX27+DX33+DX36,0)","v":0},null,{"$f":"+DZ27+DZ33+DZ36","v":0},{"$f":"+IFERROR(EA27+EA33+EA36,0)","v":0},null,{"$f":"+EC27+EC33+EC36","v":0},{"$f":"+IFERROR(ED27+ED33+ED36,0)","v":0},null,{"$f":"+EF27+EF33+EF36","v":0},{"$f":"+IFERROR(EG27+EG33+EG36,0)","v":0},null,{"$f":"+EI27+EI33+EI36","v":0},{"$f":"+IFERROR(EJ27+EJ33+EJ36,0)","v":0},null,{"$f":"+EL27+EL33+EL36","v":0},{"$f":"+EM27+EM33+EM36","v":0},null,{"$f":"+EO27+EO33+EO36","v":0},{"$f":"+IFERROR(EP27+EP33+EP36,0)","v":0},null,{"$f":"+ER27+ER33+ER36","v":0},{"$f":"+IFERROR(ES27+ES33+ES36,0)","v":0},null,{"$f":"+EU27+EU33+EU36","v":0},{"$f":"+IFERROR(EV27+EV33+EV36,0)","v":0},null,{"$f":"+EX27+EX33+EX36","v":0},{"$f":"+IFERROR(EY27+EY33+EY36,0)","v":0},null,{"$f":"+FA27+FA33+FA36","v":0},{"$f":"+IFERROR(FB27+FB33+FB36,0)","v":0},null,{"$f":"+FD27+FD33+FD36","v":0},{"$f":"+IFERROR(FE27+FE33+FE36,0)","v":0},null,{"$f":"+FG27+FG33+FG36","v":0},{"$f":"+IFERROR(FH27+FH33+FH36,0)","v":0},null,{"$f":"+FJ27+FJ33+FJ36","v":0},{"$f":"+IFERROR(FK27+FK33+FK36,0)","v":0},null,{"$f":"+FM27+FM33+FM36","v":0},{"$f":"+IFERROR(FN27+FN33+FN36,0)","v":0},null,{"$f":"+FP27+FP33+FP36","v":0},{"$f":"+IFERROR(FQ27+FQ33+FQ36,0)","v":0},null,{"$f":"+FS27+FS33+FS36","v":0},{"$f":"+IFERROR(FT27+FT33+FT36,0)","v":0},null,{"$f":"+FV27+FV33+FV36","v":0},{"$f":"+IFERROR(FW27+FW33+FW36,0)","v":0},null,{"$f":"+FY27+FY33+FY36","v":0},{"$f":"+IFERROR(FZ27+FZ33+FZ36,0)","v":0},null,{"$f":"+GB27+GB33+GB36","v":0},{"$f":"+IFERROR(GC27+GC33+GC36,0)","v":0},null,{"$f":"+GE27+GE33+GE36","v":0},{"$f":"+IFERROR(GF27+GF33+GF36,0)","v":0},null,{"$f":"+GH27+GH33+GH36","v":0},{"$f":"+IFERROR(GI27+GI33+GI36,0)","v":0},null,{"$f":"+GK27+GK33+GK36","v":0},{"$f":"+IFERROR(GL27+GL33+GL36,0)","v":0},null,{"$f":"+GN27+GN33+GN36","v":0},{"$f":"+IFERROR(GO27+GO33+GO36,0)","v":0},null,{"$f":"+GQ27+GQ33+GQ36","v":0},{"$f":"+IFERROR(GR27+GR33+GR36,0)","v":0},null,{"$f":"+GT27+GT33+GT36","v":0},{"$f":"+IFERROR(GU27+GU33+GU36,0)","v":0},null,{"$f":"+GW27+GW33+GW36","v":0},{"$f":"+IFERROR(GX27+GX33+GX36,0)","v":0},null,{"$f":"+GZ27+GZ33+GZ36","v":0},{"$f":"+IFERROR(HA27+HA33+HA36,0)","v":0},null,{"$f":"+HC27+HC33+HC36","v":0},{"$f":"+IFERROR(HD27+HD33+HD36,0)","v":0},null,{"$f":"+HF27+HF33+HF36","v":0},{"$f":"+IFERROR(HG27+HG33+HG36,0)","v":0},null,{"$f":"+HI27+HI33+HI36","v":0},{"$f":"+IFERROR(HJ27+HJ33+HJ36,0)","v":0},null,{"$f":"+HL27+HL33+HL36","v":0},{"$f":"+IFERROR(HM27+HM33+HM36,0)","v":0},null,{"$f":"+HO27+HO33+HO36","v":0},{"$f":"+IFERROR(HP27+HP33+HP36,0)","v":0},null,{"$f":"+HR27+HR33+HR36","v":0},{"$f":"+IFERROR(HS27+HS33+HS36,0)","v":0},null,{"$f":"+HU27+HU33+HU36","v":0},{"$f":"+IFERROR(HV27+HV33+HV36,0)","v":0},null,{"$f":"+HX27+HX33+HX36","v":0},{"$f":"+IFERROR(HY27+HY33+HY36,0)","v":0},null,{"$f":"+IA27+IA33+IA36","v":0},{"$f":"+IFERROR(IB27+IB33+IB36,0)","v":0},null,{"$f":"+ID27+ID33+ID36","v":0},{"$f":"+IFERROR(IE27+IE33+IE36,0)","v":0},null,{"$f":"+IG27+IG33+IG36","v":0},{"$f":"+IFERROR(IH27+IH33+IH36,0)","v":0},null,{"$f":"+IJ27+IJ33+IJ36","v":0},{"$f":"+IFERROR(IK27+IK33+IK36,0)","v":0},null,{"$f":"+IM27+IM33+IM36","v":0},{"$f":"+IFERROR(IN27+IN33+IN36,0)","v":0},null,{"$f":"+IP27+IP33+IP36","v":0},{"$f":"+IFERROR(IQ27+IQ33+IQ36,0)","v":0},null,{"$f":"+IS27+IS33+IS36","v":0},{"$f":"+IFERROR(IT27+IT33+IT36,0)","v":0},null,{"$f":"+IV27+IV33+IV36","v":0},{"$f":"+IFERROR(IW27+IW33+IW36,0)","v":0},null,{"$f":"+IY27+IY33+IY36","v":0},{"$f":"+IFERROR(IZ27+IZ33+IZ36,0)","v":0},null,{"$f":"+JB27+JB33+JB36","v":0},{"$f":"+IFERROR(JC27+JC33+JC36,0)","v":0},null,{"$f":"+JE27+JE33+JE36","v":0},{"$f":"+IFERROR(JF27+JF33+JF36,0)","v":0},null,{"$f":"+JH27+JH33+JH36","v":0},{"$f":"+IFERROR(JI27+JI33+JI36,0)","v":0},null,{"$f":"+JK27+JK33+JK36","v":0},{"$f":"+IFERROR(JL27+JL33+JL36,0)","v":0},null,{"$f":"+JN27+JN33+JN36","v":0},{"$f":"+IFERROR(JO27+JO33+JO36,0)","v":0},null,{"$f":"+JQ27+JQ33+JQ36","v":0},{"$f":"+IFERROR(JR27+JR33+JR36,0)","v":0},null,{"$f":"+JT27+JT33+JT36","v":0},{"$f":"+IFERROR(JU27+JU33+JU36,0)","v":0},null,{"$f":"+JW27+JW33+JW36","v":0},{"$f":"+IFERROR(JX27+JX33+JX36,0)","v":0},null,{"$f":"+JZ27+JZ33+JZ36","v":0},{"$f":"+IFERROR(KA27+KA33+KA36,0)","v":0},null,{"$f":"+KC27+KC33+KC36","v":0},{"$f":"+IFERROR(KD27+KD33+KD36,0)","v":0},null,{"$f":"+KF27+KF33+KF36","v":0},{"$f":"+IFERROR(KG27+KG33+KG36,0)","v":0},null,{"$f":"+KI27+KI33+KI36","v":0},{"$f":"+IFERROR(KJ27+KJ33+KJ36,0)","v":0},null,{"$f":"+KL27+KL33+KL36","v":0},{"$f":"+IFERROR(KM27+KM33+KM36,0)","v":0},null,{"$f":"+KO27+KO33+KO36","v":0},{"$f":"+IFERROR(KP27+KP33+KP36,0)","v":0},null,{"$f":"+KR27+KR33+KR36","v":0},{"$f":"+IFERROR(KS27+KS33+KS36,0)","v":0},null,{"$f":"+KU27+KU33+KU36","v":0},{"$f":"+IFERROR(KV27+KV33+KV36,0)","v":0},null,{"$f":"+KX27+KX33+KX36","v":0},{"$f":"+IFERROR(KY27+KY33+KY36,0)","v":0},null,{"$f":"+LA27+LA33+LA36","v":0},{"$f":"+IFERROR(LB27+LB33+LB36,0)","v":0},null,{"$f":"+LD27+LD33+LD36","v":0},{"$f":"+IFERROR(LE27+LE33+LE36,0)","v":0},null,{"$f":"+LG27+LG33+LG36","v":0},{"$f":"+IFERROR(LH27+LH33+LH36,0)","v":0},null,{"$f":"+LJ27+LJ33+LJ36","v":0},{"$f":"+IFERROR(LK27+LK33+LK36,0)","v":0},null,{"$f":"+LM27+LM33+LM36","v":0},{"$f":"+IFERROR(LN27+LN33+LN36,0)","v":0},null,{"$f":"+LP27+LP33+LP36","v":0},{"$f":"+IFERROR(LQ27+LQ33+LQ36,0)","v":0},null,{"$f":"+LS27+LS33+LS36","v":0},{"$f":"+IFERROR(LT27+LT33+LT36,0)","v":0},null,{"$f":"+LV27+LV33+LV36","v":0},{"$f":"+IFERROR(LW27+LW33+LW36,0)","v":0},null,{"$f":"+LY27+LY33+LY36","v":0},{"$f":"+IFERROR(LZ27+LZ33+LZ36,0)","v":0},null,{"$f":"+MB27+MB33+MB36","v":0},{"$f":"+IFERROR(MC27+MC33+MC36,0)","v":0},null,{"$f":"+ME27+ME33+ME36","v":0},{"$f":"+IFERROR(MF27+MF33+MF36,0)","v":0},null,{"$f":"+MH27+MH33+MH36","v":0},{"$f":"+IFERROR(MI27+MI33+MI36,0)","v":0},null,{"$f":"+MK27+MK33+MK36","v":0},{"$f":"+IFERROR(ML27+ML33+ML36,0)","v":0},null,{"$f":"+MN27+MN33+MN36","v":0},{"$f":"+IFERROR(MO27+MO33+MO36,0)","v":0},null,{"$f":"+MQ27+MQ33+MQ36","v":0},{"$f":"+IFERROR(MR27+MR33+MR36,0)","v":0},null,{"$f":"+MT27+MT33+MT36","v":0},{"$f":"+IFERROR(MU27+MU33+MU36,0)","v":0},null,{"$f":"+MW27+MW33+MW36","v":0},{"$f":"+IFERROR(MX27+MX33+MX36,0)","v":0},null,{"$f":"+MZ27+MZ33+MZ36","v":0},{"$f":"+IFERROR(NA27+NA33+NA36,0)","v":0},null,{"$f":"+NC27+NC33+NC36","v":0},{"$f":"+IFERROR(ND27+ND33+ND36,0)","v":0},null,{"$f":"+NF27+NF33+NF36","v":0},{"$f":"+IFERROR(NG27+NG33+NG36,0)","v":0},null,{"$f":"+NI27+NI33+NI36","v":0},{"$f":"+IFERROR(NJ27+NJ33+NJ36,0)","v":0},null,{"$f":"+NL27+NL33+NL36","v":0},{"$f":"+IFERROR(NM27+NM33+NM36,0)","v":0},null,{"$f":"+NO27+NO33+NO36","v":0},{"$f":"+IFERROR(NP27+NP33+NP36,0)","v":0},null,{"$f":"+NR27+NR33+NR36","v":0},{"$f":"+IFERROR(NS27+NS33+NS36,0)","v":0},null,{"$f":"+NU27+NU33+NU36","v":0},{"$f":"+IFERROR(NV27+NV33+NV36,0)","v":0},null,{"$f":"+NX27+NX33+NX36","v":0},{"$f":"+IFERROR(NY27+NY33+NY36,0)","v":0},null,{"$f":"+OA27+OA33+OA36","v":0},{"$f":"+IFERROR(OB27+OB33+OB36,0)","v":0},null,{"$f":"+OD27+OD33+OD36","v":0},{"$f":"+IFERROR(OE27+OE33+OE36,0)","v":0},null,{"$f":"+OG27+OG33+OG36","v":0},{"$f":"+IFERROR(OH27+OH33+OH36,0)","v":0},null,{"$f":"+OJ27+OJ33+OJ36","v":0},{"$f":"+IFERROR(OK27+OK33+OK36,0)","v":0},null,{"$f":"+OM27+OM33+OM36","v":0},{"$f":"+IFERROR(ON27+ON33+ON36,0)","v":0},null,{"$f":"+OP27+OP33+OP36","v":0},{"$f":"+IFERROR(OQ27+OQ33+OQ36,0)","v":0},null,{"$f":"+OS27+OS33+OS36","v":0},{"$f":"+IFERROR(OT27+OT33+OT36,0)","v":0},null,{"$f":"+OV27+OV33+OV36","v":0},{"$f":"+IFERROR(OW27+OW33+OW36,0)","v":0},null,{"$f":"+OY27+OY33+OY36","v":0},{"$f":"+IFERROR(OZ27+OZ33+OZ36,0)","v":0},null,{"$f":"+PB27+PB33+PB36","v":0},{"$f":"+IFERROR(PC27+PC33+PC36,0)","v":0},null,{"$f":"+PE27+PE33+PE36","v":0},{"$f":"+IFERROR(PF27+PF33+PF36,0)","v":0},null,{"$f":"+PH27+PH33+PH36","v":0},{"$f":"+IFERROR(PI27+PI33+PI36,0)","v":0},null,{"$f":"+PK27+PK33+PK36","v":0},{"$f":"+IFERROR(PL27+PL33+PL36,0)","v":0},null,{"$f":"+PN27+PN33+PN36","v":0},{"$f":"+IFERROR(PO27+PO33+PO36,0)","v":0},null,{"$f":"+PQ27+PQ33+PQ36","v":0},{"$f":"+IFERROR(PR27+PR33+PR36,0)","v":0},null,{"$f":"+PT27+PT33+PT36","v":0},{"$f":"+IFERROR(PU27+PU33+PU36,0)","v":0},null,{"$f":"+PW27+PW33+PW36","v":0},{"$f":"+IFERROR(PX27+PX33+PX36,0)","v":0},null,{"$f":"+PZ27+PZ33+PZ36","v":0},{"$f":"+IFERROR(QA27+QA33+QA36,0)","v":0},null,{"$f":"+QC27+QC33+QC36","v":0},{"$f":"+IFERROR(QD27+QD33+QD36,0)","v":0},null,{"$f":"+QF27+QF33+QF36","v":0},{"$f":"+IFERROR(QG27+QG33+QG36,0)","v":0},null,{"$f":"+QI27+QI33+QI36","v":0},{"$f":"+IFERROR(QJ27+QJ33+QJ36,0)","v":0},null,{"$f":"+QL27+QL33+QL36","v":0},{"$f":"+IFERROR(QM27+QM33+QM36,0)","v":0},null,{"$f":"+QO27+QO33+QO36","v":0},{"$f":"+IFERROR(QP27+QP33+QP36,0)","v":0},null,{"$f":"+QR27+QR33+QR36","v":0},{"$f":"+IFERROR(QS27+QS33+QS36,0)","v":0},null,{"$f":"+QU27+QU33+QU36","v":0},{"$f":"+IFERROR(QV27+QV33+QV36,0)","v":0},null,{"$f":"+QX27+QX33+QX36","v":0},{"$f":"+IFERROR(QY27+QY33+QY36,0)","v":0},null,{"$f":"+RA27+RA33+RA36","v":0},{"$f":"+IFERROR(RB27+RB33+RB36,0)","v":0},null,{"$f":"+RD27+RD33+RD36","v":0},{"$f":"+IFERROR(RE27+RE33+RE36,0)","v":0},null,{"$f":"+RG27+RG33+RG36","v":0},{"$f":"+IFERROR(RH27+RH33+RH36,0)","v":0},null,{"$f":"+RJ27+RJ33+RJ36","v":0},{"$f":"+IFERROR(RK27+RK33+RK36,0)","v":0},null,{"$f":"+RM27+RM33+RM36","v":0},{"$f":"+IFERROR(RN27+RN33+RN36,0)","v":0},null,{"$f":"+RP27+RP33+RP36","v":0},{"$f":"+IFERROR(RQ27+RQ33+RQ36,0)","v":0},null,{"$f":"+RS27+RS33+RS36","v":0},{"$f":"+IFERROR(RT27+RT33+RT36,0)","v":0},null,{"$f":"+RV27+RV33+RV36","v":0},{"$f":"+IFERROR(RW27+RW33+RW36,0)","v":0},null,{"$f":"+RY27+RY33+RY36","v":0},{"$f":"+IFERROR(RZ27+RZ33+RZ36,0)","v":0},null,{"$f":"+SB27+SB33+SB36","v":0},{"$f":"+IFERROR(SC27+SC33+SC36,0)","v":0},null,{"$f":"+SE27+SE33+SE36","v":0},{"$f":"+IFERROR(SF27+SF33+SF36,0)","v":0},null,{"$f":"+SH27+SH33+SH36","v":0},{"$f":"+IFERROR(SI27+SI33+SI36,0)","v":0},null,{"$f":"+SK27+SK33+SK36","v":0},{"$f":"+IFERROR(SL27+SL33+SL36,0)","v":0},null,{"$f":"+SN27+SN33+SN36","v":0},{"$f":"+IFERROR(SO27+SO33+SO36,0)","v":0},null,{"$f":"+SQ27+SQ33+SQ36","v":0},{"$f":"+IFERROR(SR27+SR33+SR36,0)","v":0},null,{"$f":"+ST27+ST33+ST36","v":0},{"$f":"+IFERROR(SU27+SU33+SU36,0)","v":0},null,{"$f":"+SW27+SW33+SW36","v":0},{"$f":"+IFERROR(SX27+SX33+SX36,0)","v":0},null,{"$f":"+SZ27+SZ33+SZ36","v":0},{"$f":"+IFERROR(TA27+TA33+TA36,0)","v":0},null,{"$f":"+TC27+TC33+TC36","v":0},{"$f":"+IFERROR(TD27+TD33+TD36,0)","v":0},null,{"$f":"+TF27+TF33+TF36","v":0},{"$f":"+IFERROR(TG27+TG33+TG36,0)","v":0},null,{"$f":"+TI27+TI33+TI36","v":0},{"$f":"+IFERROR(TJ27+TJ33+TJ36,0)","v":0},null,{"$f":"+TL27+TL33+TL36","v":0},{"$f":"+IFERROR(TM27+TM33+TM36,0)","v":0},null,{"$f":"+TO27+TO33+TO36","v":0},{"$f":"+IFERROR(TP27+TP33+TP36,0)","v":0},null,{"$f":"+TR27+TR33+TR36","v":0},{"$f":"+IFERROR(TS27+TS33+TS36,0)","v":0},null,{"$f":"+TU27+TU33+TU36","v":0},{"$f":"+IFERROR(TV27+TV33+TV36,0)","v":0},null,{"$f":"+TX27+TX33+TX36","v":0},{"$f":"+IFERROR(TY27+TY33+TY36,0)","v":0},null,{"$f":"+UA27+UA33+UA36","v":0},{"$f":"+IFERROR(UB27+UB33+UB36,0)","v":0},null,{"$f":"+UD27+UD33+UD36","v":0},{"$f":"+IFERROR(UE27+UE33+UE36,0)","v":0},null,{"$f":"+UG27+UG33+UG36","v":0},{"$f":"+IFERROR(UH27+UH33+UH36,0)","v":0},null,{"$f":"+UJ27+UJ33+UJ36","v":0},{"$f":"+IFERROR(UK27+UK33+UK36,0)","v":0},null,{"$f":"+UM27+UM33+UM36","v":0},{"$f":"+IFERROR(UN27+UN33+UN36,0)","v":0},null,{"$f":"+UP27+UP33+UP36","v":0},{"$f":"+IFERROR(UQ27+UQ33+UQ36,0)","v":0},null,{"$f":"+US27+US33+US36","v":0},{"$f":"+IFERROR(UT27+UT33+UT36,0)","v":0},null,{"$f":"+UV27+UV33+UV36","v":0},{"$f":"+IFERROR(UW27+UW33+UW36,0)","v":0},null,{"$f":"+UY27+UY33+UY36","v":0},{"$f":"+IFERROR(UZ27+UZ33+UZ36,0)","v":0},null,{"$f":"+VB27+VB33+VB36","v":0},{"$f":"+IFERROR(VC27+VC33+VC36,0)","v":0},null,{"$f":"+VE27+VE33+VE36","v":0},{"$f":"+IFERROR(VF27+VF33+VF36,0)","v":0},null,{"$f":"+VH27+VH33+VH36","v":0},{"$f":"+IFERROR(VI27+VI33+VI36,0)","v":0},null,{"$f":"+VK27+VK33+VK36","v":0},{"$f":"+IFERROR(VL27+VL33+VL36,0)","v":0},null,{"$f":"+VN27+VN33+VN36","v":0},{"$f":"+IFERROR(VO27+VO33+VO36,0)","v":0},null,{"$f":"+VQ27+VQ33+VQ36","v":0},{"$f":"+IFERROR(VR27+VR33+VR36,0)","v":0},null,{"$f":"+VT27+VT33+VT36","v":0},{"$f":"+IFERROR(VU27+VU33+VU36,0)","v":0},null,{"$f":"+VW27+VW33+VW36","v":0},{"$f":"+IFERROR(VX27+VX33+VX36,0)","v":0},null,{"$f":"+VZ27+VZ33+VZ36","v":0},{"$f":"+IFERROR(WA27+WA33+WA36,0)","v":0},null,{"$f":"+WC27+WC33+WC36","v":0},{"$f":"+IFERROR(WD27+WD33+WD36,0)","v":0},null,{"$f":"+WF27+WF33+WF36","v":0},{"$f":"+IFERROR(WG27+WG33+WG36,0)","v":0},null,{"$f":"+WI27+WI33+WI36","v":0},{"$f":"+IFERROR(WJ27+WJ33+WJ36,0)","v":0},null,{"$f":"+WL27+WL33+WL36","v":0},{"$f":"+IFERROR(WM27+WM33+WM36,0)","v":0},null,{"$f":"+WO27+WO33+WO36","v":0},{"$f":"+IFERROR(WP27+WP33+WP36,0)","v":0},null,{"$f":"+WR27+WR33+WR36","v":0},{"$f":"+IFERROR(WS27+WS33+WS36,0)","v":0},null,{"$f":"+WU27+WU33+WU36","v":0},{"$f":"+IFERROR(WV27+WV33+WV36,0)","v":0},null,{"$f":"+WX27+WX33+WX36","v":0},{"$f":"+IFERROR(WY27+WY33+WY36,0)","v":0},null,{"$f":"+XA27+XA33+XA36","v":0},{"$f":"+IFERROR(XB27+XB33+XB36,0)","v":0},null,{"$f":"+XD27+XD33+XD36","v":0},{"$f":"+IFERROR(XE27+XE33+XE36,0)","v":0},null,{"$f":"+XG27+XG33+XG36","v":0},{"$f":"+IFERROR(XH27+XH33+XH36,0)","v":0},null,{"$f":"+XJ27+XJ33+XJ36","v":0},{"$f":"+IFERROR(XK27+XK33+XK36,0)","v":0},null,{"$f":"+XM27+XM33+XM36","v":0},{"$f":"+IFERROR(XN27+XN33+XN36,0)","v":0},null,{"$f":"+XP27+XP33+XP36","v":0},{"$f":"+IFERROR(XQ27+XQ33+XQ36,0)","v":0},null,{"$f":"+XS27+XS33+XS36","v":0},{"$f":"+IFERROR(XT27+XT33+XT36,0)","v":0},null,{"$f":"+XV27+XV33+XV36","v":0},{"$f":"+IFERROR(XW27+XW33+XW36,0)","v":0},null,{"$f":"+XY27+XY33+XY36","v":0},{"$f":"+IFERROR(XZ27+XZ33+XZ36,0)","v":0},null,{"$f":"+YB27+YB33+YB36","v":0},{"$f":"+IFERROR(YC27+YC33+YC36,0)","v":0},null,{"$f":"+YE27+YE33+YE36","v":0},{"$f":"+IFERROR(YF27+YF33+YF36,0)","v":0},null,{"$f":"+YH27+YH33+YH36","v":0},{"$f":"+IFERROR(YI27+YI33+YI36,0)","v":0},null,{"$f":"+YK27+YK33+YK36","v":0},{"$f":"+IFERROR(YL27+YL33+YL36,0)","v":0},null,{"$f":"+YN27+YN33+YN36","v":0},{"$f":"+IFERROR(YO27+YO33+YO36,0)","v":0},null,{"$f":"+YQ27+YQ33+YQ36","v":0},{"$f":"+IFERROR(YR27+YR33+YR36,0)","v":0},null,{"$f":"+YT27+YT33+YT36","v":0},{"$f":"+IFERROR(YU27+YU33+YU36,0)","v":0},null,{"$f":"+YW27+YW33+YW36","v":0},{"$f":"+IFERROR(YX27+YX33+YX36,0)","v":0},null,{"$f":"+YZ27+YZ33+YZ36","v":0},{"$f":"+IFERROR(ZA27+ZA33+ZA36,0)","v":0},null,{"$f":"+ZC27+ZC33+ZC36","v":0},{"$f":"+IFERROR(ZD27+ZD33+ZD36,0)","v":0},null,{"$f":"+ZF27+ZF33+ZF36","v":0},{"$f":"+IFERROR(ZG27+ZG33+ZG36,0)","v":0},null,{"$f":"+ZI27+ZI33+ZI36","v":0},{"$f":"+IFERROR(ZJ27+ZJ33+ZJ36,0)","v":0},null,{"$f":"+ZL27+ZL33+ZL36","v":0},{"$f":"+IFERROR(ZM27+ZM33+ZM36,0)","v":0},null,{"$f":"+ZO27+ZO33+ZO36","v":0},{"$f":"+IFERROR(ZP27+ZP33+ZP36,0)","v":0},null,{"$f":"+ZR27+ZR33+ZR36","v":0},{"$f":"+IFERROR(ZS27+ZS33+ZS36,0)","v":0},null,{"$f":"+ZU27+ZU33+ZU36","v":0},{"$f":"+IFERROR(ZV27+ZV33+ZV36,0)","v":0},null,{"$f":"+ZX27+ZX33+ZX36","v":0},{"$f":"+IFERROR(ZY27+ZY33+ZY36,0)","v":0},null,{"$f":"+AAA27+AAA33+AAA36","v":0},{"$f":"+IFERROR(AAB27+AAB33+AAB36,0)","v":0},null,{"$f":"+AAD27+AAD33+AAD36","v":0},{"$f":"+IFERROR(AAE27+AAE33+AAE36,0)","v":0},null,{"$f":"+AAG27+AAG33+AAG36","v":0},{"$f":"+IFERROR(AAH27+AAH33+AAH36,0)","v":0},null,{"$f":"+AAJ27+AAJ33+AAJ36","v":0},{"$f":"+IFERROR(AAK27+AAK33+AAK36,0)","v":0},null,{"$f":"+AAM27+AAM33+AAM36","v":0},{"$f":"+IFERROR(AAN27+AAN33+AAN36,0)","v":0},null,{"$f":"+AAP27+AAP33+AAP36","v":0},{"$f":"+IFERROR(AAQ27+AAQ33+AAQ36,0)","v":0},null,{"$f":"+AAS27+AAS33+AAS36","v":0},{"$f":"+IFERROR(AAT27+AAT33+AAT36,0)","v":0},null,{"$f":"+AAV27+AAV33+AAV36","v":0},{"$f":"+IFERROR(AAW27+AAW33+AAW36,0)","v":0},null,{"$f":"+AAY27+AAY33+AAY36","v":0},{"$f":"+IFERROR(AAZ27+AAZ33+AAZ36,0)","v":0},null,{"$f":"+ABB27+ABB33+ABB36","v":0},{"$f":"+IFERROR(ABC27+ABC33+ABC36,0)","v":0},null,{"$f":"+ABE27+ABE33+ABE36","v":0},{"$f":"+IFERROR(ABF27+ABF33+ABF36,0)","v":0},null,{"$f":"+ABH27+ABH33+ABH36","v":0},{"$f":"+IFERROR(ABI27+ABI33+ABI36,0)","v":0},null,{"$f":"+ABK27+ABK33+ABK36","v":0},{"$f":"+IFERROR(ABL27+ABL33+ABL36,0)","v":0},null,{"$f":"+ABN27+ABN33+ABN36","v":0},{"$f":"+IFERROR(ABO27+ABO33+ABO36,0)","v":0},null,{"$f":"+ABQ27+ABQ33+ABQ36","v":0},{"$f":"+IFERROR(ABR27+ABR33+ABR36,0)","v":0},null,{"$f":"+ABT27+ABT33+ABT36","v":0},{"$f":"+IFERROR(ABU27+ABU33+ABU36,0)","v":0},null,{"$f":"+ABW27+ABW33+ABW36","v":0},{"$f":"+IFERROR(ABX27+ABX33+ABX36,0)","v":0},null,{"$f":"+ABZ27+ABZ33+ABZ36","v":0},{"$f":"+IFERROR(ACA27+ACA33+ACA36,0)","v":0},null,{"$f":"+ACC27+ACC33+ACC36","v":0},{"$f":"+IFERROR(ACD27+ACD33+ACD36,0)","v":0},null,{"$f":"+ACF27+ACF33+ACF36","v":0},{"$f":"+IFERROR(ACG27+ACG33+ACG36,0)","v":0},null,{"$f":"+ACI27+ACI33+ACI36","v":0},{"$f":"+IFERROR(ACJ27+ACJ33+ACJ36,0)","v":0},null,{"$f":"+ACL27+ACL33+ACL36","v":0},{"$f":"+IFERROR(ACM27+ACM33+ACM36,0)","v":0},null,{"$f":"+ACO27+ACO33+ACO36","v":0},{"$f":"+IFERROR(ACP27+ACP33+ACP36,0)","v":0},null,{"$f":"+ACR27+ACR33+ACR36","v":0},{"$f":"+IFERROR(ACS27+ACS33+ACS36,0)","v":0},null,{"$f":"+ACU27+ACU33+ACU36","v":0},{"$f":"+IFERROR(ACV27+ACV33+ACV36,0)","v":0},null,{"$f":"+ACX27+ACX33+ACX36","v":0},{"$f":"+IFERROR(ACY27+ACY33+ACY36,0)","v":0},null,{"$f":"+ADA27+ADA33+ADA36","v":0},{"$f":"+IFERROR(ADB27+ADB33+ADB36,0)","v":0},null,{"$f":"+ADD27+ADD33+ADD36","v":0},{"$f":"+IFERROR(ADE27+ADE33+ADE36,0)","v":0},null,{"$f":"+ADG27+ADG33+ADG36","v":0},{"$f":"+IFERROR(ADH27+ADH33+ADH36,0)","v":0},null,{"$f":"+ADJ27+ADJ33+ADJ36","v":0},{"$f":"+IFERROR(ADK27+ADK33+ADK36,0)","v":0},null,{"$f":"+ADM27+ADM33+ADM36","v":0},{"$f":"+IFERROR(ADN27+ADN33+ADN36,0)","v":0},null,{"$f":"+ADP27+ADP33+ADP36","v":0},{"$f":"+IFERROR(ADQ27+ADQ33+ADQ36,0)","v":0},null,{"$f":"+ADS27+ADS33+ADS36","v":0},{"$f":"+IFERROR(ADT27+ADT33+ADT36,0)","v":0},null,{"$f":"+ADV27+ADV33+ADV36","v":0},{"$f":"+IFERROR(ADW27+ADW33+ADW36,0)","v":0},null,{"$f":"+ADY27+ADY33+ADY36","v":0},{"$f":"+IFERROR(ADZ27+ADZ33+ADZ36,0)","v":0},null,{"$f":"+AEB27+AEB33+AEB36","v":0},{"$f":"+IFERROR(AEC27+AEC33+AEC36,0)","v":0},null,{"$f":"+AEE27+AEE33+AEE36","v":0},{"$f":"+IFERROR(AEF27+AEF33+AEF36,0)","v":0},null,{"$f":"+AEH27+AEH33+AEH36","v":0},{"$f":"+IFERROR(AEI27+AEI33+AEI36,0)","v":0},null,{"$f":"+AEK27+AEK33+AEK36","v":0},{"$f":"+IFERROR(AEL27+AEL33+AEL36,0)","v":0},null,{"$f":"+AEN27+AEN33+AEN36","v":0},{"$f":"+IFERROR(AEO27+AEO33+AEO36,0)","v":0},null,{"$f":"+AEQ27+AEQ33+AEQ36","v":0},{"$f":"+IFERROR(AER27+AER33+AER36,0)","v":0},null,{"$f":"+AET27+AET33+AET36","v":0},{"$f":"+IFERROR(AEU27+AEU33+AEU36,0)","v":0},null,{"$f":"+AEW27+AEW33+AEW36","v":0},{"$f":"+IFERROR(AEX27+AEX33+AEX36,0)","v":0},null,{"$f":"+AEZ27+AEZ33+AEZ36","v":0},{"$f":"+IFERROR(AFA27+AFA33+AFA36,0)","v":0},null,{"$f":"+AFC27+AFC33+AFC36","v":0},{"$f":"+IFERROR(AFD27+AFD33+AFD36,0)","v":0},null,{"$f":"+AFF27+AFF33+AFF36","v":0},{"$f":"+IFERROR(AFG27+AFG33+AFG36,0)","v":0},null,{"$f":"+AFI27+AFI33+AFI36","v":0},{"$f":"+IFERROR(AFJ27+AFJ33+AFJ36,0)","v":0},null,{"$f":"+AFL27+AFL33+AFL36","v":0},{"$f":"+IFERROR(AFM27+AFM33+AFM36,0)","v":0},null,{"$f":"+AFO27+AFO33+AFO36","v":0},{"$f":"+IFERROR(AFP27+AFP33+AFP36,0)","v":0},null,{"$f":"+AFR27+AFR33+AFR36","v":0},{"$f":"+IFERROR(AFS27+AFS33+AFS36,0)","v":0},null,{"$f":"+AFU27+AFU33+AFU36","v":0},{"$f":"+IFERROR(AFV27+AFV33+AFV36,0)","v":0},null,{"$f":"+AFX27+AFX33+AFX36","v":0},{"$f":"+IFERROR(AFY27+AFY33+AFY36,0)","v":0},null,{"$f":"+AGA27+AGA33+AGA36","v":0},{"$f":"+IFERROR(AGB27+AGB33+AGB36,0)","v":0},null,{"$f":"+AGD27+AGD33+AGD36","v":0},{"$f":"+IFERROR(AGE27+AGE33+AGE36,0)","v":0},null,{"$f":"+AGG27+AGG33+AGG36","v":0},{"$f":"+IFERROR(AGH27+AGH33+AGH36,0)","v":0},null,{"$f":"+AGJ27+AGJ33+AGJ36","v":0},{"$f":"+IFERROR(AGK27+AGK33+AGK36,0)","v":0},null,{"$f":"+AGM27+AGM33+AGM36","v":0},{"$f":"+IFERROR(AGN27+AGN33+AGN36,0)","v":0},null,{"$f":"+AGP27+AGP33+AGP36","v":0},{"$f":"+IFERROR(AGQ27+AGQ33+AGQ36,0)","v":0},null,{"$f":"+AGS27+AGS33+AGS36","v":0},{"$f":"+IFERROR(AGT27+AGT33+AGT36,0)","v":0},null,{"$f":"+AGV27+AGV33+AGV36","v":0},{"$f":"+IFERROR(AGW27+AGW33+AGW36,0)","v":0},null,{"$f":"+AGY27+AGY33+AGY36","v":0},{"$f":"+IFERROR(AGZ27+AGZ33+AGZ36,0)","v":0},null,{"$f":"+AHB27+AHB33+AHB36","v":0},{"$f":"+IFERROR(AHC27+AHC33+AHC36,0)","v":0},null,{"$f":"+AHE27+AHE33+AHE36","v":0},{"$f":"+IFERROR(AHF27+AHF33+AHF36,0)","v":0},null,{"$f":"+AHH27+AHH33+AHH36","v":0},{"$f":"+IFERROR(AHI27+AHI33+AHI36,0)","v":0},null,{"$f":"+AHK27+AHK33+AHK36","v":0},{"$f":"+IFERROR(AHL27+AHL33+AHL36,0)","v":0},null,{"$f":"+AHN27+AHN33+AHN36","v":0},{"$f":"+IFERROR(AHO27+AHO33+AHO36,0)","v":0},null,{"$f":"+AHQ27+AHQ33+AHQ36","v":0},{"$f":"+IFERROR(AHR27+AHR33+AHR36,0)","v":0},null,{"$f":"+AHT27+AHT33+AHT36","v":0},{"$f":"+IFERROR(AHU27+AHU33+AHU36,0)","v":0}]
[null,"Scope 1",null,{"$f":"+SUM(D28:D30)","v":0},{"$f":"+IFERROR(D27/D26,0)","v":0},null,{"$f":"+SUM(G28:G30)","v":0},{"$f":"+IFERROR(G27/G26,0)","v":0},null,{"$f":"+SUM(J28:J30)","v":0},{"$f":"+IFERROR(J27/J26,0)","v":0},null,{"$f":"+SUM(M28:M30)","v":0},{"$f":"+IFERROR(M27/M26,0)","v":0},null,{"$f":"+SUM(P28:P30)","v":0},{"$f":"+IFERROR(P27/P26,0)","v":0},null,{"$f":"+SUM(S28:S30)","v":0},{"$f":"+IFERROR(S27/S26,0)","v":0},null,{"$f":"+SUM(V28:V30)","v":0},{"$f":"+IFERROR(V27/V26,0)","v":0},null,{"$f":"+SUM(Y28:Y30)","v":0},{"$f":"+IFERROR(Y27/Y26,0)","v":0},null,{"$f":"+SUM(AB28:AB30)","v":0},{"$f":"+IFERROR(AB27/AB26,0)","v":0},null,{"$f":"+SUM(AE28:AE30)","v":0},{"$f":"+IFERROR(AE27/AE26,0)","v":0},null,{"$f":"+SUM(AH28:AH30)","v":0},{"$f":"+IFERROR(AH27/AH26,0)","v":0},null,{"$f":"+SUM(AK28:AK30)","v":0},{"$f":"+IFERROR(AK27/AK26,0)","v":0},null,{"$f":"+SUM(AN28:AN30)","v":0},{"$f":"+IFERROR(AN27/AN26,0)","v":0},null,{"$f":"+SUM(AQ28:AQ30)","v":0},{"$f":"+IFERROR(AQ27/AQ26,0)","v":0},null,{"$f":"+SUM(AT28:AT30)","v":0},{"$f":"+IFERROR(AT27/AT26,0)","v":0},null,{"$f":"+SUM(AW28:AW30)","v":0},{"$f":"+IFERROR(AW27/AW26,0)","v":0},null,{"$f":"+SUM(AZ28:AZ30)","v":0},{"$f":"+IFERROR(AZ27/AZ26,0)","v":0},null,{"$f":"+SUM(BC28:BC30)","v":0},{"$f":"+IFERROR(BC27/BC26,0)","v":0},null,{"$f":"+SUM(BF28:BF30)","v":0},{"$f":"+IFERROR(BF27/BF26,0)","v":0},null,{"$f":"+SUM(BI28:BI30)","v":0},{"$f":"+IFERROR(BI27/BI26,0)","v":0},null,{"$f":"+SUM(BL28:BL30)","v":0},{"$f":"+IFERROR(BL27/BL26,0)","v":0},null,{"$f":"+SUM(BO28:BO30)","v":0},{"$f":"+IFERROR(BO27/BO26,0)","v":0},null,{"$f":"+SUM(BR28:BR30)","v":0},{"$f":"+IFERROR(BR27/BR26,0)","v":0},null,{"$f":"+SUM(BU28:BU30)","v":0},{"$f":"+IFERROR(BU27/BU26,0)","v":0},null,{"$f":"+SUM(BX28:BX30)","v":0},{"$f":"+IFERROR(BX27/BX26,0)","v":0},null,{"$f":"+SUM(CA28:CA30)","v":0},{"$f":"+IFERROR(CA27/CA26,0)","v":0},null,{"$f":"+SUM(CD28:CD30)","v":0},{"$f":"+IFERROR(CD27/CD26,0)","v":0},null,{"$f":"+SUM(CG28:CG30)","v":0},{"$f":"+IFERROR(CG27/CG26,0)","v":0},null,{"$f":"+SUM(CJ28:CJ30)","v":0},{"$f":"+IFERROR(CJ27/CJ26,0)","v":0},null,{"$f":"+SUM(CM28:CM30)","v":0},{"$f":"+IFERROR(CM27/CM26,0)","v":0},null,{"$f":"+SUM(CP28:CP30)","v":0},{"$f":"+IFERROR(CP27/CP26,0)","v":0},null,{"$f":"+SUM(CS28:CS30)","v":0},{"$f":"+IFERROR(CS27/CS26,0)","v":0},null,{"$f":"+SUM(CV28:CV30)","v":0},{"$f":"+IFERROR(CV27/CV26,0)","v":0},null,{"$f":"+SUM(CY28:CY30)","v":0},{"$f":"+IFERROR(CY27/CY26,0)","v":0},null,{"$f":"+SUM(DB28:DB30)","v":0},{"$f":"+IFERROR(DB27/DB26,0)","v":0},null,{"$f":"+SUM(DE28:DE30)","v":0},{"$f":"+IFERROR(DE27/DE26,0)","v":0},null,{"$f":"+SUM(DH28:DH30)","v":0},{"$f":"+IFERROR(DH27/DH26,0)","v":0},null,{"$f":"+SUM(DK28:DK30)","v":0},{"$f":"+IFERROR(DK27/DK26,0)","v":0},null,{"$f":"+SUM(DN28:DN30)","v":0},{"$f":"+IFERROR(DN27/DN26,0)","v":0},null,{"$f":"+SUM(DQ28:DQ30)","v":0},{"$f":"+IFERROR(DQ27/DQ26,0)","v":0},null,{"$f":"+SUM(DT28:DT30)","v":0},{"$f":"+IFERROR(DT27/DT26,0)","v":0},null,{"$f":"+SUM(DW28:DW30)","v":0},{"$f":"+IFERROR(DW27/DW26,0)","v":0},null,{"$f":"+SUM(DZ28:DZ30)","v":0},{"$f":"+IFERROR(DZ27/DZ26,0)","v":0},null,{"$f":"+SUM(EC28:EC30)","v":0},{"$f":"+IFERROR(EC27/EC26,0)","v":0},null,{"$f":"+SUM(EF28:EF30)","v":0},{"$f":"+IFERROR(EF27/EF26,0)","v":0},null,{"$f":"+SUM(EI28:EI30)","v":0},{"$f":"+IFERROR(EI27/EI26,0)","v":0},null,{"$f":"+SUM(EL28:EL30)","v":0},{"$f":"+IFERROR(EL27/EL26,0)","v":0},null,{"$f":"+SUM(EO28:EO30)","v":0},{"$f":"+IFERROR(EO27/EO26,0)","v":0},null,{"$f":"+SUM(ER28:ER30)","v":0},{"$f":"+IFERROR(ER27/ER26,0)","v":0},null,{"$f":"+SUM(EU28:EU30)","v":0},{"$f":"+IFERROR(EU27/EU26,0)","v":0},null,{"$f":"+SUM(EX28:EX30)","v":0},{"$f":"+IFERROR(EX27/EX26,0)","v":0},null,{"$f":"+SUM(FA28:FA30)","v":0},{"$f":"+IFERROR(FA27/FA26,0)","v":0},null,{"$f":"+SUM(FD28:FD30)","v":0},0,null,{"$f":"+SUM(FG28:FG30)","v":0},0,null,{"$f":"+SUM(FJ28:FJ30)","v":0},0,null,{"$f":"+SUM(FM28:FM30)","v":0},0,null,{"$f":"+SUM(FP28:FP30)","v":0},0,null,{"$f":"+SUM(FS28:FS30)","v":0},0,null,{"$f":"+SUM(FV28:FV30)","v":0},0,null,{"$f":"+SUM(FY28:FY30)","v":0},0,null,{"$f":"+SUM(GB28:GB30)","v":0},0,null,{"$f":"+SUM(GE28:GE30)","v":0},0,null,{"$f":"+SUM(GH28:GH30)","v":0},0,null,{"$f":"+SUM(GK28:GK30)","v":0},0,null,{"$f":"+SUM(GN28:GN30)","v":0},0,null,{"$f":"+SUM(GQ28:GQ30)","v":0},0,null,{"$f":"+SUM(GT28:GT30)","v":0},0,null,{"$f":"+SUM(GW28:GW30)","v":0},0,null,{"$f":"+SUM(GZ28:GZ30)","v":0},0,null,{"$f":"+SUM(HC28:HC30)","v":0},0,null,{"$f":"+SUM(HF28:HF30)","v":0},0,null,{"$f":"+SUM(HI28:HI30)","v":0},0,null,{"$f":"+SUM(HL28:HL30)","v":0},0,null,{"$f":"+SUM(HO28:HO30)","v":0},{"$f":"+IFERROR(HO27/HO26,0)","v":0},null,{"$f":"+SUM(HR28:HR30)","v":0},0,null,{"$f":"+SUM(HU28:HU30)","v":0},0,null,{"$f":"+SUM(HX28:HX30)","v":0},0,null,{"$f":"+SUM(IA28:IA30)","v":0},0,null,{"$f":"+SUM(ID28:ID30)","v":0},0,null,{"$f":"+SUM(IG28:IG30)","v":0},0,null,{"$f":"+SUM(IJ28:IJ30)","v":0},0,null,{"$f":"+SUM(IM28:IM30)","v":0},0,null,{"$f":"+SUM(IP28:IP30)","v":0},0,null,{"$f":"+SUM(IS28:IS30)","v":0},0,null,{"$f":"+SUM(IV28:IV30)","v":0},0,null,{"$f":"+SUM(IY28:IY30)","v":0},0,null,{"$f":"+SUM(JB28:JB30)","v":0},0,null,{"$f":"+SUM(JE28:JE30)","v":0},0,null,{"$f":"+SUM(JH28:JH30)","v":0},0,null,{"$f":"+SUM(JK28:JK30)","v":0},0,null,{"$f":"+SUM(JN28:JN30)","v":0},0,null,{"$f":"+SUM(JQ28:JQ30)","v":0},0,null,{"$f":"+SUM(JT28:JT30)","v":0},0,null,{"$f":"+SUM(JW28:JW30)","v":0},0,null,{"$f":"+SUM(JZ28:JZ30)","v":0},0,null,{"$f":"+SUM(KC28:KC30)","v":0},{"$f":"+IFERROR(KC27/KC26,0)","v":0},null,{"$f":"+SUM(KF28:KF30)","v":0},0,null,{"$f":"+SUM(KI28:KI30)","v":0},0,null,{"$f":"+SUM(KL28:KL30)","v":0},0,null,{"$f":"+SUM(KO28:KO30)","v":0},0,null,{"$f":"+SUM(KR28:KR30)","v":0},0,null,{"$f":"+SUM(KU28:KU30)","v":0},0,null,{"$f":"+SUM(KX28:KX30)","v":0},0,null,{"$f":"+SUM(LA28:LA30)","v":0},0,null,{"$f":"+SUM(LD28:LD30)","v":0},0,null,{"$f":"+SUM(LG28:LG30)","v":0},0,null,{"$f":"+SUM(LJ28:LJ30)","v":0},0,null,{"$f":"+SUM(LM28:LM30)","v":0},0,null,{"$f":"+SUM(LP28:LP30)","v":0},0,null,{"$f":"+SUM(LS28:LS30)","v":0},0,null,{"$f":"+SUM(LV28:LV30)","v":0},0,null,{"$f":"+SUM(LY28:LY30)","v":0},0,null,{"$f":"+SUM(MB28:MB30)","v":0},0,null,{"$f":"+SUM(ME28:ME30)","v":0},0,null,{"$f":"+SUM(MH28:MH30)","v":0},0,null,{"$f":"+SUM(MK28:MK30)","v":0},0,null,{"$f":"+SUM(MN28:MN30)","v":0},0,null,{"$f":"+SUM(MQ28:MQ30)","v":0},{"$f":"+IFERROR(MQ27/MQ26,0)","v":0},null,{"$f":"+SUM(MT28:MT30)","v":0},0,null,{"$f":"+SUM(MW28:MW30)","v":0},0,null,{"$f":"+SUM(MZ28:MZ30)","v":0},0,null,{"$f":"+SUM(NC28:NC30)","v":0},0,null,{"$f":"+SUM(NF28:NF30)","v":0},0,null,{"$f":"+SUM(NI28:NI30)","v":0},0,null,{"$f":"+SUM(NL28:NL30)","v":0},0,null,{"$f":"+SUM(NO28:NO30)","v":0},0,null,{"$f":"+SUM(NR28:NR30)","v":0},0,null,{"$f":"+SUM(NU28:NU30)","v":0},0,null,{"$f":"+SUM(NX28:NX30)","v":0},0,null,{"$f":"+SUM(OA28:OA30)","v":0},0,null,{"$f":"+SUM(OD28:OD30)","v":0},0,null,{"$f":"+SUM(OG28:OG30)","v":0},0,null,{"$f":"+SUM(OJ28:OJ30)","v":0},0,null,{"$f":"+SUM(OM28:OM30)","v":0},0,null,{"$f":"+SUM(OP28:OP30)","v":0},0,null,{"$f":"+SUM(OS28:OS30)","v":0},0,null,{"$f":"+SUM(OV28:OV30)","v":0},0,null,{"$f":"+SUM(OY28:OY30)","v":0},0,null,{"$f":"+SUM(PB28:PB30)","v":0},0,null,{"$f":"+SUM(PE28:PE30)","v":0},{"$f":"+IFERROR(PE27/PE26,0)","v":0},null,{"$f":"+SUM(PH28:PH30)","v":0},0,null,{"$f":"+SUM(PK28:PK30)","v":0},0,null,{"$f":"+SUM(PN28:PN30)","v":0},0,null,{"$f":"+SUM(PQ28:PQ30)","v":0},0,null,{"$f":"+SUM(PT28:PT30)","v":0},0,null,{"$f":"+SUM(PW28:PW30)","v":0},0,null,{"$f":"+SUM(PZ28:PZ30)","v":0},0,null,{"$f":"+SUM(QC28:QC30)","v":0},0,null,{"$f":"+SUM(QF28:QF30)","v":0},0,null,{"$f":"+SUM(QI28:QI30)","v":0},0,null,{"$f":"+SUM(QL28:QL30)","v":0},0,null,{"$f":"+SUM(QO28:QO30)","v":0},0,null,{"$f":"+SUM(QR28:QR30)","v":0},0,null,{"$f":"+SUM(QU28:QU30)","v":0},0,null,{"$f":"+SUM(QX28:QX30)","v":0},0,null,{"$f":"+SUM(RA28:RA30)","v":0},0,null,{"$f":"+SUM(RD28:RD30)","v":0},0,null,{"$f":"+SUM(RG28:RG30)","v":0},0,null,{"$f":"+SUM(RJ28:RJ30)","v":0},0,null,{"$f":"+SUM(RM28:RM30)","v":0},0,null,{"$f":"+SUM(RP28:RP30)","v":0},0,null,{"$f":"+SUM(RS28:RS30)","v":0},{"$f":"+IFERROR(RS27/RS26,0)","v":0},null,{"$f":"+SUM(RV28:RV30)","v":0},0,null,{"$f":"+SUM(RY28:RY30)","v":0},0,null,{"$f":"+SUM(SB28:SB30)","v":0},0,null,{"$f":"+SUM(SE28:SE30)","v":0},0,null,{"$f":"+SUM(SH28:SH30)","v":0},0,null,{"$f":"+SUM(SK28:SK30)","v":0},0,null,{"$f":"+SUM(SN28:SN30)","v":0},0,null,{"$f":"+SUM(SQ28:SQ30)","v":0},0,null,{"$f":"+SUM(ST28:ST30)","v":0},0,null,{"$f":"+SUM(SW28:SW30)","v":0},0,null,{"$f":"+SUM(SZ28:SZ30)","v":0},0,null,{"$f":"+SUM(TC28:TC30)","v":0},0,null,{"$f":"+SUM(TF28:TF30)","v":0},0,null,{"$f":"+SUM(TI28:TI30)","v":0},0,null,{"$f":"+SUM(TL28:TL30)","v":0},0,null,{"$f":"+SUM(TO28:TO30)","v":0},0,null,{"$f":"+SUM(TR28:TR30)","v":0},0,null,{"$f":"+SUM(TU28:TU30)","v":0},0,null,{"$f":"+SUM(TX28:TX30)","v":0},0,null,{"$f":"+SUM(UA28:UA30)","v":0},0,null,{"$f":"+SUM(UD28:UD30)","v":0},0,null,{"$f":"+SUM(UG28:UG30)","v":0},{"$f":"+IFERROR(UG27/UG26,0)","v":0},null,{"$f":"+SUM(UJ28:UJ30)","v":0},0,null,{"$f":"+SUM(UM28:UM30)","v":0},0,null,{"$f":"+SUM(UP28:UP30)","v":0},0,null,{"$f":"+SUM(US28:US30)","v":0},0,null,{"$f":"+SUM(UV28:UV30)","v":0},0,null,{"$f":"+SUM(UY28:UY30)","v":0},0,null,{"$f":"+SUM(VB28:VB30)","v":0},0,null,{"$f":"+SUM(VE28:VE30)","v":0},0,null,{"$f":"+SUM(VH28:VH30)","v":0},0,null,{"$f":"+SUM(VK28:VK30)","v":0},0,null,{"$f":"+SUM(VN28:VN30)","v":0},0,null,{"$f":"+SUM(VQ28:VQ30)","v":0},0,null,{"$f":"+SUM(VT28:VT30)","v":0},0,null,{"$f":"+SUM(VW28:VW30)","v":0},0,null,{"$f":"+SUM(VZ28:VZ30)","v":0},0,null,{"$f":"+SUM(WC28:WC30)","v":0},0,null,{"$f":"+SUM(WF28:WF30)","v":0},0,null,{"$f":"+SUM(WI28:WI30)","v":0},0,null,{"$f":"+SUM(WL28:WL30)","v":0},0,null,{"$f":"+SUM(WO28:WO30)","v":0},0,null,{"$f":"+SUM(WR28:WR30)","v":0},0,null,{"$f":"+SUM(WU28:WU30)","v":0},{"$f":"+IFERROR(WU27/WU26,0)","v":0},null,{"$f":"+SUM(WX28:WX30)","v":0},0,null,{"$f":"+SUM(XA28:XA30)","v":0},0,null,{"$f":"+SUM(XD28:XD30)","v":0},0,null,{"$f":"+SUM(XG28:XG30)","v":0},0,null,{"$f":"+SUM(XJ28:XJ30)","v":0},0,null,{"$f":"+SUM(XM28:XM30)","v":0},0,null,{"$f":"+SUM(XP28:XP30)","v":0},0,null,{"$f":"+SUM(XS28:XS30)","v":0},0,null,{"$f":"+SUM(XV28:XV30)","v":0},0,null,{"$f":"+SUM(XY28:XY30)","v":0},0,null,{"$f":"+SUM(YB28:YB30)","v":0},0,null,{"$f":"+SUM(YE28:YE30)","v":0},0,null,{"$f":"+SUM(YH28:YH30)","v":0},0,null,{"$f":"+SUM(YK28:YK30)","v":0},0,null,{"$f":"+SUM(YN28:YN30)","v":0},0,null,{"$f":"+SUM(YQ28:YQ30)","v":0},0,null,{"$f":"+SUM(YT28:YT30)","v":0},0,null,{"$f":"+SUM(YW28:YW30)","v":0},0,null,{"$f":"+SUM(YZ28:YZ30)","v":0},0,null,{"$f":"+SUM(ZC28:ZC30)","v":0},0,null,{"$f":"+SUM(ZF28:ZF30)","v":0},0,null,{"$f":"+SUM(ZI28:ZI30)","v":0},{"$f":"+IFERROR(ZI27/ZI26,0)","v":0},null,{"$f":"+SUM(ZL28:ZL30)","v":0},0,null,{"$f":"+SUM(ZO28:ZO30)","v":0},0,null,{"$f":"+SUM(ZR28:ZR30)","v":0},0,null,{"$f":"+SUM(ZU28:ZU30)","v":0},0,null,{"$f":"+SUM(ZX28:ZX30)","v":0},0,null,{"$f":"+SUM(AAA28:AAA30)","v":0},0,null,{"$f":"+SUM(AAD28:AAD30)","v":0},0,null,{"$f":"+SUM(AAG28:AAG30)","v":0},0,null,{"$f":"+SUM(AAJ28:AAJ30)","v":0},0,null,{"$f":"+SUM(AAM28:AAM30)","v":0},0,null,{"$f":"+SUM(AAP28:AAP30)","v":0},0,null,{"$f":"+SUM(AAS28:AAS30)","v":0},0,null,{"$f":"+SUM(AAV28:AAV30)","v":0},0,null,{"$f":"+SUM(AAY28:AAY30)","v":0},0,null,{"$f":"+SUM(ABB28:ABB30)","v":0},0,null,{"$f":"+SUM(ABE28:ABE30)","v":0},0,null,{"$f":"+SUM(ABH28:ABH30)","v":0},0,null,{"$f":"+SUM(ABK28:ABK30)","v":0},0,null,{"$f":"+SUM(ABN28:ABN30)","v":0},0,null,{"$f":"+SUM(ABQ28:ABQ30)","v":0},0,null,{"$f":"+SUM(ABT28:ABT30)","v":0},0,null,{"$f":"+SUM(ABW28:ABW30)","v":0},{"$f":"+IFERROR(ABW27/ABW26,0)","v":0},null,{"$f":"+SUM(ABZ28:ABZ30)","v":0},0,null,{"$f":"+SUM(ACC28:ACC30)","v":0},0,null,{"$f":"+SUM(ACF28:ACF30)","v":0},0,null,{"$f":"+SUM(ACI28:ACI30)","v":0},0,null,{"$f":"+SUM(ACL28:ACL30)","v":0},0,null,{"$f":"+SUM(ACO28:ACO30)","v":0},0,null,{"$f":"+SUM(ACR28:ACR30)","v":0},0,null,{"$f":"+SUM(ACU28:ACU30)","v":0},0,null,{"$f":"+SUM(ACX28:ACX30)","v":0},0,null,{"$f":"+SUM(ADA28:ADA30)","v":0},0,null,{"$f":"+SUM(ADD28:ADD30)","v":0},0,null,{"$f":"+SUM(ADG28:ADG30)","v":0},0,null,{"$f":"+SUM(ADJ28:ADJ30)","v":0},0,null,{"$f":"+SUM(ADM28:ADM30)","v":0},0,null,{"$f":"+SUM(ADP28:ADP30)","v":0},0,null,{"$f":"+SUM(ADS28:ADS30)","v":0},0,null,{"$f":"+SUM(ADV28:ADV30)","v":0},0,null,{"$f":"+SUM(ADY28:ADY30)","v":0},0,null,{"$f":"+SUM(AEB28:AEB30)","v":0},0,null,{"$f":"+SUM(AEE28:AEE30)","v":0},0,null,{"$f":"+SUM(AEH28:AEH30)","v":0},0,null,{"$f":"+SUM(AEK28:AEK30)","v":0},{"$f":"+IFERROR(AEK27/AEK26,0)","v":0},null,{"$f":"+SUM(AEN28:AEN30)","v":0},0,null,{"$f":"+SUM(AEQ28:AEQ30)","v":0},0,null,{"$f":"+SUM(AET28:AET30)","v":0},0,null,{"$f":"+SUM(AEW28:AEW30)","v":0},0,null,{"$f":"+SUM(AEZ28:AEZ30)","v":0},0,null,{"$f":"+SUM(AFC28:AFC30)","v":0},0,null,{"$f":"+SUM(AFF28:AFF30)","v":0},0,null,{"$f":"+SUM(AFI28:AFI30)","v":0},0,null,{"$f":"+SUM(AFL28:AFL30)","v":0},0,null,{"$f":"+SUM(AFO28:AFO30)","v":0},0,null,{"$f":"+SUM(AFR28:AFR30)","v":0},0,null,{"$f":"+SUM(AFU28:AFU30)","v":0},0,null,{"$f":"+SUM(AFX28:AFX30)","v":0},0,null,{"$f":"+SUM(AGA28:AGA30)","v":0},0,null,{"$f":"+SUM(AGD28:AGD30)","v":0},0,null,{"$f":"+SUM(AGG28:AGG30)","v":0},0,null,{"$f":"+SUM(AGJ28:AGJ30)","v":0},0,null,{"$f":"+SUM(AGM28:AGM30)","v":0},0,null,{"$f":"+SUM(AGP28:AGP30)","v":0},0,null,{"$f":"+SUM(AGS28:AGS30)","v":0},0,null,{"$f":"+SUM(AGV28:AGV30)","v":0},0,null,{"$f":"+SUM(AGY28:AGY30)","v":0},{"$f":"+IFERROR(AGY27/AGY26,0)","v":0},null,{"$f":"+SUM(AHB28:AHB30)","v":0},0,null,{"$f":"+SUM(AHE28:AHE30)","v":0},0,null,{"$f":"+SUM(AHH28:AHH30)","v":0},0,null,{"$f":"+SUM(AHK28:AHK30)","v":0},0,null,{"$f":"+SUM(AHN28:AHN30)","v":0},0,null,{"$f":"+SUM(AHQ28:AHQ30)","v":0},0,null,{"$f":"+SUM(AHT28:AHT30)","v":0},0]
["1.1","Stationary Combustion",null,{"$f":"+Aux_grafico!C2","v":0},{"$f":"+IFERROR(D28/$D$26,0)","v":0},null,null,{"$f":"IFERROR(+G28/G$26,\"\")","v":""},null,null,{"$f":"IFERROR(+J28/J$26,\"\")","v":""},null,null,{"$f":"IFERROR(+M28/M$26,\"\")","v":""},null,null,{"$f":"IFERROR(+P28/P$26,\"\")","v":""},null,null,{"$f":"IFERROR(+S28/S$26,\"\")","v":""},null,null,{"$f":"IFERROR(+V28/V$26,\"\")","v":""},null,null,{"$f":"IFERROR(+Y28/Y$26,\"\")","v":""},null,null,{"$f":"IFERROR(+AB28/AB$26,\"\")","v":""},null,null,{"$f":"IFERROR(+AE28/AE$26,\"\")","v":""},null,null,{"$f":"IFERROR(+AH28/AH$26,\"\")","v":""},null,null,{"$f":"IFERROR(+AK28/AK$26,\"\")","v":""},null,null,{"$f":"IFERROR(+AN28/AN$26,\"\")","v":""},null,null,{"$f":"IFERROR(+AQ28/AQ$26,\"\")","v":""},null,null,{"$f":"IFERROR(+AT28/AT$26,\"\")","v":""},null,null,{"$f":"IFERROR(+AW28/AW$26,\"\")","v":""},null,null,{"$f":"IFERROR(+AZ28/AZ$26,\"\")","v":""},null,null,{"$f":"IFERROR(+BC28/BC$26,\"\")","v":""},null,null,{"$f":"IFERROR(+BF28/BF$26,\"\")","v":""},null,null,{"$f":"IFERROR(+BI28/BI$26,\"\")","v":""},null,null,{"$f":"IFERROR(+BL28/BL$26,\"\")","v":""},null,null,{"$f":"IFERROR(+BO28/BO$26,\"\")","v":""},null,null,{"$f":"IFERROR(+BR28/BR$26,\"\")","v":""},null,null,{"$f":"IFERROR(+BU28/BU$26,\"\")","v":""},null,null,{"$f":"IFERROR(+BX28/BX$26,\"\")","v":""},null,null,{"$f":"IFERROR(+CA28/CA$26,\"\")","v":""},null,null,{"$f":"IFERROR(+CD28/CD$26,\"\")","v":""},null,null,{"$f":"IFERROR(+CG28/CG$26,\"\")","v":""},null,null,{"$f":"IFERROR(+CJ28/CJ$26,\"\")","v":""},null,null,{"$f":"IFERROR(+CM28/CM$26,\"\")","v":""},null,null,{"$f":"IFERROR(+CP28/CP$26,\"\")","v":""},null,null,{"$f":"IFERROR(+CS28/CS$26,\"\")","v":""},null,null,{"$f":"IFERROR(+CV28/CV$26,\"\")","v":""},null,null,{"$f":"IFERROR(+CY28/CY$26,\"\")","v":""},null,null,{"$f":"IFERROR(+DB28/DB$26,\"\")","v":""},null,null,{"$f":"IFERROR(+DE28/DE$26,\"\")","v":""},null,null,{"$f":"IFERROR(+DH28/DH$26,\"\")","v":""},null,null,{"$f":"IFERROR(+DK28/DK$26,\"\")","v":""},null,null,{"$f":"IFERROR(+DN28/DN$26,\"\")","v":""},null,null,{"$f":"IFERROR(+DQ28/DQ$26,\"\")","v":""},null,null,{"$f":"IFERROR(+DT28/DT$26,\"\")","v":""},null,null,{"$f":"IFERROR(+DW28/DW$26,\"\")","v":""},null,null,{"$f":"IFERROR(+DZ28/DZ$26,\"\")","v":""},null,null,{"$f":"IFERROR(+EC28/EC$26,\"\")","v":""},null,null,{"$f":"IFERROR(+EF28/EF$26,\"\")","v":""},null,null,{"$f":"IFERROR(+EI28/EI$26,\"\")","v":""},null,null,{"$f":"IFERROR(+EL28/EL$26,\"\")","v":""},null,null,{"$f":"IFERROR(+EO28/EO$26,\"\")","v":""},null,null,{"$f":"IFERROR(+ER28/ER$26,\"\")","v":""},null,null,{"$f":"IFERROR(+EU28/EU$26,\"\")","v":""},null,null,{"$f":"IFERROR(+EX28/EX$26,\"\")","v":""},null,null,{"$f":"IFERROR(+FA28/FA$26,\"\")","v":""},null,null,{"$f":"IFERROR(+FD28/FD$26,\"\")","v":""},null,null,{"$f":"IFERROR(+FG28/FG$26,\"\")","v":""},null,null,{"$f":"IFERROR(+FJ28/FJ$26,\"\")","v":""},null,null,{"$f":"IFERROR(+FM28/FM$26,\"\")","v":""},null,null,{"$f":"IFERROR(+FP28/FP$26,\"\")","v":""},null,null,{"$f":"IFERROR(+FS28/FS$26,\"\")","v":""},null,null,{"$f":"IFERROR(+FV28/FV$26,\"\")","v":""},null,null,{"$f":"IFERROR(+FY28/FY$26,\"\")","v":""},null,null,{"$f":"IFERROR(+GB28/GB$26,\"\")","v":""},null,null,{"$f":"IFERROR(+GE28/GE$26,\"\")","v":""},null,null,{"$f":"IFERROR(+GH28/GH$26,\"\")","v":""},null,null,{"$f":"IFERROR(+GK28/GK$26,\"\")","v":""},null,null,{"$f":"IFERROR(+GN28/GN$26,\"\")","v":""},null,null,{"$f":"IFERROR(+GQ28/GQ$26,\"\")","v":""},null,null,{"$f":"IFERROR(+GT28/GT$26,\"\")","v":""},null,null,{"$f":"IFERROR(+GW28/GW$26,\"\")","v":""},null,null,{"$f":"IFERROR(+GZ28/GZ$26,\"\")","v":""},null,null,{"$f":"IFERROR(+HC28/HC$26,\"\")","v":""},null,null,{"$f":"IFERROR(+HF28/HF$26,\"\")","v":""},null,null,{"$f":"IFERROR(+HI28/HI$26,\"\")","v":""},null,null,{"$f":"IFERROR(+HL28/HL$26,\"\")","v":""},null,null,{"$f":"IFERROR(+HO28/HO$26,\"\")","v":""},null,null,{"$f":"IFERROR(+HR28/HR$26,\"\")","v":""},null,null,{"$f":"IFERROR(+HU28/HU$26,\"\")","v":""},null,null,{"$f":"IFERROR(+HX28/HX$26,\"\")","v":""},null,null,{"$f":"IFERROR(+IA28/IA$26,\"\")","v":""},null,null,{"$f":"IFERROR(+ID28/ID$26,\"\")","v":""},null,null,{"$f":"IFERROR(+IG28/IG$26,\"\")","v":""},null,null,{"$f":"IFERROR(+IJ28/IJ$26,\"\")","v":""},null,null,{"$f":"IFERROR(+IM28/IM$26,\"\")","v":""},null,null,{"$f":"IFERROR(+IP28/IP$26,\"\")","v":""},null,null,{"$f":"IFERROR(+IS28/IS$26,\"\")","v":""},null,null,{"$f":"IFERROR(+IV28/IV$26,\"\")","v":""},null,null,{"$f":"IFERROR(+IY28/IY$26,\"\")","v":""},null,null,{"$f":"IFERROR(+JB28/JB$26,\"\")","v":""},null,null,{"$f":"IFERROR(+JE28/JE$26,\"\")","v":""},null,null,{"$f":"IFERROR(+JH28/JH$26,\"\")","v":""},null,null,{"$f":"IFERROR(+JK28/JK$26,\"\")","v":""},null,null,{"$f":"IFERROR(+JN28/JN$26,\"\")","v":""},null,null,{"$f":"IFERROR(+JQ28/JQ$26,\"\")","v":""},null,null,{"$f":"IFERROR(+JT28/JT$26,\"\")","v":""},null,null,{"$f":"IFERROR(+JW28/JW$26,\"\")","v":""},null,null,{"$f":"IFERROR(+JZ28/JZ$26,\"\")","v":""},null,null,{"$f":"IFERROR(+KC28/KC$26,\"\")","v":""},null,null,{"$f":"IFERROR(+KF28/KF$26,\"\")","v":""},null,null,{"$f":"IFERROR(+KI28/KI$26,\"\")","v":""},null,null,{"$f":"IFERROR(+KL28/KL$26,\"\")","v":""},null,null,{"$f":"IFERROR(+KO28/KO$26,\"\")","v":""},null,null,{"$f":"IFERROR(+KR28/KR$26,\"\")","v":""},null,null,{"$f":"IFERROR(+KU28/KU$26,\"\")","v":""},null,null,{"$f":"IFERROR(+KX28/KX$26,\"\")","v":""},null,null,{"$f":"IFERROR(+LA28/LA$26,\"\")","v":""},null,null,{"$f":"IFERROR(+LD28/LD$26,\"\")","v":""},null,null,{"$f":"IFERROR(+LG28/LG$26,\"\")","v":""},null,null,{"$f":"IFERROR(+LJ28/LJ$26,\"\")","v":""},null,null,{"$f":"IFERROR(+LM28/LM$26,\"\")","v":""},null,null,{"$f":"IFERROR(+LP28/LP$26,\"\")","v":""},null,null,{"$f":"IFERROR(+LS28/LS$26,\"\")","v":""},null,null,{"$f":"IFERROR(+LV28/LV$26,\"\")","v":""},null,null,{"$f":"IFERROR(+LY28/LY$26,\"\")","v":""},null,null,{"$f":"IFERROR(+MB28/MB$26,\"\")","v":""},null,null,{"$f":"IFERROR(+ME28/ME$26,\"\")","v":""},null,null,{"$f":"IFERROR(+MH28/MH$26,\"\")","v":""},null,null,{"$f":"IFERROR(+MK28/MK$26,\"\")","v":""},null,null,{"$f":"IFERROR(+MN28/MN$26,\"\")","v":""},null,null,{"$f":"IFERROR(+MQ28/MQ$26,\"\")","v":""},null,null,{"$f":"IFERROR(+MT28/MT$26,\"\")","v":""},null,null,{"$f":"IFERROR(+MW28/MW$26,\"\")","v":""},null,null,{"$f":"IFERROR(+MZ28/MZ$26,\"\")","v":""},null,null,{"$f":"IFERROR(+NC28/NC$26,\"\")","v":""},null,null,{"$f":"IFERROR(+NF28/NF$26,\"\")","v":""},null,null,{"$f":"IFERROR(+NI28/NI$26,\"\")","v":""},null,null,{"$f":"IFERROR(+NL28/NL$26,\"\")","v":""},null,null,{"$f":"IFERROR(+NO28/NO$26,\"\")","v":""},null,null,{"$f":"IFERROR(+NR28/NR$26,\"\")","v":""},null,null,{"$f":"IFERROR(+NU28/NU$26,\"\")","v":""},null,null,{"$f":"IFERROR(+NX28/NX$26,\"\")","v":""},null,null,{"$f":"IFERROR(+OA28/OA$26,\"\")","v":""},null,null,{"$f":"IFERROR(+OD28/OD$26,\"\")","v":""},null,null,{"$f":"IFERROR(+OG28/OG$26,\"\")","v":""},null,null,{"$f":"IFERROR(+OJ28/OJ$26,\"\")","v":""},null,null,{"$f":"IFERROR(+OM28/OM$26,\"\")","v":""},null,null,{"$f":"IFERROR(+OP28/OP$26,\"\")","v":""},null,null,{"$f":"IFERROR(+OS28/OS$26,\"\")","v":""},null,null,{"$f":"IFERROR(+OV28/OV$26,\"\")","v":""},null,null,{"$f":"IFERROR(+OY28/OY$26,\"\")","v":""},null,null,{"$f":"IFERROR(+PB28/PB$26,\"\")","v":""},null,null,{"$f":"IFERROR(+PE28/PE$26,\"\")","v":""},null,null,{"$f":"IFERROR(+PH28/PH$26,\"\")","v":""},null,null,{"$f":"IFERROR(+PK28/PK$26,\"\")","v":""},null,null,{"$f":"IFERROR(+PN28/PN$26,\"\")","v":""},null,null,{"$f":"IFERROR(+PQ28/PQ$26,\"\")","v":""},null,null,{"$f":"IFERROR(+PT28/PT$26,\"\")","v":""},null,null,{"$f":"IFERROR(+PW28/PW$26,\"\")","v":""},null,null,{"$f":"IFERROR(+PZ28/PZ$26,\"\")","v":""},null,null,{"$f":"IFERROR(+QC28/QC$26,\"\")","v":""},null,null,{"$f":"IFERROR(+QF28/QF$26,\"\")","v":""},null,null,{"$f":"IFERROR(+QI28/QI$26,\"\")","v":""},null,null,{"$f":"IFERROR(+QL28/QL$26,\"\")","v":""},null,null,{"$f":"IFERROR(+QO28/QO$26,\"\")","v":""},null,null,{"$f":"IFERROR(+QR28/QR$26,\"\")","v":""},null,null,{"$f":"IFERROR(+QU28/QU$26,\"\")","v":""},null,null,{"$f":"IFERROR(+QX28/QX$26,\"\")","v":""},null,null,{"$f":"IFERROR(+RA28/RA$26,\"\")","v":""},null,null,{"$f":"IFERROR(+RD28/RD$26,\"\")","v":""},null,null,{"$f":"IFERROR(+RG28/RG$26,\"\")","v":""},null,null,{"$f":"IFERROR(+RJ28/RJ$26,\"\")","v":""},null,null,{"$f":"IFERROR(+RM28/RM$26,\"\")","v":""},null,null,{"$f":"IFERROR(+RP28/RP$26,\"\")","v":""},null,null,{"$f":"IFERROR(+RS28/RS$26,\"\")","v":""},null,null,{"$f":"IFERROR(+RV28/RV$26,\"\")","v":""},null,null,{"$f":"IFERROR(+RY28/RY$26,\"\")","v":""},null,null,{"$f":"IFERROR(+SB28/SB$26,\"\")","v":""},null,null,{"$f":"IFERROR(+SE28/SE$26,\"\")","v":""},null,null,{"$f":"IFERROR(+SH28/SH$26,\"\")","v":""},null,null,{"$f":"IFERROR(+SK28/SK$26,\"\")","v":""},null,null,{"$f":"IFERROR(+SN28/SN$26,\"\")","v":""},null,null,{"$f":"IFERROR(+SQ28/SQ$26,\"\")","v":""},null,null,{"$f":"IFERROR(+ST28/ST$26,\"\")","v":""},null,null,{"$f":"IFERROR(+SW28/SW$26,\"\")","v":""},null,null,{"$f":"IFERROR(+SZ28/SZ$26,\"\")","v":""},null,null,{"$f":"IFERROR(+TC28/TC$26,\"\")","v":""},null,null,{"$f":"IFERROR(+TF28/TF$26,\"\")","v":""},null,null,{"$f":"IFERROR(+TI28/TI$26,\"\")","v":""},null,null,{"$f":"IFERROR(+TL28/TL$26,\"\")","v":""},null,null,{"$f":"IFERROR(+TO28/TO$26,\"\")","v":""},null,null,{"$f":"IFERROR(+TR28/TR$26,\"\")","v":""},null,null,{"$f":"IFERROR(+TU28/TU$26,\"\")","v":""},null,null,{"$f":"IFERROR(+TX28/TX$26,\"\")","v":""},null,null,{"$f":"IFERROR(+UA28/UA$26,\"\")","v":""},null,null,{"$f":"IFERROR(+UD28/UD$26,\"\")","v":""},null,null,{"$f":"IFERROR(+UG28/UG$26,\"\")","v":""},null,null,{"$f":"IFERROR(+UJ28/UJ$26,\"\")","v":""},null,null,{"$f":"IFERROR(+UM28/UM$26,\"\")","v":""},null,null,{"$f":"IFERROR(+UP28/UP$26,\"\")","v":""},null,null,{"$f":"IFERROR(+US28/US$26,\"\")","v":""},null,null,{"$f":"IFERROR(+UV28/UV$26,\"\")","v":""},null,null,{"$f":"IFERROR(+UY28/UY$26,\"\")","v":""},null,null,{"$f":"IFERROR(+VB28/VB$26,\"\")","v":""},null,null,{"$f":"IFERROR(+VE28/VE$26,\"\")","v":""},null,null,{"$f":"IFERROR(+VH28/VH$26,\"\")","v":""},null,null,{"$f":"IFERROR(+VK28/VK$26,\"\")","v":""},null,null,{"$f":"IFERROR(+VN28/VN$26,\"\")","v":""},null,null,{"$f":"IFERROR(+VQ28/VQ$26,\"\")","v":""},null,null,{"$f":"IFERROR(+VT28/VT$26,\"\")","v":""},null,null,{"$f":"IFERROR(+VW28/VW$26,\"\")","v":""},null,null,{"$f":"IFERROR(+VZ28/VZ$26,\"\")","v":""},null,null,{"$f":"IFERROR(+WC28/WC$26,\"\")","v":""},null,null,{"$f":"IFERROR(+WF28/WF$26,\"\")","v":""},null,null,{"$f":"IFERROR(+WI28/WI$26,\"\")","v":""},null,null,{"$f":"IFERROR(+WL28/WL$26,\"\")","v":""},null,null,{"$f":"IFERROR(+WO28/WO$26,\"\")","v":""},null,null,{"$f":"IFERROR(+WR28/WR$26,\"\")","v":""},null,null,{"$f":"IFERROR(+WU28/WU$26,\"\")","v":""},null,null,{"$f":"IFERROR(+WX28/WX$26,\"\")","v":""},null,null,{"$f":"IFERROR(+XA28/XA$26,\"\")","v":""},null,null,{"$f":"IFERROR(+XD28/XD$26,\"\")","v":""},null,null,{"$f":"IFERROR(+XG28/XG$26,\"\")","v":""},null,null,{"$f":"IFERROR(+XJ28/XJ$26,\"\")","v":""},null,null,{"$f":"IFERROR(+XM28/XM$26,\"\")","v":""},null,null,{"$f":"IFERROR(+XP28/XP$26,\"\")","v":""},null,null,{"$f":"IFERROR(+XS28/XS$26,\"\")","v":""},null,null,{"$f":"IFERROR(+XV28/XV$26,\"\")","v":""},null,null,{"$f":"IFERROR(+XY28/XY$26,\"\")","v":""},null,null,{"$f":"IFERROR(+YB28/YB$26,\"\")","v":""},null,null,{"$f":"IFERROR(+YE28/YE$26,\"\")","v":""},null,null,{"$f":"IFERROR(+YH28/YH$26,\"\")","v":""},null,null,{"$f":"IFERROR(+YK28/YK$26,\"\")","v":""},null,null,{"$f":"IFERROR(+YN28/YN$26,\"\")","v":""},null,null,{"$f":"IFERROR(+YQ28/YQ$26,\"\")","v":""},null,null,{"$f":"IFERROR(+YT28/YT$26,\"\")","v":""},null,null,{"$f":"IFERROR(+YW28/YW$26,\"\")","v":""},null,null,{"$f":"IFERROR(+YZ28/YZ$26,\"\")","v":""},null,null,{"$f":"IFERROR(+ZC28/ZC$26,\"\")","v":""},null,null,{"$f":"IFERROR(+ZF28/ZF$26,\"\")","v":""},null,null,{"$f":"IFERROR(+ZI28/ZI$26,\"\")","v":""},null,null,{"$f":"IFERROR(+ZL28/ZL$26,\"\")","v":""},null,null,{"$f":"IFERROR(+ZO28/ZO$26,\"\")","v":""},null,null,{"$f":"IFERROR(+ZR28/ZR$26,\"\")","v":""},null,null,{"$f":"IFERROR(+ZU28/ZU$26,\"\")","v":""},null,null,{"$f":"IFERROR(+ZX28/ZX$26,\"\")","v":""},null,null,{"$f":"IFERROR(+AAA28/AAA$26,\"\")","v":""},null,null,{"$f":"IFERROR(+AAD28/AAD$26,\"\")","v":""},null,null,{"$f":"IFERROR(+AAG28/AAG$26,\"\")","v":""},null,null,{"$f":"IFERROR(+AAJ28/AAJ$26,\"\")","v":""},null,null,{"$f":"IFERROR(+AAM28/AAM$26,\"\")","v":""},null,null,{"$f":"IFERROR(+AAP28/AAP$26,\"\")","v":""},null,null,{"$f":"IFERROR(+AAS28/AAS$26,\"\")","v":""},null,null,{"$f":"IFERROR(+AAV28/AAV$26,\"\")","v":""},null,null,{"$f":"IFERROR(+AAY28/AAY$26,\"\")","v":""},null,null,{"$f":"IFERROR(+ABB28/ABB$26,\"\")","v":""},null,null,{"$f":"IFERROR(+ABE28/ABE$26,\"\")","v":""},null,null,{"$f":"IFERROR(+ABH28/ABH$26,\"\")","v":""},null,null,{"$f":"IFERROR(+ABK28/ABK$26,\"\")","v":""},null,null,{"$f":"IFERROR(+ABN28/ABN$26,\"\")","v":""},null,null,{"$f":"IFERROR(+ABQ28/ABQ$26,\"\")","v":""},null,null,{"$f":"IFERROR(+ABT28/ABT$26,\"\")","v":""},null,null,{"$f":"IFERROR(+ABW28/ABW$26,\"\")","v":""},null,null,{"$f":"IFERROR(+ABZ28/ABZ$26,\"\")","v":""},null,null,{"$f":"IFERROR(+ACC28/ACC$26,\"\")","v":""},null,null,{"$f":"IFERROR(+ACF28/ACF$26,\"\")","v":""},null,null,{"$f":"IFERROR(+ACI28/ACI$26,\"\")","v":""},null,null,{"$f":"IFERROR(+ACL28/ACL$26,\"\")","v":""},null,null,{"$f":"IFERROR(+ACO28/ACO$26,\"\")","v":""},null,null,{"$f":"IFERROR(+ACR28/ACR$26,\"\")","v":""},null,null,{"$f":"IFERROR(+ACU28/ACU$26,\"\")","v":""},null,null,{"$f":"IFERROR(+ACX28/ACX$26,\"\")","v":""},null,null,{"$f":"IFERROR(+ADA28/ADA$26,\"\")","v":""},null,null,{"$f":"IFERROR(+ADD28/ADD$26,\"\")","v":""},null,null,{"$f":"IFERROR(+ADG28/ADG$26,\"\")","v":""},null,null,{"$f":"IFERROR(+ADJ28/ADJ$26,\"\")","v":""},null,null,{"$f":"IFERROR(+ADM28/ADM$26,\"\")","v":""},null,null,{"$f":"IFERROR(+ADP28/ADP$26,\"\")","v":""},null,null,{"$f":"IFERROR(+ADS28/ADS$26,\"\")","v":""},null,null,{"$f":"IFERROR(+ADV28/ADV$26,\"\")","v":""},null,null,{"$f":"IFERROR(+ADY28/ADY$26,\"\")","v":""},null,null,{"$f":"IFERROR(+AEB28/AEB$26,\"\")","v":""},null,null,{"$f":"IFERROR(+AEE28/AEE$26,\"\")","v":""},null,null,{"$f":"IFERROR(+AEH28/AEH$26,\"\")","v":""},null,null,{"$f":"IFERROR(+AEK28/AEK$26,\"\")","v":""},null,null,{"$f":"IFERROR(+AEN28/AEN$26,\"\")","v":""},null,null,{"$f":"IFERROR(+AEQ28/AEQ$26,\"\")","v":""},null,null,{"$f":"IFERROR(+AET28/AET$26,\"\")","v":""},null,null,{"$f":"IFERROR(+AEW28/AEW$26,\"\")","v":""},null,null,{"$f":"IFERROR(+AEZ28/AEZ$26,\"\")","v":""},null,null,{"$f":"IFERROR(+AFC28/AFC$26,\"\")","v":""},null,null,{"$f":"IFERROR(+AFF28/AFF$26,\"\")","v":""},null,null,{"$f":"IFERROR(+AFI28/AFI$26,\"\")","v":""},null,null,{"$f":"IFERROR(+AFL28/AFL$26,\"\")","v":""},null,null,{"$f":"IFERROR(+AFO28/AFO$26,\"\")","v":""},null,null,{"$f":"IFERROR(+AFR28/AFR$26,\"\")","v":""},null,null,{"$f":"IFERROR(+AFU28/AFU$26,\"\")","v":""},null,null,{"$f":"IFERROR(+AFX28/AFX$26,\"\")","v":""},null,null,{"$f":"IFERROR(+AGA28/AGA$26,\"\")","v":""},null,null,{"$f":"IFERROR(+AGD28/AGD$26,\"\")","v":""},null,null,{"$f":"IFERROR(+AGG28/AGG$26,\"\")","v":""},null,null,{"$f":"IFERROR(+AGJ28/AGJ$26,\"\")","v":""},null,null,{"$f":"IFERROR(+AGM28/AGM$26,\"\")","v":""},null,null,{"$f":"IFERROR(+AGP28/AGP$26,\"\")","v":""},null,null,{"$f":"IFERROR(+AGS28/AGS$26,\"\")","v":""},null,null,{"$f":"IFERROR(+AGV28/AGV$26,\"\")","v":""},null,null,{"$f":"IFERROR(+AGY28/AGY$26,\"\")","v":""},null,null,{"$f":"IFERROR(+AHB28/AHB$26,\"\")","v":""},null,null,{"$f":"IFERROR(+AHE28/AHE$26,\"\")","v":""},null,null,{"$f":"IFERROR(+AHH28/AHH$26,\"\")","v":""},null,null,{"$f":"IFERROR(+AHK28/AHK$26,\"\")","v":""},null,null,{"$f":"IFERROR(+AHN28/AHN$26,\"\")","v":""},null,null,{"$f":"IFERROR(+AHQ28/AHQ$26,\"\")","v":""},null,null,{"$f":"IFERROR(+AHT28/AHT$26,\"\")","v":""}]
["1.2","Mobile Combustion",null,{"$f":"+Aux_grafico!C3","v":0},{"$f":"+IFERROR(D29/$D$26,0)","v":0},null,null,{"$f":"IFERROR(+G29/G$26,\"\")","v":""},null,null,{"$f":"IFERROR(+J29/J$26,\"\")","v":""},null,null,{"$f":"IFERROR(+M29/M$26,\"\")","v":""},null,null,{"$f":"IFERROR(+P29/P$26,\"\")","v":""},null,null,{"$f":"IFERROR(+S29/S$26,\"\")","v":""},null,null,{"$f":"IFERROR(+V29/V$26,\"\")","v":""},null,null,{"$f":"IFERROR(+Y29/Y$26,\"\")","v":""},null,null,{"$f":"IFERROR(+AB29/AB$26,\"\")","v":""},null,null,{"$f":"IFERROR(+AE29/AE$26,\"\")","v":""},null,null,{"$f":"IFERROR(+AH29/AH$26,\"\")","v":""},null,null,{"$f":"IFERROR(+AK29/AK$26,\"\")","v":""},null,null,{"$f":"IFERROR(+AN29/AN$26,\"\")","v":""},null,null,{"$f":"IFERROR(+AQ29/AQ$26,\"\")","v":""},null,null,{"$f":"IFERROR(+AT29/AT$26,\"\")","v":""},null,null,{"$f":"IFERROR(+AW29/AW$26,\"\")","v":""},null,null,{"$f":"IFERROR(+AZ29/AZ$26,\"\")","v":""},null,null,{"$f":"IFERROR(+BC29/BC$26,\"\")","v":""},null,null,{"$f":"IFERROR(+BF29/BF$26,\"\")","v":""},null,null,{"$f":"IFERROR(+BI29/BI$26,\"\")","v":""},null,null,{"$f":"IFERROR(+BL29/BL$26,\"\")","v":""},null,null,{"$f":"IFERROR(+BO29/BO$26,\"\")","v":""},null,null,{"$f":"IFERROR(+BR29/BR$26,\"\")","v":""},null,null,{"$f":"IFERROR(+BU29/BU$26,\"\")","v":""},null,null,{"$f":"IFERROR(+BX29/BX$26,\"\")","v":""},null,null,{"$f":"IFERROR(+CA29/CA$26,\"\")","v":""},null,null,{"$f":"IFERROR(+CD29/CD$26,\"\")","v":""},null,null,{"$f":"IFERROR(+CG29/CG$26,\"\")","v":""},null,null,{"$f":"IFERROR(+CJ29/CJ$26,\"\")","v":""},null,null,{"$f":"IFERROR(+CM29/CM$26,\"\")","v":""},null,null,{"$f":"IFERROR(+CP29/CP$26,\"\")","v":""},null,null,{"$f":"IFERROR(+CS29/CS$26,\"\")","v":""},null,null,{"$f":"IFERROR(+CV29/CV$26,\"\")","v":""},null,null,{"$f":"IFERROR(+CY29/CY$26,\"\")","v":""},null,null,{"$f":"IFERROR(+DB29/DB$26,\"\")","v":""},null,null,{"$f":"IFERROR(+DE29/DE$26,\"\")","v":""},null,null,{"$f":"IFERROR(+DH29/DH$26,\"\")","v":""},null,null,{"$f":"IFERROR(+DK29/DK$26,\"\")","v":""},null,null,{"$f":"IFERROR(+DN29/DN$26,\"\")","v":""},null,null,{"$f":"IFERROR(+DQ29/DQ$26,\"\")","v":""},null,null,{"$f":"IFERROR(+DT29/DT$26,\"\")","v":""},null,null,{"$f":"IFERROR(+DW29/DW$26,\"\")","v":""},null,null,{"$f":"IFERROR(+DZ29/DZ$26,\"\")","v":""},null,null,{"$f":"IFERROR(+EC29/EC$26,\"\")","v":""},null,null,{"$f":"IFERROR(+EF29/EF$26,\"\")","v":""},null,null,{"$f":"IFERROR(+EI29/EI$26,\"\")","v":""},null,null,{"$f":"IFERROR(+EL29/EL$26,\"\")","v":""},null,null,{"$f":"IFERROR(+EO29/EO$26,\"\")","v":""},null,null,{"$f":"IFERROR(+ER29/ER$26,\"\")","v":""},null,null,{"$f":"IFERROR(+EU29/EU$26,\"\")","v":""},null,null,{"$f":"IFERROR(+EX29/EX$26,\"\")","v":""},null,null,{"$f":"IFERROR(+FA29/FA$26,\"\")","v":""},null,null,{"$f":"IFERROR(+FD29/FD$26,\"\")","v":""},null,null,{"$f":"IFERROR(+FG29/FG$26,\"\")","v":""},null,null,{"$f":"IFERROR(+FJ29/FJ$26,\"\")","v":""},null,null,{"$f":"IFERROR(+FM29/FM$26,\"\")","v":""},null,null,{"$f":"IFERROR(+FP29/FP$26,\"\")","v":""},null,null,{"$f":"IFERROR(+FS29/FS$26,\"\")","v":""},null,null,{"$f":"IFERROR(+FV29/FV$26,\"\")","v":""},null,null,{"$f":"IFERROR(+FY29/FY$26,\"\")","v":""},null,null,{"$f":"IFERROR(+GB29/GB$26,\"\")","v":""},null,null,{"$f":"IFERROR(+GE29/GE$26,\"\")","v":""},null,null,{"$f":"IFERROR(+GH29/GH$26,\"\")","v":""},null,null,{"$f":"IFERROR(+GK29/GK$26,\"\")","v":""},null,null,{"$f":"IFERROR(+GN29/GN$26,\"\")","v":""},null,null,{"$f":"IFERROR(+GQ29/GQ$26,\"\")","v":""},null,null,{"$f":"IFERROR(+GT29/GT$26,\"\")","v":""},null,null,{"$f":"IFERROR(+GW29/GW$26,\"\")","v":""},null,null,{"$f":"IFERROR(+GZ29/GZ$26,\"\")","v":""},null,null,{"$f":"IFERROR(+HC29/HC$26,\"\")","v":""},null,null,{"$f":"IFERROR(+HF29/HF$26,\"\")","v":""},null,null,{"$f":"IFERROR(+HI29/HI$26,\"\")","v":""},null,null,{"$f":"IFERROR(+HL29/HL$26,\"\")","v":""},null,null,{"$f":"IFERROR(+HO29/HO$26,\"\")","v":""},null,null,{"$f":"IFERROR(+HR29/HR$26,\"\")","v":""},null,null,{"$f":"IFERROR(+HU29/HU$26,\"\")","v":""},null,null,{"$f":"IFERROR(+HX29/HX$26,\"\")","v":""},null,null,{"$f":"IFERROR(+IA29/IA$26,\"\")","v":""},null,null,{"$f":"IFERROR(+ID29/ID$26,\"\")","v":""},null,null,{"$f":"IFERROR(+IG29/IG$26,\"\")","v":""},null,null,{"$f":"IFERROR(+IJ29/IJ$26,\"\")","v":""},null,null,{"$f":"IFERROR(+IM29/IM$26,\"\")","v":""},null,null,{"$f":"IFERROR(+IP29/IP$26,\"\")","v":""},null,null,{"$f":"IFERROR(+IS29/IS$26,\"\")","v":""},null,null,{"$f":"IFERROR(+IV29/IV$26,\"\")","v":""},null,null,{"$f":"IFERROR(+IY29/IY$26,\"\")","v":""},null,null,{"$f":"IFERROR(+JB29/JB$26,\"\")","v":""},null,null,{"$f":"IFERROR(+JE29/JE$26,\"\")","v":""},null,null,{"$f":"IFERROR(+JH29/JH$26,\"\")","v":""},null,null,{"$f":"IFERROR(+JK29/JK$26,\"\")","v":""},null,null,{"$f":"IFERROR(+JN29/JN$26,\"\")","v":""},null,null,{"$f":"IFERROR(+JQ29/JQ$26,\"\")","v":""},null,null,{"$f":"IFERROR(+JT29/JT$26,\"\")","v":""},null,null,{"$f":"IFERROR(+JW29/JW$26,\"\")","v":""},null,null,{"$f":"IFERROR(+JZ29/JZ$26,\"\")","v":""},null,null,{"$f":"IFERROR(+KC29/KC$26,\"\")","v":""},null,null,{"$f":"IFERROR(+KF29/KF$26,\"\")","v":""},null,null,{"$f":"IFERROR(+KI29/KI$26,\"\")","v":""},null,null,{"$f":"IFERROR(+KL29/KL$26,\"\")","v":""},null,null,{"$f":"IFERROR(+KO29/KO$26,\"\")","v":""},null,null,{"$f":"IFERROR(+KR29/KR$26,\"\")","v":""},null,null,{"$f":"IFERROR(+KU29/KU$26,\"\")","v":""},null,null,{"$f":"IFERROR(+KX29/KX$26,\"\")","v":""},null,null,{"$f":"IFERROR(+LA29/LA$26,\"\")","v":""},null,null,{"$f":"IFERROR(+LD29/LD$26,\"\")","v":""},null,null,{"$f":"IFERROR(+LG29/LG$26,\"\")","v":""},null,null,{"$f":"IFERROR(+LJ29/LJ$26,\"\")","v":""},null,null,{"$f":"IFERROR(+LM29/LM$26,\"\")","v":""},null,null,{"$f":"IFERROR(+LP29/LP$26,\"\")","v":""},null,null,{"$f":"IFERROR(+LS29/LS$26,\"\")","v":""},null,null,{"$f":"IFERROR(+LV29/LV$26,\"\")","v":""},null,null,{"$f":"IFERROR(+LY29/LY$26,\"\")","v":""},null,null,{"$f":"IFERROR(+MB29/MB$26,\"\")","v":""},null,null,{"$f":"IFERROR(+ME29/ME$26,\"\")","v":""},null,null,{"$f":"IFERROR(+MH29/MH$26,\"\")","v":""},null,null,{"$f":"IFERROR(+MK29/MK$26,\"\")","v":""},null,null,{"$f":"IFERROR(+MN29/MN$26,\"\")","v":""},null,null,{"$f":"IFERROR(+MQ29/MQ$26,\"\")","v":""},null,null,{"$f":"IFERROR(+MT29/MT$26,\"\")","v":""},null,null,{"$f":"IFERROR(+MW29/MW$26,\"\")","v":""},null,null,{"$f":"IFERROR(+MZ29/MZ$26,\"\")","v":""},null,null,{"$f":"IFERROR(+NC29/NC$26,\"\")","v":""},null,null,{"$f":"IFERROR(+NF29/NF$26,\"\")","v":""},null,null,{"$f":"IFERROR(+NI29/NI$26,\"\")","v":""},null,null,{"$f":"IFERROR(+NL29/NL$26,\"\")","v":""},null,null,{"$f":"IFERROR(+NO29/NO$26,\"\")","v":""},null,null,{"$f":"IFERROR(+NR29/NR$26,\"\")","v":""},null,null,{"$f":"IFERROR(+NU29/NU$26,\"\")","v":""},null,null,{"$f":"IFERROR(+NX29/NX$26,\"\")","v":""},null,null,{"$f":"IFERROR(+OA29/OA$26,\"\")","v":""},null,null,{"$f":"IFERROR(+OD29/OD$26,\"\")","v":""},null,null,{"$f":"IFERROR(+OG29/OG$26,\"\")","v":""},null,null,{"$f":"IFERROR(+OJ29/OJ$26,\"\")","v":""},null,null,{"$f":"IFERROR(+OM29/OM$26,\"\")","v":""},null,null,{"$f":"IFERROR(+OP29/OP$26,\"\")","v":""},null,null,{"$f":"IFERROR(+OS29/OS$26,\"\")","v":""},null,null,{"$f":"IFERROR(+OV29/OV$26,\"\")","v":""},null,null,{"$f":"IFERROR(+OY29/OY$26,\"\")","v":""},null,null,{"$f":"IFERROR(+PB29/PB$26,\"\")","v":""},null,null,{"$f":"IFERROR(+PE29/PE$26,\"\")","v":""},null,null,{"$f":"IFERROR(+PH29/PH$26,\"\")","v":""},null,null,{"$f":"IFERROR(+PK29/PK$26,\"\")","v":""},null,null,{"$f":"IFERROR(+PN29/PN$26,\"\")","v":""},null,null,{"$f":"IFERROR(+PQ29/PQ$26,\"\")","v":""},null,null,{"$f":"IFERROR(+PT29/PT$26,\"\")","v":""},null,null,{"$f":"IFERROR(+PW29/PW$26,\"\")","v":""},null,null,{"$f":"IFERROR(+PZ29/PZ$26,\"\")","v":""},null,null,{"$f":"IFERROR(+QC29/QC$26,\"\")","v":""},null,null,{"$f":"IFERROR(+QF29/QF$26,\"\")","v":""},null,null,{"$f":"IFERROR(+QI29/QI$26,\"\")","v":""},null,null,{"$f":"IFERROR(+QL29/QL$26,\"\")","v":""},null,null,{"$f":"IFERROR(+QO29/QO$26,\"\")","v":""},null,null,{"$f":"IFERROR(+QR29/QR$26,\"\")","v":""},null,null,{"$f":"IFERROR(+QU29/QU$26,\"\")","v":""},null,null,{"$f":"IFERROR(+QX29/QX$26,\"\")","v":""},null,null,{"$f":"IFERROR(+RA29/RA$26,\"\")","v":""},null,null,{"$f":"IFERROR(+RD29/RD$26,\"\")","v":""},null,null,{"$f":"IFERROR(+RG29/RG$26,\"\")","v":""},null,null,{"$f":"IFERROR(+RJ29/RJ$26,\"\")","v":""},null,null,{"$f":"IFERROR(+RM29/RM$26,\"\")","v":""},null,null,{"$f":"IFERROR(+RP29/RP$26,\"\")","v":""},null,null,{"$f":"IFERROR(+RS29/RS$26,\"\")","v":""},null,null,{"$f":"IFERROR(+RV29/RV$26,\"\")","v":""},null,null,{"$f":"IFERROR(+RY29/RY$26,\"\")","v":""},null,null,{"$f":"IFERROR(+SB29/SB$26,\"\")","v":""},null,null,{"$f":"IFERROR(+SE29/SE$26,\"\")","v":""},null,null,{"$f":"IFERROR(+SH29/SH$26,\"\")","v":""},null,null,{"$f":"IFERROR(+SK29/SK$26,\"\")","v":""},null,null,{"$f":"IFERROR(+SN29/SN$26,\"\")","v":""},null,null,{"$f":"IFERROR(+SQ29/SQ$26,\"\")","v":""},null,null,{"$f":"IFERROR(+ST29/ST$26,\"\")","v":""},null,null,{"$f":"IFERROR(+SW29/SW$26,\"\")","v":""},null,null,{"$f":"IFERROR(+SZ29/SZ$26,\"\")","v":""},null,null,{"$f":"IFERROR(+TC29/TC$26,\"\")","v":""},null,null,{"$f":"IFERROR(+TF29/TF$26,\"\")","v":""},null,null,{"$f":"IFERROR(+TI29/TI$26,\"\")","v":""},null,null,{"$f":"IFERROR(+TL29/TL$26,\"\")","v":""},null,null,{"$f":"IFERROR(+TO29/TO$26,\"\")","v":""},null,null,{"$f":"IFERROR(+TR29/TR$26,\"\")","v":""},null,null,{"$f":"IFERROR(+TU29/TU$26,\"\")","v":""},null,null,{"$f":"IFERROR(+TX29/TX$26,\"\")","v":""},null,null,{"$f":"IFERROR(+UA29/UA$26,\"\")","v":""},null,null,{"$f":"IFERROR(+UD29/UD$26,\"\")","v":""},null,null,{"$f":"IFERROR(+UG29/UG$26,\"\")","v":""},null,null,{"$f":"IFERROR(+UJ29/UJ$26,\"\")","v":""},null,null,{"$f":"IFERROR(+UM29/UM$26,\"\")","v":""},null,null,{"$f":"IFERROR(+UP29/UP$26,\"\")","v":""},null,null,{"$f":"IFERROR(+US29/US$26,\"\")","v":""},null,null,{"$f":"IFERROR(+UV29/UV$26,\"\")","v":""},null,null,{"$f":"IFERROR(+UY29/UY$26,\"\")","v":""},null,null,{"$f":"IFERROR(+VB29/VB$26,\"\")","v":""},null,null,{"$f":"IFERROR(+VE29/VE$26,\"\")","v":""},null,null,{"$f":"IFERROR(+VH29/VH$26,\"\")","v":""},null,null,{"$f":"IFERROR(+VK29/VK$26,\"\")","v":""},null,null,{"$f":"IFERROR(+VN29/VN$26,\"\")","v":""},null,null,{"$f":"IFERROR(+VQ29/VQ$26,\"\")","v":""},null,null,{"$f":"IFERROR(+VT29/VT$26,\"\")","v":""},null,null,{"$f":"IFERROR(+VW29/VW$26,\"\")","v":""},null,null,{"$f":"IFERROR(+VZ29/VZ$26,\"\")","v":""},null,null,{"$f":"IFERROR(+WC29/WC$26,\"\")","v":""},null,null,{"$f":"IFERROR(+WF29/WF$26,\"\")","v":""},null,null,{"$f":"IFERROR(+WI29/WI$26,\"\")","v":""},null,null,{"$f":"IFERROR(+WL29/WL$26,\"\")","v":""},null,null,{"$f":"IFERROR(+WO29/WO$26,\"\")","v":""},null,null,{"$f":"IFERROR(+WR29/WR$26,\"\")","v":""},null,null,{"$f":"IFERROR(+WU29/WU$26,\"\")","v":""},null,null,{"$f":"IFERROR(+WX29/WX$26,\"\")","v":""},null,null,{"$f":"IFERROR(+XA29/XA$26,\"\")","v":""},null,null,{"$f":"IFERROR(+XD29/XD$26,\"\")","v":""},null,null,{"$f":"IFERROR(+XG29/XG$26,\"\")","v":""},null,null,{"$f":"IFERROR(+XJ29/XJ$26,\"\")","v":""},null,null,{"$f":"IFERROR(+XM29/XM$26,\"\")","v":""},null,null,{"$f":"IFERROR(+XP29/XP$26,\"\")","v":""},null,null,{"$f":"IFERROR(+XS29/XS$26,\"\")","v":""},null,null,{"$f":"IFERROR(+XV29/XV$26,\"\")","v":""},null,null,{"$f":"IFERROR(+XY29/XY$26,\"\")","v":""},null,null,{"$f":"IFERROR(+YB29/YB$26,\"\")","v":""},null,null,{"$f":"IFERROR(+YE29/YE$26,\"\")","v":""},null,null,{"$f":"IFERROR(+YH29/YH$26,\"\")","v":""},null,null,{"$f":"IFERROR(+YK29/YK$26,\"\")","v":""},null,null,{"$f":"IFERROR(+YN29/YN$26,\"\")","v":""},null,null,{"$f":"IFERROR(+YQ29/YQ$26,\"\")","v":""},null,null,{"$f":"IFERROR(+YT29/YT$26,\"\")","v":""},null,null,{"$f":"IFERROR(+YW29/YW$26,\"\")","v":""},null,null,{"$f":"IFERROR(+YZ29/YZ$26,\"\")","v":""},null,null,{"$f":"IFERROR(+ZC29/ZC$26,\"\")","v":""},null,null,{"$f":"IFERROR(+ZF29/ZF$26,\"\")","v":""},null,null,{"$f":"IFERROR(+ZI29/ZI$26,\"\")","v":""},null,null,{"$f":"IFERROR(+ZL29/ZL$26,\"\")","v":""},null,null,{"$f":"IFERROR(+ZO29/ZO$26,\"\")","v":""},null,null,{"$f":"IFERROR(+ZR29/ZR$26,\"\")","v":""},null,null,{"$f":"IFERROR(+ZU29/ZU$26,\"\")","v":""},null,null,{"$f":"IFERROR(+ZX29/ZX$26,\"\")","v":""},null,null,{"$f":"IFERROR(+AAA29/AAA$26,\"\")","v":""},null,null,{"$f":"IFERROR(+AAD29/AAD$26,\"\")","v":""},null,null,{"$f":"IFERROR(+AAG29/AAG$26,\"\")","v":""},null,null,{"$f":"IFERROR(+AAJ29/AAJ$26,\"\")","v":""},null,null,{"$f":"IFERROR(+AAM29/AAM$26,\"\")","v":""},null,null,{"$f":"IFERROR(+AAP29/AAP$26,\"\")","v":""},null,null,{"$f":"IFERROR(+AAS29/AAS$26,\"\")","v":""},null,null,{"$f":"IFERROR(+AAV29/AAV$26,\"\")","v":""},null,null,{"$f":"IFERROR(+AAY29/AAY$26,\"\")","v":""},null,null,{"$f":"IFERROR(+ABB29/ABB$26,\"\")","v":""},null,null,{"$f":"IFERROR(+ABE29/ABE$26,\"\")","v":""},null,null,{"$f":"IFERROR(+ABH29/ABH$26,\"\")","v":""},null,null,{"$f":"IFERROR(+ABK29/ABK$26,\"\")","v":""},null,null,{"$f":"IFERROR(+ABN29/ABN$26,\"\")","v":""},null,null,{"$f":"IFERROR(+ABQ29/ABQ$26,\"\")","v":""},null,null,{"$f":"IFERROR(+ABT29/ABT$26,\"\")","v":""},null,null,{"$f":"IFERROR(+ABW29/ABW$26,\"\")","v":""},null,null,{"$f":"IFERROR(+ABZ29/ABZ$26,\"\")","v":""},null,null,{"$f":"IFERROR(+ACC29/ACC$26,\"\")","v":""},null,null,{"$f":"IFERROR(+ACF29/ACF$26,\"\")","v":""},null,null,{"$f":"IFERROR(+ACI29/ACI$26,\"\")","v":""},null,null,{"$f":"IFERROR(+ACL29/ACL$26,\"\")","v":""},null,null,{"$f":"IFERROR(+ACO29/ACO$26,\"\")","v":""},null,null,{"$f":"IFERROR(+ACR29/ACR$26,\"\")","v":""},null,null,{"$f":"IFERROR(+ACU29/ACU$26,\"\")","v":""},null,null,{"$f":"IFERROR(+ACX29/ACX$26,\"\")","v":""},null,null,{"$f":"IFERROR(+ADA29/ADA$26,\"\")","v":""},null,null,{"$f":"IFERROR(+ADD29/ADD$26,\"\")","v":""},null,null,{"$f":"IFERROR(+ADG29/ADG$26,\"\")","v":""},null,null,{"$f":"IFERROR(+ADJ29/ADJ$26,\"\")","v":""},null,null,{"$f":"IFERROR(+ADM29/ADM$26,\"\")","v":""},null,null,{"$f":"IFERROR(+ADP29/ADP$26,\"\")","v":""},null,null,{"$f":"IFERROR(+ADS29/ADS$26,\"\")","v":""},null,null,{"$f":"IFERROR(+ADV29/ADV$26,\"\")","v":""},null,null,{"$f":"IFERROR(+ADY29/ADY$26,\"\")","v":""},null,null,{"$f":"IFERROR(+AEB29/AEB$26,\"\")","v":""},null,null,{"$f":"IFERROR(+AEE29/AEE$26,\"\")","v":""},null,null,{"$f":"IFERROR(+AEH29/AEH$26,\"\")","v":""},null,null,{"$f":"IFERROR(+AEK29/AEK$26,\"\")","v":""},null,null,{"$f":"IFERROR(+AEN29/AEN$26,\"\")","v":""},null,null,{"$f":"IFERROR(+AEQ29/AEQ$26,\"\")","v":""},null,null,{"$f":"IFERROR(+AET29/AET$26,\"\")","v":""},null,null,{"$f":"IFERROR(+AEW29/AEW$26,\"\")","v":""},null,null,{"$f":"IFERROR(+AEZ29/AEZ$26,\"\")","v":""},null,null,{"$f":"IFERROR(+AFC29/AFC$26,\"\")","v":""},null,null,{"$f":"IFERROR(+AFF29/AFF$26,\"\")","v":""},null,null,{"$f":"IFERROR(+AFI29/AFI$26,\"\")","v":""},null,null,{"$f":"IFERROR(+AFL29/AFL$26,\"\")","v":""},null,null,{"$f":"IFERROR(+AFO29/AFO$26,\"\")","v":""},null,null,{"$f":"IFERROR(+AFR29/AFR$26,\"\")","v":""},null,null,{"$f":"IFERROR(+AFU29/AFU$26,\"\")","v":""},null,null,{"$f":"IFERROR(+AFX29/AFX$26,\"\")","v":""},null,null,{"$f":"IFERROR(+AGA29/AGA$26,\"\")","v":""},null,null,{"$f":"IFERROR(+AGD29/AGD$26,\"\")","v":""},null,null,{"$f":"IFERROR(+AGG29/AGG$26,\"\")","v":""},null,null,{"$f":"IFERROR(+AGJ29/AGJ$26,\"\")","v":""},null,null,{"$f":"IFERROR(+AGM29/AGM$26,\"\")","v":""},null,null,{"$f":"IFERROR(+AGP29/AGP$26,\"\")","v":""},null,null,{"$f":"IFERROR(+AGS29/AGS$26,\"\")","v":""},null,null,{"$f":"IFERROR(+AGV29/AGV$26,\"\")","v":""},null,null,{"$f":"IFERROR(+AGY29/AGY$26,\"\")","v":""},null,null,{"$f":"IFERROR(+AHB29/AHB$26,\"\")","v":""},null,null,{"$f":"IFERROR(+AHE29/AHE$26,\"\")","v":""},null,null,{"$f":"IFERROR(+AHH29/AHH$26,\"\")","v":""},null,null,{"$f":"IFERROR(+AHK29/AHK$26,\"\")","v":""},null,null,{"$f":"IFERROR(+AHN29/AHN$26,\"\")","v":""},null,null,{"$f":"IFERROR(+AHQ29/AHQ$26,\"\")","v":""},null,null,{"$f":"IFERROR(+AHT29/AHT$26,\"\")","v":""}]
["1.3","Fugitive Emissions ",null,{"$f":"+SUM(D31:D32)","v":0},0,null,{"$f":"IF(+SUM(G31:G32)=0,\"\",SUM(G31:G32))","v":""},{"$f":"IFERROR(+G30/G$26,\"\")","v":""},null,{"$f":"IF(+SUM(J31:J32)=0,\"\",SUM(J31:J32))","v":""},{"$f":"IFERROR(+J30/J$26,\"\")","v":""},null,{"$f":"IF(+SUM(M31:M32)=0,\"\",SUM(M31:M32))","v":""},{"$f":"IFERROR(+M30/M$26,\"\")","v":""},null,{"$f":"IF(+SUM(P31:P32)=0,\"\",SUM(P31:P32))","v":""},{"$f":"IFERROR(+P30/P$26,\"\")","v":""},null,{"$f":"IF(+SUM(S31:S32)=0,\"\",SUM(S31:S32))","v":""},{"$f":"IFERROR(+S30/S$26,\"\")","v":""},null,{"$f":"IF(+SUM(V31:V32)=0,\"\",SUM(V31:V32))","v":""},{"$f":"IFERROR(+V30/V$26,\"\")","v":""},null,{"$f":"IF(+SUM(Y31:Y32)=0,\"\",SUM(Y31:Y32))","v":""},{"$f":"IFERROR(+Y30/Y$26,\"\")","v":""},null,{"$f":"IF(+SUM(AB31:AB32)=0,\"\",SUM(AB31:AB32))","v":""},{"$f":"IFERROR(+AB30/AB$26,\"\")","v":""},null,{"$f":"IF(+SUM(AE31:AE32)=0,\"\",SUM(AE31:AE32))","v":""},{"$f":"IFERROR(+AE30/AE$26,\"\")","v":""},null,{"$f":"IF(+SUM(AH31:AH32)=0,\"\",SUM(AH31:AH32))","v":""},{"$f":"IFERROR(+AH30/AH$26,\"\")","v":""},null,{"$f":"IF(+SUM(AK31:AK32)=0,\"\",SUM(AK31:AK32))","v":""},{"$f":"IFERROR(+AK30/AK$26,\"\")","v":""},null,{"$f":"IF(+SUM(AN31:AN32)=0,\"\",SUM(AN31:AN32))","v":""},{"$f":"IFERROR(+AN30/AN$26,\"\")","v":""},null,{"$f":"IF(+SUM(AQ31:AQ32)=0,\"\",SUM(AQ31:AQ32))","v":""},{"$f":"IFERROR(+AQ30/AQ$26,\"\")","v":""},null,{"$f":"IF(+SUM(AT31:AT32)=0,\"\",SUM(AT31:AT32))","v":""},{"$f":"IFERROR(+AT30/AT$26,\"\")","v":""},null,{"$f":"IF(+SUM(AW31:AW32)=0,\"\",SUM(AW31:AW32))","v":""},{"$f":"IFERROR(+AW30/AW$26,\"\")","v":""},null,{"$f":"IF(+SUM(AZ31:AZ32)=0,\"\",SUM(AZ31:AZ32))","v":""},{"$f":"IFERROR(+AZ30/AZ$26,\"\")","v":""},null,{"$f":"IF(+SUM(BC31:BC32)=0,\"\",SUM(BC31:BC32))","v":""},{"$f":"IFERROR(+BC30/BC$26,\"\")","v":""},null,{"$f":"IF(+SUM(BF31:BF32)=0,\"\",SUM(BF31:BF32))","v":""},{"$f":"IFERROR(+BF30/BF$26,\"\")","v":""},null,{"$f":"IF(+SUM(BI31:BI32)=0,\"\",SUM(BI31:BI32))","v":""},{"$f":"IFERROR(+BI30/BI$26,\"\")","v":""},null,{"$f":"IF(+SUM(BL31:BL32)=0,\"\",SUM(BL31:BL32))","v":""},{"$f":"IFERROR(+BL30/BL$26,\"\")","v":""},null,{"$f":"IF(+SUM(BO31:BO32)=0,\"\",SUM(BO31:BO32))","v":""},{"$f":"IFERROR(+BO30/BO$26,\"\")","v":""},null,{"$f":"IF(+SUM(BR31:BR32)=0,\"\",SUM(BR31:BR32))","v":""},{"$f":"IFERROR(+BR30/BR$26,\"\")","v":""},null,{"$f":"IF(+SUM(BU31:BU32)=0,\"\",SUM(BU31:BU32))","v":""},{"$f":"IFERROR(+BU30/BU$26,\"\")","v":""},null,{"$f":"IF(+SUM(BX31:BX32)=0,\"\",SUM(BX31:BX32))","v":""},{"$f":"IFERROR(+BX30/BX$26,\"\")","v":""},null,{"$f":"IF(+SUM(CA31:CA32)=0,\"\",SUM(CA31:CA32))","v":""},{"$f":"IFERROR(+CA30/CA$26,\"\")","v":""},null,{"$f":"IF(+SUM(CD31:CD32)=0,\"\",SUM(CD31:CD32))","v":""},{"$f":"IFERROR(+CD30/CD$26,\"\")","v":""},null,{"$f":"IF(+SUM(CG31:CG32)=0,\"\",SUM(CG31:CG32))","v":""},{"$f":"IFERROR(+CG30/CG$26,\"\")","v":""},null,{"$f":"IF(+SUM(CJ31:CJ32)=0,\"\",SUM(CJ31:CJ32))","v":""},{"$f":"IFERROR(+CJ30/CJ$26,\"\")","v":""},null,{"$f":"IF(+SUM(CM31:CM32)=0,\"\",SUM(CM31:CM32))","v":""},{"$f":"IFERROR(+CM30/CM$26,\"\")","v":""},null,{"$f":"IF(+SUM(CP31:CP32)=0,\"\",SUM(CP31:CP32))","v":""},{"$f":"IFERROR(+CP30/CP$26,\"\")","v":""},null,{"$f":"IF(+SUM(CS31:CS32)=0,\"\",SUM(CS31:CS32))","v":""},{"$f":"IFERROR(+CS30/CS$26,\"\")","v":""},null,{"$f":"IF(+SUM(CV31:CV32)=0,\"\",SUM(CV31:CV32))","v":""},{"$f":"IFERROR(+CV30/CV$26,\"\")","v":""},null,{"$f":"IF(+SUM(CY31:CY32)=0,\"\",SUM(CY31:CY32))","v":""},{"$f":"IFERROR(+CY30/CY$26,\"\")","v":""},null,{"$f":"IF(+SUM(DB31:DB32)=0,\"\",SUM(DB31:DB32))","v":""},{"$f":"IFERROR(+DB30/DB$26,\"\")","v":""},null,{"$f":"IF(+SUM(DE31:DE32)=0,\"\",SUM(DE31:DE32))","v":""},{"$f":"IFERROR(+DE30/DE$26,\"\")","v":""},null,{"$f":"IF(+SUM(DH31:DH32)=0,\"\",SUM(DH31:DH32))","v":""},{"$f":"IFERROR(+DH30/DH$26,\"\")","v":""},null,{"$f":"IF(+SUM(DK31:DK32)=0,\"\",SUM(DK31:DK32))","v":""},{"$f":"IFERROR(+DK30/DK$26,\"\")","v":""},null,{"$f":"IF(+SUM(DN31:DN32)=0,\"\",SUM(DN31:DN32))","v":""},{"$f":"IFERROR(+DN30/DN$26,\"\")","v":""},null,{"$f":"IF(+SUM(DQ31:DQ32)=0,\"\",SUM(DQ31:DQ32))","v":""},{"$f":"IFERROR(+DQ30/DQ$26,\"\")","v":""},null,{"$f":"IF(+SUM(DT31:DT32)=0,\"\",SUM(DT31:DT32))","v":""},{"$f":"IFERROR(+DT30/DT$26,\"\")","v":""},null,{"$f":"IF(+SUM(DW31:DW32)=0,\"\",SUM(DW31:DW32))","v":""},{"$f":"IFERROR(+DW30/DW$26,\"\")","v":""},null,{"$f":"IF(+SUM(DZ31:DZ32)=0,\"\",SUM(DZ31:DZ32))","v":""},{"$f":"IFERROR(+DZ30/DZ$26,\"\")","v":""},null,{"$f":"IF(+SUM(EC31:EC32)=0,\"\",SUM(EC31:EC32))","v":""},{"$f":"IFERROR(+EC30/EC$26,\"\")","v":""},null,{"$f":"IF(+SUM(EF31:EF32)=0,\"\",SUM(EF31:EF32))","v":""},{"$f":"IFERROR(+EF30/EF$26,\"\")","v":""},null,{"$f":"IF(+SUM(EI31:EI32)=0,\"\",SUM(EI31:EI32))","v":""},{"$f":"IFERROR(+EI30/EI$26,\"\")","v":""},null,{"$f":"IF(+SUM(EL31:EL32)=0,\"\",SUM(EL31:EL32))","v":""},{"$f":"IFERROR(+EL30/EL$26,\"\")","v":""},null,{"$f":"IF(+SUM(EO31:EO32)=0,\"\",SUM(EO31:EO32))","v":""},{"$f":"IFERROR(+EO30/EO$26,\"\")","v":""},null,{"$f":"IF(+SUM(ER31:ER32)=0,\"\",SUM(ER31:ER32))","v":""},{"$f":"IFERROR(+ER30/ER$26,\"\")","v":""},null,{"$f":"IF(+SUM(EU31:EU32)=0,\"\",SUM(EU31:EU32))","v":""},{"$f":"IFERROR(+EU30/EU$26,\"\")","v":""},null,{"$f":"IF(+SUM(EX31:EX32)=0,\"\",SUM(EX31:EX32))","v":""},{"$f":"IFERROR(+EX30/EX$26,\"\")","v":""},null,{"$f":"IF(+SUM(FA31:FA32)=0,\"\",SUM(FA31:FA32))","v":""},{"$f":"IFERROR(+FA30/FA$26,\"\")","v":""},null,{"$f":"IF(+SUM(FD31:FD32)=0,\"\",SUM(FD31:FD32))","v":""},{"$f":"IFERROR(+FD30/FD$26,\"\")","v":""},null,{"$f":"IF(+SUM(FG31:FG32)=0,\"\",SUM(FG31:FG32))","v":""},{"$f":"IFERROR(+FG30/FG$26,\"\")","v":""},null,{"$f":"IF(+SUM(FJ31:FJ32)=0,\"\",SUM(FJ31:FJ32))","v":""},{"$f":"IFERROR(+FJ30/FJ$26,\"\")","v":""},null,{"$f":"IF(+SUM(FM31:FM32)=0,\"\",SUM(FM31:FM32))","v":""},{"$f":"IFERROR(+FM30/FM$26,\"\")","v":""},null,{"$f":"IF(+SUM(FP31:FP32)=0,\"\",SUM(FP31:FP32))","v":""},{"$f":"IFERROR(+FP30/FP$26,\"\")","v":""},null,{"$f":"IF(+SUM(FS31:FS32)=0,\"\",SUM(FS31:FS32))","v":""},{"$f":"IFERROR(+FS30/FS$26,\"\")","v":""},null,{"$f":"IF(+SUM(FV31:FV32)=0,\"\",SUM(FV31:FV32))","v":""},{"$f":"IFERROR(+FV30/FV$26,\"\")","v":""},null,{"$f":"IF(+SUM(FY31:FY32)=0,\"\",SUM(FY31:FY32))","v":""},{"$f":"IFERROR(+FY30/FY$26,\"\")","v":""},null,{"$f":"IF(+SUM(GB31:GB32)=0,\"\",SUM(GB31:GB32))","v":""},{"$f":"IFERROR(+GB30/GB$26,\"\")","v":""},null,{"$f":"IF(+SUM(GE31:GE32)=0,\"\",SUM(GE31:GE32))","v":""},{"$f":"IFERROR(+GE30/GE$26,\"\")","v":""},null,{"$f":"IF(+SUM(GH31:GH32)=0,\"\",SUM(GH31:GH32))","v":""},{"$f":"IFERROR(+GH30/GH$26,\"\")","v":""},null,{"$f":"IF(+SUM(GK31:GK32)=0,\"\",SUM(GK31:GK32))","v":""},{"$f":"IFERROR(+GK30/GK$26,\"\")","v":""},null,{"$f":"IF(+SUM(GN31:GN32)=0,\"\",SUM(GN31:GN32))","v":""},{"$f":"IFERROR(+GN30/GN$26,\"\")","v":""},null,{"$f":"IF(+SUM(GQ31:GQ32)=0,\"\",SUM(GQ31:GQ32))","v":""},{"$f":"IFERROR(+GQ30/GQ$26,\"\")","v":""},null,{"$f":"IF(+SUM(GT31:GT32)=0,\"\",SUM(GT31:GT32))","v":""},{"$f":"IFERROR(+GT30/GT$26,\"\")","v":""},null,{"$f":"IF(+SUM(GW31:GW32)=0,\"\",SUM(GW31:GW32))","v":""},{"$f":"IFERROR(+GW30/GW$26,\"\")","v":""},null,{"$f":"IF(+SUM(GZ31:GZ32)=0,\"\",SUM(GZ31:GZ32))","v":""},{"$f":"IFERROR(+GZ30/GZ$26,\"\")","v":""},null,{"$f":"IF(+SUM(HC31:HC32)=0,\"\",SUM(HC31:HC32))","v":""},{"$f":"IFERROR(+HC30/HC$26,\"\")","v":""},null,{"$f":"IF(+SUM(HF31:HF32)=0,\"\",SUM(HF31:HF32))","v":""},{"$f":"IFERROR(+HF30/HF$26,\"\")","v":""},null,{"$f":"IF(+SUM(HI31:HI32)=0,\"\",SUM(HI31:HI32))","v":""},{"$f":"IFERROR(+HI30/HI$26,\"\")","v":""},null,{"$f":"IF(+SUM(HL31:HL32)=0,\"\",SUM(HL31:HL32))","v":""},{"$f":"IFERROR(+HL30/HL$26,\"\")","v":""},null,{"$f":"IF(+SUM(HO31:HO32)=0,\"\",SUM(HO31:HO32))","v":""},{"$f":"IFERROR(+HO30/HO$26,\"\")","v":""},null,{"$f":"IF(+SUM(HR31:HR32)=0,\"\",SUM(HR31:HR32))","v":""},{"$f":"IFERROR(+HR30/HR$26,\"\")","v":""},null,{"$f":"IF(+SUM(HU31:HU32)=0,\"\",SUM(HU31:HU32))","v":""},{"$f":"IFERROR(+HU30/HU$26,\"\")","v":""},null,{"$f":"IF(+SUM(HX31:HX32)=0,\"\",SUM(HX31:HX32))","v":""},{"$f":"IFERROR(+HX30/HX$26,\"\")","v":""},null,{"$f":"IF(+SUM(IA31:IA32)=0,\"\",SUM(IA31:IA32))","v":""},{"$f":"IFERROR(+IA30/IA$26,\"\")","v":""},null,{"$f":"IF(+SUM(ID31:ID32)=0,\"\",SUM(ID31:ID32))","v":""},{"$f":"IFERROR(+ID30/ID$26,\"\")","v":""},null,{"$f":"IF(+SUM(IG31:IG32)=0,\"\",SUM(IG31:IG32))","v":""},{"$f":"IFERROR(+IG30/IG$26,\"\")","v":""},null,{"$f":"IF(+SUM(IJ31:IJ32)=0,\"\",SUM(IJ31:IJ32))","v":""},{"$f":"IFERROR(+IJ30/IJ$26,\"\")","v":""},null,{"$f":"IF(+SUM(IM31:IM32)=0,\"\",SUM(IM31:IM32))","v":""},{"$f":"IFERROR(+IM30/IM$26,\"\")","v":""},null,{"$f":"IF(+SUM(IP31:IP32)=0,\"\",SUM(IP31:IP32))","v":""},{"$f":"IFERROR(+IP30/IP$26,\"\")","v":""},null,{"$f":"IF(+SUM(IS31:IS32)=0,\"\",SUM(IS31:IS32))","v":""},{"$f":"IFERROR(+IS30/IS$26,\"\")","v":""},null,{"$f":"IF(+SUM(IV31:IV32)=0,\"\",SUM(IV31:IV32))","v":""},{"$f":"IFERROR(+IV30/IV$26,\"\")","v":""},null,{"$f":"IF(+SUM(IY31:IY32)=0,\"\",SUM(IY31:IY32))","v":""},{"$f":"IFERROR(+IY30/IY$26,\"\")","v":""},null,{"$f":"IF(+SUM(JB31:JB32)=0,\"\",SUM(JB31:JB32))","v":""},{"$f":"IFERROR(+JB30/JB$26,\"\")","v":""},null,{"$f":"IF(+SUM(JE31:JE32)=0,\"\",SUM(JE31:JE32))","v":""},{"$f":"IFERROR(+JE30/JE$26,\"\")","v":""},null,{"$f":"IF(+SUM(JH31:JH32)=0,\"\",SUM(JH31:JH32))","v":""},{"$f":"IFERROR(+JH30/JH$26,\"\")","v":""},null,{"$f":"IF(+SUM(JK31:JK32)=0,\"\",SUM(JK31:JK32))","v":""},{"$f":"IFERROR(+JK30/JK$26,\"\")","v":""},null,{"$f":"IF(+SUM(JN31:JN32)=0,\"\",SUM(JN31:JN32))","v":""},{"$f":"IFERROR(+JN30/JN$26,\"\")","v":""},null,{"$f":"IF(+SUM(JQ31:JQ32)=0,\"\",SUM(JQ31:JQ32))","v":""},{"$f":"IFERROR(+JQ30/JQ$26,\"\")","v":""},null,{"$f":"IF(+SUM(JT31:JT32)=0,\"\",SUM(JT31:JT32))","v":""},{"$f":"IFERROR(+JT30/JT$26,\"\")","v":""},null,{"$f":"IF(+SUM(JW31:JW32)=0,\"\",SUM(JW31:JW32))","v":""},{"$f":"IFERROR(+JW30/JW$26,\"\")","v":""},null,{"$f":"IF(+SUM(JZ31:JZ32)=0,\"\",SUM(JZ31:JZ32))","v":""},{"$f":"IFERROR(+JZ30/JZ$26,\"\")","v":""},null,{"$f":"IF(+SUM(KC31:KC32)=0,\"\",SUM(KC31:KC32))","v":""},{"$f":"IFERROR(+KC30/KC$26,\"\")","v":""},null,{"$f":"IF(+SUM(KF31:KF32)=0,\"\",SUM(KF31:KF32))","v":""},{"$f":"IFERROR(+KF30/KF$26,\"\")","v":""},null,{"$f":"IF(+SUM(KI31:KI32)=0,\"\",SUM(KI31:KI32))","v":""},{"$f":"IFERROR(+KI30/KI$26,\"\")","v":""},null,{"$f":"IF(+SUM(KL31:KL32)=0,\"\",SUM(KL31:KL32))","v":""},{"$f":"IFERROR(+KL30/KL$26,\"\")","v":""},null,{"$f":"IF(+SUM(KO31:KO32)=0,\"\",SUM(KO31:KO32))","v":""},{"$f":"IFERROR(+KO30/KO$26,\"\")","v":""},null,{"$f":"IF(+SUM(KR31:KR32)=0,\"\",SUM(KR31:KR32))","v":""},{"$f":"IFERROR(+KR30/KR$26,\"\")","v":""},null,{"$f":"IF(+SUM(KU31:KU32)=0,\"\",SUM(KU31:KU32))","v":""},{"$f":"IFERROR(+KU30/KU$26,\"\")","v":""},null,{"$f":"IF(+SUM(KX31:KX32)=0,\"\",SUM(KX31:KX32))","v":""},{"$f":"IFERROR(+KX30/KX$26,\"\")","v":""},null,{"$f":"IF(+SUM(LA31:LA32)=0,\"\",SUM(LA31:LA32))","v":""},{"$f":"IFERROR(+LA30/LA$26,\"\")","v":""},null,{"$f":"IF(+SUM(LD31:LD32)=0,\"\",SUM(LD31:LD32))","v":""},{"$f":"IFERROR(+LD30/LD$26,\"\")","v":""},null,{"$f":"IF(+SUM(LG31:LG32)=0,\"\",SUM(LG31:LG32))","v":""},{"$f":"IFERROR(+LG30/LG$26,\"\")","v":""},null,{"$f":"IF(+SUM(LJ31:LJ32)=0,\"\",SUM(LJ31:LJ32))","v":""},{"$f":"IFERROR(+LJ30/LJ$26,\"\")","v":""},null,{"$f":"IF(+SUM(LM31:LM32)=0,\"\",SUM(LM31:LM32))","v":""},{"$f":"IFERROR(+LM30/LM$26,\"\")","v":""},null,{"$f":"IF(+SUM(LP31:LP32)=0,\"\",SUM(LP31:LP32))","v":""},{"$f":"IFERROR(+LP30/LP$26,\"\")","v":""},null,{"$f":"IF(+SUM(LS31:LS32)=0,\"\",SUM(LS31:LS32))","v":""},{"$f":"IFERROR(+LS30/LS$26,\"\")","v":""},null,{"$f":"IF(+SUM(LV31:LV32)=0,\"\",SUM(LV31:LV32))","v":""},{"$f":"IFERROR(+LV30/LV$26,\"\")","v":""},null,{"$f":"IF(+SUM(LY31:LY32)=0,\"\",SUM(LY31:LY32))","v":""},{"$f":"IFERROR(+LY30/LY$26,\"\")","v":""},null,{"$f":"IF(+SUM(MB31:MB32)=0,\"\",SUM(MB31:MB32))","v":""},{"$f":"IFERROR(+MB30/MB$26,\"\")","v":""},null,{"$f":"IF(+SUM(ME31:ME32)=0,\"\",SUM(ME31:ME32))","v":""},{"$f":"IFERROR(+ME30/ME$26,\"\")","v":""},null,{"$f":"IF(+SUM(MH31:MH32)=0,\"\",SUM(MH31:MH32))","v":""},{"$f":"IFERROR(+MH30/MH$26,\"\")","v":""},null,{"$f":"IF(+SUM(MK31:MK32)=0,\"\",SUM(MK31:MK32))","v":""},{"$f":"IFERROR(+MK30/MK$26,\"\")","v":""},null,{"$f":"IF(+SUM(MN31:MN32)=0,\"\",SUM(MN31:MN32))","v":""},{"$f":"IFERROR(+MN30/MN$26,\"\")","v":""},null,{"$f":"IF(+SUM(MQ31:MQ32)=0,\"\",SUM(MQ31:MQ32))","v":""},{"$f":"IFERROR(+MQ30/MQ$26,\"\")","v":""},null,{"$f":"IF(+SUM(MT31:MT32)=0,\"\",SUM(MT31:MT32))","v":""},{"$f":"IFERROR(+MT30/MT$26,\"\")","v":""},null,{"$f":"IF(+SUM(MW31:MW32)=0,\"\",SUM(MW31:MW32))","v":""},{"$f":"IFERROR(+MW30/MW$26,\"\")","v":""},null,{"$f":"IF(+SUM(MZ31:MZ32)=0,\"\",SUM(MZ31:MZ32))","v":""},{"$f":"IFERROR(+MZ30/MZ$26,\"\")","v":""},null,{"$f":"IF(+SUM(NC31:NC32)=0,\"\",SUM(NC31:NC32))","v":""},{"$f":"IFERROR(+NC30/NC$26,\"\")","v":""},null,{"$f":"IF(+SUM(NF31:NF32)=0,\"\",SUM(NF31:NF32))","v":""},{"$f":"IFERROR(+NF30/NF$26,\"\")","v":""},null,{"$f":"IF(+SUM(NI31:NI32)=0,\"\",SUM(NI31:NI32))","v":""},{"$f":"IFERROR(+NI30/NI$26,\"\")","v":""},null,{"$f":"IF(+SUM(NL31:NL32)=0,\"\",SUM(NL31:NL32))","v":""},{"$f":"IFERROR(+NL30/NL$26,\"\")","v":""},null,{"$f":"IF(+SUM(NO31:NO32)=0,\"\",SUM(NO31:NO32))","v":""},{"$f":"IFERROR(+NO30/NO$26,\"\")","v":""},null,{"$f":"IF(+SUM(NR31:NR32)=0,\"\",SUM(NR31:NR32))","v":""},{"$f":"IFERROR(+NR30/NR$26,\"\")","v":""},null,{"$f":"IF(+SUM(NU31:NU32)=0,\"\",SUM(NU31:NU32))","v":""},{"$f":"IFERROR(+NU30/NU$26,\"\")","v":""},null,{"$f":"IF(+SUM(NX31:NX32)=0,\"\",SUM(NX31:NX32))","v":""},{"$f":"IFERROR(+NX30/NX$26,\"\")","v":""},null,{"$f":"IF(+SUM(OA31:OA32)=0,\"\",SUM(OA31:OA32))","v":""},{"$f":"IFERROR(+OA30/OA$26,\"\")","v":""},null,{"$f":"IF(+SUM(OD31:OD32)=0,\"\",SUM(OD31:OD32))","v":""},{"$f":"IFERROR(+OD30/OD$26,\"\")","v":""},null,{"$f":"IF(+SUM(OG31:OG32)=0,\"\",SUM(OG31:OG32))","v":""},{"$f":"IFERROR(+OG30/OG$26,\"\")","v":""},null,{"$f":"IF(+SUM(OJ31:OJ32)=0,\"\",SUM(OJ31:OJ32))","v":""},{"$f":"IFERROR(+OJ30/OJ$26,\"\")","v":""},null,{"$f":"IF(+SUM(OM31:OM32)=0,\"\",SUM(OM31:OM32))","v":""},{"$f":"IFERROR(+OM30/OM$26,\"\")","v":""},null,{"$f":"IF(+SUM(OP31:OP32)=0,\"\",SUM(OP31:OP32))","v":""},{"$f":"IFERROR(+OP30/OP$26,\"\")","v":""},null,{"$f":"IF(+SUM(OS31:OS32)=0,\"\",SUM(OS31:OS32))","v":""},{"$f":"IFERROR(+OS30/OS$26,\"\")","v":""},null,{"$f":"IF(+SUM(OV31:OV32)=0,\"\",SUM(OV31:OV32))","v":""},{"$f":"IFERROR(+OV30/OV$26,\"\")","v":""},null,{"$f":"IF(+SUM(OY31:OY32)=0,\"\",SUM(OY31:OY32))","v":""},{"$f":"IFERROR(+OY30/OY$26,\"\")","v":""},null,{"$f":"IF(+SUM(PB31:PB32)=0,\"\",SUM(PB31:PB32))","v":""},{"$f":"IFERROR(+PB30/PB$26,\"\")","v":""},null,{"$f":"IF(+SUM(PE31:PE32)=0,\"\",SUM(PE31:PE32))","v":""},{"$f":"IFERROR(+PE30/PE$26,\"\")","v":""},null,{"$f":"IF(+SUM(PH31:PH32)=0,\"\",SUM(PH31:PH32))","v":""},{"$f":"IFERROR(+PH30/PH$26,\"\")","v":""},null,{"$f":"IF(+SUM(PK31:PK32)=0,\"\",SUM(PK31:PK32))","v":""},{"$f":"IFERROR(+PK30/PK$26,\"\")","v":""},null,{"$f":"IF(+SUM(PN31:PN32)=0,\"\",SUM(PN31:PN32))","v":""},{"$f":"IFERROR(+PN30/PN$26,\"\")","v":""},null,{"$f":"IF(+SUM(PQ31:PQ32)=0,\"\",SUM(PQ31:PQ32))","v":""},{"$f":"IFERROR(+PQ30/PQ$26,\"\")","v":""},null,{"$f":"IF(+SUM(PT31:PT32)=0,\"\",SUM(PT31:PT32))","v":""},{"$f":"IFERROR(+PT30/PT$26,\"\")","v":""},null,{"$f":"IF(+SUM(PW31:PW32)=0,\"\",SUM(PW31:PW32))","v":""},{"$f":"IFERROR(+PW30/PW$26,\"\")","v":""},null,{"$f":"IF(+SUM(PZ31:PZ32)=0,\"\",SUM(PZ31:PZ32))","v":""},{"$f":"IFERROR(+PZ30/PZ$26,\"\")","v":""},null,{"$f":"IF(+SUM(QC31:QC32)=0,\"\",SUM(QC31:QC32))","v":""},{"$f":"IFERROR(+QC30/QC$26,\"\")","v":""},null,{"$f":"IF(+SUM(QF31:QF32)=0,\"\",SUM(QF31:QF32))","v":""},{"$f":"IFERROR(+QF30/QF$26,\"\")","v":""},null,{"$f":"IF(+SUM(QI31:QI32)=0,\"\",SUM(QI31:QI32))","v":""},{"$f":"IFERROR(+QI30/QI$26,\"\")","v":""},null,{"$f":"IF(+SUM(QL31:QL32)=0,\"\",SUM(QL31:QL32))","v":""},{"$f":"IFERROR(+QL30/QL$26,\"\")","v":""},null,{"$f":"IF(+SUM(QO31:QO32)=0,\"\",SUM(QO31:QO32))","v":""},{"$f":"IFERROR(+QO30/QO$26,\"\")","v":""},null,{"$f":"IF(+SUM(QR31:QR32)=0,\"\",SUM(QR31:QR32))","v":""},{"$f":"IFERROR(+QR30/QR$26,\"\")","v":""},null,{"$f":"IF(+SUM(QU31:QU32)=0,\"\",SUM(QU31:QU32))","v":""},{"$f":"IFERROR(+QU30/QU$26,\"\")","v":""},null,{"$f":"IF(+SUM(QX31:QX32)=0,\"\",SUM(QX31:QX32))","v":""},{"$f":"IFERROR(+QX30/QX$26,\"\")","v":""},null,{"$f":"IF(+SUM(RA31:RA32)=0,\"\",SUM(RA31:RA32))","v":""},{"$f":"IFERROR(+RA30/RA$26,\"\")","v":""},null,{"$f":"IF(+SUM(RD31:RD32)=0,\"\",SUM(RD31:RD32))","v":""},{"$f":"IFERROR(+RD30/RD$26,\"\")","v":""},null,{"$f":"IF(+SUM(RG31:RG32)=0,\"\",SUM(RG31:RG32))","v":""},{"$f":"IFERROR(+RG30/RG$26,\"\")","v":""},null,{"$f":"IF(+SUM(RJ31:RJ32)=0,\"\",SUM(RJ31:RJ32))","v":""},{"$f":"IFERROR(+RJ30/RJ$26,\"\")","v":""},null,{"$f":"IF(+SUM(RM31:RM32)=0,\"\",SUM(RM31:RM32))","v":""},{"$f":"IFERROR(+RM30/RM$26,\"\")","v":""},null,{"$f":"IF(+SUM(RP31:RP32)=0,\"\",SUM(RP31:RP32))","v":""},{"$f":"IFERROR(+RP30/RP$26,\"\")","v":""},null,{"$f":"IF(+SUM(RS31:RS32)=0,\"\",SUM(RS31:RS32))","v":""},{"$f":"IFERROR(+RS30/RS$26,\"\")","v":""},null,{"$f":"IF(+SUM(RV31:RV32)=0,\"\",SUM(RV31:RV32))","v":""},{"$f":"IFERROR(+RV30/RV$26,\"\")","v":""},null,{"$f":"IF(+SUM(RY31:RY32)=0,\"\",SUM(RY31:RY32))","v":""},{"$f":"IFERROR(+RY30/RY$26,\"\")","v":""},null,{"$f":"IF(+SUM(SB31:SB32)=0,\"\",SUM(SB31:SB32))","v":""},{"$f":"IFERROR(+SB30/SB$26,\"\")","v":""},null,{"$f":"IF(+SUM(SE31:SE32)=0,\"\",SUM(SE31:SE32))","v":""},{"$f":"IFERROR(+SE30/SE$26,\"\")","v":""},null,{"$f":"IF(+SUM(SH31:SH32)=0,\"\",SUM(SH31:SH32))","v":""},{"$f":"IFERROR(+SH30/SH$26,\"\")","v":""},null,{"$f":"IF(+SUM(SK31:SK32)=0,\"\",SUM(SK31:SK32))","v":""},{"$f":"IFERROR(+SK30/SK$26,\"\")","v":""},null,{"$f":"IF(+SUM(SN31:SN32)=0,\"\",SUM(SN31:SN32))","v":""},{"$f":"IFERROR(+SN30/SN$26,\"\")","v":""},null,{"$f":"IF(+SUM(SQ31:SQ32)=0,\"\",SUM(SQ31:SQ32))","v":""},{"$f":"IFERROR(+SQ30/SQ$26,\"\")","v":""},null,{"$f":"IF(+SUM(ST31:ST32)=0,\"\",SUM(ST31:ST32))","v":""},{"$f":"IFERROR(+ST30/ST$26,\"\")","v":""},null,{"$f":"IF(+SUM(SW31:SW32)=0,\"\",SUM(SW31:SW32))","v":""},{"$f":"IFERROR(+SW30/SW$26,\"\")","v":""},null,{"$f":"IF(+SUM(SZ31:SZ32)=0,\"\",SUM(SZ31:SZ32))","v":""},{"$f":"IFERROR(+SZ30/SZ$26,\"\")","v":""},null,{"$f":"IF(+SUM(TC31:TC32)=0,\"\",SUM(TC31:TC32))","v":""},{"$f":"IFERROR(+TC30/TC$26,\"\")","v":""},null,{"$f":"IF(+SUM(TF31:TF32)=0,\"\",SUM(TF31:TF32))","v":""},{"$f":"IFERROR(+TF30/TF$26,\"\")","v":""},null,{"$f":"IF(+SUM(TI31:TI32)=0,\"\",SUM(TI31:TI32))","v":""},{"$f":"IFERROR(+TI30/TI$26,\"\")","v":""},null,{"$f":"IF(+SUM(TL31:TL32)=0,\"\",SUM(TL31:TL32))","v":""},{"$f":"IFERROR(+TL30/TL$26,\"\")","v":""},null,{"$f":"IF(+SUM(TO31:TO32)=0,\"\",SUM(TO31:TO32))","v":""},{"$f":"IFERROR(+TO30/TO$26,\"\")","v":""},null,{"$f":"IF(+SUM(TR31:TR32)=0,\"\",SUM(TR31:TR32))","v":""},{"$f":"IFERROR(+TR30/TR$26,\"\")","v":""},null,{"$f":"IF(+SUM(TU31:TU32)=0,\"\",SUM(TU31:TU32))","v":""},{"$f":"IFERROR(+TU30/TU$26,\"\")","v":""},null,{"$f":"IF(+SUM(TX31:TX32)=0,\"\",SUM(TX31:TX32))","v":""},{"$f":"IFERROR(+TX30/TX$26,\"\")","v":""},null,{"$f":"IF(+SUM(UA31:UA32)=0,\"\",SUM(UA31:UA32))","v":""},{"$f":"IFERROR(+UA30/UA$26,\"\")","v":""},null,{"$f":"IF(+SUM(UD31:UD32)=0,\"\",SUM(UD31:UD32))","v":""},{"$f":"IFERROR(+UD30/UD$26,\"\")","v":""},null,{"$f":"IF(+SUM(UG31:UG32)=0,\"\",SUM(UG31:UG32))","v":""},{"$f":"IFERROR(+UG30/UG$26,\"\")","v":""},null,{"$f":"IF(+SUM(UJ31:UJ32)=0,\"\",SUM(UJ31:UJ32))","v":""},{"$f":"IFERROR(+UJ30/UJ$26,\"\")","v":""},null,{"$f":"IF(+SUM(UM31:UM32)=0,\"\",SUM(UM31:UM32))","v":""},{"$f":"IFERROR(+UM30/UM$26,\"\")","v":""},null,{"$f":"IF(+SUM(UP31:UP32)=0,\"\",SUM(UP31:UP32))","v":""},{"$f":"IFERROR(+UP30/UP$26,\"\")","v":""},null,{"$f":"IF(+SUM(US31:US32)=0,\"\",SUM(US31:US32))","v":""},{"$f":"IFERROR(+US30/US$26,\"\")","v":""},null,{"$f":"IF(+SUM(UV31:UV32)=0,\"\",SUM(UV31:UV32))","v":""},{"$f":"IFERROR(+UV30/UV$26,\"\")","v":""},null,{"$f":"IF(+SUM(UY31:UY32)=0,\"\",SUM(UY31:UY32))","v":""},{"$f":"IFERROR(+UY30/UY$26,\"\")","v":""},null,{"$f":"IF(+SUM(VB31:VB32)=0,\"\",SUM(VB31:VB32))","v":""},{"$f":"IFERROR(+VB30/VB$26,\"\")","v":""},null,{"$f":"IF(+SUM(VE31:VE32)=0,\"\",SUM(VE31:VE32))","v":""},{"$f":"IFERROR(+VE30/VE$26,\"\")","v":""},null,{"$f":"IF(+SUM(VH31:VH32)=0,\"\",SUM(VH31:VH32))","v":""},{"$f":"IFERROR(+VH30/VH$26,\"\")","v":""},null,{"$f":"IF(+SUM(VK31:VK32)=0,\"\",SUM(VK31:VK32))","v":""},{"$f":"IFERROR(+VK30/VK$26,\"\")","v":""},null,{"$f":"IF(+SUM(VN31:VN32)=0,\"\",SUM(VN31:VN32))","v":""},{"$f":"IFERROR(+VN30/VN$26,\"\")","v":""},null,{"$f":"IF(+SUM(VQ31:VQ32)=0,\"\",SUM(VQ31:VQ32))","v":""},{"$f":"IFERROR(+VQ30/VQ$26,\"\")","v":""},null,{"$f":"IF(+SUM(VT31:VT32)=0,\"\",SUM(VT31:VT32))","v":""},{"$f":"IFERROR(+VT30/VT$26,\"\")","v":""},null,{"$f":"IF(+SUM(VW31:VW32)=0,\"\",SUM(VW31:VW32))","v":""},{"$f":"IFERROR(+VW30/VW$26,\"\")","v":""},null,{"$f":"IF(+SUM(VZ31:VZ32)=0,\"\",SUM(VZ31:VZ32))","v":""},{"$f":"IFERROR(+VZ30/VZ$26,\"\")","v":""},null,{"$f":"IF(+SUM(WC31:WC32)=0,\"\",SUM(WC31:WC32))","v":""},{"$f":"IFERROR(+WC30/WC$26,\"\")","v":""},null,{"$f":"IF(+SUM(WF31:WF32)=0,\"\",SUM(WF31:WF32))","v":""},{"$f":"IFERROR(+WF30/WF$26,\"\")","v":""},null,{"$f":"IF(+SUM(WI31:WI32)=0,\"\",SUM(WI31:WI32))","v":""},{"$f":"IFERROR(+WI30/WI$26,\"\")","v":""},null,{"$f":"IF(+SUM(WL31:WL32)=0,\"\",SUM(WL31:WL32))","v":""},{"$f":"IFERROR(+WL30/WL$26,\"\")","v":""},null,{"$f":"IF(+SUM(WO31:WO32)=0,\"\",SUM(WO31:WO32))","v":""},{"$f":"IFERROR(+WO30/WO$26,\"\")","v":""},null,{"$f":"IF(+SUM(WR31:WR32)=0,\"\",SUM(WR31:WR32))","v":""},{"$f":"IFERROR(+WR30/WR$26,\"\")","v":""},null,{"$f":"IF(+SUM(WU31:WU32)=0,\"\",SUM(WU31:WU32))","v":""},{"$f":"IFERROR(+WU30/WU$26,\"\")","v":""},null,{"$f":"IF(+SUM(WX31:WX32)=0,\"\",SUM(WX31:WX32))","v":""},{"$f":"IFERROR(+WX30/WX$26,\"\")","v":""},null,{"$f":"IF(+SUM(XA31:XA32)=0,\"\",SUM(XA31:XA32))","v":""},{"$f":"IFERROR(+XA30/XA$26,\"\")","v":""},null,{"$f":"IF(+SUM(XD31:XD32)=0,\"\",SUM(XD31:XD32))","v":""},{"$f":"IFERROR(+XD30/XD$26,\"\")","v":""},null,{"$f":"IF(+SUM(XG31:XG32)=0,\"\",SUM(XG31:XG32))","v":""},{"$f":"IFERROR(+XG30/XG$26,\"\")","v":""},null,{"$f":"IF(+SUM(XJ31:XJ32)=0,\"\",SUM(XJ31:XJ32))","v":""},{"$f":"IFERROR(+XJ30/XJ$26,\"\")","v":""},null,{"$f":"IF(+SUM(XM31:XM32)=0,\"\",SUM(XM31:XM32))","v":""},{"$f":"IFERROR(+XM30/XM$26,\"\")","v":""},null,{"$f":"IF(+SUM(XP31:XP32)=0,\"\",SUM(XP31:XP32))","v":""},{"$f":"IFERROR(+XP30/XP$26,\"\")","v":""},null,{"$f":"IF(+SUM(XS31:XS32)=0,\"\",SUM(XS31:XS32))","v":""},{"$f":"IFERROR(+XS30/XS$26,\"\")","v":""},null,{"$f":"IF(+SUM(XV31:XV32)=0,\"\",SUM(XV31:XV32))","v":""},{"$f":"IFERROR(+XV30/XV$26,\"\")","v":""},null,{"$f":"IF(+SUM(XY31:XY32)=0,\"\",SUM(XY31:XY32))","v":""},{"$f":"IFERROR(+XY30/XY$26,\"\")","v":""},null,{"$f":"IF(+SUM(YB31:YB32)=0,\"\",SUM(YB31:YB32))","v":""},{"$f":"IFERROR(+YB30/YB$26,\"\")","v":""},null,{"$f":"IF(+SUM(YE31:YE32)=0,\"\",SUM(YE31:YE32))","v":""},{"$f":"IFERROR(+YE30/YE$26,\"\")","v":""},null,{"$f":"IF(+SUM(YH31:YH32)=0,\"\",SUM(YH31:YH32))","v":""},{"$f":"IFERROR(+YH30/YH$26,\"\")","v":""},null,{"$f":"IF(+SUM(YK31:YK32)=0,\"\",SUM(YK31:YK32))","v":""},{"$f":"IFERROR(+YK30/YK$26,\"\")","v":""},null,{"$f":"IF(+SUM(YN31:YN32)=0,\"\",SUM(YN31:YN32))","v":""},{"$f":"IFERROR(+YN30/YN$26,\"\")","v":""},null,{"$f":"IF(+SUM(YQ31:YQ32)=0,\"\",SUM(YQ31:YQ32))","v":""},{"$f":"IFERROR(+YQ30/YQ$26,\"\")","v":""},null,{"$f":"IF(+SUM(YT31:YT32)=0,\"\",SUM(YT31:YT32))","v":""},{"$f":"IFERROR(+YT30/YT$26,\"\")","v":""},null,{"$f":"IF(+SUM(YW31:YW32)=0,\"\",SUM(YW31:YW32))","v":""},{"$f":"IFERROR(+YW30/YW$26,\"\")","v":""},null,{"$f":"IF(+SUM(YZ31:YZ32)=0,\"\",SUM(YZ31:YZ32))","v":""},{"$f":"IFERROR(+YZ30/YZ$26,\"\")","v":""},null,{"$f":"IF(+SUM(ZC31:ZC32)=0,\"\",SUM(ZC31:ZC32))","v":""},{"$f":"IFERROR(+ZC30/ZC$26,\"\")","v":""},null,{"$f":"IF(+SUM(ZF31:ZF32)=0,\"\",SUM(ZF31:ZF32))","v":""},{"$f":"IFERROR(+ZF30/ZF$26,\"\")","v":""},null,{"$f":"IF(+SUM(ZI31:ZI32)=0,\"\",SUM(ZI31:ZI32))","v":""},{"$f":"IFERROR(+ZI30/ZI$26,\"\")","v":""},null,{"$f":"IF(+SUM(ZL31:ZL32)=0,\"\",SUM(ZL31:ZL32))","v":""},{"$f":"IFERROR(+ZL30/ZL$26,\"\")","v":""},null,{"$f":"IF(+SUM(ZO31:ZO32)=0,\"\",SUM(ZO31:ZO32))","v":""},{"$f":"IFERROR(+ZO30/ZO$26,\"\")","v":""},null,{"$f":"IF(+SUM(ZR31:ZR32)=0,\"\",SUM(ZR31:ZR32))","v":""},{"$f":"IFERROR(+ZR30/ZR$26,\"\")","v":""},null,{"$f":"IF(+SUM(ZU31:ZU32)=0,\"\",SUM(ZU31:ZU32))","v":""},{"$f":"IFERROR(+ZU30/ZU$26,\"\")","v":""},null,{"$f":"IF(+SUM(ZX31:ZX32)=0,\"\",SUM(ZX31:ZX32))","v":""},{"$f":"IFERROR(+ZX30/ZX$26,\"\")","v":""},null,{"$f":"IF(+SUM(AAA31:AAA32)=0,\"\",SUM(AAA31:AAA32))","v":""},{"$f":"IFERROR(+AAA30/AAA$26,\"\")","v":""},null,{"$f":"IF(+SUM(AAD31:AAD32)=0,\"\",SUM(AAD31:AAD32))","v":""},{"$f":"IFERROR(+AAD30/AAD$26,\"\")","v":""},null,{"$f":"IF(+SUM(AAG31:AAG32)=0,\"\",SUM(AAG31:AAG32))","v":""},{"$f":"IFERROR(+AAG30/AAG$26,\"\")","v":""},null,{"$f":"IF(+SUM(AAJ31:AAJ32)=0,\"\",SUM(AAJ31:AAJ32))","v":""},{"$f":"IFERROR(+AAJ30/AAJ$26,\"\")","v":""},null,{"$f":"IF(+SUM(AAM31:AAM32)=0,\"\",SUM(AAM31:AAM32))","v":""},{"$f":"IFERROR(+AAM30/AAM$26,\"\")","v":""},null,{"$f":"IF(+SUM(AAP31:AAP32)=0,\"\",SUM(AAP31:AAP32))","v":""},{"$f":"IFERROR(+AAP30/AAP$26,\"\")","v":""},null,{"$f":"IF(+SUM(AAS31:AAS32)=0,\"\",SUM(AAS31:AAS32))","v":""},{"$f":"IFERROR(+AAS30/AAS$26,\"\")","v":""},null,{"$f":"IF(+SUM(AAV31:AAV32)=0,\"\",SUM(AAV31:AAV32))","v":""},{"$f":"IFERROR(+AAV30/AAV$26,\"\")","v":""},null,{"$f":"IF(+SUM(AAY31:AAY32)=0,\"\",SUM(AAY31:AAY32))","v":""},{"$f":"IFERROR(+AAY30/AAY$26,\"\")","v":""},null,{"$f":"IF(+SUM(ABB31:ABB32)=0,\"\",SUM(ABB31:ABB32))","v":""},{"$f":"IFERROR(+ABB30/ABB$26,\"\")","v":""},null,{"$f":"IF(+SUM(ABE31:ABE32)=0,\"\",SUM(ABE31:ABE32))","v":""},{"$f":"IFERROR(+ABE30/ABE$26,\"\")","v":""},null,{"$f":"IF(+SUM(ABH31:ABH32)=0,\"\",SUM(ABH31:ABH32))","v":""},{"$f":"IFERROR(+ABH30/ABH$26,\"\")","v":""},null,{"$f":"IF(+SUM(ABK31:ABK32)=0,\"\",SUM(ABK31:ABK32))","v":""},{"$f":"IFERROR(+ABK30/ABK$26,\"\")","v":""},null,{"$f":"IF(+SUM(ABN31:ABN32)=0,\"\",SUM(ABN31:ABN32))","v":""},{"$f":"IFERROR(+ABN30/ABN$26,\"\")","v":""},null,{"$f":"IF(+SUM(ABQ31:ABQ32)=0,\"\",SUM(ABQ31:ABQ32))","v":""},{"$f":"IFERROR(+ABQ30/ABQ$26,\"\")","v":""},null,{"$f":"IF(+SUM(ABT31:ABT32)=0,\"\",SUM(ABT31:ABT32))","v":""},{"$f":"IFERROR(+ABT30/ABT$26,\"\")","v":""},null,{"$f":"IF(+SUM(ABW31:ABW32)=0,\"\",SUM(ABW31:ABW32))","v":""},{"$f":"IFERROR(+ABW30/ABW$26,\"\")","v":""},null,{"$f":"IF(+SUM(ABZ31:ABZ32)=0,\"\",SUM(ABZ31:ABZ32))","v":""},{"$f":"IFERROR(+ABZ30/ABZ$26,\"\")","v":""},null,{"$f":"IF(+SUM(ACC31:ACC32)=0,\"\",SUM(ACC31:ACC32))","v":""},{"$f":"IFERROR(+ACC30/ACC$26,\"\")","v":""},null,{"$f":"IF(+SUM(ACF31:ACF32)=0,\"\",SUM(ACF31:ACF32))","v":""},{"$f":"IFERROR(+ACF30/ACF$26,\"\")","v":""},null,{"$f":"IF(+SUM(ACI31:ACI32)=0,\"\",SUM(ACI31:ACI32))","v":""},{"$f":"IFERROR(+ACI30/ACI$26,\"\")","v":""},null,{"$f":"IF(+SUM(ACL31:ACL32)=0,\"\",SUM(ACL31:ACL32))","v":""},{"$f":"IFERROR(+ACL30/ACL$26,\"\")","v":""},null,{"$f":"IF(+SUM(ACO31:ACO32)=0,\"\",SUM(ACO31:ACO32))","v":""},{"$f":"IFERROR(+ACO30/ACO$26,\"\")","v":""},null,{"$f":"IF(+SUM(ACR31:ACR32)=0,\"\",SUM(ACR31:ACR32))","v":""},{"$f":"IFERROR(+ACR30/ACR$26,\"\")","v":""},null,{"$f":"IF(+SUM(ACU31:ACU32)=0,\"\",SUM(ACU31:ACU32))","v":""},{"$f":"IFERROR(+ACU30/ACU$26,\"\")","v":""},null,{"$f":"IF(+SUM(ACX31:ACX32)=0,\"\",SUM(ACX31:ACX32))","v":""},{"$f":"IFERROR(+ACX30/ACX$26,\"\")","v":""},null,{"$f":"IF(+SUM(ADA31:ADA32)=0,\"\",SUM(ADA31:ADA32))","v":""},{"$f":"IFERROR(+ADA30/ADA$26,\"\")","v":""},null,{"$f":"IF(+SUM(ADD31:ADD32)=0,\"\",SUM(ADD31:ADD32))","v":""},{"$f":"IFERROR(+ADD30/ADD$26,\"\")","v":""},null,{"$f":"IF(+SUM(ADG31:ADG32)=0,\"\",SUM(ADG31:ADG32))","v":""},{"$f":"IFERROR(+ADG30/ADG$26,\"\")","v":""},null,{"$f":"IF(+SUM(ADJ31:ADJ32)=0,\"\",SUM(ADJ31:ADJ32))","v":""},{"$f":"IFERROR(+ADJ30/ADJ$26,\"\")","v":""},null,{"$f":"IF(+SUM(ADM31:ADM32)=0,\"\",SUM(ADM31:ADM32))","v":""},{"$f":"IFERROR(+ADM30/ADM$26,\"\")","v":""},null,{"$f":"IF(+SUM(ADP31:ADP32)=0,\"\",SUM(ADP31:ADP32))","v":""},{"$f":"IFERROR(+ADP30/ADP$26,\"\")","v":""},null,{"$f":"IF(+SUM(ADS31:ADS32)=0,\"\",SUM(ADS31:ADS32))","v":""},{"$f":"IFERROR(+ADS30/ADS$26,\"\")","v":""},null,{"$f":"IF(+SUM(ADV31:ADV32)=0,\"\",SUM(ADV31:ADV32))","v":""},{"$f":"IFERROR(+ADV30/ADV$26,\"\")","v":""},null,{"$f":"IF(+SUM(ADY31:ADY32)=0,\"\",SUM(ADY31:ADY32))","v":""},{"$f":"IFERROR(+ADY30/ADY$26,\"\")","v":""},null,{"$f":"IF(+SUM(AEB31:AEB32)=0,\"\",SUM(AEB31:AEB32))","v":""},{"$f":"IFERROR(+AEB30/AEB$26,\"\")","v":""},null,{"$f":"IF(+SUM(AEE31:AEE32)=0,\"\",SUM(AEE31:AEE32))","v":""},{"$f":"IFERROR(+AEE30/AEE$26,\"\")","v":""},null,{"$f":"IF(+SUM(AEH31:AEH32)=0,\"\",SUM(AEH31:AEH32))","v":""},{"$f":"IFERROR(+AEH30/AEH$26,\"\")","v":""},null,{"$f":"IF(+SUM(AEK31:AEK32)=0,\"\",SUM(AEK31:AEK32))","v":""},{"$f":"IFERROR(+AEK30/AEK$26,\"\")","v":""},null,{"$f":"IF(+SUM(AEN31:AEN32)=0,\"\",SUM(AEN31:AEN32))","v":""},{"$f":"IFERROR(+AEN30/AEN$26,\"\")","v":""},null,{"$f":"IF(+SUM(AEQ31:AEQ32)=0,\"\",SUM(AEQ31:AEQ32))","v":""},{"$f":"IFERROR(+AEQ30/AEQ$26,\"\")","v":""},null,{"$f":"IF(+SUM(AET31:AET32)=0,\"\",SUM(AET31:AET32))","v":""},{"$f":"IFERROR(+AET30/AET$26,\"\")","v":""},null,{"$f":"IF(+SUM(AEW31:AEW32)=0,\"\",SUM(AEW31:AEW32))","v":""},{"$f":"IFERROR(+AEW30/AEW$26,\"\")","v":""},null,{"$f":"IF(+SUM(AEZ31:AEZ32)=0,\"\",SUM(AEZ31:AEZ32))","v":""},{"$f":"IFERROR(+AEZ30/AEZ$26,\"\")","v":""},null,{"$f":"IF(+SUM(AFC31:AFC32)=0,\"\",SUM(AFC31:AFC32))","v":""},{"$f":"IFERROR(+AFC30/AFC$26,\"\")","v":""},null,{"$f":"IF(+SUM(AFF31:AFF32)=0,\"\",SUM(AFF31:AFF32))","v":""},{"$f":"IFERROR(+AFF30/AFF$26,\"\")","v":""},null,{"$f":"IF(+SUM(AFI31:AFI32)=0,\"\",SUM(AFI31:AFI32))","v":""},{"$f":"IFERROR(+AFI30/AFI$26,\"\")","v":""},null,{"$f":"IF(+SUM(AFL31:AFL32)=0,\"\",SUM(AFL31:AFL32))","v":""},{"$f":"IFERROR(+AFL30/AFL$26,\"\")","v":""},null,{"$f":"IF(+SUM(AFO31:AFO32)=0,\"\",SUM(AFO31:AFO32))","v":""},{"$f":"IFERROR(+AFO30/AFO$26,\"\")","v":""},null,{"$f":"IF(+SUM(AFR31:AFR32)=0,\"\",SUM(AFR31:AFR32))","v":""},{"$f":"IFERROR(+AFR30/AFR$26,\"\")","v":""},null,{"$f":"IF(+SUM(AFU31:AFU32)=0,\"\",SUM(AFU31:AFU32))","v":""},{"$f":"IFERROR(+AFU30/AFU$26,\"\")","v":""},null,{"$f":"IF(+SUM(AFX31:AFX32)=0,\"\",SUM(AFX31:AFX32))","v":""},{"$f":"IFERROR(+AFX30/AFX$26,\"\")","v":""},null,{"$f":"IF(+SUM(AGA31:AGA32)=0,\"\",SUM(AGA31:AGA32))","v":""},{"$f":"IFERROR(+AGA30/AGA$26,\"\")","v":""},null,{"$f":"IF(+SUM(AGD31:AGD32)=0,\"\",SUM(AGD31:AGD32))","v":""},{"$f":"IFERROR(+AGD30/AGD$26,\"\")","v":""},null,{"$f":"IF(+SUM(AGG31:AGG32)=0,\"\",SUM(AGG31:AGG32))","v":""},{"$f":"IFERROR(+AGG30/AGG$26,\"\")","v":""},null,{"$f":"IF(+SUM(AGJ31:AGJ32)=0,\"\",SUM(AGJ31:AGJ32))","v":""},{"$f":"IFERROR(+AGJ30/AGJ$26,\"\")","v":""},null,{"$f":"IF(+SUM(AGM31:AGM32)=0,\"\",SUM(AGM31:AGM32))","v":""},{"$f":"IFERROR(+AGM30/AGM$26,\"\")","v":""},null,{"$f":"IF(+SUM(AGP31:AGP32)=0,\"\",SUM(AGP31:AGP32))","v":""},{"$f":"IFERROR(+AGP30/AGP$26,\"\")","v":""},null,{"$f":"IF(+SUM(AGS31:AGS32)=0,\"\",SUM(AGS31:AGS32))","v":""},{"$f":"IFERROR(+AGS30/AGS$26,\"\")","v":""},null,{"$f":"IF(+SUM(AGV31:AGV32)=0,\"\",SUM(AGV31:AGV32))","v":""},{"$f":"IFERROR(+AGV30/AGV$26,\"\")","v":""},null,{"$f":"IF(+SUM(AGY31:AGY32)=0,\"\",SUM(AGY31:AGY32))","v":""},{"$f":"IFERROR(+AGY30/AGY$26,\"\")","v":""},null,{"$f":"IF(+SUM(AHB31:AHB32)=0,\"\",SUM(AHB31:AHB32))","v":""},{"$f":"IFERROR(+AHB30/AHB$26,\"\")","v":""},null,{"$f":"IF(+SUM(AHE31:AHE32)=0,\"\",SUM(AHE31:AHE32))","v":""},{"$f":"IFERROR(+AHE30/AHE$26,\"\")","v":""},null,{"$f":"IF(+SUM(AHH31:AHH32)=0,\"\",SUM(AHH31:AHH32))","v":""},{"$f":"IFERROR(+AHH30/AHH$26,\"\")","v":""},null,{"$f":"IF(+SUM(AHK31:AHK32)=0,\"\",SUM(AHK31:AHK32))","v":""},{"$f":"IFERROR(+AHK30/AHK$26,\"\")","v":""},null,{"$f":"IF(+SUM(AHN31:AHN32)=0,\"\",SUM(AHN31:AHN32))","v":""},{"$f":"IFERROR(+AHN30/AHN$26,\"\")","v":""},null,{"$f":"IF(+SUM(AHQ31:AHQ32)=0,\"\",SUM(AHQ31:AHQ32))","v":""},{"$f":"IFERROR(+AHQ30/AHQ$26,\"\")","v":""},null,{"$f":"IF(+SUM(AHT31:AHT32)=0,\"\",SUM(AHT31:AHT32))","v":""},{"$f":"IFERROR(+AHT30/AHT$26,\"\")","v":""}]
["1.3.1","Refrigerants & Fire Suppression",null,{"$f":"+Aux_grafico!C4","v":0},0,null,null,{"$f":"IFERROR(+G31/G$26,\"\")","v":""},null,null,{"$f":"IFERROR(+J31/J$26,\"\")","v":""},null,null,{"$f":"IFERROR(+M31/M$26,\"\")","v":""},null,null,{"$f":"IFERROR(+P31/P$26,\"\")","v":""},null,null,{"$f":"IFERROR(+S31/S$26,\"\")","v":""},null,null,{"$f":"IFERROR(+V31/V$26,\"\")","v":""},null,null,{"$f":"IFERROR(+Y31/Y$26,\"\")","v":""},null,null,{"$f":"IFERROR(+AB31/AB$26,\"\")","v":""},null,null,{"$f":"IFERROR(+AE31/AE$26,\"\")","v":""},null,null,{"$f":"IFERROR(+AH31/AH$26,\"\")","v":""},null,null,{"$f":"IFERROR(+AK31/AK$26,\"\")","v":""},null,null,{"$f":"IFERROR(+AN31/AN$26,\"\")","v":""},null,null,{"$f":"IFERROR(+AQ31/AQ$26,\"\")","v":""},null,null,{"$f":"IFERROR(+AT31/AT$26,\"\")","v":""},null,null,{"$f":"IFERROR(+AW31/AW$26,\"\")","v":""},null,null,{"$f":"IFERROR(+AZ31/AZ$26,\"\")","v":""},null,null,{"$f":"IFERROR(+BC31/BC$26,\"\")","v":""},null,null,{"$f":"IFERROR(+BF31/BF$26,\"\")","v":""},null,null,{"$f":"IFERROR(+BI31/BI$26,\"\")","v":""},null,null,{"$f":"IFERROR(+BL31/BL$26,\"\")","v":""},null,null,{"$f":"IFERROR(+BO31/BO$26,\"\")","v":""},null,null,{"$f":"IFERROR(+BR31/BR$26,\"\")","v":""},null,null,{"$f":"IFERROR(+BU31/BU$26,\"\")","v":""},null,null,{"$f":"IFERROR(+BX31/BX$26,\"\")","v":""},null,null,{"$f":"IFERROR(+CA31/CA$26,\"\")","v":""},null,null,{"$f":"IFERROR(+CD31/CD$26,\"\")","v":""},null,null,{"$f":"IFERROR(+CG31/CG$26,\"\")","v":""},null,null,{"$f":"IFERROR(+CJ31/CJ$26,\"\")","v":""},null,null,{"$f":"IFERROR(+CM31/CM$26,\"\")","v":""},null,null,{"$f":"IFERROR(+CP31/CP$26,\"\")","v":""},null,null,{"$f":"IFERROR(+CS31/CS$26,\"\")","v":""},null,null,{"$f":"IFERROR(+CV31/CV$26,\"\")","v":""},null,null,{"$f":"IFERROR(+CY31/CY$26,\"\")","v":""},null,null,{"$f":"IFERROR(+DB31/DB$26,\"\")","v":""},null,null,{"$f":"IFERROR(+DE31/DE$26,\"\")","v":""},null,null,{"$f":"IFERROR(+DH31/DH$26,\"\")","v":""},null,null,{"$f":"IFERROR(+DK31/DK$26,\"\")","v":""},null,null,{"$f":"IFERROR(+DN31/DN$26,\"\")","v":""},null,null,{"$f":"IFERROR(+DQ31/DQ$26,\"\")","v":""},null,null,{"$f":"IFERROR(+DT31/DT$26,\"\")","v":""},null,null,{"$f":"IFERROR(+DW31/DW$26,\"\")","v":""},null,null,{"$f":"IFERROR(+DZ31/DZ$26,\"\")","v":""},null,null,{"$f":"IFERROR(+EC31/EC$26,\"\")","v":""},null,null,{"$f":"IFERROR(+EF31/EF$26,\"\")","v":""},null,null,{"$f":"IFERROR(+EI31/EI$26,\"\")","v":""},null,null,{"$f":"IFERROR(+EL31/EL$26,\"\")","v":""},null,null,{"$f":"IFERROR(+EO31/EO$26,\"\")","v":""},null,null,{"$f":"IFERROR(+ER31/ER$26,\"\")","v":""},null,null,{"$f":"IFERROR(+EU31/EU$26,\"\")","v":""},null,null,{"$f":"IFERROR(+EX31/EX$26,\"\")","v":""},null,null,{"$f":"IFERROR(+FA31/FA$26,\"\")","v":""},null,null,{"$f":"IFERROR(+FD31/FD$26,\"\")","v":""},null,null,{"$f":"IFERROR(+FG31/FG$26,\"\")","v":""},null,null,{"$f":"IFERROR(+FJ31/FJ$26,\"\")","v":""},null,null,{"$f":"IFERROR(+FM31/FM$26,\"\")","v":""},null,null,{"$f":"IFERROR(+FP31/FP$26,\"\")","v":""},null,null,{"$f":"IFERROR(+FS31/FS$26,\"\")","v":""},null,null,{"$f":"IFERROR(+FV31/FV$26,\"\")","v":""},null,null,{"$f":"IFERROR(+FY31/FY$26,\"\")","v":""},null,null,{"$f":"IFERROR(+GB31/GB$26,\"\")","v":""},null,null,{"$f":"IFERROR(+GE31/GE$26,\"\")","v":""},null,null,{"$f":"IFERROR(+GH31/GH$26,\"\")","v":""},null,null,{"$f":"IFERROR(+GK31/GK$26,\"\")","v":""},null,null,{"$f":"IFERROR(+GN31/GN$26,\"\")","v":""},null,null,{"$f":"IFERROR(+GQ31/GQ$26,\"\")","v":""},null,null,{"$f":"IFERROR(+GT31/GT$26,\"\")","v":""},null,null,{"$f":"IFERROR(+GW31/GW$26,\"\")","v":""},null,null,{"$f":"IFERROR(+GZ31/GZ$26,\"\")","v":""},null,null,{"$f":"IFERROR(+HC31/HC$26,\"\")","v":""},null,null,{"$f":"IFERROR(+HF31/HF$26,\"\")","v":""},null,null,{"$f":"IFERROR(+HI31/HI$26,\"\")","v":""},null,null,{"$f":"IFERROR(+HL31/HL$26,\"\")","v":""},null,null,{"$f":"IFERROR(+HO31/HO$26,\"\")","v":""},null,null,{"$f":"IFERROR(+HR31/HR$26,\"\")","v":""},null,null,{"$f":"IFERROR(+HU31/HU$26,\"\")","v":""},null,null,{"$f":"IFERROR(+HX31/HX$26,\"\")","v":""},null,null,{"$f":"IFERROR(+IA31/IA$26,\"\")","v":""},null,null,{"$f":"IFERROR(+ID31/ID$26,\"\")","v":""},null,null,{"$f":"IFERROR(+IG31/IG$26,\"\")","v":""},null,null,{"$f":"IFERROR(+IJ31/IJ$26,\"\")","v":""},null,null,{"$f":"IFERROR(+IM31/IM$26,\"\")","v":""},null,null,{"$f":"IFERROR(+IP31/IP$26,\"\")","v":""},null,null,{"$f":"IFERROR(+IS31/IS$26,\"\")","v":""},null,null,{"$f":"IFERROR(+IV31/IV$26,\"\")","v":""},null,null,{"$f":"IFERROR(+IY31/IY$26,\"\")","v":""},null,null,{"$f":"IFERROR(+JB31/JB$26,\"\")","v":""},null,null,{"$f":"IFERROR(+JE31/JE$26,\"\")","v":""},null,null,{"$f":"IFERROR(+JH31/JH$26,\"\")","v":""},null,null,{"$f":"IFERROR(+JK31/JK$26,\"\")","v":""},null,null,{"$f":"IFERROR(+JN31/JN$26,\"\")","v":""},null,null,{"$f":"IFERROR(+JQ31/JQ$26,\"\")","v":""},null,null,{"$f":"IFERROR(+JT31/JT$26,\"\")","v":""},null,null,{"$f":"IFERROR(+JW31/JW$26,\"\")","v":""},null,null,{"$f":"IFERROR(+JZ31/JZ$26,\"\")","v":""},null,null,{"$f":"IFERROR(+KC31/KC$26,\"\")","v":""},null,null,{"$f":"IFERROR(+KF31/KF$26,\"\")","v":""},null,null,{"$f":"IFERROR(+KI31/KI$26,\"\")","v":""},null,null,{"$f":"IFERROR(+KL31/KL$26,\"\")","v":""},null,null,{"$f":"IFERROR(+KO31/KO$26,\"\")","v":""},null,null,{"$f":"IFERROR(+KR31/KR$26,\"\")","v":""},null,null,{"$f":"IFERROR(+KU31/KU$26,\"\")","v":""},null,null,{"$f":"IFERROR(+KX31/KX$26,\"\")","v":""},null,null,{"$f":"IFERROR(+LA31/LA$26,\"\")","v":""},null,null,{"$f":"IFERROR(+LD31/LD$26,\"\")","v":""},null,null,{"$f":"IFERROR(+LG31/LG$26,\"\")","v":""},null,null,{"$f":"IFERROR(+LJ31/LJ$26,\"\")","v":""},null,null,{"$f":"IFERROR(+LM31/LM$26,\"\")","v":""},null,null,{"$f":"IFERROR(+LP31/LP$26,\"\")","v":""},null,null,{"$f":"IFERROR(+LS31/LS$26,\"\")","v":""},null,null,{"$f":"IFERROR(+LV31/LV$26,\"\")","v":""},null,null,{"$f":"IFERROR(+LY31/LY$26,\"\")","v":""},null,null,{"$f":"IFERROR(+MB31/MB$26,\"\")","v":""},null,null,{"$f":"IFERROR(+ME31/ME$26,\"\")","v":""},null,null,{"$f":"IFERROR(+MH31/MH$26,\"\")","v":""},null,null,{"$f":"IFERROR(+MK31/MK$26,\"\")","v":""},null,null,{"$f":"IFERROR(+MN31/MN$26,\"\")","v":""},null,null,{"$f":"IFERROR(+MQ31/MQ$26,\"\")","v":""},null,null,{"$f":"IFERROR(+MT31/MT$26,\"\")","v":""},null,null,{"$f":"IFERROR(+MW31/MW$26,\"\")","v":""},null,null,{"$f":"IFERROR(+MZ31/MZ$26,\"\")","v":""},null,null,{"$f":"IFERROR(+NC31/NC$26,\"\")","v":""},null,null,{"$f":"IFERROR(+NF31/NF$26,\"\")","v":""},null,null,{"$f":"IFERROR(+NI31/NI$26,\"\")","v":""},null,null,{"$f":"IFERROR(+NL31/NL$26,\"\")","v":""},null,null,{"$f":"IFERROR(+NO31/NO$26,\"\")","v":""},null,null,{"$f":"IFERROR(+NR31/NR$26,\"\")","v":""},null,null,{"$f":"IFERROR(+NU31/NU$26,\"\")","v":""},null,null,{"$f":"IFERROR(+NX31/NX$26,\"\")","v":""},null,null,{"$f":"IFERROR(+OA31/OA$26,\"\")","v":""},null,null,{"$f":"IFERROR(+OD31/OD$26,\"\")","v":""},null,null,{"$f":"IFERROR(+OG31/OG$26,\"\")","v":""},null,null,{"$f":"IFERROR(+OJ31/OJ$26,\"\")","v":""},null,null,{"$f":"IFERROR(+OM31/OM$26,\"\")","v":""},null,null,{"$f":"IFERROR(+OP31/OP$26,\"\")","v":""},null,null,{"$f":"IFERROR(+OS31/OS$26,\"\")","v":""},null,null,{"$f":"IFERROR(+OV31/OV$26,\"\")","v":""},null,null,{"$f":"IFERROR(+OY31/OY$26,\"\")","v":""},null,null,{"$f":"IFERROR(+PB31/PB$26,\"\")","v":""},null,null,{"$f":"IFERROR(+PE31/PE$26,\"\")","v":""},null,null,{"$f":"IFERROR(+PH31/PH$26,\"\")","v":""},null,null,{"$f":"IFERROR(+PK31/PK$26,\"\")","v":""},null,null,{"$f":"IFERROR(+PN31/PN$26,\"\")","v":""},null,null,{"$f":"IFERROR(+PQ31/PQ$26,\"\")","v":""},null,null,{"$f":"IFERROR(+PT31/PT$26,\"\")","v":""},null,null,{"$f":"IFERROR(+PW31/PW$26,\"\")","v":""},null,null,{"$f":"IFERROR(+PZ31/PZ$26,\"\")","v":""},null,null,{"$f":"IFERROR(+QC31/QC$26,\"\")","v":""},null,null,{"$f":"IFERROR(+QF31/QF$26,\"\")","v":""},null,null,{"$f":"IFERROR(+QI31/QI$26,\"\")","v":""},null,null,{"$f":"IFERROR(+QL31/QL$26,\"\")","v":""},null,null,{"$f":"IFERROR(+QO31/QO$26,\"\")","v":""},null,null,{"$f":"IFERROR(+QR31/QR$26,\"\")","v":""},null,null,{"$f":"IFERROR(+QU31/QU$26,\"\")","v":""},null,null,{"$f":"IFERROR(+QX31/QX$26,\"\")","v":""},null,null,{"$f":"IFERROR(+RA31/RA$26,\"\")","v":""},null,null,{"$f":"IFERROR(+RD31/RD$26,\"\")","v":""},null,null,{"$f":"IFERROR(+RG31/RG$26,\"\")","v":""},null,null,{"$f":"IFERROR(+RJ31/RJ$26,\"\")","v":""},null,null,{"$f":"IFERROR(+RM31/RM$26,\"\")","v":""},null,null,{"$f":"IFERROR(+RP31/RP$26,\"\")","v":""},null,null,{"$f":"IFERROR(+RS31/RS$26,\"\")","v":""},null,null,{"$f":"IFERROR(+RV31/RV$26,\"\")","v":""},null,null,{"$f":"IFERROR(+RY31/RY$26,\"\")","v":""},null,null,{"$f":"IFERROR(+SB31/SB$26,\"\")","v":""},null,null,{"$f":"IFERROR(+SE31/SE$26,\"\")","v":""},null,null,{"$f":"IFERROR(+SH31/SH$26,\"\")","v":""},null,null,{"$f":"IFERROR(+SK31/SK$26,\"\")","v":""},null,null,{"$f":"IFERROR(+SN31/SN$26,\"\")","v":""},null,null,{"$f":"IFERROR(+SQ31/SQ$26,\"\")","v":""},null,null,{"$f":"IFERROR(+ST31/ST$26,\"\")","v":""},null,null,{"$f":"IFERROR(+SW31/SW$26,\"\")","v":""},null,null,{"$f":"IFERROR(+SZ31/SZ$26,\"\")","v":""},null,null,{"$f":"IFERROR(+TC31/TC$26,\"\")","v":""},null,null,{"$f":"IFERROR(+TF31/TF$26,\"\")","v":""},null,null,{"$f":"IFERROR(+TI31/TI$26,\"\")","v":""},null,null,{"$f":"IFERROR(+TL31/TL$26,\"\")","v":""},null,null,{"$f":"IFERROR(+TO31/TO$26,\"\")","v":""},null,null,{"$f":"IFERROR(+TR31/TR$26,\"\")","v":""},null,null,{"$f":"IFERROR(+TU31/TU$26,\"\")","v":""},null,null,{"$f":"IFERROR(+TX31/TX$26,\"\")","v":""},null,null,{"$f":"IFERROR(+UA31/UA$26,\"\")","v":""},null,null,{"$f":"IFERROR(+UD31/UD$26,\"\")","v":""},null,null,{"$f":"IFERROR(+UG31/UG$26,\"\")","v":""},null,null,{"$f":"IFERROR(+UJ31/UJ$26,\"\")","v":""},null,null,{"$f":"IFERROR(+UM31/UM$26,\"\")","v":""},null,null,{"$f":"IFERROR(+UP31/UP$26,\"\")","v":""},null,null,{"$f":"IFERROR(+US31/US$26,\"\")","v":""},null,null,{"$f":"IFERROR(+UV31/UV$26,\"\")","v":""},null,null,{"$f":"IFERROR(+UY31/UY$26,\"\")","v":""},null,null,{"$f":"IFERROR(+VB31/VB$26,\"\")","v":""},null,null,{"$f":"IFERROR(+VE31/VE$26,\"\")","v":""},null,null,{"$f":"IFERROR(+VH31/VH$26,\"\")","v":""},null,null,{"$f":"IFERROR(+VK31/VK$26,\"\")","v":""},null,null,{"$f":"IFERROR(+VN31/VN$26,\"\")","v":""},null,null,{"$f":"IFERROR(+VQ31/VQ$26,\"\")","v":""},null,null,{"$f":"IFERROR(+VT31/VT$26,\"\")","v":""},null,null,{"$f":"IFERROR(+VW31/VW$26,\"\")","v":""},null,null,{"$f":"IFERROR(+VZ31/VZ$26,\"\")","v":""},null,null,{"$f":"IFERROR(+WC31/WC$26,\"\")","v":""},null,null,{"$f":"IFERROR(+WF31/WF$26,\"\")","v":""},null,null,{"$f":"IFERROR(+WI31/WI$26,\"\")","v":""},null,null,{"$f":"IFERROR(+WL31/WL$26,\"\")","v":""},null,null,{"$f":"IFERROR(+WO31/WO$26,\"\")","v":""},null,null,{"$f":"IFERROR(+WR31/WR$26,\"\")","v":""},null,null,{"$f":"IFERROR(+WU31/WU$26,\"\")","v":""},null,null,{"$f":"IFERROR(+WX31/WX$26,\"\")","v":""},null,null,{"$f":"IFERROR(+XA31/XA$26,\"\")","v":""},null,null,{"$f":"IFERROR(+XD31/XD$26,\"\")","v":""},null,null,{"$f":"IFERROR(+XG31/XG$26,\"\")","v":""},null,null,{"$f":"IFERROR(+XJ31/XJ$26,\"\")","v":""},null,null,{"$f":"IFERROR(+XM31/XM$26,\"\")","v":""},null,null,{"$f":"IFERROR(+XP31/XP$26,\"\")","v":""},null,null,{"$f":"IFERROR(+XS31/XS$26,\"\")","v":""},null,null,{"$f":"IFERROR(+XV31/XV$26,\"\")","v":""},null,null,{"$f":"IFERROR(+XY31/XY$26,\"\")","v":""},null,null,{"$f":"IFERROR(+YB31/YB$26,\"\")","v":""},null,null,{"$f":"IFERROR(+YE31/YE$26,\"\")","v":""},null,null,{"$f":"IFERROR(+YH31/YH$26,\"\")","v":""},null,null,{"$f":"IFERROR(+YK31/YK$26,\"\")","v":""},null,null,{"$f":"IFERROR(+YN31/YN$26,\"\")","v":""},null,null,{"$f":"IFERROR(+YQ31/YQ$26,\"\")","v":""},null,null,{"$f":"IFERROR(+YT31/YT$26,\"\")","v":""},null,null,{"$f":"IFERROR(+YW31/YW$26,\"\")","v":""},null,null,{"$f":"IFERROR(+YZ31/YZ$26,\"\")","v":""},null,null,{"$f":"IFERROR(+ZC31/ZC$26,\"\")","v":""},null,null,{"$f":"IFERROR(+ZF31/ZF$26,\"\")","v":""},null,null,{"$f":"IFERROR(+ZI31/ZI$26,\"\")","v":""},null,null,{"$f":"IFERROR(+ZL31/ZL$26,\"\")","v":""},null,null,{"$f":"IFERROR(+ZO31/ZO$26,\"\")","v":""},null,null,{"$f":"IFERROR(+ZR31/ZR$26,\"\")","v":""},null,null,{"$f":"IFERROR(+ZU31/ZU$26,\"\")","v":""},null,null,{"$f":"IFERROR(+ZX31/ZX$26,\"\")","v":""},null,null,{"$f":"IFERROR(+AAA31/AAA$26,\"\")","v":""},null,null,{"$f":"IFERROR(+AAD31/AAD$26,\"\")","v":""},null,null,{"$f":"IFERROR(+AAG31/AAG$26,\"\")","v":""},null,null,{"$f":"IFERROR(+AAJ31/AAJ$26,\"\")","v":""},null,null,{"$f":"IFERROR(+AAM31/AAM$26,\"\")","v":""},null,null,{"$f":"IFERROR(+AAP31/AAP$26,\"\")","v":""},null,null,{"$f":"IFERROR(+AAS31/AAS$26,\"\")","v":""},null,null,{"$f":"IFERROR(+AAV31/AAV$26,\"\")","v":""},null,null,{"$f":"IFERROR(+AAY31/AAY$26,\"\")","v":""},null,null,{"$f":"IFERROR(+ABB31/ABB$26,\"\")","v":""},null,null,{"$f":"IFERROR(+ABE31/ABE$26,\"\")","v":""},null,null,{"$f":"IFERROR(+ABH31/ABH$26,\"\")","v":""},null,null,{"$f":"IFERROR(+ABK31/ABK$26,\"\")","v":""},null,null,{"$f":"IFERROR(+ABN31/ABN$26,\"\")","v":""},null,null,{"$f":"IFERROR(+ABQ31/ABQ$26,\"\")","v":""},null,null,{"$f":"IFERROR(+ABT31/ABT$26,\"\")","v":""},null,null,{"$f":"IFERROR(+ABW31/ABW$26,\"\")","v":""},null,null,{"$f":"IFERROR(+ABZ31/ABZ$26,\"\")","v":""},null,null,{"$f":"IFERROR(+ACC31/ACC$26,\"\")","v":""},null,null,{"$f":"IFERROR(+ACF31/ACF$26,\"\")","v":""},null,null,{"$f":"IFERROR(+ACI31/ACI$26,\"\")","v":""},null,null,{"$f":"IFERROR(+ACL31/ACL$26,\"\")","v":""},null,null,{"$f":"IFERROR(+ACO31/ACO$26,\"\")","v":""},null,null,{"$f":"IFERROR(+ACR31/ACR$26,\"\")","v":""},null,null,{"$f":"IFERROR(+ACU31/ACU$26,\"\")","v":""},null,null,{"$f":"IFERROR(+ACX31/ACX$26,\"\")","v":""},null,null,{"$f":"IFERROR(+ADA31/ADA$26,\"\")","v":""},null,null,{"$f":"IFERROR(+ADD31/ADD$26,\"\")","v":""},null,null,{"$f":"IFERROR(+ADG31/ADG$26,\"\")","v":""},null,null,{"$f":"IFERROR(+ADJ31/ADJ$26,\"\")","v":""},null,null,{"$f":"IFERROR(+ADM31/ADM$26,\"\")","v":""},null,null,{"$f":"IFERROR(+ADP31/ADP$26,\"\")","v":""},null,null,{"$f":"IFERROR(+ADS31/ADS$26,\"\")","v":""},null,null,{"$f":"IFERROR(+ADV31/ADV$26,\"\")","v":""},null,null,{"$f":"IFERROR(+ADY31/ADY$26,\"\")","v":""},null,null,{"$f":"IFERROR(+AEB31/AEB$26,\"\")","v":""},null,null,{"$f":"IFERROR(+AEE31/AEE$26,\"\")","v":""},null,null,{"$f":"IFERROR(+AEH31/AEH$26,\"\")","v":""},null,null,{"$f":"IFERROR(+AEK31/AEK$26,\"\")","v":""},null,null,{"$f":"IFERROR(+AEN31/AEN$26,\"\")","v":""},null,null,{"$f":"IFERROR(+AEQ31/AEQ$26,\"\")","v":""},null,null,{"$f":"IFERROR(+AET31/AET$26,\"\")","v":""},null,null,{"$f":"IFERROR(+AEW31/AEW$26,\"\")","v":""},null,null,{"$f":"IFERROR(+AEZ31/AEZ$26,\"\")","v":""},null,null,{"$f":"IFERROR(+AFC31/AFC$26,\"\")","v":""},null,null,{"$f":"IFERROR(+AFF31/AFF$26,\"\")","v":""},null,null,{"$f":"IFERROR(+AFI31/AFI$26,\"\")","v":""},null,null,{"$f":"IFERROR(+AFL31/AFL$26,\"\")","v":""},null,null,{"$f":"IFERROR(+AFO31/AFO$26,\"\")","v":""},null,null,{"$f":"IFERROR(+AFR31/AFR$26,\"\")","v":""},null,null,{"$f":"IFERROR(+AFU31/AFU$26,\"\")","v":""},null,null,{"$f":"IFERROR(+AFX31/AFX$26,\"\")","v":""},null,null,{"$f":"IFERROR(+AGA31/AGA$26,\"\")","v":""},null,null,{"$f":"IFERROR(+AGD31/AGD$26,\"\")","v":""},null,null,{"$f":"IFERROR(+AGG31/AGG$26,\"\")","v":""},null,null,{"$f":"IFERROR(+AGJ31/AGJ$26,\"\")","v":""},null,null,{"$f":"IFERROR(+AGM31/AGM$26,\"\")","v":""},null,null,{"$f":"IFERROR(+AGP31/AGP$26,\"\")","v":""},null,null,{"$f":"IFERROR(+AGS31/AGS$26,\"\")","v":""},null,null,{"$f":"IFERROR(+AGV31/AGV$26,\"\")","v":""},null,null,{"$f":"IFERROR(+AGY31/AGY$26,\"\")","v":""},null,null,{"$f":"IFERROR(+AHB31/AHB$26,\"\")","v":""},null,null,{"$f":"IFERROR(+AHE31/AHE$26,\"\")","v":""},null,null,{"$f":"IFERROR(+AHH31/AHH$26,\"\")","v":""},null,null,{"$f":"IFERROR(+AHK31/AHK$26,\"\")","v":""},null,null,{"$f":"IFERROR(+AHN31/AHN$26,\"\")","v":""},null,null,{"$f":"IFERROR(+AHQ31/AHQ$26,\"\")","v":""},null,null,{"$f":"IFERROR(+AHT31/AHT$26,\"\")","v":""}]
["1.3.2","Medicinal / Anesthetic gases",null,{"$f":"+Aux_grafico!C5","v":0},0,null,null,{"$f":"IFERROR(+G32/G$26,\"\")","v":""},null,null,{"$f":"IFERROR(+J32/J$26,\"\")","v":""},null,null,{"$f":"IFERROR(+M32/M$26,\"\")","v":""},null,null,{"$f":"IFERROR(+P32/P$26,\"\")","v":""},null,null,{"$f":"IFERROR(+S32/S$26,\"\")","v":""},null,null,{"$f":"IFERROR(+V32/V$26,\"\")","v":""},null,null,{"$f":"IFERROR(+Y32/Y$26,\"\")","v":""},null,null,{"$f":"IFERROR(+AB32/AB$26,\"\")","v":""},null,null,{"$f":"IFERROR(+AE32/AE$26,\"\")","v":""},null,null,{"$f":"IFERROR(+AH32/AH$26,\"\")","v":""},null,null,{"$f":"IFERROR(+AK32/AK$26,\"\")","v":""},null,null,{"$f":"IFERROR(+AN32/AN$26,\"\")","v":""},null,null,{"$f":"IFERROR(+AQ32/AQ$26,\"\")","v":""},null,null,{"$f":"IFERROR(+AT32/AT$26,\"\")","v":""},null,null,{"$f":"IFERROR(+AW32/AW$26,\"\")","v":""},null,null,{"$f":"IFERROR(+AZ32/AZ$26,\"\")","v":""},null,null,{"$f":"IFERROR(+BC32/BC$26,\"\")","v":""},null,null,{"$f":"IFERROR(+BF32/BF$26,\"\")","v":""},null,null,{"$f":"IFERROR(+BI32/BI$26,\"\")","v":""},null,null,{"$f":"IFERROR(+BL32/BL$26,\"\")","v":""},null,null,{"$f":"IFERROR(+BO32/BO$26,\"\")","v":""},null,null,{"$f":"IFERROR(+BR32/BR$26,\"\")","v":""},null,null,{"$f":"IFERROR(+BU32/BU$26,\"\")","v":""},null,null,{"$f":"IFERROR(+BX32/BX$26,\"\")","v":""},null,null,{"$f":"IFERROR(+CA32/CA$26,\"\")","v":""},null,null,{"$f":"IFERROR(+CD32/CD$26,\"\")","v":""},null,null,{"$f":"IFERROR(+CG32/CG$26,\"\")","v":""},null,null,{"$f":"IFERROR(+CJ32/CJ$26,\"\")","v":""},null,null,{"$f":"IFERROR(+CM32/CM$26,\"\")","v":""},null,null,{"$f":"IFERROR(+CP32/CP$26,\"\")","v":""},null,null,{"$f":"IFERROR(+CS32/CS$26,\"\")","v":""},null,null,{"$f":"IFERROR(+CV32/CV$26,\"\")","v":""},null,null,{"$f":"IFERROR(+CY32/CY$26,\"\")","v":""},null,null,{"$f":"IFERROR(+DB32/DB$26,\"\")","v":""},null,null,{"$f":"IFERROR(+DE32/DE$26,\"\")","v":""},null,null,{"$f":"IFERROR(+DH32/DH$26,\"\")","v":""},null,null,{"$f":"IFERROR(+DK32/DK$26,\"\")","v":""},null,null,{"$f":"IFERROR(+DN32/DN$26,\"\")","v":""},null,null,{"$f":"IFERROR(+DQ32/DQ$26,\"\")","v":""},null,null,{"$f":"IFERROR(+DT32/DT$26,\"\")","v":""},null,null,{"$f":"IFERROR(+DW32/DW$26,\"\")","v":""},null,null,{"$f":"IFERROR(+DZ32/DZ$26,\"\")","v":""},null,null,{"$f":"IFERROR(+EC32/EC$26,\"\")","v":""},null,null,{"$f":"IFERROR(+EF32/EF$26,\"\")","v":""},null,null,{"$f":"IFERROR(+EI32/EI$26,\"\")","v":""},null,null,{"$f":"IFERROR(+EL32/EL$26,\"\")","v":""},null,null,{"$f":"IFERROR(+EO32/EO$26,\"\")","v":""},null,null,{"$f":"IFERROR(+ER32/ER$26,\"\")","v":""},null,null,{"$f":"IFERROR(+EU32/EU$26,\"\")","v":""},null,null,{"$f":"IFERROR(+EX32/EX$26,\"\")","v":""},null,null,{"$f":"IFERROR(+FA32/FA$26,\"\")","v":""},null,null,{"$f":"IFERROR(+FD32/FD$26,\"\")","v":""},null,null,{"$f":"IFERROR(+FG32/FG$26,\"\")","v":""},null,null,{"$f":"IFERROR(+FJ32/FJ$26,\"\")","v":""},null,null,{"$f":"IFERROR(+FM32/FM$26,\"\")","v":""},null,null,{"$f":"IFERROR(+FP32/FP$26,\"\")","v":""},null,null,{"$f":"IFERROR(+FS32/FS$26,\"\")","v":""},null,null,{"$f":"IFERROR(+FV32/FV$26,\"\")","v":""},null,null,{"$f":"IFERROR(+FY32/FY$26,\"\")","v":""},null,null,{"$f":"IFERROR(+GB32/GB$26,\"\")","v":""},null,null,{"$f":"IFERROR(+GE32/GE$26,\"\")","v":""},null,null,{"$f":"IFERROR(+GH32/GH$26,\"\")","v":""},null,null,{"$f":"IFERROR(+GK32/GK$26,\"\")","v":""},null,null,{"$f":"IFERROR(+GN32/GN$26,\"\")","v":""},null,null,{"$f":"IFERROR(+GQ32/GQ$26,\"\")","v":""},null,null,{"$f":"IFERROR(+GT32/GT$26,\"\")","v":""},null,null,{"$f":"IFERROR(+GW32/GW$26,\"\")","v":""},null,null,{"$f":"IFERROR(+GZ32/GZ$26,\"\")","v":""},null,null,{"$f":"IFERROR(+HC32/HC$26,\"\")","v":""},null,null,{"$f":"IFERROR(+HF32/HF$26,\"\")","v":""},null,null,{"$f":"IFERROR(+HI32/HI$26,\"\")","v":""},null,null,{"$f":"IFERROR(+HL32/HL$26,\"\")","v":""},null,null,{"$f":"IFERROR(+HO32/HO$26,\"\")","v":""},null,null,{"$f":"IFERROR(+HR32/HR$26,\"\")","v":""},null,null,{"$f":"IFERROR(+HU32/HU$26,\"\")","v":""},null,null,{"$f":"IFERROR(+HX32/HX$26,\"\")","v":""},null,null,{"$f":"IFERROR(+IA32/IA$26,\"\")","v":""},null,null,{"$f":"IFERROR(+ID32/ID$26,\"\")","v":""},null,null,{"$f":"IFERROR(+IG32/IG$26,\"\")","v":""},null,null,{"$f":"IFERROR(+IJ32/IJ$26,\"\")","v":""},null,null,{"$f":"IFERROR(+IM32/IM$26,\"\")","v":""},null,null,{"$f":"IFERROR(+IP32/IP$26,\"\")","v":""},null,null,{"$f":"IFERROR(+IS32/IS$26,\"\")","v":""},null,null,{"$f":"IFERROR(+IV32/IV$26,\"\")","v":""},null,null,{"$f":"IFERROR(+IY32/IY$26,\"\")","v":""},null,null,{"$f":"IFERROR(+JB32/JB$26,\"\")","v":""},null,null,{"$f":"IFERROR(+JE32/JE$26,\"\")","v":""},null,null,{"$f":"IFERROR(+JH32/JH$26,\"\")","v":""},null,null,{"$f":"IFERROR(+JK32/JK$26,\"\")","v":""},null,null,{"$f":"IFERROR(+JN32/JN$26,\"\")","v":""},null,null,{"$f":"IFERROR(+JQ32/JQ$26,\"\")","v":""},null,null,{"$f":"IFERROR(+JT32/JT$26,\"\")","v":""},null,null,{"$f":"IFERROR(+JW32/JW$26,\"\")","v":""},null,null,{"$f":"IFERROR(+JZ32/JZ$26,\"\")","v":""},null,null,{"$f":"IFERROR(+KC32/KC$26,\"\")","v":""},null,null,{"$f":"IFERROR(+KF32/KF$26,\"\")","v":""},null,null,{"$f":"IFERROR(+KI32/KI$26,\"\")","v":""},null,null,{"$f":"IFERROR(+KL32/KL$26,\"\")","v":""},null,null,{"$f":"IFERROR(+KO32/KO$26,\"\")","v":""},null,null,{"$f":"IFERROR(+KR32/KR$26,\"\")","v":""},null,null,{"$f":"IFERROR(+KU32/KU$26,\"\")","v":""},null,null,{"$f":"IFERROR(+KX32/KX$26,\"\")","v":""},null,null,{"$f":"IFERROR(+LA32/LA$26,\"\")","v":""},null,null,{"$f":"IFERROR(+LD32/LD$26,\"\")","v":""},null,null,{"$f":"IFERROR(+LG32/LG$26,\"\")","v":""},null,null,{"$f":"IFERROR(+LJ32/LJ$26,\"\")","v":""},null,null,{"$f":"IFERROR(+LM32/LM$26,\"\")","v":""},null,null,{"$f":"IFERROR(+LP32/LP$26,\"\")","v":""},null,null,{"$f":"IFERROR(+LS32/LS$26,\"\")","v":""},null,null,{"$f":"IFERROR(+LV32/LV$26,\"\")","v":""},null,null,{"$f":"IFERROR(+LY32/LY$26,\"\")","v":""},null,null,{"$f":"IFERROR(+MB32/MB$26,\"\")","v":""},null,null,{"$f":"IFERROR(+ME32/ME$26,\"\")","v":""},null,null,{"$f":"IFERROR(+MH32/MH$26,\"\")","v":""},null,null,{"$f":"IFERROR(+MK32/MK$26,\"\")","v":""},null,null,{"$f":"IFERROR(+MN32/MN$26,\"\")","v":""},null,null,{"$f":"IFERROR(+MQ32/MQ$26,\"\")","v":""},null,null,{"$f":"IFERROR(+MT32/MT$26,\"\")","v":""},null,null,{"$f":"IFERROR(+MW32/MW$26,\"\")","v":""},null,null,{"$f":"IFERROR(+MZ32/MZ$26,\"\")","v":""},null,null,{"$f":"IFERROR(+NC32/NC$26,\"\")","v":""},null,null,{"$f":"IFERROR(+NF32/NF$26,\"\")","v":""},null,null,{"$f":"IFERROR(+NI32/NI$26,\"\")","v":""},null,null,{"$f":"IFERROR(+NL32/NL$26,\"\")","v":""},null,null,{"$f":"IFERROR(+NO32/NO$26,\"\")","v":""},null,null,{"$f":"IFERROR(+NR32/NR$26,\"\")","v":""},null,null,{"$f":"IFERROR(+NU32/NU$26,\"\")","v":""},null,null,{"$f":"IFERROR(+NX32/NX$26,\"\")","v":""},null,null,{"$f":"IFERROR(+OA32/OA$26,\"\")","v":""},null,null,{"$f":"IFERROR(+OD32/OD$26,\"\")","v":""},null,null,{"$f":"IFERROR(+OG32/OG$26,\"\")","v":""},null,null,{"$f":"IFERROR(+OJ32/OJ$26,\"\")","v":""},null,null,{"$f":"IFERROR(+OM32/OM$26,\"\")","v":""},null,null,{"$f":"IFERROR(+OP32/OP$26,\"\")","v":""},null,null,{"$f":"IFERROR(+OS32/OS$26,\"\")","v":""},null,null,{"$f":"IFERROR(+OV32/OV$26,\"\")","v":""},null,null,{"$f":"IFERROR(+OY32/OY$26,\"\")","v":""},null,null,{"$f":"IFERROR(+PB32/PB$26,\"\")","v":""},null,null,{"$f":"IFERROR(+PE32/PE$26,\"\")","v":""},null,null,{"$f":"IFERROR(+PH32/PH$26,\"\")","v":""},null,null,{"$f":"IFERROR(+PK32/PK$26,\"\")","v":""},null,null,{"$f":"IFERROR(+PN32/PN$26,\"\")","v":""},null,null,{"$f":"IFERROR(+PQ32/PQ$26,\"\")","v":""},null,null,{"$f":"IFERROR(+PT32/PT$26,\"\")","v":""},null,null,{"$f":"IFERROR(+PW32/PW$26,\"\")","v":""},null,null,{"$f":"IFERROR(+PZ32/PZ$26,\"\")","v":""},null,null,{"$f":"IFERROR(+QC32/QC$26,\"\")","v":""},null,null,{"$f":"IFERROR(+QF32/QF$26,\"\")","v":""},null,null,{"$f":"IFERROR(+QI32/QI$26,\"\")","v":""},null,null,{"$f":"IFERROR(+QL32/QL$26,\"\")","v":""},null,null,{"$f":"IFERROR(+QO32/QO$26,\"\")","v":""},null,null,{"$f":"IFERROR(+QR32/QR$26,\"\")","v":""},null,null,{"$f":"IFERROR(+QU32/QU$26,\"\")","v":""},null,null,{"$f":"IFERROR(+QX32/QX$26,\"\")","v":""},null,null,{"$f":"IFERROR(+RA32/RA$26,\"\")","v":""},null,null,{"$f":"IFERROR(+RD32/RD$26,\"\")","v":""},null,null,{"$f":"IFERROR(+RG32/RG$26,\"\")","v":""},null,null,{"$f":"IFERROR(+RJ32/RJ$26,\"\")","v":""},null,null,{"$f":"IFERROR(+RM32/RM$26,\"\")","v":""},null,null,{"$f":"IFERROR(+RP32/RP$26,\"\")","v":""},null,null,{"$f":"IFERROR(+RS32/RS$26,\"\")","v":""},null,null,{"$f":"IFERROR(+RV32/RV$26,\"\")","v":""},null,null,{"$f":"IFERROR(+RY32/RY$26,\"\")","v":""},null,null,{"$f":"IFERROR(+SB32/SB$26,\"\")","v":""},null,null,{"$f":"IFERROR(+SE32/SE$26,\"\")","v":""},null,null,{"$f":"IFERROR(+SH32/SH$26,\"\")","v":""},null,null,{"$f":"IFERROR(+SK32/SK$26,\"\")","v":""},null,null,{"$f":"IFERROR(+SN32/SN$26,\"\")","v":""},null,null,{"$f":"IFERROR(+SQ32/SQ$26,\"\")","v":""},null,null,{"$f":"IFERROR(+ST32/ST$26,\"\")","v":""},null,null,{"$f":"IFERROR(+SW32/SW$26,\"\")","v":""},null,null,{"$f":"IFERROR(+SZ32/SZ$26,\"\")","v":""},null,null,{"$f":"IFERROR(+TC32/TC$26,\"\")","v":""},null,null,{"$f":"IFERROR(+TF32/TF$26,\"\")","v":""},null,null,{"$f":"IFERROR(+TI32/TI$26,\"\")","v":""},null,null,{"$f":"IFERROR(+TL32/TL$26,\"\")","v":""},null,null,{"$f":"IFERROR(+TO32/TO$26,\"\")","v":""},null,null,{"$f":"IFERROR(+TR32/TR$26,\"\")","v":""},null,null,{"$f":"IFERROR(+TU32/TU$26,\"\")","v":""},null,null,{"$f":"IFERROR(+TX32/TX$26,\"\")","v":""},null,null,{"$f":"IFERROR(+UA32/UA$26,\"\")","v":""},null,null,{"$f":"IFERROR(+UD32/UD$26,\"\")","v":""},null,null,{"$f":"IFERROR(+UG32/UG$26,\"\")","v":""},null,null,{"$f":"IFERROR(+UJ32/UJ$26,\"\")","v":""},null,null,{"$f":"IFERROR(+UM32/UM$26,\"\")","v":""},null,null,{"$f":"IFERROR(+UP32/UP$26,\"\")","v":""},null,null,{"$f":"IFERROR(+US32/US$26,\"\")","v":""},null,null,{"$f":"IFERROR(+UV32/UV$26,\"\")","v":""},null,null,{"$f":"IFERROR(+UY32/UY$26,\"\")","v":""},null,null,{"$f":"IFERROR(+VB32/VB$26,\"\")","v":""},null,null,{"$f":"IFERROR(+VE32/VE$26,\"\")","v":""},null,null,{"$f":"IFERROR(+VH32/VH$26,\"\")","v":""},null,null,{"$f":"IFERROR(+VK32/VK$26,\"\")","v":""},null,null,{"$f":"IFERROR(+VN32/VN$26,\"\")","v":""},null,null,{"$f":"IFERROR(+VQ32/VQ$26,\"\")","v":""},null,null,{"$f":"IFERROR(+VT32/VT$26,\"\")","v":""},null,null,{"$f":"IFERROR(+VW32/VW$26,\"\")","v":""},null,null,{"$f":"IFERROR(+VZ32/VZ$26,\"\")","v":""},null,null,{"$f":"IFERROR(+WC32/WC$26,\"\")","v":""},null,null,{"$f":"IFERROR(+WF32/WF$26,\"\")","v":""},null,null,{"$f":"IFERROR(+WI32/WI$26,\"\")","v":""},null,null,{"$f":"IFERROR(+WL32/WL$26,\"\")","v":""},null,null,{"$f":"IFERROR(+WO32/WO$26,\"\")","v":""},null,null,{"$f":"IFERROR(+WR32/WR$26,\"\")","v":""},null,null,{"$f":"IFERROR(+WU32/WU$26,\"\")","v":""},null,null,{"$f":"IFERROR(+WX32/WX$26,\"\")","v":""},null,null,{"$f":"IFERROR(+XA32/XA$26,\"\")","v":""},null,null,{"$f":"IFERROR(+XD32/XD$26,\"\")","v":""},null,null,{"$f":"IFERROR(+XG32/XG$26,\"\")","v":""},null,null,{"$f":"IFERROR(+XJ32/XJ$26,\"\")","v":""},null,null,{"$f":"IFERROR(+XM32/XM$26,\"\")","v":""},null,null,{"$f":"IFERROR(+XP32/XP$26,\"\")","v":""},null,null,{"$f":"IFERROR(+XS32/XS$26,\"\")","v":""},null,null,{"$f":"IFERROR(+XV32/XV$26,\"\")","v":""},null,null,{"$f":"IFERROR(+XY32/XY$26,\"\")","v":""},null,null,{"$f":"IFERROR(+YB32/YB$26,\"\")","v":""},null,null,{"$f":"IFERROR(+YE32/YE$26,\"\")","v":""},null,null,{"$f":"IFERROR(+YH32/YH$26,\"\")","v":""},null,null,{"$f":"IFERROR(+YK32/YK$26,\"\")","v":""},null,null,{"$f":"IFERROR(+YN32/YN$26,\"\")","v":""},null,null,{"$f":"IFERROR(+YQ32/YQ$26,\"\")","v":""},null,null,{"$f":"IFERROR(+YT32/YT$26,\"\")","v":""},null,null,{"$f":"IFERROR(+YW32/YW$26,\"\")","v":""},null,null,{"$f":"IFERROR(+YZ32/YZ$26,\"\")","v":""},null,null,{"$f":"IFERROR(+ZC32/ZC$26,\"\")","v":""},null,null,{"$f":"IFERROR(+ZF32/ZF$26,\"\")","v":""},null,null,{"$f":"IFERROR(+ZI32/ZI$26,\"\")","v":""},null,null,{"$f":"IFERROR(+ZL32/ZL$26,\"\")","v":""},null,null,{"$f":"IFERROR(+ZO32/ZO$26,\"\")","v":""},null,null,{"$f":"IFERROR(+ZR32/ZR$26,\"\")","v":""},null,null,{"$f":"IFERROR(+ZU32/ZU$26,\"\")","v":""},null,null,{"$f":"IFERROR(+ZX32/ZX$26,\"\")","v":""},null,null,{"$f":"IFERROR(+AAA32/AAA$26,\"\")","v":""},null,null,{"$f":"IFERROR(+AAD32/AAD$26,\"\")","v":""},null,null,{"$f":"IFERROR(+AAG32/AAG$26,\"\")","v":""},null,null,{"$f":"IFERROR(+AAJ32/AAJ$26,\"\")","v":""},null,null,{"$f":"IFERROR(+AAM32/AAM$26,\"\")","v":""},null,null,{"$f":"IFERROR(+AAP32/AAP$26,\"\")","v":""},null,null,{"$f":"IFERROR(+AAS32/AAS$26,\"\")","v":""},null,null,{"$f":"IFERROR(+AAV32/AAV$26,\"\")","v":""},null,null,{"$f":"IFERROR(+AAY32/AAY$26,\"\")","v":""},null,null,{"$f":"IFERROR(+ABB32/ABB$26,\"\")","v":""},null,null,{"$f":"IFERROR(+ABE32/ABE$26,\"\")","v":""},null,null,{"$f":"IFERROR(+ABH32/ABH$26,\"\")","v":""},null,null,{"$f":"IFERROR(+ABK32/ABK$26,\"\")","v":""},null,null,{"$f":"IFERROR(+ABN32/ABN$26,\"\")","v":""},null,null,{"$f":"IFERROR(+ABQ32/ABQ$26,\"\")","v":""},null,null,{"$f":"IFERROR(+ABT32/ABT$26,\"\")","v":""},null,null,{"$f":"IFERROR(+ABW32/ABW$26,\"\")","v":""},null,null,{"$f":"IFERROR(+ABZ32/ABZ$26,\"\")","v":""},null,null,{"$f":"IFERROR(+ACC32/ACC$26,\"\")","v":""},null,null,{"$f":"IFERROR(+ACF32/ACF$26,\"\")","v":""},null,null,{"$f":"IFERROR(+ACI32/ACI$26,\"\")","v":""},null,null,{"$f":"IFERROR(+ACL32/ACL$26,\"\")","v":""},null,null,{"$f":"IFERROR(+ACO32/ACO$26,\"\")","v":""},null,null,{"$f":"IFERROR(+ACR32/ACR$26,\"\")","v":""},null,null,{"$f":"IFERROR(+ACU32/ACU$26,\"\")","v":""},null,null,{"$f":"IFERROR(+ACX32/ACX$26,\"\")","v":""},null,null,{"$f":"IFERROR(+ADA32/ADA$26,\"\")","v":""},null,null,{"$f":"IFERROR(+ADD32/ADD$26,\"\")","v":""},null,null,{"$f":"IFERROR(+ADG32/ADG$26,\"\")","v":""},null,null,{"$f":"IFERROR(+ADJ32/ADJ$26,\"\")","v":""},null,null,{"$f":"IFERROR(+ADM32/ADM$26,\"\")","v":""},null,null,{"$f":"IFERROR(+ADP32/ADP$26,\"\")","v":""},null,null,{"$f":"IFERROR(+ADS32/ADS$26,\"\")","v":""},null,null,{"$f":"IFERROR(+ADV32/ADV$26,\"\")","v":""},null,null,{"$f":"IFERROR(+ADY32/ADY$26,\"\")","v":""},null,null,{"$f":"IFERROR(+AEB32/AEB$26,\"\")","v":""},null,null,{"$f":"IFERROR(+AEE32/AEE$26,\"\")","v":""},null,null,{"$f":"IFERROR(+AEH32/AEH$26,\"\")","v":""},null,null,{"$f":"IFERROR(+AEK32/AEK$26,\"\")","v":""},null,null,{"$f":"IFERROR(+AEN32/AEN$26,\"\")","v":""},null,null,{"$f":"IFERROR(+AEQ32/AEQ$26,\"\")","v":""},null,null,{"$f":"IFERROR(+AET32/AET$26,\"\")","v":""},null,null,{"$f":"IFERROR(+AEW32/AEW$26,\"\")","v":""},null,null,{"$f":"IFERROR(+AEZ32/AEZ$26,\"\")","v":""},null,null,{"$f":"IFERROR(+AFC32/AFC$26,\"\")","v":""},null,null,{"$f":"IFERROR(+AFF32/AFF$26,\"\")","v":""},null,null,{"$f":"IFERROR(+AFI32/AFI$26,\"\")","v":""},null,null,{"$f":"IFERROR(+AFL32/AFL$26,\"\")","v":""},null,null,{"$f":"IFERROR(+AFO32/AFO$26,\"\")","v":""},null,null,{"$f":"IFERROR(+AFR32/AFR$26,\"\")","v":""},null,null,{"$f":"IFERROR(+AFU32/AFU$26,\"\")","v":""},null,null,{"$f":"IFERROR(+AFX32/AFX$26,\"\")","v":""},null,null,{"$f":"IFERROR(+AGA32/AGA$26,\"\")","v":""},null,null,{"$f":"IFERROR(+AGD32/AGD$26,\"\")","v":""},null,null,{"$f":"IFERROR(+AGG32/AGG$26,\"\")","v":""},null,null,{"$f":"IFERROR(+AGJ32/AGJ$26,\"\")","v":""},null,null,{"$f":"IFERROR(+AGM32/AGM$26,\"\")","v":""},null,null,{"$f":"IFERROR(+AGP32/AGP$26,\"\")","v":""},null,null,{"$f":"IFERROR(+AGS32/AGS$26,\"\")","v":""},null,null,{"$f":"IFERROR(+AGV32/AGV$26,\"\")","v":""},null,null,{"$f":"IFERROR(+AGY32/AGY$26,\"\")","v":""},null,null,{"$f":"IFERROR(+AHB32/AHB$26,\"\")","v":""},null,null,{"$f":"IFERROR(+AHE32/AHE$26,\"\")","v":""},null,null,{"$f":"IFERROR(+AHH32/AHH$26,\"\")","v":""},null,null,{"$f":"IFERROR(+AHK32/AHK$26,\"\")","v":""},null,null,{"$f":"IFERROR(+AHN32/AHN$26,\"\")","v":""},null,null,{"$f":"IFERROR(+AHQ32/AHQ$26,\"\")","v":""},null,null,{"$f":"IFERROR(+AHT32/AHT$26,\"\")","v":""}]
[null,"Scope 2",null,{"$f":"+SUM(D34:D35)","v":0},{"$f":"+IFERROR(D33/D26,0)","v":0},null,{"$f":"+SUM(G34:G35)","v":0},{"$f":"+IFERROR(G33/G26,0)","v":0},null,{"$f":"+SUM(J34:J35)","v":0},{"$f":"+IFERROR(J33/J26,0)","v":0},null,{"$f":"+SUM(M34:M35)","v":0},0,null,{"$f":"+SUM(P34:P35)","v":0},0,null,{"$f":"+SUM(S34:S35)","v":0},0,null,{"$f":"+SUM(V34:V35)","v":0},0,null,{"$f":"+SUM(Y34:Y35)","v":0},0,null,{"$f":"+SUM(AB34:AB35)","v":0},0,null,{"$f":"+SUM(AE34:AE35)","v":0},0,null,{"$f":"+SUM(AH34:AH35)","v":0},0,null,{"$f":"+SUM(AK34:AK35)","v":0},0,null,{"$f":"+SUM(AN34:AN35)","v":0},0,null,{"$f":"+SUM(AQ34:AQ35)","v":0},0,null,{"$f":"+SUM(AT34:AT35)","v":0},0,null,{"$f":"+SUM(AW34:AW35)","v":0},0,null,{"$f":"+SUM(AZ34:AZ35)","v":0},0,null,{"$f":"+SUM(BC34:BC35)","v":0},0,null,{"$f":"+SUM(BF34:BF35)","v":0},0,null,{"$f":"+SUM(BI34:BI35)","v":0},0,null,{"$f":"+SUM(BL34:BL35)","v":0},0,null,{"$f":"+SUM(BO34:BO35)","v":0},0,null,{"$f":"+SUM(BR34:BR35)","v":0},0,null,{"$f":"+SUM(BU34:BU35)","v":0},0,null,{"$f":"+SUM(BX34:BX35)","v":0},{"$f":"+IFERROR(BX33/BX26,0)","v":0},null,{"$f":"+SUM(CA34:CA35)","v":0},0,null,{"$f":"+SUM(CD34:CD35)","v":0},0,null,{"$f":"+SUM(CG34:CG35)","v":0},0,null,{"$f":"+SUM(CJ34:CJ35)","v":0},0,null,{"$f":"+SUM(CM34:CM35)","v":0},0,null,{"$f":"+SUM(CP34:CP35)","v":0},0,null,{"$f":"+SUM(CS34:CS35)","v":0},0,null,{"$f":"+SUM(CV34:CV35)","v":0},0,null,{"$f":"+SUM(CY34:CY35)","v":0},0,null,{"$f":"+SUM(DB34:DB35)","v":0},0,null,{"$f":"+SUM(DE34:DE35)","v":0},0,null,{"$f":"+SUM(DH34:DH35)","v":0},0,null,{"$f":"+SUM(DK34:DK35)","v":0},0,null,{"$f":"+SUM(DN34:DN35)","v":0},0,null,{"$f":"+SUM(DQ34:DQ35)","v":0},0,null,{"$f":"+SUM(DT34:DT35)","v":0},0,null,{"$f":"+SUM(DW34:DW35)","v":0},0,null,{"$f":"+SUM(DZ34:DZ35)","v":0},0,null,{"$f":"+SUM(EC34:EC35)","v":0},0,null,{"$f":"+SUM(EF34:EF35)","v":0},0,null,{"$f":"+SUM(EI34:EI35)","v":0},0,null,{"$f":"+SUM(EL34:EL35)","v":0},{"$f":"+IFERROR(EL33/EL26,0)","v":0},null,{"$f":"+SUM(EO34:EO35)","v":0},0,null,{"$f":"+SUM(ER34:ER35)","v":0},0,null,{"$f":"+SUM(EU34:EU35)","v":0},0,null,{"$f":"+SUM(EX34:EX35)","v":0},0,null,{"$f":"+SUM(FA34:FA35)","v":0},0,null,{"$f":"+SUM(FD34:FD35)","v":0},0,null,{"$f":"+SUM(FG34:FG35)","v":0},0,null,{"$f":"+SUM(FJ34:FJ35)","v":0},0,null,{"$f":"+SUM(FM34:FM35)","v":0},0,null,{"$f":"+SUM(FP34:FP35)","v":0},0,null,{"$f":"+SUM(FS34:FS35)","v":0},0,null,{"$f":"+SUM(FV34:FV35)","v":0},0,null,{"$f":"+SUM(FY34:FY35)","v":0},0,null,{"$f":"+SUM(GB34:GB35)","v":0},0,null,{"$f":"+SUM(GE34:GE35)","v":0},0,null,{"$f":"+SUM(GH34:GH35)","v":0},0,null,{"$f":"+SUM(GK34:GK35)","v":0},0,null,{"$f":"+SUM(GN34:GN35)","v":0},0,null,{"$f":"+SUM(GQ34:GQ35)","v":0},0,null,{"$f":"+SUM(GT34:GT35)","v":0},0,null,{"$f":"+SUM(GW34:GW35)","v":0},0,null,{"$f":"+SUM(GZ34:GZ35)","v":0},{"$f":"+IFERROR(GZ33/GZ26,0)","v":0},null,{"$f":"+SUM(HC34:HC35)","v":0},0,null,{"$f":"+SUM(HF34:HF35)","v":0},0,null,{"$f":"+SUM(HI34:HI35)","v":0},0,null,{"$f":"+SUM(HL34:HL35)","v":0},0,null,{"$f":"+SUM(HO34:HO35)","v":0},0,null,{"$f":"+SUM(HR34:HR35)","v":0},0,null,{"$f":"+SUM(HU34:HU35)","v":0},0,null,{"$f":"+SUM(HX34:HX35)","v":0},0,null,{"$f":"+SUM(IA34:IA35)","v":0},0,null,{"$f":"+SUM(ID34:ID35)","v":0},0,null,{"$f":"+SUM(IG34:IG35)","v":0},0,null,{"$f":"+SUM(IJ34:IJ35)","v":0},0,null,{"$f":"+SUM(IM34:IM35)","v":0},0,null,{"$f":"+SUM(IP34:IP35)","v":0},0,null,{"$f":"+SUM(IS34:IS35)","v":0},0,null,{"$f":"+SUM(IV34:IV35)","v":0},0,null,{"$f":"+SUM(IY34:IY35)","v":0},0,null,{"$f":"+SUM(JB34:JB35)","v":0},0,null,{"$f":"+SUM(JE34:JE35)","v":0},0,null,{"$f":"+SUM(JH34:JH35)","v":0},0,null,{"$f":"+SUM(JK34:JK35)","v":0},0,null,{"$f":"+SUM(JN34:JN35)","v":0},{"$f":"+IFERROR(JN33/JN26,0)","v":0},null,{"$f":"+SUM(JQ34:JQ35)","v":0},0,null,{"$f":"+SUM(JT34:JT35)","v":0},0,null,{"$f":"+SUM(JW34:JW35)","v":0},0,null,{"$f":"+SUM(JZ34:JZ35)","v":0},0,null,{"$f":"+SUM(KC34:KC35)","v":0},0,null,{"$f":"+SUM(KF34:KF35)","v":0},0,null,{"$f":"+SUM(KI34:KI35)","v":0},0,null,{"$f":"+SUM(KL34:KL35)","v":0},0,null,{"$f":"+SUM(KO34:KO35)","v":0},0,null,{"$f":"+SUM(KR34:KR35)","v":0},0,null,{"$f":"+SUM(KU34:KU35)","v":0},0,null,{"$f":"+SUM(KX34:KX35)","v":0},0,null,{"$f":"+SUM(LA34:LA35)","v":0},0,null,{"$f":"+SUM(LD34:LD35)","v":0},0,null,{"$f":"+SUM(LG34:LG35)","v":0},0,null,{"$f":"+SUM(LJ34:LJ35)","v":0},0,null,{"$f":"+SUM(LM34:LM35)","v":0},0,null,{"$f":"+SUM(LP34:LP35)","v":0},0,null,{"$f":"+SUM(LS34:LS35)","v":0},0,null,{"$f":"+SUM(LV34:LV35)","v":0},0,null,{"$f":"+SUM(LY34:LY35)","v":0},0,null,{"$f":"+SUM(MB34:MB35)","v":0},{"$f":"+IFERROR(MB33/MB26,0)","v":0},null,{"$f":"+SUM(ME34:ME35)","v":0},0,null,{"$f":"+SUM(MH34:MH35)","v":0},0,null,{"$f":"+SUM(MK34:MK35)","v":0},0,null,{"$f":"+SUM(MN34:MN35)","v":0},0,null,{"$f":"+SUM(MQ34:MQ35)","v":0},0,null,{"$f":"+SUM(MT34:MT35)","v":0},0,null,{"$f":"+SUM(MW34:MW35)","v":0},0,null,{"$f":"+SUM(MZ34:MZ35)","v":0},0,null,{"$f":"+SUM(NC34:NC35)","v":0},0,null,{"$f":"+SUM(NF34:NF35)","v":0},0,null,{"$f":"+SUM(NI34:NI35)","v":0},0,null,{"$f":"+SUM(NL34:NL35)","v":0},0,null,{"$f":"+SUM(NO34:NO35)","v":0},0,null,{"$f":"+SUM(NR34:NR35)","v":0},0,null,{"$f":"+SUM(NU34:NU35)","v":0},0,null,{"$f":"+SUM(NX34:NX35)","v":0},0,null,{"$f":"+SUM(OA34:OA35)","v":0},0,null,{"$f":"+SUM(OD34:OD35)","v":0},0,null,{"$f":"+SUM(OG34:OG35)","v":0},0,null,{"$f":"+SUM(OJ34:OJ35)","v":0},0,null,{"$f":"+SUM(OM34:OM35)","v":0},0,null,{"$f":"+SUM(OP34:OP35)","v":0},{"$f":"+IFERROR(OP33/OP26,0)","v":0},null,{"$f":"+SUM(OS34:OS35)","v":0},0,null,{"$f":"+SUM(OV34:OV35)","v":0},0,null,{"$f":"+SUM(OY34:OY35)","v":0},0,null,{"$f":"+SUM(PB34:PB35)","v":0},0,null,{"$f":"+SUM(PE34:PE35)","v":0},0,null,{"$f":"+SUM(PH34:PH35)","v":0},0,null,{"$f":"+SUM(PK34:PK35)","v":0},0,null,{"$f":"+SUM(PN34:PN35)","v":0},0,null,{"$f":"+SUM(PQ34:PQ35)","v":0},0,null,{"$f":"+SUM(PT34:PT35)","v":0},0,null,{"$f":"+SUM(PW34:PW35)","v":0},0,null,{"$f":"+SUM(PZ34:PZ35)","v":0},0,null,{"$f":"+SUM(QC34:QC35)","v":0},0,null,{"$f":"+SUM(QF34:QF35)","v":0},0,null,{"$f":"+SUM(QI34:QI35)","v":0},0,null,{"$f":"+SUM(QL34:QL35)","v":0},0,null,{"$f":"+SUM(QO34:QO35)","v":0},0,null,{"$f":"+SUM(QR34:QR35)","v":0},0,null,{"$f":"+SUM(QU34:QU35)","v":0},0,null,{"$f":"+SUM(QX34:QX35)","v":0},0,null,{"$f":"+SUM(RA34:RA35)","v":0},0,null,{"$f":"+SUM(RD34:RD35)","v":0},{"$f":"+IFERROR(RD33/RD26,0)","v":0},null,{"$f":"+SUM(RG34:RG35)","v":0},0,null,{"$f":"+SUM(RJ34:RJ35)","v":0},0,null,{"$f":"+SUM(RM34:RM35)","v":0},0,null,{"$f":"+SUM(RP34:RP35)","v":0},0,null,{"$f":"+SUM(RS34:RS35)","v":0},0,null,{"$f":"+SUM(RV34:RV35)","v":0},0,null,{"$f":"+SUM(RY34:RY35)","v":0},0,null,{"$f":"+SUM(SB34:SB35)","v":0},0,null,{"$f":"+SUM(SE34:SE35)","v":0},0,null,{"$f":"+SUM(SH34:SH35)","v":0},0,null,{"$f":"+SUM(SK34:SK35)","v":0},0,null,{"$f":"+SUM(SN34:SN35)","v":0},0,null,{"$f":"+SUM(SQ34:SQ35)","v":0},0,null,{"$f":"+SUM(ST34:ST35)","v":0},0,null,{"$f":"+SUM(SW34:SW35)","v":0},0,null,{"$f":"+SUM(SZ34:SZ35)","v":0},0,null,{"$f":"+SUM(TC34:TC35)","v":0},0,null,{"$f":"+SUM(TF34:TF35)","v":0},0,null,{"$f":"+SUM(TI34:TI35)","v":0},0,null,{"$f":"+SUM(TL34:TL35)","v":0},0,null,{"$f":"+SUM(TO34:TO35)","v":0},0,null,{"$f":"+SUM(TR34:TR35)","v":0},{"$f":"+IFERROR(TR33/TR26,0)","v":0},null,{"$f":"+SUM(TU34:TU35)","v":0},0,null,{"$f":"+SUM(TX34:TX35)","v":0},0,null,{"$f":"+SUM(UA34:UA35)","v":0},0,null,{"$f":"+SUM(UD34:UD35)","v":0},0,null,{"$f":"+SUM(UG34:UG35)","v":0},0,null,{"$f":"+SUM(UJ34:UJ35)","v":0},0,null,{"$f":"+SUM(UM34:UM35)","v":0},0,null,{"$f":"+SUM(UP34:UP35)","v":0},0,null,{"$f":"+SUM(US34:US35)","v":0},0,null,{"$f":"+SUM(UV34:UV35)","v":0},0,null,{"$f":"+SUM(UY34:UY35)","v":0},0,null,{"$f":"+SUM(VB34:VB35)","v":0},0,null,{"$f":"+SUM(VE34:VE35)","v":0},0,null,{"$f":"+SUM(VH34:VH35)","v":0},0,null,{"$f":"+SUM(VK34:VK35)","v":0},0,null,{"$f":"+SUM(VN34:VN35)","v":0},0,null,{"$f":"+SUM(VQ34:VQ35)","v":0},0,null,{"$f":"+SUM(VT34:VT35)","v":0},0,null,{"$f":"+SUM(VW34:VW35)","v":0},0,null,{"$f":"+SUM(VZ34:VZ35)","v":0},0,null,{"$f":"+SUM(WC34:WC35)","v":0},0,null,{"$f":"+SUM(WF34:WF35)","v":0},{"$f":"+IFERROR(WF33/WF26,0)","v":0},null,{"$f":"+SUM(WI34:WI35)","v":0},0,null,{"$f":"+SUM(WL34:WL35)","v":0},0,null,{"$f":"+SUM(WO34:WO35)","v":0},0,null,{"$f":"+SUM(WR34:WR35)","v":0},0,null,{"$f":"+SUM(WU34:WU35)","v":0},0,null,{"$f":"+SUM(WX34:WX35)","v":0},0,null,{"$f":"+SUM(XA34:XA35)","v":0},0,null,{"$f":"+SUM(XD34:XD35)","v":0},0,null,{"$f":"+SUM(XG34:XG35)","v":0},0,null,{"$f":"+SUM(XJ34:XJ35)","v":0},0,null,{"$f":"+SUM(XM34:XM35)","v":0},0,null,{"$f":"+SUM(XP34:XP35)","v":0},0,null,{"$f":"+SUM(XS34:XS35)","v":0},0,null,{"$f":"+SUM(XV34:XV35)","v":0},0,null,{"$f":"+SUM(XY34:XY35)","v":0},0,null,{"$f":"+SUM(YB34:YB35)","v":0},0,null,{"$f":"+SUM(YE34:YE35)","v":0},0,null,{"$f":"+SUM(YH34:YH35)","v":0},0,null,{"$f":"+SUM(YK34:YK35)","v":0},0,null,{"$f":"+SUM(YN34:YN35)","v":0},0,null,{"$f":"+SUM(YQ34:YQ35)","v":0},0,null,{"$f":"+SUM(YT34:YT35)","v":0},{"$f":"+IFERROR(YT33/YT26,0)","v":0},null,{"$f":"+SUM(YW34:YW35)","v":0},0,null,{"$f":"+SUM(YZ34:YZ35)","v":0},0,null,{"$f":"+SUM(ZC34:ZC35)","v":0},0,null,{"$f":"+SUM(ZF34:ZF35)","v":0},0,null,{"$f":"+SUM(ZI34:ZI35)","v":0},0,null,{"$f":"+SUM(ZL34:ZL35)","v":0},0,null,{"$f":"+SUM(ZO34:ZO35)","v":0},0,null,{"$f":"+SUM(ZR34:ZR35)","v":0},0,null,{"$f":"+SUM(ZU34:ZU35)","v":0},0,null,{"$f":"+SUM(ZX34:ZX35)","v":0},0,null,{"$f":"+SUM(AAA34:AAA35)","v":0},0,null,{"$f":"+SUM(AAD34:AAD35)","v":0},0,null,{"$f":"+SUM(AAG34:AAG35)","v":0},0,null,{"$f":"+SUM(AAJ34:AAJ35)","v":0},0,null,{"$f":"+SUM(AAM34:AAM35)","v":0},0,null,{"$f":"+SUM(AAP34:AAP35)","v":0},0,null,{"$f":"+SUM(AAS34:AAS35)","v":0},0,null,{"$f":"+SUM(AAV34:AAV35)","v":0},0,null,{"$f":"+SUM(AAY34:AAY35)","v":0},0,null,{"$f":"+SUM(ABB34:ABB35)","v":0},0,null,{"$f":"+SUM(ABE34:ABE35)","v":0},0,null,{"$f":"+SUM(ABH34:ABH35)","v":0},{"$f":"+IFERROR(ABH33/ABH26,0)","v":0},null,{"$f":"+SUM(ABK34:ABK35)","v":0},0,null,{"$f":"+SUM(ABN34:ABN35)","v":0},0,null,{"$f":"+SUM(ABQ34:ABQ35)","v":0},0,null,{"$f":"+SUM(ABT34:ABT35)","v":0},0,null,{"$f":"+SUM(ABW34:ABW35)","v":0},0,null,{"$f":"+SUM(ABZ34:ABZ35)","v":0},0,null,{"$f":"+SUM(ACC34:ACC35)","v":0},0,null,{"$f":"+SUM(ACF34:ACF35)","v":0},0,null,{"$f":"+SUM(ACI34:ACI35)","v":0},0,null,{"$f":"+SUM(ACL34:ACL35)","v":0},0,null,{"$f":"+SUM(ACO34:ACO35)","v":0},0,null,{"$f":"+SUM(ACR34:ACR35)","v":0},0,null,{"$f":"+SUM(ACU34:ACU35)","v":0},0,null,{"$f":"+SUM(ACX34:ACX35)","v":0},0,null,{"$f":"+SUM(ADA34:ADA35)","v":0},0,null,{"$f":"+SUM(ADD34:ADD35)","v":0},0,null,{"$f":"+SUM(ADG34:ADG35)","v":0},0,null,{"$f":"+SUM(ADJ34:ADJ35)","v":0},0,null,{"$f":"+SUM(ADM34:ADM35)","v":0},0,null,{"$f":"+SUM(ADP34:ADP35)","v":0},0,null,{"$f":"+SUM(ADS34:ADS35)","v":0},0,null,{"$f":"+SUM(ADV34:ADV35)","v":0},{"$f":"+IFERROR(ADV33/ADV26,0)","v":0},null,{"$f":"+SUM(ADY34:ADY35)","v":0},0,null,{"$f":"+SUM(AEB34:AEB35)","v":0},0,null,{"$f":"+SUM(AEE34:AEE35)","v":0},0,null,{"$f":"+SUM(AEH34:AEH35)","v":0},0,null,{"$f":"+SUM(AEK34:AEK35)","v":0},0,null,{"$f":"+SUM(AEN34:AEN35)","v":0},0,null,{"$f":"+SUM(AEQ34:AEQ35)","v":0},0,null,{"$f":"+SUM(AET34:AET35)","v":0},0,null,{"$f":"+SUM(AEW34:AEW35)","v":0},0,null,{"$f":"+SUM(AEZ34:AEZ35)","v":0},0,null,{"$f":"+SUM(AFC34:AFC35)","v":0},0,null,{"$f":"+SUM(AFF34:AFF35)","v":0},0,null,{"$f":"+SUM(AFI34:AFI35)","v":0},0,null,{"$f":"+SUM(AFL34:AFL35)","v":0},0,null,{"$f":"+SUM(AFO34:AFO35)","v":0},0,null,{"$f":"+SUM(AFR34:AFR35)","v":0},0,null,{"$f":"+SUM(AFU34:AFU35)","v":0},0,null,{"$f":"+SUM(AFX34:AFX35)","v":0},0,null,{"$f":"+SUM(AGA34:AGA35)","v":0},0,null,{"$f":"+SUM(AGD34:AGD35)","v":0},0,null,{"$f":"+SUM(AGG34:AGG35)","v":0},0,null,{"$f":"+SUM(AGJ34:AGJ35)","v":0},{"$f":"+IFERROR(AGJ33/AGJ26,0)","v":0},null,{"$f":"+SUM(AGM34:AGM35)","v":0},0,null,{"$f":"+SUM(AGP34:AGP35)","v":0},0,null,{"$f":"+SUM(AGS34:AGS35)","v":0},0,null,{"$f":"+SUM(AGV34:AGV35)","v":0},0,null,{"$f":"+SUM(AGY34:AGY35)","v":0},0,null,{"$f":"+SUM(AHB34:AHB35)","v":0},0,null,{"$f":"+SUM(AHE34:AHE35)","v":0},0,null,{"$f":"+SUM(AHH34:AHH35)","v":0},0,null,{"$f":"+SUM(AHK34:AHK35)","v":0},0,null,{"$f":"+SUM(AHN34:AHN35)","v":0},0,null,{"$f":"+SUM(AHQ34:AHQ35)","v":0},0,null,{"$f":"+SUM(AHT34:AHT35)","v":0},0]
["2.1","Purchased electricity",null,{"$f":"+Aux_grafico!C6","v":0},{"$f":"+IFERROR(D34/$D$26,0)","v":0},null,null,{"$f":"IFERROR(+G34/G$26,\"\")","v":""},null,null,{"$f":"IFERROR(+J34/J$26,\"\")","v":""},null,null,{"$f":"IFERROR(+M34/M$26,\"\")","v":""},null,null,{"$f":"IFERROR(+P34/P$26,\"\")","v":""},null,null,{"$f":"IFERROR(+S34/S$26,\"\")","v":""},null,null,{"$f":"IFERROR(+V34/V$26,\"\")","v":""},null,null,{"$f":"IFERROR(+Y34/Y$26,\"\")","v":""},null,null,{"$f":"IFERROR(+AB34/AB$26,\"\")","v":""},null,null,{"$f":"IFERROR(+AE34/AE$26,\"\")","v":""},null,null,{"$f":"IFERROR(+AH34/AH$26,\"\")","v":""},null,null,{"$f":"IFERROR(+AK34/AK$26,\"\")","v":""},null,null,{"$f":"IFERROR(+AN34/AN$26,\"\")","v":""},null,null,{"$f":"IFERROR(+AQ34/AQ$26,\"\")","v":""},null,null,{"$f":"IFERROR(+AT34/AT$26,\"\")","v":""},null,null,{"$f":"IFERROR(+AW34/AW$26,\"\")","v":""},null,null,{"$f":"IFERROR(+AZ34/AZ$26,\"\")","v":""},null,null,{"$f":"IFERROR(+BC34/BC$26,\"\")","v":""},null,null,{"$f":"IFERROR(+BF34/BF$26,\"\")","v":""},null,null,{"$f":"IFERROR(+BI34/BI$26,\"\")","v":""},null,null,{"$f":"IFERROR(+BL34/BL$26,\"\")","v":""},null,null,{"$f":"IFERROR(+BO34/BO$26,\"\")","v":""},null,null,{"$f":"IFERROR(+BR34/BR$26,\"\")","v":""},null,null,{"$f":"IFERROR(+BU34/BU$26,\"\")","v":""},null,null,{"$f":"IFERROR(+BX34/BX$26,\"\")","v":""},null,null,{"$f":"IFERROR(+CA34/CA$26,\"\")","v":""},null,null,{"$f":"IFERROR(+CD34/CD$26,\"\")","v":""},null,null,{"$f":"IFERROR(+CG34/CG$26,\"\")","v":""},null,null,{"$f":"IFERROR(+CJ34/CJ$26,\"\")","v":""},null,null,{"$f":"IFERROR(+CM34/CM$26,\"\")","v":""},null,null,{"$f":"IFERROR(+CP34/CP$26,\"\")","v":""},null,null,{"$f":"IFERROR(+CS34/CS$26,\"\")","v":""},null,null,{"$f":"IFERROR(+CV34/CV$26,\"\")","v":""},null,null,{"$f":"IFERROR(+CY34/CY$26,\"\")","v":""},null,null,{"$f":"IFERROR(+DB34/DB$26,\"\")","v":""},null,null,{"$f":"IFERROR(+DE34/DE$26,\"\")","v":""},null,null,{"$f":"IFERROR(+DH34/DH$26,\"\")","v":""},null,null,{"$f":"IFERROR(+DK34/DK$26,\"\")","v":""},null,null,{"$f":"IFERROR(+DN34/DN$26,\"\")","v":""},null,null,{"$f":"IFERROR(+DQ34/DQ$26,\"\")","v":""},null,null,{"$f":"IFERROR(+DT34/DT$26,\"\")","v":""},null,null,{"$f":"IFERROR(+DW34/DW$26,\"\")","v":""},null,null,{"$f":"IFERROR(+DZ34/DZ$26,\"\")","v":""},null,null,{"$f":"IFERROR(+EC34/EC$26,\"\")","v":""},null,null,{"$f":"IFERROR(+EF34/EF$26,\"\")","v":""},null,null,{"$f":"IFERROR(+EI34/EI$26,\"\")","v":""},null,null,{"$f":"IFERROR(+EL34/EL$26,\"\")","v":""},null,null,{"$f":"IFERROR(+EO34/EO$26,\"\")","v":""},null,null,{"$f":"IFERROR(+ER34/ER$26,\"\")","v":""},null,null,{"$f":"IFERROR(+EU34/EU$26,\"\")","v":""},null,null,{"$f":"IFERROR(+EX34/EX$26,\"\")","v":""},null,null,{"$f":"IFERROR(+FA34/FA$26,\"\")","v":""},null,null,{"$f":"IFERROR(+FD34/FD$26,\"\")","v":""},null,null,{"$f":"IFERROR(+FG34/FG$26,\"\")","v":""},null,null,{"$f":"IFERROR(+FJ34/FJ$26,\"\")","v":""},null,null,{"$f":"IFERROR(+FM34/FM$26,\"\")","v":""},null,null,{"$f":"IFERROR(+FP34/FP$26,\"\")","v":""},null,null,{"$f":"IFERROR(+FS34/FS$26,\"\")","v":""},null,null,{"$f":"IFERROR(+FV34/FV$26,\"\")","v":""},null,null,{"$f":"IFERROR(+FY34/FY$26,\"\")","v":""},null,null,{"$f":"IFERROR(+GB34/GB$26,\"\")","v":""},null,null,{"$f":"IFERROR(+GE34/GE$26,\"\")","v":""},null,null,{"$f":"IFERROR(+GH34/GH$26,\"\")","v":""},null,null,{"$f":"IFERROR(+GK34/GK$26,\"\")","v":""},null,null,{"$f":"IFERROR(+GN34/GN$26,\"\")","v":""},null,null,{"$f":"IFERROR(+GQ34/GQ$26,\"\")","v":""},null,null,{"$f":"IFERROR(+GT34/GT$26,\"\")","v":""},null,null,{"$f":"IFERROR(+GW34/GW$26,\"\")","v":""},null,null,{"$f":"IFERROR(+GZ34/GZ$26,\"\")","v":""},null,null,{"$f":"IFERROR(+HC34/HC$26,\"\")","v":""},null,null,{"$f":"IFERROR(+HF34/HF$26,\"\")","v":""},null,null,{"$f":"IFERROR(+HI34/HI$26,\"\")","v":""},null,null,{"$f":"IFERROR(+HL34/HL$26,\"\")","v":""},null,null,{"$f":"IFERROR(+HO34/HO$26,\"\")","v":""},null,null,{"$f":"IFERROR(+HR34/HR$26,\"\")","v":""},null,null,{"$f":"IFERROR(+HU34/HU$26,\"\")","v":""},null,null,{"$f":"IFERROR(+HX34/HX$26,\"\")","v":""},null,null,{"$f":"IFERROR(+IA34/IA$26,\"\")","v":""},null,null,{"$f":"IFERROR(+ID34/ID$26,\"\")","v":""},null,null,{"$f":"IFERROR(+IG34/IG$26,\"\")","v":""},null,null,{"$f":"IFERROR(+IJ34/IJ$26,\"\")","v":""},null,null,{"$f":"IFERROR(+IM34/IM$26,\"\")","v":""},null,null,{"$f":"IFERROR(+IP34/IP$26,\"\")","v":""},null,null,{"$f":"IFERROR(+IS34/IS$26,\"\")","v":""},null,null,{"$f":"IFERROR(+IV34/IV$26,\"\")","v":""},null,null,{"$f":"IFERROR(+IY34/IY$26,\"\")","v":""},null,null,{"$f":"IFERROR(+JB34/JB$26,\"\")","v":""},null,null,{"$f":"IFERROR(+JE34/JE$26,\"\")","v":""},null,null,{"$f":"IFERROR(+JH34/JH$26,\"\")","v":""},null,null,{"$f":"IFERROR(+JK34/JK$26,\"\")","v":""},null,null,{"$f":"IFERROR(+JN34/JN$26,\"\")","v":""},null,null,{"$f":"IFERROR(+JQ34/JQ$26,\"\")","v":""},null,null,{"$f":"IFERROR(+JT34/JT$26,\"\")","v":""},null,null,{"$f":"IFERROR(+JW34/JW$26,\"\")","v":""},null,null,{"$f":"IFERROR(+JZ34/JZ$26,\"\")","v":""},null,null,{"$f":"IFERROR(+KC34/KC$26,\"\")","v":""},null,null,{"$f":"IFERROR(+KF34/KF$26,\"\")","v":""},null,null,{"$f":"IFERROR(+KI34/KI$26,\"\")","v":""},null,null,{"$f":"IFERROR(+KL34/KL$26,\"\")","v":""},null,null,{"$f":"IFERROR(+KO34/KO$26,\"\")","v":""},null,null,{"$f":"IFERROR(+KR34/KR$26,\"\")","v":""},null,null,{"$f":"IFERROR(+KU34/KU$26,\"\")","v":""},null,null,{"$f":"IFERROR(+KX34/KX$26,\"\")","v":""},null,null,{"$f":"IFERROR(+LA34/LA$26,\"\")","v":""},null,null,{"$f":"IFERROR(+LD34/LD$26,\"\")","v":""},null,null,{"$f":"IFERROR(+LG34/LG$26,\"\")","v":""},null,null,{"$f":"IFERROR(+LJ34/LJ$26,\"\")","v":""},null,null,{"$f":"IFERROR(+LM34/LM$26,\"\")","v":""},null,null,{"$f":"IFERROR(+LP34/LP$26,\"\")","v":""},null,null,{"$f":"IFERROR(+LS34/LS$26,\"\")","v":""},null,null,{"$f":"IFERROR(+LV34/LV$26,\"\")","v":""},null,null,{"$f":"IFERROR(+LY34/LY$26,\"\")","v":""},null,null,{"$f":"IFERROR(+MB34/MB$26,\"\")","v":""},null,null,{"$f":"IFERROR(+ME34/ME$26,\"\")","v":""},null,null,{"$f":"IFERROR(+MH34/MH$26,\"\")","v":""},null,null,{"$f":"IFERROR(+MK34/MK$26,\"\")","v":""},null,null,{"$f":"IFERROR(+MN34/MN$26,\"\")","v":""},null,null,{"$f":"IFERROR(+MQ34/MQ$26,\"\")","v":""},null,null,{"$f":"IFERROR(+MT34/MT$26,\"\")","v":""},null,null,{"$f":"IFERROR(+MW34/MW$26,\"\")","v":""},null,null,{"$f":"IFERROR(+MZ34/MZ$26,\"\")","v":""},null,null,{"$f":"IFERROR(+NC34/NC$26,\"\")","v":""},null,null,{"$f":"IFERROR(+NF34/NF$26,\"\")","v":""},null,null,{"$f":"IFERROR(+NI34/NI$26,\"\")","v":""},null,null,{"$f":"IFERROR(+NL34/NL$26,\"\")","v":""},null,null,{"$f":"IFERROR(+NO34/NO$26,\"\")","v":""},null,null,{"$f":"IFERROR(+NR34/NR$26,\"\")","v":""},null,null,{"$f":"IFERROR(+NU34/NU$26,\"\")","v":""},null,null,{"$f":"IFERROR(+NX34/NX$26,\"\")","v":""},null,null,{"$f":"IFERROR(+OA34/OA$26,\"\")","v":""},null,null,{"$f":"IFERROR(+OD34/OD$26,\"\")","v":""},null,null,{"$f":"IFERROR(+OG34/OG$26,\"\")","v":""},null,null,{"$f":"IFERROR(+OJ34/OJ$26,\"\")","v":""},null,null,{"$f":"IFERROR(+OM34/OM$26,\"\")","v":""},null,null,{"$f":"IFERROR(+OP34/OP$26,\"\")","v":""},null,null,{"$f":"IFERROR(+OS34/OS$26,\"\")","v":""},null,null,{"$f":"IFERROR(+OV34/OV$26,\"\")","v":""},null,null,{"$f":"IFERROR(+OY34/OY$26,\"\")","v":""},null,null,{"$f":"IFERROR(+PB34/PB$26,\"\")","v":""},null,null,{"$f":"IFERROR(+PE34/PE$26,\"\")","v":""},null,null,{"$f":"IFERROR(+PH34/PH$26,\"\")","v":""},null,null,{"$f":"IFERROR(+PK34/PK$26,\"\")","v":""},null,null,{"$f":"IFERROR(+PN34/PN$26,\"\")","v":""},null,null,{"$f":"IFERROR(+PQ34/PQ$26,\"\")","v":""},null,null,{"$f":"IFERROR(+PT34/PT$26,\"\")","v":""},null,null,{"$f":"IFERROR(+PW34/PW$26,\"\")","v":""},null,null,{"$f":"IFERROR(+PZ34/PZ$26,\"\")","v":""},null,null,{"$f":"IFERROR(+QC34/QC$26,\"\")","v":""},null,null,{"$f":"IFERROR(+QF34/QF$26,\"\")","v":""},null,null,{"$f":"IFERROR(+QI34/QI$26,\"\")","v":""},null,null,{"$f":"IFERROR(+QL34/QL$26,\"\")","v":""},null,null,{"$f":"IFERROR(+QO34/QO$26,\"\")","v":""},null,null,{"$f":"IFERROR(+QR34/QR$26,\"\")","v":""},null,null,{"$f":"IFERROR(+QU34/QU$26,\"\")","v":""},null,null,{"$f":"IFERROR(+QX34/QX$26,\"\")","v":""},null,null,{"$f":"IFERROR(+RA34/RA$26,\"\")","v":""},null,null,{"$f":"IFERROR(+RD34/RD$26,\"\")","v":""},null,null,{"$f":"IFERROR(+RG34/RG$26,\"\")","v":""},null,null,{"$f":"IFERROR(+RJ34/RJ$26,\"\")","v":""},null,null,{"$f":"IFERROR(+RM34/RM$26,\"\")","v":""},null,null,{"$f":"IFERROR(+RP34/RP$26,\"\")","v":""},null,null,{"$f":"IFERROR(+RS34/RS$26,\"\")","v":""},null,null,{"$f":"IFERROR(+RV34/RV$26,\"\")","v":""},null,null,{"$f":"IFERROR(+RY34/RY$26,\"\")","v":""},null,null,{"$f":"IFERROR(+SB34/SB$26,\"\")","v":""},null,null,{"$f":"IFERROR(+SE34/SE$26,\"\")","v":""},null,null,{"$f":"IFERROR(+SH34/SH$26,\"\")","v":""},null,null,{"$f":"IFERROR(+SK34/SK$26,\"\")","v":""},null,null,{"$f":"IFERROR(+SN34/SN$26,\"\")","v":""},null,null,{"$f":"IFERROR(+SQ34/SQ$26,\"\")","v":""},null,null,{"$f":"IFERROR(+ST34/ST$26,\"\")","v":""},null,null,{"$f":"IFERROR(+SW34/SW$26,\"\")","v":""},null,null,{"$f":"IFERROR(+SZ34/SZ$26,\"\")","v":""},null,null,{"$f":"IFERROR(+TC34/TC$26,\"\")","v":""},null,null,{"$f":"IFERROR(+TF34/TF$26,\"\")","v":""},null,null,{"$f":"IFERROR(+TI34/TI$26,\"\")","v":""},null,null,{"$f":"IFERROR(+TL34/TL$26,\"\")","v":""},null,null,{"$f":"IFERROR(+TO34/TO$26,\"\")","v":""},null,null,{"$f":"IFERROR(+TR34/TR$26,\"\")","v":""},null,null,{"$f":"IFERROR(+TU34/TU$26,\"\")","v":""},null,null,{"$f":"IFERROR(+TX34/TX$26,\"\")","v":""},null,null,{"$f":"IFERROR(+UA34/UA$26,\"\")","v":""},null,null,{"$f":"IFERROR(+UD34/UD$26,\"\")","v":""},null,null,{"$f":"IFERROR(+UG34/UG$26,\"\")","v":""},null,null,{"$f":"IFERROR(+UJ34/UJ$26,\"\")","v":""},null,null,{"$f":"IFERROR(+UM34/UM$26,\"\")","v":""},null,null,{"$f":"IFERROR(+UP34/UP$26,\"\")","v":""},null,null,{"$f":"IFERROR(+US34/US$26,\"\")","v":""},null,null,{"$f":"IFERROR(+UV34/UV$26,\"\")","v":""},null,null,{"$f":"IFERROR(+UY34/UY$26,\"\")","v":""},null,null,{"$f":"IFERROR(+VB34/VB$26,\"\")","v":""},null,null,{"$f":"IFERROR(+VE34/VE$26,\"\")","v":""},null,null,{"$f":"IFERROR(+VH34/VH$26,\"\")","v":""},null,null,{"$f":"IFERROR(+VK34/VK$26,\"\")","v":""},null,null,{"$f":"IFERROR(+VN34/VN$26,\"\")","v":""},null,null,{"$f":"IFERROR(+VQ34/VQ$26,\"\")","v":""},null,null,{"$f":"IFERROR(+VT34/VT$26,\"\")","v":""},null,null,{"$f":"IFERROR(+VW34/VW$26,\"\")","v":""},null,null,{"$f":"IFERROR(+VZ34/VZ$26,\"\")","v":""},null,null,{"$f":"IFERROR(+WC34/WC$26,\"\")","v":""},null,null,{"$f":"IFERROR(+WF34/WF$26,\"\")","v":""},null,null,{"$f":"IFERROR(+WI34/WI$26,\"\")","v":""},null,null,{"$f":"IFERROR(+WL34/WL$26,\"\")","v":""},null,null,{"$f":"IFERROR(+WO34/WO$26,\"\")","v":""},null,null,{"$f":"IFERROR(+WR34/WR$26,\"\")","v":""},null,null,{"$f":"IFERROR(+WU34/WU$26,\"\")","v":""},null,null,{"$f":"IFERROR(+WX34/WX$26,\"\")","v":""},null,null,{"$f":"IFERROR(+XA34/XA$26,\"\")","v":""},null,null,{"$f":"IFERROR(+XD34/XD$26,\"\")","v":""},null,null,{"$f":"IFERROR(+XG34/XG$26,\"\")","v":""},null,null,{"$f":"IFERROR(+XJ34/XJ$26,\"\")","v":""},null,null,{"$f":"IFERROR(+XM34/XM$26,\"\")","v":""},null,null,{"$f":"IFERROR(+XP34/XP$26,\"\")","v":""},null,null,{"$f":"IFERROR(+XS34/XS$26,\"\")","v":""},null,null,{"$f":"IFERROR(+XV34/XV$26,\"\")","v":""},null,null,{"$f":"IFERROR(+XY34/XY$26,\"\")","v":""},null,null,{"$f":"IFERROR(+YB34/YB$26,\"\")","v":""},null,null,{"$f":"IFERROR(+YE34/YE$26,\"\")","v":""},null,null,{"$f":"IFERROR(+YH34/YH$26,\"\")","v":""},null,null,{"$f":"IFERROR(+YK34/YK$26,\"\")","v":""},null,null,{"$f":"IFERROR(+YN34/YN$26,\"\")","v":""},null,null,{"$f":"IFERROR(+YQ34/YQ$26,\"\")","v":""},null,null,{"$f":"IFERROR(+YT34/YT$26,\"\")","v":""},null,null,{"$f":"IFERROR(+YW34/YW$26,\"\")","v":""},null,null,{"$f":"IFERROR(+YZ34/YZ$26,\"\")","v":""},null,null,{"$f":"IFERROR(+ZC34/ZC$26,\"\")","v":""},null,null,{"$f":"IFERROR(+ZF34/ZF$26,\"\")","v":""},null,null,{"$f":"IFERROR(+ZI34/ZI$26,\"\")","v":""},null,null,{"$f":"IFERROR(+ZL34/ZL$26,\"\")","v":""},null,null,{"$f":"IFERROR(+ZO34/ZO$26,\"\")","v":""},null,null,{"$f":"IFERROR(+ZR34/ZR$26,\"\")","v":""},null,null,{"$f":"IFERROR(+ZU34/ZU$26,\"\")","v":""},null,null,{"$f":"IFERROR(+ZX34/ZX$26,\"\")","v":""},null,null,{"$f":"IFERROR(+AAA34/AAA$26,\"\")","v":""},null,null,{"$f":"IFERROR(+AAD34/AAD$26,\"\")","v":""},null,null,{"$f":"IFERROR(+AAG34/AAG$26,\"\")","v":""},null,null,{"$f":"IFERROR(+AAJ34/AAJ$26,\"\")","v":""},null,null,{"$f":"IFERROR(+AAM34/AAM$26,\"\")","v":""},null,null,{"$f":"IFERROR(+AAP34/AAP$26,\"\")","v":""},null,null,{"$f":"IFERROR(+AAS34/AAS$26,\"\")","v":""},null,null,{"$f":"IFERROR(+AAV34/AAV$26,\"\")","v":""},null,null,{"$f":"IFERROR(+AAY34/AAY$26,\"\")","v":""},null,null,{"$f":"IFERROR(+ABB34/ABB$26,\"\")","v":""},null,null,{"$f":"IFERROR(+ABE34/ABE$26,\"\")","v":""},null,null,{"$f":"IFERROR(+ABH34/ABH$26,\"\")","v":""},null,null,{"$f":"IFERROR(+ABK34/ABK$26,\"\")","v":""},null,null,{"$f":"IFERROR(+ABN34/ABN$26,\"\")","v":""},null,null,{"$f":"IFERROR(+ABQ34/ABQ$26,\"\")","v":""},null,null,{"$f":"IFERROR(+ABT34/ABT$26,\"\")","v":""},null,null,{"$f":"IFERROR(+ABW34/ABW$26,\"\")","v":""},null,null,{"$f":"IFERROR(+ABZ34/ABZ$26,\"\")","v":""},null,null,{"$f":"IFERROR(+ACC34/ACC$26,\"\")","v":""},null,null,{"$f":"IFERROR(+ACF34/ACF$26,\"\")","v":""},null,null,{"$f":"IFERROR(+ACI34/ACI$26,\"\")","v":""},null,null,{"$f":"IFERROR(+ACL34/ACL$26,\"\")","v":""},null,null,{"$f":"IFERROR(+ACO34/ACO$26,\"\")","v":""},null,null,{"$f":"IFERROR(+ACR34/ACR$26,\"\")","v":""},null,null,{"$f":"IFERROR(+ACU34/ACU$26,\"\")","v":""},null,null,{"$f":"IFERROR(+ACX34/ACX$26,\"\")","v":""},null,null,{"$f":"IFERROR(+ADA34/ADA$26,\"\")","v":""},null,null,{"$f":"IFERROR(+ADD34/ADD$26,\"\")","v":""},null,null,{"$f":"IFERROR(+ADG34/ADG$26,\"\")","v":""},null,null,{"$f":"IFERROR(+ADJ34/ADJ$26,\"\")","v":""},null,null,{"$f":"IFERROR(+ADM34/ADM$26,\"\")","v":""},null,null,{"$f":"IFERROR(+ADP34/ADP$26,\"\")","v":""},null,null,{"$f":"IFERROR(+ADS34/ADS$26,\"\")","v":""},null,null,{"$f":"IFERROR(+ADV34/ADV$26,\"\")","v":""},null,null,{"$f":"IFERROR(+ADY34/ADY$26,\"\")","v":""},null,null,{"$f":"IFERROR(+AEB34/AEB$26,\"\")","v":""},null,null,{"$f":"IFERROR(+AEE34/AEE$26,\"\")","v":""},null,null,{"$f":"IFERROR(+AEH34/AEH$26,\"\")","v":""},null,null,{"$f":"IFERROR(+AEK34/AEK$26,\"\")","v":""},null,null,{"$f":"IFERROR(+AEN34/AEN$26,\"\")","v":""},null,null,{"$f":"IFERROR(+AEQ34/AEQ$26,\"\")","v":""},null,null,{"$f":"IFERROR(+AET34/AET$26,\"\")","v":""},null,null,{"$f":"IFERROR(+AEW34/AEW$26,\"\")","v":""},null,null,{"$f":"IFERROR(+AEZ34/AEZ$26,\"\")","v":""},null,null,{"$f":"IFERROR(+AFC34/AFC$26,\"\")","v":""},null,null,{"$f":"IFERROR(+AFF34/AFF$26,\"\")","v":""},null,null,{"$f":"IFERROR(+AFI34/AFI$26,\"\")","v":""},null,null,{"$f":"IFERROR(+AFL34/AFL$26,\"\")","v":""},null,null,{"$f":"IFERROR(+AFO34/AFO$26,\"\")","v":""},null,null,{"$f":"IFERROR(+AFR34/AFR$26,\"\")","v":""},null,null,{"$f":"IFERROR(+AFU34/AFU$26,\"\")","v":""},null,null,{"$f":"IFERROR(+AFX34/AFX$26,\"\")","v":""},null,null,{"$f":"IFERROR(+AGA34/AGA$26,\"\")","v":""},null,null,{"$f":"IFERROR(+AGD34/AGD$26,\"\")","v":""},null,null,{"$f":"IFERROR(+AGG34/AGG$26,\"\")","v":""},null,null,{"$f":"IFERROR(+AGJ34/AGJ$26,\"\")","v":""},null,null,{"$f":"IFERROR(+AGM34/AGM$26,\"\")","v":""},null,null,{"$f":"IFERROR(+AGP34/AGP$26,\"\")","v":""},null,null,{"$f":"IFERROR(+AGS34/AGS$26,\"\")","v":""},null,null,{"$f":"IFERROR(+AGV34/AGV$26,\"\")","v":""},null,null,{"$f":"IFERROR(+AGY34/AGY$26,\"\")","v":""},null,null,{"$f":"IFERROR(+AHB34/AHB$26,\"\")","v":""},null,null,{"$f":"IFERROR(+AHE34/AHE$26,\"\")","v":""},null,null,{"$f":"IFERROR(+AHH34/AHH$26,\"\")","v":""},null,null,{"$f":"IFERROR(+AHK34/AHK$26,\"\")","v":""},null,null,{"$f":"IFERROR(+AHN34/AHN$26,\"\")","v":""},null,null,{"$f":"IFERROR(+AHQ34/AHQ$26,\"\")","v":""},null,null,{"$f":"IFERROR(+AHT34/AHT$26,\"\")","v":""}]
["2.2","Purchased steam, heat and cooling",null,{"$f":"+Aux_grafico!C7","v":0},{"$f":"+IFERROR(D35/$D$26,0)","v":0},null,null,{"$f":"IFERROR(+G35/G$26,\"\")","v":""},null,null,{"$f":"IFERROR(+J35/J$26,\"\")","v":""},null,null,{"$f":"IFERROR(+M35/M$26,\"\")","v":""},null,null,{"$f":"IFERROR(+P35/P$26,\"\")","v":""},null,null,{"$f":"IFERROR(+S35/S$26,\"\")","v":""},null,null,{"$f":"IFERROR(+V35/V$26,\"\")","v":""},null,null,{"$f":"IFERROR(+Y35/Y$26,\"\")","v":""},null,null,{"$f":"IFERROR(+AB35/AB$26,\"\")","v":""},null,null,{"$f":"IFERROR(+AE35/AE$26,\"\")","v":""},null,null,{"$f":"IFERROR(+AH35/AH$26,\"\")","v":""},null,null,{"$f":"IFERROR(+AK35/AK$26,\"\")","v":""},null,null,{"$f":"IFERROR(+AN35/AN$26,\"\")","v":""},null,null,{"$f":"IFERROR(+AQ35/AQ$26,\"\")","v":""},null,null,{"$f":"IFERROR(+AT35/AT$26,\"\")","v":""},null,null,{"$f":"IFERROR(+AW35/AW$26,\"\")","v":""},null,null,{"$f":"IFERROR(+AZ35/AZ$26,\"\")","v":""},null,null,{"$f":"IFERROR(+BC35/BC$26,\"\")","v":""},null,null,{"$f":"IFERROR(+BF35/BF$26,\"\")","v":""},null,null,{"$f":"IFERROR(+BI35/BI$26,\"\")","v":""},null,null,{"$f":"IFERROR(+BL35/BL$26,\"\")","v":""},null,null,{"$f":"IFERROR(+BO35/BO$26,\"\")","v":""},null,null,{"$f":"IFERROR(+BR35/BR$26,\"\")","v":""},null,null,{"$f":"IFERROR(+BU35/BU$26,\"\")","v":""},null,null,{"$f":"IFERROR(+BX35/BX$26,\"\")","v":""},null,null,{"$f":"IFERROR(+CA35/CA$26,\"\")","v":""},null,null,{"$f":"IFERROR(+CD35/CD$26,\"\")","v":""},null,null,{"$f":"IFERROR(+CG35/CG$26,\"\")","v":""},null,null,{"$f":"IFERROR(+CJ35/CJ$26,\"\")","v":""},null,null,{"$f":"IFERROR(+CM35/CM$26,\"\")","v":""},null,null,{"$f":"IFERROR(+CP35/CP$26,\"\")","v":""},null,null,{"$f":"IFERROR(+CS35/CS$26,\"\")","v":""},null,null,{"$f":"IFERROR(+CV35/CV$26,\"\")","v":""},null,null,{"$f":"IFERROR(+CY35/CY$26,\"\")","v":""},null,null,{"$f":"IFERROR(+DB35/DB$26,\"\")","v":""},null,null,{"$f":"IFERROR(+DE35/DE$26,\"\")","v":""},null,null,{"$f":"IFERROR(+DH35/DH$26,\"\")","v":""},null,null,{"$f":"IFERROR(+DK35/DK$26,\"\")","v":""},null,null,{"$f":"IFERROR(+DN35/DN$26,\"\")","v":""},null,null,{"$f":"IFERROR(+DQ35/DQ$26,\"\")","v":""},null,null,{"$f":"IFERROR(+DT35/DT$26,\"\")","v":""},null,null,{"$f":"IFERROR(+DW35/DW$26,\"\")","v":""},null,null,{"$f":"IFERROR(+DZ35/DZ$26,\"\")","v":""},null,null,{"$f":"IFERROR(+EC35/EC$26,\"\")","v":""},null,null,{"$f":"IFERROR(+EF35/EF$26,\"\")","v":""},null,null,{"$f":"IFERROR(+EI35/EI$26,\"\")","v":""},null,null,{"$f":"IFERROR(+EL35/EL$26,\"\")","v":""},null,null,{"$f":"IFERROR(+EO35/EO$26,\"\")","v":""},null,null,{"$f":"IFERROR(+ER35/ER$26,\"\")","v":""},null,null,{"$f":"IFERROR(+EU35/EU$26,\"\")","v":""},null,null,{"$f":"IFERROR(+EX35/EX$26,\"\")","v":""},null,null,{"$f":"IFERROR(+FA35/FA$26,\"\")","v":""},null,null,{"$f":"IFERROR(+FD35/FD$26,\"\")","v":""},null,null,{"$f":"IFERROR(+FG35/FG$26,\"\")","v":""},null,null,{"$f":"IFERROR(+FJ35/FJ$26,\"\")","v":""},null,null,{"$f":"IFERROR(+FM35/FM$26,\"\")","v":""},null,null,{"$f":"IFERROR(+FP35/FP$26,\"\")","v":""},null,null,{"$f":"IFERROR(+FS35/FS$26,\"\")","v":""},null,null,{"$f":"IFERROR(+FV35/FV$26,\"\")","v":""},null,null,{"$f":"IFERROR(+FY35/FY$26,\"\")","v":""},null,null,{"$f":"IFERROR(+GB35/GB$26,\"\")","v":""},null,null,{"$f":"IFERROR(+GE35/GE$26,\"\")","v":""},null,null,{"$f":"IFERROR(+GH35/GH$26,\"\")","v":""},null,null,{"$f":"IFERROR(+GK35/GK$26,\"\")","v":""},null,null,{"$f":"IFERROR(+GN35/GN$26,\"\")","v":""},null,null,{"$f":"IFERROR(+GQ35/GQ$26,\"\")","v":""},null,null,{"$f":"IFERROR(+GT35/GT$26,\"\")","v":""},null,null,{"$f":"IFERROR(+GW35/GW$26,\"\")","v":""},null,null,{"$f":"IFERROR(+GZ35/GZ$26,\"\")","v":""},null,null,{"$f":"IFERROR(+HC35/HC$26,\"\")","v":""},null,null,{"$f":"IFERROR(+HF35/HF$26,\"\")","v":""},null,null,{"$f":"IFERROR(+HI35/HI$26,\"\")","v":""},null,null,{"$f":"IFERROR(+HL35/HL$26,\"\")","v":""},null,null,{"$f":"IFERROR(+HO35/HO$26,\"\")","v":""},null,null,{"$f":"IFERROR(+HR35/HR$26,\"\")","v":""},null,null,{"$f":"IFERROR(+HU35/HU$26,\"\")","v":""},null,null,{"$f":"IFERROR(+HX35/HX$26,\"\")","v":""},null,null,{"$f":"IFERROR(+IA35/IA$26,\"\")","v":""},null,null,{"$f":"IFERROR(+ID35/ID$26,\"\")","v":""},null,null,{"$f":"IFERROR(+IG35/IG$26,\"\")","v":""},null,null,{"$f":"IFERROR(+IJ35/IJ$26,\"\")","v":""},null,null,{"$f":"IFERROR(+IM35/IM$26,\"\")","v":""},null,null,{"$f":"IFERROR(+IP35/IP$26,\"\")","v":""},null,null,{"$f":"IFERROR(+IS35/IS$26,\"\")","v":""},null,null,{"$f":"IFERROR(+IV35/IV$26,\"\")","v":""},null,null,{"$f":"IFERROR(+IY35/IY$26,\"\")","v":""},null,null,{"$f":"IFERROR(+JB35/JB$26,\"\")","v":""},null,null,{"$f":"IFERROR(+JE35/JE$26,\"\")","v":""},null,null,{"$f":"IFERROR(+JH35/JH$26,\"\")","v":""},null,null,{"$f":"IFERROR(+JK35/JK$26,\"\")","v":""},null,null,{"$f":"IFERROR(+JN35/JN$26,\"\")","v":""},null,null,{"$f":"IFERROR(+JQ35/JQ$26,\"\")","v":""},null,null,{"$f":"IFERROR(+JT35/JT$26,\"\")","v":""},null,null,{"$f":"IFERROR(+JW35/JW$26,\"\")","v":""},null,null,{"$f":"IFERROR(+JZ35/JZ$26,\"\")","v":""},null,null,{"$f":"IFERROR(+KC35/KC$26,\"\")","v":""},null,null,{"$f":"IFERROR(+KF35/KF$26,\"\")","v":""},null,null,{"$f":"IFERROR(+KI35/KI$26,\"\")","v":""},null,null,{"$f":"IFERROR(+KL35/KL$26,\"\")","v":""},null,null,{"$f":"IFERROR(+KO35/KO$26,\"\")","v":""},null,null,{"$f":"IFERROR(+KR35/KR$26,\"\")","v":""},null,null,{"$f":"IFERROR(+KU35/KU$26,\"\")","v":""},null,null,{"$f":"IFERROR(+KX35/KX$26,\"\")","v":""},null,null,{"$f":"IFERROR(+LA35/LA$26,\"\")","v":""},null,null,{"$f":"IFERROR(+LD35/LD$26,\"\")","v":""},null,null,{"$f":"IFERROR(+LG35/LG$26,\"\")","v":""},null,null,{"$f":"IFERROR(+LJ35/LJ$26,\"\")","v":""},null,null,{"$f":"IFERROR(+LM35/LM$26,\"\")","v":""},null,null,{"$f":"IFERROR(+LP35/LP$26,\"\")","v":""},null,null,{"$f":"IFERROR(+LS35/LS$26,\"\")","v":""},null,null,{"$f":"IFERROR(+LV35/LV$26,\"\")","v":""},null,null,{"$f":"IFERROR(+LY35/LY$26,\"\")","v":""},null,null,{"$f":"IFERROR(+MB35/MB$26,\"\")","v":""},null,null,{"$f":"IFERROR(+ME35/ME$26,\"\")","v":""},null,null,{"$f":"IFERROR(+MH35/MH$26,\"\")","v":""},null,null,{"$f":"IFERROR(+MK35/MK$26,\"\")","v":""},null,null,{"$f":"IFERROR(+MN35/MN$26,\"\")","v":""},null,null,{"$f":"IFERROR(+MQ35/MQ$26,\"\")","v":""},null,null,{"$f":"IFERROR(+MT35/MT$26,\"\")","v":""},null,null,{"$f":"IFERROR(+MW35/MW$26,\"\")","v":""},null,null,{"$f":"IFERROR(+MZ35/MZ$26,\"\")","v":""},null,null,{"$f":"IFERROR(+NC35/NC$26,\"\")","v":""},null,null,{"$f":"IFERROR(+NF35/NF$26,\"\")","v":""},null,null,{"$f":"IFERROR(+NI35/NI$26,\"\")","v":""},null,null,{"$f":"IFERROR(+NL35/NL$26,\"\")","v":""},null,null,{"$f":"IFERROR(+NO35/NO$26,\"\")","v":""},null,null,{"$f":"IFERROR(+NR35/NR$26,\"\")","v":""},null,null,{"$f":"IFERROR(+NU35/NU$26,\"\")","v":""},null,null,{"$f":"IFERROR(+NX35/NX$26,\"\")","v":""},null,null,{"$f":"IFERROR(+OA35/OA$26,\"\")","v":""},null,null,{"$f":"IFERROR(+OD35/OD$26,\"\")","v":""},null,null,{"$f":"IFERROR(+OG35/OG$26,\"\")","v":""},null,null,{"$f":"IFERROR(+OJ35/OJ$26,\"\")","v":""},null,null,{"$f":"IFERROR(+OM35/OM$26,\"\")","v":""},null,null,{"$f":"IFERROR(+OP35/OP$26,\"\")","v":""},null,null,{"$f":"IFERROR(+OS35/OS$26,\"\")","v":""},null,null,{"$f":"IFERROR(+OV35/OV$26,\"\")","v":""},null,null,{"$f":"IFERROR(+OY35/OY$26,\"\")","v":""},null,null,{"$f":"IFERROR(+PB35/PB$26,\"\")","v":""},null,null,{"$f":"IFERROR(+PE35/PE$26,\"\")","v":""},null,null,{"$f":"IFERROR(+PH35/PH$26,\"\")","v":""},null,null,{"$f":"IFERROR(+PK35/PK$26,\"\")","v":""},null,null,{"$f":"IFERROR(+PN35/PN$26,\"\")","v":""},null,null,{"$f":"IFERROR(+PQ35/PQ$26,\"\")","v":""},null,null,{"$f":"IFERROR(+PT35/PT$26,\"\")","v":""},null,null,{"$f":"IFERROR(+PW35/PW$26,\"\")","v":""},null,null,{"$f":"IFERROR(+PZ35/PZ$26,\"\")","v":""},null,null,{"$f":"IFERROR(+QC35/QC$26,\"\")","v":""},null,null,{"$f":"IFERROR(+QF35/QF$26,\"\")","v":""},null,null,{"$f":"IFERROR(+QI35/QI$26,\"\")","v":""},null,null,{"$f":"IFERROR(+QL35/QL$26,\"\")","v":""},null,null,{"$f":"IFERROR(+QO35/QO$26,\"\")","v":""},null,null,{"$f":"IFERROR(+QR35/QR$26,\"\")","v":""},null,null,{"$f":"IFERROR(+QU35/QU$26,\"\")","v":""},null,null,{"$f":"IFERROR(+QX35/QX$26,\"\")","v":""},null,null,{"$f":"IFERROR(+RA35/RA$26,\"\")","v":""},null,null,{"$f":"IFERROR(+RD35/RD$26,\"\")","v":""},null,null,{"$f":"IFERROR(+RG35/RG$26,\"\")","v":""},null,null,{"$f":"IFERROR(+RJ35/RJ$26,\"\")","v":""},null,null,{"$f":"IFERROR(+RM35/RM$26,\"\")","v":""},null,null,{"$f":"IFERROR(+RP35/RP$26,\"\")","v":""},null,null,{"$f":"IFERROR(+RS35/RS$26,\"\")","v":""},null,null,{"$f":"IFERROR(+RV35/RV$26,\"\")","v":""},null,null,{"$f":"IFERROR(+RY35/RY$26,\"\")","v":""},null,null,{"$f":"IFERROR(+SB35/SB$26,\"\")","v":""},null,null,{"$f":"IFERROR(+SE35/SE$26,\"\")","v":""},null,null,{"$f":"IFERROR(+SH35/SH$26,\"\")","v":""},null,null,{"$f":"IFERROR(+SK35/SK$26,\"\")","v":""},null,null,{"$f":"IFERROR(+SN35/SN$26,\"\")","v":""},null,null,{"$f":"IFERROR(+SQ35/SQ$26,\"\")","v":""},null,null,{"$f":"IFERROR(+ST35/ST$26,\"\")","v":""},null,null,{"$f":"IFERROR(+SW35/SW$26,\"\")","v":""},null,null,{"$f":"IFERROR(+SZ35/SZ$26,\"\")","v":""},null,null,{"$f":"IFERROR(+TC35/TC$26,\"\")","v":""},null,null,{"$f":"IFERROR(+TF35/TF$26,\"\")","v":""},null,null,{"$f":"IFERROR(+TI35/TI$26,\"\")","v":""},null,null,{"$f":"IFERROR(+TL35/TL$26,\"\")","v":""},null,null,{"$f":"IFERROR(+TO35/TO$26,\"\")","v":""},null,null,{"$f":"IFERROR(+TR35/TR$26,\"\")","v":""},null,null,{"$f":"IFERROR(+TU35/TU$26,\"\")","v":""},null,null,{"$f":"IFERROR(+TX35/TX$26,\"\")","v":""},null,null,{"$f":"IFERROR(+UA35/UA$26,\"\")","v":""},null,null,{"$f":"IFERROR(+UD35/UD$26,\"\")","v":""},null,null,{"$f":"IFERROR(+UG35/UG$26,\"\")","v":""},null,null,{"$f":"IFERROR(+UJ35/UJ$26,\"\")","v":""},null,null,{"$f":"IFERROR(+UM35/UM$26,\"\")","v":""},null,null,{"$f":"IFERROR(+UP35/UP$26,\"\")","v":""},null,null,{"$f":"IFERROR(+US35/US$26,\"\")","v":""},null,null,{"$f":"IFERROR(+UV35/UV$26,\"\")","v":""},null,null,{"$f":"IFERROR(+UY35/UY$26,\"\")","v":""},null,null,{"$f":"IFERROR(+VB35/VB$26,\"\")","v":""},null,null,{"$f":"IFERROR(+VE35/VE$26,\"\")","v":""},null,null,{"$f":"IFERROR(+VH35/VH$26,\"\")","v":""},null,null,{"$f":"IFERROR(+VK35/VK$26,\"\")","v":""},null,null,{"$f":"IFERROR(+VN35/VN$26,\"\")","v":""},null,null,{"$f":"IFERROR(+VQ35/VQ$26,\"\")","v":""},null,null,{"$f":"IFERROR(+VT35/VT$26,\"\")","v":""},null,null,{"$f":"IFERROR(+VW35/VW$26,\"\")","v":""},null,null,{"$f":"IFERROR(+VZ35/VZ$26,\"\")","v":""},null,null,{"$f":"IFERROR(+WC35/WC$26,\"\")","v":""},null,null,{"$f":"IFERROR(+WF35/WF$26,\"\")","v":""},null,null,{"$f":"IFERROR(+WI35/WI$26,\"\")","v":""},null,null,{"$f":"IFERROR(+WL35/WL$26,\"\")","v":""},null,null,{"$f":"IFERROR(+WO35/WO$26,\"\")","v":""},null,null,{"$f":"IFERROR(+WR35/WR$26,\"\")","v":""},null,null,{"$f":"IFERROR(+WU35/WU$26,\"\")","v":""},null,null,{"$f":"IFERROR(+WX35/WX$26,\"\")","v":""},null,null,{"$f":"IFERROR(+XA35/XA$26,\"\")","v":""},null,null,{"$f":"IFERROR(+XD35/XD$26,\"\")","v":""},null,null,{"$f":"IFERROR(+XG35/XG$26,\"\")","v":""},null,null,{"$f":"IFERROR(+XJ35/XJ$26,\"\")","v":""},null,null,{"$f":"IFERROR(+XM35/XM$26,\"\")","v":""},null,null,{"$f":"IFERROR(+XP35/XP$26,\"\")","v":""},null,null,{"$f":"IFERROR(+XS35/XS$26,\"\")","v":""},null,null,{"$f":"IFERROR(+XV35/XV$26,\"\")","v":""},null,null,{"$f":"IFERROR(+XY35/XY$26,\"\")","v":""},null,null,{"$f":"IFERROR(+YB35/YB$26,\"\")","v":""},null,null,{"$f":"IFERROR(+YE35/YE$26,\"\")","v":""},null,null,{"$f":"IFERROR(+YH35/YH$26,\"\")","v":""},null,null,{"$f":"IFERROR(+YK35/YK$26,\"\")","v":""},null,null,{"$f":"IFERROR(+YN35/YN$26,\"\")","v":""},null,null,{"$f":"IFERROR(+YQ35/YQ$26,\"\")","v":""},null,null,{"$f":"IFERROR(+YT35/YT$26,\"\")","v":""},null,null,{"$f":"IFERROR(+YW35/YW$26,\"\")","v":""},null,null,{"$f":"IFERROR(+YZ35/YZ$26,\"\")","v":""},null,null,{"$f":"IFERROR(+ZC35/ZC$26,\"\")","v":""},null,null,{"$f":"IFERROR(+ZF35/ZF$26,\"\")","v":""},null,null,{"$f":"IFERROR(+ZI35/ZI$26,\"\")","v":""},null,null,{"$f":"IFERROR(+ZL35/ZL$26,\"\")","v":""},null,null,{"$f":"IFERROR(+ZO35/ZO$26,\"\")","v":""},null,null,{"$f":"IFERROR(+ZR35/ZR$26,\"\")","v":""},null,null,{"$f":"IFERROR(+ZU35/ZU$26,\"\")","v":""},null,null,{"$f":"IFERROR(+ZX35/ZX$26,\"\")","v":""},null,null,{"$f":"IFERROR(+AAA35/AAA$26,\"\")","v":""},null,null,{"$f":"IFERROR(+AAD35/AAD$26,\"\")","v":""},null,null,{"$f":"IFERROR(+AAG35/AAG$26,\"\")","v":""},null,null,{"$f":"IFERROR(+AAJ35/AAJ$26,\"\")","v":""},null,null,{"$f":"IFERROR(+AAM35/AAM$26,\"\")","v":""},null,null,{"$f":"IFERROR(+AAP35/AAP$26,\"\")","v":""},null,null,{"$f":"IFERROR(+AAS35/AAS$26,\"\")","v":""},null,null,{"$f":"IFERROR(+AAV35/AAV$26,\"\")","v":""},null,null,{"$f":"IFERROR(+AAY35/AAY$26,\"\")","v":""},null,null,{"$f":"IFERROR(+ABB35/ABB$26,\"\")","v":""},null,null,{"$f":"IFERROR(+ABE35/ABE$26,\"\")","v":""},null,null,{"$f":"IFERROR(+ABH35/ABH$26,\"\")","v":""},null,null,{"$f":"IFERROR(+ABK35/ABK$26,\"\")","v":""},null,null,{"$f":"IFERROR(+ABN35/ABN$26,\"\")","v":""},null,null,{"$f":"IFERROR(+ABQ35/ABQ$26,\"\")","v":""},null,null,{"$f":"IFERROR(+ABT35/ABT$26,\"\")","v":""},null,null,{"$f":"IFERROR(+ABW35/ABW$26,\"\")","v":""},null,null,{"$f":"IFERROR(+ABZ35/ABZ$26,\"\")","v":""},null,null,{"$f":"IFERROR(+ACC35/ACC$26,\"\")","v":""},null,null,{"$f":"IFERROR(+ACF35/ACF$26,\"\")","v":""},null,null,{"$f":"IFERROR(+ACI35/ACI$26,\"\")","v":""},null,null,{"$f":"IFERROR(+ACL35/ACL$26,\"\")","v":""},null,null,{"$f":"IFERROR(+ACO35/ACO$26,\"\")","v":""},null,null,{"$f":"IFERROR(+ACR35/ACR$26,\"\")","v":""},null,null,{"$f":"IFERROR(+ACU35/ACU$26,\"\")","v":""},null,null,{"$f":"IFERROR(+ACX35/ACX$26,\"\")","v":""},null,null,{"$f":"IFERROR(+ADA35/ADA$26,\"\")","v":""},null,null,{"$f":"IFERROR(+ADD35/ADD$26,\"\")","v":""},null,null,{"$f":"IFERROR(+ADG35/ADG$26,\"\")","v":""},null,null,{"$f":"IFERROR(+ADJ35/ADJ$26,\"\")","v":""},null,null,{"$f":"IFERROR(+ADM35/ADM$26,\"\")","v":""},null,null,{"$f":"IFERROR(+ADP35/ADP$26,\"\")","v":""},null,null,{"$f":"IFERROR(+ADS35/ADS$26,\"\")","v":""},null,null,{"$f":"IFERROR(+ADV35/ADV$26,\"\")","v":""},null,null,{"$f":"IFERROR(+ADY35/ADY$26,\"\")","v":""},null,null,{"$f":"IFERROR(+AEB35/AEB$26,\"\")","v":""},null,null,{"$f":"IFERROR(+AEE35/AEE$26,\"\")","v":""},null,null,{"$f":"IFERROR(+AEH35/AEH$26,\"\")","v":""},null,null,{"$f":"IFERROR(+AEK35/AEK$26,\"\")","v":""},null,null,{"$f":"IFERROR(+AEN35/AEN$26,\"\")","v":""},null,null,{"$f":"IFERROR(+AEQ35/AEQ$26,\"\")","v":""},null,null,{"$f":"IFERROR(+AET35/AET$26,\"\")","v":""},null,null,{"$f":"IFERROR(+AEW35/AEW$26,\"\")","v":""},null,null,{"$f":"IFERROR(+AEZ35/AEZ$26,\"\")","v":""},null,null,{"$f":"IFERROR(+AFC35/AFC$26,\"\")","v":""},null,null,{"$f":"IFERROR(+AFF35/AFF$26,\"\")","v":""},null,null,{"$f":"IFERROR(+AFI35/AFI$26,\"\")","v":""},null,null,{"$f":"IFERROR(+AFL35/AFL$26,\"\")","v":""},null,null,{"$f":"IFERROR(+AFO35/AFO$26,\"\")","v":""},null,null,{"$f":"IFERROR(+AFR35/AFR$26,\"\")","v":""},null,null,{"$f":"IFERROR(+AFU35/AFU$26,\"\")","v":""},null,null,{"$f":"IFERROR(+AFX35/AFX$26,\"\")","v":""},null,null,{"$f":"IFERROR(+AGA35/AGA$26,\"\")","v":""},null,null,{"$f":"IFERROR(+AGD35/AGD$26,\"\")","v":""},null,null,{"$f":"IFERROR(+AGG35/AGG$26,\"\")","v":""},null,null,{"$f":"IFERROR(+AGJ35/AGJ$26,\"\")","v":""},null,null,{"$f":"IFERROR(+AGM35/AGM$26,\"\")","v":""},null,null,{"$f":"IFERROR(+AGP35/AGP$26,\"\")","v":""},null,null,{"$f":"IFERROR(+AGS35/AGS$26,\"\")","v":""},null,null,{"$f":"IFERROR(+AGV35/AGV$26,\"\")","v":""},null,null,{"$f":"IFERROR(+AGY35/AGY$26,\"\")","v":""},null,null,{"$f":"IFERROR(+AHB35/AHB$26,\"\")","v":""},null,null,{"$f":"IFERROR(+AHE35/AHE$26,\"\")","v":""},null,null,{"$f":"IFERROR(+AHH35/AHH$26,\"\")","v":""},null,null,{"$f":"IFERROR(+AHK35/AHK$26,\"\")","v":""},null,null,{"$f":"IFERROR(+AHN35/AHN$26,\"\")","v":""},null,null,{"$f":"IFERROR(+AHQ35/AHQ$26,\"\")","v":""},null,null,{"$f":"IFERROR(+AHT35/AHT$26,\"\")","v":""}]
[null,"Scope 3",null,{"$f":"+SUM(D37:D51)","v":0},{"$f":"+IFERROR(D36/D26,0)","v":0},null,{"$f":"+SUM(G37:G51)","v":0},{"$f":"+IFERROR(G36/G26,0)","v":0},null,{"$f":"+SUM(J37:J51)","v":0},{"$f":"+IFERROR(J36/J26,0)","v":0},null,{"$f":"+SUM(M37:M51)","v":0},{"$f":"+IFERROR(M36/M26,0)","v":0},null,{"$f":"+SUM(P37:P51)","v":0},{"$f":"+IFERROR(P36/P26,0)","v":0},null,{"$f":"+SUM(S37:S51)","v":0},{"$f":"+IFERROR(S36/S26,0)","v":0},null,{"$f":"+SUM(V37:V51)","v":0},{"$f":"+IFERROR(V36/V26,0)","v":0},null,{"$f":"+SUM(Y37:Y51)","v":0},{"$f":"+IFERROR(Y36/Y26,0)","v":0},null,{"$f":"+SUM(AB37:AB51)","v":0},{"$f":"+IFERROR(AB36/AB26,0)","v":0},null,{"$f":"+SUM(AE37:AE51)","v":0},{"$f":"+IFERROR(AE36/AE26,0)","v":0},null,{"$f":"+SUM(AH37:AH51)","v":0},{"$f":"+IFERROR(AH36/AH26,0)","v":0},null,{"$f":"+SUM(AK37:AK51)","v":0},{"$f":"+IFERROR(AK36/AK26,0)","v":0},null,{"$f":"+SUM(AN37:AN51)","v":0},{"$f":"+IFERROR(AN36/AN26,0)","v":0},null,{"$f":"+SUM(AQ37:AQ51)","v":0},{"$f":"+IFERROR(AQ36/AQ26,0)","v":0},null,{"$f":"+SUM(AT37:AT51)","v":0},{"$f":"+IFERROR(AT36/AT26,0)","v":0},null,{"$f":"+SUM(AW37:AW51)","v":0},{"$f":"+IFERROR(AW36/AW26,0)","v":0},null,{"$f":"+SUM(AZ37:AZ51)","v":0},{"$f":"+IFERROR(AZ36/AZ26,0)","v":0},null,{"$f":"+SUM(BC37:BC51)","v":0},{"$f":"+IFERROR(BC36/BC26,0)","v":0},null,{"$f":"+SUM(BF37:BF51)","v":0},{"$f":"+IFERROR(BF36/BF26,0)","v":0},null,{"$f":"+SUM(BI37:BI51)","v":0},{"$f":"+IFERROR(BI36/BI26,0)","v":0},null,{"$f":"+SUM(BL37:BL51)","v":0},{"$f":"+IFERROR(BL36/BL26,0)","v":0},null,{"$f":"+SUM(BO37:BO51)","v":0},{"$f":"+IFERROR(BO36/BO26,0)","v":0},null,{"$f":"+SUM(BR37:BR51)","v":0},{"$f":"+IFERROR(BR36/BR26,0)","v":0},null,{"$f":"+SUM(BU37:BU51)","v":0},{"$f":"+IFERROR(BU36/BU26,0)","v":0},null,{"$f":"+SUM(BX37:BX51)","v":0},{"$f":"+IFERROR(BX36/BX26,0)","v":0},null,{"$f":"+SUM(CA37:CA51)","v":0},{"$f":"+IFERROR(CA36/CA26,0)","v":0},null,{"$f":"+SUM(CD37:CD51)","v":0},{"$f":"+IFERROR(CD36/CD26,0)","v":0},null,{"$f":"+SUM(CG37:CG51)","v":0},{"$f":"+IFERROR(CG36/CG26,0)","v":0},null,{"$f":"+SUM(CJ37:CJ51)","v":0},{"$f":"+IFERROR(CJ36/CJ26,0)","v":0},null,{"$f":"+SUM(CM37:CM51)","v":0},{"$f":"+IFERROR(CM36/CM26,0)","v":0},null,{"$f":"+SUM(CP37:CP51)","v":0},{"$f":"+IFERROR(CP36/CP26,0)","v":0},null,{"$f":"+SUM(CS37:CS51)","v":0},{"$f":"+IFERROR(CS36/CS26,0)","v":0},null,{"$f":"+SUM(CV37:CV51)","v":0},{"$f":"+IFERROR(CV36/CV26,0)","v":0},null,{"$f":"+SUM(CY37:CY51)","v":0},{"$f":"+IFERROR(CY36/CY26,0)","v":0},null,{"$f":"+SUM(DB37:DB51)","v":0},{"$f":"+IFERROR(DB36/DB26,0)","v":0},null,{"$f":"+SUM(DE37:DE51)","v":0},{"$f":"+IFERROR(DE36/DE26,0)","v":0},null,{"$f":"+SUM(DH37:DH51)","v":0},{"$f":"+IFERROR(DH36/DH26,0)","v":0},null,{"$f":"+SUM(DK37:DK51)","v":0},{"$f":"+IFERROR(DK36/DK26,0)","v":0},null,{"$f":"+SUM(DN37:DN51)","v":0},{"$f":"+IFERROR(DN36/DN26,0)","v":0},null,{"$f":"+SUM(DQ37:DQ51)","v":0},{"$f":"+IFERROR(DQ36/DQ26,0)","v":0},null,{"$f":"+SUM(DT37:DT51)","v":0},{"$f":"+IFERROR(DT36/DT26,0)","v":0},null,{"$f":"+SUM(DW37:DW51)","v":0},{"$f":"+IFERROR(DW36/DW26,0)","v":0},null,{"$f":"+SUM(DZ37:DZ51)","v":0},{"$f":"+IFERROR(DZ36/DZ26,0)","v":0},null,{"$f":"+SUM(EC37:EC51)","v":0},{"$f":"+IFERROR(EC36/EC26,0)","v":0},null,{"$f":"+SUM(EF37:EF51)","v":0},{"$f":"+IFERROR(EF36/EF26,0)","v":0},null,{"$f":"+SUM(EI37:EI51)","v":0},{"$f":"+IFERROR(EI36/EI26,0)","v":0},null,{"$f":"+SUM(EL37:EL51)","v":0},{"$f":"+IFERROR(EL36/EL26,0)","v":0},null,{"$f":"+SUM(EO37:EO51)","v":0},{"$f":"+IFERROR(EO36/EO26,0)","v":0},null,{"$f":"+SUM(ER37:ER51)","v":0},{"$f":"+IFERROR(ER36/ER26,0)","v":0},null,{"$f":"+SUM(EU37:EU51)","v":0},{"$f":"+IFERROR(EU36/EU26,0)","v":0},null,{"$f":"+SUM(EX37:EX51)","v":0},{"$f":"+IFERROR(EX36/EX26,0)","v":0},null,{"$f":"+SUM(FA37:FA51)","v":0},{"$f":"+IFERROR(FA36/FA26,0)","v":0},null,{"$f":"+SUM(FD37:FD51)","v":0},{"$f":"+IFERROR(FD36/FD26,0)","v":0},null,{"$f":"+SUM(FG37:FG51)","v":0},{"$f":"+IFERROR(FG36/FG26,0)","v":0},null,{"$f":"+SUM(FJ37:FJ51)","v":0},{"$f":"+IFERROR(FJ36/FJ26,0)","v":0},null,{"$f":"+SUM(FM37:FM51)","v":0},{"$f":"+IFERROR(FM36/FM26,0)","v":0},null,{"$f":"+SUM(FP37:FP51)","v":0},{"$f":"+IFERROR(FP36/FP26,0)","v":0},null,{"$f":"+SUM(FS37:FS51)","v":0},{"$f":"+IFERROR(FS36/FS26,0)","v":0},null,{"$f":"+SUM(FV37:FV51)","v":0},{"$f":"+IFERROR(FV36/FV26,0)","v":0},null,{"$f":"+SUM(FY37:FY51)","v":0},{"$f":"+IFERROR(FY36/FY26,0)","v":0},null,{"$f":"+SUM(GB37:GB51)","v":0},{"$f":"+IFERROR(GB36/GB26,0)","v":0},null,{"$f":"+SUM(GE37:GE51)","v":0},{"$f":"+IFERROR(GE36/GE26,0)","v":0},null,{"$f":"+SUM(GH37:GH51)","v":0},{"$f":"+IFERROR(GH36/GH26,0)","v":0},null,{"$f":"+SUM(GK37:GK51)","v":0},{"$f":"+IFERROR(GK36/GK26,0)","v":0},null,{"$f":"+SUM(GN37:GN51)","v":0},{"$f":"+IFERROR(GN36/GN26,0)","v":0},null,{"$f":"+SUM(GQ37:GQ51)","v":0},{"$f":"+IFERROR(GQ36/GQ26,0)","v":0},null,{"$f":"+SUM(GT37:GT51)","v":0},{"$f":"+IFERROR(GT36/GT26,0)","v":0},null,{"$f":"+SUM(GW37:GW51)","v":0},{"$f":"+IFERROR(GW36/GW26,0)","v":0},null,{"$f":"+SUM(GZ37:GZ51)","v":0},{"$f":"+IFERROR(GZ36/GZ26,0)","v":0},null,{"$f":"+SUM(HC37:HC51)","v":0},{"$f":"+IFERROR(HC36/HC26,0)","v":0},null,{"$f":"+SUM(HF37:HF51)","v":0},{"$f":"+IFERROR(HF36/HF26,0)","v":0},null,{"$f":"+SUM(HI37:HI51)","v":0},{"$f":"+IFERROR(HI36/HI26,0)","v":0},null,{"$f":"+SUM(HL37:HL51)","v":0},{"$f":"+IFERROR(HL36/HL26,0)","v":0},null,{"$f":"+SUM(HO37:HO51)","v":0},{"$f":"+IFERROR(HO36/HO26,0)","v":0},null,{"$f":"+SUM(HR37:HR51)","v":0},{"$f":"+IFERROR(HR36/HR26,0)","v":0},null,{"$f":"+SUM(HU37:HU51)","v":0},{"$f":"+IFERROR(HU36/HU26,0)","v":0},null,{"$f":"+SUM(HX37:HX51)","v":0},{"$f":"+IFERROR(HX36/HX26,0)","v":0},null,{"$f":"+SUM(IA37:IA51)","v":0},{"$f":"+IFERROR(IA36/IA26,0)","v":0},null,{"$f":"+SUM(ID37:ID51)","v":0},{"$f":"+IFERROR(ID36/ID26,0)","v":0},null,{"$f":"+SUM(IG37:IG51)","v":0},{"$f":"+IFERROR(IG36/IG26,0)","v":0},null,{"$f":"+SUM(IJ37:IJ51)","v":0},{"$f":"+IFERROR(IJ36/IJ26,0)","v":0},null,{"$f":"+SUM(IM37:IM51)","v":0},{"$f":"+IFERROR(IM36/IM26,0)","v":0},null,{"$f":"+SUM(IP37:IP51)","v":0},{"$f":"+IFERROR(IP36/IP26,0)","v":0},null,{"$f":"+SUM(IS37:IS51)","v":0},{"$f":"+IFERROR(IS36/IS26,0)","v":0},null,{"$f":"+SUM(IV37:IV51)","v":0},{"$f":"+IFERROR(IV36/IV26,0)","v":0},null,{"$f":"+SUM(IY37:IY51)","v":0},{"$f":"+IFERROR(IY36/IY26,0)","v":0},null,{"$f":"+SUM(JB37:JB51)","v":0},{"$f":"+IFERROR(JB36/JB26,0)","v":0},null,{"$f":"+SUM(JE37:JE51)","v":0},{"$f":"+IFERROR(JE36/JE26,0)","v":0},null,{"$f":"+SUM(JH37:JH51)","v":0},{"$f":"+IFERROR(JH36/JH26,0)","v":0},null,{"$f":"+SUM(JK37:JK51)","v":0},{"$f":"+IFERROR(JK36/JK26,0)","v":0},null,{"$f":"+SUM(JN37:JN51)","v":0},{"$f":"+IFERROR(JN36/JN26,0)","v":0},null,{"$f":"+SUM(JQ37:JQ51)","v":0},{"$f":"+IFERROR(JQ36/JQ26,0)","v":0},null,{"$f":"+SUM(JT37:JT51)","v":0},{"$f":"+IFERROR(JT36/JT26,0)","v":0},null,{"$f":"+SUM(JW37:JW51)","v":0},{"$f":"+IFERROR(JW36/JW26,0)","v":0},null,{"$f":"+SUM(JZ37:JZ51)","v":0},{"$f":"+IFERROR(JZ36/JZ26,0)","v":0},null,{"$f":"+SUM(KC37:KC51)","v":0},{"$f":"+IFERROR(KC36/KC26,0)","v":0},null,{"$f":"+SUM(KF37:KF51)","v":0},{"$f":"+IFERROR(KF36/KF26,0)","v":0},null,{"$f":"+SUM(KI37:KI51)","v":0},{"$f":"+IFERROR(KI36/KI26,0)","v":0},null,{"$f":"+SUM(KL37:KL51)","v":0},{"$f":"+IFERROR(KL36/KL26,0)","v":0},null,{"$f":"+SUM(KO37:KO51)","v":0},{"$f":"+IFERROR(KO36/KO26,0)","v":0},null,{"$f":"+SUM(KR37:KR51)","v":0},{"$f":"+IFERROR(KR36/KR26,0)","v":0},null,{"$f":"+SUM(KU37:KU51)","v":0},{"$f":"+IFERROR(KU36/KU26,0)","v":0},null,{"$f":"+SUM(KX37:KX51)","v":0},{"$f":"+IFERROR(KX36/KX26,0)","v":0},null,{"$f":"+SUM(LA37:LA51)","v":0},{"$f":"+IFERROR(LA36/LA26,0)","v":0},null,{"$f":"+SUM(LD37:LD51)","v":0},{"$f":"+IFERROR(LD36/LD26,0)","v":0},null,{"$f":"+SUM(LG37:LG51)","v":0},{"$f":"+IFERROR(LG36/LG26,0)","v":0},null,{"$f":"+SUM(LJ37:LJ51)","v":0},{"$f":"+IFERROR(LJ36/LJ26,0)","v":0},null,{"$f":"+SUM(LM37:LM51)","v":0},{"$f":"+IFERROR(LM36/LM26,0)","v":0},null,{"$f":"+SUM(LP37:LP51)","v":0},{"$f":"+IFERROR(LP36/LP26,0)","v":0},null,{"$f":"+SUM(LS37:LS51)","v":0},{"$f":"+IFERROR(LS36/LS26,0)","v":0},null,{"$f":"+SUM(LV37:LV51)","v":0},{"$f":"+IFERROR(LV36/LV26,0)","v":0},null,{"$f":"+SUM(LY37:LY51)","v":0},{"$f":"+IFERROR(LY36/LY26,0)","v":0},null,{"$f":"+SUM(MB37:MB51)","v":0},{"$f":"+IFERROR(MB36/MB26,0)","v":0},null,{"$f":"+SUM(ME37:ME51)","v":0},{"$f":"+IFERROR(ME36/ME26,0)","v":0},null,{"$f":"+SUM(MH37:MH51)","v":0},{"$f":"+IFERROR(MH36/MH26,0)","v":0},null,{"$f":"+SUM(MK37:MK51)","v":0},{"$f":"+IFERROR(MK36/MK26,0)","v":0},null,{"$f":"+SUM(MN37:MN51)","v":0},{"$f":"+IFERROR(MN36/MN26,0)","v":0},null,{"$f":"+SUM(MQ37:MQ51)","v":0},{"$f":"+IFERROR(MQ36/MQ26,0)","v":0},null,{"$f":"+SUM(MT37:MT51)","v":0},{"$f":"+IFERROR(MT36/MT26,0)","v":0},null,{"$f":"+SUM(MW37:MW51)","v":0},{"$f":"+IFERROR(MW36/MW26,0)","v":0},null,{"$f":"+SUM(MZ37:MZ51)","v":0},{"$f":"+IFERROR(MZ36/MZ26,0)","v":0},null,{"$f":"+SUM(NC37:NC51)","v":0},{"$f":"+IFERROR(NC36/NC26,0)","v":0},null,{"$f":"+SUM(NF37:NF51)","v":0},{"$f":"+IFERROR(NF36/NF26,0)","v":0},null,{"$f":"+SUM(NI37:NI51)","v":0},{"$f":"+IFERROR(NI36/NI26,0)","v":0},null,{"$f":"+SUM(NL37:NL51)","v":0},{"$f":"+IFERROR(NL36/NL26,0)","v":0},null,{"$f":"+SUM(NO37:NO51)","v":0},{"$f":"+IFERROR(NO36/NO26,0)","v":0},null,{"$f":"+SUM(NR37:NR51)","v":0},{"$f":"+IFERROR(NR36/NR26,0)","v":0},null,{"$f":"+SUM(NU37:NU51)","v":0},{"$f":"+IFERROR(NU36/NU26,0)","v":0},null,{"$f":"+SUM(NX37:NX51)","v":0},{"$f":"+IFERROR(NX36/NX26,0)","v":0},null,{"$f":"+SUM(OA37:OA51)","v":0},{"$f":"+IFERROR(OA36/OA26,0)","v":0},null,{"$f":"+SUM(OD37:OD51)","v":0},{"$f":"+IFERROR(OD36/OD26,0)","v":0},null,{"$f":"+SUM(OG37:OG51)","v":0},{"$f":"+IFERROR(OG36/OG26,0)","v":0},null,{"$f":"+SUM(OJ37:OJ51)","v":0},{"$f":"+IFERROR(OJ36/OJ26,0)","v":0},null,{"$f":"+SUM(OM37:OM51)","v":0},{"$f":"+IFERROR(OM36/OM26,0)","v":0},null,{"$f":"+SUM(OP37:OP51)","v":0},{"$f":"+IFERROR(OP36/OP26,0)","v":0},null,{"$f":"+SUM(OS37:OS51)","v":0},{"$f":"+IFERROR(OS36/OS26,0)","v":0},null,{"$f":"+SUM(OV37:OV51)","v":0},{"$f":"+IFERROR(OV36/OV26,0)","v":0},null,{"$f":"+SUM(OY37:OY51)","v":0},{"$f":"+IFERROR(OY36/OY26,0)","v":0},null,{"$f":"+SUM(PB37:PB51)","v":0},{"$f":"+IFERROR(PB36/PB26,0)","v":0},null,{"$f":"+SUM(PE37:PE51)","v":0},{"$f":"+IFERROR(PE36/PE26,0)","v":0},null,{"$f":"+SUM(PH37:PH51)","v":0},{"$f":"+IFERROR(PH36/PH26,0)","v":0},null,{"$f":"+SUM(PK37:PK51)","v":0},{"$f":"+IFERROR(PK36/PK26,0)","v":0},null,{"$f":"+SUM(PN37:PN51)","v":0},{"$f":"+IFERROR(PN36/PN26,0)","v":0},null,{"$f":"+SUM(PQ37:PQ51)","v":0},{"$f":"+IFERROR(PQ36/PQ26,0)","v":0},null,{"$f":"+SUM(PT37:PT51)","v":0},{"$f":"+IFERROR(PT36/PT26,0)","v":0},null,{"$f":"+SUM(PW37:PW51)","v":0},{"$f":"+IFERROR(PW36/PW26,0)","v":0},null,{"$f":"+SUM(PZ37:PZ51)","v":0},{"$f":"+IFERROR(PZ36/PZ26,0)","v":0},null,{"$f":"+SUM(QC37:QC51)","v":0},{"$f":"+IFERROR(QC36/QC26,0)","v":0},null,{"$f":"+SUM(QF37:QF51)","v":0},{"$f":"+IFERROR(QF36/QF26,0)","v":0},null,{"$f":"+SUM(QI37:QI51)","v":0},{"$f":"+IFERROR(QI36/QI26,0)","v":0},null,{"$f":"+SUM(QL37:QL51)","v":0},{"$f":"+IFERROR(QL36/QL26,0)","v":0},null,{"$f":"+SUM(QO37:QO51)","v":0},{"$f":"+IFERROR(QO36/QO26,0)","v":0},null,{"$f":"+SUM(QR37:QR51)","v":0},{"$f":"+IFERROR(QR36/QR26,0)","v":0},null,{"$f":"+SUM(QU37:QU51)","v":0},{"$f":"+IFERROR(QU36/QU26,0)","v":0},null,{"$f":"+SUM(QX37:QX51)","v":0},{"$f":"+IFERROR(QX36/QX26,0)","v":0},null,{"$f":"+SUM(RA37:RA51)","v":0},{"$f":"+IFERROR(RA36/RA26,0)","v":0},null,{"$f":"+SUM(RD37:RD51)","v":0},{"$f":"+IFERROR(RD36/RD26,0)","v":0},null,{"$f":"+SUM(RG37:RG51)","v":0},{"$f":"+IFERROR(RG36/RG26,0)","v":0},null,{"$f":"+SUM(RJ37:RJ51)","v":0},{"$f":"+IFERROR(RJ36/RJ26,0)","v":0},null,{"$f":"+SUM(RM37:RM51)","v":0},{"$f":"+IFERROR(RM36/RM26,0)","v":0},null,{"$f":"+SUM(RP37:RP51)","v":0},{"$f":"+IFERROR(RP36/RP26,0)","v":0},null,{"$f":"+SUM(RS37:RS51)","v":0},{"$f":"+IFERROR(RS36/RS26,0)","v":0},null,{"$f":"+SUM(RV37:RV51)","v":0},{"$f":"+IFERROR(RV36/RV26,0)","v":0},null,{"$f":"+SUM(RY37:RY51)","v":0},{"$f":"+IFERROR(RY36/RY26,0)","v":0},null,{"$f":"+SUM(SB37:SB51)","v":0},{"$f":"+IFERROR(SB36/SB26,0)","v":0},null,{"$f":"+SUM(SE37:SE51)","v":0},{"$f":"+IFERROR(SE36/SE26,0)","v":0},null,{"$f":"+SUM(SH37:SH51)","v":0},{"$f":"+IFERROR(SH36/SH26,0)","v":0},null,{"$f":"+SUM(SK37:SK51)","v":0},{"$f":"+IFERROR(SK36/SK26,0)","v":0},null,{"$f":"+SUM(SN37:SN51)","v":0},{"$f":"+IFERROR(SN36/SN26,0)","v":0},null,{"$f":"+SUM(SQ37:SQ51)","v":0},{"$f":"+IFERROR(SQ36/SQ26,0)","v":0},null,{"$f":"+SUM(ST37:ST51)","v":0},{"$f":"+IFERROR(ST36/ST26,0)","v":0},null,{"$f":"+SUM(SW37:SW51)","v":0},{"$f":"+IFERROR(SW36/SW26,0)","v":0},null,{"$f":"+SUM(SZ37:SZ51)","v":0},{"$f":"+IFERROR(SZ36/SZ26,0)","v":0},null,{"$f":"+SUM(TC37:TC51)","v":0},{"$f":"+IFERROR(TC36/TC26,0)","v":0},null,{"$f":"+SUM(TF37:TF51)","v":0},{"$f":"+IFERROR(TF36/TF26,0)","v":0},null,{"$f":"+SUM(TI37:TI51)","v":0},{"$f":"+IFERROR(TI36/TI26,0)","v":0},null,{"$f":"+SUM(TL37:TL51)","v":0},{"$f":"+IFERROR(TL36/TL26,0)","v":0},null,{"$f":"+SUM(TO37:TO51)","v":0},{"$f":"+IFERROR(TO36/TO26,0)","v":0},null,{"$f":"+SUM(TR37:TR51)","v":0},{"$f":"+IFERROR(TR36/TR26,0)","v":0},null,{"$f":"+SUM(TU37:TU51)","v":0},{"$f":"+IFERROR(TU36/TU26,0)","v":0},null,{"$f":"+SUM(TX37:TX51)","v":0},{"$f":"+IFERROR(TX36/TX26,0)","v":0},null,{"$f":"+SUM(UA37:UA51)","v":0},{"$f":"+IFERROR(UA36/UA26,0)","v":0},null,{"$f":"+SUM(UD37:UD51)","v":0},{"$f":"+IFERROR(UD36/UD26,0)","v":0},null,{"$f":"+SUM(UG37:UG51)","v":0},{"$f":"+IFERROR(UG36/UG26,0)","v":0},null,{"$f":"+SUM(UJ37:UJ51)","v":0},{"$f":"+IFERROR(UJ36/UJ26,0)","v":0},null,{"$f":"+SUM(UM37:UM51)","v":0},{"$f":"+IFERROR(UM36/UM26,0)","v":0},null,{"$f":"+SUM(UP37:UP51)","v":0},{"$f":"+IFERROR(UP36/UP26,0)","v":0},null,{"$f":"+SUM(US37:US51)","v":0},{"$f":"+IFERROR(US36/US26,0)","v":0},null,{"$f":"+SUM(UV37:UV51)","v":0},{"$f":"+IFERROR(UV36/UV26,0)","v":0},null,{"$f":"+SUM(UY37:UY51)","v":0},{"$f":"+IFERROR(UY36/UY26,0)","v":0},null,{"$f":"+SUM(VB37:VB51)","v":0},{"$f":"+IFERROR(VB36/VB26,0)","v":0},null,{"$f":"+SUM(VE37:VE51)","v":0},{"$f":"+IFERROR(VE36/VE26,0)","v":0},null,{"$f":"+SUM(VH37:VH51)","v":0},{"$f":"+IFERROR(VH36/VH26,0)","v":0},null,{"$f":"+SUM(VK37:VK51)","v":0},{"$f":"+IFERROR(VK36/VK26,0)","v":0},null,{"$f":"+SUM(VN37:VN51)","v":0},{"$f":"+IFERROR(VN36/VN26,0)","v":0},null,{"$f":"+SUM(VQ37:VQ51)","v":0},{"$f":"+IFERROR(VQ36/VQ26,0)","v":0},null,{"$f":"+SUM(VT37:VT51)","v":0},{"$f":"+IFERROR(VT36/VT26,0)","v":0},null,{"$f":"+SUM(VW37:VW51)","v":0},{"$f":"+IFERROR(VW36/VW26,0)","v":0},null,{"$f":"+SUM(VZ37:VZ51)","v":0},{"$f":"+IFERROR(VZ36/VZ26,0)","v":0},null,{"$f":"+SUM(WC37:WC51)","v":0},{"$f":"+IFERROR(WC36/WC26,0)","v":0},null,{"$f":"+SUM(WF37:WF51)","v":0},{"$f":"+IFERROR(WF36/WF26,0)","v":0},null,{"$f":"+SUM(WI37:WI51)","v":0},{"$f":"+IFERROR(WI36/WI26,0)","v":0},null,{"$f":"+SUM(WL37:WL51)","v":0},{"$f":"+IFERROR(WL36/WL26,0)","v":0},null,{"$f":"+SUM(WO37:WO51)","v":0},{"$f":"+IFERROR(WO36/WO26,0)","v":0},null,{"$f":"+SUM(WR37:WR51)","v":0},{"$f":"+IFERROR(WR36/WR26,0)","v":0},null,{"$f":"+SUM(WU37:WU51)","v":0},{"$f":"+IFERROR(WU36/WU26,0)","v":0},null,{"$f":"+SUM(WX37:WX51)","v":0},{"$f":"+IFERROR(WX36/WX26,0)","v":0},null,{"$f":"+SUM(XA37:XA51)","v":0},{"$f":"+IFERROR(XA36/XA26,0)","v":0},null,{"$f":"+SUM(XD37:XD51)","v":0},{"$f":"+IFERROR(XD36/XD26,0)","v":0},null,{"$f":"+SUM(XG37:XG51)","v":0},{"$f":"+IFERROR(XG36/XG26,0)","v":0},null,{"$f":"+SUM(XJ37:XJ51)","v":0},{"$f":"+IFERROR(XJ36/XJ26,0)","v":0},null,{"$f":"+SUM(XM37:XM51)","v":0},{"$f":"+IFERROR(XM36/XM26,0)","v":0},null,{"$f":"+SUM(XP37:XP51)","v":0},{"$f":"+IFERROR(XP36/XP26,0)","v":0},null,{"$f":"+SUM(XS37:XS51)","v":0},{"$f":"+IFERROR(XS36/XS26,0)","v":0},null,{"$f":"+SUM(XV37:XV51)","v":0},{"$f":"+IFERROR(XV36/XV26,0)","v":0},null,{"$f":"+SUM(XY37:XY51)","v":0},{"$f":"+IFERROR(XY36/XY26,0)","v":0},null,{"$f":"+SUM(YB37:YB51)","v":0},{"$f":"+IFERROR(YB36/YB26,0)","v":0},null,{"$f":"+SUM(YE37:YE51)","v":0},{"$f":"+IFERROR(YE36/YE26,0)","v":0},null,{"$f":"+SUM(YH37:YH51)","v":0},{"$f":"+IFERROR(YH36/YH26,0)","v":0},null,{"$f":"+SUM(YK37:YK51)","v":0},{"$f":"+IFERROR(YK36/YK26,0)","v":0},null,{"$f":"+SUM(YN37:YN51)","v":0},{"$f":"+IFERROR(YN36/YN26,0)","v":0},null,{"$f":"+SUM(YQ37:YQ51)","v":0},{"$f":"+IFERROR(YQ36/YQ26,0)","v":0},null,{"$f":"+SUM(YT37:YT51)","v":0},{"$f":"+IFERROR(YT36/YT26,0)","v":0},null,{"$f":"+SUM(YW37:YW51)","v":0},{"$f":"+IFERROR(YW36/YW26,0)","v":0},null,{"$f":"+SUM(YZ37:YZ51)","v":0},{"$f":"+IFERROR(YZ36/YZ26,0)","v":0},null,{"$f":"+SUM(ZC37:ZC51)","v":0},{"$f":"+IFERROR(ZC36/ZC26,0)","v":0},null,{"$f":"+SUM(ZF37:ZF51)","v":0},{"$f":"+IFERROR(ZF36/ZF26,0)","v":0},null,{"$f":"+SUM(ZI37:ZI51)","v":0},{"$f":"+IFERROR(ZI36/ZI26,0)","v":0},null,{"$f":"+SUM(ZL37:ZL51)","v":0},{"$f":"+IFERROR(ZL36/ZL26,0)","v":0},null,{"$f":"+SUM(ZO37:ZO51)","v":0},{"$f":"+IFERROR(ZO36/ZO26,0)","v":0},null,{"$f":"+SUM(ZR37:ZR51)","v":0},{"$f":"+IFERROR(ZR36/ZR26,0)","v":0},null,{"$f":"+SUM(ZU37:ZU51)","v":0},{"$f":"+IFERROR(ZU36/ZU26,0)","v":0},null,{"$f":"+SUM(ZX37:ZX51)","v":0},{"$f":"+IFERROR(ZX36/ZX26,0)","v":0},null,{"$f":"+SUM(AAA37:AAA51)","v":0},{"$f":"+IFERROR(AAA36/AAA26,0)","v":0},null,{"$f":"+SUM(AAD37:AAD51)","v":0},{"$f":"+IFERROR(AAD36/AAD26,0)","v":0},null,{"$f":"+SUM(AAG37:AAG51)","v":0},{"$f":"+IFERROR(AAG36/AAG26,0)","v":0},null,{"$f":"+SUM(AAJ37:AAJ51)","v":0},{"$f":"+IFERROR(AAJ36/AAJ26,0)","v":0},null,{"$f":"+SUM(AAM37:AAM51)","v":0},{"$f":"+IFERROR(AAM36/AAM26,0)","v":0},null,{"$f":"+SUM(AAP37:AAP51)","v":0},{"$f":"+IFERROR(AAP36/AAP26,0)","v":0},null,{"$f":"+SUM(AAS37:AAS51)","v":0},{"$f":"+IFERROR(AAS36/AAS26,0)","v":0},null,{"$f":"+SUM(AAV37:AAV51)","v":0},{"$f":"+IFERROR(AAV36/AAV26,0)","v":0},null,{"$f":"+SUM(AAY37:AAY51)","v":0},{"$f":"+IFERROR(AAY36/AAY26,0)","v":0},null,{"$f":"+SUM(ABB37:ABB51)","v":0},{"$f":"+IFERROR(ABB36/ABB26,0)","v":0},null,{"$f":"+SUM(ABE37:ABE51)","v":0},{"$f":"+IFERROR(ABE36/ABE26,0)","v":0},null,{"$f":"+SUM(ABH37:ABH51)","v":0},{"$f":"+IFERROR(ABH36/ABH26,0)","v":0},null,{"$f":"+SUM(ABK37:ABK51)","v":0},{"$f":"+IFERROR(ABK36/ABK26,0)","v":0},null,{"$f":"+SUM(ABN37:ABN51)","v":0},{"$f":"+IFERROR(ABN36/ABN26,0)","v":0},null,{"$f":"+SUM(ABQ37:ABQ51)","v":0},{"$f":"+IFERROR(ABQ36/ABQ26,0)","v":0},null,{"$f":"+SUM(ABT37:ABT51)","v":0},{"$f":"+IFERROR(ABT36/ABT26,0)","v":0},null,{"$f":"+SUM(ABW37:ABW51)","v":0},{"$f":"+IFERROR(ABW36/ABW26,0)","v":0},null,{"$f":"+SUM(ABZ37:ABZ51)","v":0},{"$f":"+IFERROR(ABZ36/ABZ26,0)","v":0},null,{"$f":"+SUM(ACC37:ACC51)","v":0},{"$f":"+IFERROR(ACC36/ACC26,0)","v":0},null,{"$f":"+SUM(ACF37:ACF51)","v":0},{"$f":"+IFERROR(ACF36/ACF26,0)","v":0},null,{"$f":"+SUM(ACI37:ACI51)","v":0},{"$f":"+IFERROR(ACI36/ACI26,0)","v":0},null,{"$f":"+SUM(ACL37:ACL51)","v":0},{"$f":"+IFERROR(ACL36/ACL26,0)","v":0},null,{"$f":"+SUM(ACO37:ACO51)","v":0},{"$f":"+IFERROR(ACO36/ACO26,0)","v":0},null,{"$f":"+SUM(ACR37:ACR51)","v":0},{"$f":"+IFERROR(ACR36/ACR26,0)","v":0},null,{"$f":"+SUM(ACU37:ACU51)","v":0},{"$f":"+IFERROR(ACU36/ACU26,0)","v":0},null,{"$f":"+SUM(ACX37:ACX51)","v":0},{"$f":"+IFERROR(ACX36/ACX26,0)","v":0},null,{"$f":"+SUM(ADA37:ADA51)","v":0},{"$f":"+IFERROR(ADA36/ADA26,0)","v":0},null,{"$f":"+SUM(ADD37:ADD51)","v":0},{"$f":"+IFERROR(ADD36/ADD26,0)","v":0},null,{"$f":"+SUM(ADG37:ADG51)","v":0},{"$f":"+IFERROR(ADG36/ADG26,0)","v":0},null,{"$f":"+SUM(ADJ37:ADJ51)","v":0},{"$f":"+IFERROR(ADJ36/ADJ26,0)","v":0},null,{"$f":"+SUM(ADM37:ADM51)","v":0},{"$f":"+IFERROR(ADM36/ADM26,0)","v":0},null,{"$f":"+SUM(ADP37:ADP51)","v":0},{"$f":"+IFERROR(ADP36/ADP26,0)","v":0},null,{"$f":"+SUM(ADS37:ADS51)","v":0},{"$f":"+IFERROR(ADS36/ADS26,0)","v":0},null,{"$f":"+SUM(ADV37:ADV51)","v":0},{"$f":"+IFERROR(ADV36/ADV26,0)","v":0},null,{"$f":"+SUM(ADY37:ADY51)","v":0},{"$f":"+IFERROR(ADY36/ADY26,0)","v":0},null,{"$f":"+SUM(AEB37:AEB51)","v":0},{"$f":"+IFERROR(AEB36/AEB26,0)","v":0},null,{"$f":"+SUM(AEE37:AEE51)","v":0},{"$f":"+IFERROR(AEE36/AEE26,0)","v":0},null,{"$f":"+SUM(AEH37:AEH51)","v":0},{"$f":"+IFERROR(AEH36/AEH26,0)","v":0},null,{"$f":"+SUM(AEK37:AEK51)","v":0},{"$f":"+IFERROR(AEK36/AEK26,0)","v":0},null,{"$f":"+SUM(AEN37:AEN51)","v":0},{"$f":"+IFERROR(AEN36/AEN26,0)","v":0},null,{"$f":"+SUM(AEQ37:AEQ51)","v":0},{"$f":"+IFERROR(AEQ36/AEQ26,0)","v":0},null,{"$f":"+SUM(AET37:AET51)","v":0},{"$f":"+IFERROR(AET36/AET26,0)","v":0},null,{"$f":"+SUM(AEW37:AEW51)","v":0},{"$f":"+IFERROR(AEW36/AEW26,0)","v":0},null,{"$f":"+SUM(AEZ37:AEZ51)","v":0},{"$f":"+IFERROR(AEZ36/AEZ26,0)","v":0},null,{"$f":"+SUM(AFC37:AFC51)","v":0},{"$f":"+IFERROR(AFC36/AFC26,0)","v":0},null,{"$f":"+SUM(AFF37:AFF51)","v":0},{"$f":"+IFERROR(AFF36/AFF26,0)","v":0},null,{"$f":"+SUM(AFI37:AFI51)","v":0},{"$f":"+IFERROR(AFI36/AFI26,0)","v":0},null,{"$f":"+SUM(AFL37:AFL51)","v":0},{"$f":"+IFERROR(AFL36/AFL26,0)","v":0},null,{"$f":"+SUM(AFO37:AFO51)","v":0},{"$f":"+IFERROR(AFO36/AFO26,0)","v":0},null,{"$f":"+SUM(AFR37:AFR51)","v":0},{"$f":"+IFERROR(AFR36/AFR26,0)","v":0},null,{"$f":"+SUM(AFU37:AFU51)","v":0},{"$f":"+IFERROR(AFU36/AFU26,0)","v":0},null,{"$f":"+SUM(AFX37:AFX51)","v":0},{"$f":"+IFERROR(AFX36/AFX26,0)","v":0},null,{"$f":"+SUM(AGA37:AGA51)","v":0},{"$f":"+IFERROR(AGA36/AGA26,0)","v":0},null,{"$f":"+SUM(AGD37:AGD51)","v":0},{"$f":"+IFERROR(AGD36/AGD26,0)","v":0},null,{"$f":"+SUM(AGG37:AGG51)","v":0},{"$f":"+IFERROR(AGG36/AGG26,0)","v":0},null,{"$f":"+SUM(AGJ37:AGJ51)","v":0},{"$f":"+IFERROR(AGJ36/AGJ26,0)","v":0},null,{"$f":"+SUM(AGM37:AGM51)","v":0},{"$f":"+IFERROR(AGM36/AGM26,0)","v":0},null,{"$f":"+SUM(AGP37:AGP51)","v":0},{"$f":"+IFERROR(AGP36/AGP26,0)","v":0},null,{"$f":"+SUM(AGS37:AGS51)","v":0},{"$f":"+IFERROR(AGS36/AGS26,0)","v":0},null,{"$f":"+SUM(AGV37:AGV51)","v":0},{"$f":"+IFERROR(AGV36/AGV26,0)","v":0},null,{"$f":"+SUM(AGY37:AGY51)","v":0},{"$f":"+IFERROR(AGY36/AGY26,0)","v":0},null,{"$f":"+SUM(AHB37:AHB51)","v":0},{"$f":"+IFERROR(AHB36/AHB26,0)","v":0},null,{"$f":"+SUM(AHE37:AHE51)","v":0},{"$f":"+IFERROR(AHE36/AHE26,0)","v":0},null,{"$f":"+SUM(AHH37:AHH51)","v":0},{"$f":"+IFERROR(AHH36/AHH26,0)","v":0},null,{"$f":"+SUM(AHK37:AHK51)","v":0},{"$f":"+IFERROR(AHK36/AHK26,0)","v":0},null,{"$f":"+SUM(AHN37:AHN51)","v":0},{"$f":"+IFERROR(AHN36/AHN26,0)","v":0},null,{"$f":"+SUM(AHQ37:AHQ51)","v":0},{"$f":"+IFERROR(AHQ36/AHQ26,0)","v":0},null,{"$f":"+SUM(AHT37:AHT51)","v":0},{"$f":"+IFERROR(AHT36/AHT26,0)","v":0}]
["Category 1","Purchased goods & services",null,{"$f":"+Aux_grafico!C8","v":0},{"$f":"+IFERROR(D37/$D$26,0)","v":0},null,null,{"$f":"IFERROR(+G37/G$26,\"\")","v":""},null,null,{"$f":"IFERROR(+J37/J$26,\"\")","v":""},null,null,{"$f":"IFERROR(+M37/M$26,\"\")","v":""},null,null,{"$f":"IFERROR(+P37/P$26,\"\")","v":""},null,null,{"$f":"IFERROR(+S37/S$26,\"\")","v":""},null,null,{"$f":"IFERROR(+V37/V$26,\"\")","v":""},null,null,{"$f":"IFERROR(+Y37/Y$26,\"\")","v":""},null,null,{"$f":"IFERROR(+AB37/AB$26,\"\")","v":""},null,null,{"$f":"IFERROR(+AE37/AE$26,\"\")","v":""},null,null,{"$f":"IFERROR(+AH37/AH$26,\"\")","v":""},null,null,{"$f":"IFERROR(+AK37/AK$26,\"\")","v":""},null,null,{"$f":"IFERROR(+AN37/AN$26,\"\")","v":""},null,null,{"$f":"IFERROR(+AQ37/AQ$26,\"\")","v":""},null,null,{"$f":"IFERROR(+AT37/AT$26,\"\")","v":""},null,null,{"$f":"IFERROR(+AW37/AW$26,\"\")","v":""},null,null,{"$f":"IFERROR(+AZ37/AZ$26,\"\")","v":""},null,null,{"$f":"IFERROR(+BC37/BC$26,\"\")","v":""},null,null,{"$f":"IFERROR(+BF37/BF$26,\"\")","v":""},null,null,{"$f":"IFERROR(+BI37/BI$26,\"\")","v":""},null,null,{"$f":"IFERROR(+BL37/BL$26,\"\")","v":""},null,null,{"$f":"IFERROR(+BO37/BO$26,\"\")","v":""},null,null,{"$f":"IFERROR(+BR37/BR$26,\"\")","v":""},null,null,{"$f":"IFERROR(+BU37/BU$26,\"\")","v":""},null,null,{"$f":"IFERROR(+BX37/BX$26,\"\")","v":""},null,null,{"$f":"IFERROR(+CA37/CA$26,\"\")","v":""},null,null,{"$f":"IFERROR(+CD37/CD$26,\"\")","v":""},null,null,{"$f":"IFERROR(+CG37/CG$26,\"\")","v":""},null,null,{"$f":"IFERROR(+CJ37/CJ$26,\"\")","v":""},null,null,{"$f":"IFERROR(+CM37/CM$26,\"\")","v":""},null,null,{"$f":"IFERROR(+CP37/CP$26,\"\")","v":""},null,null,{"$f":"IFERROR(+CS37/CS$26,\"\")","v":""},null,null,{"$f":"IFERROR(+CV37/CV$26,\"\")","v":""},null,null,{"$f":"IFERROR(+CY37/CY$26,\"\")","v":""},null,null,{"$f":"IFERROR(+DB37/DB$26,\"\")","v":""},null,null,{"$f":"IFERROR(+DE37/DE$26,\"\")","v":""},null,null,{"$f":"IFERROR(+DH37/DH$26,\"\")","v":""},null,null,{"$f":"IFERROR(+DK37/DK$26,\"\")","v":""},null,null,{"$f":"IFERROR(+DN37/DN$26,\"\")","v":""},null,null,{"$f":"IFERROR(+DQ37/DQ$26,\"\")","v":""},null,null,{"$f":"IFERROR(+DT37/DT$26,\"\")","v":""},null,null,{"$f":"IFERROR(+DW37/DW$26,\"\")","v":""},null,null,{"$f":"IFERROR(+DZ37/DZ$26,\"\")","v":""},null,null,{"$f":"IFERROR(+EC37/EC$26,\"\")","v":""},null,null,{"$f":"IFERROR(+EF37/EF$26,\"\")","v":""},null,null,{"$f":"IFERROR(+EI37/EI$26,\"\")","v":""},null,null,{"$f":"IFERROR(+EL37/EL$26,\"\")","v":""},null,null,{"$f":"IFERROR(+EO37/EO$26,\"\")","v":""},null,null,{"$f":"IFERROR(+ER37/ER$26,\"\")","v":""},null,null,{"$f":"IFERROR(+EU37/EU$26,\"\")","v":""},null,null,{"$f":"IFERROR(+EX37/EX$26,\"\")","v":""},null,null,{"$f":"IFERROR(+FA37/FA$26,\"\")","v":""},null,null,{"$f":"IFERROR(+FD37/FD$26,\"\")","v":""},null,null,{"$f":"IFERROR(+FG37/FG$26,\"\")","v":""},null,null,{"$f":"IFERROR(+FJ37/FJ$26,\"\")","v":""},null,null,{"$f":"IFERROR(+FM37/FM$26,\"\")","v":""},null,null,{"$f":"IFERROR(+FP37/FP$26,\"\")","v":""},null,null,{"$f":"IFERROR(+FS37/FS$26,\"\")","v":""},null,null,{"$f":"IFERROR(+FV37/FV$26,\"\")","v":""},null,null,{"$f":"IFERROR(+FY37/FY$26,\"\")","v":""},null,null,{"$f":"IFERROR(+GB37/GB$26,\"\")","v":""},null,null,{"$f":"IFERROR(+GE37/GE$26,\"\")","v":""},null,null,{"$f":"IFERROR(+GH37/GH$26,\"\")","v":""},null,null,{"$f":"IFERROR(+GK37/GK$26,\"\")","v":""},null,null,{"$f":"IFERROR(+GN37/GN$26,\"\")","v":""},null,null,{"$f":"IFERROR(+GQ37/GQ$26,\"\")","v":""},null,null,{"$f":"IFERROR(+GT37/GT$26,\"\")","v":""},null,null,{"$f":"IFERROR(+GW37/GW$26,\"\")","v":""},null,null,{"$f":"IFERROR(+GZ37/GZ$26,\"\")","v":""},null,null,{"$f":"IFERROR(+HC37/HC$26,\"\")","v":""},null,null,{"$f":"IFERROR(+HF37/HF$26,\"\")","v":""},null,null,{"$f":"IFERROR(+HI37/HI$26,\"\")","v":""},null,null,{"$f":"IFERROR(+HL37/HL$26,\"\")","v":""},null,null,{"$f":"IFERROR(+HO37/HO$26,\"\")","v":""},null,null,{"$f":"IFERROR(+HR37/HR$26,\"\")","v":""},null,null,{"$f":"IFERROR(+HU37/HU$26,\"\")","v":""},null,null,{"$f":"IFERROR(+HX37/HX$26,\"\")","v":""},null,null,{"$f":"IFERROR(+IA37/IA$26,\"\")","v":""},null,null,{"$f":"IFERROR(+ID37/ID$26,\"\")","v":""},null,null,{"$f":"IFERROR(+IG37/IG$26,\"\")","v":""},null,null,{"$f":"IFERROR(+IJ37/IJ$26,\"\")","v":""},null,null,{"$f":"IFERROR(+IM37/IM$26,\"\")","v":""},null,null,{"$f":"IFERROR(+IP37/IP$26,\"\")","v":""},null,null,{"$f":"IFERROR(+IS37/IS$26,\"\")","v":""},null,null,{"$f":"IFERROR(+IV37/IV$26,\"\")","v":""},null,null,{"$f":"IFERROR(+IY37/IY$26,\"\")","v":""},null,null,{"$f":"IFERROR(+JB37/JB$26,\"\")","v":""},null,null,{"$f":"IFERROR(+JE37/JE$26,\"\")","v":""},null,null,{"$f":"IFERROR(+JH37/JH$26,\"\")","v":""},null,null,{"$f":"IFERROR(+JK37/JK$26,\"\")","v":""},null,null,{"$f":"IFERROR(+JN37/JN$26,\"\")","v":""},null,null,{"$f":"IFERROR(+JQ37/JQ$26,\"\")","v":""},null,null,{"$f":"IFERROR(+JT37/JT$26,\"\")","v":""},null,null,{"$f":"IFERROR(+JW37/JW$26,\"\")","v":""},null,null,{"$f":"IFERROR(+JZ37/JZ$26,\"\")","v":""},null,null,{"$f":"IFERROR(+KC37/KC$26,\"\")","v":""},null,null,{"$f":"IFERROR(+KF37/KF$26,\"\")","v":""},null,null,{"$f":"IFERROR(+KI37/KI$26,\"\")","v":""},null,null,{"$f":"IFERROR(+KL37/KL$26,\"\")","v":""},null,null,{"$f":"IFERROR(+KO37/KO$26,\"\")","v":""},null,null,{"$f":"IFERROR(+KR37/KR$26,\"\")","v":""},null,null,{"$f":"IFERROR(+KU37/KU$26,\"\")","v":""},null,null,{"$f":"IFERROR(+KX37/KX$26,\"\")","v":""},null,null,{"$f":"IFERROR(+LA37/LA$26,\"\")","v":""},null,null,{"$f":"IFERROR(+LD37/LD$26,\"\")","v":""},null,null,{"$f":"IFERROR(+LG37/LG$26,\"\")","v":""},null,null,{"$f":"IFERROR(+LJ37/LJ$26,\"\")","v":""},null,null,{"$f":"IFERROR(+LM37/LM$26,\"\")","v":""},null,null,{"$f":"IFERROR(+LP37/LP$26,\"\")","v":""},null,null,{"$f":"IFERROR(+LS37/LS$26,\"\")","v":""},null,null,{"$f":"IFERROR(+LV37/LV$26,\"\")","v":""},null,null,{"$f":"IFERROR(+LY37/LY$26,\"\")","v":""},null,null,{"$f":"IFERROR(+MB37/MB$26,\"\")","v":""},null,null,{"$f":"IFERROR(+ME37/ME$26,\"\")","v":""},null,null,{"$f":"IFERROR(+MH37/MH$26,\"\")","v":""},null,null,{"$f":"IFERROR(+MK37/MK$26,\"\")","v":""},null,null,{"$f":"IFERROR(+MN37/MN$26,\"\")","v":""},null,null,{"$f":"IFERROR(+MQ37/MQ$26,\"\")","v":""},null,null,{"$f":"IFERROR(+MT37/MT$26,\"\")","v":""},null,null,{"$f":"IFERROR(+MW37/MW$26,\"\")","v":""},null,null,{"$f":"IFERROR(+MZ37/MZ$26,\"\")","v":""},null,null,{"$f":"IFERROR(+NC37/NC$26,\"\")","v":""},null,null,{"$f":"IFERROR(+NF37/NF$26,\"\")","v":""},null,null,{"$f":"IFERROR(+NI37/NI$26,\"\")","v":""},null,null,{"$f":"IFERROR(+NL37/NL$26,\"\")","v":""},null,null,{"$f":"IFERROR(+NO37/NO$26,\"\")","v":""},null,null,{"$f":"IFERROR(+NR37/NR$26,\"\")","v":""},null,null,{"$f":"IFERROR(+NU37/NU$26,\"\")","v":""},null,null,{"$f":"IFERROR(+NX37/NX$26,\"\")","v":""},null,null,{"$f":"IFERROR(+OA37/OA$26,\"\")","v":""},null,null,{"$f":"IFERROR(+OD37/OD$26,\"\")","v":""},null,null,{"$f":"IFERROR(+OG37/OG$26,\"\")","v":""},null,null,{"$f":"IFERROR(+OJ37/OJ$26,\"\")","v":""},null,null,{"$f":"IFERROR(+OM37/OM$26,\"\")","v":""},null,null,{"$f":"IFERROR(+OP37/OP$26,\"\")","v":""},null,null,{"$f":"IFERROR(+OS37/OS$26,\"\")","v":""},null,null,{"$f":"IFERROR(+OV37/OV$26,\"\")","v":""},null,null,{"$f":"IFERROR(+OY37/OY$26,\"\")","v":""},null,null,{"$f":"IFERROR(+PB37/PB$26,\"\")","v":""},null,null,{"$f":"IFERROR(+PE37/PE$26,\"\")","v":""},null,null,{"$f":"IFERROR(+PH37/PH$26,\"\")","v":""},null,null,{"$f":"IFERROR(+PK37/PK$26,\"\")","v":""},null,null,{"$f":"IFERROR(+PN37/PN$26,\"\")","v":""},null,null,{"$f":"IFERROR(+PQ37/PQ$26,\"\")","v":""},null,null,{"$f":"IFERROR(+PT37/PT$26,\"\")","v":""},null,null,{"$f":"IFERROR(+PW37/PW$26,\"\")","v":""},null,null,{"$f":"IFERROR(+PZ37/PZ$26,\"\")","v":""},null,null,{"$f":"IFERROR(+QC37/QC$26,\"\")","v":""},null,null,{"$f":"IFERROR(+QF37/QF$26,\"\")","v":""},null,null,{"$f":"IFERROR(+QI37/QI$26,\"\")","v":""},null,null,{"$f":"IFERROR(+QL37/QL$26,\"\")","v":""},null,null,{"$f":"IFERROR(+QO37/QO$26,\"\")","v":""},null,null,{"$f":"IFERROR(+QR37/QR$26,\"\")","v":""},null,null,{"$f":"IFERROR(+QU37/QU$26,\"\")","v":""},null,null,{"$f":"IFERROR(+QX37/QX$26,\"\")","v":""},null,null,{"$f":"IFERROR(+RA37/RA$26,\"\")","v":""},null,null,{"$f":"IFERROR(+RD37/RD$26,\"\")","v":""},null,null,{"$f":"IFERROR(+RG37/RG$26,\"\")","v":""},null,null,{"$f":"IFERROR(+RJ37/RJ$26,\"\")","v":""},null,null,{"$f":"IFERROR(+RM37/RM$26,\"\")","v":""},null,null,{"$f":"IFERROR(+RP37/RP$26,\"\")","v":""},null,null,{"$f":"IFERROR(+RS37/RS$26,\"\")","v":""},null,null,{"$f":"IFERROR(+RV37/RV$26,\"\")","v":""},null,null,{"$f":"IFERROR(+RY37/RY$26,\"\")","v":""},null,null,{"$f":"IFERROR(+SB37/SB$26,\"\")","v":""},null,null,{"$f":"IFERROR(+SE37/SE$26,\"\")","v":""},null,null,{"$f":"IFERROR(+SH37/SH$26,\"\")","v":""},null,null,{"$f":"IFERROR(+SK37/SK$26,\"\")","v":""},null,null,{"$f":"IFERROR(+SN37/SN$26,\"\")","v":""},null,null,{"$f":"IFERROR(+SQ37/SQ$26,\"\")","v":""},null,null,{"$f":"IFERROR(+ST37/ST$26,\"\")","v":""},null,null,{"$f":"IFERROR(+SW37/SW$26,\"\")","v":""},null,null,{"$f":"IFERROR(+SZ37/SZ$26,\"\")","v":""},null,null,{"$f":"IFERROR(+TC37/TC$26,\"\")","v":""},null,null,{"$f":"IFERROR(+TF37/TF$26,\"\")","v":""},null,null,{"$f":"IFERROR(+TI37/TI$26,\"\")","v":""},null,null,{"$f":"IFERROR(+TL37/TL$26,\"\")","v":""},null,null,{"$f":"IFERROR(+TO37/TO$26,\"\")","v":""},null,null,{"$f":"IFERROR(+TR37/TR$26,\"\")","v":""},null,null,{"$f":"IFERROR(+TU37/TU$26,\"\")","v":""},null,null,{"$f":"IFERROR(+TX37/TX$26,\"\")","v":""},null,null,{"$f":"IFERROR(+UA37/UA$26,\"\")","v":""},null,null,{"$f":"IFERROR(+UD37/UD$26,\"\")","v":""},null,null,{"$f":"IFERROR(+UG37/UG$26,\"\")","v":""},null,null,{"$f":"IFERROR(+UJ37/UJ$26,\"\")","v":""},null,null,{"$f":"IFERROR(+UM37/UM$26,\"\")","v":""},null,null,{"$f":"IFERROR(+UP37/UP$26,\"\")","v":""},null,null,{"$f":"IFERROR(+US37/US$26,\"\")","v":""},null,null,{"$f":"IFERROR(+UV37/UV$26,\"\")","v":""},null,null,{"$f":"IFERROR(+UY37/UY$26,\"\")","v":""},null,null,{"$f":"IFERROR(+VB37/VB$26,\"\")","v":""},null,null,{"$f":"IFERROR(+VE37/VE$26,\"\")","v":""},null,null,{"$f":"IFERROR(+VH37/VH$26,\"\")","v":""},null,null,{"$f":"IFERROR(+VK37/VK$26,\"\")","v":""},null,null,{"$f":"IFERROR(+VN37/VN$26,\"\")","v":""},null,null,{"$f":"IFERROR(+VQ37/VQ$26,\"\")","v":""},null,null,{"$f":"IFERROR(+VT37/VT$26,\"\")","v":""},null,null,{"$f":"IFERROR(+VW37/VW$26,\"\")","v":""},null,null,{"$f":"IFERROR(+VZ37/VZ$26,\"\")","v":""},null,null,{"$f":"IFERROR(+WC37/WC$26,\"\")","v":""},null,null,{"$f":"IFERROR(+WF37/WF$26,\"\")","v":""},null,null,{"$f":"IFERROR(+WI37/WI$26,\"\")","v":""},null,null,{"$f":"IFERROR(+WL37/WL$26,\"\")","v":""},null,null,{"$f":"IFERROR(+WO37/WO$26,\"\")","v":""},null,null,{"$f":"IFERROR(+WR37/WR$26,\"\")","v":""},null,null,{"$f":"IFERROR(+WU37/WU$26,\"\")","v":""},null,null,{"$f":"IFERROR(+WX37/WX$26,\"\")","v":""},null,null,{"$f":"IFERROR(+XA37/XA$26,\"\")","v":""},null,null,{"$f":"IFERROR(+XD37/XD$26,\"\")","v":""},null,null,{"$f":"IFERROR(+XG37/XG$26,\"\")","v":""},null,null,{"$f":"IFERROR(+XJ37/XJ$26,\"\")","v":""},null,null,{"$f":"IFERROR(+XM37/XM$26,\"\")","v":""},null,null,{"$f":"IFERROR(+XP37/XP$26,\"\")","v":""},null,null,{"$f":"IFERROR(+XS37/XS$26,\"\")","v":""},null,null,{"$f":"IFERROR(+XV37/XV$26,\"\")","v":""},null,null,{"$f":"IFERROR(+XY37/XY$26,\"\")","v":""},null,null,{"$f":"IFERROR(+YB37/YB$26,\"\")","v":""},null,null,{"$f":"IFERROR(+YE37/YE$26,\"\")","v":""},null,null,{"$f":"IFERROR(+YH37/YH$26,\"\")","v":""},null,null,{"$f":"IFERROR(+YK37/YK$26,\"\")","v":""},null,null,{"$f":"IFERROR(+YN37/YN$26,\"\")","v":""},null,null,{"$f":"IFERROR(+YQ37/YQ$26,\"\")","v":""},null,null,{"$f":"IFERROR(+YT37/YT$26,\"\")","v":""},null,null,{"$f":"IFERROR(+YW37/YW$26,\"\")","v":""},null,null,{"$f":"IFERROR(+YZ37/YZ$26,\"\")","v":""},null,null,{"$f":"IFERROR(+ZC37/ZC$26,\"\")","v":""},null,null,{"$f":"IFERROR(+ZF37/ZF$26,\"\")","v":""},null,null,{"$f":"IFERROR(+ZI37/ZI$26,\"\")","v":""},null,null,{"$f":"IFERROR(+ZL37/ZL$26,\"\")","v":""},null,null,{"$f":"IFERROR(+ZO37/ZO$26,\"\")","v":""},null,null,{"$f":"IFERROR(+ZR37/ZR$26,\"\")","v":""},null,null,{"$f":"IFERROR(+ZU37/ZU$26,\"\")","v":""},null,null,{"$f":"IFERROR(+ZX37/ZX$26,\"\")","v":""},null,null,{"$f":"IFERROR(+AAA37/AAA$26,\"\")","v":""},null,null,{"$f":"IFERROR(+AAD37/AAD$26,\"\")","v":""},null,null,{"$f":"IFERROR(+AAG37/AAG$26,\"\")","v":""},null,null,{"$f":"IFERROR(+AAJ37/AAJ$26,\"\")","v":""},null,null,{"$f":"IFERROR(+AAM37/AAM$26,\"\")","v":""},null,null,{"$f":"IFERROR(+AAP37/AAP$26,\"\")","v":""},null,null,{"$f":"IFERROR(+AAS37/AAS$26,\"\")","v":""},null,null,{"$f":"IFERROR(+AAV37/AAV$26,\"\")","v":""},null,null,{"$f":"IFERROR(+AAY37/AAY$26,\"\")","v":""},null,null,{"$f":"IFERROR(+ABB37/ABB$26,\"\")","v":""},null,null,{"$f":"IFERROR(+ABE37/ABE$26,\"\")","v":""},null,null,{"$f":"IFERROR(+ABH37/ABH$26,\"\")","v":""},null,null,{"$f":"IFERROR(+ABK37/ABK$26,\"\")","v":""},null,null,{"$f":"IFERROR(+ABN37/ABN$26,\"\")","v":""},null,null,{"$f":"IFERROR(+ABQ37/ABQ$26,\"\")","v":""},null,null,{"$f":"IFERROR(+ABT37/ABT$26,\"\")","v":""},null,null,{"$f":"IFERROR(+ABW37/ABW$26,\"\")","v":""},null,null,{"$f":"IFERROR(+ABZ37/ABZ$26,\"\")","v":""},null,null,{"$f":"IFERROR(+ACC37/ACC$26,\"\")","v":""},null,null,{"$f":"IFERROR(+ACF37/ACF$26,\"\")","v":""},null,null,{"$f":"IFERROR(+ACI37/ACI$26,\"\")","v":""},null,null,{"$f":"IFERROR(+ACL37/ACL$26,\"\")","v":""},null,null,{"$f":"IFERROR(+ACO37/ACO$26,\"\")","v":""},null,null,{"$f":"IFERROR(+ACR37/ACR$26,\"\")","v":""},null,null,{"$f":"IFERROR(+ACU37/ACU$26,\"\")","v":""},null,null,{"$f":"IFERROR(+ACX37/ACX$26,\"\")","v":""},null,null,{"$f":"IFERROR(+ADA37/ADA$26,\"\")","v":""},null,null,{"$f":"IFERROR(+ADD37/ADD$26,\"\")","v":""},null,null,{"$f":"IFERROR(+ADG37/ADG$26,\"\")","v":""},null,null,{"$f":"IFERROR(+ADJ37/ADJ$26,\"\")","v":""},null,null,{"$f":"IFERROR(+ADM37/ADM$26,\"\")","v":""},null,null,{"$f":"IFERROR(+ADP37/ADP$26,\"\")","v":""},null,null,{"$f":"IFERROR(+ADS37/ADS$26,\"\")","v":""},null,null,{"$f":"IFERROR(+ADV37/ADV$26,\"\")","v":""},null,null,{"$f":"IFERROR(+ADY37/ADY$26,\"\")","v":""},null,null,{"$f":"IFERROR(+AEB37/AEB$26,\"\")","v":""},null,null,{"$f":"IFERROR(+AEE37/AEE$26,\"\")","v":""},null,null,{"$f":"IFERROR(+AEH37/AEH$26,\"\")","v":""},null,null,{"$f":"IFERROR(+AEK37/AEK$26,\"\")","v":""},null,null,{"$f":"IFERROR(+AEN37/AEN$26,\"\")","v":""},null,null,{"$f":"IFERROR(+AEQ37/AEQ$26,\"\")","v":""},null,null,{"$f":"IFERROR(+AET37/AET$26,\"\")","v":""},null,null,{"$f":"IFERROR(+AEW37/AEW$26,\"\")","v":""},null,null,{"$f":"IFERROR(+AEZ37/AEZ$26,\"\")","v":""},null,null,{"$f":"IFERROR(+AFC37/AFC$26,\"\")","v":""},null,null,{"$f":"IFERROR(+AFF37/AFF$26,\"\")","v":""},null,null,{"$f":"IFERROR(+AFI37/AFI$26,\"\")","v":""},null,null,{"$f":"IFERROR(+AFL37/AFL$26,\"\")","v":""},null,null,{"$f":"IFERROR(+AFO37/AFO$26,\"\")","v":""},null,null,{"$f":"IFERROR(+AFR37/AFR$26,\"\")","v":""},null,null,{"$f":"IFERROR(+AFU37/AFU$26,\"\")","v":""},null,null,{"$f":"IFERROR(+AFX37/AFX$26,\"\")","v":""},null,null,{"$f":"IFERROR(+AGA37/AGA$26,\"\")","v":""},null,null,{"$f":"IFERROR(+AGD37/AGD$26,\"\")","v":""},null,null,{"$f":"IFERROR(+AGG37/AGG$26,\"\")","v":""},null,null,{"$f":"IFERROR(+AGJ37/AGJ$26,\"\")","v":""},null,null,{"$f":"IFERROR(+AGM37/AGM$26,\"\")","v":""},null,null,{"$f":"IFERROR(+AGP37/AGP$26,\"\")","v":""},null,null,{"$f":"IFERROR(+AGS37/AGS$26,\"\")","v":""},null,null,{"$f":"IFERROR(+AGV37/AGV$26,\"\")","v":""},null,null,{"$f":"IFERROR(+AGY37/AGY$26,\"\")","v":""},null,null,{"$f":"IFERROR(+AHB37/AHB$26,\"\")","v":""},null,null,{"$f":"IFERROR(+AHE37/AHE$26,\"\")","v":""},null,null,{"$f":"IFERROR(+AHH37/AHH$26,\"\")","v":""},null,null,{"$f":"IFERROR(+AHK37/AHK$26,\"\")","v":""},null,null,{"$f":"IFERROR(+AHN37/AHN$26,\"\")","v":""},null,null,{"$f":"IFERROR(+AHQ37/AHQ$26,\"\")","v":""},null,null,{"$f":"IFERROR(+AHT37/AHT$26,\"\")","v":""}]
["Category 2","Capital goods",null,{"$f":"+Aux_grafico!C9","v":0},{"$f":"+IFERROR(D38/$D$26,0)","v":0},null,null,"",null,null,"",null,null,"",null,null,"",null,null,"",null,null,"",null,null,"",null,null,"",null,null,"",null,null,"",null,null,"",null,null,"",null,null,"",null,null,"",null,null,"",null,null,"",null,null,"",null,null,"",null,null,"",null,null,"",null,null,"",null,null,"",null,null,"",null,null,"",null,null,"",null,null,"",null,null,"",null,null,"",null,null,"",null,null,"",null,null,"",null,null,"",null,null,"",null,null,"",null,null,"",null,null,"",null,null,"",null,null,"",null,null,"",null,null,"",null,null,"",null,null,"",null,null,"",null,null,"",null,null,"",null,null,"",null,null,"",null,null,"",null,null,"",null,null,"",null,null,"",null,null,"",null,null,"",null,null,"",null,null,"",null,null,"",null,null,"",null,null,"",null,null,"",null,null,"",null,null,"",null,null,"",null,null,"",null,null,"",null,null,"",null,null,"",null,null,"",null,null,"",null,null,"",null,null,"",null,null,"",null,null,"",null,null,"",null,null,"",null,null,"",null,null,"",null,null,"",null,null,"",null,null,"",null,null,"",null,null,"",null,null,"",null,null,"",null,null,"",null,null,"",null,null,"",null,null,"",null,null,"",null,null,"",null,null,"",null,null,"",null,null,"",null,null,"",null,null,"",null,null,"",null,null,"",null,null,"",null,null,"",null,null,"",null,null,"",null,null,"",null,null,"",null,null,"",null,null,"",null,null,"",null,null,"",null,null,"",null,null,"",null,null,"",null,null,"",null,null,"",null,null,"",null,null,"",null,null,"",null,null,"",null,null,"",null,null,"",null,null,"",null,null,"",null,null,"",null,null,"",null,null,"",null,null,"",null,null,"",null,null,"",null,null,"",null,null,"",null,null,"",null,null,"",null,null,"",null,null,"",null,null,"",null,null,"",null,null,"",null,null,"",null,null,"",null,null,"",null,null,"",null,null,"",null,null,"",null,null,"",null,null,"",null,null,"",null,null,"",null,null,"",null,null,"",null,null,"",null,null,"",null,null,"",null,null,"",null,null,"",null,null,"",null,null,"",null,null,"",null,null,"",null,null,"",null,null,"",null,null,"",null,null,"",null,null,"",null,null,"",null,null,"",null,null,"",null,null,"",null,null,"",null,null,"",null,null,"",null,null,"",null,null,"",null,null,"",null,null,"",null,null,"",null,null,"",null,null,"",null,null,"",null,null,"",null,null,"",null,null,"",null,null,"",null,null,"",null,null,"",null,null,"",null,null,"",null,null,"",null,null,"",null,null,"",null,null,"",null,null,"",null,null,"",null,null,"",null,null,"",null,null,"",null,null,"",null,null,"",null,null,"",null,null,"",null,null,"",null,null,"",null,null,"",null,null,"",null,null,"",null,null,"",null,null,"",null,null,"",null,null,"",null,null,"",null,null,"",null,null,"",null,null,"",null,null,"",null,null,"",null,null,"",null,null,"",null,null,"",null,null,"",null,null,"",null,null,"",null,null,"",null,null,"",null,null,"",null,null,"",null,null,"",null,null,"",null,null,"",null,null,"",null,null,"",null,null,"",null,null,"",null,null,"",null,null,"",null,null,"",null,null,"",null,null,"",null,null,"",null,null,"",null,null,"",null,null,"",null,null,"",null,null,"",null,null,"",null,null,"",null,null,"",null,null,"",null,null,"",null,null,"",null,null,"",null,null,"",null,null,"",null,null,"",null,null,"",null,null,"",null,null,"",null,null,"",null,null,"",null,null,"",null,null,"",null,null,"",null,null,"",null,null,"",null,null,"",null,null,"",null,null,"",null,null,"",null,null,"",null,null,"",null,null,"",null,null,"",null,null,"",null,null,"",null,null,"",null,null,"",null,null,"",null,null,"",null,null,"",null,null,"",null,null,"",null,null,"",null,null,"",null,null,"",null,null,"",null,null,"",null,null,"",null,null,"",null,null,"",null,null,"",null,null,"",null,null,"",null,null,"",null,null,"",null,null,"",null,null,"",null,null,"",null,null,"",null,null,"",null,null,"",null,null,"",null,null,"",null,null,"",null,null,"",null,null,""]
["Category 3","Fuel- & energy-related emissions",null,{"$f":"+Aux_grafico!C10","v":0},0,null,null,"",null,null,"",null,null,"",null,null,"",null,null,"",null,null,"",null,null,"",null,null,"",null,null,"",null,null,"",null,null,"",null,null,"",null,null,"",null,null,"",null,null,"",null,null,"",null,null,"",null,null,"",null,null,"",null,null,"",null,null,"",null,null,"",null,null,"",null,null,"",null,null,"",null,null,"",null,null,"",null,null,"",null,null,"",null,null,"",null,null,"",null,null,"",null,null,"",null,null,"",null,null,"",null,null,"",null,null,"",null,null,"",null,null,"",null,null,"",null,null,"",null,null,"",null,null,"",null,null,"",null,null,"",null,null,"",null,null,"",null,null,"",null,null,"",null,null,"",null,null,"",null,null,"",null,null,"",null,null,"",null,null,"",null,null,"",null,null,"",null,null,"",null,null,"",null,null,"",null,null,"",null,null,"",null,null,"",null,null,"",null,null,"",null,null,"",null,null,"",null,null,"",null,null,"",null,null,"",null,null,"",null,null,"",null,null,"",null,null,"",null,null,"",null,null,"",null,null,"",null,null,"",null,null,"",null,null,"",null,null,"",null,null,"",null,null,"",null,null,"",null,null,"",null,null,"",null,null,"",null,null,"",null,null,"",null,null,"",null,null,"",null,null,"",null,null,"",null,null,"",null,null,"",null,null,"",null,null,"",null,null,"",null,null,"",null,null,"",null,null,"",null,null,"",null,null,"",null,null,"",null,null,"",null,null,"",null,null,"",null,null,"",null,null,"",null,null,"",null,null,"",null,null,"",null,null,"",null,null,"",null,null,"",null,null,"",null,null,"",null,null,"",null,null,"",null,null,"",null,null,"",null,null,"",null,null,"",null,null,"",null,null,"",null,null,"",null,null,"",null,null,"",null,null,"",null,null,"",null,null,"",null,null,"",null,null,"",null,null,"",null,null,"",null,null,"",null,null,"",null,null,"",null,null,"",null,null,"",null,null,"",null,null,"",null,null,"",null,null,"",null,null,"",null,null,"",null,null,"",null,null,"",null,null,"",null,null,"",null,null,"",null,null,"",null,null,"",null,null,"",null,null,"",null,null,"",null,null,"",null,null,"",null,null,"",null,null,"",null,null,"",null,null,"",null,null,"",null,null,"",null,null,"",null,null,"",null,null,"",null,null,"",null,null,"",null,null,"",null,null,"",null,null,"",null,null,"",null,null,"",null,null,"",null,null,"",null,null,"",null,null,"",null,null,"",null,null,"",null,null,"",null,null,"",null,null,"",null,null,"",null,null,"",null,null,"",null,null,"",null,null,"",null,null,"",null,null,"",null,null,"",null,null,"",null,null,"",null,null,"",null,null,"",null,null,"",null,null,"",null,null,"",null,null,"",null,null,"",null,null,"",null,null,"",null,null,"",null,null,"",null,null,"",null,null,"",null,null,"",null,null,"",null,null,"",null,null,"",null,null,"",null,null,"",null,null,"",null,null,"",null,null,"",null,null,"",null,null,"",null,null,"",null,null,"",null,null,"",null,null,"",null,null,"",null,null,"",null,null,"",null,null,"",null,null,"",null,null,"",null,null,"",null,null,"",null,null,"",null,null,"",null,null,"",null,null,"",null,null,"",null,null,"",null,null,"",null,null,"",null,null,"",null,null,"",null,null,"",null,null,"",null,null,"",null,null,"",null,null,"",null,null,"",null,null,"",null,null,"",null,null,"",null,null,"",null,null,"",null,null,"",null,null,"",null,null,"",null,null,"",null,null,"",null,null,"",null,null,"",null,null,"",null,null,"",null,null,"",null,null,"",null,null,"",null,null,"",null,null,"",null,null,"",null,null,"",null,null,"",null,null,"",null,null,"",null,null,"",null,null,"",null,null,"",null,null,"",null,null,"",null,null,"",null,null,"",null,null,"",null,null,"",null,null,"",null,null,"",null,null,"",null,null,"",null,null,"",null,null,"",null,null,"",null,null,"",null,null,"",null,null,"",null,null,"",null,null,"",null,null,"",null,null,"",null,null,"",null,null,"",null,null,"",null,null,"",null,null,"",null,null,"",null,null,"",null,null,""]
["Category 4","Upstream transportation & distribution",null,{"$f":"+Aux_grafico!C11","v":0},0,null,null,"",null,null,"",null,null,"",null,null,"",null,null,"",null,null,"",null,null,"",null,null,"",null,null,"",null,null,"",null,null,"",null,null,"",null,null,"",null,null,"",null,null,"",null,null,"",null,null,"",null,null,"",null,null,"",null,null,"",null,null,"",null,null,"",null,null,"",null,null,"",null,null,"",null,null,"",null,null,"",null,null,"",null,null,"",null,null,"",null,null,"",null,null,"",null,null,"",null,null,"",null,null,"",null,null,"",null,null,"",null,null,"",null,null,"",null,null,"",null,null,"",null,null,"",null,null,"",null,null,"",null,null,"",null,null,"",null,null,"",null,null,"",null,null,"",null,null,"",null,null,"",null,null,"",null,null,"",null,null,"",null,null,"",null,null,"",null,null,"",null,null,"",null,null,"",null,null,"",null,null,"",null,null,"",null,null,"",null,null,"",null,null,"",null,null,"",null,null,"",null,null,"",null,null,"",null,null,"",null,null,"",null,null,"",null,null,"",null,null,"",null,null,"",null,null,"",null,null,"",null,null,"",null,null,"",null,null,"",null,null,"",null,null,"",null,null,"",null,null,"",null,null,"",null,null,"",null,null,"",null,null,"",null,null,"",null,null,"",null,null,"",null,null,"",null,null,"",null,null,"",null,null,"",null,null,"",null,null,"",null,null,"",null,null,"",null,null,"",null,null,"",null,null,"",null,null,"",null,null,"",null,null,"",null,null,"",null,null,"",null,null,"",null,null,"",null,null,"",null,null,"",null,null,"",null,null,"",null,null,"",null,null,"",null,null,"",null,null,"",null,null,"",null,null,"",null,null,"",null,null,"",null,null,"",null,null,"",null,null,"",null,null,"",null,null,"",null,null,"",null,null,"",null,null,"",null,null,"",null,null,"",null,null,"",null,null,"",null,null,"",null,null,"",null,null,"",null,null,"",null,null,"",null,null,"",null,null,"",null,null,"",null,null,"",null,null,"",null,null,"",null,null,"",null,null,"",null,null,"",null,null,"",null,null,"",null,null,"",null,null,"",null,null,"",null,null,"",null,null,"",null,null,"",null,null,"",null,null,"",null,null,"",null,null,"",null,null,"",null,null,"",null,null,"",null,null,"",null,null,"",null,null,"",null,null,"",null,null,"",null,null,"",null,null,"",null,null,"",null,null,"",null,null,"",null,null,"",null,null,"",null,null,"",null,null,"",null,null,"",null,null,"",null,null,"",null,null,"",null,null,"",null,null,"",null,null,"",null,null,"",null,null,"",null,null,"",null,null,"",null,null,"",null,null,"",null,null,"",null,null,"",null,null,"",null,null,"",null,null,"",null,null,"",null,null,"",null,null,"",null,null,"",null,null,"",null,null,"",null,null,"",null,null,"",null,null,"",null,null,"",null,null,"",null,null,"",null,null,"",null,null,"",null,null,"",null,null,"",null,null,"",null,null,"",null,null,"",null,null,"",null,null,"",null,null,"",null,null,"",null,null,"",null,null,"",null,null,"",null,null,"",null,null,"",null,null,"",null,null,"",null,null,"",null,null,"",null,null,"",null,null,"",null,null,"",null,null,"",null,null,"",null,null,"",null,null,"",null,null,"",null,null,"",null,null,"",null,null,"",null,null,"",null,null,"",null,null,"",null,null,"",null,null,"",null,null,"",null,null,"",null,null,"",null,null,"",null,null,"",null,null,"",null,null,"",null,null,"",null,null,"",null,null,"",null,null,"",null,null,"",null,null,"",null,null,"",null,null,"",null,null,"",null,null,"",null,null,"",null,null,"",null,null,"",null,null,"",null,null,"",null,null,"",null,null,"",null,null,"",null,null,"",null,null,"",null,null,"",null,null,"",null,null,"",null,null,"",null,null,"",null,null,"",null,null,"",null,null,"",null,null,"",null,null,"",null,null,"",null,null,"",null,null,"",null,null,"",null,null,"",null,null,"",null,null,"",null,null,"",null,null,"",null,null,"",null,null,"",null,null,"",null,null,"",null,null,"",null,null,"",null,null,"",null,null,"",null,null,"",null,null,"",null,null,"",null,null,""]
["Category 5","Waste generated in operations",null,{"$f":"+Aux_grafico!C12","v":0},0,null,null,"",null,null,"",null,null,"",null,null,"",null,null,"",null,null,"",null,null,"",null,null,"",null,null,"",null,null,"",null,null,"",null,null,"",null,null,"",null,null,"",null,null,"",null,null,"",null,null,"",null,null,"",null,null,"",null,null,"",null,null,"",null,null,"",null,null,"",null,null,"",null,null,"",null,null,"",null,null,"",null,null,"",null,null,"",null,null,"",null,null,"",null,null,"",null,null,"",null,null,"",null,null,"",null,null,"",null,null,"",null,null,"",null,null,"",null,null,"",null,null,"",null,null,"",null,null,"",null,null,"",null,null,"",null,null,"",null,null,"",null,null,"",null,null,"",null,null,"",null,null,"",null,null,"",null,null,"",null,null,"",null,null,"",null,null,"",null,null,"",null,null,"",null,null,"",null,null,"",null,null,"",null,null,"",null,null,"",null,null,"",null,null,"",null,null,"",null,null,"",null,null,"",null,null,"",null,null,"",null,null,"",null,null,"",null,null,"",null,null,"",null,null,"",null,null,"",null,null,"",null,null,"",null,null,"",null,null,"",null,null,"",null,null,"",null,null,"",null,null,"",null,null,"",null,null,"",null,null,"",null,null,"",null,null,"",null,null,"",null,null,"",null,null,"",null,null,"",null,null,"",null,null,"",null,null,"",null,null,"",null,null,"",null,null,"",null,null,"",null,null,"",null,null,"",null,null,"",null,null,"",null,null,"",null,null,"",null,null,"",null,null,"",null,null,"",null,null,"",null,null,"",null,null,"",null,null,"",null,null,"",null,null,"",null,null,"",null,null,"",null,null,"",null,null,"",null,null,"",null,null,"",null,null,"",null,null,"",null,null,"",null,null,"",null,null,"",null,null,"",null,null,"",null,null,"",null,null,"",null,null,"",null,null,"",null,null,"",null,null,"",null,null,"",null,null,"",null,null,"",null,null,"",null,null,"",null,null,"",null,null,"",null,null,"",null,null,"",null,null,"",null,null,"",null,null,"",null,null,"",null,null,"",null,null,"",null,null,"",null,null,"",null,null,"",null,null,"",null,null,"",null,null,"",null,null,"",null,null,"",null,null,"",null,null,"",null,null,"",null,null,"",null,null,"",null,null,"",null,null,"",null,null,"",null,null,"",null,null,"",null,null,"",null,null,"",null,null,"",null,null,"",null,null,"",null,null,"",null,null,"",null,null,"",null,null,"",null,null,"",null,null,"",null,null,"",null,null,"",null,null,"",null,null,"",null,null,"",null,null,"",null,null,"",null,null,"",null,null,"",null,null,"",null,null,"",null,null,"",null,null,"",null,null,"",null,null,"",null,null,"",null,null,"",null,null,"",null,null,"",null,null,"",null,null,"",null,null,"",null,null,"",null,null,"",null,null,"",null,null,"",null,null,"",null,null,"",null,null,"",null,null,"",null,null,"",null,null,"",null,null,"",null,null,"",null,null,"",null,null,"",null,null,"",null,null,"",null,null,"",null,null,"",null,null,"",null,null,"",null,null,"",null,null,"",null,null,"",null,null,"",null,null,"",null,null,"",null,null,"",null,null,"",null,null,"",null,null,"",null,null,"",null,null,"",null,null,"",null,null,"",null,null,"",null,null,"",null,null,"",null,null,"",null,null,"",null,null,"",null,null,"",null,null,"",null,null,"",null,null,"",null,null,"",null,null,"",null,null,"",null,null,"",null,null,"",null,null,"",null,null,"",null,null,"",null,null,"",null,null,"",null,null,"",null,null,"",null,null,"",null,null,"",null,null,"",null,null,"",null,null,"",null,null,"",null,null,"",null,null,"",null,null,"",null,null,"",null,null,"",null,null,"",null,null,"",null,null,"",null,null,"",null,null,"",null,null,"",null,null,"",null,null,"",null,null,"",null,null,"",null,null,"",null,null,"",null,null,"",null,null,"",null,null,"",null,null,"",null,null,"",null,null,"",null,null,"",null,null,"",null,null,"",null,null,"",null,null,"",null,null,"",null,null,"",null,null,"",null,null,"",null,null,"",null,null,"",null,null,"",null,null,"",null,null,"",null,null,""]
["Category 6","Business travel",null,{"$f":"+Aux_grafico!C13","v":0},0,null,null,"",null,null,"",null,null,"",null,null,"",null,null,"",null,null,"",null,null,"",null,null,"",null,null,"",null,null,"",null,null,"",null,null,"",null,null,"",null,null,"",null,null,"",null,null,"",null,null,"",null,null,"",null,null,"",null,null,"",null,null,"",null,null,"",null,null,"",null,null,"",null,null,"",null,null,"",null,null,"",null,null,"",null,null,"",null,null,"",null,null,"",null,null,"",null,null,"",null,null,"",null,null,"",null,null,"",null,null,"",null,null,"",null,null,"",null,null,"",null,null,"",null,null,"",null,null,"",null,null,"",null,null,"",null,null,"",null,null,"",null,null,"",null,null,"",null,null,"",null,null,"",null,null,"",null,null,"",null,null,"",null,null,"",null,null,"",null,null,"",null,null,"",null,null,"",null,null,"",null,null,"",null,null,"",null,null,"",null,null,"",null,null,"",null,null,"",null,null,"",null,null,"",null,null,"",null,null,"",null,null,"",null,null,"",null,null,"",null,null,"",null,null,"",null,null,"",null,null,"",null,null,"",null,null,"",null,null,"",null,null,"",null,null,"",null,null,"",null,null,"",null,null,"",null,null,"",null,null,"",null,null,"",null,null,"",null,null,"",null,null,"",null,null,"",null,null,"",null,null,"",null,null,"",null,null,"",null,null,"",null,null,"",null,null,"",null,null,"",null,null,"",null,null,"",null,null,"",null,null,"",null,null,"",null,null,"",null,null,"",null,null,"",null,null,"",null,null,"",null,null,"",null,null,"",null,null,"",null,null,"",null,null,"",null,null,"",null,null,"",null,null,"",null,null,"",null,null,"",null,null,"",null,null,"",null,null,"",null,null,"",null,null,"",null,null,"",null,null,"",null,null,"",null,null,"",null,null,"",null,null,"",null,null,"",null,null,"",null,null,"",null,null,"",null,null,"",null,null,"",null,null,"",null,null,"",null,null,"",null,null,"",null,null,"",null,null,"",null,null,"",null,null,"",null,null,"",null,null,"",null,null,"",null,null,"",null,null,"",null,null,"",null,null,"",null,null,"",null,null,"",null,null,"",null,null,"",null,null,"",null,null,"",null,null,"",null,null,"",null,null,"",null,null,"",null,null,"",null,null,"",null,null,"",null,null,"",null,null,"",null,null,"",null,null,"",null,null,"",null,null,"",null,null,"",null,null,"",null,null,"",null,null,"",null,null,"",null,null,"",null,null,"",null,null,"",null,null,"",null,null,"",null,null,"",null,null,"",null,null,"",null,null,"",null,null,"",null,null,"",null,null,"",null,null,"",null,null,"",null,null,"",null,null,"",null,null,"",null,null,"",null,null,"",null,null,"",null,null,"",null,null,"",null,null,"",null,null,"",null,null,"",null,null,"",null,null,"",null,null,"",null,null,"",null,null,"",null,null,"",null,null,"",null,null,"",null,null,"",null,null,"",null,null,"",null,null,"",null,null,"",null,null,"",null,null,"",null,null,"",null,null,"",null,null,"",null,null,"",null,null,"",null,null,"",null,null,"",null,null,"",null,null,"",null,null,"",null,null,"",null,null,"",null,null,"",null,null,"",null,null,"",null,null,"",null,null,"",null,null,"",null,null,"",null,null,"",null,null,"",null,null,"",null,null,"",null,null,"",null,null,"",null,null,"",null,null,"",null,null,"",null,null,"",null,null,"",null,null,"",null,null,"",null,null,"",null,null,"",null,null,"",null,null,"",null,null,"",null,null,"",null,null,"",null,null,"",null,null,"",null,null,"",null,null,"",null,null,"",null,null,"",null,null,"",null,null,"",null,null,"",null,null,"",null,null,"",null,null,"",null,null,"",null,null,"",null,null,"",null,null,"",null,null,"",null,null,"",null,null,"",null,null,"",null,null,"",null,null,"",null,null,"",null,null,"",null,null,"",null,null,"",null,null,"",null,null,"",null,null,"",null,null,"",null,null,"",null,null,"",null,null,"",null,null,"",null,null,"",null,null,"",null,null,"",null,null,"",null,null,"",null,null,"",null,null,"",null,null,"",null,null,"",null,null,"",null,null,""]
["Category 7","Employee commuting",null,{"$f":"+Aux_grafico!C14","v":0},0,null,null,"",null,null,"",null,null,"",null,null,"",null,null,"",null,null,"",null,null,"",null,null,"",null,null,"",null,null,"",null,null,"",null,null,"",null,null,"",null,null,"",null,null,"",null,null,"",null,null,"",null,null,"",null,null,"",null,null,"",null,null,"",null,null,"",null,null,"",null,null,"",null,null,"",null,null,"",null,null,"",null,null,"",null,null,"",null,null,"",null,null,"",null,null,"",null,null,"",null,null,"",null,null,"",null,null,"",null,null,"",null,null,"",null,null,"",null,null,"",null,null,"",null,null,"",null,null,"",null,null,"",null,null,"",null,null,"",null,null,"",null,null,"",null,null,"",null,null,"",null,null,"",null,null,"",null,null,"",null,null,"",null,null,"",null,null,"",null,null,"",null,null,"",null,null,"",null,null,"",null,null,"",null,null,"",null,null,"",null,null,"",null,null,"",null,null,"",null,null,"",null,null,"",null,null,"",null,null,"",null,null,"",null,null,"",null,null,"",null,null,"",null,null,"",null,null,"",null,null,"",null,null,"",null,null,"",null,null,"",null,null,"",null,null,"",null,null,"",null,null,"",null,null,"",null,null,"",null,null,"",null,null,"",null,null,"",null,null,"",null,null,"",null,null,"",null,null,"",null,null,"",null,null,"",null,null,"",null,null,"",null,null,"",null,null,"",null,null,"",null,null,"",null,null,"",null,null,"",null,null,"",null,null,"",null,null,"",null,null,"",null,null,"",null,null,"",null,null,"",null,null,"",null,null,"",null,null,"",null,null,"",null,null,"",null,null,"",null,null,"",null,null,"",null,null,"",null,null,"",null,null,"",null,null,"",null,null,"",null,null,"",null,null,"",null,null,"",null,null,"",null,null,"",null,null,"",null,null,"",null,null,"",null,null,"",null,null,"",null,null,"",null,null,"",null,null,"",null,null,"",null,null,"",null,null,"",null,null,"",null,null,"",null,null,"",null,null,"",null,null,"",null,null,"",null,null,"",null,null,"",null,null,"",null,null,"",null,null,"",null,null,"",null,null,"",null,null,"",null,null,"",null,null,"",null,null,"",null,null,"",null,null,"",null,null,"",null,null,"",null,null,"",null,null,"",null,null,"",null,null,"",null,null,"",null,null,"",null,null,"",null,null,"",null,null,"",null,null,"",null,null,"",null,null,"",null,null,"",null,null,"",null,null,"",null,null,"",null,null,"",null,null,"",null,null,"",null,null,"",null,null,"",null,null,"",null,null,"",null,null,"",null,null,"",null,null,"",null,null,"",null,null,"",null,null,"",null,null,"",null,null,"",null,null,"",null,null,"",null,null,"",null,null,"",null,null,"",null,null,"",null,null,"",null,null,"",null,null,"",null,null,"",null,null,"",null,null,"",null,null,"",null,null,"",null,null,"",null,null,"",null,null,"",null,null,"",null,null,"",null,null,"",null,null,"",null,null,"",null,null,"",null,null,"",null,null,"",null,null,"",null,null,"",null,null,"",null,null,"",null,null,"",null,null,"",null,null,"",null,null,"",null,null,"",null,null,"",null,null,"",null,null,"",null,null,"",null,null,"",null,null,"",null,null,"",null,null,"",null,null,"",null,null,"",null,null,"",null,null,"",null,null,"",null,null,"",null,null,"",null,null,"",null,null,"",null,null,"",null,null,"",null,null,"",null,null,"",null,null,"",null,null,"",null,null,"",null,null,"",null,null,"",null,null,"",null,null,"",null,null,"",null,null,"",null,null,"",null,null,"",null,null,"",null,null,"",null,null,"",null,null,"",null,null,"",null,null,"",null,null,"",null,null,"",null,null,"",null,null,"",null,null,"",null,null,"",null,null,"",null,null,"",null,null,"",null,null,"",null,null,"",null,null,"",null,null,"",null,null,"",null,null,"",null,null,"",null,null,"",null,null,"",null,null,"",null,null,"",null,null,"",null,null,"",null,null,"",null,null,"",null,null,"",null,null,"",null,null,"",null,null,"",null,null,"",null,null,"",null,null,"",null,null,"",null,null,"",null,null,"",null,null,"",null,null,"",null,null,""]
["Category 8","Upstream leased assets",null,{"$f":"+Aux_grafico!C15","v":0},0,null,null,"",null,null,"",null,null,"",null,null,"",null,null,"",null,null,"",null,null,"",null,null,"",null,null,"",null,null,"",null,null,"",null,null,"",null,null,"",null,null,"",null,null,"",null,null,"",null,null,"",null,null,"",null,null,"",null,null,"",null,null,"",null,null,"",null,null,"",null,null,"",null,null,"",null,null,"",null,null,"",null,null,"",null,null,"",null,null,"",null,null,"",null,null,"",null,null,"",null,null,"",null,null,"",null,null,"",null,null,"",null,null,"",null,null,"",null,null,"",null,null,"",null,null,"",null,null,"",null,null,"",null,null,"",null,null,"",null,null,"",null,null,"",null,null,"",null,null,"",null,null,"",null,null,"",null,null,"",null,null,"",null,null,"",null,null,"",null,null,"",null,null,"",null,null,"",null,null,"",null,null,"",null,null,"",null,null,"",null,null,"",null,null,"",null,null,"",null,null,"",null,null,"",null,null,"",null,null,"",null,null,"",null,null,"",null,null,"",null,null,"",null,null,"",null,null,"",null,null,"",null,null,"",null,null,"",null,null,"",null,null,"",null,null,"",null,null,"",null,null,"",null,null,"",null,null,"",null,null,"",null,null,"",null,null,"",null,null,"",null,null,"",null,null,"",null,null,"",null,null,"",null,null,"",null,null,"",null,null,"",null,null,"",null,null,"",null,null,"",null,null,"",null,null,"",null,null,"",null,null,"",null,null,"",null,null,"",null,null,"",null,null,"",null,null,"",null,null,"",null,null,"",null,null,"",null,null,"",null,null,"",null,null,"",null,null,"",null,null,"",null,null,"",null,null,"",null,null,"",null,null,"",null,null,"",null,null,"",null,null,"",null,null,"",null,null,"",null,null,"",null,null,"",null,null,"",null,null,"",null,null,"",null,null,"",null,null,"",null,null,"",null,null,"",null,null,"",null,null,"",null,null,"",null,null,"",null,null,"",null,null,"",null,null,"",null,null,"",null,null,"",null,null,"",null,null,"",null,null,"",null,null,"",null,null,"",null,null,"",null,null,"",null,null,"",null,null,"",null,null,"",null,null,"",null,null,"",null,null,"",null,null,"",null,null,"",null,null,"",null,null,"",null,null,"",null,null,"",null,null,"",null,null,"",null,null,"",null,null,"",null,null,"",null,null,"",null,null,"",null,null,"",null,null,"",null,null,"",null,null,"",null,null,"",null,null,"",null,null,"",null,null,"",null,null,"",null,null,"",null,null,"",null,null,"",null,null,"",null,null,"",null,null,"",null,null,"",null,null,"",null,null,"",null,null,"",null,null,"",null,null,"",null,null,"",null,null,"",null,null,"",null,null,"",null,null,"",null,null,"",null,null,"",null,null,"",null,null,"",null,null,"",null,null,"",null,null,"",null,null,"",null,null,"",null,null,"",null,null,"",null,null,"",null,null,"",null,null,"",null,null,"",null,null,"",null,null,"",null,null,"",null,null,"",null,null,"",null,null,"",null,null,"",null,null,"",null,null,"",null,null,"",null,null,"",null,null,"",null,null,"",null,null,"",null,null,"",null,null,"",null,null,"",null,null,"",null,null,"",null,null,"",null,null,"",null,null,"",null,null,"",null,null,"",null,null,"",null,null,"",null,null,"",null,null,"",null,null,"",null,null,"",null,null,"",null,null,"",null,null,"",null,null,"",null,null,"",null,null,"",null,null,"",null,null,"",null,null,"",null,null,"",null,null,"",null,null,"",null,null,"",null,null,"",null,null,"",null,null,"",null,null,"",null,null,"",null,null,"",null,null,"",null,null,"",null,null,"",null,null,"",null,null,"",null,null,"",null,null,"",null,null,"",null,null,"",null,null,"",null,null,"",null,null,"",null,null,"",null,null,"",null,null,"",null,null,"",null,null,"",null,null,"",null,null,"",null,null,"",null,null,"",null,null,"",null,null,"",null,null,"",null,null,"",null,null,"",null,null,"",null,null,"",null,null,"",null,null,"",null,null,"",null,null,"",null,null,"",null,null,"",null,null,"",null,null,"",null,null,"",null,null,"",null,null,"",null,null,""]
["Category 9","Downstream transportation & distribution",null,{"$f":"+Aux_grafico!C16","v":0},0,null,null,"",null,null,"",null,null,"",null,null,"",null,null,"",null,null,"",null,null,"",null,null,"",null,null,"",null,null,"",null,null,"",null,null,"",null,null,"",null,null,"",null,null,"",null,null,"",null,null,"",null,null,"",null,null,"",null,null,"",null,null,"",null,null,"",null,null,"",null,null,"",null,null,"",null,null,"",null,null,"",null,null,"",null,null,"",null,null,"",null,null,"",null,null,"",null,null,"",null,null,"",null,null,"",null,null,"",null,null,"",null,null,"",null,null,"",null,null,"",null,null,"",null,null,"",null,null,"",null,null,"",null,null,"",null,null,"",null,null,"",null,null,"",null,null,"",null,null,"",null,null,"",null,null,"",null,null,"",null,null,"",null,null,"",null,null,"",null,null,"",null,null,"",null,null,"",null,null,"",null,null,"",null,null,"",null,null,"",null,null,"",null,null,"",null,null,"",null,null,"",null,null,"",null,null,"",null,null,"",null,null,"",null,null,"",null,null,"",null,null,"",null,null,"",null,null,"",null,null,"",null,null,"",null,null,"",null,null,"",null,null,"",null,null,"",null,null,"",null,null,"",null,null,"",null,null,"",null,null,"",null,null,"",null,null,"",null,null,"",null,null,"",null,null,"",null,null,"",null,null,"",null,null,"",null,null,"",null,null,"",null,null,"",null,null,"",null,null,"",null,null,"",null,null,"",null,null,"",null,null,"",null,null,"",null,null,"",null,null,"",null,null,"",null,null,"",null,null,"",null,null,"",null,null,"",null,null,"",null,null,"",null,null,"",null,null,"",null,null,"",null,null,"",null,null,"",null,null,"",null,null,"",null,null,"",null,null,"",null,null,"",null,null,"",null,null,"",null,null,"",null,null,"",null,null,"",null,null,"",null,null,"",null,null,"",null,null,"",null,null,"",null,null,"",null,null,"",null,null,"",null,null,"",null,null,"",null,null,"",null,null,"",null,null,"",null,null,"",null,null,"",null,null,"",null,null,"",null,null,"",null,null,"",null,null,"",null,null,"",null,null,"",null,null,"",null,null,"",null,null,"",null,null,"",null,null,"",null,null,"",null,null,"",null,null,"",null,null,"",null,null,"",null,null,"",null,null,"",null,null,"",null,null,"",null,null,"",null,null,"",null,null,"",null,null,"",null,null,"",null,null,"",null,null,"",null,null,"",null,null,"",null,null,"",null,null,"",null,null,"",null,null,"",null,null,"",null,null,"",null,null,"",null,null,"",null,null,"",null,null,"",null,null,"",null,null,"",null,null,"",null,null,"",null,null,"",null,null,"",null,null,"",null,null,"",null,null,"",null,null,"",null,null,"",null,null,"",null,null,"",null,null,"",null,null,"",null,null,"",null,null,"",null,null,"",null,null,"",null,null,"",null,null,"",null,null,"",null,null,"",null,null,"",null,null,"",null,null,"",null,null,"",null,null,"",null,null,"",null,null,"",null,null,"",null,null,"",null,null,"",null,null,"",null,null,"",null,null,"",null,null,"",null,null,"",null,null,"",null,null,"",null,null,"",null,null,"",null,null,"",null,null,"",null,null,"",null,null,"",null,null,"",null,null,"",null,null,"",null,null,"",null,null,"",null,null,"",null,null,"",null,null,"",null,null,"",null,null,"",null,null,"",null,null,"",null,null,"",null,null,"",null,null,"",null,null,"",null,null,"",null,null,"",null,null,"",null,null,"",null,null,"",null,null,"",null,null,"",null,null,"",null,null,"",null,null,"",null,null,"",null,null,"",null,null,"",null,null,"",null,null,"",null,null,"",null,null,"",null,null,"",null,null,"",null,null,"",null,null,"",null,null,"",null,null,"",null,null,"",null,null,"",null,null,"",null,null,"",null,null,"",null,null,"",null,null,"",null,null,"",null,null,"",null,null,"",null,null,"",null,null,"",null,null,"",null,null,"",null,null,"",null,null,"",null,null,"",null,null,"",null,null,"",null,null,"",null,null,"",null,null,"",null,null,"",null,null,"",null,null,"",null,null,"",null,null,"",null,null,"",null,null,"",null,null,"",null,null,""]
["Category 10","Processing of sold products-Not Used",null,{"$f":"+Aux_grafico!C17","v":0},0,null,null,"",null,null,"",null,null,"",null,null,"",null,null,"",null,null,"",null,null,"",null,null,"",null,null,"",null,null,"",null,null,"",null,null,"",null,null,"",null,null,"",null,null,"",null,null,"",null,null,"",null,null,"",null,null,"",null,null,"",null,null,"",null,null,"",null,null,"",null,null,"",null,null,"",null,null,"",null,null,"",null,null,"",null,null,"",null,null,"",null,null,"",null,null,"",null,null,"",null,null,"",null,null,"",null,null,"",null,null,"",null,null,"",null,null,"",null,null,"",null,null,"",null,null,"",null,null,"",null,null,"",null,null,"",null,null,"",null,null,"",null,null,"",null,null,"",null,null,"",null,null,"",null,null,"",null,null,"",null,null,"",null,null,"",null,null,"",null,null,"",null,null,"",null,null,"",null,null,"",null,null,"",null,null,"",null,null,"",null,null,"",null,null,"",null,null,"",null,null,"",null,null,"",null,null,"",null,null,"",null,null,"",null,null,"",null,null,"",null,null,"",null,null,"",null,null,"",null,null,"",null,null,"",null,null,"",null,null,"",null,null,"",null,null,"",null,null,"",null,null,"",null,null,"",null,null,"",null,null,"",null,null,"",null,null,"",null,null,"",null,null,"",null,null,"",null,null,"",null,null,"",null,null,"",null,null,"",null,null,"",null,null,"",null,null,"",null,null,"",null,null,"",null,null,"",null,null,"",null,null,"",null,null,"",null,null,"",null,null,"",null,null,"",null,null,"",null,null,"",null,null,"",null,null,"",null,null,"",null,null,"",null,null,"",null,null,"",null,null,"",null,null,"",null,null,"",null,null,"",null,null,"",null,null,"",null,null,"",null,null,"",null,null,"",null,null,"",null,null,"",null,null,"",null,null,"",null,null,"",null,null,"",null,null,"",null,null,"",null,null,"",null,null,"",null,null,"",null,null,"",null,null,"",null,null,"",null,null,"",null,null,"",null,null,"",null,null,"",null,null,"",null,null,"",null,null,"",null,null,"",null,null,"",null,null,"",null,null,"",null,null,"",null,null,"",null,null,"",null,null,"",null,null,"",null,null,"",null,null,"",null,null,"",null,null,"",null,null,"",null,null,"",null,null,"",null,null,"",null,null,"",null,null,"",null,null,"",null,null,"",null,null,"",null,null,"",null,null,"",null,null,"",null,null,"",null,null,"",null,null,"",null,null,"",null,null,"",null,null,"",null,null,"",null,null,"",null,null,"",null,null,"",null,null,"",null,null,"",null,null,"",null,null,"",null,null,"",null,null,"",null,null,"",null,null,"",null,null,"",null,null,"",null,null,"",null,null,"",null,null,"",null,null,"",null,null,"",null,null,"",null,null,"",null,null,"",null,null,"",null,null,"",null,null,"",null,null,"",null,null,"",null,null,"",null,null,"",null,null,"",null,null,"",null,null,"",null,null,"",null,null,"",null,null,"",null,null,"",null,null,"",null,null,"",null,null,"",null,null,"",null,null,"",null,null,"",null,null,"",null,null,"",null,null,"",null,null,"",null,null,"",null,null,"",null,null,"",null,null,"",null,null,"",null,null,"",null,null,"",null,null,"",null,null,"",null,null,"",null,null,"",null,null,"",null,null,"",null,null,"",null,null,"",null,null,"",null,null,"",null,null,"",null,null,"",null,null,"",null,null,"",null,null,"",null,null,"",null,null,"",null,null,"",null,null,"",null,null,"",null,null,"",null,null,"",null,null,"",null,null,"",null,null,"",null,null,"",null,null,"",null,null,"",null,null,"",null,null,"",null,null,"",null,null,"",null,null,"",null,null,"",null,null,"",null,null,"",null,null,"",null,null,"",null,null,"",null,null,"",null,null,"",null,null,"",null,null,"",null,null,"",null,null,"",null,null,"",null,null,"",null,null,"",null,null,"",null,null,"",null,null,"",null,null,"",null,null,"",null,null,"",null,null,"",null,null,"",null,null,"",null,null,"",null,null,"",null,null,"",null,null,"",null,null,"",null,null,"",null,null,"",null,null,"",null,null,"",null,null,"",null,null,"",null,null,"",null,null,""]
["Category 11","Use of sold products",null,{"$f":"+Aux_grafico!C18","v":0},0,null,null,"",null,null,"",null,null,"",null,null,"",null,null,"",null,null,"",null,null,"",null,null,"",null,null,"",null,null,"",null,null,"",null,null,"",null,null,"",null,null,"",null,null,"",null,null,"",null,null,"",null,null,"",null,null,"",null,null,"",null,null,"",null,null,"",null,null,"",null,null,"",null,null,"",null,null,"",null,null,"",null,null,"",null,null,"",null,null,"",null,null,"",null,null,"",null,null,"",null,null,"",null,null,"",null,null,"",null,null,"",null,null,"",null,null,"",null,null,"",null,null,"",null,null,"",null,null,"",null,null,"",null,null,"",null,null,"",null,null,"",null,null,"",null,null,"",null,null,"",null,null,"",null,null,"",null,null,"",null,null,"",null,null,"",null,null,"",null,null,"",null,null,"",null,null,"",null,null,"",null,null,"",null,null,"",null,null,"",null,null,"",null,null,"",null,null,"",null,null,"",null,null,"",null,null,"",null,null,"",null,null,"",null,null,"",null,null,"",null,null,"",null,null,"",null,null,"",null,null,"",null,null,"",null,null,"",null,null,"",null,null,"",null,null,"",null,null,"",null,null,"",null,null,"",null,null,"",null,null,"",null,null,"",null,null,"",null,null,"",null,null,"",null,null,"",null,null,"",null,null,"",null,null,"",null,null,"",null,null,"",null,null,"",null,null,"",null,null,"",null,null,"",null,null,"",null,null,"",null,null,"",null,null,"",null,null,"",null,null,"",null,null,"",null,null,"",null,null,"",null,null,"",null,null,"",null,null,"",null,null,"",null,null,"",null,null,"",null,null,"",null,null,"",null,null,"",null,null,"",null,null,"",null,null,"",null,null,"",null,null,"",null,null,"",null,null,"",null,null,"",null,null,"",null,null,"",null,null,"",null,null,"",null,null,"",null,null,"",null,null,"",null,null,"",null,null,"",null,null,"",null,null,"",null,null,"",null,null,"",null,null,"",null,null,"",null,null,"",null,null,"",null,null,"",null,null,"",null,null,"",null,null,"",null,null,"",null,null,"",null,null,"",null,null,"",null,null,"",null,null,"",null,null,"",null,null,"",null,null,"",null,null,"",null,null,"",null,null,"",null,null,"",null,null,"",null,null,"",null,null,"",null,null,"",null,null,"",null,null,"",null,null,"",null,null,"",null,null,"",null,null,"",null,null,"",null,null,"",null,null,"",null,null,"",null,null,"",null,null,"",null,null,"",null,null,"",null,null,"",null,null,"",null,null,"",null,null,"",null,null,"",null,null,"",null,null,"",null,null,"",null,null,"",null,null,"",null,null,"",null,null,"",null,null,"",null,null,"",null,null,"",null,null,"",null,null,"",null,null,"",null,null,"",null,null,"",null,null,"",null,null,"",null,null,"",null,null,"",null,null,"",null,null,"",null,null,"",null,null,"",null,null,"",null,null,"",null,null,"",null,null,"",null,null,"",null,null,"",null,null,"",null,null,"",null,null,"",null,null,"",null,null,"",null,null,"",null,null,"",null,null,"",null,null,"",null,null,"",null,null,"",null,null,"",null,null,"",null,null,"",null,null,"",null,null,"",null,null,"",null,null,"",null,null,"",null,null,"",null,null,"",null,null,"",null,null,"",null,null,"",null,null,"",null,null,"",null,null,"",null,null,"",null,null,"",null,null,"",null,null,"",null,null,"",null,null,"",null,null,"",null,null,"",null,null,"",null,null,"",null,null,"",null,null,"",null,null,"",null,null,"",null,null,"",null,null,"",null,null,"",null,null,"",null,null,"",null,null,"",null,null,"",null,null,"",null,null,"",null,null,"",null,null,"",null,null,"",null,null,"",null,null,"",null,null,"",null,null,"",null,null,"",null,null,"",null,null,"",null,null,"",null,null,"",null,null,"",null,null,"",null,null,"",null,null,"",null,null,"",null,null,"",null,null,"",null,null,"",null,null,"",null,null,"",null,null,"",null,null,"",null,null,"",null,null,"",null,null,"",null,null,"",null,null,"",null,null,"",null,null,"",null,null,"",null,null,"",null,null,"",null,null,"",null,null,"",null,null,""]
["Category 12","End-of-life treatment of sold products-Not Used",null,{"$f":"+Aux_grafico!C19","v":0},0,null,null,"",null,null,"",null,null,"",null,null,"",null,null,"",null,null,"",null,null,"",null,null,"",null,null,"",null,null,"",null,null,"",null,null,"",null,null,"",null,null,"",null,null,"",null,null,"",null,null,"",null,null,"",null,null,"",null,null,"",null,null,"",null,null,"",null,null,"",null,null,"",null,null,"",null,null,"",null,null,"",null,null,"",null,null,"",null,null,"",null,null,"",null,null,"",null,null,"",null,null,"",null,null,"",null,null,"",null,null,"",null,null,"",null,null,"",null,null,"",null,null,"",null,null,"",null,null,"",null,null,"",null,null,"",null,null,"",null,null,"",null,null,"",null,null,"",null,null,"",null,null,"",null,null,"",null,null,"",null,null,"",null,null,"",null,null,"",null,null,"",null,null,"",null,null,"",null,null,"",null,null,"",null,null,"",null,null,"",null,null,"",null,null,"",null,null,"",null,null,"",null,null,"",null,null,"",null,null,"",null,null,"",null,null,"",null,null,"",null,null,"",null,null,"",null,null,"",null,null,"",null,null,"",null,null,"",null,null,"",null,null,"",null,null,"",null,null,"",null,null,"",null,null,"",null,null,"",null,null,"",null,null,"",null,null,"",null,null,"",null,null,"",null,null,"",null,null,"",null,null,"",null,null,"",null,null,"",null,null,"",null,null,"",null,null,"",null,null,"",null,null,"",null,null,"",null,null,"",null,null,"",null,null,"",null,null,"",null,null,"",null,null,"",null,null,"",null,null,"",null,null,"",null,null,"",null,null,"",null,null,"",null,null,"",null,null,"",null,null,"",null,null,"",null,null,"",null,null,"",null,null,"",null,null,"",null,null,"",null,null,"",null,null,"",null,null,"",null,null,"",null,null,"",null,null,"",null,null,"",null,null,"",null,null,"",null,null,"",null,null,"",null,null,"",null,null,"",null,null,"",null,null,"",null,null,"",null,null,"",null,null,"",null,null,"",null,null,"",null,null,"",null,null,"",null,null,"",null,null,"",null,null,"",null,null,"",null,null,"",null,null,"",null,null,"",null,null,"",null,null,"",null,null,"",null,null,"",null,null,"",null,null,"",null,null,"",null,null,"",null,null,"",null,null,"",null,null,"",null,null,"",null,null,"",null,null,"",null,null,"",null,null,"",null,null,"",null,null,"",null,null,"",null,null,"",null,null,"",null,null,"",null,null,"",null,null,"",null,null,"",null,null,"",null,null,"",null,null,"",null,null,"",null,null,"",null,null,"",null,null,"",null,null,"",null,null,"",null,null,"",null,null,"",null,null,"",null,null,"",null,null,"",null,null,"",null,null,"",null,null,"",null,null,"",null,null,"",null,null,"",null,null,"",null,null,"",null,null,"",null,null,"",null,null,"",null,null,"",null,null,"",null,null,"",null,null,"",null,null,"",null,null,"",null,null,"",null,null,"",null,null,"",null,null,"",null,null,"",null,null,"",null,null,"",null,null,"",null,null,"",null,null,"",null,null,"",null,null,"",null,null,"",null,null,"",null,null,"",null,null,"",null,null,"",null,null,"",null,null,"",null,null,"",null,null,"",null,null,"",null,null,"",null,null,"",null,null,"",null,null,"",null,null,"",null,null,"",null,null,"",null,null,"",null,null,"",null,null,"",null,null,"",null,null,"",null,null,"",null,null,"",null,null,"",null,null,"",null,null,"",null,null,"",null,null,"",null,null,"",null,null,"",null,null,"",null,null,"",null,null,"",null,null,"",null,null,"",null,null,"",null,null,"",null,null,"",null,null,"",null,null,"",null,null,"",null,null,"",null,null,"",null,null,"",null,null,"",null,null,"",null,null,"",null,null,"",null,null,"",null,null,"",null,null,"",null,null,"",null,null,"",null,null,"",null,null,"",null,null,"",null,null,"",null,null,"",null,null,"",null,null,"",null,null,"",null,null,"",null,null,"",null,null,"",null,null,"",null,null,"",null,null,"",null,null,"",null,null,"",null,null,"",null,null,"",null,null,"",null,null,"",null,null,"",null,null,"",null,null,"",null,null,"",null,null,"",null,null,""]
["Category 13","Downstream leased assets",null,{"$f":"+Aux_grafico!C20","v":0},0,null,null,"",null,null,"",null,null,"",null,null,"",null,null,"",null,null,"",null,null,"",null,null,"",null,null,"",null,null,"",null,null,"",null,null,"",null,null,"",null,null,"",null,null,"",null,null,"",null,null,"",null,null,"",null,null,"",null,null,"",null,null,"",null,null,"",null,null,"",null,null,"",null,null,"",null,null,"",null,null,"",null,null,"",null,null,"",null,null,"",null,null,"",null,null,"",null,null,"",null,null,"",null,null,"",null,null,"",null,null,"",null,null,"",null,null,"",null,null,"",null,null,"",null,null,"",null,null,"",null,null,"",null,null,"",null,null,"",null,null,"",null,null,"",null,null,"",null,null,"",null,null,"",null,null,"",null,null,"",null,null,"",null,null,"",null,null,"",null,null,"",null,null,"",null,null,"",null,null,"",null,null,"",null,null,"",null,null,"",null,null,"",null,null,"",null,null,"",null,null,"",null,null,"",null,null,"",null,null,"",null,null,"",null,null,"",null,null,"",null,null,"",null,null,"",null,null,"",null,null,"",null,null,"",null,null,"",null,null,"",null,null,"",null,null,"",null,null,"",null,null,"",null,null,"",null,null,"",null,null,"",null,null,"",null,null,"",null,null,"",null,null,"",null,null,"",null,null,"",null,null,"",null,null,"",null,null,"",null,null,"",null,null,"",null,null,"",null,null,"",null,null,"",null,null,"",null,null,"",null,null,"",null,null,"",null,null,"",null,null,"",null,null,"",null,null,"",null,null,"",null,null,"",null,null,"",null,null,"",null,null,"",null,null,"",null,null,"",null,null,"",null,null,"",null,null,"",null,null,"",null,null,"",null,null,"",null,null,"",null,null,"",null,null,"",null,null,"",null,null,"",null,null,"",null,null,"",null,null,"",null,null,"",null,null,"",null,null,"",null,null,"",null,null,"",null,null,"",null,null,"",null,null,"",null,null,"",null,null,"",null,null,"",null,null,"",null,null,"",null,null,"",null,null,"",null,null,"",null,null,"",null,null,"",null,null,"",null,null,"",null,null,"",null,null,"",null,null,"",null,null,"",null,null,"",null,null,"",null,null,"",null,null,"",null,null,"",null,null,"",null,null,"",null,null,"",null,null,"",null,null,"",null,null,"",null,null,"",null,null,"",null,null,"",null,null,"",null,null,"",null,null,"",null,null,"",null,null,"",null,null,"",null,null,"",null,null,"",null,null,"",null,null,"",null,null,"",null,null,"",null,null,"",null,null,"",null,null,"",null,null,"",null,null,"",null,null,"",null,null,"",null,null,"",null,null,"",null,null,"",null,null,"",null,null,"",null,null,"",null,null,"",null,null,"",null,null,"",null,null,"",null,null,"",null,null,"",null,null,"",null,null,"",null,null,"",null,null,"",null,null,"",null,null,"",null,null,"",null,null,"",null,null,"",null,null,"",null,null,"",null,null,"",null,null,"",null,null,"",null,null,"",null,null,"",null,null,"",null,null,"",null,null,"",null,null,"",null,null,"",null,null,"",null,null,"",null,null,"",null,null,"",null,null,"",null,null,"",null,null,"",null,null,"",null,null,"",null,null,"",null,null,"",null,null,"",null,null,"",null,null,"",null,null,"",null,null,"",null,null,"",null,null,"",null,null,"",null,null,"",null,null,"",null,null,"",null,null,"",null,null,"",null,null,"",null,null,"",null,null,"",null,null,"",null,null,"",null,null,"",null,null,"",null,null,"",null,null,"",null,null,"",null,null,"",null,null,"",null,null,"",null,null,"",null,null,"",null,null,"",null,null,"",null,null,"",null,null,"",null,null,"",null,null,"",null,null,"",null,null,"",null,null,"",null,null,"",null,null,"",null,null,"",null,null,"",null,null,"",null,null,"",null,null,"",null,null,"",null,null,"",null,null,"",null,null,"",null,null,"",null,null,"",null,null,"",null,null,"",null,null,"",null,null,"",null,null,"",null,null,"",null,null,"",null,null,"",null,null,"",null,null,"",null,null,"",null,null,"",null,null,"",null,null,"",null,null,"",null,null,"",null,null,"",null,null,"",null,null,""]
["Category 14","Franchises- Not Used",null,{"$f":"+Aux_grafico!C21","v":0},0,null,null,"",null,null,"",null,null,"",null,null,"",null,null,"",null,null,"",null,null,"",null,null,"",null,null,"",null,null,"",null,null,"",null,null,"",null,null,"",null,null,"",null,null,"",null,null,"",null,null,"",null,null,"",null,null,"",null,null,"",null,null,"",null,null,"",null,null,"",null,null,"",null,null,"",null,null,"",null,null,"",null,null,"",null,null,"",null,null,"",null,null,"",null,null,"",null,null,"",null,null,"",null,null,"",null,null,"",null,null,"",null,null,"",null,null,"",null,null,"",null,null,"",null,null,"",null,null,"",null,null,"",null,null,"",null,null,"",null,null,"",null,null,"",null,null,"",null,null,"",null,null,"",null,null,"",null,null,"",null,null,"",null,null,"",null,null,"",null,null,"",null,null,"",null,null,"",null,null,"",null,null,"",null,null,"",null,null,"",null,null,"",null,null,"",null,null,"",null,null,"",null,null,"",null,null,"",null,null,"",null,null,"",null,null,"",null,null,"",null,null,"",null,null,"",null,null,"",null,null,"",null,null,"",null,null,"",null,null,"",null,null,"",null,null,"",null,null,"",null,null,"",null,null,"",null,null,"",null,null,"",null,null,"",null,null,"",null,null,"",null,null,"",null,null,"",null,null,"",null,null,"",null,null,"",null,null,"",null,null,"",null,null,"",null,null,"",null,null,"",null,null,"",null,null,"",null,null,"",null,null,"",null,null,"",null,null,"",null,null,"",null,null,"",null,null,"",null,null,"",null,null,"",null,null,"",null,null,"",null,null,"",null,null,"",null,null,"",null,null,"",null,null,"",null,null,"",null,null,"",null,null,"",null,null,"",null,null,"",null,null,"",null,null,"",null,null,"",null,null,"",null,null,"",null,null,"",null,null,"",null,null,"",null,null,"",null,null,"",null,null,"",null,null,"",null,null,"",null,null,"",null,null,"",null,null,"",null,null,"",null,null,"",null,null,"",null,null,"",null,null,"",null,null,"",null,null,"",null,null,"",null,null,"",null,null,"",null,null,"",null,null,"",null,null,"",null,null,"",null,null,"",null,null,"",null,null,"",null,null,"",null,null,"",null,null,"",null,null,"",null,null,"",null,null,"",null,null,"",null,null,"",null,null,"",null,null,"",null,null,"",null,null,"",null,null,"",null,null,"",null,null,"",null,null,"",null,null,"",null,null,"",null,null,"",null,null,"",null,null,"",null,null,"",null,null,"",null,null,"",null,null,"",null,null,"",null,null,"",null,null,"",null,null,"",null,null,"",null,null,"",null,null,"",null,null,"",null,null,"",null,null,"",null,null,"",null,null,"",null,null,"",null,null,"",null,null,"",null,null,"",null,null,"",null,null,"",null,null,"",null,null,"",null,null,"",null,null,"",null,null,"",null,null,"",null,null,"",null,null,"",null,null,"",null,null,"",null,null,"",null,null,"",null,null,"",null,null,"",null,null,"",null,null,"",null,null,"",null,null,"",null,null,"",null,null,"",null,null,"",null,null,"",null,null,"",null,null,"",null,null,"",null,null,"",null,null,"",null,null,"",null,null,"",null,null,"",null,null,"",null,null,"",null,null,"",null,null,"",null,null,"",null,null,"",null,null,"",null,null,"",null,null,"",null,null,"",null,null,"",null,null,"",null,null,"",null,null,"",null,null,"",null,null,"",null,null,"",null,null,"",null,null,"",null,null,"",null,null,"",null,null,"",null,null,"",null,null,"",null,null,"",null,null,"",null,null,"",null,null,"",null,null,"",null,null,"",null,null,"",null,null,"",null,null,"",null,null,"",null,null,"",null,null,"",null,null,"",null,null,"",null,null,"",null,null,"",null,null,"",null,null,"",null,null,"",null,null,"",null,null,"",null,null,"",null,null,"",null,null,"",null,null,"",null,null,"",null,null,"",null,null,"",null,null,"",null,null,"",null,null,"",null,null,"",null,null,"",null,null,"",null,null,"",null,null,"",null,null,"",null,null,"",null,null,"",null,null,"",null,null,"",null,null,"",null,null,"",null,null,"",null,null,"",null,null,"",null,null,""]
["Category 15","Investments",null,{"$f":"+Aux_grafico!C22","v":0},0,null,null,"",null,null,"",null,null,"",null,null,"",null,null,"",null,null,"",null,null,"",null,null,"",null,null,"",null,null,"",null,null,"",null,null,"",null,null,"",null,null,"",null,null,"",null,null,"",null,null,"",null,null,"",null,null,"",null,null,"",null,null,"",null,null,"",null,null,"",null,null,"",null,null,"",null,null,"",null,null,"",null,null,"",null,null,"",null,null,"",null,null,"",null,null,"",null,null,"",null,null,"",null,null,"",null,null,"",null,null,"",null,null,"",null,null,"",null,null,"",null,null,"",null,null,"",null,null,"",null,null,"",null,null,"",null,null,"",null,null,"",null,null,"",null,null,"",null,null,"",null,null,"",null,null,"",null,null,"",null,null,"",null,null,"",null,null,"",null,null,"",null,null,"",null,null,"",null,null,"",null,null,"",null,null,"",null,null,"",null,null,"",null,null,"",null,null,"",null,null,"",null,null,"",null,null,"",null,null,"",null,null,"",null,null,"",null,null,"",null,null,"",null,null,"",null,null,"",null,null,"",null,null,"",null,null,"",null,null,"",null,null,"",null,null,"",null,null,"",null,null,"",null,null,"",null,null,"",null,null,"",null,null,"",null,null,"",null,null,"",null,null,"",null,null,"",null,null,"",null,null,"",null,null,"",null,null,"",null,null,"",null,null,"",null,null,"",null,null,"",null,null,"",null,null,"",null,null,"",null,null,"",null,null,"",null,null,"",null,null,"",null,null,"",null,null,"",null,null,"",null,null,"",null,null,"",null,null,"",null,null,"",null,null,"",null,null,"",null,null,"",null,null,"",null,null,"",null,null,"",null,null,"",null,null,"",null,null,"",null,null,"",null,null,"",null,null,"",null,null,"",null,null,"",null,null,"",null,null,"",null,null,"",null,null,"",null,null,"",null,null,"",null,null,"",null,null,"",null,null,"",null,null,"",null,null,"",null,null,"",null,null,"",null,null,"",null,null,"",null,null,"",null,null,"",null,null,"",null,null,"",null,null,"",null,null,"",null,null,"",null,null,"",null,null,"",null,null,"",null,null,"",null,null,"",null,null,"",null,null,"",null,null,"",null,null,"",null,null,"",null,null,"",null,null,"",null,null,"",null,null,"",null,null,"",null,null,"",null,null,"",null,null,"",null,null,"",null,null,"",null,null,"",null,null,"",null,null,"",null,null,"",null,null,"",null,null,"",null,null,"",null,null,"",null,null,"",null,null,"",null,null,"",null,null,"",null,null,"",null,null,"",null,null,"",null,null,"",null,null,"",null,null,"",null,null,"",null,null,"",null,null,"",null,null,"",null,null,"",null,null,"",null,null,"",null,null,"",null,null,"",null,null,"",null,null,"",null,null,"",null,null,"",null,null,"",null,null,"",null,null,"",null,null,"",null,null,"",null,null,"",null,null,"",null,null,"",null,null,"",null,null,"",null,null,"",null,null,"",null,null,"",null,null,"",null,null,"",null,null,"",null,null,"",null,null,"",null,null,"",null,null,"",null,null,"",null,null,"",null,null,"",null,null,"",null,null,"",null,null,"",null,null,"",null,null,"",null,null,"",null,null,"",null,null,"",null,null,"",null,null,"",null,null,"",null,null,"",null,null,"",null,null,"",null,null,"",null,null,"",null,null,"",null,null,"",null,null,"",null,null,"",null,null,"",null,null,"",null,null,"",null,null,"",null,null,"",null,null,"",null,null,"",null,null,"",null,null,"",null,null,"",null,null,"",null,null,"",null,null,"",null,null,"",null,null,"",null,null,"",null,null,"",null,null,"",null,null,"",null,null,"",null,null,"",null,null,"",null,null,"",null,null,"",null,null,"",null,null,"",null,null,"",null,null,"",null,null,"",null,null,"",null,null,"",null,null,"",null,null,"",null,null,"",null,null,"",null,null,"",null,null,"",null,null,"",null,null,"",null,null,"",null,null,"",null,null,"",null,null,"",null,null,"",null,null,"",null,null,"",null,null,"",null,null,"",null,null,"",null,null,"",null,null,"",null,null,"",null,null,"",null,null,"",null,null,"",null,null,""]

{"sheet":"System Results & Graphs","index":3,"n_rows":35,"n_cols":3,"rows_kept":35,"cut":false,"hidden":false,"merged":[]}
[null,null," "]
[null,{"$f":"+'Instructions & Import'!B2","v":"Health Care Emissions Impact Calculator - System"}]
[null,{"$f":"+'Instructions & Import'!$B$5&\" - Year \"&'Instructions & Import'!$B$6","v":" - Year "}]
[]
[]
[]
[]
[]
[]
[]
[]
[]
[]
[]
[]
[]
[]
[]
[]
[]
[]
[]
[]
[]
[]
[]
[]
[]
[]
[]
[]
[]
[]
[]
[null,null," "]

{"sheet":"Aux_grafico","index":4,"n_rows":45,"n_cols":303,"rows_kept":45,"cut":false,"hidden":true,"merged":[]}
["Gráfico 1","Suburst","System","Facility 1","Facility 2","Facility 3","Facility 4","Facility 5","Facility 6","Facility 7","Facility 8","Facility 9","Facility 10","Facility 11","Facility 12","Facility 13","Facility 14","Facility 15","Facility 16","Facility 17","Facility 18","Facility 19","Facility 20","Facility 21","Facility 22","Facility 23","Facility 24","Facility 25","Facility 26","Facility 27","Facility 28","Facility 29","Facility 30","Facility 31","Facility 32","Facility 33","Facility 34","Facility 35","Facility 36","Facility 37","Facility 38","Facility 39","Facility 40","Facility 41","Facility 42","Facility 43","Facility 44","Facility 45","Facility 46","Facility 47","Facility 48","Facility 49","Facility 50","Facility 51","Facility 52","Facility 53","Facility 54","Facility 55","Facility 56","Facility 57","Facility 58","Facility 59","Facility 60","Facility 61","Facility 62","Facility 63","Facility 64","Facility 65","Facility 66","Facility 67","Facility 68","Facility 69","Facility 70","Facility 71","Facility 72","Facility 73","Facility 74","Facility 75","Facility 76","Facility 77","Facility 78","Facility 79","Facility 80","Facility 81","Facility 82","Facility 83","Facility 84","Facility 85","Facility 86","Facility 87","Facility 88","Facility 89","Facility 90","Facility 91","Facility 92","Facility 93","Facility 94","Facility 95","Facility 96","Facility 97","Facility 98","Facility 99","Facility 100","Facility 101","Facility 102","Facility 103","Facility 104","Facility 105","Facility 106","Facility 107","Facility 108","Facility 109","Facility 110","Facility 111","Facility 112","Facility 113","Facility 114","Facility 115","Facility 116","Facility 117","Facility 118","Facility 119","Facility 120","Facility 121","Facility 122","Facility 123","Facility 124","Facility 125","Facility 126","Facility 127","Facility 128","Facility 129","Facility 130","Facility 131","Facility 132","Facility 133","Facility 134","Facility 135","Facility 136","Facility 137","Facility 138","Facility 139","Facility 140","Facility 141","Facility 142","Facility 143","Facility 144","Facility 145","Facility 146","Facility 147","Facility 148","Facility 149","Facility 150","Facility 151","Facility 152","Facility 153","Facility 154","Facility 155","Facility 156","Facility 157","Facility 158","Facility 159","Facility 160","Facility 161","Facility 162","Facility 163","Facility 164","Facility 165","Facility 166","Facility 167","Facility 168","Facility 169","Facility 170","Facility 171","Facility 172","Facility 173","Facility 174","Facility 175","Facility 176","Facility 177","Facility 178","Facility 179","Facility 180","Facility 181","Facility 182","Facility 183","Facility 184","Facility 185","Facility 186","Facility 187","Facility 188","Facility 189","Facility 190","Facility 191","Facility 192","Facility 193","Facility 194","Facility 195","Facility 196","Facility 197","Facility 198","Facility 199","Facility 200","Facility 201","Facility 202","Facility 203","Facility 204","Facility 205","Facility 206","Facility 207","Facility 208","Facility 209","Facility 210","Facility 211","Facility 212","Facility 213","Facility 214","Facility 215","Facility 216","Facility 217","Facility 218","Facility 219","Facility 220","Facility 221","Facility 222","Facility 223","Facility 224","Facility 225","Facility 226","Facility 227","Facility 228","Facility 229","Facility 230","Facility 231","Facility 232","Facility 233","Facility 234","Facility 235","Facility 236","Facility 237","Facility 238","Facility 239","Facility 240","Facility 241","Facility 242","Facility 243","Facility 244","Facility 245","Facility 246","Facility 247","Facility 248","Facility 249","Facility 250","Facility 251","Facility 252","Facility 253","Facility 254","Facility 255","Facility 256","Facility 257","Facility 258","Facility 259","Facility 260","Facility 261","Facility 262","Facility 263","Facility 264","Facility 265","Facility 266","Facility 267","Facility 268","Facility 269","Facility 270","Facility 271","Facility 272","Facility 273","Facility 274","Facility 275","Facility 276","Facility 277","Facility 278","Facility 279","Facility 280","Facility 281","Facility 282","Facility 283","Facility 284","Facility 285","Facility 286","Facility 287","Facility 288","Facility 289","Facility 290","Facility 291","Facility 292","Facility 293","Facility 294","Facility 295","Facility 296","Facility 297","Facility 298","Facility 299","Facility 300"]
["Scope 1",{"$f":"+'System Results'!B28","v":"Stationary Combustion"},{"$f":"+SUM(D2:KQ2)","v":0},{"$f":"+IF(ISNUMBER('System Results'!G28),'System Results'!G28,0)","v":0},{"$f":"+IF(ISNUMBER('System Results'!J28),'System Results'!J28,0)","v":0},{"$f":"+IF(ISNUMBER('System Results'!M28),'System Results'!M28,0)","v":0},{"$f":"+IF(ISNUMBER('System Results'!P28),'System Results'!P28,0)","v":0},{"$f":"+IF(ISNUMBER('System Results'!S28),'System Results'!S28,0)","v":0},{"$f":"+IF(ISNUMBER('System Results'!V28),'System Results'!V28,0)","v":0},{"$f":"+IF(ISNUMBER('System Results'!Y28),'System Results'!Y28,0)","v":0},{"$f":"+IF(ISNUMBER('System Results'!AB28),'System Results'!AB28,0)","v":0},{"$f":"+IF(ISNUMBER('System Results'!AE28),'System Results'!AE28,0)","v":0},{"$f":"+IF(ISNUMBER('System Results'!AH28),'System Results'!AH28,0)","v":0},{"$f":"+IF(ISNUMBER('System Results'!AK28),'System Results'!AK28,0)","v":0},{"$f":"+IF(ISNUMBER('System Results'!AN28),'System Results'!AN28,0)","v":0},{"$f":"+IF(ISNUMBER('System Results'!AQ28),'System Results'!AQ28,0)","v":0},{"$f":"+IF(ISNUMBER('System Results'!AT28),'System Results'!AT28,0)","v":0},{"$f":"+IF(ISNUMBER('System Results'!AW28),'System Results'!AW28,0)","v":0},{"$f":"+IF(ISNUMBER('System Results'!AZ28),'System Results'!AZ28,0)","v":0},{"$f":"+IF(ISNUMBER('System Results'!BC28),'System Results'!BC28,0)","v":0},{"$f":"+IF(ISNUMBER('System Results'!BF28),'System Results'!BF28,0)","v":0},{"$f":"+IF(ISNUMBER('System Results'!BI28),'System Results'!BI28,0)","v":0},{"$f":"+IF(ISNUMBER('System Results'!BL28),'System Results'!BL28,0)","v":0},{"$f":"+IF(ISNUMBER('System Results'!BO28),'System Results'!BO28,0)","v":0},{"$f":"+IF(ISNUMBER('System Results'!BR28),'System Results'!BR28,0)","v":0},{"$f":"+IF(ISNUMBER('System Results'!BU28),'System Results'!BU28,0)","v":0},{"$f":"+IF(ISNUMBER('System Results'!BX28),'System Results'!BX28,0)","v":0},{"$f":"+IF(ISNUMBER('System Results'!CA28),'System Results'!CA28,0)","v":0},{"$f":"+IF(ISNUMBER('System Results'!CD28),'System Results'!CD28,0)","v":0},{"$f":"+IF(ISNUMBER('System Results'!CG28),'System Results'!CG28,0)","v":0},{"$f":"+IF(ISNUMBER('System Results'!CJ28),'System Results'!CJ28,0)","v":0},{"$f":"+IF(ISNUMBER('System Results'!CM28),'System Results'!CM28,0)","v":0},{"$f":"+IF(ISNUMBER('System Results'!CP28),'System Results'!CP28,0)","v":0},{"$f":"+IF(ISNUMBER('System Results'!CS28),'System Results'!CS28,0)","v":0},{"$f":"+IF(ISNUMBER('System Results'!CV28),'System Results'!CV28,0)","v":0},{"$f":"+IF(ISNUMBER('System Results'!CY28),'System Results'!CY28,0)","v":0},{"$f":"+IF(ISNUMBER('System Results'!DB28),'System Results'!DB28,0)","v":0},{"$f":"+IF(ISNUMBER('System Results'!DE28),'System Results'!DE28,0)","v":0},{"$f":"+IF(ISNUMBER('System Results'!DH28),'System Results'!DH28,0)","v":0},{"$f":"+IF(ISNUMBER('System Results'!DK28),'System Results'!DK28,0)","v":0},{"$f":"+IF(ISNUMBER('System Results'!DN28),'System Results'!DN28,0)","v":0},{"$f":"+IF(ISNUMBER('System Results'!DQ28),'System Results'!DQ28,0)","v":0},{"$f":"+IF(ISNUMBER('System Results'!DT28),'System Results'!DT28,0)","v":0},{"$f":"+IF(ISNUMBER('System Results'!DW28),'System Results'!DW28,0)","v":0},{"$f":"+IF(ISNUMBER('System Results'!DZ28),'System Results'!DZ28,0)","v":0},{"$f":"+IF(ISNUMBER('System Results'!EC28),'System Results'!EC28,0)","v":0},{"$f":"+IF(ISNUMBER('System Results'!EF28),'System Results'!EF28,0)","v":0},{"$f":"+IF(ISNUMBER('System Results'!EI28),'System Results'!EI28,0)","v":0},{"$f":"+IF(ISNUMBER('System Results'!EL28),'System Results'!EL28,0)","v":0},{"$f":"+IF(ISNUMBER('System Results'!EO28),'System Results'!EO28,0)","v":0},{"$f":"+IF(ISNUMBER('System Results'!ER28),'System Results'!ER28,0)","v":0},{"$f":"+IF(ISNUMBER('System Results'!EU28),'System Results'!EU28,0)","v":0},{"$f":"+IF(ISNUMBER('System Results'!EX28),'System Results'!EX28,0)","v":0},{"$f":"+IF(ISNUMBER('System Results'!FA28),'System Results'!FA28,0)","v":0},{"$f":"+IF(ISNUMBER('System Results'!FD28),'System Results'!FD28,0)","v":0},{"$f":"+IF(ISNUMBER('System Results'!FG28),'System Results'!FG28,0)","v":0},{"$f":"+IF(ISNUMBER('System Results'!FJ28),'System Results'!FJ28,0)","v":0},{"$f":"+IF(ISNUMBER('System Results'!FM28),'System Results'!FM28,0)","v":0},{"$f":"+IF(ISNUMBER('System Results'!FP28),'System Results'!FP28,0)","v":0},{"$f":"+IF(ISNUMBER('System Results'!FS28),'System Results'!FS28,0)","v":0},{"$f":"+IF(ISNUMBER('System Results'!FV28),'System Results'!FV28,0)","v":0},{"$f":"+IF(ISNUMBER('System Results'!FY28),'System Results'!FY28,0)","v":0},{"$f":"+IF(ISNUMBER('System Results'!GB28),'System Results'!GB28,0)","v":0},{"$f":"+IF(ISNUMBER('System Results'!GE28),'System Results'!GE28,0)","v":0},{"$f":"+IF(ISNUMBER('System Results'!GH28),'System Results'!GH28,0)","v":0},{"$f":"+IF(ISNUMBER('System Results'!GK28),'System Results'!GK28,0)","v":0},{"$f":"+IF(ISNUMBER('System Results'!GN28),'System Results'!GN28,0)","v":0},{"$f":"+IF(ISNUMBER('System Results'!GQ28),'System Results'!GQ28,0)","v":0},{"$f":"+IF(ISNUMBER('System Results'!GT28),'System Results'!GT28,0)","v":0},{"$f":"+IF(ISNUMBER('System Results'!GW28),'System Results'!GW28,0)","v":0},{"$f":"+IF(ISNUMBER('System Results'!GZ28),'System Results'!GZ28,0)","v":0},{"$f":"+IF(ISNUMBER('System Results'!HC28),'System Results'!HC28,0)","v":0},{"$f":"+IF(ISNUMBER('System Results'!HF28),'System Results'!HF28,0)","v":0},{"$f":"+IF(ISNUMBER('System Results'!HI28),'System Results'!HI28,0)","v":0},{"$f":"+IF(ISNUMBER('System Results'!HL28),'System Results'!HL28,0)","v":0},{"$f":"+IF(ISNUMBER('System Results'!HO28),'System Results'!HO28,0)","v":0},{"$f":"+IF(ISNUMBER('System Results'!HR28),'System Results'!HR28,0)","v":0},{"$f":"+IF(ISNUMBER('System Results'!HU28),'System Results'!HU28,0)","v":0},{"$f":"+IF(ISNUMBER('System Results'!HX28),'System Results'!HX28,0)","v":0},{"$f":"+IF(ISNUMBER('System Results'!IA28),'System Results'!IA28,0)","v":0},{"$f":"+IF(ISNUMBER('System Results'!ID28),'System Results'!ID28,0)","v":0},{"$f":"+IF(ISNUMBER('System Results'!IG28),'System Results'!IG28,0)","v":0},{"$f":"+IF(ISNUMBER('System Results'!IJ28),'System Results'!IJ28,0)","v":0},{"$f":"+IF(ISNUMBER('System Results'!IM28),'System Results'!IM28,0)","v":0},{"$f":"+IF(ISNUMBER('System Results'!IP28),'System Results'!IP28,0)","v":0},{"$f":"+IF(ISNUMBER('System Results'!IS28),'System Results'!IS28,0)","v":0},{"$f":"+IF(ISNUMBER('System Results'!IV28),'System Results'!IV28,0)","v":0},{"$f":"+IF(ISNUMBER('System Results'!IY28),'System Results'!IY28,0)","v":0},{"$f":"+IF(ISNUMBER('System Results'!JB28),'System Results'!JB28,0)","v":0},{"$f":"+IF(ISNUMBER('System Results'!JE28),'System Results'!JE28,0)","v":0},{"$f":"+IF(ISNUMBER('System Results'!JH28),'System Results'!JH28,0)","v":0},{"$f":"+IF(ISNUMBER('System Results'!JK28),'System Results'!JK28,0)","v":0},{"$f":"+IF(ISNUMBER('System Results'!JN28),'System Results'!JN28,0)","v":0},{"$f":"+IF(ISNUMBER('System Results'!JQ28),'System Results'!JQ28,0)","v":0},{"$f":"+IF(ISNUMBER('System Results'!JT28),'System Results'!JT28,0)","v":0},{"$f":"+IF(ISNUMBER('System Results'!JW28),'System Results'!JW28,0)","v":0},{"$f":"+IF(ISNUMBER('System Results'!JZ28),'System Results'!JZ28,0)","v":0},{"$f":"+IF(ISNUMBER('System Results'!KC28),'System Results'!KC28,0)","v":0},{"$f":"+IF(ISNUMBER('System Results'!KF28),'System Results'!KF28,0)","v":0},{"$f":"+IF(ISNUMBER('System Results'!KI28),'System Results'!KI28,0)","v":0},{"$f":"+IF(ISNUMBER('System Results'!KL28),'System Results'!KL28,0)","v":0},{"$f":"+IF(ISNUMBER('System Results'!KO28),'System Results'!KO28,0)","v":0},{"$f":"+IF(ISNUMBER('System Results'!KR28),'System Results'!KR28,0)","v":0},{"$f":"+IF(ISNUMBER('System Results'!KU28),'System Results'!KU28,0)","v":0},{"$f":"+IF(ISNUMBER('System Results'!KX28),'System Results'!KX28,0)","v":0},{"$f":"+IF(ISNUMBER('System Results'!LA28),'System Results'!LA28,0)","v":0},{"$f":"+IF(ISNUMBER('System Results'!LD28),'System Results'!LD28,0)","v":0},{"$f":"+IF(ISNUMBER('System Results'!LG28),'System Results'!LG28,0)","v":0},{"$f":"+IF(ISNUMBER('System Results'!LJ28),'System Results'!LJ28,0)","v":0},{"$f":"+IF(ISNUMBER('System Results'!LM28),'System Results'!LM28,0)","v":0},{"$f":"+IF(ISNUMBER('System Results'!LP28),'System Results'!LP28,0)","v":0},{"$f":"+IF(ISNUMBER('System Results'!LS28),'System Results'!LS28,0)","v":0},{"$f":"+IF(ISNUMBER('System Results'!LV28),'System Results'!LV28,0)","v":0},{"$f":"+IF(ISNUMBER('System Results'!LY28),'System Results'!LY28,0)","v":0},{"$f":"+IF(ISNUMBER('System Results'!MB28),'System Results'!MB28,0)","v":0},{"$f":"+IF(ISNUMBER('System Results'!ME28),'System Results'!ME28,0)","v":0},{"$f":"+IF(ISNUMBER('System Results'!MH28),'System Results'!MH28,0)","v":0},{"$f":"+IF(ISNUMBER('System Results'!MK28),'System Results'!MK28,0)","v":0},{"$f":"+IF(ISNUMBER('System Results'!MN28),'System Results'!MN28,0)","v":0},{"$f":"+IF(ISNUMBER('System Results'!MQ28),'System Results'!MQ28,0)","v":0},{"$f":"+IF(ISNUMBER('System Results'!MT28),'System Results'!MT28,0)","v":0},{"$f":"+IF(ISNUMBER('System Results'!MW28),'System Results'!MW28,0)","v":0},{"$f":"+IF(ISNUMBER('System Results'!MZ28),'System Results'!MZ28,0)","v":0},{"$f":"+IF(ISNUMBER('System Results'!NC28),'System Results'!NC28,0)","v":0},{"$f":"+IF(ISNUMBER('System Results'!NF28),'System Results'!NF28,0)","v":0},{"$f":"+IF(ISNUMBER('System Results'!NI28),'System Results'!NI28,0)","v":0},{"$f":"+IF(ISNUMBER('System Results'!NL28),'System Results'!NL28,0)","v":0},{"$f":"+IF(ISNUMBER('System Results'!NO28),'System Results'!NO28,0)","v":0},{"$f":"+IF(ISNUMBER('System Results'!NR28),'System Results'!NR28,0)","v":0},{"$f":"+IF(ISNUMBER('System Results'!NU28),'System Results'!NU28,0)","v":0},{"$f":"+IF(ISNUMBER('System Results'!NX28),'System Results'!NX28,0)","v":0},{"$f":"+IF(ISNUMBER('System Results'!OA28),'System Results'!OA28,0)","v":0},{"$f":"+IF(ISNUMBER('System Results'!OD28),'System Results'!OD28,0)","v":0},{"$f":"+IF(ISNUMBER('System Results'!OG28),'System Results'!OG28,0)","v":0},{"$f":"+IF(ISNUMBER('System Results'!OJ28),'System Results'!OJ28,0)","v":0},{"$f":"+IF(ISNUMBER('System Results'!OM28),'System Results'!OM28,0)","v":0},{"$f":"+IF(ISNUMBER('System Results'!OP28),'System Results'!OP28,0)","v":0},{"$f":"+IF(ISNUMBER('System Results'!OS28),'System Results'!OS28,0)","v":0},{"$f":"+IF(ISNUMBER('System Results'!OV28),'System Results'!OV28,0)","v":0},{"$f":"+IF(ISNUMBER('System Results'!OY28),'System Results'!OY28,0)","v":0},{"$f":"+IF(ISNUMBER('System Results'!PB28),'System Results'!PB28,0)","v":0},{"$f":"+IF(ISNUMBER('System Results'!PE28),'System Results'!PE28,0)","v":0},{"$f":"+IF(ISNUMBER('System Results'!PH28),'System Results'!PH28,0)","v":0},{"$f":"+IF(ISNUMBER('System Results'!PK28),'System Results'!PK28,0)","v":0},{"$f":"+IF(ISNUMBER('System Results'!PN28),'System Results'!PN28,0)","v":0},{"$f":"+IF(ISNUMBER('System Results'!PQ28),'System Results'!PQ28,0)","v":0},{"$f":"+IF(ISNUMBER('System Results'!PT28),'System Results'!PT28,0)","v":0},{"$f":"+IF(ISNUMBER('System Results'!PW28),'System Results'!PW28,0)","v":0},{"$f":"+IF(ISNUMBER('System Results'!PZ28),'System Results'!PZ28,0)","v":0},{"$f":"+IF(ISNUMBER('System Results'!QC28),'System Results'!QC28,0)","v":0},{"$f":"+IF(ISNUMBER('System Results'!QF28),'System Results'!QF28,0)","v":0},{"$f":"+IF(ISNUMBER('System Results'!QI28),'System Results'!QI28,0)","v":0},{"$f":"+IF(ISNUMBER('System Results'!QL28),'System Results'!QL28,0)","v":0},{"$f":"+IF(ISNUMBER('System Results'!QO28),'System Results'!QO28,0)","v":0},{"$f":"+IF(ISNUMBER('System Results'!QR28),'System Results'!QR28,0)","v":0},{"$f":"+IF(ISNUMBER('System Results'!QU28),'System Results'!QU28,0)","v":0},{"$f":"+IF(ISNUMBER('System Results'!QX28),'System Results'!QX28,0)","v":0},{"$f":"+IF(ISNUMBER('System Results'!RA28),'System Results'!RA28,0)","v":0},{"$f":"+IF(ISNUMBER('System Results'!RD28),'System Results'!RD28,0)","v":0},{"$f":"+IF(ISNUMBER('System Results'!RG28),'System Results'!RG28,0)","v":0},{"$f":"+IF(ISNUMBER('System Results'!RJ28),'System Results'!RJ28,0)","v":0},{"$f":"+IF(ISNUMBER('System Results'!RM28),'System Results'!RM28,0)","v":0},{"$f":"+IF(ISNUMBER('System Results'!RP28),'System Results'!RP28,0)","v":0},{"$f":"+IF(ISNUMBER('System Results'!RS28),'System Results'!RS28,0)","v":0},{"$f":"+IF(ISNUMBER('System Results'!RV28),'System Results'!RV28,0)","v":0},{"$f":"+IF(ISNUMBER('System Results'!RY28),'System Results'!RY28,0)","v":0},{"$f":"+IF(ISNUMBER('System Results'!SB28),'System Results'!SB28,0)","v":0},{"$f":"+IF(ISNUMBER('System Results'!SE28),'System Results'!SE28,0)","v":0},{"$f":"+IF(ISNUMBER('System Results'!SH28),'System Results'!SH28,0)","v":0},{"$f":"+IF(ISNUMBER('System Results'!SK28),'System Results'!SK28,0)","v":0},{"$f":"+IF(ISNUMBER('System Results'!SN28),'System Results'!SN28,0)","v":0},{"$f":"+IF(ISNUMBER('System Results'!SQ28),'System Results'!SQ28,0)","v":0},{"$f":"+IF(ISNUMBER('System Results'!ST28),'System Results'!ST28,0)","v":0},{"$f":"+IF(ISNUMBER('System Results'!SW28),'System Results'!SW28,0)","v":0},{"$f":"+IF(ISNUMBER('System Results'!SZ28),'System Results'!SZ28,0)","v":0},{"$f":"+IF(ISNUMBER('System Results'!TC28),'System Results'!TC28,0)","v":0},{"$f":"+IF(ISNUMBER('System Results'!TF28),'System Results'!TF28,0)","v":0},{"$f":"+IF(ISNUMBER('System Results'!TI28),'System Results'!TI28,0)","v":0},{"$f":"+IF(ISNUMBER('System Results'!TL28),'System Results'!TL28,0)","v":0},{"$f":"+IF(ISNUMBER('System Results'!TO28),'System Results'!TO28,0)","v":0},{"$f":"+IF(ISNUMBER('System Results'!TR28),'System Results'!TR28,0)","v":0},{"$f":"+IF(ISNUMBER('System Results'!TU28),'System Results'!TU28,0)","v":0},{"$f":"+IF(ISNUMBER('System Results'!TX28),'System Results'!TX28,0)","v":0},{"$f":"+IF(ISNUMBER('System Results'!UA28),'System Results'!UA28,0)","v":0},{"$f":"+IF(ISNUMBER('System Results'!UD28),'System Results'!UD28,0)","v":0},{"$f":"+IF(ISNUMBER('System Results'!UG28),'System Results'!UG28,0)","v":0},{"$f":"+IF(ISNUMBER('System Results'!UJ28),'System Results'!UJ28,0)","v":0},{"$f":"+IF(ISNUMBER('System Results'!UM28),'System Results'!UM28,0)","v":0},{"$f":"+IF(ISNUMBER('System Results'!UP28),'System Results'!UP28,0)","v":0},{"$f":"+IF(ISNUMBER('System Results'!US28),'System Results'!US28,0)","v":0},{"$f":"+IF(ISNUMBER('System Results'!UV28),'System Results'!UV28,0)","v":0},{"$f":"+IF(ISNUMBER('System Results'!UY28),'System Results'!UY28,0)","v":0},{"$f":"+IF(ISNUMBER('System Results'!VB28),'System Results'!VB28,0)","v":0},{"$f":"+IF(ISNUMBER('System Results'!VE28),'System Results'!VE28,0)","v":0},{"$f":"+IF(ISNUMBER('System Results'!VH28),'System Results'!VH28,0)","v":0},{"$f":"+IF(ISNUMBER('System Results'!VK28),'System Results'!VK28,0)","v":0},{"$f":"+IF(ISNUMBER('System Results'!VN28),'System Results'!VN28,0)","v":0},{"$f":"+IF(ISNUMBER('System Results'!VQ28),'System Results'!VQ28,0)","v":0},{"$f":"+IF(ISNUMBER('System Results'!VT28),'System Results'!VT28,0)","v":0},{"$f":"+IF(ISNUMBER('System Results'!VW28),'System Results'!VW28,0)","v":0},{"$f":"+IF(ISNUMBER('System Results'!VZ28),'System Results'!VZ28,0)","v":0},{"$f":"+IF(ISNUMBER('System Results'!WC28),'System Results'!WC28,0)","v":0},{"$f":"+IF(ISNUMBER('System Results'!WF28),'System Results'!WF28,0)","v":0},{"$f":"+IF(ISNUMBER('System Results'!WI28),'System Results'!WI28,0)","v":0},{"$f":"+IF(ISNUMBER('System Results'!WL28),'System Results'!WL28,0)","v":0},{"$f":"+IF(ISNUMBER('System Results'!WO28),'System Results'!WO28,0)","v":0},{"$f":"+IF(ISNUMBER('System Results'!WR28),'System Results'!WR28,0)","v":0},{"$f":"+IF(ISNUMBER('System Results'!WU28),'System Results'!WU28,0)","v":0},{"$f":"+IF(ISNUMBER('System Results'!WX28),'System Results'!WX28,0)","v":0},{"$f":"+IF(ISNUMBER('System Results'!XA28),'System Results'!XA28,0)","v":0},{"$f":"+IF(ISNUMBER('System Results'!XD28),'System Results'!XD28,0)","v":0},{"$f":"+IF(ISNUMBER('System Results'!XG28),'System Results'!XG28,0)","v":0},{"$f":"+IF(ISNUMBER('System Results'!XJ28),'System Results'!XJ28,0)","v":0},{"$f":"+IF(ISNUMBER('System Results'!XM28),'System Results'!XM28,0)","v":0},{"$f":"+IF(ISNUMBER('System Results'!XP28),'System Results'!XP28,0)","v":0},{"$f":"+IF(ISNUMBER('System Results'!XS28),'System Results'!XS28,0)","v":0},{"$f":"+IF(ISNUMBER('System Results'!XV28),'System Results'!XV28,0)","v":0},{"$f":"+IF(ISNUMBER('System Results'!XY28),'System Results'!XY28,0)","v":0},{"$f":"+IF(ISNUMBER('System Results'!YB28),'System Results'!YB28,0)","v":0},{"$f":"+IF(ISNUMBER('System Results'!YE28),'System Results'!YE28,0)","v":0},{"$f":"+IF(ISNUMBER('System Results'!YH28),'System Results'!YH28,0)","v":0},{"$f":"+IF(ISNUMBER('System Results'!YK28),'System Results'!YK28,0)","v":0},{"$f":"+IF(ISNUMBER('System Results'!YN28),'System Results'!YN28,0)","v":0},{"$f":"+IF(ISNUMBER('System Results'!YQ28),'System Results'!YQ28,0)","v":0},{"$f":"+IF(ISNUMBER('System Results'!YT28),'System Results'!YT28,0)","v":0},{"$f":"+IF(ISNUMBER('System Results'!YW28),'System Results'!YW28,0)","v":0},{"$f":"+IF(ISNUMBER('System Results'!YZ28),'System Results'!YZ28,0)","v":0},{"$f":"+IF(ISNUMBER('System Results'!ZC28),'System Results'!ZC28,0)","v":0},{"$f":"+IF(ISNUMBER('System Results'!ZF28),'System Results'!ZF28,0)","v":0},{"$f":"+IF(ISNUMBER('System Results'!ZI28),'System Results'!ZI28,0)","v":0},{"$f":"+IF(ISNUMBER('System Results'!ZL28),'System Results'!ZL28,0)","v":0},{"$f":"+IF(ISNUMBER('System Results'!ZO28),'System Results'!ZO28,0)","v":0},{"$f":"+IF(ISNUMBER('System Results'!ZR28),'System Results'!ZR28,0)","v":0},{"$f":"+IF(ISNUMBER('System Results'!ZU28),'System Results'!ZU28,0)","v":0},{"$f":"+IF(ISNUMBER('System Results'!ZX28),'System Results'!ZX28,0)","v":0},{"$f":"+IF(ISNUMBER('System Results'!AAA28),'System Results'!AAA28,0)","v":0},{"$f":"+IF(ISNUMBER('System Results'!AAD28),'System Results'!AAD28,0)","v":0},{"$f":"+IF(ISNUMBER('System Results'!AAG28),'System Results'!AAG28,0)","v":0},{"$f":"+IF(ISNUMBER('System Results'!AAJ28),'System Results'!AAJ28,0)","v":0},{"$f":"+IF(ISNUMBER('System Results'!AAM28),'System Results'!AAM28,0)","v":0},{"$f":"+IF(ISNUMBER('System Results'!AAP28),'System Results'!AAP28,0)","v":0},{"$f":"+IF(ISNUMBER('System Results'!AAS28),'System Results'!AAS28,0)","v":0},{"$f":"+IF(ISNUMBER('System Results'!AAV28),'System Results'!AAV28,0)","v":0},{"$f":"+IF(ISNUMBER('System Results'!AAY28),'System Results'!AAY28,0)","v":0},{"$f":"+IF(ISNUMBER('System Results'!ABB28),'System Results'!ABB28,0)","v":0},{"$f":"+IF(ISNUMBER('System Results'!ABE28),'System Results'!ABE28,0)","v":0},{"$f":"+IF(ISNUMBER('System Results'!ABH28),'System Results'!ABH28,0)","v":0},{"$f":"+IF(ISNUMBER('System Results'!ABK28),'System Results'!ABK28,0)","v":0},{"$f":"+IF(ISNUMBER('System Results'!ABN28),'System Results'!ABN28,0)","v":0},{"$f":"+IF(ISNUMBER('System Results'!ABQ28),'System Results'!ABQ28,0)","v":0},{"$f":"+IF(ISNUMBER('System Results'!ABT28),'System Results'!ABT28,0)","v":0},{"$f":"+IF(ISNUMBER('System Results'!ABW28),'System Results'!ABW28,0)","v":0},{"$f":"+IF(ISNUMBER('System Results'!ABZ28),'System Results'!ABZ28,0)","v":0},{"$f":"+IF(ISNUMBER('System Results'!ACC28),'System Results'!ACC28,0)","v":0},{"$f":"+IF(ISNUMBER('System Results'!ACF28),'System Results'!ACF28,0)","v":0},{"$f":"+IF(ISNUMBER('System Results'!ACI28),'System Results'!ACI28,0)","v":0},{"$f":"+IF(ISNUMBER('System Results'!ACL28),'System Results'!ACL28,0)","v":0},{"$f":"+IF(ISNUMBER('System Results'!ACO28),'System Results'!ACO28,0)","v":0},{"$f":"+IF(ISNUMBER('System Results'!ACR28),'System Results'!ACR28,0)","v":0},{"$f":"+IF(ISNUMBER('System Results'!ACU28),'System Results'!ACU28,0)","v":0},{"$f":"+IF(ISNUMBER('System Results'!ACX28),'System Results'!ACX28,0)","v":0},{"$f":"+IF(ISNUMBER('System Results'!ADA28),'System Results'!ADA28,0)","v":0},{"$f":"+IF(ISNUMBER('System Results'!ADD28),'System Results'!ADD28,0)","v":0},{"$f":"+IF(ISNUMBER('System Results'!ADG28),'System Results'!ADG28,0)","v":0},{"$f":"+IF(ISNUMBER('System Results'!ADJ28),'System Results'!ADJ28,0)","v":0},{"$f":"+IF(ISNUMBER('System Results'!ADM28),'System Results'!ADM28,0)","v":0},{"$f":"+IF(ISNUMBER('System Results'!ADP28),'System Results'!ADP28,0)","v":0},{"$f":"+IF(ISNUMBER('System Results'!ADS28),'System Results'!ADS28,0)","v":0},{"$f":"+IF(ISNUMBER('System Results'!ADV28),'System Results'!ADV28,0)","v":0},{"$f":"+IF(ISNUMBER('System Results'!ADY28),'System Results'!ADY28,0)","v":0},{"$f":"+IF(ISNUMBER('System Results'!AEB28),'System Results'!AEB28,0)","v":0},{"$f":"+IF(ISNUMBER('System Results'!AEE28),'System Results'!AEE28,0)","v":0},{"$f":"+IF(ISNUMBER('System Results'!AEH28),'System Results'!AEH28,0)","v":0},{"$f":"+IF(ISNUMBER('System Results'!AEK28),'System Results'!AEK28,0)","v":0},{"$f":"+IF(ISNUMBER('System Results'!AEN28),'System Results'!AEN28,0)","v":0},{"$f":"+IF(ISNUMBER('System Results'!AEQ28),'System Results'!AEQ28,0)","v":0},{"$f":"+IF(ISNUMBER('System Results'!AET28),'System Results'!AET28,0)","v":0},{"$f":"+IF(ISNUMBER('System Results'!AEW28),'System Results'!AEW28,0)","v":0},{"$f":"+IF(ISNUMBER('System Results'!AEZ28),'System Results'!AEZ28,0)","v":0},{"$f":"+IF(ISNUMBER('System Results'!AFC28),'System Results'!AFC28,0)","v":0},{"$f":"+IF(ISNUMBER('System Results'!AFF28),'System Results'!AFF28,0)","v":0},{"$f":"+IF(ISNUMBER('System Results'!AFI28),'System Results'!AFI28,0)","v":0},{"$f":"+IF(ISNUMBER('System Results'!AFL28),'System Results'!AFL28,0)","v":0},{"$f":"+IF(ISNUMBER('System Results'!AFO28),'System Results'!AFO28,0)","v":0},{"$f":"+IF(ISNUMBER('System Results'!AFR28),'System Results'!AFR28,0)","v":0},{"$f":"+IF(ISNUMBER('System Results'!AFU28),'System Results'!AFU28,0)","v":0},{"$f":"+IF(ISNUMBER('System Results'!AFX28),'System Results'!AFX28,0)","v":0},{"$f":"+IF(ISNUMBER('System Results'!AGA28),'System Results'!AGA28,0)","v":0},{"$f":"+IF(ISNUMBER('System Results'!AGD28),'System Results'!AGD28,0)","v":0},{"$f":"+IF(ISNUMBER('System Results'!AGG28),'System Results'!AGG28,0)","v":0},{"$f":"+IF(ISNUMBER('System Results'!AGJ28),'System Results'!AGJ28,0)","v":0},{"$f":"+IF(ISNUMBER('System Results'!AGM28),'System Results'!AGM28,0)","v":0},{"$f":"+IF(ISNUMBER('System Results'!AGP28),'System Results'!AGP28,0)","v":0},{"$f":"+IF(ISNUMBER('System Results'!AGS28),'System Results'!AGS28,0)","v":0},{"$f":"+IF(ISNUMBER('System Results'!AGV28),'System Results'!AGV28,0)","v":0},{"$f":"+IF(ISNUMBER('System Results'!AGY28),'System Results'!AGY28,0)","v":0},{"$f":"+IF(ISNUMBER('System Results'!AHB28),'System Results'!AHB28,0)","v":0},{"$f":"+IF(ISNUMBER('System Results'!AHE28),'System Results'!AHE28,0)","v":0},{"$f":"+IF(ISNUMBER('System Results'!AHH28),'System Results'!AHH28,0)","v":0},{"$f":"+IF(ISNUMBER('System Results'!AHK28),'System Results'!AHK28,0)","v":0},{"$f":"+IF(ISNUMBER('System Results'!AHN28),'System Results'!AHN28,0)","v":0},{"$f":"+IF(ISNUMBER('System Results'!AHQ28),'System Results'!AHQ28,0)","v":0},{"$f":"+IF(ISNUMBER('System Results'!AHT28),'System Results'!AHT28,0)","v":0}]
["Scope 1",{"$f":"+'System Results'!B29","v":"Mobile Combustion"},0,{"$f":"+IF(ISNUMBER('System Results'!G29),'System Results'!G29,0)","v":0},{"$f":"+IF(ISNUMBER('System Results'!J29),'System Results'!J29,0)","v":0},{"$f":"+IF(ISNUMBER('System Results'!M29),'System Results'!M29,0)","v":0},{"$f":"+IF(ISNUMBER('System Results'!P29),'System Results'!P29,0)","v":0},{"$f":"+IF(ISNUMBER('System Results'!S29),'System Results'!S29,0)","v":0},{"$f":"+IF(ISNUMBER('System Results'!V29),'System Results'!V29,0)","v":0},{"$f":"+IF(ISNUMBER('System Results'!Y29),'System Results'!Y29,0)","v":0},{"$f":"+IF(ISNUMBER('System Results'!AB29),'System Results'!AB29,0)","v":0},{"$f":"+IF(ISNUMBER('System Results'!AE29),'System Results'!AE29,0)","v":0},{"$f":"+IF(ISNUMBER('System Results'!AH29),'System Results'!AH29,0)","v":0},{"$f":"+IF(ISNUMBER('System Results'!AK29),'System Results'!AK29,0)","v":0},{"$f":"+IF(ISNUMBER('System Results'!AN29),'System Results'!AN29,0)","v":0},{"$f":"+IF(ISNUMBER('System Results'!AQ29),'System Results'!AQ29,0)","v":0},{"$f":"+IF(ISNUMBER('System Results'!AT29),'System Results'!AT29,0)","v":0},{"$f":"+IF(ISNUMBER('System Results'!AW29),'System Results'!AW29,0)","v":0},{"$f":"+IF(ISNUMBER('System Results'!AZ29),'System Results'!AZ29,0)","v":0},{"$f":"+IF(ISNUMBER('System Results'!BC29),'System Results'!BC29,0)","v":0},{"$f":"+IF(ISNUMBER('System Results'!BF29),'System Results'!BF29,0)","v":0},{"$f":"+IF(ISNUMBER('System Results'!BI29),'System Results'!BI29,0)","v":0},{"$f":"+IF(ISNUMBER('System Results'!BL29),'System Results'!BL29,0)","v":0},{"$f":"+IF(ISNUMBER('System Results'!BO29),'System Results'!BO29,0)","v":0},{"$f":"+IF(ISNUMBER('System Results'!BR29),'System Results'!BR29,0)","v":0},{"$f":"+IF(ISNUMBER('System Results'!BU29),'System Results'!BU29,0)","v":0},{"$f":"+IF(ISNUMBER('System Results'!BX29),'System Results'!BX29,0)","v":0},{"$f":"+IF(ISNUMBER('System Results'!CA29),'System Results'!CA29,0)","v":0},{"$f":"+IF(ISNUMBER('System Results'!CD29),'System Results'!CD29,0)","v":0},{"$f":"+IF(ISNUMBER('System Results'!CG29),'System Results'!CG29,0)","v":0},{"$f":"+IF(ISNUMBER('System Results'!CJ29),'System Results'!CJ29,0)","v":0},{"$f":"+IF(ISNUMBER('System Results'!CM29),'System Results'!CM29,0)","v":0},{"$f":"+IF(ISNUMBER('System Results'!CP29),'System Results'!CP29,0)","v":0},{"$f":"+IF(ISNUMBER('System Results'!CS29),'System Results'!CS29,0)","v":0},{"$f":"+IF(ISNUMBER('System Results'!CV29),'System Results'!CV29,0)","v":0},{"$f":"+IF(ISNUMBER('System Results'!CY29),'System Results'!CY29,0)","v":0},{"$f":"+IF(ISNUMBER('System Results'!DB29),'System Results'!DB29,0)","v":0},{"$f":"+IF(ISNUMBER('System Results'!DE29),'System Results'!DE29,0)","v":0},{"$f":"+IF(ISNUMBER('System Results'!DH29),'System Results'!DH29,0)","v":0},{"$f":"+IF(ISNUMBER('System Results'!DK29),'System Results'!DK29,0)","v":0},{"$f":"+IF(ISNUMBER('System Results'!DN29),'System Results'!DN29,0)","v":0},{"$f":"+IF(ISNUMBER('System Results'!DQ29),'System Results'!DQ29,0)","v":0},{"$f":"+IF(ISNUMBER('System Results'!DT29),'System Results'!DT29,0)","v":0},{"$f":"+IF(ISNUMBER('System Results'!DW29),'System Results'!DW29,0)","v":0},{"$f":"+IF(ISNUMBER('System Results'!DZ29),'System Results'!DZ29,0)","v":0},{"$f":"+IF(ISNUMBER('System Results'!EC29),'System Results'!EC29,0)","v":0},{"$f":"+IF(ISNUMBER('System Results'!EF29),'System Results'!EF29,0)","v":0},{"$f":"+IF(ISNUMBER('System Results'!EI29),'System Results'!EI29,0)","v":0},{"$f":"+IF(ISNUMBER('System Results'!EL29),'System Results'!EL29,0)","v":0},{"$f":"+IF(ISNUMBER('System Results'!EO29),'System Results'!EO29,0)","v":0},{"$f":"+IF(ISNUMBER('System Results'!ER29),'System Results'!ER29,0)","v":0},{"$f":"+IF(ISNUMBER('System Results'!EU29),'System Results'!EU29,0)","v":0},{"$f":"+IF(ISNUMBER('System Results'!EX29),'System Results'!EX29,0)","v":0},{"$f":"+IF(ISNUMBER('System Results'!FA29),'System Results'!FA29,0)","v":0},{"$f":"+IF(ISNUMBER('System Results'!FD29),'System Results'!FD29,0)","v":0},{"$f":"+IF(ISNUMBER('System Results'!FG29),'System Results'!FG29,0)","v":0},{"$f":"+IF(ISNUMBER('System Results'!FJ29),'System Results'!FJ29,0)","v":0},{"$f":"+IF(ISNUMBER('System Results'!FM29),'System Results'!FM29,0)","v":0},{"$f":"+IF(ISNUMBER('System Results'!FP29),'System Results'!FP29,0)","v":0},{"$f":"+IF(ISNUMBER('System Results'!FS29),'System Results'!FS29,0)","v":0},{"$f":"+IF(ISNUMBER('System Results'!FV29),'System Results'!FV29,0)","v":0},{"$f":"+IF(ISNUMBER('System Results'!FY29),'System Results'!FY29,0)","v":0},{"$f":"+IF(ISNUMBER('System Results'!GB29),'System Results'!GB29,0)","v":0},{"$f":"+IF(ISNUMBER('System Results'!GE29),'System Results'!GE29,0)","v":0},{"$f":"+IF(ISNUMBER('System Results'!GH29),'System Results'!GH29,0)","v":0},{"$f":"+IF(ISNUMBER('System Results'!GK29),'System Results'!GK29,0)","v":0},{"$f":"+IF(ISNUMBER('System Results'!GN29),'System Results'!GN29,0)","v":0},{"$f":"+IF(ISNUMBER('System Results'!GQ29),'System Results'!GQ29,0)","v":0},{"$f":"+IF(ISNUMBER('System Results'!GT29),'System Results'!GT29,0)","v":0},{"$f":"+IF(ISNUMBER('System Results'!GW29),'System Results'!GW29,0)","v":0},{"$f":"+IF(ISNUMBER('System Results'!GZ29),'System Results'!GZ29,0)","v":0},{"$f":"+IF(ISNUMBER('System Results'!HC29),'System Results'!HC29,0)","v":0},{"$f":"+IF(ISNUMBER('System Results'!HF29),'System Results'!HF29,0)","v":0},{"$f":"+IF(ISNUMBER('System Results'!HI29),'System Results'!HI29,0)","v":0},{"$f":"+IF(ISNUMBER('System Results'!HL29),'System Results'!HL29,0)","v":0},{"$f":"+IF(ISNUMBER('System Results'!HO29),'System Results'!HO29,0)","v":0},{"$f":"+IF(ISNUMBER('System Results'!HR29),'System Results'!HR29,0)","v":0},{"$f":"+IF(ISNUMBER('System Results'!HU29),'System Results'!HU29,0)","v":0},{"$f":"+IF(ISNUMBER('System Results'!HX29),'System Results'!HX29,0)","v":0},{"$f":"+IF(ISNUMBER('System Results'!IA29),'System Results'!IA29,0)","v":0},{"$f":"+IF(ISNUMBER('System Results'!ID29),'System Results'!ID29,0)","v":0},{"$f":"+IF(ISNUMBER('System Results'!IG29),'System Results'!IG29,0)","v":0},{"$f":"+IF(ISNUMBER('System Results'!IJ29),'System Results'!IJ29,0)","v":0},{"$f":"+IF(ISNUMBER('System Results'!IM29),'System Results'!IM29,0)","v":0},{"$f":"+IF(ISNUMBER('System Results'!IP29),'System Results'!IP29,0)","v":0},{"$f":"+IF(ISNUMBER('System Results'!IS29),'System Results'!IS29,0)","v":0},{"$f":"+IF(ISNUMBER('System Results'!IV29),'System Results'!IV29,0)","v":0},{"$f":"+IF(ISNUMBER('System Results'!IY29),'System Results'!IY29,0)","v":0},{"$f":"+IF(ISNUMBER('System Results'!JB29),'System Results'!JB29,0)","v":0},{"$f":"+IF(ISNUMBER('System Results'!JE29),'System Results'!JE29,0)","v":0},{"$f":"+IF(ISNUMBER('System Results'!JH29),'System Results'!JH29,0)","v":0},{"$f":"+IF(ISNUMBER('System Results'!JK29),'System Results'!JK29,0)","v":0},{"$f":"+IF(ISNUMBER('System Results'!JN29),'System Results'!JN29,0)","v":0},{"$f":"+IF(ISNUMBER('System Results'!JQ29),'System Results'!JQ29,0)","v":0},{"$f":"+IF(ISNUMBER('System Results'!JT29),'System Results'!JT29,0)","v":0},{"$f":"+IF(ISNUMBER('System Results'!JW29),'System Results'!JW29,0)","v":0},{"$f":"+IF(ISNUMBER('System Results'!JZ29),'System Results'!JZ29,0)","v":0},{"$f":"+IF(ISNUMBER('System Results'!KC29),'System Results'!KC29,0)","v":0},{"$f":"+IF(ISNUMBER('System Results'!KF29),'System Results'!KF29,0)","v":0},{"$f":"+IF(ISNUMBER('System Results'!KI29),'System Results'!KI29,0)","v":0},{"$f":"+IF(ISNUMBER('System Results'!KL29),'System Results'!KL29,0)","v":0},{"$f":"+IF(ISNUMBER('System Results'!KO29),'System Results'!KO29,0)","v":0},{"$f":"+IF(ISNUMBER('System Results'!KR29),'System Results'!KR29,0)","v":0},{"$f":"+IF(ISNUMBER('System Results'!KU29),'System Results'!KU29,0)","v":0},{"$f":"+IF(ISNUMBER('System Results'!KX29),'System Results'!KX29,0)","v":0},{"$f":"+IF(ISNUMBER('System Results'!LA29),'System Results'!LA29,0)","v":0},{"$f":"+IF(ISNUMBER('System Results'!LD29),'System Results'!LD29,0)","v":0},{"$f":"+IF(ISNUMBER('System Results'!LG29),'System Results'!LG29,0)","v":0},{"$f":"+IF(ISNUMBER('System Results'!LJ29),'System Results'!LJ29,0)","v":0},{"$f":"+IF(ISNUMBER('System Results'!LM29),'System Results'!LM29,0)","v":0},{"$f":"+IF(ISNUMBER('System Results'!LP29),'System Results'!LP29,0)","v":0},{"$f":"+IF(ISNUMBER('System Results'!LS29),'System Results'!LS29,0)","v":0},{"$f":"+IF(ISNUMBER('System Results'!LV29),'System Results'!LV29,0)","v":0},{"$f":"+IF(ISNUMBER('System Results'!LY29),'System Results'!LY29,0)","v":0},{"$f":"+IF(ISNUMBER('System Results'!MB29),'System Results'!MB29,0)","v":0},{"$f":"+IF(ISNUMBER('System Results'!ME29),'System Results'!ME29,0)","v":0},{"$f":"+IF(ISNUMBER('System Results'!MH29),'System Results'!MH29,0)","v":0},{"$f":"+IF(ISNUMBER('System Results'!MK29),'System Results'!MK29,0)","v":0},{"$f":"+IF(ISNUMBER('System Results'!MN29),'System Results'!MN29,0)","v":0},{"$f":"+IF(ISNUMBER('System Results'!MQ29),'System Results'!MQ29,0)","v":0},{"$f":"+IF(ISNUMBER('System Results'!MT29),'System Results'!MT29,0)","v":0},{"$f":"+IF(ISNUMBER('System Results'!MW29),'System Results'!MW29,0)","v":0},{"$f":"+IF(ISNUMBER('System Results'!MZ29),'System Results'!MZ29,0)","v":0},{"$f":"+IF(ISNUMBER('System Results'!NC29),'System Results'!NC29,0)","v":0},{"$f":"+IF(ISNUMBER('System Results'!NF29),'System Results'!NF29,0)","v":0},{"$f":"+IF(ISNUMBER('System Results'!NI29),'System Results'!NI29,0)","v":0},{"$f":"+IF(ISNUMBER('System Results'!NL29),'System Results'!NL29,0)","v":0},{"$f":"+IF(ISNUMBER('System Results'!NO29),'System Results'!NO29,0)","v":0},{"$f":"+IF(ISNUMBER('System Results'!NR29),'System Results'!NR29,0)","v":0},{"$f":"+IF(ISNUMBER('System Results'!NU29),'System Results'!NU29,0)","v":0},{"$f":"+IF(ISNUMBER('System Results'!NX29),'System Results'!NX29,0)","v":0},{"$f":"+IF(ISNUMBER('System Results'!OA29),'System Results'!OA29,0)","v":0},{"$f":"+IF(ISNUMBER('System Results'!OD29),'System Results'!OD29,0)","v":0},{"$f":"+IF(ISNUMBER('System Results'!OG29),'System Results'!OG29,0)","v":0},{"$f":"+IF(ISNUMBER('System Results'!OJ29),'System Results'!OJ29,0)","v":0},{"$f":"+IF(ISNUMBER('System Results'!OM29),'System Results'!OM29,0)","v":0},{"$f":"+IF(ISNUMBER('System Results'!OP29),'System Results'!OP29,0)","v":0},{"$f":"+IF(ISNUMBER('System Results'!OS29),'System Results'!OS29,0)","v":0},{"$f":"+IF(ISNUMBER('System Results'!OV29),'System Results'!OV29,0)","v":0},{"$f":"+IF(ISNUMBER('System Results'!OY29),'System Results'!OY29,0)","v":0},{"$f":"+IF(ISNUMBER('System Results'!PB29),'System Results'!PB29,0)","v":0},{"$f":"+IF(ISNUMBER('System Results'!PE29),'System Results'!PE29,0)","v":0},{"$f":"+IF(ISNUMBER('System Results'!PH29),'System Results'!PH29,0)","v":0},{"$f":"+IF(ISNUMBER('System Results'!PK29),'System Results'!PK29,0)","v":0},{"$f":"+IF(ISNUMBER('System Results'!PN29),'System Results'!PN29,0)","v":0},{"$f":"+IF(ISNUMBER('System Results'!PQ29),'System Results'!PQ29,0)","v":0},{"$f":"+IF(ISNUMBER('System Results'!PT29),'System Results'!PT29,0)","v":0},{"$f":"+IF(ISNUMBER('System Results'!PW29),'System Results'!PW29,0)","v":0},{"$f":"+IF(ISNUMBER('System Results'!PZ29),'System Results'!PZ29,0)","v":0},{"$f":"+IF(ISNUMBER('System Results'!QC29),'System Results'!QC29,0)","v":0},{"$f":"+IF(ISNUMBER('System Results'!QF29),'System Results'!QF29,0)","v":0},{"$f":"+IF(ISNUMBER('System Results'!QI29),'System Results'!QI29,0)","v":0},{"$f":"+IF(ISNUMBER('System Results'!QL29),'System Results'!QL29,0)","v":0},{"$f":"+IF(ISNUMBER('System Results'!QO29),'System Results'!QO29,0)","v":0},{"$f":"+IF(ISNUMBER('System Results'!QR29),'System Results'!QR29,0)","v":0},{"$f":"+IF(ISNUMBER('System Results'!QU29),'System Results'!QU29,0)","v":0},{"$f":"+IF(ISNUMBER('System Results'!QX29),'System Results'!QX29,0)","v":0},{"$f":"+IF(ISNUMBER('System Results'!RA29),'System Results'!RA29,0)","v":0},{"$f":"+IF(ISNUMBER('System Results'!RD29),'System Results'!RD29,0)","v":0},{"$f":"+IF(ISNUMBER('System Results'!RG29),'System Results'!RG29,0)","v":0},{"$f":"+IF(ISNUMBER('System Results'!RJ29),'System Results'!RJ29,0)","v":0},{"$f":"+IF(ISNUMBER('System Results'!RM29),'System Results'!RM29,0)","v":0},{"$f":"+IF(ISNUMBER('System Results'!RP29),'System Results'!RP29,0)","v":0},{"$f":"+IF(ISNUMBER('System Results'!RS29),'System Results'!RS29,0)","v":0},{"$f":"+IF(ISNUMBER('System Results'!RV29),'System Results'!RV29,0)","v":0},{"$f":"+IF(ISNUMBER('System Results'!RY29),'System Results'!RY29,0)","v":0},{"$f":"+IF(ISNUMBER('System Results'!SB29),'System Results'!SB29,0)","v":0},{"$f":"+IF(ISNUMBER('System Results'!SE29),'System Results'!SE29,0)","v":0},{"$f":"+IF(ISNUMBER('System Results'!SH29),'System Results'!SH29,0)","v":0},{"$f":"+IF(ISNUMBER('System Results'!SK29),'System Results'!SK29,0)","v":0},{"$f":"+IF(ISNUMBER('System Results'!SN29),'System Results'!SN29,0)","v":0},{"$f":"+IF(ISNUMBER('System Results'!SQ29),'System Results'!SQ29,0)","v":0},{"$f":"+IF(ISNUMBER('System Results'!ST29),'System Results'!ST29,0)","v":0},{"$f":"+IF(ISNUMBER('System Results'!SW29),'System Results'!SW29,0)","v":0},{"$f":"+IF(ISNUMBER('System Results'!SZ29),'System Results'!SZ29,0)","v":0},{"$f":"+IF(ISNUMBER('System Results'!TC29),'System Results'!TC29,0)","v":0},{"$f":"+IF(ISNUMBER('System Results'!TF29),'System Results'!TF29,0)","v":0},{"$f":"+IF(ISNUMBER('System Results'!TI29),'System Results'!TI29,0)","v":0},{"$f":"+IF(ISNUMBER('System Results'!TL29),'System Results'!TL29,0)","v":0},{"$f":"+IF(ISNUMBER('System Results'!TO29),'System Results'!TO29,0)","v":0},{"$f":"+IF(ISNUMBER('System Results'!TR29),'System Results'!TR29,0)","v":0},{"$f":"+IF(ISNUMBER('System Results'!TU29),'System Results'!TU29,0)","v":0},{"$f":"+IF(ISNUMBER('System Results'!TX29),'System Results'!TX29,0)","v":0},{"$f":"+IF(ISNUMBER('System Results'!UA29),'System Results'!UA29,0)","v":0},{"$f":"+IF(ISNUMBER('System Results'!UD29),'System Results'!UD29,0)","v":0},{"$f":"+IF(ISNUMBER('System Results'!UG29),'System Results'!UG29,0)","v":0},{"$f":"+IF(ISNUMBER('System Results'!UJ29),'System Results'!UJ29,0)","v":0},{"$f":"+IF(ISNUMBER('System Results'!UM29),'System Results'!UM29,0)","v":0},{"$f":"+IF(ISNUMBER('System Results'!UP29),'System Results'!UP29,0)","v":0},{"$f":"+IF(ISNUMBER('System Results'!US29),'System Results'!US29,0)","v":0},{"$f":"+IF(ISNUMBER('System Results'!UV29),'System Results'!UV29,0)","v":0},{"$f":"+IF(ISNUMBER('System Results'!UY29),'System Results'!UY29,0)","v":0},{"$f":"+IF(ISNUMBER('System Results'!VB29),'System Results'!VB29,0)","v":0},{"$f":"+IF(ISNUMBER('System Results'!VE29),'System Results'!VE29,0)","v":0},{"$f":"+IF(ISNUMBER('System Results'!VH29),'System Results'!VH29,0)","v":0},{"$f":"+IF(ISNUMBER('System Results'!VK29),'System Results'!VK29,0)","v":0},{"$f":"+IF(ISNUMBER('System Results'!VN29),'System Results'!VN29,0)","v":0},{"$f":"+IF(ISNUMBER('System Results'!VQ29),'System Results'!VQ29,0)","v":0},{"$f":"+IF(ISNUMBER('System Results'!VT29),'System Results'!VT29,0)","v":0},{"$f":"+IF(ISNUMBER('System Results'!VW29),'System Results'!VW29,0)","v":0},{"$f":"+IF(ISNUMBER('System Results'!VZ29),'System Results'!VZ29,0)","v":0},{"$f":"+IF(ISNUMBER('System Results'!WC29),'System Results'!WC29,0)","v":0},{"$f":"+IF(ISNUMBER('System Results'!WF29),'System Results'!WF29,0)","v":0},{"$f":"+IF(ISNUMBER('System Results'!WI29),'System Results'!WI29,0)","v":0},{"$f":"+IF(ISNUMBER('System Results'!WL29),'System Results'!WL29,0)","v":0},{"$f":"+IF(ISNUMBER('System Results'!WO29),'System Results'!WO29,0)","v":0},{"$f":"+IF(ISNUMBER('System Results'!WR29),'System Results'!WR29,0)","v":0},{"$f":"+IF(ISNUMBER('System Results'!WU29),'System Results'!WU29,0)","v":0},{"$f":"+IF(ISNUMBER('System Results'!WX29),'System Results'!WX29,0)","v":0},{"$f":"+IF(ISNUMBER('System Results'!XA29),'System Results'!XA29,0)","v":0},{"$f":"+IF(ISNUMBER('System Results'!XD29),'System Results'!XD29,0)","v":0},{"$f":"+IF(ISNUMBER('System Results'!XG29),'System Results'!XG29,0)","v":0},{"$f":"+IF(ISNUMBER('System Results'!XJ29),'System Results'!XJ29,0)","v":0},{"$f":"+IF(ISNUMBER('System Results'!XM29),'System Results'!XM29,0)","v":0},{"$f":"+IF(ISNUMBER('System Results'!XP29),'System Results'!XP29,0)","v":0},{"$f":"+IF(ISNUMBER('System Results'!XS29),'System Results'!XS29,0)","v":0},{"$f":"+IF(ISNUMBER('System Results'!XV29),'System Results'!XV29,0)","v":0},{"$f":"+IF(ISNUMBER('System Results'!XY29),'System Results'!XY29,0)","v":0},{"$f":"+IF(ISNUMBER('System Results'!YB29),'System Results'!YB29,0)","v":0},{"$f":"+IF(ISNUMBER('System Results'!YE29),'System Results'!YE29,0)","v":0},{"$f":"+IF(ISNUMBER('System Results'!YH29),'System Results'!YH29,0)","v":0},{"$f":"+IF(ISNUMBER('System Results'!YK29),'System Results'!YK29,0)","v":0},{"$f":"+IF(ISNUMBER('System Results'!YN29),'System Results'!YN29,0)","v":0},{"$f":"+IF(ISNUMBER('System Results'!YQ29),'System Results'!YQ29,0)","v":0},{"$f":"+IF(ISNUMBER('System Results'!YT29),'System Results'!YT29,0)","v":0},{"$f":"+IF(ISNUMBER('System Results'!YW29),'System Results'!YW29,0)","v":0},{"$f":"+IF(ISNUMBER('System Results'!YZ29),'System Results'!YZ29,0)","v":0},{"$f":"+IF(ISNUMBER('System Results'!ZC29),'System Results'!ZC29,0)","v":0},{"$f":"+IF(ISNUMBER('System Results'!ZF29),'System Results'!ZF29,0)","v":0},{"$f":"+IF(ISNUMBER('System Results'!ZI29),'System Results'!ZI29,0)","v":0},{"$f":"+IF(ISNUMBER('System Results'!ZL29),'System Results'!ZL29,0)","v":0},{"$f":"+IF(ISNUMBER('System Results'!ZO29),'System Results'!ZO29,0)","v":0},{"$f":"+IF(ISNUMBER('System Results'!ZR29),'System Results'!ZR29,0)","v":0},{"$f":"+IF(ISNUMBER('System Results'!ZU29),'System Results'!ZU29,0)","v":0},{"$f":"+IF(ISNUMBER('System Results'!ZX29),'System Results'!ZX29,0)","v":0},{"$f":"+IF(ISNUMBER('System Results'!AAA29),'System Results'!AAA29,0)","v":0},{"$f":"+IF(ISNUMBER('System Results'!AAD29),'System Results'!AAD29,0)","v":0},{"$f":"+IF(ISNUMBER('System Results'!AAG29),'System Results'!AAG29,0)","v":0},{"$f":"+IF(ISNUMBER('System Results'!AAJ29),'System Results'!AAJ29,0)","v":0},{"$f":"+IF(ISNUMBER('System Results'!AAM29),'System Results'!AAM29,0)","v":0},{"$f":"+IF(ISNUMBER('System Results'!AAP29),'System Results'!AAP29,0)","v":0},{"$f":"+IF(ISNUMBER('System Results'!AAS29),'System Results'!AAS29,0)","v":0},{"$f":"+IF(ISNUMBER('System Results'!AAV29),'System Results'!AAV29,0)","v":0},{"$f":"+IF(ISNUMBER('System Results'!AAY29),'System Results'!AAY29,0)","v":0},{"$f":"+IF(ISNUMBER('System Results'!ABB29),'System Results'!ABB29,0)","v":0},{"$f":"+IF(ISNUMBER('System Results'!ABE29),'System Results'!ABE29,0)","v":0},{"$f":"+IF(ISNUMBER('System Results'!ABH29),'System Results'!ABH29,0)","v":0},{"$f":"+IF(ISNUMBER('System Results'!ABK29),'System Results'!ABK29,0)","v":0},{"$f":"+IF(ISNUMBER('System Results'!ABN29),'System Results'!ABN29,0)","v":0},{"$f":"+IF(ISNUMBER('System Results'!ABQ29),'System Results'!ABQ29,0)","v":0},{"$f":"+IF(ISNUMBER('System Results'!ABT29),'System Results'!ABT29,0)","v":0},{"$f":"+IF(ISNUMBER('System Results'!ABW29),'System Results'!ABW29,0)","v":0},{"$f":"+IF(ISNUMBER('System Results'!ABZ29),'System Results'!ABZ29,0)","v":0},{"$f":"+IF(ISNUMBER('System Results'!ACC29),'System Results'!ACC29,0)","v":0},{"$f":"+IF(ISNUMBER('System Results'!ACF29),'System Results'!ACF29,0)","v":0},{"$f":"+IF(ISNUMBER('System Results'!ACI29),'System Results'!ACI29,0)","v":0},{"$f":"+IF(ISNUMBER('System Results'!ACL29),'System Results'!ACL29,0)","v":0},{"$f":"+IF(ISNUMBER('System Results'!ACO29),'System Results'!ACO29,0)","v":0},{"$f":"+IF(ISNUMBER('System Results'!ACR29),'System Results'!ACR29,0)","v":0},{"$f":"+IF(ISNUMBER('System Results'!ACU29),'System Results'!ACU29,0)","v":0},{"$f":"+IF(ISNUMBER('System Results'!ACX29),'System Results'!ACX29,0)","v":0},{"$f":"+IF(ISNUMBER('System Results'!ADA29),'System Results'!ADA29,0)","v":0},{"$f":"+IF(ISNUMBER('System Results'!ADD29),'System Results'!ADD29,0)","v":0},{"$f":"+IF(ISNUMBER('System Results'!ADG29),'System Results'!ADG29,0)","v":0},{"$f":"+IF(ISNUMBER('System Results'!ADJ29),'System Results'!ADJ29,0)","v":0},{"$f":"+IF(ISNUMBER('System Results'!ADM29),'System Results'!ADM29,0)","v":0},{"$f":"+IF(ISNUMBER('System Results'!ADP29),'System Results'!ADP29,0)","v":0},{"$f":"+IF(ISNUMBER('System Results'!ADS29),'System Results'!ADS29,0)","v":0},{"$f":"+IF(ISNUMBER('System Results'!ADV29),'System Results'!ADV29,0)","v":0},{"$f":"+IF(ISNUMBER('System Results'!ADY29),'System Results'!ADY29,0)","v":0},{"$f":"+IF(ISNUMBER('System Results'!AEB29),'System Results'!AEB29,0)","v":0},{"$f":"+IF(ISNUMBER('System Results'!AEE29),'System Results'!AEE29,0)","v":0},{"$f":"+IF(ISNUMBER('System Results'!AEH29),'System Results'!AEH29,0)","v":0},{"$f":"+IF(ISNUMBER('System Results'!AEK29),'System Results'!AEK29,0)","v":0},{"$f":"+IF(ISNUMBER('System Results'!AEN29),'System Results'!AEN29,0)","v":0},{"$f":"+IF(ISNUMBER('System Results'!AEQ29),'System Results'!AEQ29,0)","v":0},{"$f":"+IF(ISNUMBER('System Results'!AET29),'System Results'!AET29,0)","v":0},{"$f":"+IF(ISNUMBER('System Results'!AEW29),'System Results'!AEW29,0)","v":0},{"$f":"+IF(ISNUMBER('System Results'!AEZ29),'System Results'!AEZ29,0)","v":0},{"$f":"+IF(ISNUMBER('System Results'!AFC29),'System Results'!AFC29,0)","v":0},{"$f":"+IF(ISNUMBER('System Results'!AFF29),'System Results'!AFF29,0)","v":0},{"$f":"+IF(ISNUMBER('System Results'!AFI29),'System Results'!AFI29,0)","v":0},{"$f":"+IF(ISNUMBER('System Results'!AFL29),'System Results'!AFL29,0)","v":0},{"$f":"+IF(ISNUMBER('System Results'!AFO29),'System Results'!AFO29,0)","v":0},{"$f":"+IF(ISNUMBER('System Results'!AFR29),'System Results'!AFR29,0)","v":0},{"$f":"+IF(ISNUMBER('System Results'!AFU29),'System Results'!AFU29,0)","v":0},{"$f":"+IF(ISNUMBER('System Results'!AFX29),'System Results'!AFX29,0)","v":0},{"$f":"+IF(ISNUMBER('System Results'!AGA29),'System Results'!AGA29,0)","v":0},{"$f":"+IF(ISNUMBER('System Results'!AGD29),'System Results'!AGD29,0)","v":0},{"$f":"+IF(ISNUMBER('System Results'!AGG29),'System Results'!AGG29,0)","v":0},{"$f":"+IF(ISNUMBER('System Results'!AGJ29),'System Results'!AGJ29,0)","v":0},{"$f":"+IF(ISNUMBER('System Results'!AGM29),'System Results'!AGM29,0)","v":0},{"$f":"+IF(ISNUMBER('System Results'!AGP29),'System Results'!AGP29,0)","v":0},{"$f":"+IF(ISNUMBER('System Results'!AGS29),'System Results'!AGS29,0)","v":0},{"$f":"+IF(ISNUMBER('System Results'!AGV29),'System Results'!AGV29,0)","v":0},{"$f":"+IF(ISNUMBER('System Results'!AGY29),'System Results'!AGY29,0)","v":0},{"$f":"+IF(ISNUMBER('System Results'!AHB29),'System Results'!AHB29,0)","v":0},{"$f":"+IF(ISNUMBER('System Results'!AHE29),'System Results'!AHE29,0)","v":0},{"$f":"+IF(ISNUMBER('System Results'!AHH29),'System Results'!AHH29,0)","v":0},{"$f":"+IF(ISNUMBER('System Results'!AHK29),'System Results'!AHK29,0)","v":0},{"$f":"+IF(ISNUMBER('System Results'!AHN29),'System Results'!AHN29,0)","v":0},{"$f":"+IF(ISNUMBER('System Results'!AHQ29),'System Results'!AHQ29,0)","v":0},{"$f":"+IF(ISNUMBER('System Results'!AHT29),'System Results'!AHT29,0)","v":0}]
["Scope 1",{"$f":"+'System Results'!B31","v":"Refrigerants & Fire Suppression"},0,{"$f":"+IF(ISNUMBER('System Results'!G31),'System Results'!G31,0)","v":0},{"$f":"+IF(ISNUMBER('System Results'!J31),'System Results'!J31,0)","v":0},{"$f":"+IF(ISNUMBER('System Results'!M31),'System Results'!M31,0)","v":0},{"$f":"+IF(ISNUMBER('System Results'!P31),'System Results'!P31,0)","v":0},{"$f":"+IF(ISNUMBER('System Results'!S31),'System Results'!S31,0)","v":0},{"$f":"+IF(ISNUMBER('System Results'!V31),'System Results'!V31,0)","v":0},{"$f":"+IF(ISNUMBER('System Results'!Y31),'System Results'!Y31,0)","v":0},{"$f":"+IF(ISNUMBER('System Results'!AB31),'System Results'!AB31,0)","v":0},{"$f":"+IF(ISNUMBER('System Results'!AE31),'System Results'!AE31,0)","v":0},{"$f":"+IF(ISNUMBER('System Results'!AH31),'System Results'!AH31,0)","v":0},{"$f":"+IF(ISNUMBER('System Results'!AK31),'System Results'!AK31,0)","v":0},{"$f":"+IF(ISNUMBER('System Results'!AN31),'System Results'!AN31,0)","v":0},{"$f":"+IF(ISNUMBER('System Results'!AQ31),'System Results'!AQ31,0)","v":0},{"$f":"+IF(ISNUMBER('System Results'!AT31),'System Results'!AT31,0)","v":0},{"$f":"+IF(ISNUMBER('System Results'!AW31),'System Results'!AW31,0)","v":0},{"$f":"+IF(ISNUMBER('System Results'!AZ31),'System Results'!AZ31,0)","v":0},{"$f":"+IF(ISNUMBER('System Results'!BC31),'System Results'!BC31,0)","v":0},{"$f":"+IF(ISNUMBER('System Results'!BF31),'System Results'!BF31,0)","v":0},{"$f":"+IF(ISNUMBER('System Results'!BI31),'System Results'!BI31,0)","v":0},{"$f":"+IF(ISNUMBER('System Results'!BL31),'System Results'!BL31,0)","v":0},{"$f":"+IF(ISNUMBER('System Results'!BO31),'System Results'!BO31,0)","v":0},{"$f":"+IF(ISNUMBER('System Results'!BR31),'System Results'!BR31,0)","v":0},{"$f":"+IF(ISNUMBER('System Results'!BU31),'System Results'!BU31,0)","v":0},{"$f":"+IF(ISNUMBER('System Results'!BX31),'System Results'!BX31,0)","v":0},{"$f":"+IF(ISNUMBER('System Results'!CA31),'System Results'!CA31,0)","v":0},{"$f":"+IF(ISNUMBER('System Results'!CD31),'System Results'!CD31,0)","v":0},{"$f":"+IF(ISNUMBER('System Results'!CG31),'System Results'!CG31,0)","v":0},{"$f":"+IF(ISNUMBER('System Results'!CJ31),'System Results'!CJ31,0)","v":0},{"$f":"+IF(ISNUMBER('System Results'!CM31),'System Results'!CM31,0)","v":0},{"$f":"+IF(ISNUMBER('System Results'!CP31),'System Results'!CP31,0)","v":0},{"$f":"+IF(ISNUMBER('System Results'!CS31),'System Results'!CS31,0)","v":0},{"$f":"+IF(ISNUMBER('System Results'!CV31),'System Results'!CV31,0)","v":0},{"$f":"+IF(ISNUMBER('System Results'!CY31),'System Results'!CY31,0)","v":0},{"$f":"+IF(ISNUMBER('System Results'!DB31),'System Results'!DB31,0)","v":0},{"$f":"+IF(ISNUMBER('System Results'!DE31),'System Results'!DE31,0)","v":0},{"$f":"+IF(ISNUMBER('System Results'!DH31),'System Results'!DH31,0)","v":0},{"$f":"+IF(ISNUMBER('System Results'!DK31),'System Results'!DK31,0)","v":0},{"$f":"+IF(ISNUMBER('System Results'!DN31),'System Results'!DN31,0)","v":0},{"$f":"+IF(ISNUMBER('System Results'!DQ31),'System Results'!DQ31,0)","v":0},{"$f":"+IF(ISNUMBER('System Results'!DT31),'System Results'!DT31,0)","v":0},{"$f":"+IF(ISNUMBER('System Results'!DW31),'System Results'!DW31,0)","v":0},{"$f":"+IF(ISNUMBER('System Results'!DZ31),'System Results'!DZ31,0)","v":0},{"$f":"+IF(ISNUMBER('System Results'!EC31),'System Results'!EC31,0)","v":0},{"$f":"+IF(ISNUMBER('System Results'!EF31),'System Results'!EF31,0)","v":0},{"$f":"+IF(ISNUMBER('System Results'!EI31),'System Results'!EI31,0)","v":0},{"$f":"+IF(ISNUMBER('System Results'!EL31),'System Results'!EL31,0)","v":0},{"$f":"+IF(ISNUMBER('System Results'!EO31),'System Results'!EO31,0)","v":0},{"$f":"+IF(ISNUMBER('System Results'!ER31),'System Results'!ER31,0)","v":0},{"$f":"+IF(ISNUMBER('System Results'!EU31),'System Results'!EU31,0)","v":0},{"$f":"+IF(ISNUMBER('System Results'!EX31),'System Results'!EX31,0)","v":0},{"$f":"+IF(ISNUMBER('System Results'!FA31),'System Results'!FA31,0)","v":0},{"$f":"+IF(ISNUMBER('System Results'!FD31),'System Results'!FD31,0)","v":0},{"$f":"+IF(ISNUMBER('System Results'!FG31),'System Results'!FG31,0)","v":0},{"$f":"+IF(ISNUMBER('System Results'!FJ31),'System Results'!FJ31,0)","v":0},{"$f":"+IF(ISNUMBER('System Results'!FM31),'System Results'!FM31,0)","v":0},{"$f":"+IF(ISNUMBER('System Results'!FP31),'System Results'!FP31,0)","v":0},{"$f":"+IF(ISNUMBER('System Results'!FS31),'System Results'!FS31,0)","v":0},{"$f":"+IF(ISNUMBER('System Results'!FV31),'System Results'!FV31,0)","v":0},{"$f":"+IF(ISNUMBER('System Results'!FY31),'System Results'!FY31,0)","v":0},{"$f":"+IF(ISNUMBER('System Results'!GB31),'System Results'!GB31,0)","v":0},{"$f":"+IF(ISNUMBER('System Results'!GE31),'System Results'!GE31,0)","v":0},{"$f":"+IF(ISNUMBER('System Results'!GH31),'System Results'!GH31,0)","v":0},{"$f":"+IF(ISNUMBER('System Results'!GK31),'System Results'!GK31,0)","v":0},{"$f":"+IF(ISNUMBER('System Results'!GN31),'System Results'!GN31,0)","v":0},{"$f":"+IF(ISNUMBER('System Results'!GQ31),'System Results'!GQ31,0)","v":0},{"$f":"+IF(ISNUMBER('System Results'!GT31),'System Results'!GT31,0)","v":0},{"$f":"+IF(ISNUMBER('System Results'!GW31),'System Results'!GW31,0)","v":0},{"$f":"+IF(ISNUMBER('System Results'!GZ31),'System Results'!GZ31,0)","v":0},{"$f":"+IF(ISNUMBER('System Results'!HC31),'System Results'!HC31,0)","v":0},{"$f":"+IF(ISNUMBER('System Results'!HF31),'System Results'!HF31,0)","v":0},{"$f":"+IF(ISNUMBER('System Results'!HI31),'System Results'!HI31,0)","v":0},{"$f":"+IF(ISNUMBER('System Results'!HL31),'System Results'!HL31,0)","v":0},{"$f":"+IF(ISNUMBER('System Results'!HO31),'System Results'!HO31,0)","v":0},{"$f":"+IF(ISNUMBER('System Results'!HR31),'System Results'!HR31,0)","v":0},{"$f":"+IF(ISNUMBER('System Results'!HU31),'System Results'!HU31,0)","v":0},{"$f":"+IF(ISNUMBER('System Results'!HX31),'System Results'!HX31,0)","v":0},{"$f":"+IF(ISNUMBER('System Results'!IA31),'System Results'!IA31,0)","v":0},{"$f":"+IF(ISNUMBER('System Results'!ID31),'System Results'!ID31,0)","v":0},{"$f":"+IF(ISNUMBER('System Results'!IG31),'System Results'!IG31,0)","v":0},{"$f":"+IF(ISNUMBER('System Results'!IJ31),'System Results'!IJ31,0)","v":0},{"$f":"+IF(ISNUMBER('System Results'!IM31),'System Results'!IM31,0)","v":0},{"$f":"+IF(ISNUMBER('System Results'!IP31),'System Results'!IP31,0)","v":0},{"$f":"+IF(ISNUMBER('System Results'!IS31),'System Results'!IS31,0)","v":0},{"$f":"+IF(ISNUMBER('System Results'!IV31),'System Results'!IV31,0)","v":0},{"$f":"+IF(ISNUMBER('System Results'!IY31),'System Results'!IY31,0)","v":0},{"$f":"+IF(ISNUMBER('System Results'!JB31),'System Results'!JB31,0)","v":0},{"$f":"+IF(ISNUMBER('System Results'!JE31),'System Results'!JE31,0)","v":0},{"$f":"+IF(ISNUMBER('System Results'!JH31),'System Results'!JH31,0)","v":0},{"$f":"+IF(ISNUMBER('System Results'!JK31),'System Results'!JK31,0)","v":0},{"$f":"+IF(ISNUMBER('System Results'!JN31),'System Results'!JN31,0)","v":0},{"$f":"+IF(ISNUMBER('System Results'!JQ31),'System Results'!JQ31,0)","v":0},{"$f":"+IF(ISNUMBER('System Results'!JT31),'System Results'!JT31,0)","v":0},{"$f":"+IF(ISNUMBER('System Results'!JW31),'System Results'!JW31,0)","v":0},{"$f":"+IF(ISNUMBER('System Results'!JZ31),'System Results'!JZ31,0)","v":0},{"$f":"+IF(ISNUMBER('System Results'!KC31),'System Results'!KC31,0)","v":0},{"$f":"+IF(ISNUMBER('System Results'!KF31),'System Results'!KF31,0)","v":0},{"$f":"+IF(ISNUMBER('System Results'!KI31),'System Results'!KI31,0)","v":0},{"$f":"+IF(ISNUMBER('System Results'!KL31),'System Results'!KL31,0)","v":0},{"$f":"+IF(ISNUMBER('System Results'!KO31),'System Results'!KO31,0)","v":0},{"$f":"+IF(ISNUMBER('System Results'!KR31),'System Results'!KR31,0)","v":0},{"$f":"+IF(ISNUMBER('System Results'!KU31),'System Results'!KU31,0)","v":0},{"$f":"+IF(ISNUMBER('System Results'!KX31),'System Results'!KX31,0)","v":0},{"$f":"+IF(ISNUMBER('System Results'!LA31),'System Results'!LA31,0)","v":0},{"$f":"+IF(ISNUMBER('System Results'!LD31),'System Results'!LD31,0)","v":0},{"$f":"+IF(ISNUMBER('System Results'!LG31),'System Results'!LG31,0)","v":0},{"$f":"+IF(ISNUMBER('System Results'!LJ31),'System Results'!LJ31,0)","v":0},{"$f":"+IF(ISNUMBER('System Results'!LM31),'System Results'!LM31,0)","v":0},{"$f":"+IF(ISNUMBER('System Results'!LP31),'System Results'!LP31,0)","v":0},{"$f":"+IF(ISNUMBER('System Results'!LS31),'System Results'!LS31,0)","v":0},{"$f":"+IF(ISNUMBER('System Results'!LV31),'System Results'!LV31,0)","v":0},{"$f":"+IF(ISNUMBER('System Results'!LY31),'System Results'!LY31,0)","v":0},{"$f":"+IF(ISNUMBER('System Results'!MB31),'System Results'!MB31,0)","v":0},{"$f":"+IF(ISNUMBER('System Results'!ME31),'System Results'!ME31,0)","v":0},{"$f":"+IF(ISNUMBER('System Results'!MH31),'System Results'!MH31,0)","v":0},{"$f":"+IF(ISNUMBER('System Results'!MK31),'System Results'!MK31,0)","v":0},{"$f":"+IF(ISNUMBER('System Results'!MN31),'System Results'!MN31,0)","v":0},{"$f":"+IF(ISNUMBER('System Results'!MQ31),'System Results'!MQ31,0)","v":0},{"$f":"+IF(ISNUMBER('System Results'!MT31),'System Results'!MT31,0)","v":0},{"$f":"+IF(ISNUMBER('System Results'!MW31),'System Results'!MW31,0)","v":0},{"$f":"+IF(ISNUMBER('System Results'!MZ31),'System Results'!MZ31,0)","v":0},{"$f":"+IF(ISNUMBER('System Results'!NC31),'System Results'!NC31,0)","v":0},{"$f":"+IF(ISNUMBER('System Results'!NF31),'System Results'!NF31,0)","v":0},{"$f":"+IF(ISNUMBER('System Results'!NI31),'System Results'!NI31,0)","v":0},{"$f":"+IF(ISNUMBER('System Results'!NL31),'System Results'!NL31,0)","v":0},{"$f":"+IF(ISNUMBER('System Results'!NO31),'System Results'!NO31,0)","v":0},{"$f":"+IF(ISNUMBER('System Results'!NR31),'System Results'!NR31,0)","v":0},{"$f":"+IF(ISNUMBER('System Results'!NU31),'System Results'!NU31,0)","v":0},{"$f":"+IF(ISNUMBER('System Results'!NX31),'System Results'!NX31,0)","v":0},{"$f":"+IF(ISNUMBER('System Results'!OA31),'System Results'!OA31,0)","v":0},{"$f":"+IF(ISNUMBER('System Results'!OD31),'System Results'!OD31,0)","v":0},{"$f":"+IF(ISNUMBER('System Results'!OG31),'System Results'!OG31,0)","v":0},{"$f":"+IF(ISNUMBER('System Results'!OJ31),'System Results'!OJ31,0)","v":0},{"$f":"+IF(ISNUMBER('System Results'!OM31),'System Results'!OM31,0)","v":0},{"$f":"+IF(ISNUMBER('System Results'!OP31),'System Results'!OP31,0)","v":0},{"$f":"+IF(ISNUMBER('System Results'!OS31),'System Results'!OS31,0)","v":0},{"$f":"+IF(ISNUMBER('System Results'!OV31),'System Results'!OV31,0)","v":0},{"$f":"+IF(ISNUMBER('System Results'!OY31),'System Results'!OY31,0)","v":0},{"$f":"+IF(ISNUMBER('System Results'!PB31),'System Results'!PB31,0)","v":0},{"$f":"+IF(ISNUMBER('System Results'!PE31),'System Results'!PE31,0)","v":0},{"$f":"+IF(ISNUMBER('System Results'!PH31),'System Results'!PH31,0)","v":0},{"$f":"+IF(ISNUMBER('System Results'!PK31),'System Results'!PK31,0)","v":0},{"$f":"+IF(ISNUMBER('System Results'!PN31),'System Results'!PN31,0)","v":0},{"$f":"+IF(ISNUMBER('System Results'!PQ31),'System Results'!PQ31,0)","v":0},{"$f":"+IF(ISNUMBER('System Results'!PT31),'System Results'!PT31,0)","v":0},{"$f":"+IF(ISNUMBER('System Results'!PW31),'System Results'!PW31,0)","v":0},{"$f":"+IF(ISNUMBER('System Results'!PZ31),'System Results'!PZ31,0)","v":0},{"$f":"+IF(ISNUMBER('System Results'!QC31),'System Results'!QC31,0)","v":0},{"$f":"+IF(ISNUMBER('System Results'!QF31),'System Results'!QF31,0)","v":0},{"$f":"+IF(ISNUMBER('System Results'!QI31),'System Results'!QI31,0)","v":0},{"$f":"+IF(ISNUMBER('System Results'!QL31),'System Results'!QL31,0)","v":0},{"$f":"+IF(ISNUMBER('System Results'!QO31),'System Results'!QO31,0)","v":0},{"$f":"+IF(ISNUMBER('System Results'!QR31),'System Results'!QR31,0)","v":0},{"$f":"+IF(ISNUMBER('System Results'!QU31),'System Results'!QU31,0)","v":0},{"$f":"+IF(ISNUMBER('System Results'!QX31),'System Results'!QX31,0)","v":0},{"$f":"+IF(ISNUMBER('System Results'!RA31),'System Results'!RA31,0)","v":0},{"$f":"+IF(ISNUMBER('System Results'!RD31),'System Results'!RD31,0)","v":0},{"$f":"+IF(ISNUMBER('System Results'!RG31),'System Results'!RG31,0)","v":0},{"$f":"+IF(ISNUMBER('System Results'!RJ31),'System Results'!RJ31,0)","v":0},{"$f":"+IF(ISNUMBER('System Results'!RM31),'System Results'!RM31,0)","v":0},{"$f":"+IF(ISNUMBER('System Results'!RP31),'System Results'!RP31,0)","v":0},{"$f":"+IF(ISNUMBER('System Results'!RS31),'System Results'!RS31,0)","v":0},{"$f":"+IF(ISNUMBER('System Results'!RV31),'System Results'!RV31,0)","v":0},{"$f":"+IF(ISNUMBER('System Results'!RY31),'System Results'!RY31,0)","v":0},{"$f":"+IF(ISNUMBER('System Results'!SB31),'System Results'!SB31,0)","v":0},{"$f":"+IF(ISNUMBER('System Results'!SE31),'System Results'!SE31,0)","v":0},{"$f":"+IF(ISNUMBER('System Results'!SH31),'System Results'!SH31,0)","v":0},{"$f":"+IF(ISNUMBER('System Results'!SK31),'System Results'!SK31,0)","v":0},{"$f":"+IF(ISNUMBER('System Results'!SN31),'System Results'!SN31,0)","v":0},{"$f":"+IF(ISNUMBER('System Results'!SQ31),'System Results'!SQ31,0)","v":0},{"$f":"+IF(ISNUMBER('System Results'!ST31),'System Results'!ST31,0)","v":0},{"$f":"+IF(ISNUMBER('System Results'!SW31),'System Results'!SW31,0)","v":0},{"$f":"+IF(ISNUMBER('System Results'!SZ31),'System Results'!SZ31,0)","v":0},{"$f":"+IF(ISNUMBER('System Results'!TC31),'System Results'!TC31,0)","v":0},{"$f":"+IF(ISNUMBER('System Results'!TF31),'System Results'!TF31,0)","v":0},{"$f":"+IF(ISNUMBER('System Results'!TI31),'System Results'!TI31,0)","v":0},{"$f":"+IF(ISNUMBER('System Results'!TL31),'System Results'!TL31,0)","v":0},{"$f":"+IF(ISNUMBER('System Results'!TO31),'System Results'!TO31,0)","v":0},{"$f":"+IF(ISNUMBER('System Results'!TR31),'System Results'!TR31,0)","v":0},{"$f":"+IF(ISNUMBER('System Results'!TU31),'System Results'!TU31,0)","v":0},{"$f":"+IF(ISNUMBER('System Results'!TX31),'System Results'!TX31,0)","v":0},{"$f":"+IF(ISNUMBER('System Results'!UA31),'System Results'!UA31,0)","v":0},{"$f":"+IF(ISNUMBER('System Results'!UD31),'System Results'!UD31,0)","v":0},{"$f":"+IF(ISNUMBER('System Results'!UG31),'System Results'!UG31,0)","v":0},{"$f":"+IF(ISNUMBER('System Results'!UJ31),'System Results'!UJ31,0)","v":0},{"$f":"+IF(ISNUMBER('System Results'!UM31),'System Results'!UM31,0)","v":0},{"$f":"+IF(ISNUMBER('System Results'!UP31),'System Results'!UP31,0)","v":0},{"$f":"+IF(ISNUMBER('System Results'!US31),'System Results'!US31,0)","v":0},{"$f":"+IF(ISNUMBER('System Results'!UV31),'System Results'!UV31,0)","v":0},{"$f":"+IF(ISNUMBER('System Results'!UY31),'System Results'!UY31,0)","v":0},{"$f":"+IF(ISNUMBER('System Results'!VB31),'System Results'!VB31,0)","v":0},{"$f":"+IF(ISNUMBER('System Results'!VE31),'System Results'!VE31,0)","v":0},{"$f":"+IF(ISNUMBER('System Results'!VH31),'System Results'!VH31,0)","v":0},{"$f":"+IF(ISNUMBER('System Results'!VK31),'System Results'!VK31,0)","v":0},{"$f":"+IF(ISNUMBER('System Results'!VN31),'System Results'!VN31,0)","v":0},{"$f":"+IF(ISNUMBER('System Results'!VQ31),'System Results'!VQ31,0)","v":0},{"$f":"+IF(ISNUMBER('System Results'!VT31),'System Results'!VT31,0)","v":0},{"$f":"+IF(ISNUMBER('System Results'!VW31),'System Results'!VW31,0)","v":0},{"$f":"+IF(ISNUMBER('System Results'!VZ31),'System Results'!VZ31,0)","v":0},{"$f":"+IF(ISNUMBER('System Results'!WC31),'System Results'!WC31,0)","v":0},{"$f":"+IF(ISNUMBER('System Results'!WF31),'System Results'!WF31,0)","v":0},{"$f":"+IF(ISNUMBER('System Results'!WI31),'System Results'!WI31,0)","v":0},{"$f":"+IF(ISNUMBER('System Results'!WL31),'System Results'!WL31,0)","v":0},{"$f":"+IF(ISNUMBER('System Results'!WO31),'System Results'!WO31,0)","v":0},{"$f":"+IF(ISNUMBER('System Results'!WR31),'System Results'!WR31,0)","v":0},{"$f":"+IF(ISNUMBER('System Results'!WU31),'System Results'!WU31,0)","v":0},{"$f":"+IF(ISNUMBER('System Results'!WX31),'System Results'!WX31,0)","v":0},{"$f":"+IF(ISNUMBER('System Results'!XA31),'System Results'!XA31,0)","v":0},{"$f":"+IF(ISNUMBER('System Results'!XD31),'System Results'!XD31,0)","v":0},{"$f":"+IF(ISNUMBER('System Results'!XG31),'System Results'!XG31,0)","v":0},{"$f":"+IF(ISNUMBER('System Results'!XJ31),'System Results'!XJ31,0)","v":0},{"$f":"+IF(ISNUMBER('System Results'!XM31),'System Results'!XM31,0)","v":0},{"$f":"+IF(ISNUMBER('System Results'!XP31),'System Results'!XP31,0)","v":0},{"$f":"+IF(ISNUMBER('System Results'!XS31),'System Results'!XS31,0)","v":0},{"$f":"+IF(ISNUMBER('System Results'!XV31),'System Results'!XV31,0)","v":0},{"$f":"+IF(ISNUMBER('System Results'!XY31),'System Results'!XY31,0)","v":0},{"$f":"+IF(ISNUMBER('System Results'!YB31),'System Results'!YB31,0)","v":0},{"$f":"+IF(ISNUMBER('System Results'!YE31),'System Results'!YE31,0)","v":0},{"$f":"+IF(ISNUMBER('System Results'!YH31),'System Results'!YH31,0)","v":0},{"$f":"+IF(ISNUMBER('System Results'!YK31),'System Results'!YK31,0)","v":0},{"$f":"+IF(ISNUMBER('System Results'!YN31),'System Results'!YN31,0)","v":0},{"$f":"+IF(ISNUMBER('System Results'!YQ31),'System Results'!YQ31,0)","v":0},{"$f":"+IF(ISNUMBER('System Results'!YT31),'System Results'!YT31,0)","v":0},{"$f":"+IF(ISNUMBER('System Results'!YW31),'System Results'!YW31,0)","v":0},{"$f":"+IF(ISNUMBER('System Results'!YZ31),'System Results'!YZ31,0)","v":0},{"$f":"+IF(ISNUMBER('System Results'!ZC31),'System Results'!ZC31,0)","v":0},{"$f":"+IF(ISNUMBER('System Results'!ZF31),'System Results'!ZF31,0)","v":0},{"$f":"+IF(ISNUMBER('System Results'!ZI31),'System Results'!ZI31,0)","v":0},{"$f":"+IF(ISNUMBER('System Results'!ZL31),'System Results'!ZL31,0)","v":0},{"$f":"+IF(ISNUMBER('System Results'!ZO31),'System Results'!ZO31,0)","v":0},{"$f":"+IF(ISNUMBER('System Results'!ZR31),'System Results'!ZR31,0)","v":0},{"$f":"+IF(ISNUMBER('System Results'!ZU31),'System Results'!ZU31,0)","v":0},{"$f":"+IF(ISNUMBER('System Results'!ZX31),'System Results'!ZX31,0)","v":0},{"$f":"+IF(ISNUMBER('System Results'!AAA31),'System Results'!AAA31,0)","v":0},{"$f":"+IF(ISNUMBER('System Results'!AAD31),'System Results'!AAD31,0)","v":0},{"$f":"+IF(ISNUMBER('System Results'!AAG31),'System Results'!AAG31,0)","v":0},{"$f":"+IF(ISNUMBER('System Results'!AAJ31),'System Results'!AAJ31,0)","v":0},{"$f":"+IF(ISNUMBER('System Results'!AAM31),'System Results'!AAM31,0)","v":0},{"$f":"+IF(ISNUMBER('System Results'!AAP31),'System Results'!AAP31,0)","v":0},{"$f":"+IF(ISNUMBER('System Results'!AAS31),'System Results'!AAS31,0)","v":0},{"$f":"+IF(ISNUMBER('System Results'!AAV31),'System Results'!AAV31,0)","v":0},{"$f":"+IF(ISNUMBER('System Results'!AAY31),'System Results'!AAY31,0)","v":0},{"$f":"+IF(ISNUMBER('System Results'!ABB31),'System Results'!ABB31,0)","v":0},{"$f":"+IF(ISNUMBER('System Results'!ABE31),'System Results'!ABE31,0)","v":0},{"$f":"+IF(ISNUMBER('System Results'!ABH31),'System Results'!ABH31,0)","v":0},{"$f":"+IF(ISNUMBER('System Results'!ABK31),'System Results'!ABK31,0)","v":0},{"$f":"+IF(ISNUMBER('System Results'!ABN31),'System Results'!ABN31,0)","v":0},{"$f":"+IF(ISNUMBER('System Results'!ABQ31),'System Results'!ABQ31,0)","v":0},{"$f":"+IF(ISNUMBER('System Results'!ABT31),'System Results'!ABT31,0)","v":0},{"$f":"+IF(ISNUMBER('System Results'!ABW31),'System Results'!ABW31,0)","v":0},{"$f":"+IF(ISNUMBER('System Results'!ABZ31),'System Results'!ABZ31,0)","v":0},{"$f":"+IF(ISNUMBER('System Results'!ACC31),'System Results'!ACC31,0)","v":0},{"$f":"+IF(ISNUMBER('System Results'!ACF31),'System Results'!ACF31,0)","v":0},{"$f":"+IF(ISNUMBER('System Results'!ACI31),'System Results'!ACI31,0)","v":0},{"$f":"+IF(ISNUMBER('System Results'!ACL31),'System Results'!ACL31,0)","v":0},{"$f":"+IF(ISNUMBER('System Results'!ACO31),'System Results'!ACO31,0)","v":0},{"$f":"+IF(ISNUMBER('System Results'!ACR31),'System Results'!ACR31,0)","v":0},{"$f":"+IF(ISNUMBER('System Results'!ACU31),'System Results'!ACU31,0)","v":0},{"$f":"+IF(ISNUMBER('System Results'!ACX31),'System Results'!ACX31,0)","v":0},{"$f":"+IF(ISNUMBER('System Results'!ADA31),'System Results'!ADA31,0)","v":0},{"$f":"+IF(ISNUMBER('System Results'!ADD31),'System Results'!ADD31,0)","v":0},{"$f":"+IF(ISNUMBER('System Results'!ADG31),'System Results'!ADG31,0)","v":0},{"$f":"+IF(ISNUMBER('System Results'!ADJ31),'System Results'!ADJ31,0)","v":0},{"$f":"+IF(ISNUMBER('System Results'!ADM31),'System Results'!ADM31,0)","v":0},{"$f":"+IF(ISNUMBER('System Results'!ADP31),'System Results'!ADP31,0)","v":0},{"$f":"+IF(ISNUMBER('System Results'!ADS31),'System Results'!ADS31,0)","v":0},{"$f":"+IF(ISNUMBER('System Results'!ADV31),'System Results'!ADV31,0)","v":0},{"$f":"+IF(ISNUMBER('System Results'!ADY31),'System Results'!ADY31,0)","v":0},{"$f":"+IF(ISNUMBER('System Results'!AEB31),'System Results'!AEB31,0)","v":0},{"$f":"+IF(ISNUMBER('System Results'!AEE31),'System Results'!AEE31,0)","v":0},{"$f":"+IF(ISNUMBER('System Results'!AEH31),'System Results'!AEH31,0)","v":0},{"$f":"+IF(ISNUMBER('System Results'!AEK31),'System Results'!AEK31,0)","v":0},{"$f":"+IF(ISNUMBER('System Results'!AEN31),'System Results'!AEN31,0)","v":0},{"$f":"+IF(ISNUMBER('System Results'!AEQ31),'System Results'!AEQ31,0)","v":0},{"$f":"+IF(ISNUMBER('System Results'!AET31),'System Results'!AET31,0)","v":0},{"$f":"+IF(ISNUMBER('System Results'!AEW31),'System Results'!AEW31,0)","v":0},{"$f":"+IF(ISNUMBER('System Results'!AEZ31),'System Results'!AEZ31,0)","v":0},{"$f":"+IF(ISNUMBER('System Results'!AFC31),'System Results'!AFC31,0)","v":0},{"$f":"+IF(ISNUMBER('System Results'!AFF31),'System Results'!AFF31,0)","v":0},{"$f":"+IF(ISNUMBER('System Results'!AFI31),'System Results'!AFI31,0)","v":0},{"$f":"+IF(ISNUMBER('System Results'!AFL31),'System Results'!AFL31,0)","v":0},{"$f":"+IF(ISNUMBER('System Results'!AFO31),'System Results'!AFO31,0)","v":0},{"$f":"+IF(ISNUMBER('System Results'!AFR31),'System Results'!AFR31,0)","v":0},{"$f":"+IF(ISNUMBER('System Results'!AFU31),'System Results'!AFU31,0)","v":0},{"$f":"+IF(ISNUMBER('System Results'!AFX31),'System Results'!AFX31,0)","v":0},{"$f":"+IF(ISNUMBER('System Results'!AGA31),'System Results'!AGA31,0)","v":0},{"$f":"+IF(ISNUMBER('System Results'!AGD31),'System Results'!AGD31,0)","v":0},{"$f":"+IF(ISNUMBER('System Results'!AGG31),'System Results'!AGG31,0)","v":0},{"$f":"+IF(ISNUMBER('System Results'!AGJ31),'System Results'!AGJ31,0)","v":0},{"$f":"+IF(ISNUMBER('System Results'!AGM31),'System Results'!AGM31,0)","v":0},{"$f":"+IF(ISNUMBER('System Results'!AGP31),'System Results'!AGP31,0)","v":0},{"$f":"+IF(ISNUMBER('System Results'!AGS31),'System Results'!AGS31,0)","v":0},{"$f":"+IF(ISNUMBER('System Results'!AGV31),'System Results'!AGV31,0)","v":0},{"$f":"+IF(ISNUMBER('System Results'!AGY31),'System Results'!AGY31,0)","v":0},{"$f":"+IF(ISNUMBER('System Results'!AHB31),'System Results'!AHB31,0)","v":0},{"$f":"+IF(ISNUMBER('System Results'!AHE31),'System Results'!AHE31,0)","v":0},{"$f":"+IF(ISNUMBER('System Results'!AHH31),'System Results'!AHH31,0)","v":0},{"$f":"+IF(ISNUMBER('System Results'!AHK31),'System Results'!AHK31,0)","v":0},{"$f":"+IF(ISNUMBER('System Results'!AHN31),'System Results'!AHN31,0)","v":0},{"$f":"+IF(ISNUMBER('System Results'!AHQ31),'System Results'!AHQ31,0)","v":0},{"$f":"+IF(ISNUMBER('System Results'!AHT31),'System Results'!AHT31,0)","v":0}]
["Scope 1",{"$f":"+'System Results'!B32","v":"Medicinal / Anesthetic gases"},0,{"$f":"+IF(ISNUMBER('System Results'!G32),'System Results'!G32,0)","v":0},{"$f":"+IF(ISNUMBER('System Results'!J32),'System Results'!J32,0)","v":0},{"$f":"+IF(ISNUMBER('System Results'!M32),'System Results'!M32,0)","v":0},{"$f":"+IF(ISNUMBER('System Results'!P32),'System Results'!P32,0)","v":0},{"$f":"+IF(ISNUMBER('System Results'!S32),'System Results'!S32,0)","v":0},{"$f":"+IF(ISNUMBER('System Results'!V32),'System Results'!V32,0)","v":0},{"$f":"+IF(ISNUMBER('System Results'!Y32),'System Results'!Y32,0)","v":0},{"$f":"+IF(ISNUMBER('System Results'!AB32),'System Results'!AB32,0)","v":0},{"$f":"+IF(ISNUMBER('System Results'!AE32),'System Results'!AE32,0)","v":0},{"$f":"+IF(ISNUMBER('System Results'!AH32),'System Results'!AH32,0)","v":0},{"$f":"+IF(ISNUMBER('System Results'!AK32),'System Results'!AK32,0)","v":0},{"$f":"+IF(ISNUMBER('System Results'!AN32),'System Results'!AN32,0)","v":0},{"$f":"+IF(ISNUMBER('System Results'!AQ32),'System Results'!AQ32,0)","v":0},{"$f":"+IF(ISNUMBER('System Results'!AT32),'System Results'!AT32,0)","v":0},{"$f":"+IF(ISNUMBER('System Results'!AW32),'System Results'!AW32,0)","v":0},{"$f":"+IF(ISNUMBER('System Results'!AZ32),'System Results'!AZ32,0)","v":0},{"$f":"+IF(ISNUMBER('System Results'!BC32),'System Results'!BC32,0)","v":0},{"$f":"+IF(ISNUMBER('System Results'!BF32),'System Results'!BF32,0)","v":0},{"$f":"+IF(ISNUMBER('System Results'!BI32),'System Results'!BI32,0)","v":0},{"$f":"+IF(ISNUMBER('System Results'!BL32),'System Results'!BL32,0)","v":0},{"$f":"+IF(ISNUMBER('System Results'!BO32),'System Results'!BO32,0)","v":0},{"$f":"+IF(ISNUMBER('System Results'!BR32),'System Results'!BR32,0)","v":0},{"$f":"+IF(ISNUMBER('System Results'!BU32),'System Results'!BU32,0)","v":0},{"$f":"+IF(ISNUMBER('System Results'!BX32),'System Results'!BX32,0)","v":0},{"$f":"+IF(ISNUMBER('System Results'!CA32),'System Results'!CA32,0)","v":0},{"$f":"+IF(ISNUMBER('System Results'!CD32),'System Results'!CD32,0)","v":0},{"$f":"+IF(ISNUMBER('System Results'!CG32),'System Results'!CG32,0)","v":0},{"$f":"+IF(ISNUMBER('System Results'!CJ32),'System Results'!CJ32,0)","v":0},{"$f":"+IF(ISNUMBER('System Results'!CM32),'System Results'!CM32,0)","v":0},{"$f":"+IF(ISNUMBER('System Results'!CP32),'System Results'!CP32,0)","v":0},{"$f":"+IF(ISNUMBER('System Results'!CS32),'System Results'!CS32,0)","v":0},{"$f":"+IF(ISNUMBER('System Results'!CV32),'System Results'!CV32,0)","v":0},{"$f":"+IF(ISNUMBER('System Results'!CY32),'System Results'!CY32,0)","v":0},{"$f":"+IF(ISNUMBER('System Results'!DB32),'System Results'!DB32,0)","v":0},{"$f":"+IF(ISNUMBER('System Results'!DE32),'System Results'!DE32,0)","v":0},{"$f":"+IF(ISNUMBER('System Results'!DH32),'System Results'!DH32,0)","v":0},{"$f":"+IF(ISNUMBER('System Results'!DK32),'System Results'!DK32,0)","v":0},{"$f":"+IF(ISNUMBER('System Results'!DN32),'System Results'!DN32,0)","v":0},{"$f":"+IF(ISNUMBER('System Results'!DQ32),'System Results'!DQ32,0)","v":0},{"$f":"+IF(ISNUMBER('System Results'!DT32),'System Results'!DT32,0)","v":0},{"$f":"+IF(ISNUMBER('System Results'!DW32),'System Results'!DW32,0)","v":0},{"$f":"+IF(ISNUMBER('System Results'!DZ32),'System Results'!DZ32,0)","v":0},{"$f":"+IF(ISNUMBER('System Results'!EC32),'System Results'!EC32,0)","v":0},{"$f":"+IF(ISNUMBER('System Results'!EF32),'System Results'!EF32,0)","v":0},{"$f":"+IF(ISNUMBER('System Results'!EI32),'System Results'!EI32,0)","v":0},{"$f":"+IF(ISNUMBER('System Results'!EL32),'System Results'!EL32,0)","v":0},{"$f":"+IF(ISNUMBER('System Results'!EO32),'System Results'!EO32,0)","v":0},{"$f":"+IF(ISNUMBER('System Results'!ER32),'System Results'!ER32,0)","v":0},{"$f":"+IF(ISNUMBER('System Results'!EU32),'System Results'!EU32,0)","v":0},{"$f":"+IF(ISNUMBER('System Results'!EX32),'System Results'!EX32,0)","v":0},{"$f":"+IF(ISNUMBER('System Results'!FA32),'System Results'!FA32,0)","v":0},{"$f":"+IF(ISNUMBER('System Results'!FD32),'System Results'!FD32,0)","v":0},{"$f":"+IF(ISNUMBER('System Results'!FG32),'System Results'!FG32,0)","v":0},{"$f":"+IF(ISNUMBER('System Results'!FJ32),'System Results'!FJ32,0)","v":0},{"$f":"+IF(ISNUMBER('System Results'!FM32),'System Results'!FM32,0)","v":0},{"$f":"+IF(ISNUMBER('System Results'!FP32),'System Results'!FP32,0)","v":0},{"$f":"+IF(ISNUMBER('System Results'!FS32),'System Results'!FS32,0)","v":0},{"$f":"+IF(ISNUMBER('System Results'!FV32),'System Results'!FV32,0)","v":0},{"$f":"+IF(ISNUMBER('System Results'!FY32),'System Results'!FY32,0)","v":0},{"$f":"+IF(ISNUMBER('System Results'!GB32),'System Results'!GB32,0)","v":0},{"$f":"+IF(ISNUMBER('System Results'!GE32),'System Results'!GE32,0)","v":0},{"$f":"+IF(ISNUMBER('System Results'!GH32),'System Results'!GH32,0)","v":0},{"$f":"+IF(ISNUMBER('System Results'!GK32),'System Results'!GK32,0)","v":0},{"$f":"+IF(ISNUMBER('System Results'!GN32),'System Results'!GN32,0)","v":0},{"$f":"+IF(ISNUMBER('System Results'!GQ32),'System Results'!GQ32,0)","v":0},{"$f":"+IF(ISNUMBER('System Results'!GT32),'System Results'!GT32,0)","v":0},{"$f":"+IF(ISNUMBER('System Results'!GW32),'System Results'!GW32,0)","v":0},{"$f":"+IF(ISNUMBER('System Results'!GZ32),'System Results'!GZ32,0)","v":0},{"$f":"+IF(ISNUMBER('System Results'!HC32),'System Results'!HC32,0)","v":0},{"$f":"+IF(ISNUMBER('System Results'!HF32),'System Results'!HF32,0)","v":0},{"$f":"+IF(ISNUMBER('System Results'!HI32),'System Results'!HI32,0)","v":0},{"$f":"+IF(ISNUMBER('System Results'!HL32),'System Results'!HL32,0)","v":0},{"$f":"+IF(ISNUMBER('System Results'!HO32),'System Results'!HO32,0)","v":0},{"$f":"+IF(ISNUMBER('System Results'!HR32),'System Results'!HR32,0)","v":0},{"$f":"+IF(ISNUMBER('System Results'!HU32),'System Results'!HU32,0)","v":0},{"$f":"+IF(ISNUMBER('System Results'!HX32),'System Results'!HX32,0)","v":0},{"$f":"+IF(ISNUMBER('System Results'!IA32),'System Results'!IA32,0)","v":0},{"$f":"+IF(ISNUMBER('System Results'!ID32),'System Results'!ID32,0)","v":0},{"$f":"+IF(ISNUMBER('System Results'!IG32),'System Results'!IG32,0)","v":0},{"$f":"+IF(ISNUMBER('System Results'!IJ32),'System Results'!IJ32,0)","v":0},{"$f":"+IF(ISNUMBER('System Results'!IM32),'System Results'!IM32,0)","v":0},{"$f":"+IF(ISNUMBER('System Results'!IP32),'System Results'!IP32,0)","v":0},{"$f":"+IF(ISNUMBER('System Results'!IS32),'System Results'!IS32,0)","v":0},{"$f":"+IF(ISNUMBER('System Results'!IV32),'System Results'!IV32,0)","v":0},{"$f":"+IF(ISNUMBER('System Results'!IY32),'System Results'!IY32,0)","v":0},{"$f":"+IF(ISNUMBER('System Results'!JB32),'System Results'!JB32,0)","v":0},{"$f":"+IF(ISNUMBER('System Results'!JE32),'System Results'!JE32,0)","v":0},{"$f":"+IF(ISNUMBER('System Results'!JH32),'System Results'!JH32,0)","v":0},{"$f":"+IF(ISNUMBER('System Results'!JK32),'System Results'!JK32,0)","v":0},{"$f":"+IF(ISNUMBER('System Results'!JN32),'System Results'!JN32,0)","v":0},{"$f":"+IF(ISNUMBER('System Results'!JQ32),'System Results'!JQ32,0)","v":0},{"$f":"+IF(ISNUMBER('System Results'!JT32),'System Results'!JT32,0)","v":0},{"$f":"+IF(ISNUMBER('System Results'!JW32),'System Results'!JW32,0)","v":0},{"$f":"+IF(ISNUMBER('System Results'!JZ32),'System Results'!JZ32,0)","v":0},{"$f":"+IF(ISNUMBER('System Results'!KC32),'System Results'!KC32,0)","v":0},{"$f":"+IF(ISNUMBER('System Results'!KF32),'System Results'!KF32,0)","v":0},{"$f":"+IF(ISNUMBER('System Results'!KI32),'System Results'!KI32,0)","v":0},{"$f":"+IF(ISNUMBER('System Results'!KL32),'System Results'!KL32,0)","v":0},{"$f":"+IF(ISNUMBER('System Results'!KO32),'System Results'!KO32,0)","v":0},{"$f":"+IF(ISNUMBER('System Results'!KR32),'System Results'!KR32,0)","v":0},{"$f":"+IF(ISNUMBER('System Results'!KU32),'System Results'!KU32,0)","v":0},{"$f":"+IF(ISNUMBER('System Results'!KX32),'System Results'!KX32,0)","v":0},{"$f":"+IF(ISNUMBER('System Results'!LA32),'System Results'!LA32,0)","v":0},{"$f":"+IF(ISNUMBER('System Results'!LD32),'System Results'!LD32,0)","v":0},{"$f":"+IF(ISNUMBER('System Results'!LG32),'System Results'!LG32,0)","v":0},{"$f":"+IF(ISNUMBER('System Results'!LJ32),'System Results'!LJ32,0)","v":0},{"$f":"+IF(ISNUMBER('System Results'!LM32),'System Results'!LM32,0)","v":0},{"$f":"+IF(ISNUMBER('System Results'!LP32),'System Results'!LP32,0)","v":0},{"$f":"+IF(ISNUMBER('System Results'!LS32),'System Results'!LS32,0)","v":0},{"$f":"+IF(ISNUMBER('System Results'!LV32),'System Results'!LV32,0)","v":0},{"$f":"+IF(ISNUMBER('System Results'!LY32),'System Results'!LY32,0)","v":0},{"$f":"+IF(ISNUMBER('System Results'!MB32),'System Results'!MB32,0)","v":0},{"$f":"+IF(ISNUMBER('System Results'!ME32),'System Results'!ME32,0)","v":0},{"$f":"+IF(ISNUMBER('System Results'!MH32),'System Results'!MH32,0)","v":0},{"$f":"+IF(ISNUMBER('System Results'!MK32),'System Results'!MK32,0)","v":0},{"$f":"+IF(ISNUMBER('System Results'!MN32),'System Results'!MN32,0)","v":0},{"$f":"+IF(ISNUMBER('System Results'!MQ32),'System Results'!MQ32,0)","v":0},{"$f":"+IF(ISNUMBER('System Results'!MT32),'System Results'!MT32,0)","v":0},{"$f":"+IF(ISNUMBER('System Results'!MW32),'System Results'!MW32,0)","v":0},{"$f":"+IF(ISNUMBER('System Results'!MZ32),'System Results'!MZ32,0)","v":0},{"$f":"+IF(ISNUMBER('System Results'!NC32),'System Results'!NC32,0)","v":0},{"$f":"+IF(ISNUMBER('System Results'!NF32),'System Results'!NF32,0)","v":0},{"$f":"+IF(ISNUMBER('System Results'!NI32),'System Results'!NI32,0)","v":0},{"$f":"+IF(ISNUMBER('System Results'!NL32),'System Results'!NL32,0)","v":0},{"$f":"+IF(ISNUMBER('System Results'!NO32),'System Results'!NO32,0)","v":0},{"$f":"+IF(ISNUMBER('System Results'!NR32),'System Results'!NR32,0)","v":0},{"$f":"+IF(ISNUMBER('System Results'!NU32),'System Results'!NU32,0)","v":0},{"$f":"+IF(ISNUMBER('System Results'!NX32),'System Results'!NX32,0)","v":0},{"$f":"+IF(ISNUMBER('System Results'!OA32),'System Results'!OA32,0)","v":0},{"$f":"+IF(ISNUMBER('System Results'!OD32),'System Results'!OD32,0)","v":0},{"$f":"+IF(ISNUMBER('System Results'!OG32),'System Results'!OG32,0)","v":0},{"$f":"+IF(ISNUMBER('System Results'!OJ32),'System Results'!OJ32,0)","v":0},{"$f":"+IF(ISNUMBER('System Results'!OM32),'System Results'!OM32,0)","v":0},{"$f":"+IF(ISNUMBER('System Results'!OP32),'System Results'!OP32,0)","v":0},{"$f":"+IF(ISNUMBER('System Results'!OS32),'System Results'!OS32,0)","v":0},{"$f":"+IF(ISNUMBER('System Results'!OV32),'System Results'!OV32,0)","v":0},{"$f":"+IF(ISNUMBER('System Results'!OY32),'System Results'!OY32,0)","v":0},{"$f":"+IF(ISNUMBER('System Results'!PB32),'System Results'!PB32,0)","v":0},{"$f":"+IF(ISNUMBER('System Results'!PE32),'System Results'!PE32,0)","v":0},{"$f":"+IF(ISNUMBER('System Results'!PH32),'System Results'!PH32,0)","v":0},{"$f":"+IF(ISNUMBER('System Results'!PK32),'System Results'!PK32,0)","v":0},{"$f":"+IF(ISNUMBER('System Results'!PN32),'System Results'!PN32,0)","v":0},{"$f":"+IF(ISNUMBER('System Results'!PQ32),'System Results'!PQ32,0)","v":0},{"$f":"+IF(ISNUMBER('System Results'!PT32),'System Results'!PT32,0)","v":0},{"$f":"+IF(ISNUMBER('System Results'!PW32),'System Results'!PW32,0)","v":0},{"$f":"+IF(ISNUMBER('System Results'!PZ32),'System Results'!PZ32,0)","v":0},{"$f":"+IF(ISNUMBER('System Results'!QC32),'System Results'!QC32,0)","v":0},{"$f":"+IF(ISNUMBER('System Results'!QF32),'System Results'!QF32,0)","v":0},{"$f":"+IF(ISNUMBER('System Results'!QI32),'System Results'!QI32,0)","v":0},{"$f":"+IF(ISNUMBER('System Results'!QL32),'System Results'!QL32,0)","v":0},{"$f":"+IF(ISNUMBER('System Results'!QO32),'System Results'!QO32,0)","v":0},{"$f":"+IF(ISNUMBER('System Results'!QR32),'System Results'!QR32,0)","v":0},{"$f":"+IF(ISNUMBER('System Results'!QU32),'System Results'!QU32,0)","v":0},{"$f":"+IF(ISNUMBER('System Results'!QX32),'System Results'!QX32,0)","v":0},{"$f":"+IF(ISNUMBER('System Results'!RA32),'System Results'!RA32,0)","v":0},{"$f":"+IF(ISNUMBER('System Results'!RD32),'System Results'!RD32,0)","v":0},{"$f":"+IF(ISNUMBER('System Results'!RG32),'System Results'!RG32,0)","v":0},{"$f":"+IF(ISNUMBER('System Results'!RJ32),'System Results'!RJ32,0)","v":0},{"$f":"+IF(ISNUMBER('System Results'!RM32),'System Results'!RM32,0)","v":0},{"$f":"+IF(ISNUMBER('System Results'!RP32),'System Results'!RP32,0)","v":0},{"$f":"+IF(ISNUMBER('System Results'!RS32),'System Results'!RS32,0)","v":0},{"$f":"+IF(ISNUMBER('System Results'!RV32),'System Results'!RV32,0)","v":0},{"$f":"+IF(ISNUMBER('System Results'!RY32),'System Results'!RY32,0)","v":0},{"$f":"+IF(ISNUMBER('System Results'!SB32),'System Results'!SB32,0)","v":0},{"$f":"+IF(ISNUMBER('System Results'!SE32),'System Results'!SE32,0)","v":0},{"$f":"+IF(ISNUMBER('System Results'!SH32),'System Results'!SH32,0)","v":0},{"$f":"+IF(ISNUMBER('System Results'!SK32),'System Results'!SK32,0)","v":0},{"$f":"+IF(ISNUMBER('System Results'!SN32),'System Results'!SN32,0)","v":0},{"$f":"+IF(ISNUMBER('System Results'!SQ32),'System Results'!SQ32,0)","v":0},{"$f":"+IF(ISNUMBER('System Results'!ST32),'System Results'!ST32,0)","v":0},{"$f":"+IF(ISNUMBER('System Results'!SW32),'System Results'!SW32,0)","v":0},{"$f":"+IF(ISNUMBER('System Results'!SZ32),'System Results'!SZ32,0)","v":0},{"$f":"+IF(ISNUMBER('System Results'!TC32),'System Results'!TC32,0)","v":0},{"$f":"+IF(ISNUMBER('System Results'!TF32),'System Results'!TF32,0)","v":0},{"$f":"+IF(ISNUMBER('System Results'!TI32),'System Results'!TI32,0)","v":0},{"$f":"+IF(ISNUMBER('System Results'!TL32),'System Results'!TL32,0)","v":0},{"$f":"+IF(ISNUMBER('System Results'!TO32),'System Results'!TO32,0)","v":0},{"$f":"+IF(ISNUMBER('System Results'!TR32),'System Results'!TR32,0)","v":0},{"$f":"+IF(ISNUMBER('System Results'!TU32),'System Results'!TU32,0)","v":0},{"$f":"+IF(ISNUMBER('System Results'!TX32),'System Results'!TX32,0)","v":0},{"$f":"+IF(ISNUMBER('System Results'!UA32),'System Results'!UA32,0)","v":0},{"$f":"+IF(ISNUMBER('System Results'!UD32),'System Results'!UD32,0)","v":0},{"$f":"+IF(ISNUMBER('System Results'!UG32),'System Results'!UG32,0)","v":0},{"$f":"+IF(ISNUMBER('System Results'!UJ32),'System Results'!UJ32,0)","v":0},{"$f":"+IF(ISNUMBER('System Results'!UM32),'System Results'!UM32,0)","v":0},{"$f":"+IF(ISNUMBER('System Results'!UP32),'System Results'!UP32,0)","v":0},{"$f":"+IF(ISNUMBER('System Results'!US32),'System Results'!US32,0)","v":0},{"$f":"+IF(ISNUMBER('System Results'!UV32),'System Results'!UV32,0)","v":0},{"$f":"+IF(ISNUMBER('System Results'!UY32),'System Results'!UY32,0)","v":0},{"$f":"+IF(ISNUMBER('System Results'!VB32),'System Results'!VB32,0)","v":0},{"$f":"+IF(ISNUMBER('System Results'!VE32),'System Results'!VE32,0)","v":0},{"$f":"+IF(ISNUMBER('System Results'!VH32),'System Results'!VH32,0)","v":0},{"$f":"+IF(ISNUMBER('System Results'!VK32),'System Results'!VK32,0)","v":0},{"$f":"+IF(ISNUMBER('System Results'!VN32),'System Results'!VN32,0)","v":0},{"$f":"+IF(ISNUMBER('System Results'!VQ32),'System Results'!VQ32,0)","v":0},{"$f":"+IF(ISNUMBER('System Results'!VT32),'System Results'!VT32,0)","v":0},{"$f":"+IF(ISNUMBER('System Results'!VW32),'System Results'!VW32,0)","v":0},{"$f":"+IF(ISNUMBER('System Results'!VZ32),'System Results'!VZ32,0)","v":0},{"$f":"+IF(ISNUMBER('System Results'!WC32),'System Results'!WC32,0)","v":0},{"$f":"+IF(ISNUMBER('System Results'!WF32),'System Results'!WF32,0)","v":0},{"$f":"+IF(ISNUMBER('System Results'!WI32),'System Results'!WI32,0)","v":0},{"$f":"+IF(ISNUMBER('System Results'!WL32),'System Results'!WL32,0)","v":0},{"$f":"+IF(ISNUMBER('System Results'!WO32),'System Results'!WO32,0)","v":0},{"$f":"+IF(ISNUMBER('System Results'!WR32),'System Results'!WR32,0)","v":0},{"$f":"+IF(ISNUMBER('System Results'!WU32),'System Results'!WU32,0)","v":0},{"$f":"+IF(ISNUMBER('System Results'!WX32),'System Results'!WX32,0)","v":0},{"$f":"+IF(ISNUMBER('System Results'!XA32),'System Results'!XA32,0)","v":0},{"$f":"+IF(ISNUMBER('System Results'!XD32),'System Results'!XD32,0)","v":0},{"$f":"+IF(ISNUMBER('System Results'!XG32),'System Results'!XG32,0)","v":0},{"$f":"+IF(ISNUMBER('System Results'!XJ32),'System Results'!XJ32,0)","v":0},{"$f":"+IF(ISNUMBER('System Results'!XM32),'System Results'!XM32,0)","v":0},{"$f":"+IF(ISNUMBER('System Results'!XP32),'System Results'!XP32,0)","v":0},{"$f":"+IF(ISNUMBER('System Results'!XS32),'System Results'!XS32,0)","v":0},{"$f":"+IF(ISNUMBER('System Results'!XV32),'System Results'!XV32,0)","v":0},{"$f":"+IF(ISNUMBER('System Results'!XY32),'System Results'!XY32,0)","v":0},{"$f":"+IF(ISNUMBER('System Results'!YB32),'System Results'!YB32,0)","v":0},{"$f":"+IF(ISNUMBER('System Results'!YE32),'System Results'!YE32,0)","v":0},{"$f":"+IF(ISNUMBER('System Results'!YH32),'System Results'!YH32,0)","v":0},{"$f":"+IF(ISNUMBER('System Results'!YK32),'System Results'!YK32,0)","v":0},{"$f":"+IF(ISNUMBER('System Results'!YN32),'System Results'!YN32,0)","v":0},{"$f":"+IF(ISNUMBER('System Results'!YQ32),'System Results'!YQ32,0)","v":0},{"$f":"+IF(ISNUMBER('System Results'!YT32),'System Results'!YT32,0)","v":0},{"$f":"+IF(ISNUMBER('System Results'!YW32),'System Results'!YW32,0)","v":0},{"$f":"+IF(ISNUMBER('System Results'!YZ32),'System Results'!YZ32,0)","v":0},{"$f":"+IF(ISNUMBER('System Results'!ZC32),'System Results'!ZC32,0)","v":0},{"$f":"+IF(ISNUMBER('System Results'!ZF32),'System Results'!ZF32,0)","v":0},{"$f":"+IF(ISNUMBER('System Results'!ZI32),'System Results'!ZI32,0)","v":0},{"$f":"+IF(ISNUMBER('System Results'!ZL32),'System Results'!ZL32,0)","v":0},{"$f":"+IF(ISNUMBER('System Results'!ZO32),'System Results'!ZO32,0)","v":0},{"$f":"+IF(ISNUMBER('System Results'!ZR32),'System Results'!ZR32,0)","v":0},{"$f":"+IF(ISNUMBER('System Results'!ZU32),'System Results'!ZU32,0)","v":0},{"$f":"+IF(ISNUMBER('System Results'!ZX32),'System Results'!ZX32,0)","v":0},{"$f":"+IF(ISNUMBER('System Results'!AAA32),'System Results'!AAA32,0)","v":0},{"$f":"+IF(ISNUMBER('System Results'!AAD32),'System Results'!AAD32,0)","v":0},{"$f":"+IF(ISNUMBER('System Results'!AAG32),'System Results'!AAG32,0)","v":0},{"$f":"+IF(ISNUMBER('System Results'!AAJ32),'System Results'!AAJ32,0)","v":0},{"$f":"+IF(ISNUMBER('System Results'!AAM32),'System Results'!AAM32,0)","v":0},{"$f":"+IF(ISNUMBER('System Results'!AAP32),'System Results'!AAP32,0)","v":0},{"$f":"+IF(ISNUMBER('System Results'!AAS32),'System Results'!AAS32,0)","v":0},{"$f":"+IF(ISNUMBER('System Results'!AAV32),'System Results'!AAV32,0)","v":0},{"$f":"+IF(ISNUMBER('System Results'!AAY32),'System Results'!AAY32,0)","v":0},{"$f":"+IF(ISNUMBER('System Results'!ABB32),'System Results'!ABB32,0)","v":0},{"$f":"+IF(ISNUMBER('System Results'!ABE32),'System Results'!ABE32,0)","v":0},{"$f":"+IF(ISNUMBER('System Results'!ABH32),'System Results'!ABH32,0)","v":0},{"$f":"+IF(ISNUMBER('System Results'!ABK32),'System Results'!ABK32,0)","v":0},{"$f":"+IF(ISNUMBER('System Results'!ABN32),'System Results'!ABN32,0)","v":0},{"$f":"+IF(ISNUMBER('System Results'!ABQ32),'System Results'!ABQ32,0)","v":0},{"$f":"+IF(ISNUMBER('System Results'!ABT32),'System Results'!ABT32,0)","v":0},{"$f":"+IF(ISNUMBER('System Results'!ABW32),'System Results'!ABW32,0)","v":0},{"$f":"+IF(ISNUMBER('System Results'!ABZ32),'System Results'!ABZ32,0)","v":0},{"$f":"+IF(ISNUMBER('System Results'!ACC32),'System Results'!ACC32,0)","v":0},{"$f":"+IF(ISNUMBER('System Results'!ACF32),'System Results'!ACF32,0)","v":0},{"$f":"+IF(ISNUMBER('System Results'!ACI32),'System Results'!ACI32,0)","v":0},{"$f":"+IF(ISNUMBER('System Results'!ACL32),'System Results'!ACL32,0)","v":0},{"$f":"+IF(ISNUMBER('System Results'!ACO32),'System Results'!ACO32,0)","v":0},{"$f":"+IF(ISNUMBER('System Results'!ACR32),'System Results'!ACR32,0)","v":0},{"$f":"+IF(ISNUMBER('System Results'!ACU32),'System Results'!ACU32,0)","v":0},{"$f":"+IF(ISNUMBER('System Results'!ACX32),'System Results'!ACX32,0)","v":0},{"$f":"+IF(ISNUMBER('System Results'!ADA32),'System Results'!ADA32,0)","v":0},{"$f":"+IF(ISNUMBER('System Results'!ADD32),'System Results'!ADD32,0)","v":0},{"$f":"+IF(ISNUMBER('System Results'!ADG32),'System Results'!ADG32,0)","v":0},{"$f":"+IF(ISNUMBER('System Results'!ADJ32),'System Results'!ADJ32,0)","v":0},{"$f":"+IF(ISNUMBER('System Results'!ADM32),'System Results'!ADM32,0)","v":0},{"$f":"+IF(ISNUMBER('System Results'!ADP32),'System Results'!ADP32,0)","v":0},{"$f":"+IF(ISNUMBER('System Results'!ADS32),'System Results'!ADS32,0)","v":0},{"$f":"+IF(ISNUMBER('System Results'!ADV32),'System Results'!ADV32,0)","v":0},{"$f":"+IF(ISNUMBER('System Results'!ADY32),'System Results'!ADY32,0)","v":0},{"$f":"+IF(ISNUMBER('System Results'!AEB32),'System Results'!AEB32,0)","v":0},{"$f":"+IF(ISNUMBER('System Results'!AEE32),'System Results'!AEE32,0)","v":0},{"$f":"+IF(ISNUMBER('System Results'!AEH32),'System Results'!AEH32,0)","v":0},{"$f":"+IF(ISNUMBER('System Results'!AEK32),'System Results'!AEK32,0)","v":0},{"$f":"+IF(ISNUMBER('System Results'!AEN32),'System Results'!AEN32,0)","v":0},{"$f":"+IF(ISNUMBER('System Results'!AEQ32),'System Results'!AEQ32,0)","v":0},{"$f":"+IF(ISNUMBER('System Results'!AET32),'System Results'!AET32,0)","v":0},{"$f":"+IF(ISNUMBER('System Results'!AEW32),'System Results'!AEW32,0)","v":0},{"$f":"+IF(ISNUMBER('System Results'!AEZ32),'System Results'!AEZ32,0)","v":0},{"$f":"+IF(ISNUMBER('System Results'!AFC32),'System Results'!AFC32,0)","v":0},{"$f":"+IF(ISNUMBER('System Results'!AFF32),'System Results'!AFF32,0)","v":0},{"$f":"+IF(ISNUMBER('System Results'!AFI32),'System Results'!AFI32,0)","v":0},{"$f":"+IF(ISNUMBER('System Results'!AFL32),'System Results'!AFL32,0)","v":0},{"$f":"+IF(ISNUMBER('System Results'!AFO32),'System Results'!AFO32,0)","v":0},{"$f":"+IF(ISNUMBER('System Results'!AFR32),'System Results'!AFR32,0)","v":0},{"$f":"+IF(ISNUMBER('System Results'!AFU32),'System Results'!AFU32,0)","v":0},{"$f":"+IF(ISNUMBER('System Results'!AFX32),'System Results'!AFX32,0)","v":0},{"$f":"+IF(ISNUMBER('System Results'!AGA32),'System Results'!AGA32,0)","v":0},{"$f":"+IF(ISNUMBER('System Results'!AGD32),'System Results'!AGD32,0)","v":0},{"$f":"+IF(ISNUMBER('System Results'!AGG32),'System Results'!AGG32,0)","v":0},{"$f":"+IF(ISNUMBER('System Results'!AGJ32),'System Results'!AGJ32,0)","v":0},{"$f":"+IF(ISNUMBER('System Results'!AGM32),'System Results'!AGM32,0)","v":0},{"$f":"+IF(ISNUMBER('System Results'!AGP32),'System Results'!AGP32,0)","v":0},{"$f":"+IF(ISNUMBER('System Results'!AGS32),'System Results'!AGS32,0)","v":0},{"$f":"+IF(ISNUMBER('System Results'!AGV32),'System Results'!AGV32,0)","v":0},{"$f":"+IF(ISNUMBER('System Results'!AGY32),'System Results'!AGY32,0)","v":0},{"$f":"+IF(ISNUMBER('System Results'!AHB32),'System Results'!AHB32,0)","v":0},{"$f":"+IF(ISNUMBER('System Results'!AHE32),'System Results'!AHE32,0)","v":0},{"$f":"+IF(ISNUMBER('System Results'!AHH32),'System Results'!AHH32,0)","v":0},{"$f":"+IF(ISNUMBER('System Results'!AHK32),'System Results'!AHK32,0)","v":0},{"$f":"+IF(ISNUMBER('System Results'!AHN32),'System Results'!AHN32,0)","v":0},{"$f":"+IF(ISNUMBER('System Results'!AHQ32),'System Results'!AHQ32,0)","v":0},{"$f":"+IF(ISNUMBER('System Results'!AHT32),'System Results'!AHT32,0)","v":0}]
["Scope 2",{"$f":"+'System Results'!B34","v":"Purchased electricity"},0,{"$f":"+IF(ISNUMBER('System Results'!G34),'System Results'!G34,0)","v":0},{"$f":"+IF(ISNUMBER('System Results'!J34),'System Results'!J34,0)","v":0},{"$f":"+IF(ISNUMBER('System Results'!M34),'System Results'!M34,0)","v":0},{"$f":"+IF(ISNUMBER('System Results'!P34),'System Results'!P34,0)","v":0},{"$f":"+IF(ISNUMBER('System Results'!S34),'System Results'!S34,0)","v":0},{"$f":"+IF(ISNUMBER('System Results'!V34),'System Results'!V34,0)","v":0},{"$f":"+IF(ISNUMBER('System Results'!Y34),'System Results'!Y34,0)","v":0},{"$f":"+IF(ISNUMBER('System Results'!AB34),'System Results'!AB34,0)","v":0},{"$f":"+IF(ISNUMBER('System Results'!AE34),'System Results'!AE34,0)","v":0},{"$f":"+IF(ISNUMBER('System Results'!AH34),'System Results'!AH34,0)","v":0},{"$f":"+IF(ISNUMBER('System Results'!AK34),'System Results'!AK34,0)","v":0},{"$f":"+IF(ISNUMBER('System Results'!AN34),'System Results'!AN34,0)","v":0},{"$f":"+IF(ISNUMBER('System Results'!AQ34),'System Results'!AQ34,0)","v":0},{"$f":"+IF(ISNUMBER('System Results'!AT34),'System Results'!AT34,0)","v":0},{"$f":"+IF(ISNUMBER('System Results'!AW34),'System Results'!AW34,0)","v":0},{"$f":"+IF(ISNUMBER('System Results'!AZ34),'System Results'!AZ34,0)","v":0},{"$f":"+IF(ISNUMBER('System Results'!BC34),'System Results'!BC34,0)","v":0},{"$f":"+IF(ISNUMBER('System Results'!BF34),'System Results'!BF34,0)","v":0},{"$f":"+IF(ISNUMBER('System Results'!BI34),'System Results'!BI34,0)","v":0},{"$f":"+IF(ISNUMBER('System Results'!BL34),'System Results'!BL34,0)","v":0},{"$f":"+IF(ISNUMBER('System Results'!BO34),'System Results'!BO34,0)","v":0},{"$f":"+IF(ISNUMBER('System Results'!BR34),'System Results'!BR34,0)","v":0},{"$f":"+IF(ISNUMBER('System Results'!BU34),'System Results'!BU34,0)","v":0},{"$f":"+IF(ISNUMBER('System Results'!BX34),'System Results'!BX34,0)","v":0},{"$f":"+IF(ISNUMBER('System Results'!CA34),'System Results'!CA34,0)","v":0},{"$f":"+IF(ISNUMBER('System Results'!CD34),'System Results'!CD34,0)","v":0},{"$f":"+IF(ISNUMBER('System Results'!CG34),'System Results'!CG34,0)","v":0},{"$f":"+IF(ISNUMBER('System Results'!CJ34),'System Results'!CJ34,0)","v":0},{"$f":"+IF(ISNUMBER('System Results'!CM34),'System Results'!CM34,0)","v":0},{"$f":"+IF(ISNUMBER('System Results'!CP34),'System Results'!CP34,0)","v":0},{"$f":"+IF(ISNUMBER('System Results'!CS34),'System Results'!CS34,0)","v":0},{"$f":"+IF(ISNUMBER('System Results'!CV34),'System Results'!CV34,0)","v":0},{"$f":"+IF(ISNUMBER('System Results'!CY34),'System Results'!CY34,0)","v":0},{"$f":"+IF(ISNUMBER('System Results'!DB34),'System Results'!DB34,0)","v":0},{"$f":"+IF(ISNUMBER('System Results'!DE34),'System Results'!DE34,0)","v":0},{"$f":"+IF(ISNUMBER('System Results'!DH34),'System Results'!DH34,0)","v":0},{"$f":"+IF(ISNUMBER('System Results'!DK34),'System Results'!DK34,0)","v":0},{"$f":"+IF(ISNUMBER('System Results'!DN34),'System Results'!DN34,0)","v":0},{"$f":"+IF(ISNUMBER('System Results'!DQ34),'System Results'!DQ34,0)","v":0},{"$f":"+IF(ISNUMBER('System Results'!DT34),'System Results'!DT34,0)","v":0},{"$f":"+IF(ISNUMBER('System Results'!DW34),'System Results'!DW34,0)","v":0},{"$f":"+IF(ISNUMBER('System Results'!DZ34),'System Results'!DZ34,0)","v":0},{"$f":"+IF(ISNUMBER('System Results'!EC34),'System Results'!EC34,0)","v":0},{"$f":"+IF(ISNUMBER('System Results'!EF34),'System Results'!EF34,0)","v":0},{"$f":"+IF(ISNUMBER('System Results'!EI34),'System Results'!EI34,0)","v":0},{"$f":"+IF(ISNUMBER('System Results'!EL34),'System Results'!EL34,0)","v":0},{"$f":"+IF(ISNUMBER('System Results'!EO34),'System Results'!EO34,0)","v":0},{"$f":"+IF(ISNUMBER('System Results'!ER34),'System Results'!ER34,0)","v":0},{"$f":"+IF(ISNUMBER('System Results'!EU34),'System Results'!EU34,0)","v":0},{"$f":"+IF(ISNUMBER('System Results'!EX34),'System Results'!EX34,0)","v":0},{"$f":"+IF(ISNUMBER('System Results'!FA34),'System Results'!FA34,0)","v":0},{"$f":"+IF(ISNUMBER('System Results'!FD34),'System Results'!FD34,0)","v":0},{"$f":"+IF(ISNUMBER('System Results'!FG34),'System Results'!FG34,0)","v":0},{"$f":"+IF(ISNUMBER('System Results'!FJ34),'System Results'!FJ34,0)","v":0},{"$f":"+IF(ISNUMBER('System Results'!FM34),'System Results'!FM34,0)","v":0},{"$f":"+IF(ISNUMBER('System Results'!FP34),'System Results'!FP34,0)","v":0},{"$f":"+IF(ISNUMBER('System Results'!FS34),'System Results'!FS34,0)","v":0},{"$f":"+IF(ISNUMBER('System Results'!FV34),'System Results'!FV34,0)","v":0},{"$f":"+IF(ISNUMBER('System Results'!FY34),'System Results'!FY34,0)","v":0},{"$f":"+IF(ISNUMBER('System Results'!GB34),'System Results'!GB34,0)","v":0},{"$f":"+IF(ISNUMBER('System Results'!GE34),'System Results'!GE34,0)","v":0},{"$f":"+IF(ISNUMBER('System Results'!GH34),'System Results'!GH34,0)","v":0},{"$f":"+IF(ISNUMBER('System Results'!GK34),'System Results'!GK34,0)","v":0},{"$f":"+IF(ISNUMBER('System Results'!GN34),'System Results'!GN34,0)","v":0},{"$f":"+IF(ISNUMBER('System Results'!GQ34),'System Results'!GQ34,0)","v":0},{"$f":"+IF(ISNUMBER('System Results'!GT34),'System Results'!GT34,0)","v":0},{"$f":"+IF(ISNUMBER('System Results'!GW34),'System Results'!GW34,0)","v":0},{"$f":"+IF(ISNUMBER('System Results'!GZ34),'System Results'!GZ34,0)","v":0},{"$f":"+IF(ISNUMBER('System Results'!HC34),'System Results'!HC34,0)","v":0},{"$f":"+IF(ISNUMBER('System Results'!HF34),'System Results'!HF34,0)","v":0},{"$f":"+IF(ISNUMBER('System Results'!HI34),'System Results'!HI34,0)","v":0},{"$f":"+IF(ISNUMBER('System Results'!HL34),'System Results'!HL34,0)","v":0},{"$f":"+IF(ISNUMBER('System Results'!HO34),'System Results'!HO34,0)","v":0},{"$f":"+IF(ISNUMBER('System Results'!HR34),'System Results'!HR34,0)","v":0},{"$f":"+IF(ISNUMBER('System Results'!HU34),'System Results'!HU34,0)","v":0},{"$f":"+IF(ISNUMBER('System Results'!HX34),'System Results'!HX34,0)","v":0},{"$f":"+IF(ISNUMBER('System Results'!IA34),'System Results'!IA34,0)","v":0},{"$f":"+IF(ISNUMBER('System Results'!ID34),'System Results'!ID34,0)","v":0},{"$f":"+IF(ISNUMBER('System Results'!IG34),'System Results'!IG34,0)","v":0},{"$f":"+IF(ISNUMBER('System Results'!IJ34),'System Results'!IJ34,0)","v":0},{"$f":"+IF(ISNUMBER('System Results'!IM34),'System Results'!IM34,0)","v":0},{"$f":"+IF(ISNUMBER('System Results'!IP34),'System Results'!IP34,0)","v":0},{"$f":"+IF(ISNUMBER('System Results'!IS34),'System Results'!IS34,0)","v":0},{"$f":"+IF(ISNUMBER('System Results'!IV34),'System Results'!IV34,0)","v":0},{"$f":"+IF(ISNUMBER('System Results'!IY34),'System Results'!IY34,0)","v":0},{"$f":"+IF(ISNUMBER('System Results'!JB34),'System Results'!JB34,0)","v":0},{"$f":"+IF(ISNUMBER('System Results'!JE34),'System Results'!JE34,0)","v":0},{"$f":"+IF(ISNUMBER('System Results'!JH34),'System Results'!JH34,0)","v":0},{"$f":"+IF(ISNUMBER('System Results'!JK34),'System Results'!JK34,0)","v":0},{"$f":"+IF(ISNUMBER('System Results'!JN34),'System Results'!JN34,0)","v":0},{"$f":"+IF(ISNUMBER('System Results'!JQ34),'System Results'!JQ34,0)","v":0},{"$f":"+IF(ISNUMBER('System Results'!JT34),'System Results'!JT34,0)","v":0},{"$f":"+IF(ISNUMBER('System Results'!JW34),'System Results'!JW34,0)","v":0},{"$f":"+IF(ISNUMBER('System Results'!JZ34),'System Results'!JZ34,0)","v":0},{"$f":"+IF(ISNUMBER('System Results'!KC34),'System Results'!KC34,0)","v":0},{"$f":"+IF(ISNUMBER('System Results'!KF34),'System Results'!KF34,0)","v":0},{"$f":"+IF(ISNUMBER('System Results'!KI34),'System Results'!KI34,0)","v":0},{"$f":"+IF(ISNUMBER('System Results'!KL34),'System Results'!KL34,0)","v":0},{"$f":"+IF(ISNUMBER('System Results'!KO34),'System Results'!KO34,0)","v":0},{"$f":"+IF(ISNUMBER('System Results'!KR34),'System Results'!KR34,0)","v":0},{"$f":"+IF(ISNUMBER('System Results'!KU34),'System Results'!KU34,0)","v":0},{"$f":"+IF(ISNUMBER('System Results'!KX34),'System Results'!KX34,0)","v":0},{"$f":"+IF(ISNUMBER('System Results'!LA34),'System Results'!LA34,0)","v":0},{"$f":"+IF(ISNUMBER('System Results'!LD34),'System Results'!LD34,0)","v":0},{"$f":"+IF(ISNUMBER('System Results'!LG34),'System Results'!LG34,0)","v":0},{"$f":"+IF(ISNUMBER('System Results'!LJ34),'System Results'!LJ34,0)","v":0},{"$f":"+IF(ISNUMBER('System Results'!LM34),'System Results'!LM34,0)","v":0},{"$f":"+IF(ISNUMBER('System Results'!LP34),'System Results'!LP34,0)","v":0},{"$f":"+IF(ISNUMBER('System Results'!LS34),'System Results'!LS34,0)","v":0},{"$f":"+IF(ISNUMBER('System Results'!LV34),'System Results'!LV34,0)","v":0},{"$f":"+IF(ISNUMBER('System Results'!LY34),'System Results'!LY34,0)","v":0},{"$f":"+IF(ISNUMBER('System Results'!MB34),'System Results'!MB34,0)","v":0},{"$f":"+IF(ISNUMBER('System Results'!ME34),'System Results'!ME34,0)","v":0},{"$f":"+IF(ISNUMBER('System Results'!MH34),'System Results'!MH34,0)","v":0},{"$f":"+IF(ISNUMBER('System Results'!MK34),'System Results'!MK34,0)","v":0},{"$f":"+IF(ISNUMBER('System Results'!MN34),'System Results'!MN34,0)","v":0},{"$f":"+IF(ISNUMBER('System Results'!MQ34),'System Results'!MQ34,0)","v":0},{"$f":"+IF(ISNUMBER('System Results'!MT34),'System Results'!MT34,0)","v":0},{"$f":"+IF(ISNUMBER('System Results'!MW34),'System Results'!MW34,0)","v":0},{"$f":"+IF(ISNUMBER('System Results'!MZ34),'System Results'!MZ34,0)","v":0},{"$f":"+IF(ISNUMBER('System Results'!NC34),'System Results'!NC34,0)","v":0},{"$f":"+IF(ISNUMBER('System Results'!NF34),'System Results'!NF34,0)","v":0},{"$f":"+IF(ISNUMBER('System Results'!NI34),'System Results'!NI34,0)","v":0},{"$f":"+IF(ISNUMBER('System Results'!NL34),'System Results'!NL34,0)","v":0},{"$f":"+IF(ISNUMBER('System Results'!NO34),'System Results'!NO34,0)","v":0},{"$f":"+IF(ISNUMBER('System Results'!NR34),'System Results'!NR34,0)","v":0},{"$f":"+IF(ISNUMBER('System Results'!NU34),'System Results'!NU34,0)","v":0},{"$f":"+IF(ISNUMBER('System Results'!NX34),'System Results'!NX34,0)","v":0},{"$f":"+IF(ISNUMBER('System Results'!OA34),'System Results'!OA34,0)","v":0},{"$f":"+IF(ISNUMBER('System Results'!OD34),'System Results'!OD34,0)","v":0},{"$f":"+IF(ISNUMBER('System Results'!OG34),'System Results'!OG34,0)","v":0},{"$f":"+IF(ISNUMBER('System Results'!OJ34),'System Results'!OJ34,0)","v":0},{"$f":"+IF(ISNUMBER('System Results'!OM34),'System Results'!OM34,0)","v":0},{"$f":"+IF(ISNUMBER('System Results'!OP34),'System Results'!OP34,0)","v":0},{"$f":"+IF(ISNUMBER('System Results'!OS34),'System Results'!OS34,0)","v":0},{"$f":"+IF(ISNUMBER('System Results'!OV34),'System Results'!OV34,0)","v":0},{"$f":"+IF(ISNUMBER('System Results'!OY34),'System Results'!OY34,0)","v":0},{"$f":"+IF(ISNUMBER('System Results'!PB34),'System Results'!PB34,0)","v":0},{"$f":"+IF(ISNUMBER('System Results'!PE34),'System Results'!PE34,0)","v":0},{"$f":"+IF(ISNUMBER('System Results'!PH34),'System Results'!PH34,0)","v":0},{"$f":"+IF(ISNUMBER('System Results'!PK34),'System Results'!PK34,0)","v":0},{"$f":"+IF(ISNUMBER('System Results'!PN34),'System Results'!PN34,0)","v":0},{"$f":"+IF(ISNUMBER('System Results'!PQ34),'System Results'!PQ34,0)","v":0},{"$f":"+IF(ISNUMBER('System Results'!PT34),'System Results'!PT34,0)","v":0},{"$f":"+IF(ISNUMBER('System Results'!PW34),'System Results'!PW34,0)","v":0},{"$f":"+IF(ISNUMBER('System Results'!PZ34),'System Results'!PZ34,0)","v":0},{"$f":"+IF(ISNUMBER('System Results'!QC34),'System Results'!QC34,0)","v":0},{"$f":"+IF(ISNUMBER('System Results'!QF34),'System Results'!QF34,0)","v":0},{"$f":"+IF(ISNUMBER('System Results'!QI34),'System Results'!QI34,0)","v":0},{"$f":"+IF(ISNUMBER('System Results'!QL34),'System Results'!QL34,0)","v":0},{"$f":"+IF(ISNUMBER('System Results'!QO34),'System Results'!QO34,0)","v":0},{"$f":"+IF(ISNUMBER('System Results'!QR34),'System Results'!QR34,0)","v":0},{"$f":"+IF(ISNUMBER('System Results'!QU34),'System Results'!QU34,0)","v":0},{"$f":"+IF(ISNUMBER('System Results'!QX34),'System Results'!QX34,0)","v":0},{"$f":"+IF(ISNUMBER('System Results'!RA34),'System Results'!RA34,0)","v":0},{"$f":"+IF(ISNUMBER('System Results'!RD34),'System Results'!RD34,0)","v":0},{"$f":"+IF(ISNUMBER('System Results'!RG34),'System Results'!RG34,0)","v":0},{"$f":"+IF(ISNUMBER('System Results'!RJ34),'System Results'!RJ34,0)","v":0},{"$f":"+IF(ISNUMBER('System Results'!RM34),'System Results'!RM34,0)","v":0},{"$f":"+IF(ISNUMBER('System Results'!RP34),'System Results'!RP34,0)","v":0},{"$f":"+IF(ISNUMBER('System Results'!RS34),'System Results'!RS34,0)","v":0},{"$f":"+IF(ISNUMBER('System Results'!RV34),'System Results'!RV34,0)","v":0},{"$f":"+IF(ISNUMBER('System Results'!RY34),'System Results'!RY34,0)","v":0},{"$f":"+IF(ISNUMBER('System Results'!SB34),'System Results'!SB34,0)","v":0},{"$f":"+IF(ISNUMBER('System Results'!SE34),'System Results'!SE34,0)","v":0},{"$f":"+IF(ISNUMBER('System Results'!SH34),'System Results'!SH34,0)","v":0},{"$f":"+IF(ISNUMBER('System Results'!SK34),'System Results'!SK34,0)","v":0},{"$f":"+IF(ISNUMBER('System Results'!SN34),'System Results'!SN34,0)","v":0},{"$f":"+IF(ISNUMBER('System Results'!SQ34),'System Results'!SQ34,0)","v":0},{"$f":"+IF(ISNUMBER('System Results'!ST34),'System Results'!ST34,0)","v":0},{"$f":"+IF(ISNUMBER('System Results'!SW34),'System Results'!SW34,0)","v":0},{"$f":"+IF(ISNUMBER('System Results'!SZ34),'System Results'!SZ34,0)","v":0},{"$f":"+IF(ISNUMBER('System Results'!TC34),'System Results'!TC34,0)","v":0},{"$f":"+IF(ISNUMBER('System Results'!TF34),'System Results'!TF34,0)","v":0},{"$f":"+IF(ISNUMBER('System Results'!TI34),'System Results'!TI34,0)","v":0},{"$f":"+IF(ISNUMBER('System Results'!TL34),'System Results'!TL34,0)","v":0},{"$f":"+IF(ISNUMBER('System Results'!TO34),'System Results'!TO34,0)","v":0},{"$f":"+IF(ISNUMBER('System Results'!TR34),'System Results'!TR34,0)","v":0},{"$f":"+IF(ISNUMBER('System Results'!TU34),'System Results'!TU34,0)","v":0},{"$f":"+IF(ISNUMBER('System Results'!TX34),'System Results'!TX34,0)","v":0},{"$f":"+IF(ISNUMBER('System Results'!UA34),'System Results'!UA34,0)","v":0},{"$f":"+IF(ISNUMBER('System Results'!UD34),'System Results'!UD34,0)","v":0},{"$f":"+IF(ISNUMBER('System Results'!UG34),'System Results'!UG34,0)","v":0},{"$f":"+IF(ISNUMBER('System Results'!UJ34),'System Results'!UJ34,0)","v":0},{"$f":"+IF(ISNUMBER('System Results'!UM34),'System Results'!UM34,0)","v":0},{"$f":"+IF(ISNUMBER('System Results'!UP34),'System Results'!UP34,0)","v":0},{"$f":"+IF(ISNUMBER('System Results'!US34),'System Results'!US34,0)","v":0},{"$f":"+IF(ISNUMBER('System Results'!UV34),'System Results'!UV34,0)","v":0},{"$f":"+IF(ISNUMBER('System Results'!UY34),'System Results'!UY34,0)","v":0},{"$f":"+IF(ISNUMBER('System Results'!VB34),'System Results'!VB34,0)","v":0},{"$f":"+IF(ISNUMBER('System Results'!VE34),'System Results'!VE34,0)","v":0},{"$f":"+IF(ISNUMBER('System Results'!VH34),'System Results'!VH34,0)","v":0},{"$f":"+IF(ISNUMBER('System Results'!VK34),'System Results'!VK34,0)","v":0},{"$f":"+IF(ISNUMBER('System Results'!VN34),'System Results'!VN34,0)","v":0},{"$f":"+IF(ISNUMBER('System Results'!VQ34),'System Results'!VQ34,0)","v":0},{"$f":"+IF(ISNUMBER('System Results'!VT34),'System Results'!VT34,0)","v":0},{"$f":"+IF(ISNUMBER('System Results'!VW34),'System Results'!VW34,0)","v":0},{"$f":"+IF(ISNUMBER('System Results'!VZ34),'System Results'!VZ34,0)","v":0},{"$f":"+IF(ISNUMBER('System Results'!WC34),'System Results'!WC34,0)","v":0},{"$f":"+IF(ISNUMBER('System Results'!WF34),'System Results'!WF34,0)","v":0},{"$f":"+IF(ISNUMBER('System Results'!WI34),'System Results'!WI34,0)","v":0},{"$f":"+IF(ISNUMBER('System Results'!WL34),'System Results'!WL34,0)","v":0},{"$f":"+IF(ISNUMBER('System Results'!WO34),'System Results'!WO34,0)","v":0},{"$f":"+IF(ISNUMBER('System Results'!WR34),'System Results'!WR34,0)","v":0},{"$f":"+IF(ISNUMBER('System Results'!WU34),'System Results'!WU34,0)","v":0},{"$f":"+IF(ISNUMBER('System Results'!WX34),'System Results'!WX34,0)","v":0},{"$f":"+IF(ISNUMBER('System Results'!XA34),'System Results'!XA34,0)","v":0},{"$f":"+IF(ISNUMBER('System Results'!XD34),'System Results'!XD34,0)","v":0},{"$f":"+IF(ISNUMBER('System Results'!XG34),'System Results'!XG34,0)","v":0},{"$f":"+IF(ISNUMBER('System Results'!XJ34),'System Results'!XJ34,0)","v":0},{"$f":"+IF(ISNUMBER('System Results'!XM34),'System Results'!XM34,0)","v":0},{"$f":"+IF(ISNUMBER('System Results'!XP34),'System Results'!XP34,0)","v":0},{"$f":"+IF(ISNUMBER('System Results'!XS34),'System Results'!XS34,0)","v":0},{"$f":"+IF(ISNUMBER('System Results'!XV34),'System Results'!XV34,0)","v":0},{"$f":"+IF(ISNUMBER('System Results'!XY34),'System Results'!XY34,0)","v":0},{"$f":"+IF(ISNUMBER('System Results'!YB34),'System Results'!YB34,0)","v":0},{"$f":"+IF(ISNUMBER('System Results'!YE34),'System Results'!YE34,0)","v":0},{"$f":"+IF(ISNUMBER('System Results'!YH34),'System Results'!YH34,0)","v":0},{"$f":"+IF(ISNUMBER('System Results'!YK34),'System Results'!YK34,0)","v":0},{"$f":"+IF(ISNUMBER('System Results'!YN34),'System Results'!YN34,0)","v":0},{"$f":"+IF(ISNUMBER('System Results'!YQ34),'System Results'!YQ34,0)","v":0},{"$f":"+IF(ISNUMBER('System Results'!YT34),'System Results'!YT34,0)","v":0},{"$f":"+IF(ISNUMBER('System Results'!YW34),'System Results'!YW34,0)","v":0},{"$f":"+IF(ISNUMBER('System Results'!YZ34),'System Results'!YZ34,0)","v":0},{"$f":"+IF(ISNUMBER('System Results'!ZC34),'System Results'!ZC34,0)","v":0},{"$f":"+IF(ISNUMBER('System Results'!ZF34),'System Results'!ZF34,0)","v":0},{"$f":"+IF(ISNUMBER('System Results'!ZI34),'System Results'!ZI34,0)","v":0},{"$f":"+IF(ISNUMBER('System Results'!ZL34),'System Results'!ZL34,0)","v":0},{"$f":"+IF(ISNUMBER('System Results'!ZO34),'System Results'!ZO34,0)","v":0},{"$f":"+IF(ISNUMBER('System Results'!ZR34),'System Results'!ZR34,0)","v":0},{"$f":"+IF(ISNUMBER('System Results'!ZU34),'System Results'!ZU34,0)","v":0},{"$f":"+IF(ISNUMBER('System Results'!ZX34),'System Results'!ZX34,0)","v":0},{"$f":"+IF(ISNUMBER('System Results'!AAA34),'System Results'!AAA34,0)","v":0},{"$f":"+IF(ISNUMBER('System Results'!AAD34),'System Results'!AAD34,0)","v":0},{"$f":"+IF(ISNUMBER('System Results'!AAG34),'System Results'!AAG34,0)","v":0},{"$f":"+IF(ISNUMBER('System Results'!AAJ34),'System Results'!AAJ34,0)","v":0},{"$f":"+IF(ISNUMBER('System Results'!AAM34),'System Results'!AAM34,0)","v":0},{"$f":"+IF(ISNUMBER('System Results'!AAP34),'System Results'!AAP34,0)","v":0},{"$f":"+IF(ISNUMBER('System Results'!AAS34),'System Results'!AAS34,0)","v":0},{"$f":"+IF(ISNUMBER('System Results'!AAV34),'System Results'!AAV34,0)","v":0},{"$f":"+IF(ISNUMBER('System Results'!AAY34),'System Results'!AAY34,0)","v":0},{"$f":"+IF(ISNUMBER('System Results'!ABB34),'System Results'!ABB34,0)","v":0},{"$f":"+IF(ISNUMBER('System Results'!ABE34),'System Results'!ABE34,0)","v":0},{"$f":"+IF(ISNUMBER('System Results'!ABH34),'System Results'!ABH34,0)","v":0},{"$f":"+IF(ISNUMBER('System Results'!ABK34),'System Results'!ABK34,0)","v":0},{"$f":"+IF(ISNUMBER('System Results'!ABN34),'System Results'!ABN34,0)","v":0},{"$f":"+IF(ISNUMBER('System Results'!ABQ34),'System Results'!ABQ34,0)","v":0},{"$f":"+IF(ISNUMBER('System Results'!ABT34),'System Results'!ABT34,0)","v":0},{"$f":"+IF(ISNUMBER('System Results'!ABW34),'System Results'!ABW34,0)","v":0},{"$f":"+IF(ISNUMBER('System Results'!ABZ34),'System Results'!ABZ34,0)","v":0},{"$f":"+IF(ISNUMBER('System Results'!ACC34),'System Results'!ACC34,0)","v":0},{"$f":"+IF(ISNUMBER('System Results'!ACF34),'System Results'!ACF34,0)","v":0},{"$f":"+IF(ISNUMBER('System Results'!ACI34),'System Results'!ACI34,0)","v":0},{"$f":"+IF(ISNUMBER('System Results'!ACL34),'System Results'!ACL34,0)","v":0},{"$f":"+IF(ISNUMBER('System Results'!ACO34),'System Results'!ACO34,0)","v":0},{"$f":"+IF(ISNUMBER('System Results'!ACR34),'System Results'!ACR34,0)","v":0},{"$f":"+IF(ISNUMBER('System Results'!ACU34),'System Results'!ACU34,0)","v":0},{"$f":"+IF(ISNUMBER('System Results'!ACX34),'System Results'!ACX34,0)","v":0},{"$f":"+IF(ISNUMBER('System Results'!ADA34),'System Results'!ADA34,0)","v":0},{"$f":"+IF(ISNUMBER('System Results'!ADD34),'System Results'!ADD34,0)","v":0},{"$f":"+IF(ISNUMBER('System Results'!ADG34),'System Results'!ADG34,0)","v":0},{"$f":"+IF(ISNUMBER('System Results'!ADJ34),'System Results'!ADJ34,0)","v":0},{"$f":"+IF(ISNUMBER('System Results'!ADM34),'System Results'!ADM34,0)","v":0},{"$f":"+IF(ISNUMBER('System Results'!ADP34),'System Results'!ADP34,0)","v":0},{"$f":"+IF(ISNUMBER('System Results'!ADS34),'System Results'!ADS34,0)","v":0},{"$f":"+IF(ISNUMBER('System Results'!ADV34),'System Results'!ADV34,0)","v":0},{"$f":"+IF(ISNUMBER('System Results'!ADY34),'System Results'!ADY34,0)","v":0},{"$f":"+IF(ISNUMBER('System Results'!AEB34),'System Results'!AEB34,0)","v":0},{"$f":"+IF(ISNUMBER('System Results'!AEE34),'System Results'!AEE34,0)","v":0},{"$f":"+IF(ISNUMBER('System Results'!AEH34),'System Results'!AEH34,0)","v":0},{"$f":"+IF(ISNUMBER('System Results'!AEK34),'System Results'!AEK34,0)","v":0},{"$f":"+IF(ISNUMBER('System Results'!AEN34),'System Results'!AEN34,0)","v":0},{"$f":"+IF(ISNUMBER('System Results'!AEQ34),'System Results'!AEQ34,0)","v":0},{"$f":"+IF(ISNUMBER('System Results'!AET34),'System Results'!AET34,0)","v":0},{"$f":"+IF(ISNUMBER('System Results'!AEW34),'System Results'!AEW34,0)","v":0},{"$f":"+IF(ISNUMBER('System Results'!AEZ34),'System Results'!AEZ34,0)","v":0},{"$f":"+IF(ISNUMBER('System Results'!AFC34),'System Results'!AFC34,0)","v":0},{"$f":"+IF(ISNUMBER('System Results'!AFF34),'System Results'!AFF34,0)","v":0},{"$f":"+IF(ISNUMBER('System Results'!AFI34),'System Results'!AFI34,0)","v":0},{"$f":"+IF(ISNUMBER('System Results'!AFL34),'System Results'!AFL34,0)","v":0},{"$f":"+IF(ISNUMBER('System Results'!AFO34),'System Results'!AFO34,0)","v":0},{"$f":"+IF(ISNUMBER('System Results'!AFR34),'System Results'!AFR34,0)","v":0},{"$f":"+IF(ISNUMBER('System Results'!AFU34),'System Results'!AFU34,0)","v":0},{"$f":"+IF(ISNUMBER('System Results'!AFX34),'System Results'!AFX34,0)","v":0},{"$f":"+IF(ISNUMBER('System Results'!AGA34),'System Results'!AGA34,0)","v":0},{"$f":"+IF(ISNUMBER('System Results'!AGD34),'System Results'!AGD34,0)","v":0},{"$f":"+IF(ISNUMBER('System Results'!AGG34),'System Results'!AGG34,0)","v":0},{"$f":"+IF(ISNUMBER('System Results'!AGJ34),'System Results'!AGJ34,0)","v":0},{"$f":"+IF(ISNUMBER('System Results'!AGM34),'System Results'!AGM34,0)","v":0},{"$f":"+IF(ISNUMBER('System Results'!AGP34),'System Results'!AGP34,0)","v":0},{"$f":"+IF(ISNUMBER('System Results'!AGS34),'System Results'!AGS34,0)","v":0},{"$f":"+IF(ISNUMBER('System Results'!AGV34),'System Results'!AGV34,0)","v":0},{"$f":"+IF(ISNUMBER('System Results'!AGY34),'System Results'!AGY34,0)","v":0},{"$f":"+IF(ISNUMBER('System Results'!AHB34),'System Results'!AHB34,0)","v":0},{"$f":"+IF(ISNUMBER('System Results'!AHE34),'System Results'!AHE34,0)","v":0},{"$f":"+IF(ISNUMBER('System Results'!AHH34),'System Results'!AHH34,0)","v":0},{"$f":"+IF(ISNUMBER('System Results'!AHK34),'System Results'!AHK34,0)","v":0},{"$f":"+IF(ISNUMBER('System Results'!AHN34),'System Results'!AHN34,0)","v":0},{"$f":"+IF(ISNUMBER('System Results'!AHQ34),'System Results'!AHQ34,0)","v":0},{"$f":"+IF(ISNUMBER('System Results'!AHT34),'System Results'!AHT34,0)","v":0}]
["Scope 2",{"$f":"+'System Results'!B35","v":"Purchased steam, heat and cooling"},0,{"$f":"+IF(ISNUMBER('System Results'!G35),'System Results'!G35,0)","v":0},{"$f":"+IF(ISNUMBER('System Results'!J35),'System Results'!J35,0)","v":0},{"$f":"+IF(ISNUMBER('System Results'!M35),'System Results'!M35,0)","v":0},{"$f":"+IF(ISNUMBER('System Results'!P35),'System Results'!P35,0)","v":0},{"$f":"+IF(ISNUMBER('System Results'!S35),'System Results'!S35,0)","v":0},{"$f":"+IF(ISNUMBER('System Results'!V35),'System Results'!V35,0)","v":0},{"$f":"+IF(ISNUMBER('System Results'!Y35),'System Results'!Y35,0)","v":0},{"$f":"+IF(ISNUMBER('System Results'!AB35),'System Results'!AB35,0)","v":0},{"$f":"+IF(ISNUMBER('System Results'!AE35),'System Results'!AE35,0)","v":0},{"$f":"+IF(ISNUMBER('System Results'!AH35),'System Results'!AH35,0)","v":0},{"$f":"+IF(ISNUMBER('System Results'!AK35),'System Results'!AK35,0)","v":0},{"$f":"+IF(ISNUMBER('System Results'!AN35),'System Results'!AN35,0)","v":0},{"$f":"+IF(ISNUMBER('System Results'!AQ35),'System Results'!AQ35,0)","v":0},{"$f":"+IF(ISNUMBER('System Results'!AT35),'System Results'!AT35,0)","v":0},{"$f":"+IF(ISNUMBER('System Results'!AW35),'System Results'!AW35,0)","v":0},{"$f":"+IF(ISNUMBER('System Results'!AZ35),'System Results'!AZ35,0)","v":0},{"$f":"+IF(ISNUMBER('System Results'!BC35),'System Results'!BC35,0)","v":0},{"$f":"+IF(ISNUMBER('System Results'!BF35),'System Results'!BF35,0)","v":0},{"$f":"+IF(ISNUMBER('System Results'!BI35),'System Results'!BI35,0)","v":0},{"$f":"+IF(ISNUMBER('System Results'!BL35),'System Results'!BL35,0)","v":0},{"$f":"+IF(ISNUMBER('System Results'!BO35),'System Results'!BO35,0)","v":0},{"$f":"+IF(ISNUMBER('System Results'!BR35),'System Results'!BR35,0)","v":0},{"$f":"+IF(ISNUMBER('System Results'!BU35),'System Results'!BU35,0)","v":0},{"$f":"+IF(ISNUMBER('System Results'!BX35),'System Results'!BX35,0)","v":0},{"$f":"+IF(ISNUMBER('System Results'!CA35),'System Results'!CA35,0)","v":0},{"$f":"+IF(ISNUMBER('System Results'!CD35),'System Results'!CD35,0)","v":0},{"$f":"+IF(ISNUMBER('System Results'!CG35),'System Results'!CG35,0)","v":0},{"$f":"+IF(ISNUMBER('System Results'!CJ35),'System Results'!CJ35,0)","v":0},{"$f":"+IF(ISNUMBER('System Results'!CM35),'System Results'!CM35,0)","v":0},{"$f":"+IF(ISNUMBER('System Results'!CP35),'System Results'!CP35,0)","v":0},{"$f":"+IF(ISNUMBER('System Results'!CS35),'System Results'!CS35,0)","v":0},{"$f":"+IF(ISNUMBER('System Results'!CV35),'System Results'!CV35,0)","v":0},{"$f":"+IF(ISNUMBER('System Results'!CY35),'System Results'!CY35,0)","v":0},{"$f":"+IF(ISNUMBER('System Results'!DB35),'System Results'!DB35,0)","v":0},{"$f":"+IF(ISNUMBER('System Results'!DE35),'System Results'!DE35,0)","v":0},{"$f":"+IF(ISNUMBER('System Results'!DH35),'System Results'!DH35,0)","v":0},{"$f":"+IF(ISNUMBER('System Results'!DK35),'System Results'!DK35,0)","v":0},{"$f":"+IF(ISNUMBER('System Results'!DN35),'System Results'!DN35,0)","v":0},{"$f":"+IF(ISNUMBER('System Results'!DQ35),'System Results'!DQ35,0)","v":0},{"$f":"+IF(ISNUMBER('System Results'!DT35),'System Results'!DT35,0)","v":0},{"$f":"+IF(ISNUMBER('System Results'!DW35),'System Results'!DW35,0)","v":0},{"$f":"+IF(ISNUMBER('System Results'!DZ35),'System Results'!DZ35,0)","v":0},{"$f":"+IF(ISNUMBER('System Results'!EC35),'System Results'!EC35,0)","v":0},{"$f":"+IF(ISNUMBER('System Results'!EF35),'System Results'!EF35,0)","v":0},{"$f":"+IF(ISNUMBER('System Results'!EI35),'System Results'!EI35,0)","v":0},{"$f":"+IF(ISNUMBER('System Results'!EL35),'System Results'!EL35,0)","v":0},{"$f":"+IF(ISNUMBER('System Results'!EO35),'System Results'!EO35,0)","v":0},{"$f":"+IF(ISNUMBER('System Results'!ER35),'System Results'!ER35,0)","v":0},{"$f":"+IF(ISNUMBER('System Results'!EU35),'System Results'!EU35,0)","v":0},{"$f":"+IF(ISNUMBER('System Results'!EX35),'System Results'!EX35,0)","v":0},{"$f":"+IF(ISNUMBER('System Results'!FA35),'System Results'!FA35,0)","v":0},{"$f":"+IF(ISNUMBER('System Results'!FD35),'System Results'!FD35,0)","v":0},{"$f":"+IF(ISNUMBER('System Results'!FG35),'System Results'!FG35,0)","v":0},{"$f":"+IF(ISNUMBER('System Results'!FJ35),'System Results'!FJ35,0)","v":0},{"$f":"+IF(ISNUMBER('System Results'!FM35),'System Results'!FM35,0)","v":0},{"$f":"+IF(ISNUMBER('System Results'!FP35),'System Results'!FP35,0)","v":0},{"$f":"+IF(ISNUMBER('System Results'!FS35),'System Results'!FS35,0)","v":0},{"$f":"+IF(ISNUMBER('System Results'!FV35),'System Results'!FV35,0)","v":0},{"$f":"+IF(ISNUMBER('System Results'!FY35),'System Results'!FY35,0)","v":0},{"$f":"+IF(ISNUMBER('System Results'!GB35),'System Results'!GB35,0)","v":0},{"$f":"+IF(ISNUMBER('System Results'!GE35),'System Results'!GE35,0)","v":0},{"$f":"+IF(ISNUMBER('System Results'!GH35),'System Results'!GH35,0)","v":0},{"$f":"+IF(ISNUMBER('System Results'!GK35),'System Results'!GK35,0)","v":0},{"$f":"+IF(ISNUMBER('System Results'!GN35),'System Results'!GN35,0)","v":0},{"$f":"+IF(ISNUMBER('System Results'!GQ35),'System Results'!GQ35,0)","v":0},{"$f":"+IF(ISNUMBER('System Results'!GT35),'System Results'!GT35,0)","v":0},{"$f":"+IF(ISNUMBER('System Results'!GW35),'System Results'!GW35,0)","v":0},{"$f":"+IF(ISNUMBER('System Results'!GZ35),'System Results'!GZ35,0)","v":0},{"$f":"+IF(ISNUMBER('System Results'!HC35),'System Results'!HC35,0)","v":0},{"$f":"+IF(ISNUMBER('System Results'!HF35),'System Results'!HF35,0)","v":0},{"$f":"+IF(ISNUMBER('System Results'!HI35),'System Results'!HI35,0)","v":0},{"$f":"+IF(ISNUMBER('System Results'!HL35),'System Results'!HL35,0)","v":0},{"$f":"+IF(ISNUMBER('System Results'!HO35),'System Results'!HO35,0)","v":0},{"$f":"+IF(ISNUMBER('System Results'!HR35),'System Results'!HR35,0)","v":0},{"$f":"+IF(ISNUMBER('System Results'!HU35),'System Results'!HU35,0)","v":0},{"$f":"+IF(ISNUMBER('System Results'!HX35),'System Results'!HX35,0)","v":0},{"$f":"+IF(ISNUMBER('System Results'!IA35),'System Results'!IA35,0)","v":0},{"$f":"+IF(ISNUMBER('System Results'!ID35),'System Results'!ID35,0)","v":0},{"$f":"+IF(ISNUMBER('System Results'!IG35),'System Results'!IG35,0)","v":0},{"$f":"+IF(ISNUMBER('System Results'!IJ35),'System Results'!IJ35,0)","v":0},{"$f":"+IF(ISNUMBER('System Results'!IM35),'System Results'!IM35,0)","v":0},{"$f":"+IF(ISNUMBER('System Results'!IP35),'System Results'!IP35,0)","v":0},{"$f":"+IF(ISNUMBER('System Results'!IS35),'System Results'!IS35,0)","v":0},{"$f":"+IF(ISNUMBER('System Results'!IV35),'System Results'!IV35,0)","v":0},{"$f":"+IF(ISNUMBER('System Results'!IY35),'System Results'!IY35,0)","v":0},{"$f":"+IF(ISNUMBER('System Results'!JB35),'System Results'!JB35,0)","v":0},{"$f":"+IF(ISNUMBER('System Results'!JE35),'System Results'!JE35,0)","v":0},{"$f":"+IF(ISNUMBER('System Results'!JH35),'System Results'!JH35,0)","v":0},{"$f":"+IF(ISNUMBER('System Results'!JK35),'System Results'!JK35,0)","v":0},{"$f":"+IF(ISNUMBER('System Results'!JN35),'System Results'!JN35,0)","v":0},{"$f":"+IF(ISNUMBER('System Results'!JQ35),'System Results'!JQ35,0)","v":0},{"$f":"+IF(ISNUMBER('System Results'!JT35),'System Results'!JT35,0)","v":0},{"$f":"+IF(ISNUMBER('System Results'!JW35),'System Results'!JW35,0)","v":0},{"$f":"+IF(ISNUMBER('System Results'!JZ35),'System Results'!JZ35,0)","v":0},{"$f":"+IF(ISNUMBER('System Results'!KC35),'System Results'!KC35,0)","v":0},{"$f":"+IF(ISNUMBER('System Results'!KF35),'System Results'!KF35,0)","v":0},{"$f":"+IF(ISNUMBER('System Results'!KI35),'System Results'!KI35,0)","v":0},{"$f":"+IF(ISNUMBER('System Results'!KL35),'System Results'!KL35,0)","v":0},{"$f":"+IF(ISNUMBER('System Results'!KO35),'System Results'!KO35,0)","v":0},{"$f":"+IF(ISNUMBER('System Results'!KR35),'System Results'!KR35,0)","v":0},{"$f":"+IF(ISNUMBER('System Results'!KU35),'System Results'!KU35,0)","v":0},{"$f":"+IF(ISNUMBER('System Results'!KX35),'System Results'!KX35,0)","v":0},{"$f":"+IF(ISNUMBER('System Results'!LA35),'System Results'!LA35,0)","v":0},{"$f":"+IF(ISNUMBER('System Results'!LD35),'System Results'!LD35,0)","v":0},{"$f":"+IF(ISNUMBER('System Results'!LG35),'System Results'!LG35,0)","v":0},{"$f":"+IF(ISNUMBER('System Results'!LJ35),'System Results'!LJ35,0)","v":0},{"$f":"+IF(ISNUMBER('System Results'!LM35),'System Results'!LM35,0)","v":0},{"$f":"+IF(ISNUMBER('System Results'!LP35),'System Results'!LP35,0)","v":0},{"$f":"+IF(ISNUMBER('System Results'!LS35),'System Results'!LS35,0)","v":0},{"$f":"+IF(ISNUMBER('System Results'!LV35),'System Results'!LV35,0)","v":0},{"$f":"+IF(ISNUMBER('System Results'!LY35),'System Results'!LY35,0)","v":0},{"$f":"+IF(ISNUMBER('System Results'!MB35),'System Results'!MB35,0)","v":0},{"$f":"+IF(ISNUMBER('System Results'!ME35),'System Results'!ME35,0)","v":0},{"$f":"+IF(ISNUMBER('System Results'!MH35),'System Results'!MH35,0)","v":0},{"$f":"+IF(ISNUMBER('System Results'!MK35),'System Results'!MK35,0)","v":0},{"$f":"+IF(ISNUMBER('System Results'!MN35),'System Results'!MN35,0)","v":0},{"$f":"+IF(ISNUMBER('System Results'!MQ35),'System Results'!MQ35,0)","v":0},{"$f":"+IF(ISNUMBER('System Results'!MT35),'System Results'!MT35,0)","v":0},{"$f":"+IF(ISNUMBER('System Results'!MW35),'System Results'!MW35,0)","v":0},{"$f":"+IF(ISNUMBER('System Results'!MZ35),'System Results'!MZ35,0)","v":0},{"$f":"+IF(ISNUMBER('System Results'!NC35),'System Results'!NC35,0)","v":0},{"$f":"+IF(ISNUMBER('System Results'!NF35),'System Results'!NF35,0)","v":0},{"$f":"+IF(ISNUMBER('System Results'!NI35),'System Results'!NI35,0)","v":0},{"$f":"+IF(ISNUMBER('System Results'!NL35),'System Results'!NL35,0)","v":0},{"$f":"+IF(ISNUMBER('System Results'!NO35),'System Results'!NO35,0)","v":0},{"$f":"+IF(ISNUMBER('System Results'!NR35),'System Results'!NR35,0)","v":0},{"$f":"+IF(ISNUMBER('System Results'!NU35),'System Results'!NU35,0)","v":0},{"$f":"+IF(ISNUMBER('System Results'!NX35),'System Results'!NX35,0)","v":0},{"$f":"+IF(ISNUMBER('System Results'!OA35),'System Results'!OA35,0)","v":0},{"$f":"+IF(ISNUMBER('System Results'!OD35),'System Results'!OD35,0)","v":0},{"$f":"+IF(ISNUMBER('System Results'!OG35),'System Results'!OG35,0)","v":0},{"$f":"+IF(ISNUMBER('System Results'!OJ35),'System Results'!OJ35,0)","v":0},{"$f":"+IF(ISNUMBER('System Results'!OM35),'System Results'!OM35,0)","v":0},{"$f":"+IF(ISNUMBER('System Results'!OP35),'System Results'!OP35,0)","v":0},{"$f":"+IF(ISNUMBER('System Results'!OS35),'System Results'!OS35,0)","v":0},{"$f":"+IF(ISNUMBER('System Results'!OV35),'System Results'!OV35,0)","v":0},{"$f":"+IF(ISNUMBER('System Results'!OY35),'System Results'!OY35,0)","v":0},{"$f":"+IF(ISNUMBER('System Results'!PB35),'System Results'!PB35,0)","v":0},{"$f":"+IF(ISNUMBER('System Results'!PE35),'System Results'!PE35,0)","v":0},{"$f":"+IF(ISNUMBER('System Results'!PH35),'System Results'!PH35,0)","v":0},{"$f":"+IF(ISNUMBER('System Results'!PK35),'System Results'!PK35,0)","v":0},{"$f":"+IF(ISNUMBER('System Results'!PN35),'System Results'!PN35,0)","v":0},{"$f":"+IF(ISNUMBER('System Results'!PQ35),'System Results'!PQ35,0)","v":0},{"$f":"+IF(ISNUMBER('System Results'!PT35),'System Results'!PT35,0)","v":0},{"$f":"+IF(ISNUMBER('System Results'!PW35),'System Results'!PW35,0)","v":0},{"$f":"+IF(ISNUMBER('System Results'!PZ35),'System Results'!PZ35,0)","v":0},{"$f":"+IF(ISNUMBER('System Results'!QC35),'System Results'!QC35,0)","v":0},{"$f":"+IF(ISNUMBER('System Results'!QF35),'System Results'!QF35,0)","v":0},{"$f":"+IF(ISNUMBER('System Results'!QI35),'System Results'!QI35,0)","v":0},{"$f":"+IF(ISNUMBER('System Results'!QL35),'System Results'!QL35,0)","v":0},{"$f":"+IF(ISNUMBER('System Results'!QO35),'System Results'!QO35,0)","v":0},{"$f":"+IF(ISNUMBER('System Results'!QR35),'System Results'!QR35,0)","v":0},{"$f":"+IF(ISNUMBER('System Results'!QU35),'System Results'!QU35,0)","v":0},{"$f":"+IF(ISNUMBER('System Results'!QX35),'System Results'!QX35,0)","v":0},{"$f":"+IF(ISNUMBER('System Results'!RA35),'System Results'!RA35,0)","v":0},{"$f":"+IF(ISNUMBER('System Results'!RD35),'System Results'!RD35,0)","v":0},{"$f":"+IF(ISNUMBER('System Results'!RG35),'System Results'!RG35,0)","v":0},{"$f":"+IF(ISNUMBER('System Results'!RJ35),'System Results'!RJ35,0)","v":0},{"$f":"+IF(ISNUMBER('System Results'!RM35),'System Results'!RM35,0)","v":0},{"$f":"+IF(ISNUMBER('System Results'!RP35),'System Results'!RP35,0)","v":0},{"$f":"+IF(ISNUMBER('System Results'!RS35),'System Results'!RS35,0)","v":0},{"$f":"+IF(ISNUMBER('System Results'!RV35),'System Results'!RV35,0)","v":0},{"$f":"+IF(ISNUMBER('System Results'!RY35),'System Results'!RY35,0)","v":0},{"$f":"+IF(ISNUMBER('System Results'!SB35),'System Results'!SB35,0)","v":0},{"$f":"+IF(ISNUMBER('System Results'!SE35),'System Results'!SE35,0)","v":0},{"$f":"+IF(ISNUMBER('System Results'!SH35),'System Results'!SH35,0)","v":0},{"$f":"+IF(ISNUMBER('System Results'!SK35),'System Results'!SK35,0)","v":0},{"$f":"+IF(ISNUMBER('System Results'!SN35),'System Results'!SN35,0)","v":0},{"$f":"+IF(ISNUMBER('System Results'!SQ35),'System Results'!SQ35,0)","v":0},{"$f":"+IF(ISNUMBER('System Results'!ST35),'System Results'!ST35,0)","v":0},{"$f":"+IF(ISNUMBER('System Results'!SW35),'System Results'!SW35,0)","v":0},{"$f":"+IF(ISNUMBER('System Results'!SZ35),'System Results'!SZ35,0)","v":0},{"$f":"+IF(ISNUMBER('System Results'!TC35),'System Results'!TC35,0)","v":0},{"$f":"+IF(ISNUMBER('System Results'!TF35),'System Results'!TF35,0)","v":0},{"$f":"+IF(ISNUMBER('System Results'!TI35),'System Results'!TI35,0)","v":0},{"$f":"+IF(ISNUMBER('System Results'!TL35),'System Results'!TL35,0)","v":0},{"$f":"+IF(ISNUMBER('System Results'!TO35),'System Results'!TO35,0)","v":0},{"$f":"+IF(ISNUMBER('System Results'!TR35),'System Results'!TR35,0)","v":0},{"$f":"+IF(ISNUMBER('System Results'!TU35),'System Results'!TU35,0)","v":0},{"$f":"+IF(ISNUMBER('System Results'!TX35),'System Results'!TX35,0)","v":0},{"$f":"+IF(ISNUMBER('System Results'!UA35),'System Results'!UA35,0)","v":0},{"$f":"+IF(ISNUMBER('System Results'!UD35),'System Results'!UD35,0)","v":0},{"$f":"+IF(ISNUMBER('System Results'!UG35),'System Results'!UG35,0)","v":0},{"$f":"+IF(ISNUMBER('System Results'!UJ35),'System Results'!UJ35,0)","v":0},{"$f":"+IF(ISNUMBER('System Results'!UM35),'System Results'!UM35,0)","v":0},{"$f":"+IF(ISNUMBER('System Results'!UP35),'System Results'!UP35,0)","v":0},{"$f":"+IF(ISNUMBER('System Results'!US35),'System Results'!US35,0)","v":0},{"$f":"+IF(ISNUMBER('System Results'!UV35),'System Results'!UV35,0)","v":0},{"$f":"+IF(ISNUMBER('System Results'!UY35),'System Results'!UY35,0)","v":0},{"$f":"+IF(ISNUMBER('System Results'!VB35),'System Results'!VB35,0)","v":0},{"$f":"+IF(ISNUMBER('System Results'!VE35),'System Results'!VE35,0)","v":0},{"$f":"+IF(ISNUMBER('System Results'!VH35),'System Results'!VH35,0)","v":0},{"$f":"+IF(ISNUMBER('System Results'!VK35),'System Results'!VK35,0)","v":0},{"$f":"+IF(ISNUMBER('System Results'!VN35),'System Results'!VN35,0)","v":0},{"$f":"+IF(ISNUMBER('System Results'!VQ35),'System Results'!VQ35,0)","v":0},{"$f":"+IF(ISNUMBER('System Results'!VT35),'System Results'!VT35,0)","v":0},{"$f":"+IF(ISNUMBER('System Results'!VW35),'System Results'!VW35,0)","v":0},{"$f":"+IF(ISNUMBER('System Results'!VZ35),'System Results'!VZ35,0)","v":0},{"$f":"+IF(ISNUMBER('System Results'!WC35),'System Results'!WC35,0)","v":0},{"$f":"+IF(ISNUMBER('System Results'!WF35),'System Results'!WF35,0)","v":0},{"$f":"+IF(ISNUMBER('System Results'!WI35),'System Results'!WI35,0)","v":0},{"$f":"+IF(ISNUMBER('System Results'!WL35),'System Results'!WL35,0)","v":0},{"$f":"+IF(ISNUMBER('System Results'!WO35),'System Results'!WO35,0)","v":0},{"$f":"+IF(ISNUMBER('System Results'!WR35),'System Results'!WR35,0)","v":0},{"$f":"+IF(ISNUMBER('System Results'!WU35),'System Results'!WU35,0)","v":0},{"$f":"+IF(ISNUMBER('System Results'!WX35),'System Results'!WX35,0)","v":0},{"$f":"+IF(ISNUMBER('System Results'!XA35),'System Results'!XA35,0)","v":0},{"$f":"+IF(ISNUMBER('System Results'!XD35),'System Results'!XD35,0)","v":0},{"$f":"+IF(ISNUMBER('System Results'!XG35),'System Results'!XG35,0)","v":0},{"$f":"+IF(ISNUMBER('System Results'!XJ35),'System Results'!XJ35,0)","v":0},{"$f":"+IF(ISNUMBER('System Results'!XM35),'System Results'!XM35,0)","v":0},{"$f":"+IF(ISNUMBER('System Results'!XP35),'System Results'!XP35,0)","v":0},{"$f":"+IF(ISNUMBER('System Results'!XS35),'System Results'!XS35,0)","v":0},{"$f":"+IF(ISNUMBER('System Results'!XV35),'System Results'!XV35,0)","v":0},{"$f":"+IF(ISNUMBER('System Results'!XY35),'System Results'!XY35,0)","v":0},{"$f":"+IF(ISNUMBER('System Results'!YB35),'System Results'!YB35,0)","v":0},{"$f":"+IF(ISNUMBER('System Results'!YE35),'System Results'!YE35,0)","v":0},{"$f":"+IF(ISNUMBER('System Results'!YH35),'System Results'!YH35,0)","v":0},{"$f":"+IF(ISNUMBER('System Results'!YK35),'System Results'!YK35,0)","v":0},{"$f":"+IF(ISNUMBER('System Results'!YN35),'System Results'!YN35,0)","v":0},{"$f":"+IF(ISNUMBER('System Results'!YQ35),'System Results'!YQ35,0)","v":0},{"$f":"+IF(ISNUMBER('System Results'!YT35),'System Results'!YT35,0)","v":0},{"$f":"+IF(ISNUMBER('System Results'!YW35),'System Results'!YW35,0)","v":0},{"$f":"+IF(ISNUMBER('System Results'!YZ35),'System Results'!YZ35,0)","v":0},{"$f":"+IF(ISNUMBER('System Results'!ZC35),'System Results'!ZC35,0)","v":0},{"$f":"+IF(ISNUMBER('System Results'!ZF35),'System Results'!ZF35,0)","v":0},{"$f":"+IF(ISNUMBER('System Results'!ZI35),'System Results'!ZI35,0)","v":0},{"$f":"+IF(ISNUMBER('System Results'!ZL35),'System Results'!ZL35,0)","v":0},{"$f":"+IF(ISNUMBER('System Results'!ZO35),'System Results'!ZO35,0)","v":0},{"$f":"+IF(ISNUMBER('System Results'!ZR35),'System Results'!ZR35,0)","v":0},{"$f":"+IF(ISNUMBER('System Results'!ZU35),'System Results'!ZU35,0)","v":0},{"$f":"+IF(ISNUMBER('System Results'!ZX35),'System Results'!ZX35,0)","v":0},{"$f":"+IF(ISNUMBER('System Results'!AAA35),'System Results'!AAA35,0)","v":0},{"$f":"+IF(ISNUMBER('System Results'!AAD35),'System Results'!AAD35,0)","v":0},{"$f":"+IF(ISNUMBER('System Results'!AAG35),'System Results'!AAG35,0)","v":0},{"$f":"+IF(ISNUMBER('System Results'!AAJ35),'System Results'!AAJ35,0)","v":0},{"$f":"+IF(ISNUMBER('System Results'!AAM35),'System Results'!AAM35,0)","v":0},{"$f":"+IF(ISNUMBER('System Results'!AAP35),'System Results'!AAP35,0)","v":0},{"$f":"+IF(ISNUMBER('System Results'!AAS35),'System Results'!AAS35,0)","v":0},{"$f":"+IF(ISNUMBER('System Results'!AAV35),'System Results'!AAV35,0)","v":0},{"$f":"+IF(ISNUMBER('System Results'!AAY35),'System Results'!AAY35,0)","v":0},{"$f":"+IF(ISNUMBER('System Results'!ABB35),'System Results'!ABB35,0)","v":0},{"$f":"+IF(ISNUMBER('System Results'!ABE35),'System Results'!ABE35,0)","v":0},{"$f":"+IF(ISNUMBER('System Results'!ABH35),'System Results'!ABH35,0)","v":0},{"$f":"+IF(ISNUMBER('System Results'!ABK35),'System Results'!ABK35,0)","v":0},{"$f":"+IF(ISNUMBER('System Results'!ABN35),'System Results'!ABN35,0)","v":0},{"$f":"+IF(ISNUMBER('System Results'!ABQ35),'System Results'!ABQ35,0)","v":0},{"$f":"+IF(ISNUMBER('System Results'!ABT35),'System Results'!ABT35,0)","v":0},{"$f":"+IF(ISNUMBER('System Results'!ABW35),'System Results'!ABW35,0)","v":0},{"$f":"+IF(ISNUMBER('System Results'!ABZ35),'System Results'!ABZ35,0)","v":0},{"$f":"+IF(ISNUMBER('System Results'!ACC35),'System Results'!ACC35,0)","v":0},{"$f":"+IF(ISNUMBER('System Results'!ACF35),'System Results'!ACF35,0)","v":0},{"$f":"+IF(ISNUMBER('System Results'!ACI35),'System Results'!ACI35,0)","v":0},{"$f":"+IF(ISNUMBER('System Results'!ACL35),'System Results'!ACL35,0)","v":0},{"$f":"+IF(ISNUMBER('System Results'!ACO35),'System Results'!ACO35,0)","v":0},{"$f":"+IF(ISNUMBER('System Results'!ACR35),'System Results'!ACR35,0)","v":0},{"$f":"+IF(ISNUMBER('System Results'!ACU35),'System Results'!ACU35,0)","v":0},{"$f":"+IF(ISNUMBER('System Results'!ACX35),'System Results'!ACX35,0)","v":0},{"$f":"+IF(ISNUMBER('System Results'!ADA35),'System Results'!ADA35,0)","v":0},{"$f":"+IF(ISNUMBER('System Results'!ADD35),'System Results'!ADD35,0)","v":0},{"$f":"+IF(ISNUMBER('System Results'!ADG35),'System Results'!ADG35,0)","v":0},{"$f":"+IF(ISNUMBER('System Results'!ADJ35),'System Results'!ADJ35,0)","v":0},{"$f":"+IF(ISNUMBER('System Results'!ADM35),'System Results'!ADM35,0)","v":0},{"$f":"+IF(ISNUMBER('System Results'!ADP35),'System Results'!ADP35,0)","v":0},{"$f":"+IF(ISNUMBER('System Results'!ADS35),'System Results'!ADS35,0)","v":0},{"$f":"+IF(ISNUMBER('System Results'!ADV35),'System Results'!ADV35,0)","v":0},{"$f":"+IF(ISNUMBER('System Results'!ADY35),'System Results'!ADY35,0)","v":0},{"$f":"+IF(ISNUMBER('System Results'!AEB35),'System Results'!AEB35,0)","v":0},{"$f":"+IF(ISNUMBER('System Results'!AEE35),'System Results'!AEE35,0)","v":0},{"$f":"+IF(ISNUMBER('System Results'!AEH35),'System Results'!AEH35,0)","v":0},{"$f":"+IF(ISNUMBER('System Results'!AEK35),'System Results'!AEK35,0)","v":0},{"$f":"+IF(ISNUMBER('System Results'!AEN35),'System Results'!AEN35,0)","v":0},{"$f":"+IF(ISNUMBER('System Results'!AEQ35),'System Results'!AEQ35,0)","v":0},{"$f":"+IF(ISNUMBER('System Results'!AET35),'System Results'!AET35,0)","v":0},{"$f":"+IF(ISNUMBER('System Results'!AEW35),'System Results'!AEW35,0)","v":0},{"$f":"+IF(ISNUMBER('System Results'!AEZ35),'System Results'!AEZ35,0)","v":0},{"$f":"+IF(ISNUMBER('System Results'!AFC35),'System Results'!AFC35,0)","v":0},{"$f":"+IF(ISNUMBER('System Results'!AFF35),'System Results'!AFF35,0)","v":0},{"$f":"+IF(ISNUMBER('System Results'!AFI35),'System Results'!AFI35,0)","v":0},{"$f":"+IF(ISNUMBER('System Results'!AFL35),'System Results'!AFL35,0)","v":0},{"$f":"+IF(ISNUMBER('System Results'!AFO35),'System Results'!AFO35,0)","v":0},{"$f":"+IF(ISNUMBER('System Results'!AFR35),'System Results'!AFR35,0)","v":0},{"$f":"+IF(ISNUMBER('System Results'!AFU35),'System Results'!AFU35,0)","v":0},{"$f":"+IF(ISNUMBER('System Results'!AFX35),'System Results'!AFX35,0)","v":0},{"$f":"+IF(ISNUMBER('System Results'!AGA35),'System Results'!AGA35,0)","v":0},{"$f":"+IF(ISNUMBER('System Results'!AGD35),'System Results'!AGD35,0)","v":0},{"$f":"+IF(ISNUMBER('System Results'!AGG35),'System Results'!AGG35,0)","v":0},{"$f":"+IF(ISNUMBER('System Results'!AGJ35),'System Results'!AGJ35,0)","v":0},{"$f":"+IF(ISNUMBER('System Results'!AGM35),'System Results'!AGM35,0)","v":0},{"$f":"+IF(ISNUMBER('System Results'!AGP35),'System Results'!AGP35,0)","v":0},{"$f":"+IF(ISNUMBER('System Results'!AGS35),'System Results'!AGS35,0)","v":0},{"$f":"+IF(ISNUMBER('System Results'!AGV35),'System Results'!AGV35,0)","v":0},{"$f":"+IF(ISNUMBER('System Results'!AGY35),'System Results'!AGY35,0)","v":0},{"$f":"+IF(ISNUMBER('System Results'!AHB35),'System Results'!AHB35,0)","v":0},{"$f":"+IF(ISNUMBER('System Results'!AHE35),'System Results'!AHE35,0)","v":0},{"$f":"+IF(ISNUMBER('System Results'!AHH35),'System Results'!AHH35,0)","v":0},{"$f":"+IF(ISNUMBER('System Results'!AHK35),'System Results'!AHK35,0)","v":0},{"$f":"+IF(ISNUMBER('System Results'!AHN35),'System Results'!AHN35,0)","v":0},{"$f":"+IF(ISNUMBER('System Results'!AHQ35),'System Results'!AHQ35,0)","v":0},{"$f":"+IF(ISNUMBER('System Results'!AHT35),'System Results'!AHT35,0)","v":0}]
["Scope 3",{"$f":"+'System Results'!B37","v":"Purchased goods & services"},0,{"$f":"+IF(ISNUMBER('System Results'!G37),'System Results'!G37,0)","v":0},{"$f":"+IF(ISNUMBER('System Results'!J37),'System Results'!J37,0)","v":0},{"$f":"+IF(ISNUMBER('System Results'!M37),'System Results'!M37,0)","v":0},{"$f":"+IF(ISNUMBER('System Results'!P37),'System Results'!P37,0)","v":0},{"$f":"+IF(ISNUMBER('System Results'!S37),'System Results'!S37,0)","v":0},{"$f":"+IF(ISNUMBER('System Results'!V37),'System Results'!V37,0)","v":0},{"$f":"+IF(ISNUMBER('System Results'!Y37),'System Results'!Y37,0)","v":0},{"$f":"+IF(ISNUMBER('System Results'!AB37),'System Results'!AB37,0)","v":0},{"$f":"+IF(ISNUMBER('System Results'!AE37),'System Results'!AE37,0)","v":0},{"$f":"+IF(ISNUMBER('System Results'!AH37),'System Results'!AH37,0)","v":0},{"$f":"+IF(ISNUMBER('System Results'!AK37),'System Results'!AK37,0)","v":0},{"$f":"+IF(ISNUMBER('System Results'!AN37),'System Results'!AN37,0)","v":0},{"$f":"+IF(ISNUMBER('System Results'!AQ37),'System Results'!AQ37,0)","v":0},{"$f":"+IF(ISNUMBER('System Results'!AT37),'System Results'!AT37,0)","v":0},{"$f":"+IF(ISNUMBER('System Results'!AW37),'System Results'!AW37,0)","v":0},{"$f":"+IF(ISNUMBER('System Results'!AZ37),'System Results'!AZ37,0)","v":0},{"$f":"+IF(ISNUMBER('System Results'!BC37),'System Results'!BC37,0)","v":0},{"$f":"+IF(ISNUMBER('System Results'!BF37),'System Results'!BF37,0)","v":0},{"$f":"+IF(ISNUMBER('System Results'!BI37),'System Results'!BI37,0)","v":0},{"$f":"+IF(ISNUMBER('System Results'!BL37),'System Results'!BL37,0)","v":0},{"$f":"+IF(ISNUMBER('System Results'!BO37),'System Results'!BO37,0)","v":0},{"$f":"+IF(ISNUMBER('System Results'!BR37),'System Results'!BR37,0)","v":0},{"$f":"+IF(ISNUMBER('System Results'!BU37),'System Results'!BU37,0)","v":0},{"$f":"+IF(ISNUMBER('System Results'!BX37),'System Results'!BX37,0)","v":0},{"$f":"+IF(ISNUMBER('System Results'!CA37),'System Results'!CA37,0)","v":0},{"$f":"+IF(ISNUMBER('System Results'!CD37),'System Results'!CD37,0)","v":0},{"$f":"+IF(ISNUMBER('System Results'!CG37),'System Results'!CG37,0)","v":0},{"$f":"+IF(ISNUMBER('System Results'!CJ37),'System Results'!CJ37,0)","v":0},{"$f":"+IF(ISNUMBER('System Results'!CM37),'System Results'!CM37,0)","v":0},{"$f":"+IF(ISNUMBER('System Results'!CP37),'System Results'!CP37,0)","v":0},{"$f":"+IF(ISNUMBER('System Results'!CS37),'System Results'!CS37,0)","v":0},{"$f":"+IF(ISNUMBER('System Results'!CV37),'System Results'!CV37,0)","v":0},{"$f":"+IF(ISNUMBER('System Results'!CY37),'System Results'!CY37,0)","v":0},{"$f":"+IF(ISNUMBER('System Results'!DB37),'System Results'!DB37,0)","v":0},{"$f":"+IF(ISNUMBER('System Results'!DE37),'System Results'!DE37,0)","v":0},{"$f":"+IF(ISNUMBER('System Results'!DH37),'System Results'!DH37,0)","v":0},{"$f":"+IF(ISNUMBER('System Results'!DK37),'System Results'!DK37,0)","v":0},{"$f":"+IF(ISNUMBER('System Results'!DN37),'System Results'!DN37,0)","v":0},{"$f":"+IF(ISNUMBER('System Results'!DQ37),'System Results'!DQ37,0)","v":0},{"$f":"+IF(ISNUMBER('System Results'!DT37),'System Results'!DT37,0)","v":0},{"$f":"+IF(ISNUMBER('System Results'!DW37),'System Results'!DW37,0)","v":0},{"$f":"+IF(ISNUMBER('System Results'!DZ37),'System Results'!DZ37,0)","v":0},{"$f":"+IF(ISNUMBER('System Results'!EC37),'System Results'!EC37,0)","v":0},{"$f":"+IF(ISNUMBER('System Results'!EF37),'System Results'!EF37,0)","v":0},{"$f":"+IF(ISNUMBER('System Results'!EI37),'System Results'!EI37,0)","v":0},{"$f":"+IF(ISNUMBER('System Results'!EL37),'System Results'!EL37,0)","v":0},{"$f":"+IF(ISNUMBER('System Results'!EO37),'System Results'!EO37,0)","v":0},{"$f":"+IF(ISNUMBER('System Results'!ER37),'System Results'!ER37,0)","v":0},{"$f":"+IF(ISNUMBER('System Results'!EU37),'System Results'!EU37,0)","v":0},{"$f":"+IF(ISNUMBER('System Results'!EX37),'System Results'!EX37,0)","v":0},{"$f":"+IF(ISNUMBER('System Results'!FA37),'System Results'!FA37,0)","v":0},{"$f":"+IF(ISNUMBER('System Results'!FD37),'System Results'!FD37,0)","v":0},{"$f":"+IF(ISNUMBER('System Results'!FG37),'System Results'!FG37,0)","v":0},{"$f":"+IF(ISNUMBER('System Results'!FJ37),'System Results'!FJ37,0)","v":0},{"$f":"+IF(ISNUMBER('System Results'!FM37),'System Results'!FM37,0)","v":0},{"$f":"+IF(ISNUMBER('System Results'!FP37),'System Results'!FP37,0)","v":0},{"$f":"+IF(ISNUMBER('System Results'!FS37),'System Results'!FS37,0)","v":0},{"$f":"+IF(ISNUMBER('System Results'!FV37),'System Results'!FV37,0)","v":0},{"$f":"+IF(ISNUMBER('System Results'!FY37),'System Results'!FY37,0)","v":0},{"$f":"+IF(ISNUMBER('System Results'!GB37),'System Results'!GB37,0)","v":0},{"$f":"+IF(ISNUMBER('System Results'!GE37),'System Results'!GE37,0)","v":0},{"$f":"+IF(ISNUMBER('System Results'!GH37),'System Results'!GH37,0)","v":0},{"$f":"+IF(ISNUMBER('System Results'!GK37),'System Results'!GK37,0)","v":0},{"$f":"+IF(ISNUMBER('System Results'!GN37),'System Results'!GN37,0)","v":0},{"$f":"+IF(ISNUMBER('System Results'!GQ37),'System Results'!GQ37,0)","v":0},{"$f":"+IF(ISNUMBER('System Results'!GT37),'System Results'!GT37,0)","v":0},{"$f":"+IF(ISNUMBER('System Results'!GW37),'System Results'!GW37,0)","v":0},{"$f":"+IF(ISNUMBER('System Results'!GZ37),'System Results'!GZ37,0)","v":0},{"$f":"+IF(ISNUMBER('System Results'!HC37),'System Results'!HC37,0)","v":0},{"$f":"+IF(ISNUMBER('System Results'!HF37),'System Results'!HF37,0)","v":0},{"$f":"+IF(ISNUMBER('System Results'!HI37),'System Results'!HI37,0)","v":0},{"$f":"+IF(ISNUMBER('System Results'!HL37),'System Results'!HL37,0)","v":0},{"$f":"+IF(ISNUMBER('System Results'!HO37),'System Results'!HO37,0)","v":0},{"$f":"+IF(ISNUMBER('System Results'!HR37),'System Results'!HR37,0)","v":0},{"$f":"+IF(ISNUMBER('System Results'!HU37),'System Results'!HU37,0)","v":0},{"$f":"+IF(ISNUMBER('System Results'!HX37),'System Results'!HX37,0)","v":0},{"$f":"+IF(ISNUMBER('System Results'!IA37),'System Results'!IA37,0)","v":0},{"$f":"+IF(ISNUMBER('System Results'!ID37),'System Results'!ID37,0)","v":0},{"$f":"+IF(ISNUMBER('System Results'!IG37),'System Results'!IG37,0)","v":0},{"$f":"+IF(ISNUMBER('System Results'!IJ37),'System Results'!IJ37,0)","v":0},{"$f":"+IF(ISNUMBER('System Results'!IM37),'System Results'!IM37,0)","v":0},{"$f":"+IF(ISNUMBER('System Results'!IP37),'System Results'!IP37,0)","v":0},{"$f":"+IF(ISNUMBER('System Results'!IS37),'System Results'!IS37,0)","v":0},{"$f":"+IF(ISNUMBER('System Results'!IV37),'System Results'!IV37,0)","v":0},{"$f":"+IF(ISNUMBER('System Results'!IY37),'System Results'!IY37,0)","v":0},{"$f":"+IF(ISNUMBER('System Results'!JB37),'System Results'!JB37,0)","v":0},{"$f":"+IF(ISNUMBER('System Results'!JE37),'System Results'!JE37,0)","v":0},{"$f":"+IF(ISNUMBER('System Results'!JH37),'System Results'!JH37,0)","v":0},{"$f":"+IF(ISNUMBER('System Results'!JK37),'System Results'!JK37,0)","v":0},{"$f":"+IF(ISNUMBER('System Results'!JN37),'System Results'!JN37,0)","v":0},{"$f":"+IF(ISNUMBER('System Results'!JQ37),'System Results'!JQ37,0)","v":0},{"$f":"+IF(ISNUMBER('System Results'!JT37),'System Results'!JT37,0)","v":0},{"$f":"+IF(ISNUMBER('System Results'!JW37),'System Results'!JW37,0)","v":0},{"$f":"+IF(ISNUMBER('System Results'!JZ37),'System Results'!JZ37,0)","v":0},{"$f":"+IF(ISNUMBER('System Results'!KC37),'System Results'!KC37,0)","v":0},{"$f":"+IF(ISNUMBER('System Results'!KF37),'System Results'!KF37,0)","v":0},{"$f":"+IF(ISNUMBER('System Results'!KI37),'System Results'!KI37,0)","v":0},{"$f":"+IF(ISNUMBER('System Results'!KL37),'System Results'!KL37,0)","v":0},{"$f":"+IF(ISNUMBER('System Results'!KO37),'System Results'!KO37,0)","v":0},{"$f":"+IF(ISNUMBER('System Results'!KR37),'System Results'!KR37,0)","v":0},{"$f":"+IF(ISNUMBER('System Results'!KU37),'System Results'!KU37,0)","v":0},{"$f":"+IF(ISNUMBER('System Results'!KX37),'System Results'!KX37,0)","v":0},{"$f":"+IF(ISNUMBER('System Results'!LA37),'System Results'!LA37,0)","v":0},{"$f":"+IF(ISNUMBER('System Results'!LD37),'System Results'!LD37,0)","v":0},{"$f":"+IF(ISNUMBER('System Results'!LG37),'System Results'!LG37,0)","v":0},{"$f":"+IF(ISNUMBER('System Results'!LJ37),'System Results'!LJ37,0)","v":0},{"$f":"+IF(ISNUMBER('System Results'!LM37),'System Results'!LM37,0)","v":0},{"$f":"+IF(ISNUMBER('System Results'!LP37),'System Results'!LP37,0)","v":0},{"$f":"+IF(ISNUMBER('System Results'!LS37),'System Results'!LS37,0)","v":0},{"$f":"+IF(ISNUMBER('System Results'!LV37),'System Results'!LV37,0)","v":0},{"$f":"+IF(ISNUMBER('System Results'!LY37),'System Results'!LY37,0)","v":0},{"$f":"+IF(ISNUMBER('System Results'!MB37),'System Results'!MB37,0)","v":0},{"$f":"+IF(ISNUMBER('System Results'!ME37),'System Results'!ME37,0)","v":0},{"$f":"+IF(ISNUMBER('System Results'!MH37),'System Results'!MH37,0)","v":0},{"$f":"+IF(ISNUMBER('System Results'!MK37),'System Results'!MK37,0)","v":0},{"$f":"+IF(ISNUMBER('System Results'!MN37),'System Results'!MN37,0)","v":0},{"$f":"+IF(ISNUMBER('System Results'!MQ37),'System Results'!MQ37,0)","v":0},{"$f":"+IF(ISNUMBER('System Results'!MT37),'System Results'!MT37,0)","v":0},{"$f":"+IF(ISNUMBER('System Results'!MW37),'System Results'!MW37,0)","v":0},{"$f":"+IF(ISNUMBER('System Results'!MZ37),'System Results'!MZ37,0)","v":0},{"$f":"+IF(ISNUMBER('System Results'!NC37),'System Results'!NC37,0)","v":0},{"$f":"+IF(ISNUMBER('System Results'!NF37),'System Results'!NF37,0)","v":0},{"$f":"+IF(ISNUMBER('System Results'!NI37),'System Results'!NI37,0)","v":0},{"$f":"+IF(ISNUMBER('System Results'!NL37),'System Results'!NL37,0)","v":0},{"$f":"+IF(ISNUMBER('System Results'!NO37),'System Results'!NO37,0)","v":0},{"$f":"+IF(ISNUMBER('System Results'!NR37),'System Results'!NR37,0)","v":0},{"$f":"+IF(ISNUMBER('System Results'!NU37),'System Results'!NU37,0)","v":0},{"$f":"+IF(ISNUMBER('System Results'!NX37),'System Results'!NX37,0)","v":0},{"$f":"+IF(ISNUMBER('System Results'!OA37),'System Results'!OA37,0)","v":0},{"$f":"+IF(ISNUMBER('System Results'!OD37),'System Results'!OD37,0)","v":0},{"$f":"+IF(ISNUMBER('System Results'!OG37),'System Results'!OG37,0)","v":0},{"$f":"+IF(ISNUMBER('System Results'!OJ37),'System Results'!OJ37,0)","v":0},{"$f":"+IF(ISNUMBER('System Results'!OM37),'System Results'!OM37,0)","v":0},{"$f":"+IF(ISNUMBER('System Results'!OP37),'System Results'!OP37,0)","v":0},{"$f":"+IF(ISNUMBER('System Results'!OS37),'System Results'!OS37,0)","v":0},{"$f":"+IF(ISNUMBER('System Results'!OV37),'System Results'!OV37,0)","v":0},{"$f":"+IF(ISNUMBER('System Results'!OY37),'System Results'!OY37,0)","v":0},{"$f":"+IF(ISNUMBER('System Results'!PB37),'System Results'!PB37,0)","v":0},{"$f":"+IF(ISNUMBER('System Results'!PE37),'System Results'!PE37,0)","v":0},{"$f":"+IF(ISNUMBER('System Results'!PH37),'System Results'!PH37,0)","v":0},{"$f":"+IF(ISNUMBER('System Results'!PK37),'System Results'!PK37,0)","v":0},{"$f":"+IF(ISNUMBER('System Results'!PN37),'System Results'!PN37,0)","v":0},{"$f":"+IF(ISNUMBER('System Results'!PQ37),'System Results'!PQ37,0)","v":0},{"$f":"+IF(ISNUMBER('System Results'!PT37),'System Results'!PT37,0)","v":0},{"$f":"+IF(ISNUMBER('System Results'!PW37),'System Results'!PW37,0)","v":0},{"$f":"+IF(ISNUMBER('System Results'!PZ37),'System Results'!PZ37,0)","v":0},{"$f":"+IF(ISNUMBER('System Results'!QC37),'System Results'!QC37,0)","v":0},{"$f":"+IF(ISNUMBER('System Results'!QF37),'System Results'!QF37,0)","v":0},{"$f":"+IF(ISNUMBER('System Results'!QI37),'System Results'!QI37,0)","v":0},{"$f":"+IF(ISNUMBER('System Results'!QL37),'System Results'!QL37,0)","v":0},{"$f":"+IF(ISNUMBER('System Results'!QO37),'System Results'!QO37,0)","v":0},{"$f":"+IF(ISNUMBER('System Results'!QR37),'System Results'!QR37,0)","v":0},{"$f":"+IF(ISNUMBER('System Results'!QU37),'System Results'!QU37,0)","v":0},{"$f":"+IF(ISNUMBER('System Results'!QX37),'System Results'!QX37,0)","v":0},{"$f":"+IF(ISNUMBER('System Results'!RA37),'System Results'!RA37,0)","v":0},{"$f":"+IF(ISNUMBER('System Results'!RD37),'System Results'!RD37,0)","v":0},{"$f":"+IF(ISNUMBER('System Results'!RG37),'System Results'!RG37,0)","v":0},{"$f":"+IF(ISNUMBER('System Results'!RJ37),'System Results'!RJ37,0)","v":0},{"$f":"+IF(ISNUMBER('System Results'!RM37),'System Results'!RM37,0)","v":0},{"$f":"+IF(ISNUMBER('System Results'!RP37),'System Results'!RP37,0)","v":0},{"$f":"+IF(ISNUMBER('System Results'!RS37),'System Results'!RS37,0)","v":0},{"$f":"+IF(ISNUMBER('System Results'!RV37),'System Results'!RV37,0)","v":0},{"$f":"+IF(ISNUMBER('System Results'!RY37),'System Results'!RY37,0)","v":0},{"$f":"+IF(ISNUMBER('System Results'!SB37),'System Results'!SB37,0)","v":0},{"$f":"+IF(ISNUMBER('System Results'!SE37),'System Results'!SE37,0)","v":0},{"$f":"+IF(ISNUMBER('System Results'!SH37),'System Results'!SH37,0)","v":0},{"$f":"+IF(ISNUMBER('System Results'!SK37),'System Results'!SK37,0)","v":0},{"$f":"+IF(ISNUMBER('System Results'!SN37),'System Results'!SN37,0)","v":0},{"$f":"+IF(ISNUMBER('System Results'!SQ37),'System Results'!SQ37,0)","v":0},{"$f":"+IF(ISNUMBER('System Results'!ST37),'System Results'!ST37,0)","v":0},{"$f":"+IF(ISNUMBER('System Results'!SW37),'System Results'!SW37,0)","v":0},{"$f":"+IF(ISNUMBER('System Results'!SZ37),'System Results'!SZ37,0)","v":0},{"$f":"+IF(ISNUMBER('System Results'!TC37),'System Results'!TC37,0)","v":0},{"$f":"+IF(ISNUMBER('System Results'!TF37),'System Results'!TF37,0)","v":0},{"$f":"+IF(ISNUMBER('System Results'!TI37),'System Results'!TI37,0)","v":0},{"$f":"+IF(ISNUMBER('System Results'!TL37),'System Results'!TL37,0)","v":0},{"$f":"+IF(ISNUMBER('System Results'!TO37),'System Results'!TO37,0)","v":0},{"$f":"+IF(ISNUMBER('System Results'!TR37),'System Results'!TR37,0)","v":0},{"$f":"+IF(ISNUMBER('System Results'!TU37),'System Results'!TU37,0)","v":0},{"$f":"+IF(ISNUMBER('System Results'!TX37),'System Results'!TX37,0)","v":0},{"$f":"+IF(ISNUMBER('System Results'!UA37),'System Results'!UA37,0)","v":0},{"$f":"+IF(ISNUMBER('System Results'!UD37),'System Results'!UD37,0)","v":0},{"$f":"+IF(ISNUMBER('System Results'!UG37),'System Results'!UG37,0)","v":0},{"$f":"+IF(ISNUMBER('System Results'!UJ37),'System Results'!UJ37,0)","v":0},{"$f":"+IF(ISNUMBER('System Results'!UM37),'System Results'!UM37,0)","v":0},{"$f":"+IF(ISNUMBER('System Results'!UP37),'System Results'!UP37,0)","v":0},{"$f":"+IF(ISNUMBER('System Results'!US37),'System Results'!US37,0)","v":0},{"$f":"+IF(ISNUMBER('System Results'!UV37),'System Results'!UV37,0)","v":0},{"$f":"+IF(ISNUMBER('System Results'!UY37),'System Results'!UY37,0)","v":0},{"$f":"+IF(ISNUMBER('System Results'!VB37),'System Results'!VB37,0)","v":0},{"$f":"+IF(ISNUMBER('System Results'!VE37),'System Results'!VE37,0)","v":0},{"$f":"+IF(ISNUMBER('System Results'!VH37),'System Results'!VH37,0)","v":0},{"$f":"+IF(ISNUMBER('System Results'!VK37),'System Results'!VK37,0)","v":0},{"$f":"+IF(ISNUMBER('System Results'!VN37),'System Results'!VN37,0)","v":0},{"$f":"+IF(ISNUMBER('System Results'!VQ37),'System Results'!VQ37,0)","v":0},{"$f":"+IF(ISNUMBER('System Results'!VT37),'System Results'!VT37,0)","v":0},{"$f":"+IF(ISNUMBER('System Results'!VW37),'System Results'!VW37,0)","v":0},{"$f":"+IF(ISNUMBER('System Results'!VZ37),'System Results'!VZ37,0)","v":0},{"$f":"+IF(ISNUMBER('System Results'!WC37),'System Results'!WC37,0)","v":0},{"$f":"+IF(ISNUMBER('System Results'!WF37),'System Results'!WF37,0)","v":0},{"$f":"+IF(ISNUMBER('System Results'!WI37),'System Results'!WI37,0)","v":0},{"$f":"+IF(ISNUMBER('System Results'!WL37),'System Results'!WL37,0)","v":0},{"$f":"+IF(ISNUMBER('System Results'!WO37),'System Results'!WO37,0)","v":0},{"$f":"+IF(ISNUMBER('System Results'!WR37),'System Results'!WR37,0)","v":0},{"$f":"+IF(ISNUMBER('System Results'!WU37),'System Results'!WU37,0)","v":0},{"$f":"+IF(ISNUMBER('System Results'!WX37),'System Results'!WX37,0)","v":0},{"$f":"+IF(ISNUMBER('System Results'!XA37),'System Results'!XA37,0)","v":0},{"$f":"+IF(ISNUMBER('System Results'!XD37),'System Results'!XD37,0)","v":0},{"$f":"+IF(ISNUMBER('System Results'!XG37),'System Results'!XG37,0)","v":0},{"$f":"+IF(ISNUMBER('System Results'!XJ37),'System Results'!XJ37,0)","v":0},{"$f":"+IF(ISNUMBER('System Results'!XM37),'System Results'!XM37,0)","v":0},{"$f":"+IF(ISNUMBER('System Results'!XP37),'System Results'!XP37,0)","v":0},{"$f":"+IF(ISNUMBER('System Results'!XS37),'System Results'!XS37,0)","v":0},{"$f":"+IF(ISNUMBER('System Results'!XV37),'System Results'!XV37,0)","v":0},{"$f":"+IF(ISNUMBER('System Results'!XY37),'System Results'!XY37,0)","v":0},{"$f":"+IF(ISNUMBER('System Results'!YB37),'System Results'!YB37,0)","v":0},{"$f":"+IF(ISNUMBER('System Results'!YE37),'System Results'!YE37,0)","v":0},{"$f":"+IF(ISNUMBER('System Results'!YH37),'System Results'!YH37,0)","v":0},{"$f":"+IF(ISNUMBER('System Results'!YK37),'System Results'!YK37,0)","v":0},{"$f":"+IF(ISNUMBER('System Results'!YN37),'System Results'!YN37,0)","v":0},{"$f":"+IF(ISNUMBER('System Results'!YQ37),'System Results'!YQ37,0)","v":0},{"$f":"+IF(ISNUMBER('System Results'!YT37),'System Results'!YT37,0)","v":0},{"$f":"+IF(ISNUMBER('System Results'!YW37),'System Results'!YW37,0)","v":0},{"$f":"+IF(ISNUMBER('System Results'!YZ37),'System Results'!YZ37,0)","v":0},{"$f":"+IF(ISNUMBER('System Results'!ZC37),'System Results'!ZC37,0)","v":0},{"$f":"+IF(ISNUMBER('System Results'!ZF37),'System Results'!ZF37,0)","v":0},{"$f":"+IF(ISNUMBER('System Results'!ZI37),'System Results'!ZI37,0)","v":0},{"$f":"+IF(ISNUMBER('System Results'!ZL37),'System Results'!ZL37,0)","v":0},{"$f":"+IF(ISNUMBER('System Results'!ZO37),'System Results'!ZO37,0)","v":0},{"$f":"+IF(ISNUMBER('System Results'!ZR37),'System Results'!ZR37,0)","v":0},{"$f":"+IF(ISNUMBER('System Results'!ZU37),'System Results'!ZU37,0)","v":0},{"$f":"+IF(ISNUMBER('System Results'!ZX37),'System Results'!ZX37,0)","v":0},{"$f":"+IF(ISNUMBER('System Results'!AAA37),'System Results'!AAA37,0)","v":0},{"$f":"+IF(ISNUMBER('System Results'!AAD37),'System Results'!AAD37,0)","v":0},{"$f":"+IF(ISNUMBER('System Results'!AAG37),'System Results'!AAG37,0)","v":0},{"$f":"+IF(ISNUMBER('System Results'!AAJ37),'System Results'!AAJ37,0)","v":0},{"$f":"+IF(ISNUMBER('System Results'!AAM37),'System Results'!AAM37,0)","v":0},{"$f":"+IF(ISNUMBER('System Results'!AAP37),'System Results'!AAP37,0)","v":0},{"$f":"+IF(ISNUMBER('System Results'!AAS37),'System Results'!AAS37,0)","v":0},{"$f":"+IF(ISNUMBER('System Results'!AAV37),'System Results'!AAV37,0)","v":0},{"$f":"+IF(ISNUMBER('System Results'!AAY37),'System Results'!AAY37,0)","v":0},{"$f":"+IF(ISNUMBER('System Results'!ABB37),'System Results'!ABB37,0)","v":0},{"$f":"+IF(ISNUMBER('System Results'!ABE37),'System Results'!ABE37,0)","v":0},{"$f":"+IF(ISNUMBER('System Results'!ABH37),'System Results'!ABH37,0)","v":0},{"$f":"+IF(ISNUMBER('System Results'!ABK37),'System Results'!ABK37,0)","v":0},{"$f":"+IF(ISNUMBER('System Results'!ABN37),'System Results'!ABN37,0)","v":0},{"$f":"+IF(ISNUMBER('System Results'!ABQ37),'System Results'!ABQ37,0)","v":0},{"$f":"+IF(ISNUMBER('System Results'!ABT37),'System Results'!ABT37,0)","v":0},{"$f":"+IF(ISNUMBER('System Results'!ABW37),'System Results'!ABW37,0)","v":0},{"$f":"+IF(ISNUMBER('System Results'!ABZ37),'System Results'!ABZ37,0)","v":0},{"$f":"+IF(ISNUMBER('System Results'!ACC37),'System Results'!ACC37,0)","v":0},{"$f":"+IF(ISNUMBER('System Results'!ACF37),'System Results'!ACF37,0)","v":0},{"$f":"+IF(ISNUMBER('System Results'!ACI37),'System Results'!ACI37,0)","v":0},{"$f":"+IF(ISNUMBER('System Results'!ACL37),'System Results'!ACL37,0)","v":0},{"$f":"+IF(ISNUMBER('System Results'!ACO37),'System Results'!ACO37,0)","v":0},{"$f":"+IF(ISNUMBER('System Results'!ACR37),'System Results'!ACR37,0)","v":0},{"$f":"+IF(ISNUMBER('System Results'!ACU37),'System Results'!ACU37,0)","v":0},{"$f":"+IF(ISNUMBER('System Results'!ACX37),'System Results'!ACX37,0)","v":0},{"$f":"+IF(ISNUMBER('System Results'!ADA37),'System Results'!ADA37,0)","v":0},{"$f":"+IF(ISNUMBER('System Results'!ADD37),'System Results'!ADD37,0)","v":0},{"$f":"+IF(ISNUMBER('System Results'!ADG37),'System Results'!ADG37,0)","v":0},{"$f":"+IF(ISNUMBER('System Results'!ADJ37),'System Results'!ADJ37,0)","v":0},{"$f":"+IF(ISNUMBER('System Results'!ADM37),'System Results'!ADM37,0)","v":0},{"$f":"+IF(ISNUMBER('System Results'!ADP37),'System Results'!ADP37,0)","v":0},{"$f":"+IF(ISNUMBER('System Results'!ADS37),'System Results'!ADS37,0)","v":0},{"$f":"+IF(ISNUMBER('System Results'!ADV37),'System Results'!ADV37,0)","v":0},{"$f":"+IF(ISNUMBER('System Results'!ADY37),'System Results'!ADY37,0)","v":0},{"$f":"+IF(ISNUMBER('System Results'!AEB37),'System Results'!AEB37,0)","v":0},{"$f":"+IF(ISNUMBER('System Results'!AEE37),'System Results'!AEE37,0)","v":0},{"$f":"+IF(ISNUMBER('System Results'!AEH37),'System Results'!AEH37,0)","v":0},{"$f":"+IF(ISNUMBER('System Results'!AEK37),'System Results'!AEK37,0)","v":0},{"$f":"+IF(ISNUMBER('System Results'!AEN37),'System Results'!AEN37,0)","v":0},{"$f":"+IF(ISNUMBER('System Results'!AEQ37),'System Results'!AEQ37,0)","v":0},{"$f":"+IF(ISNUMBER('System Results'!AET37),'System Results'!AET37,0)","v":0},{"$f":"+IF(ISNUMBER('System Results'!AEW37),'System Results'!AEW37,0)","v":0},{"$f":"+IF(ISNUMBER('System Results'!AEZ37),'System Results'!AEZ37,0)","v":0},{"$f":"+IF(ISNUMBER('System Results'!AFC37),'System Results'!AFC37,0)","v":0},{"$f":"+IF(ISNUMBER('System Results'!AFF37),'System Results'!AFF37,0)","v":0},{"$f":"+IF(ISNUMBER('System Results'!AFI37),'System Results'!AFI37,0)","v":0},{"$f":"+IF(ISNUMBER('System Results'!AFL37),'System Results'!AFL37,0)","v":0},{"$f":"+IF(ISNUMBER('System Results'!AFO37),'System Results'!AFO37,0)","v":0},{"$f":"+IF(ISNUMBER('System Results'!AFR37),'System Results'!AFR37,0)","v":0},{"$f":"+IF(ISNUMBER('System Results'!AFU37),'System Results'!AFU37,0)","v":0},{"$f":"+IF(ISNUMBER('System Results'!AFX37),'System Results'!AFX37,0)","v":0},{"$f":"+IF(ISNUMBER('System Results'!AGA37),'System Results'!AGA37,0)","v":0},{"$f":"+IF(ISNUMBER('System Results'!AGD37),'System Results'!AGD37,0)","v":0},{"$f":"+IF(ISNUMBER('System Results'!AGG37),'System Results'!AGG37,0)","v":0},{"$f":"+IF(ISNUMBER('System Results'!AGJ37),'System Results'!AGJ37,0)","v":0},{"$f":"+IF(ISNUMBER('System Results'!AGM37),'System Results'!AGM37,0)","v":0},{"$f":"+IF(ISNUMBER('System Results'!AGP37),'System Results'!AGP37,0)","v":0},{"$f":"+IF(ISNUMBER('System Results'!AGS37),'System Results'!AGS37,0)","v":0},{"$f":"+IF(ISNUMBER('System Results'!AGV37),'System Results'!AGV37,0)","v":0},{"$f":"+IF(ISNUMBER('System Results'!AGY37),'System Results'!AGY37,0)","v":0},{"$f":"+IF(ISNUMBER('System Results'!AHB37),'System Results'!AHB37,0)","v":0},{"$f":"+IF(ISNUMBER('System Results'!AHE37),'System Results'!AHE37,0)","v":0},{"$f":"+IF(ISNUMBER('System Results'!AHH37),'System Results'!AHH37,0)","v":0},{"$f":"+IF(ISNUMBER('System Results'!AHK37),'System Results'!AHK37,0)","v":0},{"$f":"+IF(ISNUMBER('System Results'!AHN37),'System Results'!AHN37,0)","v":0},{"$f":"+IF(ISNUMBER('System Results'!AHQ37),'System Results'!AHQ37,0)","v":0},{"$f":"+IF(ISNUMBER('System Results'!AHT37),'System Results'!AHT37,0)","v":0}]
["Scope 3",{"$f":"+'System Results'!B38","v":"Capital goods"},0,{"$f":"+IF(ISNUMBER('System Results'!G38),'System Results'!G38,0)","v":0},{"$f":"+IF(ISNUMBER('System Results'!J38),'System Results'!J38,0)","v":0},{"$f":"+IF(ISNUMBER('System Results'!M38),'System Results'!M38,0)","v":0},{"$f":"+IF(ISNUMBER('System Results'!P38),'System Results'!P38,0)","v":0},{"$f":"+IF(ISNUMBER('System Results'!S38),'System Results'!S38,0)","v":0},{"$f":"+IF(ISNUMBER('System Results'!V38),'System Results'!V38,0)","v":0},{"$f":"+IF(ISNUMBER('System Results'!Y38),'System Results'!Y38,0)","v":0},{"$f":"+IF(ISNUMBER('System Results'!AB38),'System Results'!AB38,0)","v":0},{"$f":"+IF(ISNUMBER('System Results'!AE38),'System Results'!AE38,0)","v":0},{"$f":"+IF(ISNUMBER('System Results'!AH38),'System Results'!AH38,0)","v":0},{"$f":"+IF(ISNUMBER('System Results'!AK38),'System Results'!AK38,0)","v":0},{"$f":"+IF(ISNUMBER('System Results'!AN38),'System Results'!AN38,0)","v":0},{"$f":"+IF(ISNUMBER('System Results'!AQ38),'System Results'!AQ38,0)","v":0},{"$f":"+IF(ISNUMBER('System Results'!AT38),'System Results'!AT38,0)","v":0},{"$f":"+IF(ISNUMBER('System Results'!AW38),'System Results'!AW38,0)","v":0},{"$f":"+IF(ISNUMBER('System Results'!AZ38),'System Results'!AZ38,0)","v":0},{"$f":"+IF(ISNUMBER('System Results'!BC38),'System Results'!BC38,0)","v":0},{"$f":"+IF(ISNUMBER('System Results'!BF38),'System Results'!BF38,0)","v":0},{"$f":"+IF(ISNUMBER('System Results'!BI38),'System Results'!BI38,0)","v":0},{"$f":"+IF(ISNUMBER('System Results'!BL38),'System Results'!BL38,0)","v":0},{"$f":"+IF(ISNUMBER('System Results'!BO38),'System Results'!BO38,0)","v":0},{"$f":"+IF(ISNUMBER('System Results'!BR38),'System Results'!BR38,0)","v":0},{"$f":"+IF(ISNUMBER('System Results'!BU38),'System Results'!BU38,0)","v":0},{"$f":"+IF(ISNUMBER('System Results'!BX38),'System Results'!BX38,0)","v":0},{"$f":"+IF(ISNUMBER('System Results'!CA38),'System Results'!CA38,0)","v":0},{"$f":"+IF(ISNUMBER('System Results'!CD38),'System Results'!CD38,0)","v":0},{"$f":"+IF(ISNUMBER('System Results'!CG38),'System Results'!CG38,0)","v":0},{"$f":"+IF(ISNUMBER('System Results'!CJ38),'System Results'!CJ38,0)","v":0},{"$f":"+IF(ISNUMBER('System Results'!CM38),'System Results'!CM38,0)","v":0},{"$f":"+IF(ISNUMBER('System Results'!CP38),'System Results'!CP38,0)","v":0},{"$f":"+IF(ISNUMBER('System Results'!CS38),'System Results'!CS38,0)","v":0},{"$f":"+IF(ISNUMBER('System Results'!CV38),'System Results'!CV38,0)","v":0},{"$f":"+IF(ISNUMBER('System Results'!CY38),'System Results'!CY38,0)","v":0},{"$f":"+IF(ISNUMBER('System Results'!DB38),'System Results'!DB38,0)","v":0},{"$f":"+IF(ISNUMBER('System Results'!DE38),'System Results'!DE38,0)","v":0},{"$f":"+IF(ISNUMBER('System Results'!DH38),'System Results'!DH38,0)","v":0},{"$f":"+IF(ISNUMBER('System Results'!DK38),'System Results'!DK38,0)","v":0},{"$f":"+IF(ISNUMBER('System Results'!DN38),'System Results'!DN38,0)","v":0},{"$f":"+IF(ISNUMBER('System Results'!DQ38),'System Results'!DQ38,0)","v":0},{"$f":"+IF(ISNUMBER('System Results'!DT38),'System Results'!DT38,0)","v":0},{"$f":"+IF(ISNUMBER('System Results'!DW38),'System Results'!DW38,0)","v":0},{"$f":"+IF(ISNUMBER('System Results'!DZ38),'System Results'!DZ38,0)","v":0},{"$f":"+IF(ISNUMBER('System Results'!EC38),'System Results'!EC38,0)","v":0},{"$f":"+IF(ISNUMBER('System Results'!EF38),'System Results'!EF38,0)","v":0},{"$f":"+IF(ISNUMBER('System Results'!EI38),'System Results'!EI38,0)","v":0},{"$f":"+IF(ISNUMBER('System Results'!EL38),'System Results'!EL38,0)","v":0},{"$f":"+IF(ISNUMBER('System Results'!EO38),'System Results'!EO38,0)","v":0},{"$f":"+IF(ISNUMBER('System Results'!ER38),'System Results'!ER38,0)","v":0},{"$f":"+IF(ISNUMBER('System Results'!EU38),'System Results'!EU38,0)","v":0},{"$f":"+IF(ISNUMBER('System Results'!EX38),'System Results'!EX38,0)","v":0},{"$f":"+IF(ISNUMBER('System Results'!FA38),'System Results'!FA38,0)","v":0},{"$f":"+IF(ISNUMBER('System Results'!FD38),'System Results'!FD38,0)","v":0},{"$f":"+IF(ISNUMBER('System Results'!FG38),'System Results'!FG38,0)","v":0},{"$f":"+IF(ISNUMBER('System Results'!FJ38),'System Results'!FJ38,0)","v":0},{"$f":"+IF(ISNUMBER('System Results'!FM38),'System Results'!FM38,0)","v":0},{"$f":"+IF(ISNUMBER('System Results'!FP38),'System Results'!FP38,0)","v":0},{"$f":"+IF(ISNUMBER('System Results'!FS38),'System Results'!FS38,0)","v":0},{"$f":"+IF(ISNUMBER('System Results'!FV38),'System Results'!FV38,0)","v":0},{"$f":"+IF(ISNUMBER('System Results'!FY38),'System Results'!FY38,0)","v":0},{"$f":"+IF(ISNUMBER('System Results'!GB38),'System Results'!GB38,0)","v":0},{"$f":"+IF(ISNUMBER('System Results'!GE38),'System Results'!GE38,0)","v":0},{"$f":"+IF(ISNUMBER('System Results'!GH38),'System Results'!GH38,0)","v":0},{"$f":"+IF(ISNUMBER('System Results'!GK38),'System Results'!GK38,0)","v":0},{"$f":"+IF(ISNUMBER('System Results'!GN38),'System Results'!GN38,0)","v":0},{"$f":"+IF(ISNUMBER('System Results'!GQ38),'System Results'!GQ38,0)","v":0},{"$f":"+IF(ISNUMBER('System Results'!GT38),'System Results'!GT38,0)","v":0},{"$f":"+IF(ISNUMBER('System Results'!GW38),'System Results'!GW38,0)","v":0},{"$f":"+IF(ISNUMBER('System Results'!GZ38),'System Results'!GZ38,0)","v":0},{"$f":"+IF(ISNUMBER('System Results'!HC38),'System Results'!HC38,0)","v":0},{"$f":"+IF(ISNUMBER('System Results'!HF38),'System Results'!HF38,0)","v":0},{"$f":"+IF(ISNUMBER('System Results'!HI38),'System Results'!HI38,0)","v":0},{"$f":"+IF(ISNUMBER('System Results'!HL38),'System Results'!HL38,0)","v":0},{"$f":"+IF(ISNUMBER('System Results'!HO38),'System Results'!HO38,0)","v":0},{"$f":"+IF(ISNUMBER('System Results'!HR38),'System Results'!HR38,0)","v":0},{"$f":"+IF(ISNUMBER('System Results'!HU38),'System Results'!HU38,0)","v":0},{"$f":"+IF(ISNUMBER('System Results'!HX38),'System Results'!HX38,0)","v":0},{"$f":"+IF(ISNUMBER('System Results'!IA38),'System Results'!IA38,0)","v":0},{"$f":"+IF(ISNUMBER('System Results'!ID38),'System Results'!ID38,0)","v":0},{"$f":"+IF(ISNUMBER('System Results'!IG38),'System Results'!IG38,0)","v":0},{"$f":"+IF(ISNUMBER('System Results'!IJ38),'System Results'!IJ38,0)","v":0},{"$f":"+IF(ISNUMBER('System Results'!IM38),'System Results'!IM38,0)","v":0},{"$f":"+IF(ISNUMBER('System Results'!IP38),'System Results'!IP38,0)","v":0},{"$f":"+IF(ISNUMBER('System Results'!IS38),'System Results'!IS38,0)","v":0},{"$f":"+IF(ISNUMBER('System Results'!IV38),'System Results'!IV38,0)","v":0},{"$f":"+IF(ISNUMBER('System Results'!IY38),'System Results'!IY38,0)","v":0},{"$f":"+IF(ISNUMBER('System Results'!JB38),'System Results'!JB38,0)","v":0},{"$f":"+IF(ISNUMBER('System Results'!JE38),'System Results'!JE38,0)","v":0},{"$f":"+IF(ISNUMBER('System Results'!JH38),'System Results'!JH38,0)","v":0},{"$f":"+IF(ISNUMBER('System Results'!JK38),'System Results'!JK38,0)","v":0},{"$f":"+IF(ISNUMBER('System Results'!JN38),'System Results'!JN38,0)","v":0},{"$f":"+IF(ISNUMBER('System Results'!JQ38),'System Results'!JQ38,0)","v":0},{"$f":"+IF(ISNUMBER('System Results'!JT38),'System Results'!JT38,0)","v":0},{"$f":"+IF(ISNUMBER('System Results'!JW38),'System Results'!JW38,0)","v":0},{"$f":"+IF(ISNUMBER('System Results'!JZ38),'System Results'!JZ38,0)","v":0},{"$f":"+IF(ISNUMBER('System Results'!KC38),'System Results'!KC38,0)","v":0},{"$f":"+IF(ISNUMBER('System Results'!KF38),'System Results'!KF38,0)","v":0},{"$f":"+IF(ISNUMBER('System Results'!KI38),'System Results'!KI38,0)","v":0},{"$f":"+IF(ISNUMBER('System Results'!KL38),'System Results'!KL38,0)","v":0},{"$f":"+IF(ISNUMBER('System Results'!KO38),'System Results'!KO38,0)","v":0},{"$f":"+IF(ISNUMBER('System Results'!KR38),'System Results'!KR38,0)","v":0},{"$f":"+IF(ISNUMBER('System Results'!KU38),'System Results'!KU38,0)","v":0},{"$f":"+IF(ISNUMBER('System Results'!KX38),'System Results'!KX38,0)","v":0},{"$f":"+IF(ISNUMBER('System Results'!LA38),'System Results'!LA38,0)","v":0},{"$f":"+IF(ISNUMBER('System Results'!LD38),'System Results'!LD38,0)","v":0},{"$f":"+IF(ISNUMBER('System Results'!LG38),'System Results'!LG38,0)","v":0},{"$f":"+IF(ISNUMBER('System Results'!LJ38),'System Results'!LJ38,0)","v":0},{"$f":"+IF(ISNUMBER('System Results'!LM38),'System Results'!LM38,0)","v":0},{"$f":"+IF(ISNUMBER('System Results'!LP38),'System Results'!LP38,0)","v":0},{"$f":"+IF(ISNUMBER('System Results'!LS38),'System Results'!LS38,0)","v":0},{"$f":"+IF(ISNUMBER('System Results'!LV38),'System Results'!LV38,0)","v":0},{"$f":"+IF(ISNUMBER('System Results'!LY38),'System Results'!LY38,0)","v":0},{"$f":"+IF(ISNUMBER('System Results'!MB38),'System Results'!MB38,0)","v":0},{"$f":"+IF(ISNUMBER('System Results'!ME38),'System Results'!ME38,0)","v":0},{"$f":"+IF(ISNUMBER('System Results'!MH38),'System Results'!MH38,0)","v":0},{"$f":"+IF(ISNUMBER('System Results'!MK38),'System Results'!MK38,0)","v":0},{"$f":"+IF(ISNUMBER('System Results'!MN38),'System Results'!MN38,0)","v":0},{"$f":"+IF(ISNUMBER('System Results'!MQ38),'System Results'!MQ38,0)","v":0},{"$f":"+IF(ISNUMBER('System Results'!MT38),'System Results'!MT38,0)","v":0},{"$f":"+IF(ISNUMBER('System Results'!MW38),'System Results'!MW38,0)","v":0},{"$f":"+IF(ISNUMBER('System Results'!MZ38),'System Results'!MZ38,0)","v":0},{"$f":"+IF(ISNUMBER('System Results'!NC38),'System Results'!NC38,0)","v":0},{"$f":"+IF(ISNUMBER('System Results'!NF38),'System Results'!NF38,0)","v":0},{"$f":"+IF(ISNUMBER('System Results'!NI38),'System Results'!NI38,0)","v":0},{"$f":"+IF(ISNUMBER('System Results'!NL38),'System Results'!NL38,0)","v":0},{"$f":"+IF(ISNUMBER('System Results'!NO38),'System Results'!NO38,0)","v":0},{"$f":"+IF(ISNUMBER('System Results'!NR38),'System Results'!NR38,0)","v":0},{"$f":"+IF(ISNUMBER('System Results'!NU38),'System Results'!NU38,0)","v":0},{"$f":"+IF(ISNUMBER('System Results'!NX38),'System Results'!NX38,0)","v":0},{"$f":"+IF(ISNUMBER('System Results'!OA38),'System Results'!OA38,0)","v":0},{"$f":"+IF(ISNUMBER('System Results'!OD38),'System Results'!OD38,0)","v":0},{"$f":"+IF(ISNUMBER('System Results'!OG38),'System Results'!OG38,0)","v":0},{"$f":"+IF(ISNUMBER('System Results'!OJ38),'System Results'!OJ38,0)","v":0},{"$f":"+IF(ISNUMBER('System Results'!OM38),'System Results'!OM38,0)","v":0},{"$f":"+IF(ISNUMBER('System Results'!OP38),'System Results'!OP38,0)","v":0},{"$f":"+IF(ISNUMBER('System Results'!OS38),'System Results'!OS38,0)","v":0},{"$f":"+IF(ISNUMBER('System Results'!OV38),'System Results'!OV38,0)","v":0},{"$f":"+IF(ISNUMBER('System Results'!OY38),'System Results'!OY38,0)","v":0},{"$f":"+IF(ISNUMBER('System Results'!PB38),'System Results'!PB38,0)","v":0},{"$f":"+IF(ISNUMBER('System Results'!PE38),'System Results'!PE38,0)","v":0},{"$f":"+IF(ISNUMBER('System Results'!PH38),'System Results'!PH38,0)","v":0},{"$f":"+IF(ISNUMBER('System Results'!PK38),'System Results'!PK38,0)","v":0},{"$f":"+IF(ISNUMBER('System Results'!PN38),'System Results'!PN38,0)","v":0},{"$f":"+IF(ISNUMBER('System Results'!PQ38),'System Results'!PQ38,0)","v":0},{"$f":"+IF(ISNUMBER('System Results'!PT38),'System Results'!PT38,0)","v":0},{"$f":"+IF(ISNUMBER('System Results'!PW38),'System Results'!PW38,0)","v":0},{"$f":"+IF(ISNUMBER('System Results'!PZ38),'System Results'!PZ38,0)","v":0},{"$f":"+IF(ISNUMBER('System Results'!QC38),'System Results'!QC38,0)","v":0},{"$f":"+IF(ISNUMBER('System Results'!QF38),'System Results'!QF38,0)","v":0},{"$f":"+IF(ISNUMBER('System Results'!QI38),'System Results'!QI38,0)","v":0},{"$f":"+IF(ISNUMBER('System Results'!QL38),'System Results'!QL38,0)","v":0},{"$f":"+IF(ISNUMBER('System Results'!QO38),'System Results'!QO38,0)","v":0},{"$f":"+IF(ISNUMBER('System Results'!QR38),'System Results'!QR38,0)","v":0},{"$f":"+IF(ISNUMBER('System Results'!QU38),'System Results'!QU38,0)","v":0},{"$f":"+IF(ISNUMBER('System Results'!QX38),'System Results'!QX38,0)","v":0},{"$f":"+IF(ISNUMBER('System Results'!RA38),'System Results'!RA38,0)","v":0},{"$f":"+IF(ISNUMBER('System Results'!RD38),'System Results'!RD38,0)","v":0},{"$f":"+IF(ISNUMBER('System Results'!RG38),'System Results'!RG38,0)","v":0},{"$f":"+IF(ISNUMBER('System Results'!RJ38),'System Results'!RJ38,0)","v":0},{"$f":"+IF(ISNUMBER('System Results'!RM38),'System Results'!RM38,0)","v":0},{"$f":"+IF(ISNUMBER('System Results'!RP38),'System Results'!RP38,0)","v":0},{"$f":"+IF(ISNUMBER('System Results'!RS38),'System Results'!RS38,0)","v":0},{"$f":"+IF(ISNUMBER('System Results'!RV38),'System Results'!RV38,0)","v":0},{"$f":"+IF(ISNUMBER('System Results'!RY38),'System Results'!RY38,0)","v":0},{"$f":"+IF(ISNUMBER('System Results'!SB38),'System Results'!SB38,0)","v":0},{"$f":"+IF(ISNUMBER('System Results'!SE38),'System Results'!SE38,0)","v":0},{"$f":"+IF(ISNUMBER('System Results'!SH38),'System Results'!SH38,0)","v":0},{"$f":"+IF(ISNUMBER('System Results'!SK38),'System Results'!SK38,0)","v":0},{"$f":"+IF(ISNUMBER('System Results'!SN38),'System Results'!SN38,0)","v":0},{"$f":"+IF(ISNUMBER('System Results'!SQ38),'System Results'!SQ38,0)","v":0},{"$f":"+IF(ISNUMBER('System Results'!ST38),'System Results'!ST38,0)","v":0},{"$f":"+IF(ISNUMBER('System Results'!SW38),'System Results'!SW38,0)","v":0},{"$f":"+IF(ISNUMBER('System Results'!SZ38),'System Results'!SZ38,0)","v":0},{"$f":"+IF(ISNUMBER('System Results'!TC38),'System Results'!TC38,0)","v":0},{"$f":"+IF(ISNUMBER('System Results'!TF38),'System Results'!TF38,0)","v":0},{"$f":"+IF(ISNUMBER('System Results'!TI38),'System Results'!TI38,0)","v":0},{"$f":"+IF(ISNUMBER('System Results'!TL38),'System Results'!TL38,0)","v":0},{"$f":"+IF(ISNUMBER('System Results'!TO38),'System Results'!TO38,0)","v":0},{"$f":"+IF(ISNUMBER('System Results'!TR38),'System Results'!TR38,0)","v":0},{"$f":"+IF(ISNUMBER('System Results'!TU38),'System Results'!TU38,0)","v":0},{"$f":"+IF(ISNUMBER('System Results'!TX38),'System Results'!TX38,0)","v":0},{"$f":"+IF(ISNUMBER('System Results'!UA38),'System Results'!UA38,0)","v":0},{"$f":"+IF(ISNUMBER('System Results'!UD38),'System Results'!UD38,0)","v":0},{"$f":"+IF(ISNUMBER('System Results'!UG38),'System Results'!UG38,0)","v":0},{"$f":"+IF(ISNUMBER('System Results'!UJ38),'System Results'!UJ38,0)","v":0},{"$f":"+IF(ISNUMBER('System Results'!UM38),'System Results'!UM38,0)","v":0},{"$f":"+IF(ISNUMBER('System Results'!UP38),'System Results'!UP38,0)","v":0},{"$f":"+IF(ISNUMBER('System Results'!US38),'System Results'!US38,0)","v":0},{"$f":"+IF(ISNUMBER('System Results'!UV38),'System Results'!UV38,0)","v":0},{"$f":"+IF(ISNUMBER('System Results'!UY38),'System Results'!UY38,0)","v":0},{"$f":"+IF(ISNUMBER('System Results'!VB38),'System Results'!VB38,0)","v":0},{"$f":"+IF(ISNUMBER('System Results'!VE38),'System Results'!VE38,0)","v":0},{"$f":"+IF(ISNUMBER('System Results'!VH38),'System Results'!VH38,0)","v":0},{"$f":"+IF(ISNUMBER('System Results'!VK38),'System Results'!VK38,0)","v":0},{"$f":"+IF(ISNUMBER('System Results'!VN38),'System Results'!VN38,0)","v":0},{"$f":"+IF(ISNUMBER('System Results'!VQ38),'System Results'!VQ38,0)","v":0},{"$f":"+IF(ISNUMBER('System Results'!VT38),'System Results'!VT38,0)","v":0},{"$f":"+IF(ISNUMBER('System Results'!VW38),'System Results'!VW38,0)","v":0},{"$f":"+IF(ISNUMBER('System Results'!VZ38),'System Results'!VZ38,0)","v":0},{"$f":"+IF(ISNUMBER('System Results'!WC38),'System Results'!WC38,0)","v":0},{"$f":"+IF(ISNUMBER('System Results'!WF38),'System Results'!WF38,0)","v":0},{"$f":"+IF(ISNUMBER('System Results'!WI38),'System Results'!WI38,0)","v":0},{"$f":"+IF(ISNUMBER('System Results'!WL38),'System Results'!WL38,0)","v":0},{"$f":"+IF(ISNUMBER('System Results'!WO38),'System Results'!WO38,0)","v":0},{"$f":"+IF(ISNUMBER('System Results'!WR38),'System Results'!WR38,0)","v":0},{"$f":"+IF(ISNUMBER('System Results'!WU38),'System Results'!WU38,0)","v":0},{"$f":"+IF(ISNUMBER('System Results'!WX38),'System Results'!WX38,0)","v":0},{"$f":"+IF(ISNUMBER('System Results'!XA38),'System Results'!XA38,0)","v":0},{"$f":"+IF(ISNUMBER('System Results'!XD38),'System Results'!XD38,0)","v":0},{"$f":"+IF(ISNUMBER('System Results'!XG38),'System Results'!XG38,0)","v":0},{"$f":"+IF(ISNUMBER('System Results'!XJ38),'System Results'!XJ38,0)","v":0},{"$f":"+IF(ISNUMBER('System Results'!XM38),'System Results'!XM38,0)","v":0},{"$f":"+IF(ISNUMBER('System Results'!XP38),'System Results'!XP38,0)","v":0},{"$f":"+IF(ISNUMBER('System Results'!XS38),'System Results'!XS38,0)","v":0},{"$f":"+IF(ISNUMBER('System Results'!XV38),'System Results'!XV38,0)","v":0},{"$f":"+IF(ISNUMBER('System Results'!XY38),'System Results'!XY38,0)","v":0},{"$f":"+IF(ISNUMBER('System Results'!YB38),'System Results'!YB38,0)","v":0},{"$f":"+IF(ISNUMBER('System Results'!YE38),'System Results'!YE38,0)","v":0},{"$f":"+IF(ISNUMBER('System Results'!YH38),'System Results'!YH38,0)","v":0},{"$f":"+IF(ISNUMBER('System Results'!YK38),'System Results'!YK38,0)","v":0},{"$f":"+IF(ISNUMBER('System Results'!YN38),'System Results'!YN38,0)","v":0},{"$f":"+IF(ISNUMBER('System Results'!YQ38),'System Results'!YQ38,0)","v":0},{"$f":"+IF(ISNUMBER('System Results'!YT38),'System Results'!YT38,0)","v":0},{"$f":"+IF(ISNUMBER('System Results'!YW38),'System Results'!YW38,0)","v":0},{"$f":"+IF(ISNUMBER('System Results'!YZ38),'System Results'!YZ38,0)","v":0},{"$f":"+IF(ISNUMBER('System Results'!ZC38),'System Results'!ZC38,0)","v":0},{"$f":"+IF(ISNUMBER('System Results'!ZF38),'System Results'!ZF38,0)","v":0},{"$f":"+IF(ISNUMBER('System Results'!ZI38),'System Results'!ZI38,0)","v":0},{"$f":"+IF(ISNUMBER('System Results'!ZL38),'System Results'!ZL38,0)","v":0},{"$f":"+IF(ISNUMBER('System Results'!ZO38),'System Results'!ZO38,0)","v":0},{"$f":"+IF(ISNUMBER('System Results'!ZR38),'System Results'!ZR38,0)","v":0},{"$f":"+IF(ISNUMBER('System Results'!ZU38),'System Results'!ZU38,0)","v":0},{"$f":"+IF(ISNUMBER('System Results'!ZX38),'System Results'!ZX38,0)","v":0},{"$f":"+IF(ISNUMBER('System Results'!AAA38),'System Results'!AAA38,0)","v":0},{"$f":"+IF(ISNUMBER('System Results'!AAD38),'System Results'!AAD38,0)","v":0},{"$f":"+IF(ISNUMBER('System Results'!AAG38),'System Results'!AAG38,0)","v":0},{"$f":"+IF(ISNUMBER('System Results'!AAJ38),'System Results'!AAJ38,0)","v":0},{"$f":"+IF(ISNUMBER('System Results'!AAM38),'System Results'!AAM38,0)","v":0},{"$f":"+IF(ISNUMBER('System Results'!AAP38),'System Results'!AAP38,0)","v":0},{"$f":"+IF(ISNUMBER('System Results'!AAS38),'System Results'!AAS38,0)","v":0},{"$f":"+IF(ISNUMBER('System Results'!AAV38),'System Results'!AAV38,0)","v":0},{"$f":"+IF(ISNUMBER('System Results'!AAY38),'System Results'!AAY38,0)","v":0},{"$f":"+IF(ISNUMBER('System Results'!ABB38),'System Results'!ABB38,0)","v":0},{"$f":"+IF(ISNUMBER('System Results'!ABE38),'System Results'!ABE38,0)","v":0},{"$f":"+IF(ISNUMBER('System Results'!ABH38),'System Results'!ABH38,0)","v":0},{"$f":"+IF(ISNUMBER('System Results'!ABK38),'System Results'!ABK38,0)","v":0},{"$f":"+IF(ISNUMBER('System Results'!ABN38),'System Results'!ABN38,0)","v":0},{"$f":"+IF(ISNUMBER('System Results'!ABQ38),'System Results'!ABQ38,0)","v":0},{"$f":"+IF(ISNUMBER('System Results'!ABT38),'System Results'!ABT38,0)","v":0},{"$f":"+IF(ISNUMBER('System Results'!ABW38),'System Results'!ABW38,0)","v":0},{"$f":"+IF(ISNUMBER('System Results'!ABZ38),'System Results'!ABZ38,0)","v":0},{"$f":"+IF(ISNUMBER('System Results'!ACC38),'System Results'!ACC38,0)","v":0},{"$f":"+IF(ISNUMBER('System Results'!ACF38),'System Results'!ACF38,0)","v":0},{"$f":"+IF(ISNUMBER('System Results'!ACI38),'System Results'!ACI38,0)","v":0},{"$f":"+IF(ISNUMBER('System Results'!ACL38),'System Results'!ACL38,0)","v":0},{"$f":"+IF(ISNUMBER('System Results'!ACO38),'System Results'!ACO38,0)","v":0},{"$f":"+IF(ISNUMBER('System Results'!ACR38),'System Results'!ACR38,0)","v":0},{"$f":"+IF(ISNUMBER('System Results'!ACU38),'System Results'!ACU38,0)","v":0},{"$f":"+IF(ISNUMBER('System Results'!ACX38),'System Results'!ACX38,0)","v":0},{"$f":"+IF(ISNUMBER('System Results'!ADA38),'System Results'!ADA38,0)","v":0},{"$f":"+IF(ISNUMBER('System Results'!ADD38),'System Results'!ADD38,0)","v":0},{"$f":"+IF(ISNUMBER('System Results'!ADG38),'System Results'!ADG38,0)","v":0},{"$f":"+IF(ISNUMBER('System Results'!ADJ38),'System Results'!ADJ38,0)","v":0},{"$f":"+IF(ISNUMBER('System Results'!ADM38),'System Results'!ADM38,0)","v":0},{"$f":"+IF(ISNUMBER('System Results'!ADP38),'System Results'!ADP38,0)","v":0},{"$f":"+IF(ISNUMBER('System Results'!ADS38),'System Results'!ADS38,0)","v":0},{"$f":"+IF(ISNUMBER('System Results'!ADV38),'System Results'!ADV38,0)","v":0},{"$f":"+IF(ISNUMBER('System Results'!ADY38),'System Results'!ADY38,0)","v":0},{"$f":"+IF(ISNUMBER('System Results'!AEB38),'System Results'!AEB38,0)","v":0},{"$f":"+IF(ISNUMBER('System Results'!AEE38),'System Results'!AEE38,0)","v":0},{"$f":"+IF(ISNUMBER('System Results'!AEH38),'System Results'!AEH38,0)","v":0},{"$f":"+IF(ISNUMBER('System Results'!AEK38),'System Results'!AEK38,0)","v":0},{"$f":"+IF(ISNUMBER('System Results'!AEN38),'System Results'!AEN38,0)","v":0},{"$f":"+IF(ISNUMBER('System Results'!AEQ38),'System Results'!AEQ38,0)","v":0},{"$f":"+IF(ISNUMBER('System Results'!AET38),'System Results'!AET38,0)","v":0},{"$f":"+IF(ISNUMBER('System Results'!AEW38),'System Results'!AEW38,0)","v":0},{"$f":"+IF(ISNUMBER('System Results'!AEZ38),'System Results'!AEZ38,0)","v":0},{"$f":"+IF(ISNUMBER('System Results'!AFC38),'System Results'!AFC38,0)","v":0},{"$f":"+IF(ISNUMBER('System Results'!AFF38),'System Results'!AFF38,0)","v":0},{"$f":"+IF(ISNUMBER('System Results'!AFI38),'System Results'!AFI38,0)","v":0},{"$f":"+IF(ISNUMBER('System Results'!AFL38),'System Results'!AFL38,0)","v":0},{"$f":"+IF(ISNUMBER('System Results'!AFO38),'System Results'!AFO38,0)","v":0},{"$f":"+IF(ISNUMBER('System Results'!AFR38),'System Results'!AFR38,0)","v":0},{"$f":"+IF(ISNUMBER('System Results'!AFU38),'System Results'!AFU38,0)","v":0},{"$f":"+IF(ISNUMBER('System Results'!AFX38),'System Results'!AFX38,0)","v":0},{"$f":"+IF(ISNUMBER('System Results'!AGA38),'System Results'!AGA38,0)","v":0},{"$f":"+IF(ISNUMBER('System Results'!AGD38),'System Results'!AGD38,0)","v":0},{"$f":"+IF(ISNUMBER('System Results'!AGG38),'System Results'!AGG38,0)","v":0},{"$f":"+IF(ISNUMBER('System Results'!AGJ38),'System Results'!AGJ38,0)","v":0},{"$f":"+IF(ISNUMBER('System Results'!AGM38),'System Results'!AGM38,0)","v":0},{"$f":"+IF(ISNUMBER('System Results'!AGP38),'System Results'!AGP38,0)","v":0},{"$f":"+IF(ISNUMBER('System Results'!AGS38),'System Results'!AGS38,0)","v":0},{"$f":"+IF(ISNUMBER('System Results'!AGV38),'System Results'!AGV38,0)","v":0},{"$f":"+IF(ISNUMBER('System Results'!AGY38),'System Results'!AGY38,0)","v":0},{"$f":"+IF(ISNUMBER('System Results'!AHB38),'System Results'!AHB38,0)","v":0},{"$f":"+IF(ISNUMBER('System Results'!AHE38),'System Results'!AHE38,0)","v":0},{"$f":"+IF(ISNUMBER('System Results'!AHH38),'System Results'!AHH38,0)","v":0},{"$f":"+IF(ISNUMBER('System Results'!AHK38),'System Results'!AHK38,0)","v":0},{"$f":"+IF(ISNUMBER('System Results'!AHN38),'System Results'!AHN38,0)","v":0},{"$f":"+IF(ISNUMBER('System Results'!AHQ38),'System Results'!AHQ38,0)","v":0},{"$f":"+IF(ISNUMBER('System Results'!AHT38),'System Results'!AHT38,0)","v":0}]
["Scope 3",{"$f":"+'System Results'!B39","v":"Fuel- & energy-related emissions"},0,{"$f":"+IF(ISNUMBER('System Results'!G39),'System Results'!G39,0)","v":0},{"$f":"+IF(ISNUMBER('System Results'!J39),'System Results'!J39,0)","v":0},{"$f":"+IF(ISNUMBER('System Results'!M39),'System Results'!M39,0)","v":0},{"$f":"+IF(ISNUMBER('System Results'!P39),'System Results'!P39,0)","v":0},{"$f":"+IF(ISNUMBER('System Results'!S39),'System Results'!S39,0)","v":0},{"$f":"+IF(ISNUMBER('System Results'!V39),'System Results'!V39,0)","v":0},{"$f":"+IF(ISNUMBER('System Results'!Y39),'System Results'!Y39,0)","v":0},{"$f":"+IF(ISNUMBER('System Results'!AB39),'System Results'!AB39,0)","v":0},{"$f":"+IF(ISNUMBER('System Results'!AE39),'System Results'!AE39,0)","v":0},{"$f":"+IF(ISNUMBER('System Results'!AH39),'System Results'!AH39,0)","v":0},{"$f":"+IF(ISNUMBER('System Results'!AK39),'System Results'!AK39,0)","v":0},{"$f":"+IF(ISNUMBER('System Results'!AN39),'System Results'!AN39,0)","v":0},{"$f":"+IF(ISNUMBER('System Results'!AQ39),'System Results'!AQ39,0)","v":0},{"$f":"+IF(ISNUMBER('System Results'!AT39),'System Results'!AT39,0)","v":0},{"$f":"+IF(ISNUMBER('System Results'!AW39),'System Results'!AW39,0)","v":0},{"$f":"+IF(ISNUMBER('System Results'!AZ39),'System Results'!AZ39,0)","v":0},{"$f":"+IF(ISNUMBER('System Results'!BC39),'System Results'!BC39,0)","v":0},{"$f":"+IF(ISNUMBER('System Results'!BF39),'System Results'!BF39,0)","v":0},{"$f":"+IF(ISNUMBER('System Results'!BI39),'System Results'!BI39,0)","v":0},{"$f":"+IF(ISNUMBER('System Results'!BL39),'System Results'!BL39,0)","v":0},{"$f":"+IF(ISNUMBER('System Results'!BO39),'System Results'!BO39,0)","v":0},{"$f":"+IF(ISNUMBER('System Results'!BR39),'System Results'!BR39,0)","v":0},{"$f":"+IF(ISNUMBER('System Results'!BU39),'System Results'!BU39,0)","v":0},{"$f":"+IF(ISNUMBER('System Results'!BX39),'System Results'!BX39,0)","v":0},{"$f":"+IF(ISNUMBER('System Results'!CA39),'System Results'!CA39,0)","v":0},{"$f":"+IF(ISNUMBER('System Results'!CD39),'System Results'!CD39,0)","v":0},{"$f":"+IF(ISNUMBER('System Results'!CG39),'System Results'!CG39,0)","v":0},{"$f":"+IF(ISNUMBER('System Results'!CJ39),'System Results'!CJ39,0)","v":0},{"$f":"+IF(ISNUMBER('System Results'!CM39),'System Results'!CM39,0)","v":0},{"$f":"+IF(ISNUMBER('System Results'!CP39),'System Results'!CP39,0)","v":0},{"$f":"+IF(ISNUMBER('System Results'!CS39),'System Results'!CS39,0)","v":0},{"$f":"+IF(ISNUMBER('System Results'!CV39),'System Results'!CV39,0)","v":0},{"$f":"+IF(ISNUMBER('System Results'!CY39),'System Results'!CY39,0)","v":0},{"$f":"+IF(ISNUMBER('System Results'!DB39),'System Results'!DB39,0)","v":0},{"$f":"+IF(ISNUMBER('System Results'!DE39),'System Results'!DE39,0)","v":0},{"$f":"+IF(ISNUMBER('System Results'!DH39),'System Results'!DH39,0)","v":0},{"$f":"+IF(ISNUMBER('System Results'!DK39),'System Results'!DK39,0)","v":0},{"$f":"+IF(ISNUMBER('System Results'!DN39),'System Results'!DN39,0)","v":0},{"$f":"+IF(ISNUMBER('System Results'!DQ39),'System Results'!DQ39,0)","v":0},{"$f":"+IF(ISNUMBER('System Results'!DT39),'System Results'!DT39,0)","v":0},{"$f":"+IF(ISNUMBER('System Results'!DW39),'System Results'!DW39,0)","v":0},{"$f":"+IF(ISNUMBER('System Results'!DZ39),'System Results'!DZ39,0)","v":0},{"$f":"+IF(ISNUMBER('System Results'!EC39),'System Results'!EC39,0)","v":0},{"$f":"+IF(ISNUMBER('System Results'!EF39),'System Results'!EF39,0)","v":0},{"$f":"+IF(ISNUMBER('System Results'!EI39),'System Results'!EI39,0)","v":0},{"$f":"+IF(ISNUMBER('System Results'!EL39),'System Results'!EL39,0)","v":0},{"$f":"+IF(ISNUMBER('System Results'!EO39),'System Results'!EO39,0)","v":0},{"$f":"+IF(ISNUMBER('System Results'!ER39),'System Results'!ER39,0)","v":0},{"$f":"+IF(ISNUMBER('System Results'!EU39),'System Results'!EU39,0)","v":0},{"$f":"+IF(ISNUMBER('System Results'!EX39),'System Results'!EX39,0)","v":0},{"$f":"+IF(ISNUMBER('System Results'!FA39),'System Results'!FA39,0)","v":0},{"$f":"+IF(ISNUMBER('System Results'!FD39),'System Results'!FD39,0)","v":0},{"$f":"+IF(ISNUMBER('System Results'!FG39),'System Results'!FG39,0)","v":0},{"$f":"+IF(ISNUMBER('System Results'!FJ39),'System Results'!FJ39,0)","v":0},{"$f":"+IF(ISNUMBER('System Results'!FM39),'System Results'!FM39,0)","v":0},{"$f":"+IF(ISNUMBER('System Results'!FP39),'System Results'!FP39,0)","v":0},{"$f":"+IF(ISNUMBER('System Results'!FS39),'System Results'!FS39,0)","v":0},{"$f":"+IF(ISNUMBER('System Results'!FV39),'System Results'!FV39,0)","v":0},{"$f":"+IF(ISNUMBER('System Results'!FY39),'System Results'!FY39,0)","v":0},{"$f":"+IF(ISNUMBER('System Results'!GB39),'System Results'!GB39,0)","v":0},{"$f":"+IF(ISNUMBER('System Results'!GE39),'System Results'!GE39,0)","v":0},{"$f":"+IF(ISNUMBER('System Results'!GH39),'System Results'!GH39,0)","v":0},{"$f":"+IF(ISNUMBER('System Results'!GK39),'System Results'!GK39,0)","v":0},{"$f":"+IF(ISNUMBER('System Results'!GN39),'System Results'!GN39,0)","v":0},{"$f":"+IF(ISNUMBER('System Results'!GQ39),'System Results'!GQ39,0)","v":0},{"$f":"+IF(ISNUMBER('System Results'!GT39),'System Results'!GT39,0)","v":0},{"$f":"+IF(ISNUMBER('System Results'!GW39),'System Results'!GW39,0)","v":0},{"$f":"+IF(ISNUMBER('System Results'!GZ39),'System Results'!GZ39,0)","v":0},{"$f":"+IF(ISNUMBER('System Results'!HC39),'System Results'!HC39,0)","v":0},{"$f":"+IF(ISNUMBER('System Results'!HF39),'System Results'!HF39,0)","v":0},{"$f":"+IF(ISNUMBER('System Results'!HI39),'System Results'!HI39,0)","v":0},{"$f":"+IF(ISNUMBER('System Results'!HL39),'System Results'!HL39,0)","v":0},{"$f":"+IF(ISNUMBER('System Results'!HO39),'System Results'!HO39,0)","v":0},{"$f":"+IF(ISNUMBER('System Results'!HR39),'System Results'!HR39,0)","v":0},{"$f":"+IF(ISNUMBER('System Results'!HU39),'System Results'!HU39,0)","v":0},{"$f":"+IF(ISNUMBER('System Results'!HX39),'System Results'!HX39,0)","v":0},{"$f":"+IF(ISNUMBER('System Results'!IA39),'System Results'!IA39,0)","v":0},{"$f":"+IF(ISNUMBER('System Results'!ID39),'System Results'!ID39,0)","v":0},{"$f":"+IF(ISNUMBER('System Results'!IG39),'System Results'!IG39,0)","v":0},{"$f":"+IF(ISNUMBER('System Results'!IJ39),'System Results'!IJ39,0)","v":0},{"$f":"+IF(ISNUMBER('System Results'!IM39),'System Results'!IM39,0)","v":0},{"$f":"+IF(ISNUMBER('System Results'!IP39),'System Results'!IP39,0)","v":0},{"$f":"+IF(ISNUMBER('System Results'!IS39),'System Results'!IS39,0)","v":0},{"$f":"+IF(ISNUMBER('System Results'!IV39),'System Results'!IV39,0)","v":0},{"$f":"+IF(ISNUMBER('System Results'!IY39),'System Results'!IY39,0)","v":0},{"$f":"+IF(ISNUMBER('System Results'!JB39),'System Results'!JB39,0)","v":0},{"$f":"+IF(ISNUMBER('System Results'!JE39),'System Results'!JE39,0)","v":0},{"$f":"+IF(ISNUMBER('System Results'!JH39),'System Results'!JH39,0)","v":0},{"$f":"+IF(ISNUMBER('System Results'!JK39),'System Results'!JK39,0)","v":0},{"$f":"+IF(ISNUMBER('System Results'!JN39),'System Results'!JN39,0)","v":0},{"$f":"+IF(ISNUMBER('System Results'!JQ39),'System Results'!JQ39,0)","v":0},{"$f":"+IF(ISNUMBER('System Results'!JT39),'System Results'!JT39,0)","v":0},{"$f":"+IF(ISNUMBER('System Results'!JW39),'System Results'!JW39,0)","v":0},{"$f":"+IF(ISNUMBER('System Results'!JZ39),'System Results'!JZ39,0)","v":0},{"$f":"+IF(ISNUMBER('System Results'!KC39),'System Results'!KC39,0)","v":0},{"$f":"+IF(ISNUMBER('System Results'!KF39),'System Results'!KF39,0)","v":0},{"$f":"+IF(ISNUMBER('System Results'!KI39),'System Results'!KI39,0)","v":0},{"$f":"+IF(ISNUMBER('System Results'!KL39),'System Results'!KL39,0)","v":0},{"$f":"+IF(ISNUMBER('System Results'!KO39),'System Results'!KO39,0)","v":0},{"$f":"+IF(ISNUMBER('System Results'!KR39),'System Results'!KR39,0)","v":0},{"$f":"+IF(ISNUMBER('System Results'!KU39),'System Results'!KU39,0)","v":0},{"$f":"+IF(ISNUMBER('System Results'!KX39),'System Results'!KX39,0)","v":0},{"$f":"+IF(ISNUMBER('System Results'!LA39),'System Results'!LA39,0)","v":0},{"$f":"+IF(ISNUMBER('System Results'!LD39),'System Results'!LD39,0)","v":0},{"$f":"+IF(ISNUMBER('System Results'!LG39),'System Results'!LG39,0)","v":0},{"$f":"+IF(ISNUMBER('System Results'!LJ39),'System Results'!LJ39,0)","v":0},{"$f":"+IF(ISNUMBER('System Results'!LM39),'System Results'!LM39,0)","v":0},{"$f":"+IF(ISNUMBER('System Results'!LP39),'System Results'!LP39,0)","v":0},{"$f":"+IF(ISNUMBER('System Results'!LS39),'System Results'!LS39,0)","v":0},{"$f":"+IF(ISNUMBER('System Results'!LV39),'System Results'!LV39,0)","v":0},{"$f":"+IF(ISNUMBER('System Results'!LY39),'System Results'!LY39,0)","v":0},{"$f":"+IF(ISNUMBER('System Results'!MB39),'System Results'!MB39,0)","v":0},{"$f":"+IF(ISNUMBER('System Results'!ME39),'System Results'!ME39,0)","v":0},{"$f":"+IF(ISNUMBER('System Results'!MH39),'System Results'!MH39,0)","v":0},{"$f":"+IF(ISNUMBER('System Results'!MK39),'System Results'!MK39,0)","v":0},{"$f":"+IF(ISNUMBER('System Results'!MN39),'System Results'!MN39,0)","v":0},{"$f":"+IF(ISNUMBER('System Results'!MQ39),'System Results'!MQ39,0)","v":0},{"$f":"+IF(ISNUMBER('System Results'!MT39),'System Results'!MT39,0)","v":0},{"$f":"+IF(ISNUMBER('System Results'!MW39),'System Results'!MW39,0)","v":0},{"$f":"+IF(ISNUMBER('System Results'!MZ39),'System Results'!MZ39,0)","v":0},{"$f":"+IF(ISNUMBER('System Results'!NC39),'System Results'!NC39,0)","v":0},{"$f":"+IF(ISNUMBER('System Results'!NF39),'System Results'!NF39,0)","v":0},{"$f":"+IF(ISNUMBER('System Results'!NI39),'System Results'!NI39,0)","v":0},{"$f":"+IF(ISNUMBER('System Results'!NL39),'System Results'!NL39,0)","v":0},{"$f":"+IF(ISNUMBER('System Results'!NO39),'System Results'!NO39,0)","v":0},{"$f":"+IF(ISNUMBER('System Results'!NR39),'System Results'!NR39,0)","v":0},{"$f":"+IF(ISNUMBER('System Results'!NU39),'System Results'!NU39,0)","v":0},{"$f":"+IF(ISNUMBER('System Results'!NX39),'System Results'!NX39,0)","v":0},{"$f":"+IF(ISNUMBER('System Results'!OA39),'System Results'!OA39,0)","v":0},{"$f":"+IF(ISNUMBER('System Results'!OD39),'System Results'!OD39,0)","v":0},{"$f":"+IF(ISNUMBER('System Results'!OG39),'System Results'!OG39,0)","v":0},{"$f":"+IF(ISNUMBER('System Results'!OJ39),'System Results'!OJ39,0)","v":0},{"$f":"+IF(ISNUMBER('System Results'!OM39),'System Results'!OM39,0)","v":0},{"$f":"+IF(ISNUMBER('System Results'!OP39),'System Results'!OP39,0)","v":0},{"$f":"+IF(ISNUMBER('System Results'!OS39),'System Results'!OS39,0)","v":0},{"$f":"+IF(ISNUMBER('System Results'!OV39),'System Results'!OV39,0)","v":0},{"$f":"+IF(ISNUMBER('System Results'!OY39),'System Results'!OY39,0)","v":0},{"$f":"+IF(ISNUMBER('System Results'!PB39),'System Results'!PB39,0)","v":0},{"$f":"+IF(ISNUMBER('System Results'!PE39),'System Results'!PE39,0)","v":0},{"$f":"+IF(ISNUMBER('System Results'!PH39),'System Results'!PH39,0)","v":0},{"$f":"+IF(ISNUMBER('System Results'!PK39),'System Results'!PK39,0)","v":0},{"$f":"+IF(ISNUMBER('System Results'!PN39),'System Results'!PN39,0)","v":0},{"$f":"+IF(ISNUMBER('System Results'!PQ39),'System Results'!PQ39,0)","v":0},{"$f":"+IF(ISNUMBER('System Results'!PT39),'System Results'!PT39,0)","v":0},{"$f":"+IF(ISNUMBER('System Results'!PW39),'System Results'!PW39,0)","v":0},{"$f":"+IF(ISNUMBER('System Results'!PZ39),'System Results'!PZ39,0)","v":0},{"$f":"+IF(ISNUMBER('System Results'!QC39),'System Results'!QC39,0)","v":0},{"$f":"+IF(ISNUMBER('System Results'!QF39),'System Results'!QF39,0)","v":0},{"$f":"+IF(ISNUMBER('System Results'!QI39),'System Results'!QI39,0)","v":0},{"$f":"+IF(ISNUMBER('System Results'!QL39),'System Results'!QL39,0)","v":0},{"$f":"+IF(ISNUMBER('System Results'!QO39),'System Results'!QO39,0)","v":0},{"$f":"+IF(ISNUMBER('System Results'!QR39),'System Results'!QR39,0)","v":0},{"$f":"+IF(ISNUMBER('System Results'!QU39),'System Results'!QU39,0)","v":0},{"$f":"+IF(ISNUMBER('System Results'!QX39),'System Results'!QX39,0)","v":0},{"$f":"+IF(ISNUMBER('System Results'!RA39),'System Results'!RA39,0)","v":0},{"$f":"+IF(ISNUMBER('System Results'!RD39),'System Results'!RD39,0)","v":0},{"$f":"+IF(ISNUMBER('System Results'!RG39),'System Results'!RG39,0)","v":0},{"$f":"+IF(ISNUMBER('System Results'!RJ39),'System Results'!RJ39,0)","v":0},{"$f":"+IF(ISNUMBER('System Results'!RM39),'System Results'!RM39,0)","v":0},{"$f":"+IF(ISNUMBER('System Results'!RP39),'System Results'!RP39,0)","v":0},{"$f":"+IF(ISNUMBER('System Results'!RS39),'System Results'!RS39,0)","v":0},{"$f":"+IF(ISNUMBER('System Results'!RV39),'System Results'!RV39,0)","v":0},{"$f":"+IF(ISNUMBER('System Results'!RY39),'System Results'!RY39,0)","v":0},{"$f":"+IF(ISNUMBER('System Results'!SB39),'System Results'!SB39,0)","v":0},{"$f":"+IF(ISNUMBER('System Results'!SE39),'System Results'!SE39,0)","v":0},{"$f":"+IF(ISNUMBER('System Results'!SH39),'System Results'!SH39,0)","v":0},{"$f":"+IF(ISNUMBER('System Results'!SK39),'System Results'!SK39,0)","v":0},{"$f":"+IF(ISNUMBER('System Results'!SN39),'System Results'!SN39,0)","v":0},{"$f":"+IF(ISNUMBER('System Results'!SQ39),'System Results'!SQ39,0)","v":0},{"$f":"+IF(ISNUMBER('System Results'!ST39),'System Results'!ST39,0)","v":0},{"$f":"+IF(ISNUMBER('System Results'!SW39),'System Results'!SW39,0)","v":0},{"$f":"+IF(ISNUMBER('System Results'!SZ39),'System Results'!SZ39,0)","v":0},{"$f":"+IF(ISNUMBER('System Results'!TC39),'System Results'!TC39,0)","v":0},{"$f":"+IF(ISNUMBER('System Results'!TF39),'System Results'!TF39,0)","v":0},{"$f":"+IF(ISNUMBER('System Results'!TI39),'System Results'!TI39,0)","v":0},{"$f":"+IF(ISNUMBER('System Results'!TL39),'System Results'!TL39,0)","v":0},{"$f":"+IF(ISNUMBER('System Results'!TO39),'System Results'!TO39,0)","v":0},{"$f":"+IF(ISNUMBER('System Results'!TR39),'System Results'!TR39,0)","v":0},{"$f":"+IF(ISNUMBER('System Results'!TU39),'System Results'!TU39,0)","v":0},{"$f":"+IF(ISNUMBER('System Results'!TX39),'System Results'!TX39,0)","v":0},{"$f":"+IF(ISNUMBER('System Results'!UA39),'System Results'!UA39,0)","v":0},{"$f":"+IF(ISNUMBER('System Results'!UD39),'System Results'!UD39,0)","v":0},{"$f":"+IF(ISNUMBER('System Results'!UG39),'System Results'!UG39,0)","v":0},{"$f":"+IF(ISNUMBER('System Results'!UJ39),'System Results'!UJ39,0)","v":0},{"$f":"+IF(ISNUMBER('System Results'!UM39),'System Results'!UM39,0)","v":0},{"$f":"+IF(ISNUMBER('System Results'!UP39),'System Results'!UP39,0)","v":0},{"$f":"+IF(ISNUMBER('System Results'!US39),'System Results'!US39,0)","v":0},{"$f":"+IF(ISNUMBER('System Results'!UV39),'System Results'!UV39,0)","v":0},{"$f":"+IF(ISNUMBER('System Results'!UY39),'System Results'!UY39,0)","v":0},{"$f":"+IF(ISNUMBER('System Results'!VB39),'System Results'!VB39,0)","v":0},{"$f":"+IF(ISNUMBER('System Results'!VE39),'System Results'!VE39,0)","v":0},{"$f":"+IF(ISNUMBER('System Results'!VH39),'System Results'!VH39,0)","v":0},{"$f":"+IF(ISNUMBER('System Results'!VK39),'System Results'!VK39,0)","v":0},{"$f":"+IF(ISNUMBER('System Results'!VN39),'System Results'!VN39,0)","v":0},{"$f":"+IF(ISNUMBER('System Results'!VQ39),'System Results'!VQ39,0)","v":0},{"$f":"+IF(ISNUMBER('System Results'!VT39),'System Results'!VT39,0)","v":0},{"$f":"+IF(ISNUMBER('System Results'!VW39),'System Results'!VW39,0)","v":0},{"$f":"+IF(ISNUMBER('System Results'!VZ39),'System Results'!VZ39,0)","v":0},{"$f":"+IF(ISNUMBER('System Results'!WC39),'System Results'!WC39,0)","v":0},{"$f":"+IF(ISNUMBER('System Results'!WF39),'System Results'!WF39,0)","v":0},{"$f":"+IF(ISNUMBER('System Results'!WI39),'System Results'!WI39,0)","v":0},{"$f":"+IF(ISNUMBER('System Results'!WL39),'System Results'!WL39,0)","v":0},{"$f":"+IF(ISNUMBER('System Results'!WO39),'System Results'!WO39,0)","v":0},{"$f":"+IF(ISNUMBER('System Results'!WR39),'System Results'!WR39,0)","v":0},{"$f":"+IF(ISNUMBER('System Results'!WU39),'System Results'!WU39,0)","v":0},{"$f":"+IF(ISNUMBER('System Results'!WX39),'System Results'!WX39,0)","v":0},{"$f":"+IF(ISNUMBER('System Results'!XA39),'System Results'!XA39,0)","v":0},{"$f":"+IF(ISNUMBER('System Results'!XD39),'System Results'!XD39,0)","v":0},{"$f":"+IF(ISNUMBER('System Results'!XG39),'System Results'!XG39,0)","v":0},{"$f":"+IF(ISNUMBER('System Results'!XJ39),'System Results'!XJ39,0)","v":0},{"$f":"+IF(ISNUMBER('System Results'!XM39),'System Results'!XM39,0)","v":0},{"$f":"+IF(ISNUMBER('System Results'!XP39),'System Results'!XP39,0)","v":0},{"$f":"+IF(ISNUMBER('System Results'!XS39),'System Results'!XS39,0)","v":0},{"$f":"+IF(ISNUMBER('System Results'!XV39),'System Results'!XV39,0)","v":0},{"$f":"+IF(ISNUMBER('System Results'!XY39),'System Results'!XY39,0)","v":0},{"$f":"+IF(ISNUMBER('System Results'!YB39),'System Results'!YB39,0)","v":0},{"$f":"+IF(ISNUMBER('System Results'!YE39),'System Results'!YE39,0)","v":0},{"$f":"+IF(ISNUMBER('System Results'!YH39),'System Results'!YH39,0)","v":0},{"$f":"+IF(ISNUMBER('System Results'!YK39),'System Results'!YK39,0)","v":0},{"$f":"+IF(ISNUMBER('System Results'!YN39),'System Results'!YN39,0)","v":0},{"$f":"+IF(ISNUMBER('System Results'!YQ39),'System Results'!YQ39,0)","v":0},{"$f":"+IF(ISNUMBER('System Results'!YT39),'System Results'!YT39,0)","v":0},{"$f":"+IF(ISNUMBER('System Results'!YW39),'System Results'!YW39,0)","v":0},{"$f":"+IF(ISNUMBER('System Results'!YZ39),'System Results'!YZ39,0)","v":0},{"$f":"+IF(ISNUMBER('System Results'!ZC39),'System Results'!ZC39,0)","v":0},{"$f":"+IF(ISNUMBER('System Results'!ZF39),'System Results'!ZF39,0)","v":0},{"$f":"+IF(ISNUMBER('System Results'!ZI39),'System Results'!ZI39,0)","v":0},{"$f":"+IF(ISNUMBER('System Results'!ZL39),'System Results'!ZL39,0)","v":0},{"$f":"+IF(ISNUMBER('System Results'!ZO39),'System Results'!ZO39,0)","v":0},{"$f":"+IF(ISNUMBER('System Results'!ZR39),'System Results'!ZR39,0)","v":0},{"$f":"+IF(ISNUMBER('System Results'!ZU39),'System Results'!ZU39,0)","v":0},{"$f":"+IF(ISNUMBER('System Results'!ZX39),'System Results'!ZX39,0)","v":0},{"$f":"+IF(ISNUMBER('System Results'!AAA39),'System Results'!AAA39,0)","v":0},{"$f":"+IF(ISNUMBER('System Results'!AAD39),'System Results'!AAD39,0)","v":0},{"$f":"+IF(ISNUMBER('System Results'!AAG39),'System Results'!AAG39,0)","v":0},{"$f":"+IF(ISNUMBER('System Results'!AAJ39),'System Results'!AAJ39,0)","v":0},{"$f":"+IF(ISNUMBER('System Results'!AAM39),'System Results'!AAM39,0)","v":0},{"$f":"+IF(ISNUMBER('System Results'!AAP39),'System Results'!AAP39,0)","v":0},{"$f":"+IF(ISNUMBER('System Results'!AAS39),'System Results'!AAS39,0)","v":0},{"$f":"+IF(ISNUMBER('System Results'!AAV39),'System Results'!AAV39,0)","v":0},{"$f":"+IF(ISNUMBER('System Results'!AAY39),'System Results'!AAY39,0)","v":0},{"$f":"+IF(ISNUMBER('System Results'!ABB39),'System Results'!ABB39,0)","v":0},{"$f":"+IF(ISNUMBER('System Results'!ABE39),'System Results'!ABE39,0)","v":0},{"$f":"+IF(ISNUMBER('System Results'!ABH39),'System Results'!ABH39,0)","v":0},{"$f":"+IF(ISNUMBER('System Results'!ABK39),'System Results'!ABK39,0)","v":0},{"$f":"+IF(ISNUMBER('System Results'!ABN39),'System Results'!ABN39,0)","v":0},{"$f":"+IF(ISNUMBER('System Results'!ABQ39),'System Results'!ABQ39,0)","v":0},{"$f":"+IF(ISNUMBER('System Results'!ABT39),'System Results'!ABT39,0)","v":0},{"$f":"+IF(ISNUMBER('System Results'!ABW39),'System Results'!ABW39,0)","v":0},{"$f":"+IF(ISNUMBER('System Results'!ABZ39),'System Results'!ABZ39,0)","v":0},{"$f":"+IF(ISNUMBER('System Results'!ACC39),'System Results'!ACC39,0)","v":0},{"$f":"+IF(ISNUMBER('System Results'!ACF39),'System Results'!ACF39,0)","v":0},{"$f":"+IF(ISNUMBER('System Results'!ACI39),'System Results'!ACI39,0)","v":0},{"$f":"+IF(ISNUMBER('System Results'!ACL39),'System Results'!ACL39,0)","v":0},{"$f":"+IF(ISNUMBER('System Results'!ACO39),'System Results'!ACO39,0)","v":0},{"$f":"+IF(ISNUMBER('System Results'!ACR39),'System Results'!ACR39,0)","v":0},{"$f":"+IF(ISNUMBER('System Results'!ACU39),'System Results'!ACU39,0)","v":0},{"$f":"+IF(ISNUMBER('System Results'!ACX39),'System Results'!ACX39,0)","v":0},{"$f":"+IF(ISNUMBER('System Results'!ADA39),'System Results'!ADA39,0)","v":0},{"$f":"+IF(ISNUMBER('System Results'!ADD39),'System Results'!ADD39,0)","v":0},{"$f":"+IF(ISNUMBER('System Results'!ADG39),'System Results'!ADG39,0)","v":0},{"$f":"+IF(ISNUMBER('System Results'!ADJ39),'System Results'!ADJ39,0)","v":0},{"$f":"+IF(ISNUMBER('System Results'!ADM39),'System Results'!ADM39,0)","v":0},{"$f":"+IF(ISNUMBER('System Results'!ADP39),'System Results'!ADP39,0)","v":0},{"$f":"+IF(ISNUMBER('System Results'!ADS39),'System Results'!ADS39,0)","v":0},{"$f":"+IF(ISNUMBER('System Results'!ADV39),'System Results'!ADV39,0)","v":0},{"$f":"+IF(ISNUMBER('System Results'!ADY39),'System Results'!ADY39,0)","v":0},{"$f":"+IF(ISNUMBER('System Results'!AEB39),'System Results'!AEB39,0)","v":0},{"$f":"+IF(ISNUMBER('System Results'!AEE39),'System Results'!AEE39,0)","v":0},{"$f":"+IF(ISNUMBER('System Results'!AEH39),'System Results'!AEH39,0)","v":0},{"$f":"+IF(ISNUMBER('System Results'!AEK39),'System Results'!AEK39,0)","v":0},{"$f":"+IF(ISNUMBER('System Results'!AEN39),'System Results'!AEN39,0)","v":0},{"$f":"+IF(ISNUMBER('System Results'!AEQ39),'System Results'!AEQ39,0)","v":0},{"$f":"+IF(ISNUMBER('System Results'!AET39),'System Results'!AET39,0)","v":0},{"$f":"+IF(ISNUMBER('System Results'!AEW39),'System Results'!AEW39,0)","v":0},{"$f":"+IF(ISNUMBER('System Results'!AEZ39),'System Results'!AEZ39,0)","v":0},{"$f":"+IF(ISNUMBER('System Results'!AFC39),'System Results'!AFC39,0)","v":0},{"$f":"+IF(ISNUMBER('System Results'!AFF39),'System Results'!AFF39,0)","v":0},{"$f":"+IF(ISNUMBER('System Results'!AFI39),'System Results'!AFI39,0)","v":0},{"$f":"+IF(ISNUMBER('System Results'!AFL39),'System Results'!AFL39,0)","v":0},{"$f":"+IF(ISNUMBER('System Results'!AFO39),'System Results'!AFO39,0)","v":0},{"$f":"+IF(ISNUMBER('System Results'!AFR39),'System Results'!AFR39,0)","v":0},{"$f":"+IF(ISNUMBER('System Results'!AFU39),'System Results'!AFU39,0)","v":0},{"$f":"+IF(ISNUMBER('System Results'!AFX39),'System Results'!AFX39,0)","v":0},{"$f":"+IF(ISNUMBER('System Results'!AGA39),'System Results'!AGA39,0)","v":0},{"$f":"+IF(ISNUMBER('System Results'!AGD39),'System Results'!AGD39,0)","v":0},{"$f":"+IF(ISNUMBER('System Results'!AGG39),'System Results'!AGG39,0)","v":0},{"$f":"+IF(ISNUMBER('System Results'!AGJ39),'System Results'!AGJ39,0)","v":0},{"$f":"+IF(ISNUMBER('System Results'!AGM39),'System Results'!AGM39,0)","v":0},{"$f":"+IF(ISNUMBER('System Results'!AGP39),'System Results'!AGP39,0)","v":0},{"$f":"+IF(ISNUMBER('System Results'!AGS39),'System Results'!AGS39,0)","v":0},{"$f":"+IF(ISNUMBER('System Results'!AGV39),'System Results'!AGV39,0)","v":0},{"$f":"+IF(ISNUMBER('System Results'!AGY39),'System Results'!AGY39,0)","v":0},{"$f":"+IF(ISNUMBER('System Results'!AHB39),'System Results'!AHB39,0)","v":0},{"$f":"+IF(ISNUMBER('System Results'!AHE39),'System Results'!AHE39,0)","v":0},{"$f":"+IF(ISNUMBER('System Results'!AHH39),'System Results'!AHH39,0)","v":0},{"$f":"+IF(ISNUMBER('System Results'!AHK39),'System Results'!AHK39,0)","v":0},{"$f":"+IF(ISNUMBER('System Results'!AHN39),'System Results'!AHN39,0)","v":0},{"$f":"+IF(ISNUMBER('System Results'!AHQ39),'System Results'!AHQ39,0)","v":0},{"$f":"+IF(ISNUMBER('System Results'!AHT39),'System Results'!AHT39,0)","v":0}]
["Scope 3",{"$f":"+'System Results'!B40","v":"Upstream transportation & distribution"},0,{"$f":"+IF(ISNUMBER('System Results'!G40),'System Results'!G40,0)","v":0},{"$f":"+IF(ISNUMBER('System Results'!J40),'System Results'!J40,0)","v":0},{"$f":"+IF(ISNUMBER('System Results'!M40),'System Results'!M40,0)","v":0},{"$f":"+IF(ISNUMBER('System Results'!P40),'System Results'!P40,0)","v":0},{"$f":"+IF(ISNUMBER('System Results'!S40),'System Results'!S40,0)","v":0},{"$f":"+IF(ISNUMBER('System Results'!V40),'System Results'!V40,0)","v":0},{"$f":"+IF(ISNUMBER('System Results'!Y40),'System Results'!Y40,0)","v":0},{"$f":"+IF(ISNUMBER('System Results'!AB40),'System Results'!AB40,0)","v":0},{"$f":"+IF(ISNUMBER('System Results'!AE40),'System Results'!AE40,0)","v":0},{"$f":"+IF(ISNUMBER('System Results'!AH40),'System Results'!AH40,0)","v":0},{"$f":"+IF(ISNUMBER('System Results'!AK40),'System Results'!AK40,0)","v":0},{"$f":"+IF(ISNUMBER('System Results'!AN40),'System Results'!AN40,0)","v":0},{"$f":"+IF(ISNUMBER('System Results'!AQ40),'System Results'!AQ40,0)","v":0},{"$f":"+IF(ISNUMBER('System Results'!AT40),'System Results'!AT40,0)","v":0},{"$f":"+IF(ISNUMBER('System Results'!AW40),'System Results'!AW40,0)","v":0},{"$f":"+IF(ISNUMBER('System Results'!AZ40),'System Results'!AZ40,0)","v":0},{"$f":"+IF(ISNUMBER('System Results'!BC40),'System Results'!BC40,0)","v":0},{"$f":"+IF(ISNUMBER('System Results'!BF40),'System Results'!BF40,0)","v":0},{"$f":"+IF(ISNUMBER('System Results'!BI40),'System Results'!BI40,0)","v":0},{"$f":"+IF(ISNUMBER('System Results'!BL40),'System Results'!BL40,0)","v":0},{"$f":"+IF(ISNUMBER('System Results'!BO40),'System Results'!BO40,0)","v":0},{"$f":"+IF(ISNUMBER('System Results'!BR40),'System Results'!BR40,0)","v":0},{"$f":"+IF(ISNUMBER('System Results'!BU40),'System Results'!BU40,0)","v":0},{"$f":"+IF(ISNUMBER('System Results'!BX40),'System Results'!BX40,0)","v":0},{"$f":"+IF(ISNUMBER('System Results'!CA40),'System Results'!CA40,0)","v":0},{"$f":"+IF(ISNUMBER('System Results'!CD40),'System Results'!CD40,0)","v":0},{"$f":"+IF(ISNUMBER('System Results'!CG40),'System Results'!CG40,0)","v":0},{"$f":"+IF(ISNUMBER('System Results'!CJ40),'System Results'!CJ40,0)","v":0},{"$f":"+IF(ISNUMBER('System Results'!CM40),'System Results'!CM40,0)","v":0},{"$f":"+IF(ISNUMBER('System Results'!CP40),'System Results'!CP40,0)","v":0},{"$f":"+IF(ISNUMBER('System Results'!CS40),'System Results'!CS40,0)","v":0},{"$f":"+IF(ISNUMBER('System Results'!CV40),'System Results'!CV40,0)","v":0},{"$f":"+IF(ISNUMBER('System Results'!CY40),'System Results'!CY40,0)","v":0},{"$f":"+IF(ISNUMBER('System Results'!DB40),'System Results'!DB40,0)","v":0},{"$f":"+IF(ISNUMBER('System Results'!DE40),'System Results'!DE40,0)","v":0},{"$f":"+IF(ISNUMBER('System Results'!DH40),'System Results'!DH40,0)","v":0},{"$f":"+IF(ISNUMBER('System Results'!DK40),'System Results'!DK40,0)","v":0},{"$f":"+IF(ISNUMBER('System Results'!DN40),'System Results'!DN40,0)","v":0},{"$f":"+IF(ISNUMBER('System Results'!DQ40),'System Results'!DQ40,0)","v":0},{"$f":"+IF(ISNUMBER('System Results'!DT40),'System Results'!DT40,0)","v":0},{"$f":"+IF(ISNUMBER('System Results'!DW40),'System Results'!DW40,0)","v":0},{"$f":"+IF(ISNUMBER('System Results'!DZ40),'System Results'!DZ40,0)","v":0},{"$f":"+IF(ISNUMBER('System Results'!EC40),'System Results'!EC40,0)","v":0},{"$f":"+IF(ISNUMBER('System Results'!EF40),'System Results'!EF40,0)","v":0},{"$f":"+IF(ISNUMBER('System Results'!EI40),'System Results'!EI40,0)","v":0},{"$f":"+IF(ISNUMBER('System Results'!EL40),'System Results'!EL40,0)","v":0},{"$f":"+IF(ISNUMBER('System Results'!EO40),'System Results'!EO40,0)","v":0},{"$f":"+IF(ISNUMBER('System Results'!ER40),'System Results'!ER40,0)","v":0},{"$f":"+IF(ISNUMBER('System Results'!EU40),'System Results'!EU40,0)","v":0},{"$f":"+IF(ISNUMBER('System Results'!EX40),'System Results'!EX40,0)","v":0},{"$f":"+IF(ISNUMBER('System Results'!FA40),'System Results'!FA40,0)","v":0},{"$f":"+IF(ISNUMBER('System Results'!FD40),'System Results'!FD40,0)","v":0},{"$f":"+IF(ISNUMBER('System Results'!FG40),'System Results'!FG40,0)","v":0},{"$f":"+IF(ISNUMBER('System Results'!FJ40),'System Results'!FJ40,0)","v":0},{"$f":"+IF(ISNUMBER('System Results'!FM40),'System Results'!FM40,0)","v":0},{"$f":"+IF(ISNUMBER('System Results'!FP40),'System Results'!FP40,0)","v":0},{"$f":"+IF(ISNUMBER('System Results'!FS40),'System Results'!FS40,0)","v":0},{"$f":"+IF(ISNUMBER('System Results'!FV40),'System Results'!FV40,0)","v":0},{"$f":"+IF(ISNUMBER('System Results'!FY40),'System Results'!FY40,0)","v":0},{"$f":"+IF(ISNUMBER('System Results'!GB40),'System Results'!GB40,0)","v":0},{"$f":"+IF(ISNUMBER('System Results'!GE40),'System Results'!GE40,0)","v":0},{"$f":"+IF(ISNUMBER('System Results'!GH40),'System Results'!GH40,0)","v":0},{"$f":"+IF(ISNUMBER('System Results'!GK40),'System Results'!GK40,0)","v":0},{"$f":"+IF(ISNUMBER('System Results'!GN40),'System Results'!GN40,0)","v":0},{"$f":"+IF(ISNUMBER('System Results'!GQ40),'System Results'!GQ40,0)","v":0},{"$f":"+IF(ISNUMBER('System Results'!GT40),'System Results'!GT40,0)","v":0},{"$f":"+IF(ISNUMBER('System Results'!GW40),'System Results'!GW40,0)","v":0},{"$f":"+IF(ISNUMBER('System Results'!GZ40),'System Results'!GZ40,0)","v":0},{"$f":"+IF(ISNUMBER('System Results'!HC40),'System Results'!HC40,0)","v":0},{"$f":"+IF(ISNUMBER('System Results'!HF40),'System Results'!HF40,0)","v":0},{"$f":"+IF(ISNUMBER('System Results'!HI40),'System Results'!HI40,0)","v":0},{"$f":"+IF(ISNUMBER('System Results'!HL40),'System Results'!HL40,0)","v":0},{"$f":"+IF(ISNUMBER('System Results'!HO40),'System Results'!HO40,0)","v":0},{"$f":"+IF(ISNUMBER('System Results'!HR40),'System Results'!HR40,0)","v":0},{"$f":"+IF(ISNUMBER('System Results'!HU40),'System Results'!HU40,0)","v":0},{"$f":"+IF(ISNUMBER('System Results'!HX40),'System Results'!HX40,0)","v":0},{"$f":"+IF(ISNUMBER('System Results'!IA40),'System Results'!IA40,0)","v":0},{"$f":"+IF(ISNUMBER('System Results'!ID40),'System Results'!ID40,0)","v":0},{"$f":"+IF(ISNUMBER('System Results'!IG40),'System Results'!IG40,0)","v":0},{"$f":"+IF(ISNUMBER('System Results'!IJ40),'System Results'!IJ40,0)","v":0},{"$f":"+IF(ISNUMBER('System Results'!IM40),'System Results'!IM40,0)","v":0},{"$f":"+IF(ISNUMBER('System Results'!IP40),'System Results'!IP40,0)","v":0},{"$f":"+IF(ISNUMBER('System Results'!IS40),'System Results'!IS40,0)","v":0},{"$f":"+IF(ISNUMBER('System Results'!IV40),'System Results'!IV40,0)","v":0},{"$f":"+IF(ISNUMBER('System Results'!IY40),'System Results'!IY40,0)","v":0},{"$f":"+IF(ISNUMBER('System Results'!JB40),'System Results'!JB40,0)","v":0},{"$f":"+IF(ISNUMBER('System Results'!JE40),'System Results'!JE40,0)","v":0},{"$f":"+IF(ISNUMBER('System Results'!JH40),'System Results'!JH40,0)","v":0},{"$f":"+IF(ISNUMBER('System Results'!JK40),'System Results'!JK40,0)","v":0},{"$f":"+IF(ISNUMBER('System Results'!JN40),'System Results'!JN40,0)","v":0},{"$f":"+IF(ISNUMBER('System Results'!JQ40),'System Results'!JQ40,0)","v":0},{"$f":"+IF(ISNUMBER('System Results'!JT40),'System Results'!JT40,0)","v":0},{"$f":"+IF(ISNUMBER('System Results'!JW40),'System Results'!JW40,0)","v":0},{"$f":"+IF(ISNUMBER('System Results'!JZ40),'System Results'!JZ40,0)","v":0},{"$f":"+IF(ISNUMBER('System Results'!KC40),'System Results'!KC40,0)","v":0},{"$f":"+IF(ISNUMBER('System Results'!KF40),'System Results'!KF40,0)","v":0},{"$f":"+IF(ISNUMBER('System Results'!KI40),'System Results'!KI40,0)","v":0},{"$f":"+IF(ISNUMBER('System Results'!KL40),'System Results'!KL40,0)","v":0},{"$f":"+IF(ISNUMBER('System Results'!KO40),'System Results'!KO40,0)","v":0},{"$f":"+IF(ISNUMBER('System Results'!KR40),'System Results'!KR40,0)","v":0},{"$f":"+IF(ISNUMBER('System Results'!KU40),'System Results'!KU40,0)","v":0},{"$f":"+IF(ISNUMBER('System Results'!KX40),'System Results'!KX40,0)","v":0},{"$f":"+IF(ISNUMBER('System Results'!LA40),'System Results'!LA40,0)","v":0},{"$f":"+IF(ISNUMBER('System Results'!LD40),'System Results'!LD40,0)","v":0},{"$f":"+IF(ISNUMBER('System Results'!LG40),'System Results'!LG40,0)","v":0},{"$f":"+IF(ISNUMBER('System Results'!LJ40),'System Results'!LJ40,0)","v":0},{"$f":"+IF(ISNUMBER('System Results'!LM40),'System Results'!LM40,0)","v":0},{"$f":"+IF(ISNUMBER('System Results'!LP40),'System Results'!LP40,0)","v":0},{"$f":"+IF(ISNUMBER('System Results'!LS40),'System Results'!LS40,0)","v":0},{"$f":"+IF(ISNUMBER('System Results'!LV40),'System Results'!LV40,0)","v":0},{"$f":"+IF(ISNUMBER('System Results'!LY40),'System Results'!LY40,0)","v":0},{"$f":"+IF(ISNUMBER('System Results'!MB40),'System Results'!MB40,0)","v":0},{"$f":"+IF(ISNUMBER('System Results'!ME40),'System Results'!ME40,0)","v":0},{"$f":"+IF(ISNUMBER('System Results'!MH40),'System Results'!MH40,0)","v":0},{"$f":"+IF(ISNUMBER('System Results'!MK40),'System Results'!MK40,0)","v":0},{"$f":"+IF(ISNUMBER('System Results'!MN40),'System Results'!MN40,0)","v":0},{"$f":"+IF(ISNUMBER('System Results'!MQ40),'System Results'!MQ40,0)","v":0},{"$f":"+IF(ISNUMBER('System Results'!MT40),'System Results'!MT40,0)","v":0},{"$f":"+IF(ISNUMBER('System Results'!MW40),'System Results'!MW40,0)","v":0},{"$f":"+IF(ISNUMBER('System Results'!MZ40),'System Results'!MZ40,0)","v":0},{"$f":"+IF(ISNUMBER('System Results'!NC40),'System Results'!NC40,0)","v":0},{"$f":"+IF(ISNUMBER('System Results'!NF40),'System Results'!NF40,0)","v":0},{"$f":"+IF(ISNUMBER('System Results'!NI40),'System Results'!NI40,0)","v":0},{"$f":"+IF(ISNUMBER('System Results'!NL40),'System Results'!NL40,0)","v":0},{"$f":"+IF(ISNUMBER('System Results'!NO40),'System Results'!NO40,0)","v":0},{"$f":"+IF(ISNUMBER('System Results'!NR40),'System Results'!NR40,0)","v":0},{"$f":"+IF(ISNUMBER('System Results'!NU40),'System Results'!NU40,0)","v":0},{"$f":"+IF(ISNUMBER('System Results'!NX40),'System Results'!NX40,0)","v":0},{"$f":"+IF(ISNUMBER('System Results'!OA40),'System Results'!OA40,0)","v":0},{"$f":"+IF(ISNUMBER('System Results'!OD40),'System Results'!OD40,0)","v":0},{"$f":"+IF(ISNUMBER('System Results'!OG40),'System Results'!OG40,0)","v":0},{"$f":"+IF(ISNUMBER('System Results'!OJ40),'System Results'!OJ40,0)","v":0},{"$f":"+IF(ISNUMBER('System Results'!OM40),'System Results'!OM40,0)","v":0},{"$f":"+IF(ISNUMBER('System Results'!OP40),'System Results'!OP40,0)","v":0},{"$f":"+IF(ISNUMBER('System Results'!OS40),'System Results'!OS40,0)","v":0},{"$f":"+IF(ISNUMBER('System Results'!OV40),'System Results'!OV40,0)","v":0},{"$f":"+IF(ISNUMBER('System Results'!OY40),'System Results'!OY40,0)","v":0},{"$f":"+IF(ISNUMBER('System Results'!PB40),'System Results'!PB40,0)","v":0},{"$f":"+IF(ISNUMBER('System Results'!PE40),'System Results'!PE40,0)","v":0},{"$f":"+IF(ISNUMBER('System Results'!PH40),'System Results'!PH40,0)","v":0},{"$f":"+IF(ISNUMBER('System Results'!PK40),'System Results'!PK40,0)","v":0},{"$f":"+IF(ISNUMBER('System Results'!PN40),'System Results'!PN40,0)","v":0},{"$f":"+IF(ISNUMBER('System Results'!PQ40),'System Results'!PQ40,0)","v":0},{"$f":"+IF(ISNUMBER('System Results'!PT40),'System Results'!PT40,0)","v":0},{"$f":"+IF(ISNUMBER('System Results'!PW40),'System Results'!PW40,0)","v":0},{"$f":"+IF(ISNUMBER('System Results'!PZ40),'System Results'!PZ40,0)","v":0},{"$f":"+IF(ISNUMBER('System Results'!QC40),'System Results'!QC40,0)","v":0},{"$f":"+IF(ISNUMBER('System Results'!QF40),'System Results'!QF40,0)","v":0},{"$f":"+IF(ISNUMBER('System Results'!QI40),'System Results'!QI40,0)","v":0},{"$f":"+IF(ISNUMBER('System Results'!QL40),'System Results'!QL40,0)","v":0},{"$f":"+IF(ISNUMBER('System Results'!QO40),'System Results'!QO40,0)","v":0},{"$f":"+IF(ISNUMBER('System Results'!QR40),'System Results'!QR40,0)","v":0},{"$f":"+IF(ISNUMBER('System Results'!QU40),'System Results'!QU40,0)","v":0},{"$f":"+IF(ISNUMBER('System Results'!QX40),'System Results'!QX40,0)","v":0},{"$f":"+IF(ISNUMBER('System Results'!RA40),'System Results'!RA40,0)","v":0},{"$f":"+IF(ISNUMBER('System Results'!RD40),'System Results'!RD40,0)","v":0},{"$f":"+IF(ISNUMBER('System Results'!RG40),'System Results'!RG40,0)","v":0},{"$f":"+IF(ISNUMBER('System Results'!RJ40),'System Results'!RJ40,0)","v":0},{"$f":"+IF(ISNUMBER('System Results'!RM40),'System Results'!RM40,0)","v":0},{"$f":"+IF(ISNUMBER('System Results'!RP40),'System Results'!RP40,0)","v":0},{"$f":"+IF(ISNUMBER('System Results'!RS40),'System Results'!RS40,0)","v":0},{"$f":"+IF(ISNUMBER('System Results'!RV40),'System Results'!RV40,0)","v":0},{"$f":"+IF(ISNUMBER('System Results'!RY40),'System Results'!RY40,0)","v":0},{"$f":"+IF(ISNUMBER('System Results'!SB40),'System Results'!SB40,0)","v":0},{"$f":"+IF(ISNUMBER('System Results'!SE40),'System Results'!SE40,0)","v":0},{"$f":"+IF(ISNUMBER('System Results'!SH40),'System Results'!SH40,0)","v":0},{"$f":"+IF(ISNUMBER('System Results'!SK40),'System Results'!SK40,0)","v":0},{"$f":"+IF(ISNUMBER('System Results'!SN40),'System Results'!SN40,0)","v":0},{"$f":"+IF(ISNUMBER('System Results'!SQ40),'System Results'!SQ40,0)","v":0},{"$f":"+IF(ISNUMBER('System Results'!ST40),'System Results'!ST40,0)","v":0},{"$f":"+IF(ISNUMBER('System Results'!SW40),'System Results'!SW40,0)","v":0},{"$f":"+IF(ISNUMBER('System Results'!SZ40),'System Results'!SZ40,0)","v":0},{"$f":"+IF(ISNUMBER('System Results'!TC40),'System Results'!TC40,0)","v":0},{"$f":"+IF(ISNUMBER('System Results'!TF40),'System Results'!TF40,0)","v":0},{"$f":"+IF(ISNUMBER('System Results'!TI40),'System Results'!TI40,0)","v":0},{"$f":"+IF(ISNUMBER('System Results'!TL40),'System Results'!TL40,0)","v":0},{"$f":"+IF(ISNUMBER('System Results'!TO40),'System Results'!TO40,0)","v":0},{"$f":"+IF(ISNUMBER('System Results'!TR40),'System Results'!TR40,0)","v":0},{"$f":"+IF(ISNUMBER('System Results'!TU40),'System Results'!TU40,0)","v":0},{"$f":"+IF(ISNUMBER('System Results'!TX40),'System Results'!TX40,0)","v":0},{"$f":"+IF(ISNUMBER('System Results'!UA40),'System Results'!UA40,0)","v":0},{"$f":"+IF(ISNUMBER('System Results'!UD40),'System Results'!UD40,0)","v":0},{"$f":"+IF(ISNUMBER('System Results'!UG40),'System Results'!UG40,0)","v":0},{"$f":"+IF(ISNUMBER('System Results'!UJ40),'System Results'!UJ40,0)","v":0},{"$f":"+IF(ISNUMBER('System Results'!UM40),'System Results'!UM40,0)","v":0},{"$f":"+IF(ISNUMBER('System Results'!UP40),'System Results'!UP40,0)","v":0},{"$f":"+IF(ISNUMBER('System Results'!US40),'System Results'!US40,0)","v":0},{"$f":"+IF(ISNUMBER('System Results'!UV40),'System Results'!UV40,0)","v":0},{"$f":"+IF(ISNUMBER('System Results'!UY40),'System Results'!UY40,0)","v":0},{"$f":"+IF(ISNUMBER('System Results'!VB40),'System Results'!VB40,0)","v":0},{"$f":"+IF(ISNUMBER('System Results'!VE40),'System Results'!VE40,0)","v":0},{"$f":"+IF(ISNUMBER('System Results'!VH40),'System Results'!VH40,0)","v":0},{"$f":"+IF(ISNUMBER('System Results'!VK40),'System Results'!VK40,0)","v":0},{"$f":"+IF(ISNUMBER('System Results'!VN40),'System Results'!VN40,0)","v":0},{"$f":"+IF(ISNUMBER('System Results'!VQ40),'System Results'!VQ40,0)","v":0},{"$f":"+IF(ISNUMBER('System Results'!VT40),'System Results'!VT40,0)","v":0},{"$f":"+IF(ISNUMBER('System Results'!VW40),'System Results'!VW40,0)","v":0},{"$f":"+IF(ISNUMBER('System Results'!VZ40),'System Results'!VZ40,0)","v":0},{"$f":"+IF(ISNUMBER('System Results'!WC40),'System Results'!WC40,0)","v":0},{"$f":"+IF(ISNUMBER('System Results'!WF40),'System Results'!WF40,0)","v":0},{"$f":"+IF(ISNUMBER('System Results'!WI40),'System Results'!WI40,0)","v":0},{"$f":"+IF(ISNUMBER('System Results'!WL40),'System Results'!WL40,0)","v":0},{"$f":"+IF(ISNUMBER('System Results'!WO40),'System Results'!WO40,0)","v":0},{"$f":"+IF(ISNUMBER('System Results'!WR40),'System Results'!WR40,0)","v":0},{"$f":"+IF(ISNUMBER('System Results'!WU40),'System Results'!WU40,0)","v":0},{"$f":"+IF(ISNUMBER('System Results'!WX40),'System Results'!WX40,0)","v":0},{"$f":"+IF(ISNUMBER('System Results'!XA40),'System Results'!XA40,0)","v":0},{"$f":"+IF(ISNUMBER('System Results'!XD40),'System Results'!XD40,0)","v":0},{"$f":"+IF(ISNUMBER('System Results'!XG40),'System Results'!XG40,0)","v":0},{"$f":"+IF(ISNUMBER('System Results'!XJ40),'System Results'!XJ40,0)","v":0},{"$f":"+IF(ISNUMBER('System Results'!XM40),'System Results'!XM40,0)","v":0},{"$f":"+IF(ISNUMBER('System Results'!XP40),'System Results'!XP40,0)","v":0},{"$f":"+IF(ISNUMBER('System Results'!XS40),'System Results'!XS40,0)","v":0},{"$f":"+IF(ISNUMBER('System Results'!XV40),'System Results'!XV40,0)","v":0},{"$f":"+IF(ISNUMBER('System Results'!XY40),'System Results'!XY40,0)","v":0},{"$f":"+IF(ISNUMBER('System Results'!YB40),'System Results'!YB40,0)","v":0},{"$f":"+IF(ISNUMBER('System Results'!YE40),'System Results'!YE40,0)","v":0},{"$f":"+IF(ISNUMBER('System Results'!YH40),'System Results'!YH40,0)","v":0},{"$f":"+IF(ISNUMBER('System Results'!YK40),'System Results'!YK40,0)","v":0},{"$f":"+IF(ISNUMBER('System Results'!YN40),'System Results'!YN40,0)","v":0},{"$f":"+IF(ISNUMBER('System Results'!YQ40),'System Results'!YQ40,0)","v":0},{"$f":"+IF(ISNUMBER('System Results'!YT40),'System Results'!YT40,0)","v":0},{"$f":"+IF(ISNUMBER('System Results'!YW40),'System Results'!YW40,0)","v":0},{"$f":"+IF(ISNUMBER('System Results'!YZ40),'System Results'!YZ40,0)","v":0},{"$f":"+IF(ISNUMBER('System Results'!ZC40),'System Results'!ZC40,0)","v":0},{"$f":"+IF(ISNUMBER('System Results'!ZF40),'System Results'!ZF40,0)","v":0},{"$f":"+IF(ISNUMBER('System Results'!ZI40),'System Results'!ZI40,0)","v":0},{"$f":"+IF(ISNUMBER('System Results'!ZL40),'System Results'!ZL40,0)","v":0},{"$f":"+IF(ISNUMBER('System Results'!ZO40),'System Results'!ZO40,0)","v":0},{"$f":"+IF(ISNUMBER('System Results'!ZR40),'System Results'!ZR40,0)","v":0},{"$f":"+IF(ISNUMBER('System Results'!ZU40),'System Results'!ZU40,0)","v":0},{"$f":"+IF(ISNUMBER('System Results'!ZX40),'System Results'!ZX40,0)","v":0},{"$f":"+IF(ISNUMBER('System Results'!AAA40),'System Results'!AAA40,0)","v":0},{"$f":"+IF(ISNUMBER('System Results'!AAD40),'System Results'!AAD40,0)","v":0},{"$f":"+IF(ISNUMBER('System Results'!AAG40),'System Results'!AAG40,0)","v":0},{"$f":"+IF(ISNUMBER('System Results'!AAJ40),'System Results'!AAJ40,0)","v":0},{"$f":"+IF(ISNUMBER('System Results'!AAM40),'System Results'!AAM40,0)","v":0},{"$f":"+IF(ISNUMBER('System Results'!AAP40),'System Results'!AAP40,0)","v":0},{"$f":"+IF(ISNUMBER('System Results'!AAS40),'System Results'!AAS40,0)","v":0},{"$f":"+IF(ISNUMBER('System Results'!AAV40),'System Results'!AAV40,0)","v":0},{"$f":"+IF(ISNUMBER('System Results'!AAY40),'System Results'!AAY40,0)","v":0},{"$f":"+IF(ISNUMBER('System Results'!ABB40),'System Results'!ABB40,0)","v":0},{"$f":"+IF(ISNUMBER('System Results'!ABE40),'System Results'!ABE40,0)","v":0},{"$f":"+IF(ISNUMBER('System Results'!ABH40),'System Results'!ABH40,0)","v":0},{"$f":"+IF(ISNUMBER('System Results'!ABK40),'System Results'!ABK40,0)","v":0},{"$f":"+IF(ISNUMBER('System Results'!ABN40),'System Results'!ABN40,0)","v":0},{"$f":"+IF(ISNUMBER('System Results'!ABQ40),'System Results'!ABQ40,0)","v":0},{"$f":"+IF(ISNUMBER('System Results'!ABT40),'System Results'!ABT40,0)","v":0},{"$f":"+IF(ISNUMBER('System Results'!ABW40),'System Results'!ABW40,0)","v":0},{"$f":"+IF(ISNUMBER('System Results'!ABZ40),'System Results'!ABZ40,0)","v":0},{"$f":"+IF(ISNUMBER('System Results'!ACC40),'System Results'!ACC40,0)","v":0},{"$f":"+IF(ISNUMBER('System Results'!ACF40),'System Results'!ACF40,0)","v":0},{"$f":"+IF(ISNUMBER('System Results'!ACI40),'System Results'!ACI40,0)","v":0},{"$f":"+IF(ISNUMBER('System Results'!ACL40),'System Results'!ACL40,0)","v":0},{"$f":"+IF(ISNUMBER('System Results'!ACO40),'System Results'!ACO40,0)","v":0},{"$f":"+IF(ISNUMBER('System Results'!ACR40),'System Results'!ACR40,0)","v":0},{"$f":"+IF(ISNUMBER('System Results'!ACU40),'System Results'!ACU40,0)","v":0},{"$f":"+IF(ISNUMBER('System Results'!ACX40),'System Results'!ACX40,0)","v":0},{"$f":"+IF(ISNUMBER('System Results'!ADA40),'System Results'!ADA40,0)","v":0},{"$f":"+IF(ISNUMBER('System Results'!ADD40),'System Results'!ADD40,0)","v":0},{"$f":"+IF(ISNUMBER('System Results'!ADG40),'System Results'!ADG40,0)","v":0},{"$f":"+IF(ISNUMBER('System Results'!ADJ40),'System Results'!ADJ40,0)","v":0},{"$f":"+IF(ISNUMBER('System Results'!ADM40),'System Results'!ADM40,0)","v":0},{"$f":"+IF(ISNUMBER('System Results'!ADP40),'System Results'!ADP40,0)","v":0},{"$f":"+IF(ISNUMBER('System Results'!ADS40),'System Results'!ADS40,0)","v":0},{"$f":"+IF(ISNUMBER('System Results'!ADV40),'System Results'!ADV40,0)","v":0},{"$f":"+IF(ISNUMBER('System Results'!ADY40),'System Results'!ADY40,0)","v":0},{"$f":"+IF(ISNUMBER('System Results'!AEB40),'System Results'!AEB40,0)","v":0},{"$f":"+IF(ISNUMBER('System Results'!AEE40),'System Results'!AEE40,0)","v":0},{"$f":"+IF(ISNUMBER('System Results'!AEH40),'System Results'!AEH40,0)","v":0},{"$f":"+IF(ISNUMBER('System Results'!AEK40),'System Results'!AEK40,0)","v":0},{"$f":"+IF(ISNUMBER('System Results'!AEN40),'System Results'!AEN40,0)","v":0},{"$f":"+IF(ISNUMBER('System Results'!AEQ40),'System Results'!AEQ40,0)","v":0},{"$f":"+IF(ISNUMBER('System Results'!AET40),'System Results'!AET40,0)","v":0},{"$f":"+IF(ISNUMBER('System Results'!AEW40),'System Results'!AEW40,0)","v":0},{"$f":"+IF(ISNUMBER('System Results'!AEZ40),'System Results'!AEZ40,0)","v":0},{"$f":"+IF(ISNUMBER('System Results'!AFC40),'System Results'!AFC40,0)","v":0},{"$f":"+IF(ISNUMBER('System Results'!AFF40),'System Results'!AFF40,0)","v":0},{"$f":"+IF(ISNUMBER('System Results'!AFI40),'System Results'!AFI40,0)","v":0},{"$f":"+IF(ISNUMBER('System Results'!AFL40),'System Results'!AFL40,0)","v":0},{"$f":"+IF(ISNUMBER('System Results'!AFO40),'System Results'!AFO40,0)","v":0},{"$f":"+IF(ISNUMBER('System Results'!AFR40),'System Results'!AFR40,0)","v":0},{"$f":"+IF(ISNUMBER('System Results'!AFU40),'System Results'!AFU40,0)","v":0},{"$f":"+IF(ISNUMBER('System Results'!AFX40),'System Results'!AFX40,0)","v":0},{"$f":"+IF(ISNUMBER('System Results'!AGA40),'System Results'!AGA40,0)","v":0},{"$f":"+IF(ISNUMBER('System Results'!AGD40),'System Results'!AGD40,0)","v":0},{"$f":"+IF(ISNUMBER('System Results'!AGG40),'System Results'!AGG40,0)","v":0},{"$f":"+IF(ISNUMBER('System Results'!AGJ40),'System Results'!AGJ40,0)","v":0},{"$f":"+IF(ISNUMBER('System Results'!AGM40),'System Results'!AGM40,0)","v":0},{"$f":"+IF(ISNUMBER('System Results'!AGP40),'System Results'!AGP40,0)","v":0},{"$f":"+IF(ISNUMBER('System Results'!AGS40),'System Results'!AGS40,0)","v":0},{"$f":"+IF(ISNUMBER('System Results'!AGV40),'System Results'!AGV40,0)","v":0},{"$f":"+IF(ISNUMBER('System Results'!AGY40),'System Results'!AGY40,0)","v":0},{"$f":"+IF(ISNUMBER('System Results'!AHB40),'System Results'!AHB40,0)","v":0},{"$f":"+IF(ISNUMBER('System Results'!AHE40),'System Results'!AHE40,0)","v":0},{"$f":"+IF(ISNUMBER('System Results'!AHH40),'System Results'!AHH40,0)","v":0},{"$f":"+IF(ISNUMBER('System Results'!AHK40),'System Results'!AHK40,0)","v":0},{"$f":"+IF(ISNUMBER('System Results'!AHN40),'System Results'!AHN40,0)","v":0},{"$f":"+IF(ISNUMBER('System Results'!AHQ40),'System Results'!AHQ40,0)","v":0},{"$f":"+IF(ISNUMBER('System Results'!AHT40),'System Results'!AHT40,0)","v":0}]
["Scope 3",{"$f":"+'System Results'!B41","v":"Waste generated in operations"},0,{"$f":"+IF(ISNUMBER('System Results'!G41),'System Results'!G41,0)","v":0},{"$f":"+IF(ISNUMBER('System Results'!J41),'System Results'!J41,0)","v":0},{"$f":"+IF(ISNUMBER('System Results'!M41),'System Results'!M41,0)","v":0},{"$f":"+IF(ISNUMBER('System Results'!P41),'System Results'!P41,0)","v":0},{"$f":"+IF(ISNUMBER('System Results'!S41),'System Results'!S41,0)","v":0},{"$f":"+IF(ISNUMBER('System Results'!V41),'System Results'!V41,0)","v":0},{"$f":"+IF(ISNUMBER('System Results'!Y41),'System Results'!Y41,0)","v":0},{"$f":"+IF(ISNUMBER('System Results'!AB41),'System Results'!AB41,0)","v":0},{"$f":"+IF(ISNUMBER('System Results'!AE41),'System Results'!AE41,0)","v":0},{"$f":"+IF(ISNUMBER('System Results'!AH41),'System Results'!AH41,0)","v":0},{"$f":"+IF(ISNUMBER('System Results'!AK41),'System Results'!AK41,0)","v":0},{"$f":"+IF(ISNUMBER('System Results'!AN41),'System Results'!AN41,0)","v":0},{"$f":"+IF(ISNUMBER('System Results'!AQ41),'System Results'!AQ41,0)","v":0},{"$f":"+IF(ISNUMBER('System Results'!AT41),'System Results'!AT41,0)","v":0},{"$f":"+IF(ISNUMBER('System Results'!AW41),'System Results'!AW41,0)","v":0},{"$f":"+IF(ISNUMBER('System Results'!AZ41),'System Results'!AZ41,0)","v":0},{"$f":"+IF(ISNUMBER('System Results'!BC41),'System Results'!BC41,0)","v":0},{"$f":"+IF(ISNUMBER('System Results'!BF41),'System Results'!BF41,0)","v":0},{"$f":"+IF(ISNUMBER('System Results'!BI41),'System Results'!BI41,0)","v":0},{"$f":"+IF(ISNUMBER('System Results'!BL41),'System Results'!BL41,0)","v":0},{"$f":"+IF(ISNUMBER('System Results'!BO41),'System Results'!BO41,0)","v":0},{"$f":"+IF(ISNUMBER('System Results'!BR41),'System Results'!BR41,0)","v":0},{"$f":"+IF(ISNUMBER('System Results'!BU41),'System Results'!BU41,0)","v":0},{"$f":"+IF(ISNUMBER('System Results'!BX41),'System Results'!BX41,0)","v":0},{"$f":"+IF(ISNUMBER('System Results'!CA41),'System Results'!CA41,0)","v":0},{"$f":"+IF(ISNUMBER('System Results'!CD41),'System Results'!CD41,0)","v":0},{"$f":"+IF(ISNUMBER('System Results'!CG41),'System Results'!CG41,0)","v":0},{"$f":"+IF(ISNUMBER('System Results'!CJ41),'System Results'!CJ41,0)","v":0},{"$f":"+IF(ISNUMBER('System Results'!CM41),'System Results'!CM41,0)","v":0},{"$f":"+IF(ISNUMBER('System Results'!CP41),'System Results'!CP41,0)","v":0},{"$f":"+IF(ISNUMBER('System Results'!CS41),'System Results'!CS41,0)","v":0},{"$f":"+IF(ISNUMBER('System Results'!CV41),'System Results'!CV41,0)","v":0},{"$f":"+IF(ISNUMBER('System Results'!CY41),'System Results'!CY41,0)","v":0},{"$f":"+IF(ISNUMBER('System Results'!DB41),'System Results'!DB41,0)","v":0},{"$f":"+IF(ISNUMBER('System Results'!DE41),'System Results'!DE41,0)","v":0},{"$f":"+IF(ISNUMBER('System Results'!DH41),'System Results'!DH41,0)","v":0},{"$f":"+IF(ISNUMBER('System Results'!DK41),'System Results'!DK41,0)","v":0},{"$f":"+IF(ISNUMBER('System Results'!DN41),'System Results'!DN41,0)","v":0},{"$f":"+IF(ISNUMBER('System Results'!DQ41),'System Results'!DQ41,0)","v":0},{"$f":"+IF(ISNUMBER('System Results'!DT41),'System Results'!DT41,0)","v":0},{"$f":"+IF(ISNUMBER('System Results'!DW41),'System Results'!DW41,0)","v":0},{"$f":"+IF(ISNUMBER('System Results'!DZ41),'System Results'!DZ41,0)","v":0},{"$f":"+IF(ISNUMBER('System Results'!EC41),'System Results'!EC41,0)","v":0},{"$f":"+IF(ISNUMBER('System Results'!EF41),'System Results'!EF41,0)","v":0},{"$f":"+IF(ISNUMBER('System Results'!EI41),'System Results'!EI41,0)","v":0},{"$f":"+IF(ISNUMBER('System Results'!EL41),'System Results'!EL41,0)","v":0},{"$f":"+IF(ISNUMBER('System Results'!EO41),'System Results'!EO41,0)","v":0},{"$f":"+IF(ISNUMBER('System Results'!ER41),'System Results'!ER41,0)","v":0},{"$f":"+IF(ISNUMBER('System Results'!EU41),'System Results'!EU41,0)","v":0},{"$f":"+IF(ISNUMBER('System Results'!EX41),'System Results'!EX41,0)","v":0},{"$f":"+IF(ISNUMBER('System Results'!FA41),'System Results'!FA41,0)","v":0},{"$f":"+IF(ISNUMBER('System Results'!FD41),'System Results'!FD41,0)","v":0},{"$f":"+IF(ISNUMBER('System Results'!FG41),'System Results'!FG41,0)","v":0},{"$f":"+IF(ISNUMBER('System Results'!FJ41),'System Results'!FJ41,0)","v":0},{"$f":"+IF(ISNUMBER('System Results'!FM41),'System Results'!FM41,0)","v":0},{"$f":"+IF(ISNUMBER('System Results'!FP41),'System Results'!FP41,0)","v":0},{"$f":"+IF(ISNUMBER('System Results'!FS41),'System Results'!FS41,0)","v":0},{"$f":"+IF(ISNUMBER('System Results'!FV41),'System Results'!FV41,0)","v":0},{"$f":"+IF(ISNUMBER('System Results'!FY41),'System Results'!FY41,0)","v":0},{"$f":"+IF(ISNUMBER('System Results'!GB41),'System Results'!GB41,0)","v":0},{"$f":"+IF(ISNUMBER('System Results'!GE41),'System Results'!GE41,0)","v":0},{"$f":"+IF(ISNUMBER('System Results'!GH41),'System Results'!GH41,0)","v":0},{"$f":"+IF(ISNUMBER('System Results'!GK41),'System Results'!GK41,0)","v":0},{"$f":"+IF(ISNUMBER('System Results'!GN41),'System Results'!GN41,0)","v":0},{"$f":"+IF(ISNUMBER('System Results'!GQ41),'System Results'!GQ41,0)","v":0},{"$f":"+IF(ISNUMBER('System Results'!GT41),'System Results'!GT41,0)","v":0},{"$f":"+IF(ISNUMBER('System Results'!GW41),'System Results'!GW41,0)","v":0},{"$f":"+IF(ISNUMBER('System Results'!GZ41),'System Results'!GZ41,0)","v":0},{"$f":"+IF(ISNUMBER('System Results'!HC41),'System Results'!HC41,0)","v":0},{"$f":"+IF(ISNUMBER('System Results'!HF41),'System Results'!HF41,0)","v":0},{"$f":"+IF(ISNUMBER('System Results'!HI41),'System Results'!HI41,0)","v":0},{"$f":"+IF(ISNUMBER('System Results'!HL41),'System Results'!HL41,0)","v":0},{"$f":"+IF(ISNUMBER('System Results'!HO41),'System Results'!HO41,0)","v":0},{"$f":"+IF(ISNUMBER('System Results'!HR41),'System Results'!HR41,0)","v":0},{"$f":"+IF(ISNUMBER('System Results'!HU41),'System Results'!HU41,0)","v":0},{"$f":"+IF(ISNUMBER('System Results'!HX41),'System Results'!HX41,0)","v":0},{"$f":"+IF(ISNUMBER('System Results'!IA41),'System Results'!IA41,0)","v":0},{"$f":"+IF(ISNUMBER('System Results'!ID41),'System Results'!ID41,0)","v":0},{"$f":"+IF(ISNUMBER('System Results'!IG41),'System Results'!IG41,0)","v":0},{"$f":"+IF(ISNUMBER('System Results'!IJ41),'System Results'!IJ41,0)","v":0},{"$f":"+IF(ISNUMBER('System Results'!IM41),'System Results'!IM41,0)","v":0},{"$f":"+IF(ISNUMBER('System Results'!IP41),'System Results'!IP41,0)","v":0},{"$f":"+IF(ISNUMBER('System Results'!IS41),'System Results'!IS41,0)","v":0},{"$f":"+IF(ISNUMBER('System Results'!IV41),'System Results'!IV41,0)","v":0},{"$f":"+IF(ISNUMBER('System Results'!IY41),'System Results'!IY41,0)","v":0},{"$f":"+IF(ISNUMBER('System Results'!JB41),'System Results'!JB41,0)","v":0},{"$f":"+IF(ISNUMBER('System Results'!JE41),'System Results'!JE41,0)","v":0},{"$f":"+IF(ISNUMBER('System Results'!JH41),'System Results'!JH41,0)","v":0},{"$f":"+IF(ISNUMBER('System Results'!JK41),'System Results'!JK41,0)","v":0},{"$f":"+IF(ISNUMBER('System Results'!JN41),'System Results'!JN41,0)","v":0},{"$f":"+IF(ISNUMBER('System Results'!JQ41),'System Results'!JQ41,0)","v":0},{"$f":"+IF(ISNUMBER('System Results'!JT41),'System Results'!JT41,0)","v":0},{"$f":"+IF(ISNUMBER('System Results'!JW41),'System Results'!JW41,0)","v":0},{"$f":"+IF(ISNUMBER('System Results'!JZ41),'System Results'!JZ41,0)","v":0},{"$f":"+IF(ISNUMBER('System Results'!KC41),'System Results'!KC41,0)","v":0},{"$f":"+IF(ISNUMBER('System Results'!KF41),'System Results'!KF41,0)","v":0},{"$f":"+IF(ISNUMBER('System Results'!KI41),'System Results'!KI41,0)","v":0},{"$f":"+IF(ISNUMBER('System Results'!KL41),'System Results'!KL41,0)","v":0},{"$f":"+IF(ISNUMBER('System Results'!KO41),'System Results'!KO41,0)","v":0},{"$f":"+IF(ISNUMBER('System Results'!KR41),'System Results'!KR41,0)","v":0},{"$f":"+IF(ISNUMBER('System Results'!KU41),'System Results'!KU41,0)","v":0},{"$f":"+IF(ISNUMBER('System Results'!KX41),'System Results'!KX41,0)","v":0},{"$f":"+IF(ISNUMBER('System Results'!LA41),'System Results'!LA41,0)","v":0},{"$f":"+IF(ISNUMBER('System Results'!LD41),'System Results'!LD41,0)","v":0},{"$f":"+IF(ISNUMBER('System Results'!LG41),'System Results'!LG41,0)","v":0},{"$f":"+IF(ISNUMBER('System Results'!LJ41),'System Results'!LJ41,0)","v":0},{"$f":"+IF(ISNUMBER('System Results'!LM41),'System Results'!LM41,0)","v":0},{"$f":"+IF(ISNUMBER('System Results'!LP41),'System Results'!LP41,0)","v":0},{"$f":"+IF(ISNUMBER('System Results'!LS41),'System Results'!LS41,0)","v":0},{"$f":"+IF(ISNUMBER('System Results'!LV41),'System Results'!LV41,0)","v":0},{"$f":"+IF(ISNUMBER('System Results'!LY41),'System Results'!LY41,0)","v":0},{"$f":"+IF(ISNUMBER('System Results'!MB41),'System Results'!MB41,0)","v":0},{"$f":"+IF(ISNUMBER('System Results'!ME41),'System Results'!ME41,0)","v":0},{"$f":"+IF(ISNUMBER('System Results'!MH41),'System Results'!MH41,0)","v":0},{"$f":"+IF(ISNUMBER('System Results'!MK41),'System Results'!MK41,0)","v":0},{"$f":"+IF(ISNUMBER('System Results'!MN41),'System Results'!MN41,0)","v":0},{"$f":"+IF(ISNUMBER('System Results'!MQ41),'System Results'!MQ41,0)","v":0},{"$f":"+IF(ISNUMBER('System Results'!MT41),'System Results'!MT41,0)","v":0},{"$f":"+IF(ISNUMBER('System Results'!MW41),'System Results'!MW41,0)","v":0},{"$f":"+IF(ISNUMBER('System Results'!MZ41),'System Results'!MZ41,0)","v":0},{"$f":"+IF(ISNUMBER('System Results'!NC41),'System Results'!NC41,0)","v":0},{"$f":"+IF(ISNUMBER('System Results'!NF41),'System Results'!NF41,0)","v":0},{"$f":"+IF(ISNUMBER('System Results'!NI41),'System Results'!NI41,0)","v":0},{"$f":"+IF(ISNUMBER('System Results'!NL41),'System Results'!NL41,0)","v":0},{"$f":"+IF(ISNUMBER('System Results'!NO41),'System Results'!NO41,0)","v":0},{"$f":"+IF(ISNUMBER('System Results'!NR41),'System Results'!NR41,0)","v":0},{"$f":"+IF(ISNUMBER('System Results'!NU41),'System Results'!NU41,0)","v":0},{"$f":"+IF(ISNUMBER('System Results'!NX41),'System Results'!NX41,0)","v":0},{"$f":"+IF(ISNUMBER('System Results'!OA41),'System Results'!OA41,0)","v":0},{"$f":"+IF(ISNUMBER('System Results'!OD41),'System Results'!OD41,0)","v":0},{"$f":"+IF(ISNUMBER('System Results'!OG41),'System Results'!OG41,0)","v":0},{"$f":"+IF(ISNUMBER('System Results'!OJ41),'System Results'!OJ41,0)","v":0},{"$f":"+IF(ISNUMBER('System Results'!OM41),'System Results'!OM41,0)","v":0},{"$f":"+IF(ISNUMBER('System Results'!OP41),'System Results'!OP41,0)","v":0},{"$f":"+IF(ISNUMBER('System Results'!OS41),'System Results'!OS41,0)","v":0},{"$f":"+IF(ISNUMBER('System Results'!OV41),'System Results'!OV41,0)","v":0},{"$f":"+IF(ISNUMBER('System Results'!OY41),'System Results'!OY41,0)","v":0},{"$f":"+IF(ISNUMBER('System Results'!PB41),'System Results'!PB41,0)","v":0},{"$f":"+IF(ISNUMBER('System Results'!PE41),'System Results'!PE41,0)","v":0},{"$f":"+IF(ISNUMBER('System Results'!PH41),'System Results'!PH41,0)","v":0},{"$f":"+IF(ISNUMBER('System Results'!PK41),'System Results'!PK41,0)","v":0},{"$f":"+IF(ISNUMBER('System Results'!PN41),'System Results'!PN41,0)","v":0},{"$f":"+IF(ISNUMBER('System Results'!PQ41),'System Results'!PQ41,0)","v":0},{"$f":"+IF(ISNUMBER('System Results'!PT41),'System Results'!PT41,0)","v":0},{"$f":"+IF(ISNUMBER('System Results'!PW41),'System Results'!PW41,0)","v":0},{"$f":"+IF(ISNUMBER('System Results'!PZ41),'System Results'!PZ41,0)","v":0},{"$f":"+IF(ISNUMBER('System Results'!QC41),'System Results'!QC41,0)","v":0},{"$f":"+IF(ISNUMBER('System Results'!QF41),'System Results'!QF41,0)","v":0},{"$f":"+IF(ISNUMBER('System Results'!QI41),'System Results'!QI41,0)","v":0},{"$f":"+IF(ISNUMBER('System Results'!QL41),'System Results'!QL41,0)","v":0},{"$f":"+IF(ISNUMBER('System Results'!QO41),'System Results'!QO41,0)","v":0},{"$f":"+IF(ISNUMBER('System Results'!QR41),'System Results'!QR41,0)","v":0},{"$f":"+IF(ISNUMBER('System Results'!QU41),'System Results'!QU41,0)","v":0},{"$f":"+IF(ISNUMBER('System Results'!QX41),'System Results'!QX41,0)","v":0},{"$f":"+IF(ISNUMBER('System Results'!RA41),'System Results'!RA41,0)","v":0},{"$f":"+IF(ISNUMBER('System Results'!RD41),'System Results'!RD41,0)","v":0},{"$f":"+IF(ISNUMBER('System Results'!RG41),'System Results'!RG41,0)","v":0},{"$f":"+IF(ISNUMBER('System Results'!RJ41),'System Results'!RJ41,0)","v":0},{"$f":"+IF(ISNUMBER('System Results'!RM41),'System Results'!RM41,0)","v":0},{"$f":"+IF(ISNUMBER('System Results'!RP41),'System Results'!RP41,0)","v":0},{"$f":"+IF(ISNUMBER('System Results'!RS41),'System Results'!RS41,0)","v":0},{"$f":"+IF(ISNUMBER('System Results'!RV41),'System Results'!RV41,0)","v":0},{"$f":"+IF(ISNUMBER('System Results'!RY41),'System Results'!RY41,0)","v":0},{"$f":"+IF(ISNUMBER('System Results'!SB41),'System Results'!SB41,0)","v":0},{"$f":"+IF(ISNUMBER('System Results'!SE41),'System Results'!SE41,0)","v":0},{"$f":"+IF(ISNUMBER('System Results'!SH41),'System Results'!SH41,0)","v":0},{"$f":"+IF(ISNUMBER('System Results'!SK41),'System Results'!SK41,0)","v":0},{"$f":"+IF(ISNUMBER('System Results'!SN41),'System Results'!SN41,0)","v":0},{"$f":"+IF(ISNUMBER('System Results'!SQ41),'System Results'!SQ41,0)","v":0},{"$f":"+IF(ISNUMBER('System Results'!ST41),'System Results'!ST41,0)","v":0},{"$f":"+IF(ISNUMBER('System Results'!SW41),'System Results'!SW41,0)","v":0},{"$f":"+IF(ISNUMBER('System Results'!SZ41),'System Results'!SZ41,0)","v":0},{"$f":"+IF(ISNUMBER('System Results'!TC41),'System Results'!TC41,0)","v":0},{"$f":"+IF(ISNUMBER('System Results'!TF41),'System Results'!TF41,0)","v":0},{"$f":"+IF(ISNUMBER('System Results'!TI41),'System Results'!TI41,0)","v":0},{"$f":"+IF(ISNUMBER('System Results'!TL41),'System Results'!TL41,0)","v":0},{"$f":"+IF(ISNUMBER('System Results'!TO41),'System Results'!TO41,0)","v":0},{"$f":"+IF(ISNUMBER('System Results'!TR41),'System Results'!TR41,0)","v":0},{"$f":"+IF(ISNUMBER('System Results'!TU41),'System Results'!TU41,0)","v":0},{"$f":"+IF(ISNUMBER('System Results'!TX41),'System Results'!TX41,0)","v":0},{"$f":"+IF(ISNUMBER('System Results'!UA41),'System Results'!UA41,0)","v":0},{"$f":"+IF(ISNUMBER('System Results'!UD41),'System Results'!UD41,0)","v":0},{"$f":"+IF(ISNUMBER('System Results'!UG41),'System Results'!UG41,0)","v":0},{"$f":"+IF(ISNUMBER('System Results'!UJ41),'System Results'!UJ41,0)","v":0},{"$f":"+IF(ISNUMBER('System Results'!UM41),'System Results'!UM41,0)","v":0},{"$f":"+IF(ISNUMBER('System Results'!UP41),'System Results'!UP41,0)","v":0},{"$f":"+IF(ISNUMBER('System Results'!US41),'System Results'!US41,0)","v":0},{"$f":"+IF(ISNUMBER('System Results'!UV41),'System Results'!UV41,0)","v":0},{"$f":"+IF(ISNUMBER('System Results'!UY41),'System Results'!UY41,0)","v":0},{"$f":"+IF(ISNUMBER('System Results'!VB41),'System Results'!VB41,0)","v":0},{"$f":"+IF(ISNUMBER('System Results'!VE41),'System Results'!VE41,0)","v":0},{"$f":"+IF(ISNUMBER('System Results'!VH41),'System Results'!VH41,0)","v":0},{"$f":"+IF(ISNUMBER('System Results'!VK41),'System Results'!VK41,0)","v":0},{"$f":"+IF(ISNUMBER('System Results'!VN41),'System Results'!VN41,0)","v":0},{"$f":"+IF(ISNUMBER('System Results'!VQ41),'System Results'!VQ41,0)","v":0},{"$f":"+IF(ISNUMBER('System Results'!VT41),'System Results'!VT41,0)","v":0},{"$f":"+IF(ISNUMBER('System Results'!VW41),'System Results'!VW41,0)","v":0},{"$f":"+IF(ISNUMBER('System Results'!VZ41),'System Results'!VZ41,0)","v":0},{"$f":"+IF(ISNUMBER('System Results'!WC41),'System Results'!WC41,0)","v":0},{"$f":"+IF(ISNUMBER('System Results'!WF41),'System Results'!WF41,0)","v":0},{"$f":"+IF(ISNUMBER('System Results'!WI41),'System Results'!WI41,0)","v":0},{"$f":"+IF(ISNUMBER('System Results'!WL41),'System Results'!WL41,0)","v":0},{"$f":"+IF(ISNUMBER('System Results'!WO41),'System Results'!WO41,0)","v":0},{"$f":"+IF(ISNUMBER('System Results'!WR41),'System Results'!WR41,0)","v":0},{"$f":"+IF(ISNUMBER('System Results'!WU41),'System Results'!WU41,0)","v":0},{"$f":"+IF(ISNUMBER('System Results'!WX41),'System Results'!WX41,0)","v":0},{"$f":"+IF(ISNUMBER('System Results'!XA41),'System Results'!XA41,0)","v":0},{"$f":"+IF(ISNUMBER('System Results'!XD41),'System Results'!XD41,0)","v":0},{"$f":"+IF(ISNUMBER('System Results'!XG41),'System Results'!XG41,0)","v":0},{"$f":"+IF(ISNUMBER('System Results'!XJ41),'System Results'!XJ41,0)","v":0},{"$f":"+IF(ISNUMBER('System Results'!XM41),'System Results'!XM41,0)","v":0},{"$f":"+IF(ISNUMBER('System Results'!XP41),'System Results'!XP41,0)","v":0},{"$f":"+IF(ISNUMBER('System Results'!XS41),'System Results'!XS41,0)","v":0},{"$f":"+IF(ISNUMBER('System Results'!XV41),'System Results'!XV41,0)","v":0},{"$f":"+IF(ISNUMBER('System Results'!XY41),'System Results'!XY41,0)","v":0},{"$f":"+IF(ISNUMBER('System Results'!YB41),'System Results'!YB41,0)","v":0},{"$f":"+IF(ISNUMBER('System Results'!YE41),'System Results'!YE41,0)","v":0},{"$f":"+IF(ISNUMBER('System Results'!YH41),'System Results'!YH41,0)","v":0},{"$f":"+IF(ISNUMBER('System Results'!YK41),'System Results'!YK41,0)","v":0},{"$f":"+IF(ISNUMBER('System Results'!YN41),'System Results'!YN41,0)","v":0},{"$f":"+IF(ISNUMBER('System Results'!YQ41),'System Results'!YQ41,0)","v":0},{"$f":"+IF(ISNUMBER('System Results'!YT41),'System Results'!YT41,0)","v":0},{"$f":"+IF(ISNUMBER('System Results'!YW41),'System Results'!YW41,0)","v":0},{"$f":"+IF(ISNUMBER('System Results'!YZ41),'System Results'!YZ41,0)","v":0},{"$f":"+IF(ISNUMBER('System Results'!ZC41),'System Results'!ZC41,0)","v":0},{"$f":"+IF(ISNUMBER('System Results'!ZF41),'System Results'!ZF41,0)","v":0},{"$f":"+IF(ISNUMBER('System Results'!ZI41),'System Results'!ZI41,0)","v":0},{"$f":"+IF(ISNUMBER('System Results'!ZL41),'System Results'!ZL41,0)","v":0},{"$f":"+IF(ISNUMBER('System Results'!ZO41),'System Results'!ZO41,0)","v":0},{"$f":"+IF(ISNUMBER('System Results'!ZR41),'System Results'!ZR41,0)","v":0},{"$f":"+IF(ISNUMBER('System Results'!ZU41),'System Results'!ZU41,0)","v":0},{"$f":"+IF(ISNUMBER('System Results'!ZX41),'System Results'!ZX41,0)","v":0},{"$f":"+IF(ISNUMBER('System Results'!AAA41),'System Results'!AAA41,0)","v":0},{"$f":"+IF(ISNUMBER('System Results'!AAD41),'System Results'!AAD41,0)","v":0},{"$f":"+IF(ISNUMBER('System Results'!AAG41),'System Results'!AAG41,0)","v":0},{"$f":"+IF(ISNUMBER('System Results'!AAJ41),'System Results'!AAJ41,0)","v":0},{"$f":"+IF(ISNUMBER('System Results'!AAM41),'System Results'!AAM41,0)","v":0},{"$f":"+IF(ISNUMBER('System Results'!AAP41),'System Results'!AAP41,0)","v":0},{"$f":"+IF(ISNUMBER('System Results'!AAS41),'System Results'!AAS41,0)","v":0},{"$f":"+IF(ISNUMBER('System Results'!AAV41),'System Results'!AAV41,0)","v":0},{"$f":"+IF(ISNUMBER('System Results'!AAY41),'System Results'!AAY41,0)","v":0},{"$f":"+IF(ISNUMBER('System Results'!ABB41),'System Results'!ABB41,0)","v":0},{"$f":"+IF(ISNUMBER('System Results'!ABE41),'System Results'!ABE41,0)","v":0},{"$f":"+IF(ISNUMBER('System Results'!ABH41),'System Results'!ABH41,0)","v":0},{"$f":"+IF(ISNUMBER('System Results'!ABK41),'System Results'!ABK41,0)","v":0},{"$f":"+IF(ISNUMBER('System Results'!ABN41),'System Results'!ABN41,0)","v":0},{"$f":"+IF(ISNUMBER('System Results'!ABQ41),'System Results'!ABQ41,0)","v":0},{"$f":"+IF(ISNUMBER('System Results'!ABT41),'System Results'!ABT41,0)","v":0},{"$f":"+IF(ISNUMBER('System Results'!ABW41),'System Results'!ABW41,0)","v":0},{"$f":"+IF(ISNUMBER('System Results'!ABZ41),'System Results'!ABZ41,0)","v":0},{"$f":"+IF(ISNUMBER('System Results'!ACC41),'System Results'!ACC41,0)","v":0},{"$f":"+IF(ISNUMBER('System Results'!ACF41),'System Results'!ACF41,0)","v":0},{"$f":"+IF(ISNUMBER('System Results'!ACI41),'System Results'!ACI41,0)","v":0},{"$f":"+IF(ISNUMBER('System Results'!ACL41),'System Results'!ACL41,0)","v":0},{"$f":"+IF(ISNUMBER('System Results'!ACO41),'System Results'!ACO41,0)","v":0},{"$f":"+IF(ISNUMBER('System Results'!ACR41),'System Results'!ACR41,0)","v":0},{"$f":"+IF(ISNUMBER('System Results'!ACU41),'System Results'!ACU41,0)","v":0},{"$f":"+IF(ISNUMBER('System Results'!ACX41),'System Results'!ACX41,0)","v":0},{"$f":"+IF(ISNUMBER('System Results'!ADA41),'System Results'!ADA41,0)","v":0},{"$f":"+IF(ISNUMBER('System Results'!ADD41),'System Results'!ADD41,0)","v":0},{"$f":"+IF(ISNUMBER('System Results'!ADG41),'System Results'!ADG41,0)","v":0},{"$f":"+IF(ISNUMBER('System Results'!ADJ41),'System Results'!ADJ41,0)","v":0},{"$f":"+IF(ISNUMBER('System Results'!ADM41),'System Results'!ADM41,0)","v":0},{"$f":"+IF(ISNUMBER('System Results'!ADP41),'System Results'!ADP41,0)","v":0},{"$f":"+IF(ISNUMBER('System Results'!ADS41),'System Results'!ADS41,0)","v":0},{"$f":"+IF(ISNUMBER('System Results'!ADV41),'System Results'!ADV41,0)","v":0},{"$f":"+IF(ISNUMBER('System Results'!ADY41),'System Results'!ADY41,0)","v":0},{"$f":"+IF(ISNUMBER('System Results'!AEB41),'System Results'!AEB41,0)","v":0},{"$f":"+IF(ISNUMBER('System Results'!AEE41),'System Results'!AEE41,0)","v":0},{"$f":"+IF(ISNUMBER('System Results'!AEH41),'System Results'!AEH41,0)","v":0},{"$f":"+IF(ISNUMBER('System Results'!AEK41),'System Results'!AEK41,0)","v":0},{"$f":"+IF(ISNUMBER('System Results'!AEN41),'System Results'!AEN41,0)","v":0},{"$f":"+IF(ISNUMBER('System Results'!AEQ41),'System Results'!AEQ41,0)","v":0},{"$f":"+IF(ISNUMBER('System Results'!AET41),'System Results'!AET41,0)","v":0},{"$f":"+IF(ISNUMBER('System Results'!AEW41),'System Results'!AEW41,0)","v":0},{"$f":"+IF(ISNUMBER('System Results'!AEZ41),'System Results'!AEZ41,0)","v":0},{"$f":"+IF(ISNUMBER('System Results'!AFC41),'System Results'!AFC41,0)","v":0},{"$f":"+IF(ISNUMBER('System Results'!AFF41),'System Results'!AFF41,0)","v":0},{"$f":"+IF(ISNUMBER('System Results'!AFI41),'System Results'!AFI41,0)","v":0},{"$f":"+IF(ISNUMBER('System Results'!AFL41),'System Results'!AFL41,0)","v":0},{"$f":"+IF(ISNUMBER('System Results'!AFO41),'System Results'!AFO41,0)","v":0},{"$f":"+IF(ISNUMBER('System Results'!AFR41),'System Results'!AFR41,0)","v":0},{"$f":"+IF(ISNUMBER('System Results'!AFU41),'System Results'!AFU41,0)","v":0},{"$f":"+IF(ISNUMBER('System Results'!AFX41),'System Results'!AFX41,0)","v":0},{"$f":"+IF(ISNUMBER('System Results'!AGA41),'System Results'!AGA41,0)","v":0},{"$f":"+IF(ISNUMBER('System Results'!AGD41),'System Results'!AGD41,0)","v":0},{"$f":"+IF(ISNUMBER('System Results'!AGG41),'System Results'!AGG41,0)","v":0},{"$f":"+IF(ISNUMBER('System Results'!AGJ41),'System Results'!AGJ41,0)","v":0},{"$f":"+IF(ISNUMBER('System Results'!AGM41),'System Results'!AGM41,0)","v":0},{"$f":"+IF(ISNUMBER('System Results'!AGP41),'System Results'!AGP41,0)","v":0},{"$f":"+IF(ISNUMBER('System Results'!AGS41),'System Results'!AGS41,0)","v":0},{"$f":"+IF(ISNUMBER('System Results'!AGV41),'System Results'!AGV41,0)","v":0},{"$f":"+IF(ISNUMBER('System Results'!AGY41),'System Results'!AGY41,0)","v":0},{"$f":"+IF(ISNUMBER('System Results'!AHB41),'System Results'!AHB41,0)","v":0},{"$f":"+IF(ISNUMBER('System Results'!AHE41),'System Results'!AHE41,0)","v":0},{"$f":"+IF(ISNUMBER('System Results'!AHH41),'System Results'!AHH41,0)","v":0},{"$f":"+IF(ISNUMBER('System Results'!AHK41),'System Results'!AHK41,0)","v":0},{"$f":"+IF(ISNUMBER('System Results'!AHN41),'System Results'!AHN41,0)","v":0},{"$f":"+IF(ISNUMBER('System Results'!AHQ41),'System Results'!AHQ41,0)","v":0},{"$f":"+IF(ISNUMBER('System Results'!AHT41),'System Results'!AHT41,0)","v":0}]
["Scope 3",{"$f":"+'System Results'!B42","v":"Business travel"},0,{"$f":"+IF(ISNUMBER('System Results'!G42),'System Results'!G42,0)","v":0},{"$f":"+IF(ISNUMBER('System Results'!J42),'System Results'!J42,0)","v":0},{"$f":"+IF(ISNUMBER('System Results'!M42),'System Results'!M42,0)","v":0},{"$f":"+IF(ISNUMBER('System Results'!P42),'System Results'!P42,0)","v":0},{"$f":"+IF(ISNUMBER('System Results'!S42),'System Results'!S42,0)","v":0},{"$f":"+IF(ISNUMBER('System Results'!V42),'System Results'!V42,0)","v":0},{"$f":"+IF(ISNUMBER('System Results'!Y42),'System Results'!Y42,0)","v":0},{"$f":"+IF(ISNUMBER('System Results'!AB42),'System Results'!AB42,0)","v":0},{"$f":"+IF(ISNUMBER('System Results'!AE42),'System Results'!AE42,0)","v":0},{"$f":"+IF(ISNUMBER('System Results'!AH42),'System Results'!AH42,0)","v":0},{"$f":"+IF(ISNUMBER('System Results'!AK42),'System Results'!AK42,0)","v":0},{"$f":"+IF(ISNUMBER('System Results'!AN42),'System Results'!AN42,0)","v":0},{"$f":"+IF(ISNUMBER('System Results'!AQ42),'System Results'!AQ42,0)","v":0},{"$f":"+IF(ISNUMBER('System Results'!AT42),'System Results'!AT42,0)","v":0},{"$f":"+IF(ISNUMBER('System Results'!AW42),'System Results'!AW42,0)","v":0},{"$f":"+IF(ISNUMBER('System Results'!AZ42),'System Results'!AZ42,0)","v":0},{"$f":"+IF(ISNUMBER('System Results'!BC42),'System Results'!BC42,0)","v":0},{"$f":"+IF(ISNUMBER('System Results'!BF42),'System Results'!BF42,0)","v":0},{"$f":"+IF(ISNUMBER('System Results'!BI42),'System Results'!BI42,0)","v":0},{"$f":"+IF(ISNUMBER('System Results'!BL42),'System Results'!BL42,0)","v":0},{"$f":"+IF(ISNUMBER('System Results'!BO42),'System Results'!BO42,0)","v":0},{"$f":"+IF(ISNUMBER('System Results'!BR42),'System Results'!BR42,0)","v":0},{"$f":"+IF(ISNUMBER('System Results'!BU42),'System Results'!BU42,0)","v":0},{"$f":"+IF(ISNUMBER('System Results'!BX42),'System Results'!BX42,0)","v":0},{"$f":"+IF(ISNUMBER('System Results'!CA42),'System Results'!CA42,0)","v":0},{"$f":"+IF(ISNUMBER('System Results'!CD42),'System Results'!CD42,0)","v":0},{"$f":"+IF(ISNUMBER('System Results'!CG42),'System Results'!CG42,0)","v":0},{"$f":"+IF(ISNUMBER('System Results'!CJ42),'System Results'!CJ42,0)","v":0},{"$f":"+IF(ISNUMBER('System Results'!CM42),'System Results'!CM42,0)","v":0},{"$f":"+IF(ISNUMBER('System Results'!CP42),'System Results'!CP42,0)","v":0},{"$f":"+IF(ISNUMBER('System Results'!CS42),'System Results'!CS42,0)","v":0},{"$f":"+IF(ISNUMBER('System Results'!CV42),'System Results'!CV42,0)","v":0},{"$f":"+IF(ISNUMBER('System Results'!CY42),'System Results'!CY42,0)","v":0},{"$f":"+IF(ISNUMBER('System Results'!DB42),'System Results'!DB42,0)","v":0},{"$f":"+IF(ISNUMBER('System Results'!DE42),'System Results'!DE42,0)","v":0},{"$f":"+IF(ISNUMBER('System Results'!DH42),'System Results'!DH42,0)","v":0},{"$f":"+IF(ISNUMBER('System Results'!DK42),'System Results'!DK42,0)","v":0},{"$f":"+IF(ISNUMBER('System Results'!DN42),'System Results'!DN42,0)","v":0},{"$f":"+IF(ISNUMBER('System Results'!DQ42),'System Results'!DQ42,0)","v":0},{"$f":"+IF(ISNUMBER('System Results'!DT42),'System Results'!DT42,0)","v":0},{"$f":"+IF(ISNUMBER('System Results'!DW42),'System Results'!DW42,0)","v":0},{"$f":"+IF(ISNUMBER('System Results'!DZ42),'System Results'!DZ42,0)","v":0},{"$f":"+IF(ISNUMBER('System Results'!EC42),'System Results'!EC42,0)","v":0},{"$f":"+IF(ISNUMBER('System Results'!EF42),'System Results'!EF42,0)","v":0},{"$f":"+IF(ISNUMBER('System Results'!EI42),'System Results'!EI42,0)","v":0},{"$f":"+IF(ISNUMBER('System Results'!EL42),'System Results'!EL42,0)","v":0},{"$f":"+IF(ISNUMBER('System Results'!EO42),'System Results'!EO42,0)","v":0},{"$f":"+IF(ISNUMBER('System Results'!ER42),'System Results'!ER42,0)","v":0},{"$f":"+IF(ISNUMBER('System Results'!EU42),'System Results'!EU42,0)","v":0},{"$f":"+IF(ISNUMBER('System Results'!EX42),'System Results'!EX42,0)","v":0},{"$f":"+IF(ISNUMBER('System Results'!FA42),'System Results'!FA42,0)","v":0},{"$f":"+IF(ISNUMBER('System Results'!FD42),'System Results'!FD42,0)","v":0},{"$f":"+IF(ISNUMBER('System Results'!FG42),'System Results'!FG42,0)","v":0},{"$f":"+IF(ISNUMBER('System Results'!FJ42),'System Results'!FJ42,0)","v":0},{"$f":"+IF(ISNUMBER('System Results'!FM42),'System Results'!FM42,0)","v":0},{"$f":"+IF(ISNUMBER('System Results'!FP42),'System Results'!FP42,0)","v":0},{"$f":"+IF(ISNUMBER('System Results'!FS42),'System Results'!FS42,0)","v":0},{"$f":"+IF(ISNUMBER('System Results'!FV42),'System Results'!FV42,0)","v":0},{"$f":"+IF(ISNUMBER('System Results'!FY42),'System Results'!FY42,0)","v":0},{"$f":"+IF(ISNUMBER('System Results'!GB42),'System Results'!GB42,0)","v":0},{"$f":"+IF(ISNUMBER('System Results'!GE42),'System Results'!GE42,0)","v":0},{"$f":"+IF(ISNUMBER('System Results'!GH42),'System Results'!GH42,0)","v":0},{"$f":"+IF(ISNUMBER('System Results'!GK42),'System Results'!GK42,0)","v":0},{"$f":"+IF(ISNUMBER('System Results'!GN42),'System Results'!GN42,0)","v":0},{"$f":"+IF(ISNUMBER('System Results'!GQ42),'System Results'!GQ42,0)","v":0},{"$f":"+IF(ISNUMBER('System Results'!GT42),'System Results'!GT42,0)","v":0},{"$f":"+IF(ISNUMBER('System Results'!GW42),'System Results'!GW42,0)","v":0},{"$f":"+IF(ISNUMBER('System Results'!GZ42),'System Results'!GZ42,0)","v":0},{"$f":"+IF(ISNUMBER('System Results'!HC42),'System Results'!HC42,0)","v":0},{"$f":"+IF(ISNUMBER('System Results'!HF42),'System Results'!HF42,0)","v":0},{"$f":"+IF(ISNUMBER('System Results'!HI42),'System Results'!HI42,0)","v":0},{"$f":"+IF(ISNUMBER('System Results'!HL42),'System Results'!HL42,0)","v":0},{"$f":"+IF(ISNUMBER('System Results'!HO42),'System Results'!HO42,0)","v":0},{"$f":"+IF(ISNUMBER('System Results'!HR42),'System Results'!HR42,0)","v":0},{"$f":"+IF(ISNUMBER('System Results'!HU42),'System Results'!HU42,0)","v":0},{"$f":"+IF(ISNUMBER('System Results'!HX42),'System Results'!HX42,0)","v":0},{"$f":"+IF(ISNUMBER('System Results'!IA42),'System Results'!IA42,0)","v":0},{"$f":"+IF(ISNUMBER('System Results'!ID42),'System Results'!ID42,0)","v":0},{"$f":"+IF(ISNUMBER('System Results'!IG42),'System Results'!IG42,0)","v":0},{"$f":"+IF(ISNUMBER('System Results'!IJ42),'System Results'!IJ42,0)","v":0},{"$f":"+IF(ISNUMBER('System Results'!IM42),'System Results'!IM42,0)","v":0},{"$f":"+IF(ISNUMBER('System Results'!IP42),'System Results'!IP42,0)","v":0},{"$f":"+IF(ISNUMBER('System Results'!IS42),'System Results'!IS42,0)","v":0},{"$f":"+IF(ISNUMBER('System Results'!IV42),'System Results'!IV42,0)","v":0},{"$f":"+IF(ISNUMBER('System Results'!IY42),'System Results'!IY42,0)","v":0},{"$f":"+IF(ISNUMBER('System Results'!JB42),'System Results'!JB42,0)","v":0},{"$f":"+IF(ISNUMBER('System Results'!JE42),'System Results'!JE42,0)","v":0},{"$f":"+IF(ISNUMBER('System Results'!JH42),'System Results'!JH42,0)","v":0},{"$f":"+IF(ISNUMBER('System Results'!JK42),'System Results'!JK42,0)","v":0},{"$f":"+IF(ISNUMBER('System Results'!JN42),'System Results'!JN42,0)","v":0},{"$f":"+IF(ISNUMBER('System Results'!JQ42),'System Results'!JQ42,0)","v":0},{"$f":"+IF(ISNUMBER('System Results'!JT42),'System Results'!JT42,0)","v":0},{"$f":"+IF(ISNUMBER('System Results'!JW42),'System Results'!JW42,0)","v":0},{"$f":"+IF(ISNUMBER('System Results'!JZ42),'System Results'!JZ42,0)","v":0},{"$f":"+IF(ISNUMBER('System Results'!KC42),'System Results'!KC42,0)","v":0},{"$f":"+IF(ISNUMBER('System Results'!KF42),'System Results'!KF42,0)","v":0},{"$f":"+IF(ISNUMBER('System Results'!KI42),'System Results'!KI42,0)","v":0},{"$f":"+IF(ISNUMBER('System Results'!KL42),'System Results'!KL42,0)","v":0},{"$f":"+IF(ISNUMBER('System Results'!KO42),'System Results'!KO42,0)","v":0},{"$f":"+IF(ISNUMBER('System Results'!KR42),'System Results'!KR42,0)","v":0},{"$f":"+IF(ISNUMBER('System Results'!KU42),'System Results'!KU42,0)","v":0},{"$f":"+IF(ISNUMBER('System Results'!KX42),'System Results'!KX42,0)","v":0},{"$f":"+IF(ISNUMBER('System Results'!LA42),'System Results'!LA42,0)","v":0},{"$f":"+IF(ISNUMBER('System Results'!LD42),'System Results'!LD42,0)","v":0},{"$f":"+IF(ISNUMBER('System Results'!LG42),'System Results'!LG42,0)","v":0},{"$f":"+IF(ISNUMBER('System Results'!LJ42),'System Results'!LJ42,0)","v":0},{"$f":"+IF(ISNUMBER('System Results'!LM42),'System Results'!LM42,0)","v":0},{"$f":"+IF(ISNUMBER('System Results'!LP42),'System Results'!LP42,0)","v":0},{"$f":"+IF(ISNUMBER('System Results'!LS42),'System Results'!LS42,0)","v":0},{"$f":"+IF(ISNUMBER('System Results'!LV42),'System Results'!LV42,0)","v":0},{"$f":"+IF(ISNUMBER('System Results'!LY42),'System Results'!LY42,0)","v":0},{"$f":"+IF(ISNUMBER('System Results'!MB42),'System Results'!MB42,0)","v":0},{"$f":"+IF(ISNUMBER('System Results'!ME42),'System Results'!ME42,0)","v":0},{"$f":"+IF(ISNUMBER('System Results'!MH42),'System Results'!MH42,0)","v":0},{"$f":"+IF(ISNUMBER('System Results'!MK42),'System Results'!MK42,0)","v":0},{"$f":"+IF(ISNUMBER('System Results'!MN42),'System Results'!MN42,0)","v":0},{"$f":"+IF(ISNUMBER('System Results'!MQ42),'System Results'!MQ42,0)","v":0},{"$f":"+IF(ISNUMBER('System Results'!MT42),'System Results'!MT42,0)","v":0},{"$f":"+IF(ISNUMBER('System Results'!MW42),'System Results'!MW42,0)","v":0},{"$f":"+IF(ISNUMBER('System Results'!MZ42),'System Results'!MZ42,0)","v":0},{"$f":"+IF(ISNUMBER('System Results'!NC42),'System Results'!NC42,0)","v":0},{"$f":"+IF(ISNUMBER('System Results'!NF42),'System Results'!NF42,0)","v":0},{"$f":"+IF(ISNUMBER('System Results'!NI42),'System Results'!NI42,0)","v":0},{"$f":"+IF(ISNUMBER('System Results'!NL42),'System Results'!NL42,0)","v":0},{"$f":"+IF(ISNUMBER('System Results'!NO42),'System Results'!NO42,0)","v":0},{"$f":"+IF(ISNUMBER('System Results'!NR42),'System Results'!NR42,0)","v":0},{"$f":"+IF(ISNUMBER('System Results'!NU42),'System Results'!NU42,0)","v":0},{"$f":"+IF(ISNUMBER('System Results'!NX42),'System Results'!NX42,0)","v":0},{"$f":"+IF(ISNUMBER('System Results'!OA42),'System Results'!OA42,0)","v":0},{"$f":"+IF(ISNUMBER('System Results'!OD42),'System Results'!OD42,0)","v":0},{"$f":"+IF(ISNUMBER('System Results'!OG42),'System Results'!OG42,0)","v":0},{"$f":"+IF(ISNUMBER('System Results'!OJ42),'System Results'!OJ42,0)","v":0},{"$f":"+IF(ISNUMBER('System Results'!OM42),'System Results'!OM42,0)","v":0},{"$f":"+IF(ISNUMBER('System Results'!OP42),'System Results'!OP42,0)","v":0},{"$f":"+IF(ISNUMBER('System Results'!OS42),'System Results'!OS42,0)","v":0},{"$f":"+IF(ISNUMBER('System Results'!OV42),'System Results'!OV42,0)","v":0},{"$f":"+IF(ISNUMBER('System Results'!OY42),'System Results'!OY42,0)","v":0},{"$f":"+IF(ISNUMBER('System Results'!PB42),'System Results'!PB42,0)","v":0},{"$f":"+IF(ISNUMBER('System Results'!PE42),'System Results'!PE42,0)","v":0},{"$f":"+IF(ISNUMBER('System Results'!PH42),'System Results'!PH42,0)","v":0},{"$f":"+IF(ISNUMBER('System Results'!PK42),'System Results'!PK42,0)","v":0},{"$f":"+IF(ISNUMBER('System Results'!PN42),'System Results'!PN42,0)","v":0},{"$f":"+IF(ISNUMBER('System Results'!PQ42),'System Results'!PQ42,0)","v":0},{"$f":"+IF(ISNUMBER('System Results'!PT42),'System Results'!PT42,0)","v":0},{"$f":"+IF(ISNUMBER('System Results'!PW42),'System Results'!PW42,0)","v":0},{"$f":"+IF(ISNUMBER('System Results'!PZ42),'System Results'!PZ42,0)","v":0},{"$f":"+IF(ISNUMBER('System Results'!QC42),'System Results'!QC42,0)","v":0},{"$f":"+IF(ISNUMBER('System Results'!QF42),'System Results'!QF42,0)","v":0},{"$f":"+IF(ISNUMBER('System Results'!QI42),'System Results'!QI42,0)","v":0},{"$f":"+IF(ISNUMBER('System Results'!QL42),'System Results'!QL42,0)","v":0},{"$f":"+IF(ISNUMBER('System Results'!QO42),'System Results'!QO42,0)","v":0},{"$f":"+IF(ISNUMBER('System Results'!QR42),'System Results'!QR42,0)","v":0},{"$f":"+IF(ISNUMBER('System Results'!QU42),'System Results'!QU42,0)","v":0},{"$f":"+IF(ISNUMBER('System Results'!QX42),'System Results'!QX42,0)","v":0},{"$f":"+IF(ISNUMBER('System Results'!RA42),'System Results'!RA42,0)","v":0},{"$f":"+IF(ISNUMBER('System Results'!RD42),'System Results'!RD42,0)","v":0},{"$f":"+IF(ISNUMBER('System Results'!RG42),'System Results'!RG42,0)","v":0},{"$f":"+IF(ISNUMBER('System Results'!RJ42),'System Results'!RJ42,0)","v":0},{"$f":"+IF(ISNUMBER('System Results'!RM42),'System Results'!RM42,0)","v":0},{"$f":"+IF(ISNUMBER('System Results'!RP42),'System Results'!RP42,0)","v":0},{"$f":"+IF(ISNUMBER('System Results'!RS42),'System Results'!RS42,0)","v":0},{"$f":"+IF(ISNUMBER('System Results'!RV42),'System Results'!RV42,0)","v":0},{"$f":"+IF(ISNUMBER('System Results'!RY42),'System Results'!RY42,0)","v":0},{"$f":"+IF(ISNUMBER('System Results'!SB42),'System Results'!SB42,0)","v":0},{"$f":"+IF(ISNUMBER('System Results'!SE42),'System Results'!SE42,0)","v":0},{"$f":"+IF(ISNUMBER('System Results'!SH42),'System Results'!SH42,0)","v":0},{"$f":"+IF(ISNUMBER('System Results'!SK42),'System Results'!SK42,0)","v":0},{"$f":"+IF(ISNUMBER('System Results'!SN42),'System Results'!SN42,0)","v":0},{"$f":"+IF(ISNUMBER('System Results'!SQ42),'System Results'!SQ42,0)","v":0},{"$f":"+IF(ISNUMBER('System Results'!ST42),'System Results'!ST42,0)","v":0},{"$f":"+IF(ISNUMBER('System Results'!SW42),'System Results'!SW42,0)","v":0},{"$f":"+IF(ISNUMBER('System Results'!SZ42),'System Results'!SZ42,0)","v":0},{"$f":"+IF(ISNUMBER('System Results'!TC42),'System Results'!TC42,0)","v":0},{"$f":"+IF(ISNUMBER('System Results'!TF42),'System Results'!TF42,0)","v":0},{"$f":"+IF(ISNUMBER('System Results'!TI42),'System Results'!TI42,0)","v":0},{"$f":"+IF(ISNUMBER('System Results'!TL42),'System Results'!TL42,0)","v":0},{"$f":"+IF(ISNUMBER('System Results'!TO42),'System Results'!TO42,0)","v":0},{"$f":"+IF(ISNUMBER('System Results'!TR42),'System Results'!TR42,0)","v":0},{"$f":"+IF(ISNUMBER('System Results'!TU42),'System Results'!TU42,0)","v":0},{"$f":"+IF(ISNUMBER('System Results'!TX42),'System Results'!TX42,0)","v":0},{"$f":"+IF(ISNUMBER('System Results'!UA42),'System Results'!UA42,0)","v":0},{"$f":"+IF(ISNUMBER('System Results'!UD42),'System Results'!UD42,0)","v":0},{"$f":"+IF(ISNUMBER('System Results'!UG42),'System Results'!UG42,0)","v":0},{"$f":"+IF(ISNUMBER('System Results'!UJ42),'System Results'!UJ42,0)","v":0},{"$f":"+IF(ISNUMBER('System Results'!UM42),'System Results'!UM42,0)","v":0},{"$f":"+IF(ISNUMBER('System Results'!UP42),'System Results'!UP42,0)","v":0},{"$f":"+IF(ISNUMBER('System Results'!US42),'System Results'!US42,0)","v":0},{"$f":"+IF(ISNUMBER('System Results'!UV42),'System Results'!UV42,0)","v":0},{"$f":"+IF(ISNUMBER('System Results'!UY42),'System Results'!UY42,0)","v":0},{"$f":"+IF(ISNUMBER('System Results'!VB42),'System Results'!VB42,0)","v":0},{"$f":"+IF(ISNUMBER('System Results'!VE42),'System Results'!VE42,0)","v":0},{"$f":"+IF(ISNUMBER('System Results'!VH42),'System Results'!VH42,0)","v":0},{"$f":"+IF(ISNUMBER('System Results'!VK42),'System Results'!VK42,0)","v":0},{"$f":"+IF(ISNUMBER('System Results'!VN42),'System Results'!VN42,0)","v":0},{"$f":"+IF(ISNUMBER('System Results'!VQ42),'System Results'!VQ42,0)","v":0},{"$f":"+IF(ISNUMBER('System Results'!VT42),'System Results'!VT42,0)","v":0},{"$f":"+IF(ISNUMBER('System Results'!VW42),'System Results'!VW42,0)","v":0},{"$f":"+IF(ISNUMBER('System Results'!VZ42),'System Results'!VZ42,0)","v":0},{"$f":"+IF(ISNUMBER('System Results'!WC42),'System Results'!WC42,0)","v":0},{"$f":"+IF(ISNUMBER('System Results'!WF42),'System Results'!WF42,0)","v":0},{"$f":"+IF(ISNUMBER('System Results'!WI42),'System Results'!WI42,0)","v":0},{"$f":"+IF(ISNUMBER('System Results'!WL42),'System Results'!WL42,0)","v":0},{"$f":"+IF(ISNUMBER('System Results'!WO42),'System Results'!WO42,0)","v":0},{"$f":"+IF(ISNUMBER('System Results'!WR42),'System Results'!WR42,0)","v":0},{"$f":"+IF(ISNUMBER('System Results'!WU42),'System Results'!WU42,0)","v":0},{"$f":"+IF(ISNUMBER('System Results'!WX42),'System Results'!WX42,0)","v":0},{"$f":"+IF(ISNUMBER('System Results'!XA42),'System Results'!XA42,0)","v":0},{"$f":"+IF(ISNUMBER('System Results'!XD42),'System Results'!XD42,0)","v":0},{"$f":"+IF(ISNUMBER('System Results'!XG42),'System Results'!XG42,0)","v":0},{"$f":"+IF(ISNUMBER('System Results'!XJ42),'System Results'!XJ42,0)","v":0},{"$f":"+IF(ISNUMBER('System Results'!XM42),'System Results'!XM42,0)","v":0},{"$f":"+IF(ISNUMBER('System Results'!XP42),'System Results'!XP42,0)","v":0},{"$f":"+IF(ISNUMBER('System Results'!XS42),'System Results'!XS42,0)","v":0},{"$f":"+IF(ISNUMBER('System Results'!XV42),'System Results'!XV42,0)","v":0},{"$f":"+IF(ISNUMBER('System Results'!XY42),'System Results'!XY42,0)","v":0},{"$f":"+IF(ISNUMBER('System Results'!YB42),'System Results'!YB42,0)","v":0},{"$f":"+IF(ISNUMBER('System Results'!YE42),'System Results'!YE42,0)","v":0},{"$f":"+IF(ISNUMBER('System Results'!YH42),'System Results'!YH42,0)","v":0},{"$f":"+IF(ISNUMBER('System Results'!YK42),'System Results'!YK42,0)","v":0},{"$f":"+IF(ISNUMBER('System Results'!YN42),'System Results'!YN42,0)","v":0},{"$f":"+IF(ISNUMBER('System Results'!YQ42),'System Results'!YQ42,0)","v":0},{"$f":"+IF(ISNUMBER('System Results'!YT42),'System Results'!YT42,0)","v":0},{"$f":"+IF(ISNUMBER('System Results'!YW42),'System Results'!YW42,0)","v":0},{"$f":"+IF(ISNUMBER('System Results'!YZ42),'System Results'!YZ42,0)","v":0},{"$f":"+IF(ISNUMBER('System Results'!ZC42),'System Results'!ZC42,0)","v":0},{"$f":"+IF(ISNUMBER('System Results'!ZF42),'System Results'!ZF42,0)","v":0},{"$f":"+IF(ISNUMBER('System Results'!ZI42),'System Results'!ZI42,0)","v":0},{"$f":"+IF(ISNUMBER('System Results'!ZL42),'System Results'!ZL42,0)","v":0},{"$f":"+IF(ISNUMBER('System Results'!ZO42),'System Results'!ZO42,0)","v":0},{"$f":"+IF(ISNUMBER('System Results'!ZR42),'System Results'!ZR42,0)","v":0},{"$f":"+IF(ISNUMBER('System Results'!ZU42),'System Results'!ZU42,0)","v":0},{"$f":"+IF(ISNUMBER('System Results'!ZX42),'System Results'!ZX42,0)","v":0},{"$f":"+IF(ISNUMBER('System Results'!AAA42),'System Results'!AAA42,0)","v":0},{"$f":"+IF(ISNUMBER('System Results'!AAD42),'System Results'!AAD42,0)","v":0},{"$f":"+IF(ISNUMBER('System Results'!AAG42),'System Results'!AAG42,0)","v":0},{"$f":"+IF(ISNUMBER('System Results'!AAJ42),'System Results'!AAJ42,0)","v":0},{"$f":"+IF(ISNUMBER('System Results'!AAM42),'System Results'!AAM42,0)","v":0},{"$f":"+IF(ISNUMBER('System Results'!AAP42),'System Results'!AAP42,0)","v":0},{"$f":"+IF(ISNUMBER('System Results'!AAS42),'System Results'!AAS42,0)","v":0},{"$f":"+IF(ISNUMBER('System Results'!AAV42),'System Results'!AAV42,0)","v":0},{"$f":"+IF(ISNUMBER('System Results'!AAY42),'System Results'!AAY42,0)","v":0},{"$f":"+IF(ISNUMBER('System Results'!ABB42),'System Results'!ABB42,0)","v":0},{"$f":"+IF(ISNUMBER('System Results'!ABE42),'System Results'!ABE42,0)","v":0},{"$f":"+IF(ISNUMBER('System Results'!ABH42),'System Results'!ABH42,0)","v":0},{"$f":"+IF(ISNUMBER('System Results'!ABK42),'System Results'!ABK42,0)","v":0},{"$f":"+IF(ISNUMBER('System Results'!ABN42),'System Results'!ABN42,0)","v":0},{"$f":"+IF(ISNUMBER('System Results'!ABQ42),'System Results'!ABQ42,0)","v":0},{"$f":"+IF(ISNUMBER('System Results'!ABT42),'System Results'!ABT42,0)","v":0},{"$f":"+IF(ISNUMBER('System Results'!ABW42),'System Results'!ABW42,0)","v":0},{"$f":"+IF(ISNUMBER('System Results'!ABZ42),'System Results'!ABZ42,0)","v":0},{"$f":"+IF(ISNUMBER('System Results'!ACC42),'System Results'!ACC42,0)","v":0},{"$f":"+IF(ISNUMBER('System Results'!ACF42),'System Results'!ACF42,0)","v":0},{"$f":"+IF(ISNUMBER('System Results'!ACI42),'System Results'!ACI42,0)","v":0},{"$f":"+IF(ISNUMBER('System Results'!ACL42),'System Results'!ACL42,0)","v":0},{"$f":"+IF(ISNUMBER('System Results'!ACO42),'System Results'!ACO42,0)","v":0},{"$f":"+IF(ISNUMBER('System Results'!ACR42),'System Results'!ACR42,0)","v":0},{"$f":"+IF(ISNUMBER('System Results'!ACU42),'System Results'!ACU42,0)","v":0},{"$f":"+IF(ISNUMBER('System Results'!ACX42),'System Results'!ACX42,0)","v":0},{"$f":"+IF(ISNUMBER('System Results'!ADA42),'System Results'!ADA42,0)","v":0},{"$f":"+IF(ISNUMBER('System Results'!ADD42),'System Results'!ADD42,0)","v":0},{"$f":"+IF(ISNUMBER('System Results'!ADG42),'System Results'!ADG42,0)","v":0},{"$f":"+IF(ISNUMBER('System Results'!ADJ42),'System Results'!ADJ42,0)","v":0},{"$f":"+IF(ISNUMBER('System Results'!ADM42),'System Results'!ADM42,0)","v":0},{"$f":"+IF(ISNUMBER('System Results'!ADP42),'System Results'!ADP42,0)","v":0},{"$f":"+IF(ISNUMBER('System Results'!ADS42),'System Results'!ADS42,0)","v":0},{"$f":"+IF(ISNUMBER('System Results'!ADV42),'System Results'!ADV42,0)","v":0},{"$f":"+IF(ISNUMBER('System Results'!ADY42),'System Results'!ADY42,0)","v":0},{"$f":"+IF(ISNUMBER('System Results'!AEB42),'System Results'!AEB42,0)","v":0},{"$f":"+IF(ISNUMBER('System Results'!AEE42),'System Results'!AEE42,0)","v":0},{"$f":"+IF(ISNUMBER('System Results'!AEH42),'System Results'!AEH42,0)","v":0},{"$f":"+IF(ISNUMBER('System Results'!AEK42),'System Results'!AEK42,0)","v":0},{"$f":"+IF(ISNUMBER('System Results'!AEN42),'System Results'!AEN42,0)","v":0},{"$f":"+IF(ISNUMBER('System Results'!AEQ42),'System Results'!AEQ42,0)","v":0},{"$f":"+IF(ISNUMBER('System Results'!AET42),'System Results'!AET42,0)","v":0},{"$f":"+IF(ISNUMBER('System Results'!AEW42),'System Results'!AEW42,0)","v":0},{"$f":"+IF(ISNUMBER('System Results'!AEZ42),'System Results'!AEZ42,0)","v":0},{"$f":"+IF(ISNUMBER('System Results'!AFC42),'System Results'!AFC42,0)","v":0},{"$f":"+IF(ISNUMBER('System Results'!AFF42),'System Results'!AFF42,0)","v":0},{"$f":"+IF(ISNUMBER('System Results'!AFI42),'System Results'!AFI42,0)","v":0},{"$f":"+IF(ISNUMBER('System Results'!AFL42),'System Results'!AFL42,0)","v":0},{"$f":"+IF(ISNUMBER('System Results'!AFO42),'System Results'!AFO42,0)","v":0},{"$f":"+IF(ISNUMBER('System Results'!AFR42),'System Results'!AFR42,0)","v":0},{"$f":"+IF(ISNUMBER('System Results'!AFU42),'System Results'!AFU42,0)","v":0},{"$f":"+IF(ISNUMBER('System Results'!AFX42),'System Results'!AFX42,0)","v":0},{"$f":"+IF(ISNUMBER('System Results'!AGA42),'System Results'!AGA42,0)","v":0},{"$f":"+IF(ISNUMBER('System Results'!AGD42),'System Results'!AGD42,0)","v":0},{"$f":"+IF(ISNUMBER('System Results'!AGG42),'System Results'!AGG42,0)","v":0},{"$f":"+IF(ISNUMBER('System Results'!AGJ42),'System Results'!AGJ42,0)","v":0},{"$f":"+IF(ISNUMBER('System Results'!AGM42),'System Results'!AGM42,0)","v":0},{"$f":"+IF(ISNUMBER('System Results'!AGP42),'System Results'!AGP42,0)","v":0},{"$f":"+IF(ISNUMBER('System Results'!AGS42),'System Results'!AGS42,0)","v":0},{"$f":"+IF(ISNUMBER('System Results'!AGV42),'System Results'!AGV42,0)","v":0},{"$f":"+IF(ISNUMBER('System Results'!AGY42),'System Results'!AGY42,0)","v":0},{"$f":"+IF(ISNUMBER('System Results'!AHB42),'System Results'!AHB42,0)","v":0},{"$f":"+IF(ISNUMBER('System Results'!AHE42),'System Results'!AHE42,0)","v":0},{"$f":"+IF(ISNUMBER('System Results'!AHH42),'System Results'!AHH42,0)","v":0},{"$f":"+IF(ISNUMBER('System Results'!AHK42),'System Results'!AHK42,0)","v":0},{"$f":"+IF(ISNUMBER('System Results'!AHN42),'System Results'!AHN42,0)","v":0},{"$f":"+IF(ISNUMBER('System Results'!AHQ42),'System Results'!AHQ42,0)","v":0},{"$f":"+IF(ISNUMBER('System Results'!AHT42),'System Results'!AHT42,0)","v":0}]
["Scope 3",{"$f":"+'System Results'!B43","v":"Employee commuting"},0,{"$f":"+IF(ISNUMBER('System Results'!G43),'System Results'!G43,0)","v":0},{"$f":"+IF(ISNUMBER('System Results'!J43),'System Results'!J43,0)","v":0},{"$f":"+IF(ISNUMBER('System Results'!M43),'System Results'!M43,0)","v":0},{"$f":"+IF(ISNUMBER('System Results'!P43),'System Results'!P43,0)","v":0},{"$f":"+IF(ISNUMBER('System Results'!S43),'System Results'!S43,0)","v":0},{"$f":"+IF(ISNUMBER('System Results'!V43),'System Results'!V43,0)","v":0},{"$f":"+IF(ISNUMBER('System Results'!Y43),'System Results'!Y43,0)","v":0},{"$f":"+IF(ISNUMBER('System Results'!AB43),'System Results'!AB43,0)","v":0},{"$f":"+IF(ISNUMBER('System Results'!AE43),'System Results'!AE43,0)","v":0},{"$f":"+IF(ISNUMBER('System Results'!AH43),'System Results'!AH43,0)","v":0},{"$f":"+IF(ISNUMBER('System Results'!AK43),'System Results'!AK43,0)","v":0},{"$f":"+IF(ISNUMBER('System Results'!AN43),'System Results'!AN43,0)","v":0},{"$f":"+IF(ISNUMBER('System Results'!AQ43),'System Results'!AQ43,0)","v":0},{"$f":"+IF(ISNUMBER('System Results'!AT43),'System Results'!AT43,0)","v":0},{"$f":"+IF(ISNUMBER('System Results'!AW43),'System Results'!AW43,0)","v":0},{"$f":"+IF(ISNUMBER('System Results'!AZ43),'System Results'!AZ43,0)","v":0},{"$f":"+IF(ISNUMBER('System Results'!BC43),'System Results'!BC43,0)","v":0},{"$f":"+IF(ISNUMBER('System Results'!BF43),'System Results'!BF43,0)","v":0},{"$f":"+IF(ISNUMBER('System Results'!BI43),'System Results'!BI43,0)","v":0},{"$f":"+IF(ISNUMBER('System Results'!BL43),'System Results'!BL43,0)","v":0},{"$f":"+IF(ISNUMBER('System Results'!BO43),'System Results'!BO43,0)","v":0},{"$f":"+IF(ISNUMBER('System Results'!BR43),'System Results'!BR43,0)","v":0},{"$f":"+IF(ISNUMBER('System Results'!BU43),'System Results'!BU43,0)","v":0},{"$f":"+IF(ISNUMBER('System Results'!BX43),'System Results'!BX43,0)","v":0},{"$f":"+IF(ISNUMBER('System Results'!CA43),'System Results'!CA43,0)","v":0},{"$f":"+IF(ISNUMBER('System Results'!CD43),'System Results'!CD43,0)","v":0},{"$f":"+IF(ISNUMBER('System Results'!CG43),'System Results'!CG43,0)","v":0},{"$f":"+IF(ISNUMBER('System Results'!CJ43),'System Results'!CJ43,0)","v":0},{"$f":"+IF(ISNUMBER('System Results'!CM43),'System Results'!CM43,0)","v":0},{"$f":"+IF(ISNUMBER('System Results'!CP43),'System Results'!CP43,0)","v":0},{"$f":"+IF(ISNUMBER('System Results'!CS43),'System Results'!CS43,0)","v":0},{"$f":"+IF(ISNUMBER('System Results'!CV43),'System Results'!CV43,0)","v":0},{"$f":"+IF(ISNUMBER('System Results'!CY43),'System Results'!CY43,0)","v":0},{"$f":"+IF(ISNUMBER('System Results'!DB43),'System Results'!DB43,0)","v":0},{"$f":"+IF(ISNUMBER('System Results'!DE43),'System Results'!DE43,0)","v":0},{"$f":"+IF(ISNUMBER('System Results'!DH43),'System Results'!DH43,0)","v":0},{"$f":"+IF(ISNUMBER('System Results'!DK43),'System Results'!DK43,0)","v":0},{"$f":"+IF(ISNUMBER('System Results'!DN43),'System Results'!DN43,0)","v":0},{"$f":"+IF(ISNUMBER('System Results'!DQ43),'System Results'!DQ43,0)","v":0},{"$f":"+IF(ISNUMBER('System Results'!DT43),'System Results'!DT43,0)","v":0},{"$f":"+IF(ISNUMBER('System Results'!DW43),'System Results'!DW43,0)","v":0},{"$f":"+IF(ISNUMBER('System Results'!DZ43),'System Results'!DZ43,0)","v":0},{"$f":"+IF(ISNUMBER('System Results'!EC43),'System Results'!EC43,0)","v":0},{"$f":"+IF(ISNUMBER('System Results'!EF43),'System Results'!EF43,0)","v":0},{"$f":"+IF(ISNUMBER('System Results'!EI43),'System Results'!EI43,0)","v":0},{"$f":"+IF(ISNUMBER('System Results'!EL43),'System Results'!EL43,0)","v":0},{"$f":"+IF(ISNUMBER('System Results'!EO43),'System Results'!EO43,0)","v":0},{"$f":"+IF(ISNUMBER('System Results'!ER43),'System Results'!ER43,0)","v":0},{"$f":"+IF(ISNUMBER('System Results'!EU43),'System Results'!EU43,0)","v":0},{"$f":"+IF(ISNUMBER('System Results'!EX43),'System Results'!EX43,0)","v":0},{"$f":"+IF(ISNUMBER('System Results'!FA43),'System Results'!FA43,0)","v":0},{"$f":"+IF(ISNUMBER('System Results'!FD43),'System Results'!FD43,0)","v":0},{"$f":"+IF(ISNUMBER('System Results'!FG43),'System Results'!FG43,0)","v":0},{"$f":"+IF(ISNUMBER('System Results'!FJ43),'System Results'!FJ43,0)","v":0},{"$f":"+IF(ISNUMBER('System Results'!FM43),'System Results'!FM43,0)","v":0},{"$f":"+IF(ISNUMBER('System Results'!FP43),'System Results'!FP43,0)","v":0},{"$f":"+IF(ISNUMBER('System Results'!FS43),'System Results'!FS43,0)","v":0},{"$f":"+IF(ISNUMBER('System Results'!FV43),'System Results'!FV43,0)","v":0},{"$f":"+IF(ISNUMBER('System Results'!FY43),'System Results'!FY43,0)","v":0},{"$f":"+IF(ISNUMBER('System Results'!GB43),'System Results'!GB43,0)","v":0},{"$f":"+IF(ISNUMBER('System Results'!GE43),'System Results'!GE43,0)","v":0},{"$f":"+IF(ISNUMBER('System Results'!GH43),'System Results'!GH43,0)","v":0},{"$f":"+IF(ISNUMBER('System Results'!GK43),'System Results'!GK43,0)","v":0},{"$f":"+IF(ISNUMBER('System Results'!GN43),'System Results'!GN43,0)","v":0},{"$f":"+IF(ISNUMBER('System Results'!GQ43),'System Results'!GQ43,0)","v":0},{"$f":"+IF(ISNUMBER('System Results'!GT43),'System Results'!GT43,0)","v":0},{"$f":"+IF(ISNUMBER('System Results'!GW43),'System Results'!GW43,0)","v":0},{"$f":"+IF(ISNUMBER('System Results'!GZ43),'System Results'!GZ43,0)","v":0},{"$f":"+IF(ISNUMBER('System Results'!HC43),'System Results'!HC43,0)","v":0},{"$f":"+IF(ISNUMBER('System Results'!HF43),'System Results'!HF43,0)","v":0},{"$f":"+IF(ISNUMBER('System Results'!HI43),'System Results'!HI43,0)","v":0},{"$f":"+IF(ISNUMBER('System Results'!HL43),'System Results'!HL43,0)","v":0},{"$f":"+IF(ISNUMBER('System Results'!HO43),'System Results'!HO43,0)","v":0},{"$f":"+IF(ISNUMBER('System Results'!HR43),'System Results'!HR43,0)","v":0},{"$f":"+IF(ISNUMBER('System Results'!HU43),'System Results'!HU43,0)","v":0},{"$f":"+IF(ISNUMBER('System Results'!HX43),'System Results'!HX43,0)","v":0},{"$f":"+IF(ISNUMBER('System Results'!IA43),'System Results'!IA43,0)","v":0},{"$f":"+IF(ISNUMBER('System Results'!ID43),'System Results'!ID43,0)","v":0},{"$f":"+IF(ISNUMBER('System Results'!IG43),'System Results'!IG43,0)","v":0},{"$f":"+IF(ISNUMBER('System Results'!IJ43),'System Results'!IJ43,0)","v":0},{"$f":"+IF(ISNUMBER('System Results'!IM43),'System Results'!IM43,0)","v":0},{"$f":"+IF(ISNUMBER('System Results'!IP43),'System Results'!IP43,0)","v":0},{"$f":"+IF(ISNUMBER('System Results'!IS43),'System Results'!IS43,0)","v":0},{"$f":"+IF(ISNUMBER('System Results'!IV43),'System Results'!IV43,0)","v":0},{"$f":"+IF(ISNUMBER('System Results'!IY43),'System Results'!IY43,0)","v":0},{"$f":"+IF(ISNUMBER('System Results'!JB43),'System Results'!JB43,0)","v":0},{"$f":"+IF(ISNUMBER('System Results'!JE43),'System Results'!JE43,0)","v":0},{"$f":"+IF(ISNUMBER('System Results'!JH43),'System Results'!JH43,0)","v":0},{"$f":"+IF(ISNUMBER('System Results'!JK43),'System Results'!JK43,0)","v":0},{"$f":"+IF(ISNUMBER('System Results'!JN43),'System Results'!JN43,0)","v":0},{"$f":"+IF(ISNUMBER('System Results'!JQ43),'System Results'!JQ43,0)","v":0},{"$f":"+IF(ISNUMBER('System Results'!JT43),'System Results'!JT43,0)","v":0},{"$f":"+IF(ISNUMBER('System Results'!JW43),'System Results'!JW43,0)","v":0},{"$f":"+IF(ISNUMBER('System Results'!JZ43),'System Results'!JZ43,0)","v":0},{"$f":"+IF(ISNUMBER('System Results'!KC43),'System Results'!KC43,0)","v":0},{"$f":"+IF(ISNUMBER('System Results'!KF43),'System Results'!KF43,0)","v":0},{"$f":"+IF(ISNUMBER('System Results'!KI43),'System Results'!KI43,0)","v":0},{"$f":"+IF(ISNUMBER('System Results'!KL43),'System Results'!KL43,0)","v":0},{"$f":"+IF(ISNUMBER('System Results'!KO43),'System Results'!KO43,0)","v":0},{"$f":"+IF(ISNUMBER('System Results'!KR43),'System Results'!KR43,0)","v":0},{"$f":"+IF(ISNUMBER('System Results'!KU43),'System Results'!KU43,0)","v":0},{"$f":"+IF(ISNUMBER('System Results'!KX43),'System Results'!KX43,0)","v":0},{"$f":"+IF(ISNUMBER('System Results'!LA43),'System Results'!LA43,0)","v":0},{"$f":"+IF(ISNUMBER('System Results'!LD43),'System Results'!LD43,0)","v":0},{"$f":"+IF(ISNUMBER('System Results'!LG43),'System Results'!LG43,0)","v":0},{"$f":"+IF(ISNUMBER('System Results'!LJ43),'System Results'!LJ43,0)","v":0},{"$f":"+IF(ISNUMBER('System Results'!LM43),'System Results'!LM43,0)","v":0},{"$f":"+IF(ISNUMBER('System Results'!LP43),'System Results'!LP43,0)","v":0},{"$f":"+IF(ISNUMBER('System Results'!LS43),'System Results'!LS43,0)","v":0},{"$f":"+IF(ISNUMBER('System Results'!LV43),'System Results'!LV43,0)","v":0},{"$f":"+IF(ISNUMBER('System Results'!LY43),'System Results'!LY43,0)","v":0},{"$f":"+IF(ISNUMBER('System Results'!MB43),'System Results'!MB43,0)","v":0},{"$f":"+IF(ISNUMBER('System Results'!ME43),'System Results'!ME43,0)","v":0},{"$f":"+IF(ISNUMBER('System Results'!MH43),'System Results'!MH43,0)","v":0},{"$f":"+IF(ISNUMBER('System Results'!MK43),'System Results'!MK43,0)","v":0},{"$f":"+IF(ISNUMBER('System Results'!MN43),'System Results'!MN43,0)","v":0},{"$f":"+IF(ISNUMBER('System Results'!MQ43),'System Results'!MQ43,0)","v":0},{"$f":"+IF(ISNUMBER('System Results'!MT43),'System Results'!MT43,0)","v":0},{"$f":"+IF(ISNUMBER('System Results'!MW43),'System Results'!MW43,0)","v":0},{"$f":"+IF(ISNUMBER('System Results'!MZ43),'System Results'!MZ43,0)","v":0},{"$f":"+IF(ISNUMBER('System Results'!NC43),'System Results'!NC43,0)","v":0},{"$f":"+IF(ISNUMBER('System Results'!NF43),'System Results'!NF43,0)","v":0},{"$f":"+IF(ISNUMBER('System Results'!NI43),'System Results'!NI43,0)","v":0},{"$f":"+IF(ISNUMBER('System Results'!NL43),'System Results'!NL43,0)","v":0},{"$f":"+IF(ISNUMBER('System Results'!NO43),'System Results'!NO43,0)","v":0},{"$f":"+IF(ISNUMBER('System Results'!NR43),'System Results'!NR43,0)","v":0},{"$f":"+IF(ISNUMBER('System Results'!NU43),'System Results'!NU43,0)","v":0},{"$f":"+IF(ISNUMBER('System Results'!NX43),'System Results'!NX43,0)","v":0},{"$f":"+IF(ISNUMBER('System Results'!OA43),'System Results'!OA43,0)","v":0},{"$f":"+IF(ISNUMBER('System Results'!OD43),'System Results'!OD43,0)","v":0},{"$f":"+IF(ISNUMBER('System Results'!OG43),'System Results'!OG43,0)","v":0},{"$f":"+IF(ISNUMBER('System Results'!OJ43),'System Results'!OJ43,0)","v":0},{"$f":"+IF(ISNUMBER('System Results'!OM43),'System Results'!OM43,0)","v":0},{"$f":"+IF(ISNUMBER('System Results'!OP43),'System Results'!OP43,0)","v":0},{"$f":"+IF(ISNUMBER('System Results'!OS43),'System Results'!OS43,0)","v":0},{"$f":"+IF(ISNUMBER('System Results'!OV43),'System Results'!OV43,0)","v":0},{"$f":"+IF(ISNUMBER('System Results'!OY43),'System Results'!OY43,0)","v":0},{"$f":"+IF(ISNUMBER('System Results'!PB43),'System Results'!PB43,0)","v":0},{"$f":"+IF(ISNUMBER('System Results'!PE43),'System Results'!PE43,0)","v":0},{"$f":"+IF(ISNUMBER('System Results'!PH43),'System Results'!PH43,0)","v":0},{"$f":"+IF(ISNUMBER('System Results'!PK43),'System Results'!PK43,0)","v":0},{"$f":"+IF(ISNUMBER('System Results'!PN43),'System Results'!PN43,0)","v":0},{"$f":"+IF(ISNUMBER('System Results'!PQ43),'System Results'!PQ43,0)","v":0},{"$f":"+IF(ISNUMBER('System Results'!PT43),'System Results'!PT43,0)","v":0},{"$f":"+IF(ISNUMBER('System Results'!PW43),'System Results'!PW43,0)","v":0},{"$f":"+IF(ISNUMBER('System Results'!PZ43),'System Results'!PZ43,0)","v":0},{"$f":"+IF(ISNUMBER('System Results'!QC43),'System Results'!QC43,0)","v":0},{"$f":"+IF(ISNUMBER('System Results'!QF43),'System Results'!QF43,0)","v":0},{"$f":"+IF(ISNUMBER('System Results'!QI43),'System Results'!QI43,0)","v":0},{"$f":"+IF(ISNUMBER('System Results'!QL43),'System Results'!QL43,0)","v":0},{"$f":"+IF(ISNUMBER('System Results'!QO43),'System Results'!QO43,0)","v":0},{"$f":"+IF(ISNUMBER('System Results'!QR43),'System Results'!QR43,0)","v":0},{"$f":"+IF(ISNUMBER('System Results'!QU43),'System Results'!QU43,0)","v":0},{"$f":"+IF(ISNUMBER('System Results'!QX43),'System Results'!QX43,0)","v":0},{"$f":"+IF(ISNUMBER('System Results'!RA43),'System Results'!RA43,0)","v":0},{"$f":"+IF(ISNUMBER('System Results'!RD43),'System Results'!RD43,0)","v":0},{"$f":"+IF(ISNUMBER('System Results'!RG43),'System Results'!RG43,0)","v":0},{"$f":"+IF(ISNUMBER('System Results'!RJ43),'System Results'!RJ43,0)","v":0},{"$f":"+IF(ISNUMBER('System Results'!RM43),'System Results'!RM43,0)","v":0},{"$f":"+IF(ISNUMBER('System Results'!RP43),'System Results'!RP43,0)","v":0},{"$f":"+IF(ISNUMBER('System Results'!RS43),'System Results'!RS43,0)","v":0},{"$f":"+IF(ISNUMBER('System Results'!RV43),'System Results'!RV43,0)","v":0},{"$f":"+IF(ISNUMBER('System Results'!RY43),'System Results'!RY43,0)","v":0},{"$f":"+IF(ISNUMBER('System Results'!SB43),'System Results'!SB43,0)","v":0},{"$f":"+IF(ISNUMBER('System Results'!SE43),'System Results'!SE43,0)","v":0},{"$f":"+IF(ISNUMBER('System Results'!SH43),'System Results'!SH43,0)","v":0},{"$f":"+IF(ISNUMBER('System Results'!SK43),'System Results'!SK43,0)","v":0},{"$f":"+IF(ISNUMBER('System Results'!SN43),'System Results'!SN43,0)","v":0},{"$f":"+IF(ISNUMBER('System Results'!SQ43),'System Results'!SQ43,0)","v":0},{"$f":"+IF(ISNUMBER('System Results'!ST43),'System Results'!ST43,0)","v":0},{"$f":"+IF(ISNUMBER('System Results'!SW43),'System Results'!SW43,0)","v":0},{"$f":"+IF(ISNUMBER('System Results'!SZ43),'System Results'!SZ43,0)","v":0},{"$f":"+IF(ISNUMBER('System Results'!TC43),'System Results'!TC43,0)","v":0},{"$f":"+IF(ISNUMBER('System Results'!TF43),'System Results'!TF43,0)","v":0},{"$f":"+IF(ISNUMBER('System Results'!TI43),'System Results'!TI43,0)","v":0},{"$f":"+IF(ISNUMBER('System Results'!TL43),'System Results'!TL43,0)","v":0},{"$f":"+IF(ISNUMBER('System Results'!TO43),'System Results'!TO43,0)","v":0},{"$f":"+IF(ISNUMBER('System Results'!TR43),'System Results'!TR43,0)","v":0},{"$f":"+IF(ISNUMBER('System Results'!TU43),'System Results'!TU43,0)","v":0},{"$f":"+IF(ISNUMBER('System Results'!TX43),'System Results'!TX43,0)","v":0},{"$f":"+IF(ISNUMBER('System Results'!UA43),'System Results'!UA43,0)","v":0},{"$f":"+IF(ISNUMBER('System Results'!UD43),'System Results'!UD43,0)","v":0},{"$f":"+IF(ISNUMBER('System Results'!UG43),'System Results'!UG43,0)","v":0},{"$f":"+IF(ISNUMBER('System Results'!UJ43),'System Results'!UJ43,0)","v":0},{"$f":"+IF(ISNUMBER('System Results'!UM43),'System Results'!UM43,0)","v":0},{"$f":"+IF(ISNUMBER('System Results'!UP43),'System Results'!UP43,0)","v":0},{"$f":"+IF(ISNUMBER('System Results'!US43),'System Results'!US43,0)","v":0},{"$f":"+IF(ISNUMBER('System Results'!UV43),'System Results'!UV43,0)","v":0},{"$f":"+IF(ISNUMBER('System Results'!UY43),'System Results'!UY43,0)","v":0},{"$f":"+IF(ISNUMBER('System Results'!VB43),'System Results'!VB43,0)","v":0},{"$f":"+IF(ISNUMBER('System Results'!VE43),'System Results'!VE43,0)","v":0},{"$f":"+IF(ISNUMBER('System Results'!VH43),'System Results'!VH43,0)","v":0},{"$f":"+IF(ISNUMBER('System Results'!VK43),'System Results'!VK43,0)","v":0},{"$f":"+IF(ISNUMBER('System Results'!VN43),'System Results'!VN43,0)","v":0},{"$f":"+IF(ISNUMBER('System Results'!VQ43),'System Results'!VQ43,0)","v":0},{"$f":"+IF(ISNUMBER('System Results'!VT43),'System Results'!VT43,0)","v":0},{"$f":"+IF(ISNUMBER('System Results'!VW43),'System Results'!VW43,0)","v":0},{"$f":"+IF(ISNUMBER('System Results'!VZ43),'System Results'!VZ43,0)","v":0},{"$f":"+IF(ISNUMBER('System Results'!WC43),'System Results'!WC43,0)","v":0},{"$f":"+IF(ISNUMBER('System Results'!WF43),'System Results'!WF43,0)","v":0},{"$f":"+IF(ISNUMBER('System Results'!WI43),'System Results'!WI43,0)","v":0},{"$f":"+IF(ISNUMBER('System Results'!WL43),'System Results'!WL43,0)","v":0},{"$f":"+IF(ISNUMBER('System Results'!WO43),'System Results'!WO43,0)","v":0},{"$f":"+IF(ISNUMBER('System Results'!WR43),'System Results'!WR43,0)","v":0},{"$f":"+IF(ISNUMBER('System Results'!WU43),'System Results'!WU43,0)","v":0},{"$f":"+IF(ISNUMBER('System Results'!WX43),'System Results'!WX43,0)","v":0},{"$f":"+IF(ISNUMBER('System Results'!XA43),'System Results'!XA43,0)","v":0},{"$f":"+IF(ISNUMBER('System Results'!XD43),'System Results'!XD43,0)","v":0},{"$f":"+IF(ISNUMBER('System Results'!XG43),'System Results'!XG43,0)","v":0},{"$f":"+IF(ISNUMBER('System Results'!XJ43),'System Results'!XJ43,0)","v":0},{"$f":"+IF(ISNUMBER('System Results'!XM43),'System Results'!XM43,0)","v":0},{"$f":"+IF(ISNUMBER('System Results'!XP43),'System Results'!XP43,0)","v":0},{"$f":"+IF(ISNUMBER('System Results'!XS43),'System Results'!XS43,0)","v":0},{"$f":"+IF(ISNUMBER('System Results'!XV43),'System Results'!XV43,0)","v":0},{"$f":"+IF(ISNUMBER('System Results'!XY43),'System Results'!XY43,0)","v":0},{"$f":"+IF(ISNUMBER('System Results'!YB43),'System Results'!YB43,0)","v":0},{"$f":"+IF(ISNUMBER('System Results'!YE43),'System Results'!YE43,0)","v":0},{"$f":"+IF(ISNUMBER('System Results'!YH43),'System Results'!YH43,0)","v":0},{"$f":"+IF(ISNUMBER('System Results'!YK43),'System Results'!YK43,0)","v":0},{"$f":"+IF(ISNUMBER('System Results'!YN43),'System Results'!YN43,0)","v":0},{"$f":"+IF(ISNUMBER('System Results'!YQ43),'System Results'!YQ43,0)","v":0},{"$f":"+IF(ISNUMBER('System Results'!YT43),'System Results'!YT43,0)","v":0},{"$f":"+IF(ISNUMBER('System Results'!YW43),'System Results'!YW43,0)","v":0},{"$f":"+IF(ISNUMBER('System Results'!YZ43),'System Results'!YZ43,0)","v":0},{"$f":"+IF(ISNUMBER('System Results'!ZC43),'System Results'!ZC43,0)","v":0},{"$f":"+IF(ISNUMBER('System Results'!ZF43),'System Results'!ZF43,0)","v":0},{"$f":"+IF(ISNUMBER('System Results'!ZI43),'System Results'!ZI43,0)","v":0},{"$f":"+IF(ISNUMBER('System Results'!ZL43),'System Results'!ZL43,0)","v":0},{"$f":"+IF(ISNUMBER('System Results'!ZO43),'System Results'!ZO43,0)","v":0},{"$f":"+IF(ISNUMBER('System Results'!ZR43),'System Results'!ZR43,0)","v":0},{"$f":"+IF(ISNUMBER('System Results'!ZU43),'System Results'!ZU43,0)","v":0},{"$f":"+IF(ISNUMBER('System Results'!ZX43),'System Results'!ZX43,0)","v":0},{"$f":"+IF(ISNUMBER('System Results'!AAA43),'System Results'!AAA43,0)","v":0},{"$f":"+IF(ISNUMBER('System Results'!AAD43),'System Results'!AAD43,0)","v":0},{"$f":"+IF(ISNUMBER('System Results'!AAG43),'System Results'!AAG43,0)","v":0},{"$f":"+IF(ISNUMBER('System Results'!AAJ43),'System Results'!AAJ43,0)","v":0},{"$f":"+IF(ISNUMBER('System Results'!AAM43),'System Results'!AAM43,0)","v":0},{"$f":"+IF(ISNUMBER('System Results'!AAP43),'System Results'!AAP43,0)","v":0},{"$f":"+IF(ISNUMBER('System Results'!AAS43),'System Results'!AAS43,0)","v":0},{"$f":"+IF(ISNUMBER('System Results'!AAV43),'System Results'!AAV43,0)","v":0},{"$f":"+IF(ISNUMBER('System Results'!AAY43),'System Results'!AAY43,0)","v":0},{"$f":"+IF(ISNUMBER('System Results'!ABB43),'System Results'!ABB43,0)","v":0},{"$f":"+IF(ISNUMBER('System Results'!ABE43),'System Results'!ABE43,0)","v":0},{"$f":"+IF(ISNUMBER('System Results'!ABH43),'System Results'!ABH43,0)","v":0},{"$f":"+IF(ISNUMBER('System Results'!ABK43),'System Results'!ABK43,0)","v":0},{"$f":"+IF(ISNUMBER('System Results'!ABN43),'System Results'!ABN43,0)","v":0},{"$f":"+IF(ISNUMBER('System Results'!ABQ43),'System Results'!ABQ43,0)","v":0},{"$f":"+IF(ISNUMBER('System Results'!ABT43),'System Results'!ABT43,0)","v":0},{"$f":"+IF(ISNUMBER('System Results'!ABW43),'System Results'!ABW43,0)","v":0},{"$f":"+IF(ISNUMBER('System Results'!ABZ43),'System Results'!ABZ43,0)","v":0},{"$f":"+IF(ISNUMBER('System Results'!ACC43),'System Results'!ACC43,0)","v":0},{"$f":"+IF(ISNUMBER('System Results'!ACF43),'System Results'!ACF43,0)","v":0},{"$f":"+IF(ISNUMBER('System Results'!ACI43),'System Results'!ACI43,0)","v":0},{"$f":"+IF(ISNUMBER('System Results'!ACL43),'System Results'!ACL43,0)","v":0},{"$f":"+IF(ISNUMBER('System Results'!ACO43),'System Results'!ACO43,0)","v":0},{"$f":"+IF(ISNUMBER('System Results'!ACR43),'System Results'!ACR43,0)","v":0},{"$f":"+IF(ISNUMBER('System Results'!ACU43),'System Results'!ACU43,0)","v":0},{"$f":"+IF(ISNUMBER('System Results'!ACX43),'System Results'!ACX43,0)","v":0},{"$f":"+IF(ISNUMBER('System Results'!ADA43),'System Results'!ADA43,0)","v":0},{"$f":"+IF(ISNUMBER('System Results'!ADD43),'System Results'!ADD43,0)","v":0},{"$f":"+IF(ISNUMBER('System Results'!ADG43),'System Results'!ADG43,0)","v":0},{"$f":"+IF(ISNUMBER('System Results'!ADJ43),'System Results'!ADJ43,0)","v":0},{"$f":"+IF(ISNUMBER('System Results'!ADM43),'System Results'!ADM43,0)","v":0},{"$f":"+IF(ISNUMBER('System Results'!ADP43),'System Results'!ADP43,0)","v":0},{"$f":"+IF(ISNUMBER('System Results'!ADS43),'System Results'!ADS43,0)","v":0},{"$f":"+IF(ISNUMBER('System Results'!ADV43),'System Results'!ADV43,0)","v":0},{"$f":"+IF(ISNUMBER('System Results'!ADY43),'System Results'!ADY43,0)","v":0},{"$f":"+IF(ISNUMBER('System Results'!AEB43),'System Results'!AEB43,0)","v":0},{"$f":"+IF(ISNUMBER('System Results'!AEE43),'System Results'!AEE43,0)","v":0},{"$f":"+IF(ISNUMBER('System Results'!AEH43),'System Results'!AEH43,0)","v":0},{"$f":"+IF(ISNUMBER('System Results'!AEK43),'System Results'!AEK43,0)","v":0},{"$f":"+IF(ISNUMBER('System Results'!AEN43),'System Results'!AEN43,0)","v":0},{"$f":"+IF(ISNUMBER('System Results'!AEQ43),'System Results'!AEQ43,0)","v":0},{"$f":"+IF(ISNUMBER('System Results'!AET43),'System Results'!AET43,0)","v":0},{"$f":"+IF(ISNUMBER('System Results'!AEW43),'System Results'!AEW43,0)","v":0},{"$f":"+IF(ISNUMBER('System Results'!AEZ43),'System Results'!AEZ43,0)","v":0},{"$f":"+IF(ISNUMBER('System Results'!AFC43),'System Results'!AFC43,0)","v":0},{"$f":"+IF(ISNUMBER('System Results'!AFF43),'System Results'!AFF43,0)","v":0},{"$f":"+IF(ISNUMBER('System Results'!AFI43),'System Results'!AFI43,0)","v":0},{"$f":"+IF(ISNUMBER('System Results'!AFL43),'System Results'!AFL43,0)","v":0},{"$f":"+IF(ISNUMBER('System Results'!AFO43),'System Results'!AFO43,0)","v":0},{"$f":"+IF(ISNUMBER('System Results'!AFR43),'System Results'!AFR43,0)","v":0},{"$f":"+IF(ISNUMBER('System Results'!AFU43),'System Results'!AFU43,0)","v":0},{"$f":"+IF(ISNUMBER('System Results'!AFX43),'System Results'!AFX43,0)","v":0},{"$f":"+IF(ISNUMBER('System Results'!AGA43),'System Results'!AGA43,0)","v":0},{"$f":"+IF(ISNUMBER('System Results'!AGD43),'System Results'!AGD43,0)","v":0},{"$f":"+IF(ISNUMBER('System Results'!AGG43),'System Results'!AGG43,0)","v":0},{"$f":"+IF(ISNUMBER('System Results'!AGJ43),'System Results'!AGJ43,0)","v":0},{"$f":"+IF(ISNUMBER('System Results'!AGM43),'System Results'!AGM43,0)","v":0},{"$f":"+IF(ISNUMBER('System Results'!AGP43),'System Results'!AGP43,0)","v":0},{"$f":"+IF(ISNUMBER('System Results'!AGS43),'System Results'!AGS43,0)","v":0},{"$f":"+IF(ISNUMBER('System Results'!AGV43),'System Results'!AGV43,0)","v":0},{"$f":"+IF(ISNUMBER('System Results'!AGY43),'System Results'!AGY43,0)","v":0},{"$f":"+IF(ISNUMBER('System Results'!AHB43),'System Results'!AHB43,0)","v":0},{"$f":"+IF(ISNUMBER('System Results'!AHE43),'System Results'!AHE43,0)","v":0},{"$f":"+IF(ISNUMBER('System Results'!AHH43),'System Results'!AHH43,0)","v":0},{"$f":"+IF(ISNUMBER('System Results'!AHK43),'System Results'!AHK43,0)","v":0},{"$f":"+IF(ISNUMBER('System Results'!AHN43),'System Results'!AHN43,0)","v":0},{"$f":"+IF(ISNUMBER('System Results'!AHQ43),'System Results'!AHQ43,0)","v":0},{"$f":"+IF(ISNUMBER('System Results'!AHT43),'System Results'!AHT43,0)","v":0}]
["Scope 3",{"$f":"+'System Results'!B44","v":"Upstream leased assets"},0,{"$f":"+IF(ISNUMBER('System Results'!G44),'System Results'!G44,0)","v":0},{"$f":"+IF(ISNUMBER('System Results'!J44),'System Results'!J44,0)","v":0},{"$f":"+IF(ISNUMBER('System Results'!M44),'System Results'!M44,0)","v":0},{"$f":"+IF(ISNUMBER('System Results'!P44),'System Results'!P44,0)","v":0},{"$f":"+IF(ISNUMBER('System Results'!S44),'System Results'!S44,0)","v":0},{"$f":"+IF(ISNUMBER('System Results'!V44),'System Results'!V44,0)","v":0},{"$f":"+IF(ISNUMBER('System Results'!Y44),'System Results'!Y44,0)","v":0},{"$f":"+IF(ISNUMBER('System Results'!AB44),'System Results'!AB44,0)","v":0},{"$f":"+IF(ISNUMBER('System Results'!AE44),'System Results'!AE44,0)","v":0},{"$f":"+IF(ISNUMBER('System Results'!AH44),'System Results'!AH44,0)","v":0},{"$f":"+IF(ISNUMBER('System Results'!AK44),'System Results'!AK44,0)","v":0},{"$f":"+IF(ISNUMBER('System Results'!AN44),'System Results'!AN44,0)","v":0},{"$f":"+IF(ISNUMBER('System Results'!AQ44),'System Results'!AQ44,0)","v":0},{"$f":"+IF(ISNUMBER('System Results'!AT44),'System Results'!AT44,0)","v":0},{"$f":"+IF(ISNUMBER('System Results'!AW44),'System Results'!AW44,0)","v":0},{"$f":"+IF(ISNUMBER('System Results'!AZ44),'System Results'!AZ44,0)","v":0},{"$f":"+IF(ISNUMBER('System Results'!BC44),'System Results'!BC44,0)","v":0},{"$f":"+IF(ISNUMBER('System Results'!BF44),'System Results'!BF44,0)","v":0},{"$f":"+IF(ISNUMBER('System Results'!BI44),'System Results'!BI44,0)","v":0},{"$f":"+IF(ISNUMBER('System Results'!BL44),'System Results'!BL44,0)","v":0},{"$f":"+IF(ISNUMBER('System Results'!BO44),'System Results'!BO44,0)","v":0},{"$f":"+IF(ISNUMBER('System Results'!BR44),'System Results'!BR44,0)","v":0},{"$f":"+IF(ISNUMBER('System Results'!BU44),'System Results'!BU44,0)","v":0},{"$f":"+IF(ISNUMBER('System Results'!BX44),'System Results'!BX44,0)","v":0},{"$f":"+IF(ISNUMBER('System Results'!CA44),'System Results'!CA44,0)","v":0},{"$f":"+IF(ISNUMBER('System Results'!CD44),'System Results'!CD44,0)","v":0},{"$f":"+IF(ISNUMBER('System Results'!CG44),'System Results'!CG44,0)","v":0},{"$f":"+IF(ISNUMBER('System Results'!CJ44),'System Results'!CJ44,0)","v":0},{"$f":"+IF(ISNUMBER('System Results'!CM44),'System Results'!CM44,0)","v":0},{"$f":"+IF(ISNUMBER('System Results'!CP44),'System Results'!CP44,0)","v":0},{"$f":"+IF(ISNUMBER('System Results'!CS44),'System Results'!CS44,0)","v":0},{"$f":"+IF(ISNUMBER('System Results'!CV44),'System Results'!CV44,0)","v":0},{"$f":"+IF(ISNUMBER('System Results'!CY44),'System Results'!CY44,0)","v":0},{"$f":"+IF(ISNUMBER('System Results'!DB44),'System Results'!DB44,0)","v":0},{"$f":"+IF(ISNUMBER('System Results'!DE44),'System Results'!DE44,0)","v":0},{"$f":"+IF(ISNUMBER('System Results'!DH44),'System Results'!DH44,0)","v":0},{"$f":"+IF(ISNUMBER('System Results'!DK44),'System Results'!DK44,0)","v":0},{"$f":"+IF(ISNUMBER('System Results'!DN44),'System Results'!DN44,0)","v":0},{"$f":"+IF(ISNUMBER('System Results'!DQ44),'System Results'!DQ44,0)","v":0},{"$f":"+IF(ISNUMBER('System Results'!DT44),'System Results'!DT44,0)","v":0},{"$f":"+IF(ISNUMBER('System Results'!DW44),'System Results'!DW44,0)","v":0},{"$f":"+IF(ISNUMBER('System Results'!DZ44),'System Results'!DZ44,0)","v":0},{"$f":"+IF(ISNUMBER('System Results'!EC44),'System Results'!EC44,0)","v":0},{"$f":"+IF(ISNUMBER('System Results'!EF44),'System Results'!EF44,0)","v":0},{"$f":"+IF(ISNUMBER('System Results'!EI44),'System Results'!EI44,0)","v":0},{"$f":"+IF(ISNUMBER('System Results'!EL44),'System Results'!EL44,0)","v":0},{"$f":"+IF(ISNUMBER('System Results'!EO44),'System Results'!EO44,0)","v":0},{"$f":"+IF(ISNUMBER('System Results'!ER44),'System Results'!ER44,0)","v":0},{"$f":"+IF(ISNUMBER('System Results'!EU44),'System Results'!EU44,0)","v":0},{"$f":"+IF(ISNUMBER('System Results'!EX44),'System Results'!EX44,0)","v":0},{"$f":"+IF(ISNUMBER('System Results'!FA44),'System Results'!FA44,0)","v":0},{"$f":"+IF(ISNUMBER('System Results'!FD44),'System Results'!FD44,0)","v":0},{"$f":"+IF(ISNUMBER('System Results'!FG44),'System Results'!FG44,0)","v":0},{"$f":"+IF(ISNUMBER('System Results'!FJ44),'System Results'!FJ44,0)","v":0},{"$f":"+IF(ISNUMBER('System Results'!FM44),'System Results'!FM44,0)","v":0},{"$f":"+IF(ISNUMBER('System Results'!FP44),'System Results'!FP44,0)","v":0},{"$f":"+IF(ISNUMBER('System Results'!FS44),'System Results'!FS44,0)","v":0},{"$f":"+IF(ISNUMBER('System Results'!FV44),'System Results'!FV44,0)","v":0},{"$f":"+IF(ISNUMBER('System Results'!FY44),'System Results'!FY44,0)","v":0},{"$f":"+IF(ISNUMBER('System Results'!GB44),'System Results'!GB44,0)","v":0},{"$f":"+IF(ISNUMBER('System Results'!GE44),'System Results'!GE44,0)","v":0},{"$f":"+IF(ISNUMBER('System Results'!GH44),'System Results'!GH44,0)","v":0},{"$f":"+IF(ISNUMBER('System Results'!GK44),'System Results'!GK44,0)","v":0},{"$f":"+IF(ISNUMBER('System Results'!GN44),'System Results'!GN44,0)","v":0},{"$f":"+IF(ISNUMBER('System Results'!GQ44),'System Results'!GQ44,0)","v":0},{"$f":"+IF(ISNUMBER('System Results'!GT44),'System Results'!GT44,0)","v":0},{"$f":"+IF(ISNUMBER('System Results'!GW44),'System Results'!GW44,0)","v":0},{"$f":"+IF(ISNUMBER('System Results'!GZ44),'System Results'!GZ44,0)","v":0},{"$f":"+IF(ISNUMBER('System Results'!HC44),'System Results'!HC44,0)","v":0},{"$f":"+IF(ISNUMBER('System Results'!HF44),'System Results'!HF44,0)","v":0},{"$f":"+IF(ISNUMBER('System Results'!HI44),'System Results'!HI44,0)","v":0},{"$f":"+IF(ISNUMBER('System Results'!HL44),'System Results'!HL44,0)","v":0},{"$f":"+IF(ISNUMBER('System Results'!HO44),'System Results'!HO44,0)","v":0},{"$f":"+IF(ISNUMBER('System Results'!HR44),'System Results'!HR44,0)","v":0},{"$f":"+IF(ISNUMBER('System Results'!HU44),'System Results'!HU44,0)","v":0},{"$f":"+IF(ISNUMBER('System Results'!HX44),'System Results'!HX44,0)","v":0},{"$f":"+IF(ISNUMBER('System Results'!IA44),'System Results'!IA44,0)","v":0},{"$f":"+IF(ISNUMBER('System Results'!ID44),'System Results'!ID44,0)","v":0},{"$f":"+IF(ISNUMBER('System Results'!IG44),'System Results'!IG44,0)","v":0},{"$f":"+IF(ISNUMBER('System Results'!IJ44),'System Results'!IJ44,0)","v":0},{"$f":"+IF(ISNUMBER('System Results'!IM44),'System Results'!IM44,0)","v":0},{"$f":"+IF(ISNUMBER('System Results'!IP44),'System Results'!IP44,0)","v":0},{"$f":"+IF(ISNUMBER('System Results'!IS44),'System Results'!IS44,0)","v":0},{"$f":"+IF(ISNUMBER('System Results'!IV44),'System Results'!IV44,0)","v":0},{"$f":"+IF(ISNUMBER('System Results'!IY44),'System Results'!IY44,0)","v":0},{"$f":"+IF(ISNUMBER('System Results'!JB44),'System Results'!JB44,0)","v":0},{"$f":"+IF(ISNUMBER('System Results'!JE44),'System Results'!JE44,0)","v":0},{"$f":"+IF(ISNUMBER('System Results'!JH44),'System Results'!JH44,0)","v":0},{"$f":"+IF(ISNUMBER('System Results'!JK44),'System Results'!JK44,0)","v":0},{"$f":"+IF(ISNUMBER('System Results'!JN44),'System Results'!JN44,0)","v":0},{"$f":"+IF(ISNUMBER('System Results'!JQ44),'System Results'!JQ44,0)","v":0},{"$f":"+IF(ISNUMBER('System Results'!JT44),'System Results'!JT44,0)","v":0},{"$f":"+IF(ISNUMBER('System Results'!JW44),'System Results'!JW44,0)","v":0},{"$f":"+IF(ISNUMBER('System Results'!JZ44),'System Results'!JZ44,0)","v":0},{"$f":"+IF(ISNUMBER('System Results'!KC44),'System Results'!KC44,0)","v":0},{"$f":"+IF(ISNUMBER('System Results'!KF44),'System Results'!KF44,0)","v":0},{"$f":"+IF(ISNUMBER('System Results'!KI44),'System Results'!KI44,0)","v":0},{"$f":"+IF(ISNUMBER('System Results'!KL44),'System Results'!KL44,0)","v":0},{"$f":"+IF(ISNUMBER('System Results'!KO44),'System Results'!KO44,0)","v":0},{"$f":"+IF(ISNUMBER('System Results'!KR44),'System Results'!KR44,0)","v":0},{"$f":"+IF(ISNUMBER('System Results'!KU44),'System Results'!KU44,0)","v":0},{"$f":"+IF(ISNUMBER('System Results'!KX44),'System Results'!KX44,0)","v":0},{"$f":"+IF(ISNUMBER('System Results'!LA44),'System Results'!LA44,0)","v":0},{"$f":"+IF(ISNUMBER('System Results'!LD44),'System Results'!LD44,0)","v":0},{"$f":"+IF(ISNUMBER('System Results'!LG44),'System Results'!LG44,0)","v":0},{"$f":"+IF(ISNUMBER('System Results'!LJ44),'System Results'!LJ44,0)","v":0},{"$f":"+IF(ISNUMBER('System Results'!LM44),'System Results'!LM44,0)","v":0},{"$f":"+IF(ISNUMBER('System Results'!LP44),'System Results'!LP44,0)","v":0},{"$f":"+IF(ISNUMBER('System Results'!LS44),'System Results'!LS44,0)","v":0},{"$f":"+IF(ISNUMBER('System Results'!LV44),'System Results'!LV44,0)","v":0},{"$f":"+IF(ISNUMBER('System Results'!LY44),'System Results'!LY44,0)","v":0},{"$f":"+IF(ISNUMBER('System Results'!MB44),'System Results'!MB44,0)","v":0},{"$f":"+IF(ISNUMBER('System Results'!ME44),'System Results'!ME44,0)","v":0},{"$f":"+IF(ISNUMBER('System Results'!MH44),'System Results'!MH44,0)","v":0},{"$f":"+IF(ISNUMBER('System Results'!MK44),'System Results'!MK44,0)","v":0},{"$f":"+IF(ISNUMBER('System Results'!MN44),'System Results'!MN44,0)","v":0},{"$f":"+IF(ISNUMBER('System Results'!MQ44),'System Results'!MQ44,0)","v":0},{"$f":"+IF(ISNUMBER('System Results'!MT44),'System Results'!MT44,0)","v":0},{"$f":"+IF(ISNUMBER('System Results'!MW44),'System Results'!MW44,0)","v":0},{"$f":"+IF(ISNUMBER('System Results'!MZ44),'System Results'!MZ44,0)","v":0},{"$f":"+IF(ISNUMBER('System Results'!NC44),'System Results'!NC44,0)","v":0},{"$f":"+IF(ISNUMBER('System Results'!NF44),'System Results'!NF44,0)","v":0},{"$f":"+IF(ISNUMBER('System Results'!NI44),'System Results'!NI44,0)","v":0},{"$f":"+IF(ISNUMBER('System Results'!NL44),'System Results'!NL44,0)","v":0},{"$f":"+IF(ISNUMBER('System Results'!NO44),'System Results'!NO44,0)","v":0},{"$f":"+IF(ISNUMBER('System Results'!NR44),'System Results'!NR44,0)","v":0},{"$f":"+IF(ISNUMBER('System Results'!NU44),'System Results'!NU44,0)","v":0},{"$f":"+IF(ISNUMBER('System Results'!NX44),'System Results'!NX44,0)","v":0},{"$f":"+IF(ISNUMBER('System Results'!OA44),'System Results'!OA44,0)","v":0},{"$f":"+IF(ISNUMBER('System Results'!OD44),'System Results'!OD44,0)","v":0},{"$f":"+IF(ISNUMBER('System Results'!OG44),'System Results'!OG44,0)","v":0},{"$f":"+IF(ISNUMBER('System Results'!OJ44),'System Results'!OJ44,0)","v":0},{"$f":"+IF(ISNUMBER('System Results'!OM44),'System Results'!OM44,0)","v":0},{"$f":"+IF(ISNUMBER('System Results'!OP44),'System Results'!OP44,0)","v":0},{"$f":"+IF(ISNUMBER('System Results'!OS44),'System Results'!OS44,0)","v":0},{"$f":"+IF(ISNUMBER('System Results'!OV44),'System Results'!OV44,0)","v":0},{"$f":"+IF(ISNUMBER('System Results'!OY44),'System Results'!OY44,0)","v":0},{"$f":"+IF(ISNUMBER('System Results'!PB44),'System Results'!PB44,0)","v":0},{"$f":"+IF(ISNUMBER('System Results'!PE44),'System Results'!PE44,0)","v":0},{"$f":"+IF(ISNUMBER('System Results'!PH44),'System Results'!PH44,0)","v":0},{"$f":"+IF(ISNUMBER('System Results'!PK44),'System Results'!PK44,0)","v":0},{"$f":"+IF(ISNUMBER('System Results'!PN44),'System Results'!PN44,0)","v":0},{"$f":"+IF(ISNUMBER('System Results'!PQ44),'System Results'!PQ44,0)","v":0},{"$f":"+IF(ISNUMBER('System Results'!PT44),'System Results'!PT44,0)","v":0},{"$f":"+IF(ISNUMBER('System Results'!PW44),'System Results'!PW44,0)","v":0},{"$f":"+IF(ISNUMBER('System Results'!PZ44),'System Results'!PZ44,0)","v":0},{"$f":"+IF(ISNUMBER('System Results'!QC44),'System Results'!QC44,0)","v":0},{"$f":"+IF(ISNUMBER('System Results'!QF44),'System Results'!QF44,0)","v":0},{"$f":"+IF(ISNUMBER('System Results'!QI44),'System Results'!QI44,0)","v":0},{"$f":"+IF(ISNUMBER('System Results'!QL44),'System Results'!QL44,0)","v":0},{"$f":"+IF(ISNUMBER('System Results'!QO44),'System Results'!QO44,0)","v":0},{"$f":"+IF(ISNUMBER('System Results'!QR44),'System Results'!QR44,0)","v":0},{"$f":"+IF(ISNUMBER('System Results'!QU44),'System Results'!QU44,0)","v":0},{"$f":"+IF(ISNUMBER('System Results'!QX44),'System Results'!QX44,0)","v":0},{"$f":"+IF(ISNUMBER('System Results'!RA44),'System Results'!RA44,0)","v":0},{"$f":"+IF(ISNUMBER('System Results'!RD44),'System Results'!RD44,0)","v":0},{"$f":"+IF(ISNUMBER('System Results'!RG44),'System Results'!RG44,0)","v":0},{"$f":"+IF(ISNUMBER('System Results'!RJ44),'System Results'!RJ44,0)","v":0},{"$f":"+IF(ISNUMBER('System Results'!RM44),'System Results'!RM44,0)","v":0},{"$f":"+IF(ISNUMBER('System Results'!RP44),'System Results'!RP44,0)","v":0},{"$f":"+IF(ISNUMBER('System Results'!RS44),'System Results'!RS44,0)","v":0},{"$f":"+IF(ISNUMBER('System Results'!RV44),'System Results'!RV44,0)","v":0},{"$f":"+IF(ISNUMBER('System Results'!RY44),'System Results'!RY44,0)","v":0},{"$f":"+IF(ISNUMBER('System Results'!SB44),'System Results'!SB44,0)","v":0},{"$f":"+IF(ISNUMBER('System Results'!SE44),'System Results'!SE44,0)","v":0},{"$f":"+IF(ISNUMBER('System Results'!SH44),'System Results'!SH44,0)","v":0},{"$f":"+IF(ISNUMBER('System Results'!SK44),'System Results'!SK44,0)","v":0},{"$f":"+IF(ISNUMBER('System Results'!SN44),'System Results'!SN44,0)","v":0},{"$f":"+IF(ISNUMBER('System Results'!SQ44),'System Results'!SQ44,0)","v":0},{"$f":"+IF(ISNUMBER('System Results'!ST44),'System Results'!ST44,0)","v":0},{"$f":"+IF(ISNUMBER('System Results'!SW44),'System Results'!SW44,0)","v":0},{"$f":"+IF(ISNUMBER('System Results'!SZ44),'System Results'!SZ44,0)","v":0},{"$f":"+IF(ISNUMBER('System Results'!TC44),'System Results'!TC44,0)","v":0},{"$f":"+IF(ISNUMBER('System Results'!TF44),'System Results'!TF44,0)","v":0},{"$f":"+IF(ISNUMBER('System Results'!TI44),'System Results'!TI44,0)","v":0},{"$f":"+IF(ISNUMBER('System Results'!TL44),'System Results'!TL44,0)","v":0},{"$f":"+IF(ISNUMBER('System Results'!TO44),'System Results'!TO44,0)","v":0},{"$f":"+IF(ISNUMBER('System Results'!TR44),'System Results'!TR44,0)","v":0},{"$f":"+IF(ISNUMBER('System Results'!TU44),'System Results'!TU44,0)","v":0},{"$f":"+IF(ISNUMBER('System Results'!TX44),'System Results'!TX44,0)","v":0},{"$f":"+IF(ISNUMBER('System Results'!UA44),'System Results'!UA44,0)","v":0},{"$f":"+IF(ISNUMBER('System Results'!UD44),'System Results'!UD44,0)","v":0},{"$f":"+IF(ISNUMBER('System Results'!UG44),'System Results'!UG44,0)","v":0},{"$f":"+IF(ISNUMBER('System Results'!UJ44),'System Results'!UJ44,0)","v":0},{"$f":"+IF(ISNUMBER('System Results'!UM44),'System Results'!UM44,0)","v":0},{"$f":"+IF(ISNUMBER('System Results'!UP44),'System Results'!UP44,0)","v":0},{"$f":"+IF(ISNUMBER('System Results'!US44),'System Results'!US44,0)","v":0},{"$f":"+IF(ISNUMBER('System Results'!UV44),'System Results'!UV44,0)","v":0},{"$f":"+IF(ISNUMBER('System Results'!UY44),'System Results'!UY44,0)","v":0},{"$f":"+IF(ISNUMBER('System Results'!VB44),'System Results'!VB44,0)","v":0},{"$f":"+IF(ISNUMBER('System Results'!VE44),'System Results'!VE44,0)","v":0},{"$f":"+IF(ISNUMBER('System Results'!VH44),'System Results'!VH44,0)","v":0},{"$f":"+IF(ISNUMBER('System Results'!VK44),'System Results'!VK44,0)","v":0},{"$f":"+IF(ISNUMBER('System Results'!VN44),'System Results'!VN44,0)","v":0},{"$f":"+IF(ISNUMBER('System Results'!VQ44),'System Results'!VQ44,0)","v":0},{"$f":"+IF(ISNUMBER('System Results'!VT44),'System Results'!VT44,0)","v":0},{"$f":"+IF(ISNUMBER('System Results'!VW44),'System Results'!VW44,0)","v":0},{"$f":"+IF(ISNUMBER('System Results'!VZ44),'System Results'!VZ44,0)","v":0},{"$f":"+IF(ISNUMBER('System Results'!WC44),'System Results'!WC44,0)","v":0},{"$f":"+IF(ISNUMBER('System Results'!WF44),'System Results'!WF44,0)","v":0},{"$f":"+IF(ISNUMBER('System Results'!WI44),'System Results'!WI44,0)","v":0},{"$f":"+IF(ISNUMBER('System Results'!WL44),'System Results'!WL44,0)","v":0},{"$f":"+IF(ISNUMBER('System Results'!WO44),'System Results'!WO44,0)","v":0},{"$f":"+IF(ISNUMBER('System Results'!WR44),'System Results'!WR44,0)","v":0},{"$f":"+IF(ISNUMBER('System Results'!WU44),'System Results'!WU44,0)","v":0},{"$f":"+IF(ISNUMBER('System Results'!WX44),'System Results'!WX44,0)","v":0},{"$f":"+IF(ISNUMBER('System Results'!XA44),'System Results'!XA44,0)","v":0},{"$f":"+IF(ISNUMBER('System Results'!XD44),'System Results'!XD44,0)","v":0},{"$f":"+IF(ISNUMBER('System Results'!XG44),'System Results'!XG44,0)","v":0},{"$f":"+IF(ISNUMBER('System Results'!XJ44),'System Results'!XJ44,0)","v":0},{"$f":"+IF(ISNUMBER('System Results'!XM44),'System Results'!XM44,0)","v":0},{"$f":"+IF(ISNUMBER('System Results'!XP44),'System Results'!XP44,0)","v":0},{"$f":"+IF(ISNUMBER('System Results'!XS44),'System Results'!XS44,0)","v":0},{"$f":"+IF(ISNUMBER('System Results'!XV44),'System Results'!XV44,0)","v":0},{"$f":"+IF(ISNUMBER('System Results'!XY44),'System Results'!XY44,0)","v":0},{"$f":"+IF(ISNUMBER('System Results'!YB44),'System Results'!YB44,0)","v":0},{"$f":"+IF(ISNUMBER('System Results'!YE44),'System Results'!YE44,0)","v":0},{"$f":"+IF(ISNUMBER('System Results'!YH44),'System Results'!YH44,0)","v":0},{"$f":"+IF(ISNUMBER('System Results'!YK44),'System Results'!YK44,0)","v":0},{"$f":"+IF(ISNUMBER('System Results'!YN44),'System Results'!YN44,0)","v":0},{"$f":"+IF(ISNUMBER('System Results'!YQ44),'System Results'!YQ44,0)","v":0},{"$f":"+IF(ISNUMBER('System Results'!YT44),'System Results'!YT44,0)","v":0},{"$f":"+IF(ISNUMBER('System Results'!YW44),'System Results'!YW44,0)","v":0},{"$f":"+IF(ISNUMBER('System Results'!YZ44),'System Results'!YZ44,0)","v":0},{"$f":"+IF(ISNUMBER('System Results'!ZC44),'System Results'!ZC44,0)","v":0},{"$f":"+IF(ISNUMBER('System Results'!ZF44),'System Results'!ZF44,0)","v":0},{"$f":"+IF(ISNUMBER('System Results'!ZI44),'System Results'!ZI44,0)","v":0},{"$f":"+IF(ISNUMBER('System Results'!ZL44),'System Results'!ZL44,0)","v":0},{"$f":"+IF(ISNUMBER('System Results'!ZO44),'System Results'!ZO44,0)","v":0},{"$f":"+IF(ISNUMBER('System Results'!ZR44),'System Results'!ZR44,0)","v":0},{"$f":"+IF(ISNUMBER('System Results'!ZU44),'System Results'!ZU44,0)","v":0},{"$f":"+IF(ISNUMBER('System Results'!ZX44),'System Results'!ZX44,0)","v":0},{"$f":"+IF(ISNUMBER('System Results'!AAA44),'System Results'!AAA44,0)","v":0},{"$f":"+IF(ISNUMBER('System Results'!AAD44),'System Results'!AAD44,0)","v":0},{"$f":"+IF(ISNUMBER('System Results'!AAG44),'System Results'!AAG44,0)","v":0},{"$f":"+IF(ISNUMBER('System Results'!AAJ44),'System Results'!AAJ44,0)","v":0},{"$f":"+IF(ISNUMBER('System Results'!AAM44),'System Results'!AAM44,0)","v":0},{"$f":"+IF(ISNUMBER('System Results'!AAP44),'System Results'!AAP44,0)","v":0},{"$f":"+IF(ISNUMBER('System Results'!AAS44),'System Results'!AAS44,0)","v":0},{"$f":"+IF(ISNUMBER('System Results'!AAV44),'System Results'!AAV44,0)","v":0},{"$f":"+IF(ISNUMBER('System Results'!AAY44),'System Results'!AAY44,0)","v":0},{"$f":"+IF(ISNUMBER('System Results'!ABB44),'System Results'!ABB44,0)","v":0},{"$f":"+IF(ISNUMBER('System Results'!ABE44),'System Results'!ABE44,0)","v":0},{"$f":"+IF(ISNUMBER('System Results'!ABH44),'System Results'!ABH44,0)","v":0},{"$f":"+IF(ISNUMBER('System Results'!ABK44),'System Results'!ABK44,0)","v":0},{"$f":"+IF(ISNUMBER('System Results'!ABN44),'System Results'!ABN44,0)","v":0},{"$f":"+IF(ISNUMBER('System Results'!ABQ44),'System Results'!ABQ44,0)","v":0},{"$f":"+IF(ISNUMBER('System Results'!ABT44),'System Results'!ABT44,0)","v":0},{"$f":"+IF(ISNUMBER('System Results'!ABW44),'System Results'!ABW44,0)","v":0},{"$f":"+IF(ISNUMBER('System Results'!ABZ44),'System Results'!ABZ44,0)","v":0},{"$f":"+IF(ISNUMBER('System Results'!ACC44),'System Results'!ACC44,0)","v":0},{"$f":"+IF(ISNUMBER('System Results'!ACF44),'System Results'!ACF44,0)","v":0},{"$f":"+IF(ISNUMBER('System Results'!ACI44),'System Results'!ACI44,0)","v":0},{"$f":"+IF(ISNUMBER('System Results'!ACL44),'System Results'!ACL44,0)","v":0},{"$f":"+IF(ISNUMBER('System Results'!ACO44),'System Results'!ACO44,0)","v":0},{"$f":"+IF(ISNUMBER('System Results'!ACR44),'System Results'!ACR44,0)","v":0},{"$f":"+IF(ISNUMBER('System Results'!ACU44),'System Results'!ACU44,0)","v":0},{"$f":"+IF(ISNUMBER('System Results'!ACX44),'System Results'!ACX44,0)","v":0},{"$f":"+IF(ISNUMBER('System Results'!ADA44),'System Results'!ADA44,0)","v":0},{"$f":"+IF(ISNUMBER('System Results'!ADD44),'System Results'!ADD44,0)","v":0},{"$f":"+IF(ISNUMBER('System Results'!ADG44),'System Results'!ADG44,0)","v":0},{"$f":"+IF(ISNUMBER('System Results'!ADJ44),'System Results'!ADJ44,0)","v":0},{"$f":"+IF(ISNUMBER('System Results'!ADM44),'System Results'!ADM44,0)","v":0},{"$f":"+IF(ISNUMBER('System Results'!ADP44),'System Results'!ADP44,0)","v":0},{"$f":"+IF(ISNUMBER('System Results'!ADS44),'System Results'!ADS44,0)","v":0},{"$f":"+IF(ISNUMBER('System Results'!ADV44),'System Results'!ADV44,0)","v":0},{"$f":"+IF(ISNUMBER('System Results'!ADY44),'System Results'!ADY44,0)","v":0},{"$f":"+IF(ISNUMBER('System Results'!AEB44),'System Results'!AEB44,0)","v":0},{"$f":"+IF(ISNUMBER('System Results'!AEE44),'System Results'!AEE44,0)","v":0},{"$f":"+IF(ISNUMBER('System Results'!AEH44),'System Results'!AEH44,0)","v":0},{"$f":"+IF(ISNUMBER('System Results'!AEK44),'System Results'!AEK44,0)","v":0},{"$f":"+IF(ISNUMBER('System Results'!AEN44),'System Results'!AEN44,0)","v":0},{"$f":"+IF(ISNUMBER('System Results'!AEQ44),'System Results'!AEQ44,0)","v":0},{"$f":"+IF(ISNUMBER('System Results'!AET44),'System Results'!AET44,0)","v":0},{"$f":"+IF(ISNUMBER('System Results'!AEW44),'System Results'!AEW44,0)","v":0},{"$f":"+IF(ISNUMBER('System Results'!AEZ44),'System Results'!AEZ44,0)","v":0},{"$f":"+IF(ISNUMBER('System Results'!AFC44),'System Results'!AFC44,0)","v":0},{"$f":"+IF(ISNUMBER('System Results'!AFF44),'System Results'!AFF44,0)","v":0},{"$f":"+IF(ISNUMBER('System Results'!AFI44),'System Results'!AFI44,0)","v":0},{"$f":"+IF(ISNUMBER('System Results'!AFL44),'System Results'!AFL44,0)","v":0},{"$f":"+IF(ISNUMBER('System Results'!AFO44),'System Results'!AFO44,0)","v":0},{"$f":"+IF(ISNUMBER('System Results'!AFR44),'System Results'!AFR44,0)","v":0},{"$f":"+IF(ISNUMBER('System Results'!AFU44),'System Results'!AFU44,0)","v":0},{"$f":"+IF(ISNUMBER('System Results'!AFX44),'System Results'!AFX44,0)","v":0},{"$f":"+IF(ISNUMBER('System Results'!AGA44),'System Results'!AGA44,0)","v":0},{"$f":"+IF(ISNUMBER('System Results'!AGD44),'System Results'!AGD44,0)","v":0},{"$f":"+IF(ISNUMBER('System Results'!AGG44),'System Results'!AGG44,0)","v":0},{"$f":"+IF(ISNUMBER('System Results'!AGJ44),'System Results'!AGJ44,0)","v":0},{"$f":"+IF(ISNUMBER('System Results'!AGM44),'System Results'!AGM44,0)","v":0},{"$f":"+IF(ISNUMBER('System Results'!AGP44),'System Results'!AGP44,0)","v":0},{"$f":"+IF(ISNUMBER('System Results'!AGS44),'System Results'!AGS44,0)","v":0},{"$f":"+IF(ISNUMBER('System Results'!AGV44),'System Results'!AGV44,0)","v":0},{"$f":"+IF(ISNUMBER('System Results'!AGY44),'System Results'!AGY44,0)","v":0},{"$f":"+IF(ISNUMBER('System Results'!AHB44),'System Results'!AHB44,0)","v":0},{"$f":"+IF(ISNUMBER('System Results'!AHE44),'System Results'!AHE44,0)","v":0},{"$f":"+IF(ISNUMBER('System Results'!AHH44),'System Results'!AHH44,0)","v":0},{"$f":"+IF(ISNUMBER('System Results'!AHK44),'System Results'!AHK44,0)","v":0},{"$f":"+IF(ISNUMBER('System Results'!AHN44),'System Results'!AHN44,0)","v":0},{"$f":"+IF(ISNUMBER('System Results'!AHQ44),'System Results'!AHQ44,0)","v":0},{"$f":"+IF(ISNUMBER('System Results'!AHT44),'System Results'!AHT44,0)","v":0}]
["Scope 3",{"$f":"+'System Results'!B45","v":"Downstream transportation & distribution"},0,{"$f":"+IF(ISNUMBER('System Results'!G45),'System Results'!G45,0)","v":0},{"$f":"+IF(ISNUMBER('System Results'!J45),'System Results'!J45,0)","v":0},{"$f":"+IF(ISNUMBER('System Results'!M45),'System Results'!M45,0)","v":0},{"$f":"+IF(ISNUMBER('System Results'!P45),'System Results'!P45,0)","v":0},{"$f":"+IF(ISNUMBER('System Results'!S45),'System Results'!S45,0)","v":0},{"$f":"+IF(ISNUMBER('System Results'!V45),'System Results'!V45,0)","v":0},{"$f":"+IF(ISNUMBER('System Results'!Y45),'System Results'!Y45,0)","v":0},{"$f":"+IF(ISNUMBER('System Results'!AB45),'System Results'!AB45,0)","v":0},{"$f":"+IF(ISNUMBER('System Results'!AE45),'System Results'!AE45,0)","v":0},{"$f":"+IF(ISNUMBER('System Results'!AH45),'System Results'!AH45,0)","v":0},{"$f":"+IF(ISNUMBER('System Results'!AK45),'System Results'!AK45,0)","v":0},{"$f":"+IF(ISNUMBER('System Results'!AN45),'System Results'!AN45,0)","v":0},{"$f":"+IF(ISNUMBER('System Results'!AQ45),'System Results'!AQ45,0)","v":0},{"$f":"+IF(ISNUMBER('System Results'!AT45),'System Results'!AT45,0)","v":0},{"$f":"+IF(ISNUMBER('System Results'!AW45),'System Results'!AW45,0)","v":0},{"$f":"+IF(ISNUMBER('System Results'!AZ45),'System Results'!AZ45,0)","v":0},{"$f":"+IF(ISNUMBER('System Results'!BC45),'System Results'!BC45,0)","v":0},{"$f":"+IF(ISNUMBER('System Results'!BF45),'System Results'!BF45,0)","v":0},{"$f":"+IF(ISNUMBER('System Results'!BI45),'System Results'!BI45,0)","v":0},{"$f":"+IF(ISNUMBER('System Results'!BL45),'System Results'!BL45,0)","v":0},{"$f":"+IF(ISNUMBER('System Results'!BO45),'System Results'!BO45,0)","v":0},{"$f":"+IF(ISNUMBER('System Results'!BR45),'System Results'!BR45,0)","v":0},{"$f":"+IF(ISNUMBER('System Results'!BU45),'System Results'!BU45,0)","v":0},{"$f":"+IF(ISNUMBER('System Results'!BX45),'System Results'!BX45,0)","v":0},{"$f":"+IF(ISNUMBER('System Results'!CA45),'System Results'!CA45,0)","v":0},{"$f":"+IF(ISNUMBER('System Results'!CD45),'System Results'!CD45,0)","v":0},{"$f":"+IF(ISNUMBER('System Results'!CG45),'System Results'!CG45,0)","v":0},{"$f":"+IF(ISNUMBER('System Results'!CJ45),'System Results'!CJ45,0)","v":0},{"$f":"+IF(ISNUMBER('System Results'!CM45),'System Results'!CM45,0)","v":0},{"$f":"+IF(ISNUMBER('System Results'!CP45),'System Results'!CP45,0)","v":0},{"$f":"+IF(ISNUMBER('System Results'!CS45),'System Results'!CS45,0)","v":0},{"$f":"+IF(ISNUMBER('System Results'!CV45),'System Results'!CV45,0)","v":0},{"$f":"+IF(ISNUMBER('System Results'!CY45),'System Results'!CY45,0)","v":0},{"$f":"+IF(ISNUMBER('System Results'!DB45),'System Results'!DB45,0)","v":0},{"$f":"+IF(ISNUMBER('System Results'!DE45),'System Results'!DE45,0)","v":0},{"$f":"+IF(ISNUMBER('System Results'!DH45),'System Results'!DH45,0)","v":0},{"$f":"+IF(ISNUMBER('System Results'!DK45),'System Results'!DK45,0)","v":0},{"$f":"+IF(ISNUMBER('System Results'!DN45),'System Results'!DN45,0)","v":0},{"$f":"+IF(ISNUMBER('System Results'!DQ45),'System Results'!DQ45,0)","v":0},{"$f":"+IF(ISNUMBER('System Results'!DT45),'System Results'!DT45,0)","v":0},{"$f":"+IF(ISNUMBER('System Results'!DW45),'System Results'!DW45,0)","v":0},{"$f":"+IF(ISNUMBER('System Results'!DZ45),'System Results'!DZ45,0)","v":0},{"$f":"+IF(ISNUMBER('System Results'!EC45),'System Results'!EC45,0)","v":0},{"$f":"+IF(ISNUMBER('System Results'!EF45),'System Results'!EF45,0)","v":0},{"$f":"+IF(ISNUMBER('System Results'!EI45),'System Results'!EI45,0)","v":0},{"$f":"+IF(ISNUMBER('System Results'!EL45),'System Results'!EL45,0)","v":0},{"$f":"+IF(ISNUMBER('System Results'!EO45),'System Results'!EO45,0)","v":0},{"$f":"+IF(ISNUMBER('System Results'!ER45),'System Results'!ER45,0)","v":0},{"$f":"+IF(ISNUMBER('System Results'!EU45),'System Results'!EU45,0)","v":0},{"$f":"+IF(ISNUMBER('System Results'!EX45),'System Results'!EX45,0)","v":0},{"$f":"+IF(ISNUMBER('System Results'!FA45),'System Results'!FA45,0)","v":0},{"$f":"+IF(ISNUMBER('System Results'!FD45),'System Results'!FD45,0)","v":0},{"$f":"+IF(ISNUMBER('System Results'!FG45),'System Results'!FG45,0)","v":0},{"$f":"+IF(ISNUMBER('System Results'!FJ45),'System Results'!FJ45,0)","v":0},{"$f":"+IF(ISNUMBER('System Results'!FM45),'System Results'!FM45,0)","v":0},{"$f":"+IF(ISNUMBER('System Results'!FP45),'System Results'!FP45,0)","v":0},{"$f":"+IF(ISNUMBER('System Results'!FS45),'System Results'!FS45,0)","v":0},{"$f":"+IF(ISNUMBER('System Results'!FV45),'System Results'!FV45,0)","v":0},{"$f":"+IF(ISNUMBER('System Results'!FY45),'System Results'!FY45,0)","v":0},{"$f":"+IF(ISNUMBER('System Results'!GB45),'System Results'!GB45,0)","v":0},{"$f":"+IF(ISNUMBER('System Results'!GE45),'System Results'!GE45,0)","v":0},{"$f":"+IF(ISNUMBER('System Results'!GH45),'System Results'!GH45,0)","v":0},{"$f":"+IF(ISNUMBER('System Results'!GK45),'System Results'!GK45,0)","v":0},{"$f":"+IF(ISNUMBER('System Results'!GN45),'System Results'!GN45,0)","v":0},{"$f":"+IF(ISNUMBER('System Results'!GQ45),'System Results'!GQ45,0)","v":0},{"$f":"+IF(ISNUMBER('System Results'!GT45),'System Results'!GT45,0)","v":0},{"$f":"+IF(ISNUMBER('System Results'!GW45),'System Results'!GW45,0)","v":0},{"$f":"+IF(ISNUMBER('System Results'!GZ45),'System Results'!GZ45,0)","v":0},{"$f":"+IF(ISNUMBER('System Results'!HC45),'System Results'!HC45,0)","v":0},{"$f":"+IF(ISNUMBER('System Results'!HF45),'System Results'!HF45,0)","v":0},{"$f":"+IF(ISNUMBER('System Results'!HI45),'System Results'!HI45,0)","v":0},{"$f":"+IF(ISNUMBER('System Results'!HL45),'System Results'!HL45,0)","v":0},{"$f":"+IF(ISNUMBER('System Results'!HO45),'System Results'!HO45,0)","v":0},{"$f":"+IF(ISNUMBER('System Results'!HR45),'System Results'!HR45,0)","v":0},{"$f":"+IF(ISNUMBER('System Results'!HU45),'System Results'!HU45,0)","v":0},{"$f":"+IF(ISNUMBER('System Results'!HX45),'System Results'!HX45,0)","v":0},{"$f":"+IF(ISNUMBER('System Results'!IA45),'System Results'!IA45,0)","v":0},{"$f":"+IF(ISNUMBER('System Results'!ID45),'System Results'!ID45,0)","v":0},{"$f":"+IF(ISNUMBER('System Results'!IG45),'System Results'!IG45,0)","v":0},{"$f":"+IF(ISNUMBER('System Results'!IJ45),'System Results'!IJ45,0)","v":0},{"$f":"+IF(ISNUMBER('System Results'!IM45),'System Results'!IM45,0)","v":0},{"$f":"+IF(ISNUMBER('System Results'!IP45),'System Results'!IP45,0)","v":0},{"$f":"+IF(ISNUMBER('System Results'!IS45),'System Results'!IS45,0)","v":0},{"$f":"+IF(ISNUMBER('System Results'!IV45),'System Results'!IV45,0)","v":0},{"$f":"+IF(ISNUMBER('System Results'!IY45),'System Results'!IY45,0)","v":0},{"$f":"+IF(ISNUMBER('System Results'!JB45),'System Results'!JB45,0)","v":0},{"$f":"+IF(ISNUMBER('System Results'!JE45),'System Results'!JE45,0)","v":0},{"$f":"+IF(ISNUMBER('System Results'!JH45),'System Results'!JH45,0)","v":0},{"$f":"+IF(ISNUMBER('System Results'!JK45),'System Results'!JK45,0)","v":0},{"$f":"+IF(ISNUMBER('System Results'!JN45),'System Results'!JN45,0)","v":0},{"$f":"+IF(ISNUMBER('System Results'!JQ45),'System Results'!JQ45,0)","v":0},{"$f":"+IF(ISNUMBER('System Results'!JT45),'System Results'!JT45,0)","v":0},{"$f":"+IF(ISNUMBER('System Results'!JW45),'System Results'!JW45,0)","v":0},{"$f":"+IF(ISNUMBER('System Results'!JZ45),'System Results'!JZ45,0)","v":0},{"$f":"+IF(ISNUMBER('System Results'!KC45),'System Results'!KC45,0)","v":0},{"$f":"+IF(ISNUMBER('System Results'!KF45),'System Results'!KF45,0)","v":0},{"$f":"+IF(ISNUMBER('System Results'!KI45),'System Results'!KI45,0)","v":0},{"$f":"+IF(ISNUMBER('System Results'!KL45),'System Results'!KL45,0)","v":0},{"$f":"+IF(ISNUMBER('System Results'!KO45),'System Results'!KO45,0)","v":0},{"$f":"+IF(ISNUMBER('System Results'!KR45),'System Results'!KR45,0)","v":0},{"$f":"+IF(ISNUMBER('System Results'!KU45),'System Results'!KU45,0)","v":0},{"$f":"+IF(ISNUMBER('System Results'!KX45),'System Results'!KX45,0)","v":0},{"$f":"+IF(ISNUMBER('System Results'!LA45),'System Results'!LA45,0)","v":0},{"$f":"+IF(ISNUMBER('System Results'!LD45),'System Results'!LD45,0)","v":0},{"$f":"+IF(ISNUMBER('System Results'!LG45),'System Results'!LG45,0)","v":0},{"$f":"+IF(ISNUMBER('System Results'!LJ45),'System Results'!LJ45,0)","v":0},{"$f":"+IF(ISNUMBER('System Results'!LM45),'System Results'!LM45,0)","v":0},{"$f":"+IF(ISNUMBER('System Results'!LP45),'System Results'!LP45,0)","v":0},{"$f":"+IF(ISNUMBER('System Results'!LS45),'System Results'!LS45,0)","v":0},{"$f":"+IF(ISNUMBER('System Results'!LV45),'System Results'!LV45,0)","v":0},{"$f":"+IF(ISNUMBER('System Results'!LY45),'System Results'!LY45,0)","v":0},{"$f":"+IF(ISNUMBER('System Results'!MB45),'System Results'!MB45,0)","v":0},{"$f":"+IF(ISNUMBER('System Results'!ME45),'System Results'!ME45,0)","v":0},{"$f":"+IF(ISNUMBER('System Results'!MH45),'System Results'!MH45,0)","v":0},{"$f":"+IF(ISNUMBER('System Results'!MK45),'System Results'!MK45,0)","v":0},{"$f":"+IF(ISNUMBER('System Results'!MN45),'System Results'!MN45,0)","v":0},{"$f":"+IF(ISNUMBER('System Results'!MQ45),'System Results'!MQ45,0)","v":0},{"$f":"+IF(ISNUMBER('System Results'!MT45),'System Results'!MT45,0)","v":0},{"$f":"+IF(ISNUMBER('System Results'!MW45),'System Results'!MW45,0)","v":0},{"$f":"+IF(ISNUMBER('System Results'!MZ45),'System Results'!MZ45,0)","v":0},{"$f":"+IF(ISNUMBER('System Results'!NC45),'System Results'!NC45,0)","v":0},{"$f":"+IF(ISNUMBER('System Results'!NF45),'System Results'!NF45,0)","v":0},{"$f":"+IF(ISNUMBER('System Results'!NI45),'System Results'!NI45,0)","v":0},{"$f":"+IF(ISNUMBER('System Results'!NL45),'System Results'!NL45,0)","v":0},{"$f":"+IF(ISNUMBER('System Results'!NO45),'System Results'!NO45,0)","v":0},{"$f":"+IF(ISNUMBER('System Results'!NR45),'System Results'!NR45,0)","v":0},{"$f":"+IF(ISNUMBER('System Results'!NU45),'System Results'!NU45,0)","v":0},{"$f":"+IF(ISNUMBER('System Results'!NX45),'System Results'!NX45,0)","v":0},{"$f":"+IF(ISNUMBER('System Results'!OA45),'System Results'!OA45,0)","v":0},{"$f":"+IF(ISNUMBER('System Results'!OD45),'System Results'!OD45,0)","v":0},{"$f":"+IF(ISNUMBER('System Results'!OG45),'System Results'!OG45,0)","v":0},{"$f":"+IF(ISNUMBER('System Results'!OJ45),'System Results'!OJ45,0)","v":0},{"$f":"+IF(ISNUMBER('System Results'!OM45),'System Results'!OM45,0)","v":0},{"$f":"+IF(ISNUMBER('System Results'!OP45),'System Results'!OP45,0)","v":0},{"$f":"+IF(ISNUMBER('System Results'!OS45),'System Results'!OS45,0)","v":0},{"$f":"+IF(ISNUMBER('System Results'!OV45),'System Results'!OV45,0)","v":0},{"$f":"+IF(ISNUMBER('System Results'!OY45),'System Results'!OY45,0)","v":0},{"$f":"+IF(ISNUMBER('System Results'!PB45),'System Results'!PB45,0)","v":0},{"$f":"+IF(ISNUMBER('System Results'!PE45),'System Results'!PE45,0)","v":0},{"$f":"+IF(ISNUMBER('System Results'!PH45),'System Results'!PH45,0)","v":0},{"$f":"+IF(ISNUMBER('System Results'!PK45),'System Results'!PK45,0)","v":0},{"$f":"+IF(ISNUMBER('System Results'!PN45),'System Results'!PN45,0)","v":0},{"$f":"+IF(ISNUMBER('System Results'!PQ45),'System Results'!PQ45,0)","v":0},{"$f":"+IF(ISNUMBER('System Results'!PT45),'System Results'!PT45,0)","v":0},{"$f":"+IF(ISNUMBER('System Results'!PW45),'System Results'!PW45,0)","v":0},{"$f":"+IF(ISNUMBER('System Results'!PZ45),'System Results'!PZ45,0)","v":0},{"$f":"+IF(ISNUMBER('System Results'!QC45),'System Results'!QC45,0)","v":0},{"$f":"+IF(ISNUMBER('System Results'!QF45),'System Results'!QF45,0)","v":0},{"$f":"+IF(ISNUMBER('System Results'!QI45),'System Results'!QI45,0)","v":0},{"$f":"+IF(ISNUMBER('System Results'!QL45),'System Results'!QL45,0)","v":0},{"$f":"+IF(ISNUMBER('System Results'!QO45),'System Results'!QO45,0)","v":0},{"$f":"+IF(ISNUMBER('System Results'!QR45),'System Results'!QR45,0)","v":0},{"$f":"+IF(ISNUMBER('System Results'!QU45),'System Results'!QU45,0)","v":0},{"$f":"+IF(ISNUMBER('System Results'!QX45),'System Results'!QX45,0)","v":0},{"$f":"+IF(ISNUMBER('System Results'!RA45),'System Results'!RA45,0)","v":0},{"$f":"+IF(ISNUMBER('System Results'!RD45),'System Results'!RD45,0)","v":0},{"$f":"+IF(ISNUMBER('System Results'!RG45),'System Results'!RG45,0)","v":0},{"$f":"+IF(ISNUMBER('System Results'!RJ45),'System Results'!RJ45,0)","v":0},{"$f":"+IF(ISNUMBER('System Results'!RM45),'System Results'!RM45,0)","v":0},{"$f":"+IF(ISNUMBER('System Results'!RP45),'System Results'!RP45,0)","v":0},{"$f":"+IF(ISNUMBER('System Results'!RS45),'System Results'!RS45,0)","v":0},{"$f":"+IF(ISNUMBER('System Results'!RV45),'System Results'!RV45,0)","v":0},{"$f":"+IF(ISNUMBER('System Results'!RY45),'System Results'!RY45,0)","v":0},{"$f":"+IF(ISNUMBER('System Results'!SB45),'System Results'!SB45,0)","v":0},{"$f":"+IF(ISNUMBER('System Results'!SE45),'System Results'!SE45,0)","v":0},{"$f":"+IF(ISNUMBER('System Results'!SH45),'System Results'!SH45,0)","v":0},{"$f":"+IF(ISNUMBER('System Results'!SK45),'System Results'!SK45,0)","v":0},{"$f":"+IF(ISNUMBER('System Results'!SN45),'System Results'!SN45,0)","v":0},{"$f":"+IF(ISNUMBER('System Results'!SQ45),'System Results'!SQ45,0)","v":0},{"$f":"+IF(ISNUMBER('System Results'!ST45),'System Results'!ST45,0)","v":0},{"$f":"+IF(ISNUMBER('System Results'!SW45),'System Results'!SW45,0)","v":0},{"$f":"+IF(ISNUMBER('System Results'!SZ45),'System Results'!SZ45,0)","v":0},{"$f":"+IF(ISNUMBER('System Results'!TC45),'System Results'!TC45,0)","v":0},{"$f":"+IF(ISNUMBER('System Results'!TF45),'System Results'!TF45,0)","v":0},{"$f":"+IF(ISNUMBER('System Results'!TI45),'System Results'!TI45,0)","v":0},{"$f":"+IF(ISNUMBER('System Results'!TL45),'System Results'!TL45,0)","v":0},{"$f":"+IF(ISNUMBER('System Results'!TO45),'System Results'!TO45,0)","v":0},{"$f":"+IF(ISNUMBER('System Results'!TR45),'System Results'!TR45,0)","v":0},{"$f":"+IF(ISNUMBER('System Results'!TU45),'System Results'!TU45,0)","v":0},{"$f":"+IF(ISNUMBER('System Results'!TX45),'System Results'!TX45,0)","v":0},{"$f":"+IF(ISNUMBER('System Results'!UA45),'System Results'!UA45,0)","v":0},{"$f":"+IF(ISNUMBER('System Results'!UD45),'System Results'!UD45,0)","v":0},{"$f":"+IF(ISNUMBER('System Results'!UG45),'System Results'!UG45,0)","v":0},{"$f":"+IF(ISNUMBER('System Results'!UJ45),'System Results'!UJ45,0)","v":0},{"$f":"+IF(ISNUMBER('System Results'!UM45),'System Results'!UM45,0)","v":0},{"$f":"+IF(ISNUMBER('System Results'!UP45),'System Results'!UP45,0)","v":0},{"$f":"+IF(ISNUMBER('System Results'!US45),'System Results'!US45,0)","v":0},{"$f":"+IF(ISNUMBER('System Results'!UV45),'System Results'!UV45,0)","v":0},{"$f":"+IF(ISNUMBER('System Results'!UY45),'System Results'!UY45,0)","v":0},{"$f":"+IF(ISNUMBER('System Results'!VB45),'System Results'!VB45,0)","v":0},{"$f":"+IF(ISNUMBER('System Results'!VE45),'System Results'!VE45,0)","v":0},{"$f":"+IF(ISNUMBER('System Results'!VH45),'System Results'!VH45,0)","v":0},{"$f":"+IF(ISNUMBER('System Results'!VK45),'System Results'!VK45,0)","v":0},{"$f":"+IF(ISNUMBER('System Results'!VN45),'System Results'!VN45,0)","v":0},{"$f":"+IF(ISNUMBER('System Results'!VQ45),'System Results'!VQ45,0)","v":0},{"$f":"+IF(ISNUMBER('System Results'!VT45),'System Results'!VT45,0)","v":0},{"$f":"+IF(ISNUMBER('System Results'!VW45),'System Results'!VW45,0)","v":0},{"$f":"+IF(ISNUMBER('System Results'!VZ45),'System Results'!VZ45,0)","v":0},{"$f":"+IF(ISNUMBER('System Results'!WC45),'System Results'!WC45,0)","v":0},{"$f":"+IF(ISNUMBER('System Results'!WF45),'System Results'!WF45,0)","v":0},{"$f":"+IF(ISNUMBER('System Results'!WI45),'System Results'!WI45,0)","v":0},{"$f":"+IF(ISNUMBER('System Results'!WL45),'System Results'!WL45,0)","v":0},{"$f":"+IF(ISNUMBER('System Results'!WO45),'System Results'!WO45,0)","v":0},{"$f":"+IF(ISNUMBER('System Results'!WR45),'System Results'!WR45,0)","v":0},{"$f":"+IF(ISNUMBER('System Results'!WU45),'System Results'!WU45,0)","v":0},{"$f":"+IF(ISNUMBER('System Results'!WX45),'System Results'!WX45,0)","v":0},{"$f":"+IF(ISNUMBER('System Results'!XA45),'System Results'!XA45,0)","v":0},{"$f":"+IF(ISNUMBER('System Results'!XD45),'System Results'!XD45,0)","v":0},{"$f":"+IF(ISNUMBER('System Results'!XG45),'System Results'!XG45,0)","v":0},{"$f":"+IF(ISNUMBER('System Results'!XJ45),'System Results'!XJ45,0)","v":0},{"$f":"+IF(ISNUMBER('System Results'!XM45),'System Results'!XM45,0)","v":0},{"$f":"+IF(ISNUMBER('System Results'!XP45),'System Results'!XP45,0)","v":0},{"$f":"+IF(ISNUMBER('System Results'!XS45),'System Results'!XS45,0)","v":0},{"$f":"+IF(ISNUMBER('System Results'!XV45),'System Results'!XV45,0)","v":0},{"$f":"+IF(ISNUMBER('System Results'!XY45),'System Results'!XY45,0)","v":0},{"$f":"+IF(ISNUMBER('System Results'!YB45),'System Results'!YB45,0)","v":0},{"$f":"+IF(ISNUMBER('System Results'!YE45),'System Results'!YE45,0)","v":0},{"$f":"+IF(ISNUMBER('System Results'!YH45),'System Results'!YH45,0)","v":0},{"$f":"+IF(ISNUMBER('System Results'!YK45),'System Results'!YK45,0)","v":0},{"$f":"+IF(ISNUMBER('System Results'!YN45),'System Results'!YN45,0)","v":0},{"$f":"+IF(ISNUMBER('System Results'!YQ45),'System Results'!YQ45,0)","v":0},{"$f":"+IF(ISNUMBER('System Results'!YT45),'System Results'!YT45,0)","v":0},{"$f":"+IF(ISNUMBER('System Results'!YW45),'System Results'!YW45,0)","v":0},{"$f":"+IF(ISNUMBER('System Results'!YZ45),'System Results'!YZ45,0)","v":0},{"$f":"+IF(ISNUMBER('System Results'!ZC45),'System Results'!ZC45,0)","v":0},{"$f":"+IF(ISNUMBER('System Results'!ZF45),'System Results'!ZF45,0)","v":0},{"$f":"+IF(ISNUMBER('System Results'!ZI45),'System Results'!ZI45,0)","v":0},{"$f":"+IF(ISNUMBER('System Results'!ZL45),'System Results'!ZL45,0)","v":0},{"$f":"+IF(ISNUMBER('System Results'!ZO45),'System Results'!ZO45,0)","v":0},{"$f":"+IF(ISNUMBER('System Results'!ZR45),'System Results'!ZR45,0)","v":0},{"$f":"+IF(ISNUMBER('System Results'!ZU45),'System Results'!ZU45,0)","v":0},{"$f":"+IF(ISNUMBER('System Results'!ZX45),'System Results'!ZX45,0)","v":0},{"$f":"+IF(ISNUMBER('System Results'!AAA45),'System Results'!AAA45,0)","v":0},{"$f":"+IF(ISNUMBER('System Results'!AAD45),'System Results'!AAD45,0)","v":0},{"$f":"+IF(ISNUMBER('System Results'!AAG45),'System Results'!AAG45,0)","v":0},{"$f":"+IF(ISNUMBER('System Results'!AAJ45),'System Results'!AAJ45,0)","v":0},{"$f":"+IF(ISNUMBER('System Results'!AAM45),'System Results'!AAM45,0)","v":0},{"$f":"+IF(ISNUMBER('System Results'!AAP45),'System Results'!AAP45,0)","v":0},{"$f":"+IF(ISNUMBER('System Results'!AAS45),'System Results'!AAS45,0)","v":0},{"$f":"+IF(ISNUMBER('System Results'!AAV45),'System Results'!AAV45,0)","v":0},{"$f":"+IF(ISNUMBER('System Results'!AAY45),'System Results'!AAY45,0)","v":0},{"$f":"+IF(ISNUMBER('System Results'!ABB45),'System Results'!ABB45,0)","v":0},{"$f":"+IF(ISNUMBER('System Results'!ABE45),'System Results'!ABE45,0)","v":0},{"$f":"+IF(ISNUMBER('System Results'!ABH45),'System Results'!ABH45,0)","v":0},{"$f":"+IF(ISNUMBER('System Results'!ABK45),'System Results'!ABK45,0)","v":0},{"$f":"+IF(ISNUMBER('System Results'!ABN45),'System Results'!ABN45,0)","v":0},{"$f":"+IF(ISNUMBER('System Results'!ABQ45),'System Results'!ABQ45,0)","v":0},{"$f":"+IF(ISNUMBER('System Results'!ABT45),'System Results'!ABT45,0)","v":0},{"$f":"+IF(ISNUMBER('System Results'!ABW45),'System Results'!ABW45,0)","v":0},{"$f":"+IF(ISNUMBER('System Results'!ABZ45),'System Results'!ABZ45,0)","v":0},{"$f":"+IF(ISNUMBER('System Results'!ACC45),'System Results'!ACC45,0)","v":0},{"$f":"+IF(ISNUMBER('System Results'!ACF45),'System Results'!ACF45,0)","v":0},{"$f":"+IF(ISNUMBER('System Results'!ACI45),'System Results'!ACI45,0)","v":0},{"$f":"+IF(ISNUMBER('System Results'!ACL45),'System Results'!ACL45,0)","v":0},{"$f":"+IF(ISNUMBER('System Results'!ACO45),'System Results'!ACO45,0)","v":0},{"$f":"+IF(ISNUMBER('System Results'!ACR45),'System Results'!ACR45,0)","v":0},{"$f":"+IF(ISNUMBER('System Results'!ACU45),'System Results'!ACU45,0)","v":0},{"$f":"+IF(ISNUMBER('System Results'!ACX45),'System Results'!ACX45,0)","v":0},{"$f":"+IF(ISNUMBER('System Results'!ADA45),'System Results'!ADA45,0)","v":0},{"$f":"+IF(ISNUMBER('System Results'!ADD45),'System Results'!ADD45,0)","v":0},{"$f":"+IF(ISNUMBER('System Results'!ADG45),'System Results'!ADG45,0)","v":0},{"$f":"+IF(ISNUMBER('System Results'!ADJ45),'System Results'!ADJ45,0)","v":0},{"$f":"+IF(ISNUMBER('System Results'!ADM45),'System Results'!ADM45,0)","v":0},{"$f":"+IF(ISNUMBER('System Results'!ADP45),'System Results'!ADP45,0)","v":0},{"$f":"+IF(ISNUMBER('System Results'!ADS45),'System Results'!ADS45,0)","v":0},{"$f":"+IF(ISNUMBER('System Results'!ADV45),'System Results'!ADV45,0)","v":0},{"$f":"+IF(ISNUMBER('System Results'!ADY45),'System Results'!ADY45,0)","v":0},{"$f":"+IF(ISNUMBER('System Results'!AEB45),'System Results'!AEB45,0)","v":0},{"$f":"+IF(ISNUMBER('System Results'!AEE45),'System Results'!AEE45,0)","v":0},{"$f":"+IF(ISNUMBER('System Results'!AEH45),'System Results'!AEH45,0)","v":0},{"$f":"+IF(ISNUMBER('System Results'!AEK45),'System Results'!AEK45,0)","v":0},{"$f":"+IF(ISNUMBER('System Results'!AEN45),'System Results'!AEN45,0)","v":0},{"$f":"+IF(ISNUMBER('System Results'!AEQ45),'System Results'!AEQ45,0)","v":0},{"$f":"+IF(ISNUMBER('System Results'!AET45),'System Results'!AET45,0)","v":0},{"$f":"+IF(ISNUMBER('System Results'!AEW45),'System Results'!AEW45,0)","v":0},{"$f":"+IF(ISNUMBER('System Results'!AEZ45),'System Results'!AEZ45,0)","v":0},{"$f":"+IF(ISNUMBER('System Results'!AFC45),'System Results'!AFC45,0)","v":0},{"$f":"+IF(ISNUMBER('System Results'!AFF45),'System Results'!AFF45,0)","v":0},{"$f":"+IF(ISNUMBER('System Results'!AFI45),'System Results'!AFI45,0)","v":0},{"$f":"+IF(ISNUMBER('System Results'!AFL45),'System Results'!AFL45,0)","v":0},{"$f":"+IF(ISNUMBER('System Results'!AFO45),'System Results'!AFO45,0)","v":0},{"$f":"+IF(ISNUMBER('System Results'!AFR45),'System Results'!AFR45,0)","v":0},{"$f":"+IF(ISNUMBER('System Results'!AFU45),'System Results'!AFU45,0)","v":0},{"$f":"+IF(ISNUMBER('System Results'!AFX45),'System Results'!AFX45,0)","v":0},{"$f":"+IF(ISNUMBER('System Results'!AGA45),'System Results'!AGA45,0)","v":0},{"$f":"+IF(ISNUMBER('System Results'!AGD45),'System Results'!AGD45,0)","v":0},{"$f":"+IF(ISNUMBER('System Results'!AGG45),'System Results'!AGG45,0)","v":0},{"$f":"+IF(ISNUMBER('System Results'!AGJ45),'System Results'!AGJ45,0)","v":0},{"$f":"+IF(ISNUMBER('System Results'!AGM45),'System Results'!AGM45,0)","v":0},{"$f":"+IF(ISNUMBER('System Results'!AGP45),'System Results'!AGP45,0)","v":0},{"$f":"+IF(ISNUMBER('System Results'!AGS45),'System Results'!AGS45,0)","v":0},{"$f":"+IF(ISNUMBER('System Results'!AGV45),'System Results'!AGV45,0)","v":0},{"$f":"+IF(ISNUMBER('System Results'!AGY45),'System Results'!AGY45,0)","v":0},{"$f":"+IF(ISNUMBER('System Results'!AHB45),'System Results'!AHB45,0)","v":0},{"$f":"+IF(ISNUMBER('System Results'!AHE45),'System Results'!AHE45,0)","v":0},{"$f":"+IF(ISNUMBER('System Results'!AHH45),'System Results'!AHH45,0)","v":0},{"$f":"+IF(ISNUMBER('System Results'!AHK45),'System Results'!AHK45,0)","v":0},{"$f":"+IF(ISNUMBER('System Results'!AHN45),'System Results'!AHN45,0)","v":0},{"$f":"+IF(ISNUMBER('System Results'!AHQ45),'System Results'!AHQ45,0)","v":0},{"$f":"+IF(ISNUMBER('System Results'!AHT45),'System Results'!AHT45,0)","v":0}]
["Scope 3",{"$f":"+'System Results'!B46","v":"Processing of sold products-Not Used"},0,{"$f":"+IF(ISNUMBER('System Results'!G46),'System Results'!G46,0)","v":0},{"$f":"+IF(ISNUMBER('System Results'!J46),'System Results'!J46,0)","v":0},{"$f":"+IF(ISNUMBER('System Results'!M46),'System Results'!M46,0)","v":0},{"$f":"+IF(ISNUMBER('System Results'!P46),'System Results'!P46,0)","v":0},{"$f":"+IF(ISNUMBER('System Results'!S46),'System Results'!S46,0)","v":0},{"$f":"+IF(ISNUMBER('System Results'!V46),'System Results'!V46,0)","v":0},{"$f":"+IF(ISNUMBER('System Results'!Y46),'System Results'!Y46,0)","v":0},{"$f":"+IF(ISNUMBER('System Results'!AB46),'System Results'!AB46,0)","v":0},{"$f":"+IF(ISNUMBER('System Results'!AE46),'System Results'!AE46,0)","v":0},{"$f":"+IF(ISNUMBER('System Results'!AH46),'System Results'!AH46,0)","v":0},{"$f":"+IF(ISNUMBER('System Results'!AK46),'System Results'!AK46,0)","v":0},{"$f":"+IF(ISNUMBER('System Results'!AN46),'System Results'!AN46,0)","v":0},{"$f":"+IF(ISNUMBER('System Results'!AQ46),'System Results'!AQ46,0)","v":0},{"$f":"+IF(ISNUMBER('System Results'!AT46),'System Results'!AT46,0)","v":0},{"$f":"+IF(ISNUMBER('System Results'!AW46),'System Results'!AW46,0)","v":0},{"$f":"+IF(ISNUMBER('System Results'!AZ46),'System Results'!AZ46,0)","v":0},{"$f":"+IF(ISNUMBER('System Results'!BC46),'System Results'!BC46,0)","v":0},{"$f":"+IF(ISNUMBER('System Results'!BF46),'System Results'!BF46,0)","v":0},{"$f":"+IF(ISNUMBER('System Results'!BI46),'System Results'!BI46,0)","v":0},{"$f":"+IF(ISNUMBER('System Results'!BL46),'System Results'!BL46,0)","v":0},{"$f":"+IF(ISNUMBER('System Results'!BO46),'System Results'!BO46,0)","v":0},{"$f":"+IF(ISNUMBER('System Results'!BR46),'System Results'!BR46,0)","v":0},{"$f":"+IF(ISNUMBER('System Results'!BU46),'System Results'!BU46,0)","v":0},{"$f":"+IF(ISNUMBER('System Results'!BX46),'System Results'!BX46,0)","v":0},{"$f":"+IF(ISNUMBER('System Results'!CA46),'System Results'!CA46,0)","v":0},{"$f":"+IF(ISNUMBER('System Results'!CD46),'System Results'!CD46,0)","v":0},{"$f":"+IF(ISNUMBER('System Results'!CG46),'System Results'!CG46,0)","v":0},{"$f":"+IF(ISNUMBER('System Results'!CJ46),'System Results'!CJ46,0)","v":0},{"$f":"+IF(ISNUMBER('System Results'!CM46),'System Results'!CM46,0)","v":0},{"$f":"+IF(ISNUMBER('System Results'!CP46),'System Results'!CP46,0)","v":0},{"$f":"+IF(ISNUMBER('System Results'!CS46),'System Results'!CS46,0)","v":0},{"$f":"+IF(ISNUMBER('System Results'!CV46),'System Results'!CV46,0)","v":0},{"$f":"+IF(ISNUMBER('System Results'!CY46),'System Results'!CY46,0)","v":0},{"$f":"+IF(ISNUMBER('System Results'!DB46),'System Results'!DB46,0)","v":0},{"$f":"+IF(ISNUMBER('System Results'!DE46),'System Results'!DE46,0)","v":0},{"$f":"+IF(ISNUMBER('System Results'!DH46),'System Results'!DH46,0)","v":0},{"$f":"+IF(ISNUMBER('System Results'!DK46),'System Results'!DK46,0)","v":0},{"$f":"+IF(ISNUMBER('System Results'!DN46),'System Results'!DN46,0)","v":0},{"$f":"+IF(ISNUMBER('System Results'!DQ46),'System Results'!DQ46,0)","v":0},{"$f":"+IF(ISNUMBER('System Results'!DT46),'System Results'!DT46,0)","v":0},{"$f":"+IF(ISNUMBER('System Results'!DW46),'System Results'!DW46,0)","v":0},{"$f":"+IF(ISNUMBER('System Results'!DZ46),'System Results'!DZ46,0)","v":0},{"$f":"+IF(ISNUMBER('System Results'!EC46),'System Results'!EC46,0)","v":0},{"$f":"+IF(ISNUMBER('System Results'!EF46),'System Results'!EF46,0)","v":0},{"$f":"+IF(ISNUMBER('System Results'!EI46),'System Results'!EI46,0)","v":0},{"$f":"+IF(ISNUMBER('System Results'!EL46),'System Results'!EL46,0)","v":0},{"$f":"+IF(ISNUMBER('System Results'!EO46),'System Results'!EO46,0)","v":0},{"$f":"+IF(ISNUMBER('System Results'!ER46),'System Results'!ER46,0)","v":0},{"$f":"+IF(ISNUMBER('System Results'!EU46),'System Results'!EU46,0)","v":0},{"$f":"+IF(ISNUMBER('System Results'!EX46),'System Results'!EX46,0)","v":0},{"$f":"+IF(ISNUMBER('System Results'!FA46),'System Results'!FA46,0)","v":0},{"$f":"+IF(ISNUMBER('System Results'!FD46),'System Results'!FD46,0)","v":0},{"$f":"+IF(ISNUMBER('System Results'!FG46),'System Results'!FG46,0)","v":0},{"$f":"+IF(ISNUMBER('System Results'!FJ46),'System Results'!FJ46,0)","v":0},{"$f":"+IF(ISNUMBER('System Results'!FM46),'System Results'!FM46,0)","v":0},{"$f":"+IF(ISNUMBER('System Results'!FP46),'System Results'!FP46,0)","v":0},{"$f":"+IF(ISNUMBER('System Results'!FS46),'System Results'!FS46,0)","v":0},{"$f":"+IF(ISNUMBER('System Results'!FV46),'System Results'!FV46,0)","v":0},{"$f":"+IF(ISNUMBER('System Results'!FY46),'System Results'!FY46,0)","v":0},{"$f":"+IF(ISNUMBER('System Results'!GB46),'System Results'!GB46,0)","v":0},{"$f":"+IF(ISNUMBER('System Results'!GE46),'System Results'!GE46,0)","v":0},{"$f":"+IF(ISNUMBER('System Results'!GH46),'System Results'!GH46,0)","v":0},{"$f":"+IF(ISNUMBER('System Results'!GK46),'System Results'!GK46,0)","v":0},{"$f":"+IF(ISNUMBER('System Results'!GN46),'System Results'!GN46,0)","v":0},{"$f":"+IF(ISNUMBER('System Results'!GQ46),'System Results'!GQ46,0)","v":0},{"$f":"+IF(ISNUMBER('System Results'!GT46),'System Results'!GT46,0)","v":0},{"$f":"+IF(ISNUMBER('System Results'!GW46),'System Results'!GW46,0)","v":0},{"$f":"+IF(ISNUMBER('System Results'!GZ46),'System Results'!GZ46,0)","v":0},{"$f":"+IF(ISNUMBER('System Results'!HC46),'System Results'!HC46,0)","v":0},{"$f":"+IF(ISNUMBER('System Results'!HF46),'System Results'!HF46,0)","v":0},{"$f":"+IF(ISNUMBER('System Results'!HI46),'System Results'!HI46,0)","v":0},{"$f":"+IF(ISNUMBER('System Results'!HL46),'System Results'!HL46,0)","v":0},{"$f":"+IF(ISNUMBER('System Results'!HO46),'System Results'!HO46,0)","v":0},{"$f":"+IF(ISNUMBER('System Results'!HR46),'System Results'!HR46,0)","v":0},{"$f":"+IF(ISNUMBER('System Results'!HU46),'System Results'!HU46,0)","v":0},{"$f":"+IF(ISNUMBER('System Results'!HX46),'System Results'!HX46,0)","v":0},{"$f":"+IF(ISNUMBER('System Results'!IA46),'System Results'!IA46,0)","v":0},{"$f":"+IF(ISNUMBER('System Results'!ID46),'System Results'!ID46,0)","v":0},{"$f":"+IF(ISNUMBER('System Results'!IG46),'System Results'!IG46,0)","v":0},{"$f":"+IF(ISNUMBER('System Results'!IJ46),'System Results'!IJ46,0)","v":0},{"$f":"+IF(ISNUMBER('System Results'!IM46),'System Results'!IM46,0)","v":0},{"$f":"+IF(ISNUMBER('System Results'!IP46),'System Results'!IP46,0)","v":0},{"$f":"+IF(ISNUMBER('System Results'!IS46),'System Results'!IS46,0)","v":0},{"$f":"+IF(ISNUMBER('System Results'!IV46),'System Results'!IV46,0)","v":0},{"$f":"+IF(ISNUMBER('System Results'!IY46),'System Results'!IY46,0)","v":0},{"$f":"+IF(ISNUMBER('System Results'!JB46),'System Results'!JB46,0)","v":0},{"$f":"+IF(ISNUMBER('System Results'!JE46),'System Results'!JE46,0)","v":0},{"$f":"+IF(ISNUMBER('System Results'!JH46),'System Results'!JH46,0)","v":0},{"$f":"+IF(ISNUMBER('System Results'!JK46),'System Results'!JK46,0)","v":0},{"$f":"+IF(ISNUMBER('System Results'!JN46),'System Results'!JN46,0)","v":0},{"$f":"+IF(ISNUMBER('System Results'!JQ46),'System Results'!JQ46,0)","v":0},{"$f":"+IF(ISNUMBER('System Results'!JT46),'System Results'!JT46,0)","v":0},{"$f":"+IF(ISNUMBER('System Results'!JW46),'System Results'!JW46,0)","v":0},{"$f":"+IF(ISNUMBER('System Results'!JZ46),'System Results'!JZ46,0)","v":0},{"$f":"+IF(ISNUMBER('System Results'!KC46),'System Results'!KC46,0)","v":0},{"$f":"+IF(ISNUMBER('System Results'!KF46),'System Results'!KF46,0)","v":0},{"$f":"+IF(ISNUMBER('System Results'!KI46),'System Results'!KI46,0)","v":0},{"$f":"+IF(ISNUMBER('System Results'!KL46),'System Results'!KL46,0)","v":0},{"$f":"+IF(ISNUMBER('System Results'!KO46),'System Results'!KO46,0)","v":0},{"$f":"+IF(ISNUMBER('System Results'!KR46),'System Results'!KR46,0)","v":0},{"$f":"+IF(ISNUMBER('System Results'!KU46),'System Results'!KU46,0)","v":0},{"$f":"+IF(ISNUMBER('System Results'!KX46),'System Results'!KX46,0)","v":0},{"$f":"+IF(ISNUMBER('System Results'!LA46),'System Results'!LA46,0)","v":0},{"$f":"+IF(ISNUMBER('System Results'!LD46),'System Results'!LD46,0)","v":0},{"$f":"+IF(ISNUMBER('System Results'!LG46),'System Results'!LG46,0)","v":0},{"$f":"+IF(ISNUMBER('System Results'!LJ46),'System Results'!LJ46,0)","v":0},{"$f":"+IF(ISNUMBER('System Results'!LM46),'System Results'!LM46,0)","v":0},{"$f":"+IF(ISNUMBER('System Results'!LP46),'System Results'!LP46,0)","v":0},{"$f":"+IF(ISNUMBER('System Results'!LS46),'System Results'!LS46,0)","v":0},{"$f":"+IF(ISNUMBER('System Results'!LV46),'System Results'!LV46,0)","v":0},{"$f":"+IF(ISNUMBER('System Results'!LY46),'System Results'!LY46,0)","v":0},{"$f":"+IF(ISNUMBER('System Results'!MB46),'System Results'!MB46,0)","v":0},{"$f":"+IF(ISNUMBER('System Results'!ME46),'System Results'!ME46,0)","v":0},{"$f":"+IF(ISNUMBER('System Results'!MH46),'System Results'!MH46,0)","v":0},{"$f":"+IF(ISNUMBER('System Results'!MK46),'System Results'!MK46,0)","v":0},{"$f":"+IF(ISNUMBER('System Results'!MN46),'System Results'!MN46,0)","v":0},{"$f":"+IF(ISNUMBER('System Results'!MQ46),'System Results'!MQ46,0)","v":0},{"$f":"+IF(ISNUMBER('System Results'!MT46),'System Results'!MT46,0)","v":0},{"$f":"+IF(ISNUMBER('System Results'!MW46),'System Results'!MW46,0)","v":0},{"$f":"+IF(ISNUMBER('System Results'!MZ46),'System Results'!MZ46,0)","v":0},{"$f":"+IF(ISNUMBER('System Results'!NC46),'System Results'!NC46,0)","v":0},{"$f":"+IF(ISNUMBER('System Results'!NF46),'System Results'!NF46,0)","v":0},{"$f":"+IF(ISNUMBER('System Results'!NI46),'System Results'!NI46,0)","v":0},{"$f":"+IF(ISNUMBER('System Results'!NL46),'System Results'!NL46,0)","v":0},{"$f":"+IF(ISNUMBER('System Results'!NO46),'System Results'!NO46,0)","v":0},{"$f":"+IF(ISNUMBER('System Results'!NR46),'System Results'!NR46,0)","v":0},{"$f":"+IF(ISNUMBER('System Results'!NU46),'System Results'!NU46,0)","v":0},{"$f":"+IF(ISNUMBER('System Results'!NX46),'System Results'!NX46,0)","v":0},{"$f":"+IF(ISNUMBER('System Results'!OA46),'System Results'!OA46,0)","v":0},{"$f":"+IF(ISNUMBER('System Results'!OD46),'System Results'!OD46,0)","v":0},{"$f":"+IF(ISNUMBER('System Results'!OG46),'System Results'!OG46,0)","v":0},{"$f":"+IF(ISNUMBER('System Results'!OJ46),'System Results'!OJ46,0)","v":0},{"$f":"+IF(ISNUMBER('System Results'!OM46),'System Results'!OM46,0)","v":0},{"$f":"+IF(ISNUMBER('System Results'!OP46),'System Results'!OP46,0)","v":0},{"$f":"+IF(ISNUMBER('System Results'!OS46),'System Results'!OS46,0)","v":0},{"$f":"+IF(ISNUMBER('System Results'!OV46),'System Results'!OV46,0)","v":0},{"$f":"+IF(ISNUMBER('System Results'!OY46),'System Results'!OY46,0)","v":0},{"$f":"+IF(ISNUMBER('System Results'!PB46),'System Results'!PB46,0)","v":0},{"$f":"+IF(ISNUMBER('System Results'!PE46),'System Results'!PE46,0)","v":0},{"$f":"+IF(ISNUMBER('System Results'!PH46),'System Results'!PH46,0)","v":0},{"$f":"+IF(ISNUMBER('System Results'!PK46),'System Results'!PK46,0)","v":0},{"$f":"+IF(ISNUMBER('System Results'!PN46),'System Results'!PN46,0)","v":0},{"$f":"+IF(ISNUMBER('System Results'!PQ46),'System Results'!PQ46,0)","v":0},{"$f":"+IF(ISNUMBER('System Results'!PT46),'System Results'!PT46,0)","v":0},{"$f":"+IF(ISNUMBER('System Results'!PW46),'System Results'!PW46,0)","v":0},{"$f":"+IF(ISNUMBER('System Results'!PZ46),'System Results'!PZ46,0)","v":0},{"$f":"+IF(ISNUMBER('System Results'!QC46),'System Results'!QC46,0)","v":0},{"$f":"+IF(ISNUMBER('System Results'!QF46),'System Results'!QF46,0)","v":0},{"$f":"+IF(ISNUMBER('System Results'!QI46),'System Results'!QI46,0)","v":0},{"$f":"+IF(ISNUMBER('System Results'!QL46),'System Results'!QL46,0)","v":0},{"$f":"+IF(ISNUMBER('System Results'!QO46),'System Results'!QO46,0)","v":0},{"$f":"+IF(ISNUMBER('System Results'!QR46),'System Results'!QR46,0)","v":0},{"$f":"+IF(ISNUMBER('System Results'!QU46),'System Results'!QU46,0)","v":0},{"$f":"+IF(ISNUMBER('System Results'!QX46),'System Results'!QX46,0)","v":0},{"$f":"+IF(ISNUMBER('System Results'!RA46),'System Results'!RA46,0)","v":0},{"$f":"+IF(ISNUMBER('System Results'!RD46),'System Results'!RD46,0)","v":0},{"$f":"+IF(ISNUMBER('System Results'!RG46),'System Results'!RG46,0)","v":0},{"$f":"+IF(ISNUMBER('System Results'!RJ46),'System Results'!RJ46,0)","v":0},{"$f":"+IF(ISNUMBER('System Results'!RM46),'System Results'!RM46,0)","v":0},{"$f":"+IF(ISNUMBER('System Results'!RP46),'System Results'!RP46,0)","v":0},{"$f":"+IF(ISNUMBER('System Results'!RS46),'System Results'!RS46,0)","v":0},{"$f":"+IF(ISNUMBER('System Results'!RV46),'System Results'!RV46,0)","v":0},{"$f":"+IF(ISNUMBER('System Results'!RY46),'System Results'!RY46,0)","v":0},{"$f":"+IF(ISNUMBER('System Results'!SB46),'System Results'!SB46,0)","v":0},{"$f":"+IF(ISNUMBER('System Results'!SE46),'System Results'!SE46,0)","v":0},{"$f":"+IF(ISNUMBER('System Results'!SH46),'System Results'!SH46,0)","v":0},{"$f":"+IF(ISNUMBER('System Results'!SK46),'System Results'!SK46,0)","v":0},{"$f":"+IF(ISNUMBER('System Results'!SN46),'System Results'!SN46,0)","v":0},{"$f":"+IF(ISNUMBER('System Results'!SQ46),'System Results'!SQ46,0)","v":0},{"$f":"+IF(ISNUMBER('System Results'!ST46),'System Results'!ST46,0)","v":0},{"$f":"+IF(ISNUMBER('System Results'!SW46),'System Results'!SW46,0)","v":0},{"$f":"+IF(ISNUMBER('System Results'!SZ46),'System Results'!SZ46,0)","v":0},{"$f":"+IF(ISNUMBER('System Results'!TC46),'System Results'!TC46,0)","v":0},{"$f":"+IF(ISNUMBER('System Results'!TF46),'System Results'!TF46,0)","v":0},{"$f":"+IF(ISNUMBER('System Results'!TI46),'System Results'!TI46,0)","v":0},{"$f":"+IF(ISNUMBER('System Results'!TL46),'System Results'!TL46,0)","v":0},{"$f":"+IF(ISNUMBER('System Results'!TO46),'System Results'!TO46,0)","v":0},{"$f":"+IF(ISNUMBER('System Results'!TR46),'System Results'!TR46,0)","v":0},{"$f":"+IF(ISNUMBER('System Results'!TU46),'System Results'!TU46,0)","v":0},{"$f":"+IF(ISNUMBER('System Results'!TX46),'System Results'!TX46,0)","v":0},{"$f":"+IF(ISNUMBER('System Results'!UA46),'System Results'!UA46,0)","v":0},{"$f":"+IF(ISNUMBER('System Results'!UD46),'System Results'!UD46,0)","v":0},{"$f":"+IF(ISNUMBER('System Results'!UG46),'System Results'!UG46,0)","v":0},{"$f":"+IF(ISNUMBER('System Results'!UJ46),'System Results'!UJ46,0)","v":0},{"$f":"+IF(ISNUMBER('System Results'!UM46),'System Results'!UM46,0)","v":0},{"$f":"+IF(ISNUMBER('System Results'!UP46),'System Results'!UP46,0)","v":0},{"$f":"+IF(ISNUMBER('System Results'!US46),'System Results'!US46,0)","v":0},{"$f":"+IF(ISNUMBER('System Results'!UV46),'System Results'!UV46,0)","v":0},{"$f":"+IF(ISNUMBER('System Results'!UY46),'System Results'!UY46,0)","v":0},{"$f":"+IF(ISNUMBER('System Results'!VB46),'System Results'!VB46,0)","v":0},{"$f":"+IF(ISNUMBER('System Results'!VE46),'System Results'!VE46,0)","v":0},{"$f":"+IF(ISNUMBER('System Results'!VH46),'System Results'!VH46,0)","v":0},{"$f":"+IF(ISNUMBER('System Results'!VK46),'System Results'!VK46,0)","v":0},{"$f":"+IF(ISNUMBER('System Results'!VN46),'System Results'!VN46,0)","v":0},{"$f":"+IF(ISNUMBER('System Results'!VQ46),'System Results'!VQ46,0)","v":0},{"$f":"+IF(ISNUMBER('System Results'!VT46),'System Results'!VT46,0)","v":0},{"$f":"+IF(ISNUMBER('System Results'!VW46),'System Results'!VW46,0)","v":0},{"$f":"+IF(ISNUMBER('System Results'!VZ46),'System Results'!VZ46,0)","v":0},{"$f":"+IF(ISNUMBER('System Results'!WC46),'System Results'!WC46,0)","v":0},{"$f":"+IF(ISNUMBER('System Results'!WF46),'System Results'!WF46,0)","v":0},{"$f":"+IF(ISNUMBER('System Results'!WI46),'System Results'!WI46,0)","v":0},{"$f":"+IF(ISNUMBER('System Results'!WL46),'System Results'!WL46,0)","v":0},{"$f":"+IF(ISNUMBER('System Results'!WO46),'System Results'!WO46,0)","v":0},{"$f":"+IF(ISNUMBER('System Results'!WR46),'System Results'!WR46,0)","v":0},{"$f":"+IF(ISNUMBER('System Results'!WU46),'System Results'!WU46,0)","v":0},{"$f":"+IF(ISNUMBER('System Results'!WX46),'System Results'!WX46,0)","v":0},{"$f":"+IF(ISNUMBER('System Results'!XA46),'System Results'!XA46,0)","v":0},{"$f":"+IF(ISNUMBER('System Results'!XD46),'System Results'!XD46,0)","v":0},{"$f":"+IF(ISNUMBER('System Results'!XG46),'System Results'!XG46,0)","v":0},{"$f":"+IF(ISNUMBER('System Results'!XJ46),'System Results'!XJ46,0)","v":0},{"$f":"+IF(ISNUMBER('System Results'!XM46),'System Results'!XM46,0)","v":0},{"$f":"+IF(ISNUMBER('System Results'!XP46),'System Results'!XP46,0)","v":0},{"$f":"+IF(ISNUMBER('System Results'!XS46),'System Results'!XS46,0)","v":0},{"$f":"+IF(ISNUMBER('System Results'!XV46),'System Results'!XV46,0)","v":0},{"$f":"+IF(ISNUMBER('System Results'!XY46),'System Results'!XY46,0)","v":0},{"$f":"+IF(ISNUMBER('System Results'!YB46),'System Results'!YB46,0)","v":0},{"$f":"+IF(ISNUMBER('System Results'!YE46),'System Results'!YE46,0)","v":0},{"$f":"+IF(ISNUMBER('System Results'!YH46),'System Results'!YH46,0)","v":0},{"$f":"+IF(ISNUMBER('System Results'!YK46),'System Results'!YK46,0)","v":0},{"$f":"+IF(ISNUMBER('System Results'!YN46),'System Results'!YN46,0)","v":0},{"$f":"+IF(ISNUMBER('System Results'!YQ46),'System Results'!YQ46,0)","v":0},{"$f":"+IF(ISNUMBER('System Results'!YT46),'System Results'!YT46,0)","v":0},{"$f":"+IF(ISNUMBER('System Results'!YW46),'System Results'!YW46,0)","v":0},{"$f":"+IF(ISNUMBER('System Results'!YZ46),'System Results'!YZ46,0)","v":0},{"$f":"+IF(ISNUMBER('System Results'!ZC46),'System Results'!ZC46,0)","v":0},{"$f":"+IF(ISNUMBER('System Results'!ZF46),'System Results'!ZF46,0)","v":0},{"$f":"+IF(ISNUMBER('System Results'!ZI46),'System Results'!ZI46,0)","v":0},{"$f":"+IF(ISNUMBER('System Results'!ZL46),'System Results'!ZL46,0)","v":0},{"$f":"+IF(ISNUMBER('System Results'!ZO46),'System Results'!ZO46,0)","v":0},{"$f":"+IF(ISNUMBER('System Results'!ZR46),'System Results'!ZR46,0)","v":0},{"$f":"+IF(ISNUMBER('System Results'!ZU46),'System Results'!ZU46,0)","v":0},{"$f":"+IF(ISNUMBER('System Results'!ZX46),'System Results'!ZX46,0)","v":0},{"$f":"+IF(ISNUMBER('System Results'!AAA46),'System Results'!AAA46,0)","v":0},{"$f":"+IF(ISNUMBER('System Results'!AAD46),'System Results'!AAD46,0)","v":0},{"$f":"+IF(ISNUMBER('System Results'!AAG46),'System Results'!AAG46,0)","v":0},{"$f":"+IF(ISNUMBER('System Results'!AAJ46),'System Results'!AAJ46,0)","v":0},{"$f":"+IF(ISNUMBER('System Results'!AAM46),'System Results'!AAM46,0)","v":0},{"$f":"+IF(ISNUMBER('System Results'!AAP46),'System Results'!AAP46,0)","v":0},{"$f":"+IF(ISNUMBER('System Results'!AAS46),'System Results'!AAS46,0)","v":0},{"$f":"+IF(ISNUMBER('System Results'!AAV46),'System Results'!AAV46,0)","v":0},{"$f":"+IF(ISNUMBER('System Results'!AAY46),'System Results'!AAY46,0)","v":0},{"$f":"+IF(ISNUMBER('System Results'!ABB46),'System Results'!ABB46,0)","v":0},{"$f":"+IF(ISNUMBER('System Results'!ABE46),'System Results'!ABE46,0)","v":0},{"$f":"+IF(ISNUMBER('System Results'!ABH46),'System Results'!ABH46,0)","v":0},{"$f":"+IF(ISNUMBER('System Results'!ABK46),'System Results'!ABK46,0)","v":0},{"$f":"+IF(ISNUMBER('System Results'!ABN46),'System Results'!ABN46,0)","v":0},{"$f":"+IF(ISNUMBER('System Results'!ABQ46),'System Results'!ABQ46,0)","v":0},{"$f":"+IF(ISNUMBER('System Results'!ABT46),'System Results'!ABT46,0)","v":0},{"$f":"+IF(ISNUMBER('System Results'!ABW46),'System Results'!ABW46,0)","v":0},{"$f":"+IF(ISNUMBER('System Results'!ABZ46),'System Results'!ABZ46,0)","v":0},{"$f":"+IF(ISNUMBER('System Results'!ACC46),'System Results'!ACC46,0)","v":0},{"$f":"+IF(ISNUMBER('System Results'!ACF46),'System Results'!ACF46,0)","v":0},{"$f":"+IF(ISNUMBER('System Results'!ACI46),'System Results'!ACI46,0)","v":0},{"$f":"+IF(ISNUMBER('System Results'!ACL46),'System Results'!ACL46,0)","v":0},{"$f":"+IF(ISNUMBER('System Results'!ACO46),'System Results'!ACO46,0)","v":0},{"$f":"+IF(ISNUMBER('System Results'!ACR46),'System Results'!ACR46,0)","v":0},{"$f":"+IF(ISNUMBER('System Results'!ACU46),'System Results'!ACU46,0)","v":0},{"$f":"+IF(ISNUMBER('System Results'!ACX46),'System Results'!ACX46,0)","v":0},{"$f":"+IF(ISNUMBER('System Results'!ADA46),'System Results'!ADA46,0)","v":0},{"$f":"+IF(ISNUMBER('System Results'!ADD46),'System Results'!ADD46,0)","v":0},{"$f":"+IF(ISNUMBER('System Results'!ADG46),'System Results'!ADG46,0)","v":0},{"$f":"+IF(ISNUMBER('System Results'!ADJ46),'System Results'!ADJ46,0)","v":0},{"$f":"+IF(ISNUMBER('System Results'!ADM46),'System Results'!ADM46,0)","v":0},{"$f":"+IF(ISNUMBER('System Results'!ADP46),'System Results'!ADP46,0)","v":0},{"$f":"+IF(ISNUMBER('System Results'!ADS46),'System Results'!ADS46,0)","v":0},{"$f":"+IF(ISNUMBER('System Results'!ADV46),'System Results'!ADV46,0)","v":0},{"$f":"+IF(ISNUMBER('System Results'!ADY46),'System Results'!ADY46,0)","v":0},{"$f":"+IF(ISNUMBER('System Results'!AEB46),'System Results'!AEB46,0)","v":0},{"$f":"+IF(ISNUMBER('System Results'!AEE46),'System Results'!AEE46,0)","v":0},{"$f":"+IF(ISNUMBER('System Results'!AEH46),'System Results'!AEH46,0)","v":0},{"$f":"+IF(ISNUMBER('System Results'!AEK46),'System Results'!AEK46,0)","v":0},{"$f":"+IF(ISNUMBER('System Results'!AEN46),'System Results'!AEN46,0)","v":0},{"$f":"+IF(ISNUMBER('System Results'!AEQ46),'System Results'!AEQ46,0)","v":0},{"$f":"+IF(ISNUMBER('System Results'!AET46),'System Results'!AET46,0)","v":0},{"$f":"+IF(ISNUMBER('System Results'!AEW46),'System Results'!AEW46,0)","v":0},{"$f":"+IF(ISNUMBER('System Results'!AEZ46),'System Results'!AEZ46,0)","v":0},{"$f":"+IF(ISNUMBER('System Results'!AFC46),'System Results'!AFC46,0)","v":0},{"$f":"+IF(ISNUMBER('System Results'!AFF46),'System Results'!AFF46,0)","v":0},{"$f":"+IF(ISNUMBER('System Results'!AFI46),'System Results'!AFI46,0)","v":0},{"$f":"+IF(ISNUMBER('System Results'!AFL46),'System Results'!AFL46,0)","v":0},{"$f":"+IF(ISNUMBER('System Results'!AFO46),'System Results'!AFO46,0)","v":0},{"$f":"+IF(ISNUMBER('System Results'!AFR46),'System Results'!AFR46,0)","v":0},{"$f":"+IF(ISNUMBER('System Results'!AFU46),'System Results'!AFU46,0)","v":0},{"$f":"+IF(ISNUMBER('System Results'!AFX46),'System Results'!AFX46,0)","v":0},{"$f":"+IF(ISNUMBER('System Results'!AGA46),'System Results'!AGA46,0)","v":0},{"$f":"+IF(ISNUMBER('System Results'!AGD46),'System Results'!AGD46,0)","v":0},{"$f":"+IF(ISNUMBER('System Results'!AGG46),'System Results'!AGG46,0)","v":0},{"$f":"+IF(ISNUMBER('System Results'!AGJ46),'System Results'!AGJ46,0)","v":0},{"$f":"+IF(ISNUMBER('System Results'!AGM46),'System Results'!AGM46,0)","v":0},{"$f":"+IF(ISNUMBER('System Results'!AGP46),'System Results'!AGP46,0)","v":0},{"$f":"+IF(ISNUMBER('System Results'!AGS46),'System Results'!AGS46,0)","v":0},{"$f":"+IF(ISNUMBER('System Results'!AGV46),'System Results'!AGV46,0)","v":0},{"$f":"+IF(ISNUMBER('System Results'!AGY46),'System Results'!AGY46,0)","v":0},{"$f":"+IF(ISNUMBER('System Results'!AHB46),'System Results'!AHB46,0)","v":0},{"$f":"+IF(ISNUMBER('System Results'!AHE46),'System Results'!AHE46,0)","v":0},{"$f":"+IF(ISNUMBER('System Results'!AHH46),'System Results'!AHH46,0)","v":0},{"$f":"+IF(ISNUMBER('System Results'!AHK46),'System Results'!AHK46,0)","v":0},{"$f":"+IF(ISNUMBER('System Results'!AHN46),'System Results'!AHN46,0)","v":0},{"$f":"+IF(ISNUMBER('System Results'!AHQ46),'System Results'!AHQ46,0)","v":0},{"$f":"+IF(ISNUMBER('System Results'!AHT46),'System Results'!AHT46,0)","v":0}]
["Scope 3",{"$f":"+'System Results'!B47","v":"Use of sold products"},0,{"$f":"+IF(ISNUMBER('System Results'!G47),'System Results'!G47,0)","v":0},{"$f":"+IF(ISNUMBER('System Results'!J47),'System Results'!J47,0)","v":0},{"$f":"+IF(ISNUMBER('System Results'!M47),'System Results'!M47,0)","v":0},{"$f":"+IF(ISNUMBER('System Results'!P47),'System Results'!P47,0)","v":0},{"$f":"+IF(ISNUMBER('System Results'!S47),'System Results'!S47,0)","v":0},{"$f":"+IF(ISNUMBER('System Results'!V47),'System Results'!V47,0)","v":0},{"$f":"+IF(ISNUMBER('System Results'!Y47),'System Results'!Y47,0)","v":0},{"$f":"+IF(ISNUMBER('System Results'!AB47),'System Results'!AB47,0)","v":0},{"$f":"+IF(ISNUMBER('System Results'!AE47),'System Results'!AE47,0)","v":0},{"$f":"+IF(ISNUMBER('System Results'!AH47),'System Results'!AH47,0)","v":0},{"$f":"+IF(ISNUMBER('System Results'!AK47),'System Results'!AK47,0)","v":0},{"$f":"+IF(ISNUMBER('System Results'!AN47),'System Results'!AN47,0)","v":0},{"$f":"+IF(ISNUMBER('System Results'!AQ47),'System Results'!AQ47,0)","v":0},{"$f":"+IF(ISNUMBER('System Results'!AT47),'System Results'!AT47,0)","v":0},{"$f":"+IF(ISNUMBER('System Results'!AW47),'System Results'!AW47,0)","v":0},{"$f":"+IF(ISNUMBER('System Results'!AZ47),'System Results'!AZ47,0)","v":0},{"$f":"+IF(ISNUMBER('System Results'!BC47),'System Results'!BC47,0)","v":0},{"$f":"+IF(ISNUMBER('System Results'!BF47),'System Results'!BF47,0)","v":0},{"$f":"+IF(ISNUMBER('System Results'!BI47),'System Results'!BI47,0)","v":0},{"$f":"+IF(ISNUMBER('System Results'!BL47),'System Results'!BL47,0)","v":0},{"$f":"+IF(ISNUMBER('System Results'!BO47),'System Results'!BO47,0)","v":0},{"$f":"+IF(ISNUMBER('System Results'!BR47),'System Results'!BR47,0)","v":0},{"$f":"+IF(ISNUMBER('System Results'!BU47),'System Results'!BU47,0)","v":0},{"$f":"+IF(ISNUMBER('System Results'!BX47),'System Results'!BX47,0)","v":0},{"$f":"+IF(ISNUMBER('System Results'!CA47),'System Results'!CA47,0)","v":0},{"$f":"+IF(ISNUMBER('System Results'!CD47),'System Results'!CD47,0)","v":0},{"$f":"+IF(ISNUMBER('System Results'!CG47),'System Results'!CG47,0)","v":0},{"$f":"+IF(ISNUMBER('System Results'!CJ47),'System Results'!CJ47,0)","v":0},{"$f":"+IF(ISNUMBER('System Results'!CM47),'System Results'!CM47,0)","v":0},{"$f":"+IF(ISNUMBER('System Results'!CP47),'System Results'!CP47,0)","v":0},{"$f":"+IF(ISNUMBER('System Results'!CS47),'System Results'!CS47,0)","v":0},{"$f":"+IF(ISNUMBER('System Results'!CV47),'System Results'!CV47,0)","v":0},{"$f":"+IF(ISNUMBER('System Results'!CY47),'System Results'!CY47,0)","v":0},{"$f":"+IF(ISNUMBER('System Results'!DB47),'System Results'!DB47,0)","v":0},{"$f":"+IF(ISNUMBER('System Results'!DE47),'System Results'!DE47,0)","v":0},{"$f":"+IF(ISNUMBER('System Results'!DH47),'System Results'!DH47,0)","v":0},{"$f":"+IF(ISNUMBER('System Results'!DK47),'System Results'!DK47,0)","v":0},{"$f":"+IF(ISNUMBER('System Results'!DN47),'System Results'!DN47,0)","v":0},{"$f":"+IF(ISNUMBER('System Results'!DQ47),'System Results'!DQ47,0)","v":0},{"$f":"+IF(ISNUMBER('System Results'!DT47),'System Results'!DT47,0)","v":0},{"$f":"+IF(ISNUMBER('System Results'!DW47),'System Results'!DW47,0)","v":0},{"$f":"+IF(ISNUMBER('System Results'!DZ47),'System Results'!DZ47,0)","v":0},{"$f":"+IF(ISNUMBER('System Results'!EC47),'System Results'!EC47,0)","v":0},{"$f":"+IF(ISNUMBER('System Results'!EF47),'System Results'!EF47,0)","v":0},{"$f":"+IF(ISNUMBER('System Results'!EI47),'System Results'!EI47,0)","v":0},{"$f":"+IF(ISNUMBER('System Results'!EL47),'System Results'!EL47,0)","v":0},{"$f":"+IF(ISNUMBER('System Results'!EO47),'System Results'!EO47,0)","v":0},{"$f":"+IF(ISNUMBER('System Results'!ER47),'System Results'!ER47,0)","v":0},{"$f":"+IF(ISNUMBER('System Results'!EU47),'System Results'!EU47,0)","v":0},{"$f":"+IF(ISNUMBER('System Results'!EX47),'System Results'!EX47,0)","v":0},{"$f":"+IF(ISNUMBER('System Results'!FA47),'System Results'!FA47,0)","v":0},{"$f":"+IF(ISNUMBER('System Results'!FD47),'System Results'!FD47,0)","v":0},{"$f":"+IF(ISNUMBER('System Results'!FG47),'System Results'!FG47,0)","v":0},{"$f":"+IF(ISNUMBER('System Results'!FJ47),'System Results'!FJ47,0)","v":0},{"$f":"+IF(ISNUMBER('System Results'!FM47),'System Results'!FM47,0)","v":0},{"$f":"+IF(ISNUMBER('System Results'!FP47),'System Results'!FP47,0)","v":0},{"$f":"+IF(ISNUMBER('System Results'!FS47),'System Results'!FS47,0)","v":0},{"$f":"+IF(ISNUMBER('System Results'!FV47),'System Results'!FV47,0)","v":0},{"$f":"+IF(ISNUMBER('System Results'!FY47),'System Results'!FY47,0)","v":0},{"$f":"+IF(ISNUMBER('System Results'!GB47),'System Results'!GB47,0)","v":0},{"$f":"+IF(ISNUMBER('System Results'!GE47),'System Results'!GE47,0)","v":0},{"$f":"+IF(ISNUMBER('System Results'!GH47),'System Results'!GH47,0)","v":0},{"$f":"+IF(ISNUMBER('System Results'!GK47),'System Results'!GK47,0)","v":0},{"$f":"+IF(ISNUMBER('System Results'!GN47),'System Results'!GN47,0)","v":0},{"$f":"+IF(ISNUMBER('System Results'!GQ47),'System Results'!GQ47,0)","v":0},{"$f":"+IF(ISNUMBER('System Results'!GT47),'System Results'!GT47,0)","v":0},{"$f":"+IF(ISNUMBER('System Results'!GW47),'System Results'!GW47,0)","v":0},{"$f":"+IF(ISNUMBER('System Results'!GZ47),'System Results'!GZ47,0)","v":0},{"$f":"+IF(ISNUMBER('System Results'!HC47),'System Results'!HC47,0)","v":0},{"$f":"+IF(ISNUMBER('System Results'!HF47),'System Results'!HF47,0)","v":0},{"$f":"+IF(ISNUMBER('System Results'!HI47),'System Results'!HI47,0)","v":0},{"$f":"+IF(ISNUMBER('System Results'!HL47),'System Results'!HL47,0)","v":0},{"$f":"+IF(ISNUMBER('System Results'!HO47),'System Results'!HO47,0)","v":0},{"$f":"+IF(ISNUMBER('System Results'!HR47),'System Results'!HR47,0)","v":0},{"$f":"+IF(ISNUMBER('System Results'!HU47),'System Results'!HU47,0)","v":0},{"$f":"+IF(ISNUMBER('System Results'!HX47),'System Results'!HX47,0)","v":0},{"$f":"+IF(ISNUMBER('System Results'!IA47),'System Results'!IA47,0)","v":0},{"$f":"+IF(ISNUMBER('System Results'!ID47),'System Results'!ID47,0)","v":0},{"$f":"+IF(ISNUMBER('System Results'!IG47),'System Results'!IG47,0)","v":0},{"$f":"+IF(ISNUMBER('System Results'!IJ47),'System Results'!IJ47,0)","v":0},{"$f":"+IF(ISNUMBER('System Results'!IM47),'System Results'!IM47,0)","v":0},{"$f":"+IF(ISNUMBER('System Results'!IP47),'System Results'!IP47,0)","v":0},{"$f":"+IF(ISNUMBER('System Results'!IS47),'System Results'!IS47,0)","v":0},{"$f":"+IF(ISNUMBER('System Results'!IV47),'System Results'!IV47,0)","v":0},{"$f":"+IF(ISNUMBER('System Results'!IY47),'System Results'!IY47,0)","v":0},{"$f":"+IF(ISNUMBER('System Results'!JB47),'System Results'!JB47,0)","v":0},{"$f":"+IF(ISNUMBER('System Results'!JE47),'System Results'!JE47,0)","v":0},{"$f":"+IF(ISNUMBER('System Results'!JH47),'System Results'!JH47,0)","v":0},{"$f":"+IF(ISNUMBER('System Results'!JK47),'System Results'!JK47,0)","v":0},{"$f":"+IF(ISNUMBER('System Results'!JN47),'System Results'!JN47,0)","v":0},{"$f":"+IF(ISNUMBER('System Results'!JQ47),'System Results'!JQ47,0)","v":0},{"$f":"+IF(ISNUMBER('System Results'!JT47),'System Results'!JT47,0)","v":0},{"$f":"+IF(ISNUMBER('System Results'!JW47),'System Results'!JW47,0)","v":0},{"$f":"+IF(ISNUMBER('System Results'!JZ47),'System Results'!JZ47,0)","v":0},{"$f":"+IF(ISNUMBER('System Results'!KC47),'System Results'!KC47,0)","v":0},{"$f":"+IF(ISNUMBER('System Results'!KF47),'System Results'!KF47,0)","v":0},{"$f":"+IF(ISNUMBER('System Results'!KI47),'System Results'!KI47,0)","v":0},{"$f":"+IF(ISNUMBER('System Results'!KL47),'System Results'!KL47,0)","v":0},{"$f":"+IF(ISNUMBER('System Results'!KO47),'System Results'!KO47,0)","v":0},{"$f":"+IF(ISNUMBER('System Results'!KR47),'System Results'!KR47,0)","v":0},{"$f":"+IF(ISNUMBER('System Results'!KU47),'System Results'!KU47,0)","v":0},{"$f":"+IF(ISNUMBER('System Results'!KX47),'System Results'!KX47,0)","v":0},{"$f":"+IF(ISNUMBER('System Results'!LA47),'System Results'!LA47,0)","v":0},{"$f":"+IF(ISNUMBER('System Results'!LD47),'System Results'!LD47,0)","v":0},{"$f":"+IF(ISNUMBER('System Results'!LG47),'System Results'!LG47,0)","v":0},{"$f":"+IF(ISNUMBER('System Results'!LJ47),'System Results'!LJ47,0)","v":0},{"$f":"+IF(ISNUMBER('System Results'!LM47),'System Results'!LM47,0)","v":0},{"$f":"+IF(ISNUMBER('System Results'!LP47),'System Results'!LP47,0)","v":0},{"$f":"+IF(ISNUMBER('System Results'!LS47),'System Results'!LS47,0)","v":0},{"$f":"+IF(ISNUMBER('System Results'!LV47),'System Results'!LV47,0)","v":0},{"$f":"+IF(ISNUMBER('System Results'!LY47),'System Results'!LY47,0)","v":0},{"$f":"+IF(ISNUMBER('System Results'!MB47),'System Results'!MB47,0)","v":0},{"$f":"+IF(ISNUMBER('System Results'!ME47),'System Results'!ME47,0)","v":0},{"$f":"+IF(ISNUMBER('System Results'!MH47),'System Results'!MH47,0)","v":0},{"$f":"+IF(ISNUMBER('System Results'!MK47),'System Results'!MK47,0)","v":0},{"$f":"+IF(ISNUMBER('System Results'!MN47),'System Results'!MN47,0)","v":0},{"$f":"+IF(ISNUMBER('System Results'!MQ47),'System Results'!MQ47,0)","v":0},{"$f":"+IF(ISNUMBER('System Results'!MT47),'System Results'!MT47,0)","v":0},{"$f":"+IF(ISNUMBER('System Results'!MW47),'System Results'!MW47,0)","v":0},{"$f":"+IF(ISNUMBER('System Results'!MZ47),'System Results'!MZ47,0)","v":0},{"$f":"+IF(ISNUMBER('System Results'!NC47),'System Results'!NC47,0)","v":0},{"$f":"+IF(ISNUMBER('System Results'!NF47),'System Results'!NF47,0)","v":0},{"$f":"+IF(ISNUMBER('System Results'!NI47),'System Results'!NI47,0)","v":0},{"$f":"+IF(ISNUMBER('System Results'!NL47),'System Results'!NL47,0)","v":0},{"$f":"+IF(ISNUMBER('System Results'!NO47),'System Results'!NO47,0)","v":0},{"$f":"+IF(ISNUMBER('System Results'!NR47),'System Results'!NR47,0)","v":0},{"$f":"+IF(ISNUMBER('System Results'!NU47),'System Results'!NU47,0)","v":0},{"$f":"+IF(ISNUMBER('System Results'!NX47),'System Results'!NX47,0)","v":0},{"$f":"+IF(ISNUMBER('System Results'!OA47),'System Results'!OA47,0)","v":0},{"$f":"+IF(ISNUMBER('System Results'!OD47),'System Results'!OD47,0)","v":0},{"$f":"+IF(ISNUMBER('System Results'!OG47),'System Results'!OG47,0)","v":0},{"$f":"+IF(ISNUMBER('System Results'!OJ47),'System Results'!OJ47,0)","v":0},{"$f":"+IF(ISNUMBER('System Results'!OM47),'System Results'!OM47,0)","v":0},{"$f":"+IF(ISNUMBER('System Results'!OP47),'System Results'!OP47,0)","v":0},{"$f":"+IF(ISNUMBER('System Results'!OS47),'System Results'!OS47,0)","v":0},{"$f":"+IF(ISNUMBER('System Results'!OV47),'System Results'!OV47,0)","v":0},{"$f":"+IF(ISNUMBER('System Results'!OY47),'System Results'!OY47,0)","v":0},{"$f":"+IF(ISNUMBER('System Results'!PB47),'System Results'!PB47,0)","v":0},{"$f":"+IF(ISNUMBER('System Results'!PE47),'System Results'!PE47,0)","v":0},{"$f":"+IF(ISNUMBER('System Results'!PH47),'System Results'!PH47,0)","v":0},{"$f":"+IF(ISNUMBER('System Results'!PK47),'System Results'!PK47,0)","v":0},{"$f":"+IF(ISNUMBER('System Results'!PN47),'System Results'!PN47,0)","v":0},{"$f":"+IF(ISNUMBER('System Results'!PQ47),'System Results'!PQ47,0)","v":0},{"$f":"+IF(ISNUMBER('System Results'!PT47),'System Results'!PT47,0)","v":0},{"$f":"+IF(ISNUMBER('System Results'!PW47),'System Results'!PW47,0)","v":0},{"$f":"+IF(ISNUMBER('System Results'!PZ47),'System Results'!PZ47,0)","v":0},{"$f":"+IF(ISNUMBER('System Results'!QC47),'System Results'!QC47,0)","v":0},{"$f":"+IF(ISNUMBER('System Results'!QF47),'System Results'!QF47,0)","v":0},{"$f":"+IF(ISNUMBER('System Results'!QI47),'System Results'!QI47,0)","v":0},{"$f":"+IF(ISNUMBER('System Results'!QL47),'System Results'!QL47,0)","v":0},{"$f":"+IF(ISNUMBER('System Results'!QO47),'System Results'!QO47,0)","v":0},{"$f":"+IF(ISNUMBER('System Results'!QR47),'System Results'!QR47,0)","v":0},{"$f":"+IF(ISNUMBER('System Results'!QU47),'System Results'!QU47,0)","v":0},{"$f":"+IF(ISNUMBER('System Results'!QX47),'System Results'!QX47,0)","v":0},{"$f":"+IF(ISNUMBER('System Results'!RA47),'System Results'!RA47,0)","v":0},{"$f":"+IF(ISNUMBER('System Results'!RD47),'System Results'!RD47,0)","v":0},{"$f":"+IF(ISNUMBER('System Results'!RG47),'System Results'!RG47,0)","v":0},{"$f":"+IF(ISNUMBER('System Results'!RJ47),'System Results'!RJ47,0)","v":0},{"$f":"+IF(ISNUMBER('System Results'!RM47),'System Results'!RM47,0)","v":0},{"$f":"+IF(ISNUMBER('System Results'!RP47),'System Results'!RP47,0)","v":0},{"$f":"+IF(ISNUMBER('System Results'!RS47),'System Results'!RS47,0)","v":0},{"$f":"+IF(ISNUMBER('System Results'!RV47),'System Results'!RV47,0)","v":0},{"$f":"+IF(ISNUMBER('System Results'!RY47),'System Results'!RY47,0)","v":0},{"$f":"+IF(ISNUMBER('System Results'!SB47),'System Results'!SB47,0)","v":0},{"$f":"+IF(ISNUMBER('System Results'!SE47),'System Results'!SE47,0)","v":0},{"$f":"+IF(ISNUMBER('System Results'!SH47),'System Results'!SH47,0)","v":0},{"$f":"+IF(ISNUMBER('System Results'!SK47),'System Results'!SK47,0)","v":0},{"$f":"+IF(ISNUMBER('System Results'!SN47),'System Results'!SN47,0)","v":0},{"$f":"+IF(ISNUMBER('System Results'!SQ47),'System Results'!SQ47,0)","v":0},{"$f":"+IF(ISNUMBER('System Results'!ST47),'System Results'!ST47,0)","v":0},{"$f":"+IF(ISNUMBER('System Results'!SW47),'System Results'!SW47,0)","v":0},{"$f":"+IF(ISNUMBER('System Results'!SZ47),'System Results'!SZ47,0)","v":0},{"$f":"+IF(ISNUMBER('System Results'!TC47),'System Results'!TC47,0)","v":0},{"$f":"+IF(ISNUMBER('System Results'!TF47),'System Results'!TF47,0)","v":0},{"$f":"+IF(ISNUMBER('System Results'!TI47),'System Results'!TI47,0)","v":0},{"$f":"+IF(ISNUMBER('System Results'!TL47),'System Results'!TL47,0)","v":0},{"$f":"+IF(ISNUMBER('System Results'!TO47),'System Results'!TO47,0)","v":0},{"$f":"+IF(ISNUMBER('System Results'!TR47),'System Results'!TR47,0)","v":0},{"$f":"+IF(ISNUMBER('System Results'!TU47),'System Results'!TU47,0)","v":0},{"$f":"+IF(ISNUMBER('System Results'!TX47),'System Results'!TX47,0)","v":0},{"$f":"+IF(ISNUMBER('System Results'!UA47),'System Results'!UA47,0)","v":0},{"$f":"+IF(ISNUMBER('System Results'!UD47),'System Results'!UD47,0)","v":0},{"$f":"+IF(ISNUMBER('System Results'!UG47),'System Results'!UG47,0)","v":0},{"$f":"+IF(ISNUMBER('System Results'!UJ47),'System Results'!UJ47,0)","v":0},{"$f":"+IF(ISNUMBER('System Results'!UM47),'System Results'!UM47,0)","v":0},{"$f":"+IF(ISNUMBER('System Results'!UP47),'System Results'!UP47,0)","v":0},{"$f":"+IF(ISNUMBER('System Results'!US47),'System Results'!US47,0)","v":0},{"$f":"+IF(ISNUMBER('System Results'!UV47),'System Results'!UV47,0)","v":0},{"$f":"+IF(ISNUMBER('System Results'!UY47),'System Results'!UY47,0)","v":0},{"$f":"+IF(ISNUMBER('System Results'!VB47),'System Results'!VB47,0)","v":0},{"$f":"+IF(ISNUMBER('System Results'!VE47),'System Results'!VE47,0)","v":0},{"$f":"+IF(ISNUMBER('System Results'!VH47),'System Results'!VH47,0)","v":0},{"$f":"+IF(ISNUMBER('System Results'!VK47),'System Results'!VK47,0)","v":0},{"$f":"+IF(ISNUMBER('System Results'!VN47),'System Results'!VN47,0)","v":0},{"$f":"+IF(ISNUMBER('System Results'!VQ47),'System Results'!VQ47,0)","v":0},{"$f":"+IF(ISNUMBER('System Results'!VT47),'System Results'!VT47,0)","v":0},{"$f":"+IF(ISNUMBER('System Results'!VW47),'System Results'!VW47,0)","v":0},{"$f":"+IF(ISNUMBER('System Results'!VZ47),'System Results'!VZ47,0)","v":0},{"$f":"+IF(ISNUMBER('System Results'!WC47),'System Results'!WC47,0)","v":0},{"$f":"+IF(ISNUMBER('System Results'!WF47),'System Results'!WF47,0)","v":0},{"$f":"+IF(ISNUMBER('System Results'!WI47),'System Results'!WI47,0)","v":0},{"$f":"+IF(ISNUMBER('System Results'!WL47),'System Results'!WL47,0)","v":0},{"$f":"+IF(ISNUMBER('System Results'!WO47),'System Results'!WO47,0)","v":0},{"$f":"+IF(ISNUMBER('System Results'!WR47),'System Results'!WR47,0)","v":0},{"$f":"+IF(ISNUMBER('System Results'!WU47),'System Results'!WU47,0)","v":0},{"$f":"+IF(ISNUMBER('System Results'!WX47),'System Results'!WX47,0)","v":0},{"$f":"+IF(ISNUMBER('System Results'!XA47),'System Results'!XA47,0)","v":0},{"$f":"+IF(ISNUMBER('System Results'!XD47),'System Results'!XD47,0)","v":0},{"$f":"+IF(ISNUMBER('System Results'!XG47),'System Results'!XG47,0)","v":0},{"$f":"+IF(ISNUMBER('System Results'!XJ47),'System Results'!XJ47,0)","v":0},{"$f":"+IF(ISNUMBER('System Results'!XM47),'System Results'!XM47,0)","v":0},{"$f":"+IF(ISNUMBER('System Results'!XP47),'System Results'!XP47,0)","v":0},{"$f":"+IF(ISNUMBER('System Results'!XS47),'System Results'!XS47,0)","v":0},{"$f":"+IF(ISNUMBER('System Results'!XV47),'System Results'!XV47,0)","v":0},{"$f":"+IF(ISNUMBER('System Results'!XY47),'System Results'!XY47,0)","v":0},{"$f":"+IF(ISNUMBER('System Results'!YB47),'System Results'!YB47,0)","v":0},{"$f":"+IF(ISNUMBER('System Results'!YE47),'System Results'!YE47,0)","v":0},{"$f":"+IF(ISNUMBER('System Results'!YH47),'System Results'!YH47,0)","v":0},{"$f":"+IF(ISNUMBER('System Results'!YK47),'System Results'!YK47,0)","v":0},{"$f":"+IF(ISNUMBER('System Results'!YN47),'System Results'!YN47,0)","v":0},{"$f":"+IF(ISNUMBER('System Results'!YQ47),'System Results'!YQ47,0)","v":0},{"$f":"+IF(ISNUMBER('System Results'!YT47),'System Results'!YT47,0)","v":0},{"$f":"+IF(ISNUMBER('System Results'!YW47),'System Results'!YW47,0)","v":0},{"$f":"+IF(ISNUMBER('System Results'!YZ47),'System Results'!YZ47,0)","v":0},{"$f":"+IF(ISNUMBER('System Results'!ZC47),'System Results'!ZC47,0)","v":0},{"$f":"+IF(ISNUMBER('System Results'!ZF47),'System Results'!ZF47,0)","v":0},{"$f":"+IF(ISNUMBER('System Results'!ZI47),'System Results'!ZI47,0)","v":0},{"$f":"+IF(ISNUMBER('System Results'!ZL47),'System Results'!ZL47,0)","v":0},{"$f":"+IF(ISNUMBER('System Results'!ZO47),'System Results'!ZO47,0)","v":0},{"$f":"+IF(ISNUMBER('System Results'!ZR47),'System Results'!ZR47,0)","v":0},{"$f":"+IF(ISNUMBER('System Results'!ZU47),'System Results'!ZU47,0)","v":0},{"$f":"+IF(ISNUMBER('System Results'!ZX47),'System Results'!ZX47,0)","v":0},{"$f":"+IF(ISNUMBER('System Results'!AAA47),'System Results'!AAA47,0)","v":0},{"$f":"+IF(ISNUMBER('System Results'!AAD47),'System Results'!AAD47,0)","v":0},{"$f":"+IF(ISNUMBER('System Results'!AAG47),'System Results'!AAG47,0)","v":0},{"$f":"+IF(ISNUMBER('System Results'!AAJ47),'System Results'!AAJ47,0)","v":0},{"$f":"+IF(ISNUMBER('System Results'!AAM47),'System Results'!AAM47,0)","v":0},{"$f":"+IF(ISNUMBER('System Results'!AAP47),'System Results'!AAP47,0)","v":0},{"$f":"+IF(ISNUMBER('System Results'!AAS47),'System Results'!AAS47,0)","v":0},{"$f":"+IF(ISNUMBER('System Results'!AAV47),'System Results'!AAV47,0)","v":0},{"$f":"+IF(ISNUMBER('System Results'!AAY47),'System Results'!AAY47,0)","v":0},{"$f":"+IF(ISNUMBER('System Results'!ABB47),'System Results'!ABB47,0)","v":0},{"$f":"+IF(ISNUMBER('System Results'!ABE47),'System Results'!ABE47,0)","v":0},{"$f":"+IF(ISNUMBER('System Results'!ABH47),'System Results'!ABH47,0)","v":0},{"$f":"+IF(ISNUMBER('System Results'!ABK47),'System Results'!ABK47,0)","v":0},{"$f":"+IF(ISNUMBER('System Results'!ABN47),'System Results'!ABN47,0)","v":0},{"$f":"+IF(ISNUMBER('System Results'!ABQ47),'System Results'!ABQ47,0)","v":0},{"$f":"+IF(ISNUMBER('System Results'!ABT47),'System Results'!ABT47,0)","v":0},{"$f":"+IF(ISNUMBER('System Results'!ABW47),'System Results'!ABW47,0)","v":0},{"$f":"+IF(ISNUMBER('System Results'!ABZ47),'System Results'!ABZ47,0)","v":0},{"$f":"+IF(ISNUMBER('System Results'!ACC47),'System Results'!ACC47,0)","v":0},{"$f":"+IF(ISNUMBER('System Results'!ACF47),'System Results'!ACF47,0)","v":0},{"$f":"+IF(ISNUMBER('System Results'!ACI47),'System Results'!ACI47,0)","v":0},{"$f":"+IF(ISNUMBER('System Results'!ACL47),'System Results'!ACL47,0)","v":0},{"$f":"+IF(ISNUMBER('System Results'!ACO47),'System Results'!ACO47,0)","v":0},{"$f":"+IF(ISNUMBER('System Results'!ACR47),'System Results'!ACR47,0)","v":0},{"$f":"+IF(ISNUMBER('System Results'!ACU47),'System Results'!ACU47,0)","v":0},{"$f":"+IF(ISNUMBER('System Results'!ACX47),'System Results'!ACX47,0)","v":0},{"$f":"+IF(ISNUMBER('System Results'!ADA47),'System Results'!ADA47,0)","v":0},{"$f":"+IF(ISNUMBER('System Results'!ADD47),'System Results'!ADD47,0)","v":0},{"$f":"+IF(ISNUMBER('System Results'!ADG47),'System Results'!ADG47,0)","v":0},{"$f":"+IF(ISNUMBER('System Results'!ADJ47),'System Results'!ADJ47,0)","v":0},{"$f":"+IF(ISNUMBER('System Results'!ADM47),'System Results'!ADM47,0)","v":0},{"$f":"+IF(ISNUMBER('System Results'!ADP47),'System Results'!ADP47,0)","v":0},{"$f":"+IF(ISNUMBER('System Results'!ADS47),'System Results'!ADS47,0)","v":0},{"$f":"+IF(ISNUMBER('System Results'!ADV47),'System Results'!ADV47,0)","v":0},{"$f":"+IF(ISNUMBER('System Results'!ADY47),'System Results'!ADY47,0)","v":0},{"$f":"+IF(ISNUMBER('System Results'!AEB47),'System Results'!AEB47,0)","v":0},{"$f":"+IF(ISNUMBER('System Results'!AEE47),'System Results'!AEE47,0)","v":0},{"$f":"+IF(ISNUMBER('System Results'!AEH47),'System Results'!AEH47,0)","v":0},{"$f":"+IF(ISNUMBER('System Results'!AEK47),'System Results'!AEK47,0)","v":0},{"$f":"+IF(ISNUMBER('System Results'!AEN47),'System Results'!AEN47,0)","v":0},{"$f":"+IF(ISNUMBER('System Results'!AEQ47),'System Results'!AEQ47,0)","v":0},{"$f":"+IF(ISNUMBER('System Results'!AET47),'System Results'!AET47,0)","v":0},{"$f":"+IF(ISNUMBER('System Results'!AEW47),'System Results'!AEW47,0)","v":0},{"$f":"+IF(ISNUMBER('System Results'!AEZ47),'System Results'!AEZ47,0)","v":0},{"$f":"+IF(ISNUMBER('System Results'!AFC47),'System Results'!AFC47,0)","v":0},{"$f":"+IF(ISNUMBER('System Results'!AFF47),'System Results'!AFF47,0)","v":0},{"$f":"+IF(ISNUMBER('System Results'!AFI47),'System Results'!AFI47,0)","v":0},{"$f":"+IF(ISNUMBER('System Results'!AFL47),'System Results'!AFL47,0)","v":0},{"$f":"+IF(ISNUMBER('System Results'!AFO47),'System Results'!AFO47,0)","v":0},{"$f":"+IF(ISNUMBER('System Results'!AFR47),'System Results'!AFR47,0)","v":0},{"$f":"+IF(ISNUMBER('System Results'!AFU47),'System Results'!AFU47,0)","v":0},{"$f":"+IF(ISNUMBER('System Results'!AFX47),'System Results'!AFX47,0)","v":0},{"$f":"+IF(ISNUMBER('System Results'!AGA47),'System Results'!AGA47,0)","v":0},{"$f":"+IF(ISNUMBER('System Results'!AGD47),'System Results'!AGD47,0)","v":0},{"$f":"+IF(ISNUMBER('System Results'!AGG47),'System Results'!AGG47,0)","v":0},{"$f":"+IF(ISNUMBER('System Results'!AGJ47),'System Results'!AGJ47,0)","v":0},{"$f":"+IF(ISNUMBER('System Results'!AGM47),'System Results'!AGM47,0)","v":0},{"$f":"+IF(ISNUMBER('System Results'!AGP47),'System Results'!AGP47,0)","v":0},{"$f":"+IF(ISNUMBER('System Results'!AGS47),'System Results'!AGS47,0)","v":0},{"$f":"+IF(ISNUMBER('System Results'!AGV47),'System Results'!AGV47,0)","v":0},{"$f":"+IF(ISNUMBER('System Results'!AGY47),'System Results'!AGY47,0)","v":0},{"$f":"+IF(ISNUMBER('System Results'!AHB47),'System Results'!AHB47,0)","v":0},{"$f":"+IF(ISNUMBER('System Results'!AHE47),'System Results'!AHE47,0)","v":0},{"$f":"+IF(ISNUMBER('System Results'!AHH47),'System Results'!AHH47,0)","v":0},{"$f":"+IF(ISNUMBER('System Results'!AHK47),'System Results'!AHK47,0)","v":0},{"$f":"+IF(ISNUMBER('System Results'!AHN47),'System Results'!AHN47,0)","v":0},{"$f":"+IF(ISNUMBER('System Results'!AHQ47),'System Results'!AHQ47,0)","v":0},{"$f":"+IF(ISNUMBER('System Results'!AHT47),'System Results'!AHT47,0)","v":0}]
["Scope 3",{"$f":"+'System Results'!B48","v":"End-of-life treatment of sold products-Not Used"},0,{"$f":"+IF(ISNUMBER('System Results'!G48),'System Results'!G48,0)","v":0},{"$f":"+IF(ISNUMBER('System Results'!J48),'System Results'!J48,0)","v":0},{"$f":"+IF(ISNUMBER('System Results'!M48),'System Results'!M48,0)","v":0},{"$f":"+IF(ISNUMBER('System Results'!P48),'System Results'!P48,0)","v":0},{"$f":"+IF(ISNUMBER('System Results'!S48),'System Results'!S48,0)","v":0},{"$f":"+IF(ISNUMBER('System Results'!V48),'System Results'!V48,0)","v":0},{"$f":"+IF(ISNUMBER('System Results'!Y48),'System Results'!Y48,0)","v":0},{"$f":"+IF(ISNUMBER('System Results'!AB48),'System Results'!AB48,0)","v":0},{"$f":"+IF(ISNUMBER('System Results'!AE48),'System Results'!AE48,0)","v":0},{"$f":"+IF(ISNUMBER('System Results'!AH48),'System Results'!AH48,0)","v":0},{"$f":"+IF(ISNUMBER('System Results'!AK48),'System Results'!AK48,0)","v":0},{"$f":"+IF(ISNUMBER('System Results'!AN48),'System Results'!AN48,0)","v":0},{"$f":"+IF(ISNUMBER('System Results'!AQ48),'System Results'!AQ48,0)","v":0},{"$f":"+IF(ISNUMBER('System Results'!AT48),'System Results'!AT48,0)","v":0},{"$f":"+IF(ISNUMBER('System Results'!AW48),'System Results'!AW48,0)","v":0},{"$f":"+IF(ISNUMBER('System Results'!AZ48),'System Results'!AZ48,0)","v":0},{"$f":"+IF(ISNUMBER('System Results'!BC48),'System Results'!BC48,0)","v":0},{"$f":"+IF(ISNUMBER('System Results'!BF48),'System Results'!BF48,0)","v":0},{"$f":"+IF(ISNUMBER('System Results'!BI48),'System Results'!BI48,0)","v":0},{"$f":"+IF(ISNUMBER('System Results'!BL48),'System Results'!BL48,0)","v":0},{"$f":"+IF(ISNUMBER('System Results'!BO48),'System Results'!BO48,0)","v":0},{"$f":"+IF(ISNUMBER('System Results'!BR48),'System Results'!BR48,0)","v":0},{"$f":"+IF(ISNUMBER('System Results'!BU48),'System Results'!BU48,0)","v":0},{"$f":"+IF(ISNUMBER('System Results'!BX48),'System Results'!BX48,0)","v":0},{"$f":"+IF(ISNUMBER('System Results'!CA48),'System Results'!CA48,0)","v":0},{"$f":"+IF(ISNUMBER('System Results'!CD48),'System Results'!CD48,0)","v":0},{"$f":"+IF(ISNUMBER('System Results'!CG48),'System Results'!CG48,0)","v":0},{"$f":"+IF(ISNUMBER('System Results'!CJ48),'System Results'!CJ48,0)","v":0},{"$f":"+IF(ISNUMBER('System Results'!CM48),'System Results'!CM48,0)","v":0},{"$f":"+IF(ISNUMBER('System Results'!CP48),'System Results'!CP48,0)","v":0},{"$f":"+IF(ISNUMBER('System Results'!CS48),'System Results'!CS48,0)","v":0},{"$f":"+IF(ISNUMBER('System Results'!CV48),'System Results'!CV48,0)","v":0},{"$f":"+IF(ISNUMBER('System Results'!CY48),'System Results'!CY48,0)","v":0},{"$f":"+IF(ISNUMBER('System Results'!DB48),'System Results'!DB48,0)","v":0},{"$f":"+IF(ISNUMBER('System Results'!DE48),'System Results'!DE48,0)","v":0},{"$f":"+IF(ISNUMBER('System Results'!DH48),'System Results'!DH48,0)","v":0},{"$f":"+IF(ISNUMBER('System Results'!DK48),'System Results'!DK48,0)","v":0},{"$f":"+IF(ISNUMBER('System Results'!DN48),'System Results'!DN48,0)","v":0},{"$f":"+IF(ISNUMBER('System Results'!DQ48),'System Results'!DQ48,0)","v":0},{"$f":"+IF(ISNUMBER('System Results'!DT48),'System Results'!DT48,0)","v":0},{"$f":"+IF(ISNUMBER('System Results'!DW48),'System Results'!DW48,0)","v":0},{"$f":"+IF(ISNUMBER('System Results'!DZ48),'System Results'!DZ48,0)","v":0},{"$f":"+IF(ISNUMBER('System Results'!EC48),'System Results'!EC48,0)","v":0},{"$f":"+IF(ISNUMBER('System Results'!EF48),'System Results'!EF48,0)","v":0},{"$f":"+IF(ISNUMBER('System Results'!EI48),'System Results'!EI48,0)","v":0},{"$f":"+IF(ISNUMBER('System Results'!EL48),'System Results'!EL48,0)","v":0},{"$f":"+IF(ISNUMBER('System Results'!EO48),'System Results'!EO48,0)","v":0},{"$f":"+IF(ISNUMBER('System Results'!ER48),'System Results'!ER48,0)","v":0},{"$f":"+IF(ISNUMBER('System Results'!EU48),'System Results'!EU48,0)","v":0},{"$f":"+IF(ISNUMBER('System Results'!EX48),'System Results'!EX48,0)","v":0},{"$f":"+IF(ISNUMBER('System Results'!FA48),'System Results'!FA48,0)","v":0},{"$f":"+IF(ISNUMBER('System Results'!FD48),'System Results'!FD48,0)","v":0},{"$f":"+IF(ISNUMBER('System Results'!FG48),'System Results'!FG48,0)","v":0},{"$f":"+IF(ISNUMBER('System Results'!FJ48),'System Results'!FJ48,0)","v":0},{"$f":"+IF(ISNUMBER('System Results'!FM48),'System Results'!FM48,0)","v":0},{"$f":"+IF(ISNUMBER('System Results'!FP48),'System Results'!FP48,0)","v":0},{"$f":"+IF(ISNUMBER('System Results'!FS48),'System Results'!FS48,0)","v":0},{"$f":"+IF(ISNUMBER('System Results'!FV48),'System Results'!FV48,0)","v":0},{"$f":"+IF(ISNUMBER('System Results'!FY48),'System Results'!FY48,0)","v":0},{"$f":"+IF(ISNUMBER('System Results'!GB48),'System Results'!GB48,0)","v":0},{"$f":"+IF(ISNUMBER('System Results'!GE48),'System Results'!GE48,0)","v":0},{"$f":"+IF(ISNUMBER('System Results'!GH48),'System Results'!GH48,0)","v":0},{"$f":"+IF(ISNUMBER('System Results'!GK48),'System Results'!GK48,0)","v":0},{"$f":"+IF(ISNUMBER('System Results'!GN48),'System Results'!GN48,0)","v":0},{"$f":"+IF(ISNUMBER('System Results'!GQ48),'System Results'!GQ48,0)","v":0},{"$f":"+IF(ISNUMBER('System Results'!GT48),'System Results'!GT48,0)","v":0},{"$f":"+IF(ISNUMBER('System Results'!GW48),'System Results'!GW48,0)","v":0},{"$f":"+IF(ISNUMBER('System Results'!GZ48),'System Results'!GZ48,0)","v":0},{"$f":"+IF(ISNUMBER('System Results'!HC48),'System Results'!HC48,0)","v":0},{"$f":"+IF(ISNUMBER('System Results'!HF48),'System Results'!HF48,0)","v":0},{"$f":"+IF(ISNUMBER('System Results'!HI48),'System Results'!HI48,0)","v":0},{"$f":"+IF(ISNUMBER('System Results'!HL48),'System Results'!HL48,0)","v":0},{"$f":"+IF(ISNUMBER('System Results'!HO48),'System Results'!HO48,0)","v":0},{"$f":"+IF(ISNUMBER('System Results'!HR48),'System Results'!HR48,0)","v":0},{"$f":"+IF(ISNUMBER('System Results'!HU48),'System Results'!HU48,0)","v":0},{"$f":"+IF(ISNUMBER('System Results'!HX48),'System Results'!HX48,0)","v":0},{"$f":"+IF(ISNUMBER('System Results'!IA48),'System Results'!IA48,0)","v":0},{"$f":"+IF(ISNUMBER('System Results'!ID48),'System Results'!ID48,0)","v":0},{"$f":"+IF(ISNUMBER('System Results'!IG48),'System Results'!IG48,0)","v":0},{"$f":"+IF(ISNUMBER('System Results'!IJ48),'System Results'!IJ48,0)","v":0},{"$f":"+IF(ISNUMBER('System Results'!IM48),'System Results'!IM48,0)","v":0},{"$f":"+IF(ISNUMBER('System Results'!IP48),'System Results'!IP48,0)","v":0},{"$f":"+IF(ISNUMBER('System Results'!IS48),'System Results'!IS48,0)","v":0},{"$f":"+IF(ISNUMBER('System Results'!IV48),'System Results'!IV48,0)","v":0},{"$f":"+IF(ISNUMBER('System Results'!IY48),'System Results'!IY48,0)","v":0},{"$f":"+IF(ISNUMBER('System Results'!JB48),'System Results'!JB48,0)","v":0},{"$f":"+IF(ISNUMBER('System Results'!JE48),'System Results'!JE48,0)","v":0},{"$f":"+IF(ISNUMBER('System Results'!JH48),'System Results'!JH48,0)","v":0},{"$f":"+IF(ISNUMBER('System Results'!JK48),'System Results'!JK48,0)","v":0},{"$f":"+IF(ISNUMBER('System Results'!JN48),'System Results'!JN48,0)","v":0},{"$f":"+IF(ISNUMBER('System Results'!JQ48),'System Results'!JQ48,0)","v":0},{"$f":"+IF(ISNUMBER('System Results'!JT48),'System Results'!JT48,0)","v":0},{"$f":"+IF(ISNUMBER('System Results'!JW48),'System Results'!JW48,0)","v":0},{"$f":"+IF(ISNUMBER('System Results'!JZ48),'System Results'!JZ48,0)","v":0},{"$f":"+IF(ISNUMBER('System Results'!KC48),'System Results'!KC48,0)","v":0},{"$f":"+IF(ISNUMBER('System Results'!KF48),'System Results'!KF48,0)","v":0},{"$f":"+IF(ISNUMBER('System Results'!KI48),'System Results'!KI48,0)","v":0},{"$f":"+IF(ISNUMBER('System Results'!KL48),'System Results'!KL48,0)","v":0},{"$f":"+IF(ISNUMBER('System Results'!KO48),'System Results'!KO48,0)","v":0},{"$f":"+IF(ISNUMBER('System Results'!KR48),'System Results'!KR48,0)","v":0},{"$f":"+IF(ISNUMBER('System Results'!KU48),'System Results'!KU48,0)","v":0},{"$f":"+IF(ISNUMBER('System Results'!KX48),'System Results'!KX48,0)","v":0},{"$f":"+IF(ISNUMBER('System Results'!LA48),'System Results'!LA48,0)","v":0},{"$f":"+IF(ISNUMBER('System Results'!LD48),'System Results'!LD48,0)","v":0},{"$f":"+IF(ISNUMBER('System Results'!LG48),'System Results'!LG48,0)","v":0},{"$f":"+IF(ISNUMBER('System Results'!LJ48),'System Results'!LJ48,0)","v":0},{"$f":"+IF(ISNUMBER('System Results'!LM48),'System Results'!LM48,0)","v":0},{"$f":"+IF(ISNUMBER('System Results'!LP48),'System Results'!LP48,0)","v":0},{"$f":"+IF(ISNUMBER('System Results'!LS48),'System Results'!LS48,0)","v":0},{"$f":"+IF(ISNUMBER('System Results'!LV48),'System Results'!LV48,0)","v":0},{"$f":"+IF(ISNUMBER('System Results'!LY48),'System Results'!LY48,0)","v":0},{"$f":"+IF(ISNUMBER('System Results'!MB48),'System Results'!MB48,0)","v":0},{"$f":"+IF(ISNUMBER('System Results'!ME48),'System Results'!ME48,0)","v":0},{"$f":"+IF(ISNUMBER('System Results'!MH48),'System Results'!MH48,0)","v":0},{"$f":"+IF(ISNUMBER('System Results'!MK48),'System Results'!MK48,0)","v":0},{"$f":"+IF(ISNUMBER('System Results'!MN48),'System Results'!MN48,0)","v":0},{"$f":"+IF(ISNUMBER('System Results'!MQ48),'System Results'!MQ48,0)","v":0},{"$f":"+IF(ISNUMBER('System Results'!MT48),'System Results'!MT48,0)","v":0},{"$f":"+IF(ISNUMBER('System Results'!MW48),'System Results'!MW48,0)","v":0},{"$f":"+IF(ISNUMBER('System Results'!MZ48),'System Results'!MZ48,0)","v":0},{"$f":"+IF(ISNUMBER('System Results'!NC48),'System Results'!NC48,0)","v":0},{"$f":"+IF(ISNUMBER('System Results'!NF48),'System Results'!NF48,0)","v":0},{"$f":"+IF(ISNUMBER('System Results'!NI48),'System Results'!NI48,0)","v":0},{"$f":"+IF(ISNUMBER('System Results'!NL48),'System Results'!NL48,0)","v":0},{"$f":"+IF(ISNUMBER('System Results'!NO48),'System Results'!NO48,0)","v":0},{"$f":"+IF(ISNUMBER('System Results'!NR48),'System Results'!NR48,0)","v":0},{"$f":"+IF(ISNUMBER('System Results'!NU48),'System Results'!NU48,0)","v":0},{"$f":"+IF(ISNUMBER('System Results'!NX48),'System Results'!NX48,0)","v":0},{"$f":"+IF(ISNUMBER('System Results'!OA48),'System Results'!OA48,0)","v":0},{"$f":"+IF(ISNUMBER('System Results'!OD48),'System Results'!OD48,0)","v":0},{"$f":"+IF(ISNUMBER('System Results'!OG48),'System Results'!OG48,0)","v":0},{"$f":"+IF(ISNUMBER('System Results'!OJ48),'System Results'!OJ48,0)","v":0},{"$f":"+IF(ISNUMBER('System Results'!OM48),'System Results'!OM48,0)","v":0},{"$f":"+IF(ISNUMBER('System Results'!OP48),'System Results'!OP48,0)","v":0},{"$f":"+IF(ISNUMBER('System Results'!OS48),'System Results'!OS48,0)","v":0},{"$f":"+IF(ISNUMBER('System Results'!OV48),'System Results'!OV48,0)","v":0},{"$f":"+IF(ISNUMBER('System Results'!OY48),'System Results'!OY48,0)","v":0},{"$f":"+IF(ISNUMBER('System Results'!PB48),'System Results'!PB48,0)","v":0},{"$f":"+IF(ISNUMBER('System Results'!PE48),'System Results'!PE48,0)","v":0},{"$f":"+IF(ISNUMBER('System Results'!PH48),'System Results'!PH48,0)","v":0},{"$f":"+IF(ISNUMBER('System Results'!PK48),'System Results'!PK48,0)","v":0},{"$f":"+IF(ISNUMBER('System Results'!PN48),'System Results'!PN48,0)","v":0},{"$f":"+IF(ISNUMBER('System Results'!PQ48),'System Results'!PQ48,0)","v":0},{"$f":"+IF(ISNUMBER('System Results'!PT48),'System Results'!PT48,0)","v":0},{"$f":"+IF(ISNUMBER('System Results'!PW48),'System Results'!PW48,0)","v":0},{"$f":"+IF(ISNUMBER('System Results'!PZ48),'System Results'!PZ48,0)","v":0},{"$f":"+IF(ISNUMBER('System Results'!QC48),'System Results'!QC48,0)","v":0},{"$f":"+IF(ISNUMBER('System Results'!QF48),'System Results'!QF48,0)","v":0},{"$f":"+IF(ISNUMBER('System Results'!QI48),'System Results'!QI48,0)","v":0},{"$f":"+IF(ISNUMBER('System Results'!QL48),'System Results'!QL48,0)","v":0},{"$f":"+IF(ISNUMBER('System Results'!QO48),'System Results'!QO48,0)","v":0},{"$f":"+IF(ISNUMBER('System Results'!QR48),'System Results'!QR48,0)","v":0},{"$f":"+IF(ISNUMBER('System Results'!QU48),'System Results'!QU48,0)","v":0},{"$f":"+IF(ISNUMBER('System Results'!QX48),'System Results'!QX48,0)","v":0},{"$f":"+IF(ISNUMBER('System Results'!RA48),'System Results'!RA48,0)","v":0},{"$f":"+IF(ISNUMBER('System Results'!RD48),'System Results'!RD48,0)","v":0},{"$f":"+IF(ISNUMBER('System Results'!RG48),'System Results'!RG48,0)","v":0},{"$f":"+IF(ISNUMBER('System Results'!RJ48),'System Results'!RJ48,0)","v":0},{"$f":"+IF(ISNUMBER('System Results'!RM48),'System Results'!RM48,0)","v":0},{"$f":"+IF(ISNUMBER('System Results'!RP48),'System Results'!RP48,0)","v":0},{"$f":"+IF(ISNUMBER('System Results'!RS48),'System Results'!RS48,0)","v":0},{"$f":"+IF(ISNUMBER('System Results'!RV48),'System Results'!RV48,0)","v":0},{"$f":"+IF(ISNUMBER('System Results'!RY48),'System Results'!RY48,0)","v":0},{"$f":"+IF(ISNUMBER('System Results'!SB48),'System Results'!SB48,0)","v":0},{"$f":"+IF(ISNUMBER('System Results'!SE48),'System Results'!SE48,0)","v":0},{"$f":"+IF(ISNUMBER('System Results'!SH48),'System Results'!SH48,0)","v":0},{"$f":"+IF(ISNUMBER('System Results'!SK48),'System Results'!SK48,0)","v":0},{"$f":"+IF(ISNUMBER('System Results'!SN48),'System Results'!SN48,0)","v":0},{"$f":"+IF(ISNUMBER('System Results'!SQ48),'System Results'!SQ48,0)","v":0},{"$f":"+IF(ISNUMBER('System Results'!ST48),'System Results'!ST48,0)","v":0},{"$f":"+IF(ISNUMBER('System Results'!SW48),'System Results'!SW48,0)","v":0},{"$f":"+IF(ISNUMBER('System Results'!SZ48),'System Results'!SZ48,0)","v":0},{"$f":"+IF(ISNUMBER('System Results'!TC48),'System Results'!TC48,0)","v":0},{"$f":"+IF(ISNUMBER('System Results'!TF48),'System Results'!TF48,0)","v":0},{"$f":"+IF(ISNUMBER('System Results'!TI48),'System Results'!TI48,0)","v":0},{"$f":"+IF(ISNUMBER('System Results'!TL48),'System Results'!TL48,0)","v":0},{"$f":"+IF(ISNUMBER('System Results'!TO48),'System Results'!TO48,0)","v":0},{"$f":"+IF(ISNUMBER('System Results'!TR48),'System Results'!TR48,0)","v":0},{"$f":"+IF(ISNUMBER('System Results'!TU48),'System Results'!TU48,0)","v":0},{"$f":"+IF(ISNUMBER('System Results'!TX48),'System Results'!TX48,0)","v":0},{"$f":"+IF(ISNUMBER('System Results'!UA48),'System Results'!UA48,0)","v":0},{"$f":"+IF(ISNUMBER('System Results'!UD48),'System Results'!UD48,0)","v":0},{"$f":"+IF(ISNUMBER('System Results'!UG48),'System Results'!UG48,0)","v":0},{"$f":"+IF(ISNUMBER('System Results'!UJ48),'System Results'!UJ48,0)","v":0},{"$f":"+IF(ISNUMBER('System Results'!UM48),'System Results'!UM48,0)","v":0},{"$f":"+IF(ISNUMBER('System Results'!UP48),'System Results'!UP48,0)","v":0},{"$f":"+IF(ISNUMBER('System Results'!US48),'System Results'!US48,0)","v":0},{"$f":"+IF(ISNUMBER('System Results'!UV48),'System Results'!UV48,0)","v":0},{"$f":"+IF(ISNUMBER('System Results'!UY48),'System Results'!UY48,0)","v":0},{"$f":"+IF(ISNUMBER('System Results'!VB48),'System Results'!VB48,0)","v":0},{"$f":"+IF(ISNUMBER('System Results'!VE48),'System Results'!VE48,0)","v":0},{"$f":"+IF(ISNUMBER('System Results'!VH48),'System Results'!VH48,0)","v":0},{"$f":"+IF(ISNUMBER('System Results'!VK48),'System Results'!VK48,0)","v":0},{"$f":"+IF(ISNUMBER('System Results'!VN48),'System Results'!VN48,0)","v":0},{"$f":"+IF(ISNUMBER('System Results'!VQ48),'System Results'!VQ48,0)","v":0},{"$f":"+IF(ISNUMBER('System Results'!VT48),'System Results'!VT48,0)","v":0},{"$f":"+IF(ISNUMBER('System Results'!VW48),'System Results'!VW48,0)","v":0},{"$f":"+IF(ISNUMBER('System Results'!VZ48),'System Results'!VZ48,0)","v":0},{"$f":"+IF(ISNUMBER('System Results'!WC48),'System Results'!WC48,0)","v":0},{"$f":"+IF(ISNUMBER('System Results'!WF48),'System Results'!WF48,0)","v":0},{"$f":"+IF(ISNUMBER('System Results'!WI48),'System Results'!WI48,0)","v":0},{"$f":"+IF(ISNUMBER('System Results'!WL48),'System Results'!WL48,0)","v":0},{"$f":"+IF(ISNUMBER('System Results'!WO48),'System Results'!WO48,0)","v":0},{"$f":"+IF(ISNUMBER('System Results'!WR48),'System Results'!WR48,0)","v":0},{"$f":"+IF(ISNUMBER('System Results'!WU48),'System Results'!WU48,0)","v":0},{"$f":"+IF(ISNUMBER('System Results'!WX48),'System Results'!WX48,0)","v":0},{"$f":"+IF(ISNUMBER('System Results'!XA48),'System Results'!XA48,0)","v":0},{"$f":"+IF(ISNUMBER('System Results'!XD48),'System Results'!XD48,0)","v":0},{"$f":"+IF(ISNUMBER('System Results'!XG48),'System Results'!XG48,0)","v":0},{"$f":"+IF(ISNUMBER('System Results'!XJ48),'System Results'!XJ48,0)","v":0},{"$f":"+IF(ISNUMBER('System Results'!XM48),'System Results'!XM48,0)","v":0},{"$f":"+IF(ISNUMBER('System Results'!XP48),'System Results'!XP48,0)","v":0},{"$f":"+IF(ISNUMBER('System Results'!XS48),'System Results'!XS48,0)","v":0},{"$f":"+IF(ISNUMBER('System Results'!XV48),'System Results'!XV48,0)","v":0},{"$f":"+IF(ISNUMBER('System Results'!XY48),'System Results'!XY48,0)","v":0},{"$f":"+IF(ISNUMBER('System Results'!YB48),'System Results'!YB48,0)","v":0},{"$f":"+IF(ISNUMBER('System Results'!YE48),'System Results'!YE48,0)","v":0},{"$f":"+IF(ISNUMBER('System Results'!YH48),'System Results'!YH48,0)","v":0},{"$f":"+IF(ISNUMBER('System Results'!YK48),'System Results'!YK48,0)","v":0},{"$f":"+IF(ISNUMBER('System Results'!YN48),'System Results'!YN48,0)","v":0},{"$f":"+IF(ISNUMBER('System Results'!YQ48),'System Results'!YQ48,0)","v":0},{"$f":"+IF(ISNUMBER('System Results'!YT48),'System Results'!YT48,0)","v":0},{"$f":"+IF(ISNUMBER('System Results'!YW48),'System Results'!YW48,0)","v":0},{"$f":"+IF(ISNUMBER('System Results'!YZ48),'System Results'!YZ48,0)","v":0},{"$f":"+IF(ISNUMBER('System Results'!ZC48),'System Results'!ZC48,0)","v":0},{"$f":"+IF(ISNUMBER('System Results'!ZF48),'System Results'!ZF48,0)","v":0},{"$f":"+IF(ISNUMBER('System Results'!ZI48),'System Results'!ZI48,0)","v":0},{"$f":"+IF(ISNUMBER('System Results'!ZL48),'System Results'!ZL48,0)","v":0},{"$f":"+IF(ISNUMBER('System Results'!ZO48),'System Results'!ZO48,0)","v":0},{"$f":"+IF(ISNUMBER('System Results'!ZR48),'System Results'!ZR48,0)","v":0},{"$f":"+IF(ISNUMBER('System Results'!ZU48),'System Results'!ZU48,0)","v":0},{"$f":"+IF(ISNUMBER('System Results'!ZX48),'System Results'!ZX48,0)","v":0},{"$f":"+IF(ISNUMBER('System Results'!AAA48),'System Results'!AAA48,0)","v":0},{"$f":"+IF(ISNUMBER('System Results'!AAD48),'System Results'!AAD48,0)","v":0},{"$f":"+IF(ISNUMBER('System Results'!AAG48),'System Results'!AAG48,0)","v":0},{"$f":"+IF(ISNUMBER('System Results'!AAJ48),'System Results'!AAJ48,0)","v":0},{"$f":"+IF(ISNUMBER('System Results'!AAM48),'System Results'!AAM48,0)","v":0},{"$f":"+IF(ISNUMBER('System Results'!AAP48),'System Results'!AAP48,0)","v":0},{"$f":"+IF(ISNUMBER('System Results'!AAS48),'System Results'!AAS48,0)","v":0},{"$f":"+IF(ISNUMBER('System Results'!AAV48),'System Results'!AAV48,0)","v":0},{"$f":"+IF(ISNUMBER('System Results'!AAY48),'System Results'!AAY48,0)","v":0},{"$f":"+IF(ISNUMBER('System Results'!ABB48),'System Results'!ABB48,0)","v":0},{"$f":"+IF(ISNUMBER('System Results'!ABE48),'System Results'!ABE48,0)","v":0},{"$f":"+IF(ISNUMBER('System Results'!ABH48),'System Results'!ABH48,0)","v":0},{"$f":"+IF(ISNUMBER('System Results'!ABK48),'System Results'!ABK48,0)","v":0},{"$f":"+IF(ISNUMBER('System Results'!ABN48),'System Results'!ABN48,0)","v":0},{"$f":"+IF(ISNUMBER('System Results'!ABQ48),'System Results'!ABQ48,0)","v":0},{"$f":"+IF(ISNUMBER('System Results'!ABT48),'System Results'!ABT48,0)","v":0},{"$f":"+IF(ISNUMBER('System Results'!ABW48),'System Results'!ABW48,0)","v":0},{"$f":"+IF(ISNUMBER('System Results'!ABZ48),'System Results'!ABZ48,0)","v":0},{"$f":"+IF(ISNUMBER('System Results'!ACC48),'System Results'!ACC48,0)","v":0},{"$f":"+IF(ISNUMBER('System Results'!ACF48),'System Results'!ACF48,0)","v":0},{"$f":"+IF(ISNUMBER('System Results'!ACI48),'System Results'!ACI48,0)","v":0},{"$f":"+IF(ISNUMBER('System Results'!ACL48),'System Results'!ACL48,0)","v":0},{"$f":"+IF(ISNUMBER('System Results'!ACO48),'System Results'!ACO48,0)","v":0},{"$f":"+IF(ISNUMBER('System Results'!ACR48),'System Results'!ACR48,0)","v":0},{"$f":"+IF(ISNUMBER('System Results'!ACU48),'System Results'!ACU48,0)","v":0},{"$f":"+IF(ISNUMBER('System Results'!ACX48),'System Results'!ACX48,0)","v":0},{"$f":"+IF(ISNUMBER('System Results'!ADA48),'System Results'!ADA48,0)","v":0},{"$f":"+IF(ISNUMBER('System Results'!ADD48),'System Results'!ADD48,0)","v":0},{"$f":"+IF(ISNUMBER('System Results'!ADG48),'System Results'!ADG48,0)","v":0},{"$f":"+IF(ISNUMBER('System Results'!ADJ48),'System Results'!ADJ48,0)","v":0},{"$f":"+IF(ISNUMBER('System Results'!ADM48),'System Results'!ADM48,0)","v":0},{"$f":"+IF(ISNUMBER('System Results'!ADP48),'System Results'!ADP48,0)","v":0},{"$f":"+IF(ISNUMBER('System Results'!ADS48),'System Results'!ADS48,0)","v":0},{"$f":"+IF(ISNUMBER('System Results'!ADV48),'System Results'!ADV48,0)","v":0},{"$f":"+IF(ISNUMBER('System Results'!ADY48),'System Results'!ADY48,0)","v":0},{"$f":"+IF(ISNUMBER('System Results'!AEB48),'System Results'!AEB48,0)","v":0},{"$f":"+IF(ISNUMBER('System Results'!AEE48),'System Results'!AEE48,0)","v":0},{"$f":"+IF(ISNUMBER('System Results'!AEH48),'System Results'!AEH48,0)","v":0},{"$f":"+IF(ISNUMBER('System Results'!AEK48),'System Results'!AEK48,0)","v":0},{"$f":"+IF(ISNUMBER('System Results'!AEN48),'System Results'!AEN48,0)","v":0},{"$f":"+IF(ISNUMBER('System Results'!AEQ48),'System Results'!AEQ48,0)","v":0},{"$f":"+IF(ISNUMBER('System Results'!AET48),'System Results'!AET48,0)","v":0},{"$f":"+IF(ISNUMBER('System Results'!AEW48),'System Results'!AEW48,0)","v":0},{"$f":"+IF(ISNUMBER('System Results'!AEZ48),'System Results'!AEZ48,0)","v":0},{"$f":"+IF(ISNUMBER('System Results'!AFC48),'System Results'!AFC48,0)","v":0},{"$f":"+IF(ISNUMBER('System Results'!AFF48),'System Results'!AFF48,0)","v":0},{"$f":"+IF(ISNUMBER('System Results'!AFI48),'System Results'!AFI48,0)","v":0},{"$f":"+IF(ISNUMBER('System Results'!AFL48),'System Results'!AFL48,0)","v":0},{"$f":"+IF(ISNUMBER('System Results'!AFO48),'System Results'!AFO48,0)","v":0},{"$f":"+IF(ISNUMBER('System Results'!AFR48),'System Results'!AFR48,0)","v":0},{"$f":"+IF(ISNUMBER('System Results'!AFU48),'System Results'!AFU48,0)","v":0},{"$f":"+IF(ISNUMBER('System Results'!AFX48),'System Results'!AFX48,0)","v":0},{"$f":"+IF(ISNUMBER('System Results'!AGA48),'System Results'!AGA48,0)","v":0},{"$f":"+IF(ISNUMBER('System Results'!AGD48),'System Results'!AGD48,0)","v":0},{"$f":"+IF(ISNUMBER('System Results'!AGG48),'System Results'!AGG48,0)","v":0},{"$f":"+IF(ISNUMBER('System Results'!AGJ48),'System Results'!AGJ48,0)","v":0},{"$f":"+IF(ISNUMBER('System Results'!AGM48),'System Results'!AGM48,0)","v":0},{"$f":"+IF(ISNUMBER('System Results'!AGP48),'System Results'!AGP48,0)","v":0},{"$f":"+IF(ISNUMBER('System Results'!AGS48),'System Results'!AGS48,0)","v":0},{"$f":"+IF(ISNUMBER('System Results'!AGV48),'System Results'!AGV48,0)","v":0},{"$f":"+IF(ISNUMBER('System Results'!AGY48),'System Results'!AGY48,0)","v":0},{"$f":"+IF(ISNUMBER('System Results'!AHB48),'System Results'!AHB48,0)","v":0},{"$f":"+IF(ISNUMBER('System Results'!AHE48),'System Results'!AHE48,0)","v":0},{"$f":"+IF(ISNUMBER('System Results'!AHH48),'System Results'!AHH48,0)","v":0},{"$f":"+IF(ISNUMBER('System Results'!AHK48),'System Results'!AHK48,0)","v":0},{"$f":"+IF(ISNUMBER('System Results'!AHN48),'System Results'!AHN48,0)","v":0},{"$f":"+IF(ISNUMBER('System Results'!AHQ48),'System Results'!AHQ48,0)","v":0},{"$f":"+IF(ISNUMBER('System Results'!AHT48),'System Results'!AHT48,0)","v":0}]
["Scope 3",{"$f":"+'System Results'!B49","v":"Downstream leased assets"},0,{"$f":"+IF(ISNUMBER('System Results'!G49),'System Results'!G49,0)","v":0},{"$f":"+IF(ISNUMBER('System Results'!J49),'System Results'!J49,0)","v":0},{"$f":"+IF(ISNUMBER('System Results'!M49),'System Results'!M49,0)","v":0},{"$f":"+IF(ISNUMBER('System Results'!P49),'System Results'!P49,0)","v":0},{"$f":"+IF(ISNUMBER('System Results'!S49),'System Results'!S49,0)","v":0},{"$f":"+IF(ISNUMBER('System Results'!V49),'System Results'!V49,0)","v":0},{"$f":"+IF(ISNUMBER('System Results'!Y49),'System Results'!Y49,0)","v":0},{"$f":"+IF(ISNUMBER('System Results'!AB49),'System Results'!AB49,0)","v":0},{"$f":"+IF(ISNUMBER('System Results'!AE49),'System Results'!AE49,0)","v":0},{"$f":"+IF(ISNUMBER('System Results'!AH49),'System Results'!AH49,0)","v":0},{"$f":"+IF(ISNUMBER('System Results'!AK49),'System Results'!AK49,0)","v":0},{"$f":"+IF(ISNUMBER('System Results'!AN49),'System Results'!AN49,0)","v":0},{"$f":"+IF(ISNUMBER('System Results'!AQ49),'System Results'!AQ49,0)","v":0},{"$f":"+IF(ISNUMBER('System Results'!AT49),'System Results'!AT49,0)","v":0},{"$f":"+IF(ISNUMBER('System Results'!AW49),'System Results'!AW49,0)","v":0},{"$f":"+IF(ISNUMBER('System Results'!AZ49),'System Results'!AZ49,0)","v":0},{"$f":"+IF(ISNUMBER('System Results'!BC49),'System Results'!BC49,0)","v":0},{"$f":"+IF(ISNUMBER('System Results'!BF49),'System Results'!BF49,0)","v":0},{"$f":"+IF(ISNUMBER('System Results'!BI49),'System Results'!BI49,0)","v":0},{"$f":"+IF(ISNUMBER('System Results'!BL49),'System Results'!BL49,0)","v":0},{"$f":"+IF(ISNUMBER('System Results'!BO49),'System Results'!BO49,0)","v":0},{"$f":"+IF(ISNUMBER('System Results'!BR49),'System Results'!BR49,0)","v":0},{"$f":"+IF(ISNUMBER('System Results'!BU49),'System Results'!BU49,0)","v":0},{"$f":"+IF(ISNUMBER('System Results'!BX49),'System Results'!BX49,0)","v":0},{"$f":"+IF(ISNUMBER('System Results'!CA49),'System Results'!CA49,0)","v":0},{"$f":"+IF(ISNUMBER('System Results'!CD49),'System Results'!CD49,0)","v":0},{"$f":"+IF(ISNUMBER('System Results'!CG49),'System Results'!CG49,0)","v":0},{"$f":"+IF(ISNUMBER('System Results'!CJ49),'System Results'!CJ49,0)","v":0},{"$f":"+IF(ISNUMBER('System Results'!CM49),'System Results'!CM49,0)","v":0},{"$f":"+IF(ISNUMBER('System Results'!CP49),'System Results'!CP49,0)","v":0},{"$f":"+IF(ISNUMBER('System Results'!CS49),'System Results'!CS49,0)","v":0},{"$f":"+IF(ISNUMBER('System Results'!CV49),'System Results'!CV49,0)","v":0},{"$f":"+IF(ISNUMBER('System Results'!CY49),'System Results'!CY49,0)","v":0},{"$f":"+IF(ISNUMBER('System Results'!DB49),'System Results'!DB49,0)","v":0},{"$f":"+IF(ISNUMBER('System Results'!DE49),'System Results'!DE49,0)","v":0},{"$f":"+IF(ISNUMBER('System Results'!DH49),'System Results'!DH49,0)","v":0},{"$f":"+IF(ISNUMBER('System Results'!DK49),'System Results'!DK49,0)","v":0},{"$f":"+IF(ISNUMBER('System Results'!DN49),'System Results'!DN49,0)","v":0},{"$f":"+IF(ISNUMBER('System Results'!DQ49),'System Results'!DQ49,0)","v":0},{"$f":"+IF(ISNUMBER('System Results'!DT49),'System Results'!DT49,0)","v":0},{"$f":"+IF(ISNUMBER('System Results'!DW49),'System Results'!DW49,0)","v":0},{"$f":"+IF(ISNUMBER('System Results'!DZ49),'System Results'!DZ49,0)","v":0},{"$f":"+IF(ISNUMBER('System Results'!EC49),'System Results'!EC49,0)","v":0},{"$f":"+IF(ISNUMBER('System Results'!EF49),'System Results'!EF49,0)","v":0},{"$f":"+IF(ISNUMBER('System Results'!EI49),'System Results'!EI49,0)","v":0},{"$f":"+IF(ISNUMBER('System Results'!EL49),'System Results'!EL49,0)","v":0},{"$f":"+IF(ISNUMBER('System Results'!EO49),'System Results'!EO49,0)","v":0},{"$f":"+IF(ISNUMBER('System Results'!ER49),'System Results'!ER49,0)","v":0},{"$f":"+IF(ISNUMBER('System Results'!EU49),'System Results'!EU49,0)","v":0},{"$f":"+IF(ISNUMBER('System Results'!EX49),'System Results'!EX49,0)","v":0},{"$f":"+IF(ISNUMBER('System Results'!FA49),'System Results'!FA49,0)","v":0},{"$f":"+IF(ISNUMBER('System Results'!FD49),'System Results'!FD49,0)","v":0},{"$f":"+IF(ISNUMBER('System Results'!FG49),'System Results'!FG49,0)","v":0},{"$f":"+IF(ISNUMBER('System Results'!FJ49),'System Results'!FJ49,0)","v":0},{"$f":"+IF(ISNUMBER('System Results'!FM49),'System Results'!FM49,0)","v":0},{"$f":"+IF(ISNUMBER('System Results'!FP49),'System Results'!FP49,0)","v":0},{"$f":"+IF(ISNUMBER('System Results'!FS49),'System Results'!FS49,0)","v":0},{"$f":"+IF(ISNUMBER('System Results'!FV49),'System Results'!FV49,0)","v":0},{"$f":"+IF(ISNUMBER('System Results'!FY49),'System Results'!FY49,0)","v":0},{"$f":"+IF(ISNUMBER('System Results'!GB49),'System Results'!GB49,0)","v":0},{"$f":"+IF(ISNUMBER('System Results'!GE49),'System Results'!GE49,0)","v":0},{"$f":"+IF(ISNUMBER('System Results'!GH49),'System Results'!GH49,0)","v":0},{"$f":"+IF(ISNUMBER('System Results'!GK49),'System Results'!GK49,0)","v":0},{"$f":"+IF(ISNUMBER('System Results'!GN49),'System Results'!GN49,0)","v":0},{"$f":"+IF(ISNUMBER('System Results'!GQ49),'System Results'!GQ49,0)","v":0},{"$f":"+IF(ISNUMBER('System Results'!GT49),'System Results'!GT49,0)","v":0},{"$f":"+IF(ISNUMBER('System Results'!GW49),'System Results'!GW49,0)","v":0},{"$f":"+IF(ISNUMBER('System Results'!GZ49),'System Results'!GZ49,0)","v":0},{"$f":"+IF(ISNUMBER('System Results'!HC49),'System Results'!HC49,0)","v":0},{"$f":"+IF(ISNUMBER('System Results'!HF49),'System Results'!HF49,0)","v":0},{"$f":"+IF(ISNUMBER('System Results'!HI49),'System Results'!HI49,0)","v":0},{"$f":"+IF(ISNUMBER('System Results'!HL49),'System Results'!HL49,0)","v":0},{"$f":"+IF(ISNUMBER('System Results'!HO49),'System Results'!HO49,0)","v":0},{"$f":"+IF(ISNUMBER('System Results'!HR49),'System Results'!HR49,0)","v":0},{"$f":"+IF(ISNUMBER('System Results'!HU49),'System Results'!HU49,0)","v":0},{"$f":"+IF(ISNUMBER('System Results'!HX49),'System Results'!HX49,0)","v":0},{"$f":"+IF(ISNUMBER('System Results'!IA49),'System Results'!IA49,0)","v":0},{"$f":"+IF(ISNUMBER('System Results'!ID49),'System Results'!ID49,0)","v":0},{"$f":"+IF(ISNUMBER('System Results'!IG49),'System Results'!IG49,0)","v":0},{"$f":"+IF(ISNUMBER('System Results'!IJ49),'System Results'!IJ49,0)","v":0},{"$f":"+IF(ISNUMBER('System Results'!IM49),'System Results'!IM49,0)","v":0},{"$f":"+IF(ISNUMBER('System Results'!IP49),'System Results'!IP49,0)","v":0},{"$f":"+IF(ISNUMBER('System Results'!IS49),'System Results'!IS49,0)","v":0},{"$f":"+IF(ISNUMBER('System Results'!IV49),'System Results'!IV49,0)","v":0},{"$f":"+IF(ISNUMBER('System Results'!IY49),'System Results'!IY49,0)","v":0},{"$f":"+IF(ISNUMBER('System Results'!JB49),'System Results'!JB49,0)","v":0},{"$f":"+IF(ISNUMBER('System Results'!JE49),'System Results'!JE49,0)","v":0},{"$f":"+IF(ISNUMBER('System Results'!JH49),'System Results'!JH49,0)","v":0},{"$f":"+IF(ISNUMBER('System Results'!JK49),'System Results'!JK49,0)","v":0},{"$f":"+IF(ISNUMBER('System Results'!JN49),'System Results'!JN49,0)","v":0},{"$f":"+IF(ISNUMBER('System Results'!JQ49),'System Results'!JQ49,0)","v":0},{"$f":"+IF(ISNUMBER('System Results'!JT49),'System Results'!JT49,0)","v":0},{"$f":"+IF(ISNUMBER('System Results'!JW49),'System Results'!JW49,0)","v":0},{"$f":"+IF(ISNUMBER('System Results'!JZ49),'System Results'!JZ49,0)","v":0},{"$f":"+IF(ISNUMBER('System Results'!KC49),'System Results'!KC49,0)","v":0},{"$f":"+IF(ISNUMBER('System Results'!KF49),'System Results'!KF49,0)","v":0},{"$f":"+IF(ISNUMBER('System Results'!KI49),'System Results'!KI49,0)","v":0},{"$f":"+IF(ISNUMBER('System Results'!KL49),'System Results'!KL49,0)","v":0},{"$f":"+IF(ISNUMBER('System Results'!KO49),'System Results'!KO49,0)","v":0},{"$f":"+IF(ISNUMBER('System Results'!KR49),'System Results'!KR49,0)","v":0},{"$f":"+IF(ISNUMBER('System Results'!KU49),'System Results'!KU49,0)","v":0},{"$f":"+IF(ISNUMBER('System Results'!KX49),'System Results'!KX49,0)","v":0},{"$f":"+IF(ISNUMBER('System Results'!LA49),'System Results'!LA49,0)","v":0},{"$f":"+IF(ISNUMBER('System Results'!LD49),'System Results'!LD49,0)","v":0},{"$f":"+IF(ISNUMBER('System Results'!LG49),'System Results'!LG49,0)","v":0},{"$f":"+IF(ISNUMBER('System Results'!LJ49),'System Results'!LJ49,0)","v":0},{"$f":"+IF(ISNUMBER('System Results'!LM49),'System Results'!LM49,0)","v":0},{"$f":"+IF(ISNUMBER('System Results'!LP49),'System Results'!LP49,0)","v":0},{"$f":"+IF(ISNUMBER('System Results'!LS49),'System Results'!LS49,0)","v":0},{"$f":"+IF(ISNUMBER('System Results'!LV49),'System Results'!LV49,0)","v":0},{"$f":"+IF(ISNUMBER('System Results'!LY49),'System Results'!LY49,0)","v":0},{"$f":"+IF(ISNUMBER('System Results'!MB49),'System Results'!MB49,0)","v":0},{"$f":"+IF(ISNUMBER('System Results'!ME49),'System Results'!ME49,0)","v":0},{"$f":"+IF(ISNUMBER('System Results'!MH49),'System Results'!MH49,0)","v":0},{"$f":"+IF(ISNUMBER('System Results'!MK49),'System Results'!MK49,0)","v":0},{"$f":"+IF(ISNUMBER('System Results'!MN49),'System Results'!MN49,0)","v":0},{"$f":"+IF(ISNUMBER('System Results'!MQ49),'System Results'!MQ49,0)","v":0},{"$f":"+IF(ISNUMBER('System Results'!MT49),'System Results'!MT49,0)","v":0},{"$f":"+IF(ISNUMBER('System Results'!MW49),'System Results'!MW49,0)","v":0},{"$f":"+IF(ISNUMBER('System Results'!MZ49),'System Results'!MZ49,0)","v":0},{"$f":"+IF(ISNUMBER('System Results'!NC49),'System Results'!NC49,0)","v":0},{"$f":"+IF(ISNUMBER('System Results'!NF49),'System Results'!NF49,0)","v":0},{"$f":"+IF(ISNUMBER('System Results'!NI49),'System Results'!NI49,0)","v":0},{"$f":"+IF(ISNUMBER('System Results'!NL49),'System Results'!NL49,0)","v":0},{"$f":"+IF(ISNUMBER('System Results'!NO49),'System Results'!NO49,0)","v":0},{"$f":"+IF(ISNUMBER('System Results'!NR49),'System Results'!NR49,0)","v":0},{"$f":"+IF(ISNUMBER('System Results'!NU49),'System Results'!NU49,0)","v":0},{"$f":"+IF(ISNUMBER('System Results'!NX49),'System Results'!NX49,0)","v":0},{"$f":"+IF(ISNUMBER('System Results'!OA49),'System Results'!OA49,0)","v":0},{"$f":"+IF(ISNUMBER('System Results'!OD49),'System Results'!OD49,0)","v":0},{"$f":"+IF(ISNUMBER('System Results'!OG49),'System Results'!OG49,0)","v":0},{"$f":"+IF(ISNUMBER('System Results'!OJ49),'System Results'!OJ49,0)","v":0},{"$f":"+IF(ISNUMBER('System Results'!OM49),'System Results'!OM49,0)","v":0},{"$f":"+IF(ISNUMBER('System Results'!OP49),'System Results'!OP49,0)","v":0},{"$f":"+IF(ISNUMBER('System Results'!OS49),'System Results'!OS49,0)","v":0},{"$f":"+IF(ISNUMBER('System Results'!OV49),'System Results'!OV49,0)","v":0},{"$f":"+IF(ISNUMBER('System Results'!OY49),'System Results'!OY49,0)","v":0},{"$f":"+IF(ISNUMBER('System Results'!PB49),'System Results'!PB49,0)","v":0},{"$f":"+IF(ISNUMBER('System Results'!PE49),'System Results'!PE49,0)","v":0},{"$f":"+IF(ISNUMBER('System Results'!PH49),'System Results'!PH49,0)","v":0},{"$f":"+IF(ISNUMBER('System Results'!PK49),'System Results'!PK49,0)","v":0},{"$f":"+IF(ISNUMBER('System Results'!PN49),'System Results'!PN49,0)","v":0},{"$f":"+IF(ISNUMBER('System Results'!PQ49),'System Results'!PQ49,0)","v":0},{"$f":"+IF(ISNUMBER('System Results'!PT49),'System Results'!PT49,0)","v":0},{"$f":"+IF(ISNUMBER('System Results'!PW49),'System Results'!PW49,0)","v":0},{"$f":"+IF(ISNUMBER('System Results'!PZ49),'System Results'!PZ49,0)","v":0},{"$f":"+IF(ISNUMBER('System Results'!QC49),'System Results'!QC49,0)","v":0},{"$f":"+IF(ISNUMBER('System Results'!QF49),'System Results'!QF49,0)","v":0},{"$f":"+IF(ISNUMBER('System Results'!QI49),'System Results'!QI49,0)","v":0},{"$f":"+IF(ISNUMBER('System Results'!QL49),'System Results'!QL49,0)","v":0},{"$f":"+IF(ISNUMBER('System Results'!QO49),'System Results'!QO49,0)","v":0},{"$f":"+IF(ISNUMBER('System Results'!QR49),'System Results'!QR49,0)","v":0},{"$f":"+IF(ISNUMBER('System Results'!QU49),'System Results'!QU49,0)","v":0},{"$f":"+IF(ISNUMBER('System Results'!QX49),'System Results'!QX49,0)","v":0},{"$f":"+IF(ISNUMBER('System Results'!RA49),'System Results'!RA49,0)","v":0},{"$f":"+IF(ISNUMBER('System Results'!RD49),'System Results'!RD49,0)","v":0},{"$f":"+IF(ISNUMBER('System Results'!RG49),'System Results'!RG49,0)","v":0},{"$f":"+IF(ISNUMBER('System Results'!RJ49),'System Results'!RJ49,0)","v":0},{"$f":"+IF(ISNUMBER('System Results'!RM49),'System Results'!RM49,0)","v":0},{"$f":"+IF(ISNUMBER('System Results'!RP49),'System Results'!RP49,0)","v":0},{"$f":"+IF(ISNUMBER('System Results'!RS49),'System Results'!RS49,0)","v":0},{"$f":"+IF(ISNUMBER('System Results'!RV49),'System Results'!RV49,0)","v":0},{"$f":"+IF(ISNUMBER('System Results'!RY49),'System Results'!RY49,0)","v":0},{"$f":"+IF(ISNUMBER('System Results'!SB49),'System Results'!SB49,0)","v":0},{"$f":"+IF(ISNUMBER('System Results'!SE49),'System Results'!SE49,0)","v":0},{"$f":"+IF(ISNUMBER('System Results'!SH49),'System Results'!SH49,0)","v":0},{"$f":"+IF(ISNUMBER('System Results'!SK49),'System Results'!SK49,0)","v":0},{"$f":"+IF(ISNUMBER('System Results'!SN49),'System Results'!SN49,0)","v":0},{"$f":"+IF(ISNUMBER('System Results'!SQ49),'System Results'!SQ49,0)","v":0},{"$f":"+IF(ISNUMBER('System Results'!ST49),'System Results'!ST49,0)","v":0},{"$f":"+IF(ISNUMBER('System Results'!SW49),'System Results'!SW49,0)","v":0},{"$f":"+IF(ISNUMBER('System Results'!SZ49),'System Results'!SZ49,0)","v":0},{"$f":"+IF(ISNUMBER('System Results'!TC49),'System Results'!TC49,0)","v":0},{"$f":"+IF(ISNUMBER('System Results'!TF49),'System Results'!TF49,0)","v":0},{"$f":"+IF(ISNUMBER('System Results'!TI49),'System Results'!TI49,0)","v":0},{"$f":"+IF(ISNUMBER('System Results'!TL49),'System Results'!TL49,0)","v":0},{"$f":"+IF(ISNUMBER('System Results'!TO49),'System Results'!TO49,0)","v":0},{"$f":"+IF(ISNUMBER('System Results'!TR49),'System Results'!TR49,0)","v":0},{"$f":"+IF(ISNUMBER('System Results'!TU49),'System Results'!TU49,0)","v":0},{"$f":"+IF(ISNUMBER('System Results'!TX49),'System Results'!TX49,0)","v":0},{"$f":"+IF(ISNUMBER('System Results'!UA49),'System Results'!UA49,0)","v":0},{"$f":"+IF(ISNUMBER('System Results'!UD49),'System Results'!UD49,0)","v":0},{"$f":"+IF(ISNUMBER('System Results'!UG49),'System Results'!UG49,0)","v":0},{"$f":"+IF(ISNUMBER('System Results'!UJ49),'System Results'!UJ49,0)","v":0},{"$f":"+IF(ISNUMBER('System Results'!UM49),'System Results'!UM49,0)","v":0},{"$f":"+IF(ISNUMBER('System Results'!UP49),'System Results'!UP49,0)","v":0},{"$f":"+IF(ISNUMBER('System Results'!US49),'System Results'!US49,0)","v":0},{"$f":"+IF(ISNUMBER('System Results'!UV49),'System Results'!UV49,0)","v":0},{"$f":"+IF(ISNUMBER('System Results'!UY49),'System Results'!UY49,0)","v":0},{"$f":"+IF(ISNUMBER('System Results'!VB49),'System Results'!VB49,0)","v":0},{"$f":"+IF(ISNUMBER('System Results'!VE49),'System Results'!VE49,0)","v":0},{"$f":"+IF(ISNUMBER('System Results'!VH49),'System Results'!VH49,0)","v":0},{"$f":"+IF(ISNUMBER('System Results'!VK49),'System Results'!VK49,0)","v":0},{"$f":"+IF(ISNUMBER('System Results'!VN49),'System Results'!VN49,0)","v":0},{"$f":"+IF(ISNUMBER('System Results'!VQ49),'System Results'!VQ49,0)","v":0},{"$f":"+IF(ISNUMBER('System Results'!VT49),'System Results'!VT49,0)","v":0},{"$f":"+IF(ISNUMBER('System Results'!VW49),'System Results'!VW49,0)","v":0},{"$f":"+IF(ISNUMBER('System Results'!VZ49),'System Results'!VZ49,0)","v":0},{"$f":"+IF(ISNUMBER('System Results'!WC49),'System Results'!WC49,0)","v":0},{"$f":"+IF(ISNUMBER('System Results'!WF49),'System Results'!WF49,0)","v":0},{"$f":"+IF(ISNUMBER('System Results'!WI49),'System Results'!WI49,0)","v":0},{"$f":"+IF(ISNUMBER('System Results'!WL49),'System Results'!WL49,0)","v":0},{"$f":"+IF(ISNUMBER('System Results'!WO49),'System Results'!WO49,0)","v":0},{"$f":"+IF(ISNUMBER('System Results'!WR49),'System Results'!WR49,0)","v":0},{"$f":"+IF(ISNUMBER('System Results'!WU49),'System Results'!WU49,0)","v":0},{"$f":"+IF(ISNUMBER('System Results'!WX49),'System Results'!WX49,0)","v":0},{"$f":"+IF(ISNUMBER('System Results'!XA49),'System Results'!XA49,0)","v":0},{"$f":"+IF(ISNUMBER('System Results'!XD49),'System Results'!XD49,0)","v":0},{"$f":"+IF(ISNUMBER('System Results'!XG49),'System Results'!XG49,0)","v":0},{"$f":"+IF(ISNUMBER('System Results'!XJ49),'System Results'!XJ49,0)","v":0},{"$f":"+IF(ISNUMBER('System Results'!XM49),'System Results'!XM49,0)","v":0},{"$f":"+IF(ISNUMBER('System Results'!XP49),'System Results'!XP49,0)","v":0},{"$f":"+IF(ISNUMBER('System Results'!XS49),'System Results'!XS49,0)","v":0},{"$f":"+IF(ISNUMBER('System Results'!XV49),'System Results'!XV49,0)","v":0},{"$f":"+IF(ISNUMBER('System Results'!XY49),'System Results'!XY49,0)","v":0},{"$f":"+IF(ISNUMBER('System Results'!YB49),'System Results'!YB49,0)","v":0},{"$f":"+IF(ISNUMBER('System Results'!YE49),'System Results'!YE49,0)","v":0},{"$f":"+IF(ISNUMBER('System Results'!YH49),'System Results'!YH49,0)","v":0},{"$f":"+IF(ISNUMBER('System Results'!YK49),'System Results'!YK49,0)","v":0},{"$f":"+IF(ISNUMBER('System Results'!YN49),'System Results'!YN49,0)","v":0},{"$f":"+IF(ISNUMBER('System Results'!YQ49),'System Results'!YQ49,0)","v":0},{"$f":"+IF(ISNUMBER('System Results'!YT49),'System Results'!YT49,0)","v":0},{"$f":"+IF(ISNUMBER('System Results'!YW49),'System Results'!YW49,0)","v":0},{"$f":"+IF(ISNUMBER('System Results'!YZ49),'System Results'!YZ49,0)","v":0},{"$f":"+IF(ISNUMBER('System Results'!ZC49),'System Results'!ZC49,0)","v":0},{"$f":"+IF(ISNUMBER('System Results'!ZF49),'System Results'!ZF49,0)","v":0},{"$f":"+IF(ISNUMBER('System Results'!ZI49),'System Results'!ZI49,0)","v":0},{"$f":"+IF(ISNUMBER('System Results'!ZL49),'System Results'!ZL49,0)","v":0},{"$f":"+IF(ISNUMBER('System Results'!ZO49),'System Results'!ZO49,0)","v":0},{"$f":"+IF(ISNUMBER('System Results'!ZR49),'System Results'!ZR49,0)","v":0},{"$f":"+IF(ISNUMBER('System Results'!ZU49),'System Results'!ZU49,0)","v":0},{"$f":"+IF(ISNUMBER('System Results'!ZX49),'System Results'!ZX49,0)","v":0},{"$f":"+IF(ISNUMBER('System Results'!AAA49),'System Results'!AAA49,0)","v":0},{"$f":"+IF(ISNUMBER('System Results'!AAD49),'System Results'!AAD49,0)","v":0},{"$f":"+IF(ISNUMBER('System Results'!AAG49),'System Results'!AAG49,0)","v":0},{"$f":"+IF(ISNUMBER('System Results'!AAJ49),'System Results'!AAJ49,0)","v":0},{"$f":"+IF(ISNUMBER('System Results'!AAM49),'System Results'!AAM49,0)","v":0},{"$f":"+IF(ISNUMBER('System Results'!AAP49),'System Results'!AAP49,0)","v":0},{"$f":"+IF(ISNUMBER('System Results'!AAS49),'System Results'!AAS49,0)","v":0},{"$f":"+IF(ISNUMBER('System Results'!AAV49),'System Results'!AAV49,0)","v":0},{"$f":"+IF(ISNUMBER('System Results'!AAY49),'System Results'!AAY49,0)","v":0},{"$f":"+IF(ISNUMBER('System Results'!ABB49),'System Results'!ABB49,0)","v":0},{"$f":"+IF(ISNUMBER('System Results'!ABE49),'System Results'!ABE49,0)","v":0},{"$f":"+IF(ISNUMBER('System Results'!ABH49),'System Results'!ABH49,0)","v":0},{"$f":"+IF(ISNUMBER('System Results'!ABK49),'System Results'!ABK49,0)","v":0},{"$f":"+IF(ISNUMBER('System Results'!ABN49),'System Results'!ABN49,0)","v":0},{"$f":"+IF(ISNUMBER('System Results'!ABQ49),'System Results'!ABQ49,0)","v":0},{"$f":"+IF(ISNUMBER('System Results'!ABT49),'System Results'!ABT49,0)","v":0},{"$f":"+IF(ISNUMBER('System Results'!ABW49),'System Results'!ABW49,0)","v":0},{"$f":"+IF(ISNUMBER('System Results'!ABZ49),'System Results'!ABZ49,0)","v":0},{"$f":"+IF(ISNUMBER('System Results'!ACC49),'System Results'!ACC49,0)","v":0},{"$f":"+IF(ISNUMBER('System Results'!ACF49),'System Results'!ACF49,0)","v":0},{"$f":"+IF(ISNUMBER('System Results'!ACI49),'System Results'!ACI49,0)","v":0},{"$f":"+IF(ISNUMBER('System Results'!ACL49),'System Results'!ACL49,0)","v":0},{"$f":"+IF(ISNUMBER('System Results'!ACO49),'System Results'!ACO49,0)","v":0},{"$f":"+IF(ISNUMBER('System Results'!ACR49),'System Results'!ACR49,0)","v":0},{"$f":"+IF(ISNUMBER('System Results'!ACU49),'System Results'!ACU49,0)","v":0},{"$f":"+IF(ISNUMBER('System Results'!ACX49),'System Results'!ACX49,0)","v":0},{"$f":"+IF(ISNUMBER('System Results'!ADA49),'System Results'!ADA49,0)","v":0},{"$f":"+IF(ISNUMBER('System Results'!ADD49),'System Results'!ADD49,0)","v":0},{"$f":"+IF(ISNUMBER('System Results'!ADG49),'System Results'!ADG49,0)","v":0},{"$f":"+IF(ISNUMBER('System Results'!ADJ49),'System Results'!ADJ49,0)","v":0},{"$f":"+IF(ISNUMBER('System Results'!ADM49),'System Results'!ADM49,0)","v":0},{"$f":"+IF(ISNUMBER('System Results'!ADP49),'System Results'!ADP49,0)","v":0},{"$f":"+IF(ISNUMBER('System Results'!ADS49),'System Results'!ADS49,0)","v":0},{"$f":"+IF(ISNUMBER('System Results'!ADV49),'System Results'!ADV49,0)","v":0},{"$f":"+IF(ISNUMBER('System Results'!ADY49),'System Results'!ADY49,0)","v":0},{"$f":"+IF(ISNUMBER('System Results'!AEB49),'System Results'!AEB49,0)","v":0},{"$f":"+IF(ISNUMBER('System Results'!AEE49),'System Results'!AEE49,0)","v":0},{"$f":"+IF(ISNUMBER('System Results'!AEH49),'System Results'!AEH49,0)","v":0},{"$f":"+IF(ISNUMBER('System Results'!AEK49),'System Results'!AEK49,0)","v":0},{"$f":"+IF(ISNUMBER('System Results'!AEN49),'System Results'!AEN49,0)","v":0},{"$f":"+IF(ISNUMBER('System Results'!AEQ49),'System Results'!AEQ49,0)","v":0},{"$f":"+IF(ISNUMBER('System Results'!AET49),'System Results'!AET49,0)","v":0},{"$f":"+IF(ISNUMBER('System Results'!AEW49),'System Results'!AEW49,0)","v":0},{"$f":"+IF(ISNUMBER('System Results'!AEZ49),'System Results'!AEZ49,0)","v":0},{"$f":"+IF(ISNUMBER('System Results'!AFC49),'System Results'!AFC49,0)","v":0},{"$f":"+IF(ISNUMBER('System Results'!AFF49),'System Results'!AFF49,0)","v":0},{"$f":"+IF(ISNUMBER('System Results'!AFI49),'System Results'!AFI49,0)","v":0},{"$f":"+IF(ISNUMBER('System Results'!AFL49),'System Results'!AFL49,0)","v":0},{"$f":"+IF(ISNUMBER('System Results'!AFO49),'System Results'!AFO49,0)","v":0},{"$f":"+IF(ISNUMBER('System Results'!AFR49),'System Results'!AFR49,0)","v":0},{"$f":"+IF(ISNUMBER('System Results'!AFU49),'System Results'!AFU49,0)","v":0},{"$f":"+IF(ISNUMBER('System Results'!AFX49),'System Results'!AFX49,0)","v":0},{"$f":"+IF(ISNUMBER('System Results'!AGA49),'System Results'!AGA49,0)","v":0},{"$f":"+IF(ISNUMBER('System Results'!AGD49),'System Results'!AGD49,0)","v":0},{"$f":"+IF(ISNUMBER('System Results'!AGG49),'System Results'!AGG49,0)","v":0},{"$f":"+IF(ISNUMBER('System Results'!AGJ49),'System Results'!AGJ49,0)","v":0},{"$f":"+IF(ISNUMBER('System Results'!AGM49),'System Results'!AGM49,0)","v":0},{"$f":"+IF(ISNUMBER('System Results'!AGP49),'System Results'!AGP49,0)","v":0},{"$f":"+IF(ISNUMBER('System Results'!AGS49),'System Results'!AGS49,0)","v":0},{"$f":"+IF(ISNUMBER('System Results'!AGV49),'System Results'!AGV49,0)","v":0},{"$f":"+IF(ISNUMBER('System Results'!AGY49),'System Results'!AGY49,0)","v":0},{"$f":"+IF(ISNUMBER('System Results'!AHB49),'System Results'!AHB49,0)","v":0},{"$f":"+IF(ISNUMBER('System Results'!AHE49),'System Results'!AHE49,0)","v":0},{"$f":"+IF(ISNUMBER('System Results'!AHH49),'System Results'!AHH49,0)","v":0},{"$f":"+IF(ISNUMBER('System Results'!AHK49),'System Results'!AHK49,0)","v":0},{"$f":"+IF(ISNUMBER('System Results'!AHN49),'System Results'!AHN49,0)","v":0},{"$f":"+IF(ISNUMBER('System Results'!AHQ49),'System Results'!AHQ49,0)","v":0},{"$f":"+IF(ISNUMBER('System Results'!AHT49),'System Results'!AHT49,0)","v":0}]
["Scope 3",{"$f":"+'System Results'!B50","v":"Franchises- Not Used"},0,{"$f":"+IF(ISNUMBER('System Results'!G50),'System Results'!G50,0)","v":0},{"$f":"+IF(ISNUMBER('System Results'!J50),'System Results'!J50,0)","v":0},{"$f":"+IF(ISNUMBER('System Results'!M50),'System Results'!M50,0)","v":0},{"$f":"+IF(ISNUMBER('System Results'!P50),'System Results'!P50,0)","v":0},{"$f":"+IF(ISNUMBER('System Results'!S50),'System Results'!S50,0)","v":0},{"$f":"+IF(ISNUMBER('System Results'!V50),'System Results'!V50,0)","v":0},{"$f":"+IF(ISNUMBER('System Results'!Y50),'System Results'!Y50,0)","v":0},{"$f":"+IF(ISNUMBER('System Results'!AB50),'System Results'!AB50,0)","v":0},{"$f":"+IF(ISNUMBER('System Results'!AE50),'System Results'!AE50,0)","v":0},{"$f":"+IF(ISNUMBER('System Results'!AH50),'System Results'!AH50,0)","v":0},{"$f":"+IF(ISNUMBER('System Results'!AK50),'System Results'!AK50,0)","v":0},{"$f":"+IF(ISNUMBER('System Results'!AN50),'System Results'!AN50,0)","v":0},{"$f":"+IF(ISNUMBER('System Results'!AQ50),'System Results'!AQ50,0)","v":0},{"$f":"+IF(ISNUMBER('System Results'!AT50),'System Results'!AT50,0)","v":0},{"$f":"+IF(ISNUMBER('System Results'!AW50),'System Results'!AW50,0)","v":0},{"$f":"+IF(ISNUMBER('System Results'!AZ50),'System Results'!AZ50,0)","v":0},{"$f":"+IF(ISNUMBER('System Results'!BC50),'System Results'!BC50,0)","v":0},{"$f":"+IF(ISNUMBER('System Results'!BF50),'System Results'!BF50,0)","v":0},{"$f":"+IF(ISNUMBER('System Results'!BI50),'System Results'!BI50,0)","v":0},{"$f":"+IF(ISNUMBER('System Results'!BL50),'System Results'!BL50,0)","v":0},{"$f":"+IF(ISNUMBER('System Results'!BO50),'System Results'!BO50,0)","v":0},{"$f":"+IF(ISNUMBER('System Results'!BR50),'System Results'!BR50,0)","v":0},{"$f":"+IF(ISNUMBER('System Results'!BU50),'System Results'!BU50,0)","v":0},{"$f":"+IF(ISNUMBER('System Results'!BX50),'System Results'!BX50,0)","v":0},{"$f":"+IF(ISNUMBER('System Results'!CA50),'System Results'!CA50,0)","v":0},{"$f":"+IF(ISNUMBER('System Results'!CD50),'System Results'!CD50,0)","v":0},{"$f":"+IF(ISNUMBER('System Results'!CG50),'System Results'!CG50,0)","v":0},{"$f":"+IF(ISNUMBER('System Results'!CJ50),'System Results'!CJ50,0)","v":0},{"$f":"+IF(ISNUMBER('System Results'!CM50),'System Results'!CM50,0)","v":0},{"$f":"+IF(ISNUMBER('System Results'!CP50),'System Results'!CP50,0)","v":0},{"$f":"+IF(ISNUMBER('System Results'!CS50),'System Results'!CS50,0)","v":0},{"$f":"+IF(ISNUMBER('System Results'!CV50),'System Results'!CV50,0)","v":0},{"$f":"+IF(ISNUMBER('System Results'!CY50),'System Results'!CY50,0)","v":0},{"$f":"+IF(ISNUMBER('System Results'!DB50),'System Results'!DB50,0)","v":0},{"$f":"+IF(ISNUMBER('System Results'!DE50),'System Results'!DE50,0)","v":0},{"$f":"+IF(ISNUMBER('System Results'!DH50),'System Results'!DH50,0)","v":0},{"$f":"+IF(ISNUMBER('System Results'!DK50),'System Results'!DK50,0)","v":0},{"$f":"+IF(ISNUMBER('System Results'!DN50),'System Results'!DN50,0)","v":0},{"$f":"+IF(ISNUMBER('System Results'!DQ50),'System Results'!DQ50,0)","v":0},{"$f":"+IF(ISNUMBER('System Results'!DT50),'System Results'!DT50,0)","v":0},{"$f":"+IF(ISNUMBER('System Results'!DW50),'System Results'!DW50,0)","v":0},{"$f":"+IF(ISNUMBER('System Results'!DZ50),'System Results'!DZ50,0)","v":0},{"$f":"+IF(ISNUMBER('System Results'!EC50),'System Results'!EC50,0)","v":0},{"$f":"+IF(ISNUMBER('System Results'!EF50),'System Results'!EF50,0)","v":0},{"$f":"+IF(ISNUMBER('System Results'!EI50),'System Results'!EI50,0)","v":0},{"$f":"+IF(ISNUMBER('System Results'!EL50),'System Results'!EL50,0)","v":0},{"$f":"+IF(ISNUMBER('System Results'!EO50),'System Results'!EO50,0)","v":0},{"$f":"+IF(ISNUMBER('System Results'!ER50),'System Results'!ER50,0)","v":0},{"$f":"+IF(ISNUMBER('System Results'!EU50),'System Results'!EU50,0)","v":0},{"$f":"+IF(ISNUMBER('System Results'!EX50),'System Results'!EX50,0)","v":0},{"$f":"+IF(ISNUMBER('System Results'!FA50),'System Results'!FA50,0)","v":0},{"$f":"+IF(ISNUMBER('System Results'!FD50),'System Results'!FD50,0)","v":0},{"$f":"+IF(ISNUMBER('System Results'!FG50),'System Results'!FG50,0)","v":0},{"$f":"+IF(ISNUMBER('System Results'!FJ50),'System Results'!FJ50,0)","v":0},{"$f":"+IF(ISNUMBER('System Results'!FM50),'System Results'!FM50,0)","v":0},{"$f":"+IF(ISNUMBER('System Results'!FP50),'System Results'!FP50,0)","v":0},{"$f":"+IF(ISNUMBER('System Results'!FS50),'System Results'!FS50,0)","v":0},{"$f":"+IF(ISNUMBER('System Results'!FV50),'System Results'!FV50,0)","v":0},{"$f":"+IF(ISNUMBER('System Results'!FY50),'System Results'!FY50,0)","v":0},{"$f":"+IF(ISNUMBER('System Results'!GB50),'System Results'!GB50,0)","v":0},{"$f":"+IF(ISNUMBER('System Results'!GE50),'System Results'!GE50,0)","v":0},{"$f":"+IF(ISNUMBER('System Results'!GH50),'System Results'!GH50,0)","v":0},{"$f":"+IF(ISNUMBER('System Results'!GK50),'System Results'!GK50,0)","v":0},{"$f":"+IF(ISNUMBER('System Results'!GN50),'System Results'!GN50,0)","v":0},{"$f":"+IF(ISNUMBER('System Results'!GQ50),'System Results'!GQ50,0)","v":0},{"$f":"+IF(ISNUMBER('System Results'!GT50),'System Results'!GT50,0)","v":0},{"$f":"+IF(ISNUMBER('System Results'!GW50),'System Results'!GW50,0)","v":0},{"$f":"+IF(ISNUMBER('System Results'!GZ50),'System Results'!GZ50,0)","v":0},{"$f":"+IF(ISNUMBER('System Results'!HC50),'System Results'!HC50,0)","v":0},{"$f":"+IF(ISNUMBER('System Results'!HF50),'System Results'!HF50,0)","v":0},{"$f":"+IF(ISNUMBER('System Results'!HI50),'System Results'!HI50,0)","v":0},{"$f":"+IF(ISNUMBER('System Results'!HL50),'System Results'!HL50,0)","v":0},{"$f":"+IF(ISNUMBER('System Results'!HO50),'System Results'!HO50,0)","v":0},{"$f":"+IF(ISNUMBER('System Results'!HR50),'System Results'!HR50,0)","v":0},{"$f":"+IF(ISNUMBER('System Results'!HU50),'System Results'!HU50,0)","v":0},{"$f":"+IF(ISNUMBER('System Results'!HX50),'System Results'!HX50,0)","v":0},{"$f":"+IF(ISNUMBER('System Results'!IA50),'System Results'!IA50,0)","v":0},{"$f":"+IF(ISNUMBER('System Results'!ID50),'System Results'!ID50,0)","v":0},{"$f":"+IF(ISNUMBER('System Results'!IG50),'System Results'!IG50,0)","v":0},{"$f":"+IF(ISNUMBER('System Results'!IJ50),'System Results'!IJ50,0)","v":0},{"$f":"+IF(ISNUMBER('System Results'!IM50),'System Results'!IM50,0)","v":0},{"$f":"+IF(ISNUMBER('System Results'!IP50),'System Results'!IP50,0)","v":0},{"$f":"+IF(ISNUMBER('System Results'!IS50),'System Results'!IS50,0)","v":0},{"$f":"+IF(ISNUMBER('System Results'!IV50),'System Results'!IV50,0)","v":0},{"$f":"+IF(ISNUMBER('System Results'!IY50),'System Results'!IY50,0)","v":0},{"$f":"+IF(ISNUMBER('System Results'!JB50),'System Results'!JB50,0)","v":0},{"$f":"+IF(ISNUMBER('System Results'!JE50),'System Results'!JE50,0)","v":0},{"$f":"+IF(ISNUMBER('System Results'!JH50),'System Results'!JH50,0)","v":0},{"$f":"+IF(ISNUMBER('System Results'!JK50),'System Results'!JK50,0)","v":0},{"$f":"+IF(ISNUMBER('System Results'!JN50),'System Results'!JN50,0)","v":0},{"$f":"+IF(ISNUMBER('System Results'!JQ50),'System Results'!JQ50,0)","v":0},{"$f":"+IF(ISNUMBER('System Results'!JT50),'System Results'!JT50,0)","v":0},{"$f":"+IF(ISNUMBER('System Results'!JW50),'System Results'!JW50,0)","v":0},{"$f":"+IF(ISNUMBER('System Results'!JZ50),'System Results'!JZ50,0)","v":0},{"$f":"+IF(ISNUMBER('System Results'!KC50),'System Results'!KC50,0)","v":0},{"$f":"+IF(ISNUMBER('System Results'!KF50),'System Results'!KF50,0)","v":0},{"$f":"+IF(ISNUMBER('System Results'!KI50),'System Results'!KI50,0)","v":0},{"$f":"+IF(ISNUMBER('System Results'!KL50),'System Results'!KL50,0)","v":0},{"$f":"+IF(ISNUMBER('System Results'!KO50),'System Results'!KO50,0)","v":0},{"$f":"+IF(ISNUMBER('System Results'!KR50),'System Results'!KR50,0)","v":0},{"$f":"+IF(ISNUMBER('System Results'!KU50),'System Results'!KU50,0)","v":0},{"$f":"+IF(ISNUMBER('System Results'!KX50),'System Results'!KX50,0)","v":0},{"$f":"+IF(ISNUMBER('System Results'!LA50),'System Results'!LA50,0)","v":0},{"$f":"+IF(ISNUMBER('System Results'!LD50),'System Results'!LD50,0)","v":0},{"$f":"+IF(ISNUMBER('System Results'!LG50),'System Results'!LG50,0)","v":0},{"$f":"+IF(ISNUMBER('System Results'!LJ50),'System Results'!LJ50,0)","v":0},{"$f":"+IF(ISNUMBER('System Results'!LM50),'System Results'!LM50,0)","v":0},{"$f":"+IF(ISNUMBER('System Results'!LP50),'System Results'!LP50,0)","v":0},{"$f":"+IF(ISNUMBER('System Results'!LS50),'System Results'!LS50,0)","v":0},{"$f":"+IF(ISNUMBER('System Results'!LV50),'System Results'!LV50,0)","v":0},{"$f":"+IF(ISNUMBER('System Results'!LY50),'System Results'!LY50,0)","v":0},{"$f":"+IF(ISNUMBER('System Results'!MB50),'System Results'!MB50,0)","v":0},{"$f":"+IF(ISNUMBER('System Results'!ME50),'System Results'!ME50,0)","v":0},{"$f":"+IF(ISNUMBER('System Results'!MH50),'System Results'!MH50,0)","v":0},{"$f":"+IF(ISNUMBER('System Results'!MK50),'System Results'!MK50,0)","v":0},{"$f":"+IF(ISNUMBER('System Results'!MN50),'System Results'!MN50,0)","v":0},{"$f":"+IF(ISNUMBER('System Results'!MQ50),'System Results'!MQ50,0)","v":0},{"$f":"+IF(ISNUMBER('System Results'!MT50),'System Results'!MT50,0)","v":0},{"$f":"+IF(ISNUMBER('System Results'!MW50),'System Results'!MW50,0)","v":0},{"$f":"+IF(ISNUMBER('System Results'!MZ50),'System Results'!MZ50,0)","v":0},{"$f":"+IF(ISNUMBER('System Results'!NC50),'System Results'!NC50,0)","v":0},{"$f":"+IF(ISNUMBER('System Results'!NF50),'System Results'!NF50,0)","v":0},{"$f":"+IF(ISNUMBER('System Results'!NI50),'System Results'!NI50,0)","v":0},{"$f":"+IF(ISNUMBER('System Results'!NL50),'System Results'!NL50,0)","v":0},{"$f":"+IF(ISNUMBER('System Results'!NO50),'System Results'!NO50,0)","v":0},{"$f":"+IF(ISNUMBER('System Results'!NR50),'System Results'!NR50,0)","v":0},{"$f":"+IF(ISNUMBER('System Results'!NU50),'System Results'!NU50,0)","v":0},{"$f":"+IF(ISNUMBER('System Results'!NX50),'System Results'!NX50,0)","v":0},{"$f":"+IF(ISNUMBER('System Results'!OA50),'System Results'!OA50,0)","v":0},{"$f":"+IF(ISNUMBER('System Results'!OD50),'System Results'!OD50,0)","v":0},{"$f":"+IF(ISNUMBER('System Results'!OG50),'System Results'!OG50,0)","v":0},{"$f":"+IF(ISNUMBER('System Results'!OJ50),'System Results'!OJ50,0)","v":0},{"$f":"+IF(ISNUMBER('System Results'!OM50),'System Results'!OM50,0)","v":0},{"$f":"+IF(ISNUMBER('System Results'!OP50),'System Results'!OP50,0)","v":0},{"$f":"+IF(ISNUMBER('System Results'!OS50),'System Results'!OS50,0)","v":0},{"$f":"+IF(ISNUMBER('System Results'!OV50),'System Results'!OV50,0)","v":0},{"$f":"+IF(ISNUMBER('System Results'!OY50),'System Results'!OY50,0)","v":0},{"$f":"+IF(ISNUMBER('System Results'!PB50),'System Results'!PB50,0)","v":0},{"$f":"+IF(ISNUMBER('System Results'!PE50),'System Results'!PE50,0)","v":0},{"$f":"+IF(ISNUMBER('System Results'!PH50),'System Results'!PH50,0)","v":0},{"$f":"+IF(ISNUMBER('System Results'!PK50),'System Results'!PK50,0)","v":0},{"$f":"+IF(ISNUMBER('System Results'!PN50),'System Results'!PN50,0)","v":0},{"$f":"+IF(ISNUMBER('System Results'!PQ50),'System Results'!PQ50,0)","v":0},{"$f":"+IF(ISNUMBER('System Results'!PT50),'System Results'!PT50,0)","v":0},{"$f":"+IF(ISNUMBER('System Results'!PW50),'System Results'!PW50,0)","v":0},{"$f":"+IF(ISNUMBER('System Results'!PZ50),'System Results'!PZ50,0)","v":0},{"$f":"+IF(ISNUMBER('System Results'!QC50),'System Results'!QC50,0)","v":0},{"$f":"+IF(ISNUMBER('System Results'!QF50),'System Results'!QF50,0)","v":0},{"$f":"+IF(ISNUMBER('System Results'!QI50),'System Results'!QI50,0)","v":0},{"$f":"+IF(ISNUMBER('System Results'!QL50),'System Results'!QL50,0)","v":0},{"$f":"+IF(ISNUMBER('System Results'!QO50),'System Results'!QO50,0)","v":0},{"$f":"+IF(ISNUMBER('System Results'!QR50),'System Results'!QR50,0)","v":0},{"$f":"+IF(ISNUMBER('System Results'!QU50),'System Results'!QU50,0)","v":0},{"$f":"+IF(ISNUMBER('System Results'!QX50),'System Results'!QX50,0)","v":0},{"$f":"+IF(ISNUMBER('System Results'!RA50),'System Results'!RA50,0)","v":0},{"$f":"+IF(ISNUMBER('System Results'!RD50),'System Results'!RD50,0)","v":0},{"$f":"+IF(ISNUMBER('System Results'!RG50),'System Results'!RG50,0)","v":0},{"$f":"+IF(ISNUMBER('System Results'!RJ50),'System Results'!RJ50,0)","v":0},{"$f":"+IF(ISNUMBER('System Results'!RM50),'System Results'!RM50,0)","v":0},{"$f":"+IF(ISNUMBER('System Results'!RP50),'System Results'!RP50,0)","v":0},{"$f":"+IF(ISNUMBER('System Results'!RS50),'System Results'!RS50,0)","v":0},{"$f":"+IF(ISNUMBER('System Results'!RV50),'System Results'!RV50,0)","v":0},{"$f":"+IF(ISNUMBER('System Results'!RY50),'System Results'!RY50,0)","v":0},{"$f":"+IF(ISNUMBER('System Results'!SB50),'System Results'!SB50,0)","v":0},{"$f":"+IF(ISNUMBER('System Results'!SE50),'System Results'!SE50,0)","v":0},{"$f":"+IF(ISNUMBER('System Results'!SH50),'System Results'!SH50,0)","v":0},{"$f":"+IF(ISNUMBER('System Results'!SK50),'System Results'!SK50,0)","v":0},{"$f":"+IF(ISNUMBER('System Results'!SN50),'System Results'!SN50,0)","v":0},{"$f":"+IF(ISNUMBER('System Results'!SQ50),'System Results'!SQ50,0)","v":0},{"$f":"+IF(ISNUMBER('System Results'!ST50),'System Results'!ST50,0)","v":0},{"$f":"+IF(ISNUMBER('System Results'!SW50),'System Results'!SW50,0)","v":0},{"$f":"+IF(ISNUMBER('System Results'!SZ50),'System Results'!SZ50,0)","v":0},{"$f":"+IF(ISNUMBER('System Results'!TC50),'System Results'!TC50,0)","v":0},{"$f":"+IF(ISNUMBER('System Results'!TF50),'System Results'!TF50,0)","v":0},{"$f":"+IF(ISNUMBER('System Results'!TI50),'System Results'!TI50,0)","v":0},{"$f":"+IF(ISNUMBER('System Results'!TL50),'System Results'!TL50,0)","v":0},{"$f":"+IF(ISNUMBER('System Results'!TO50),'System Results'!TO50,0)","v":0},{"$f":"+IF(ISNUMBER('System Results'!TR50),'System Results'!TR50,0)","v":0},{"$f":"+IF(ISNUMBER('System Results'!TU50),'System Results'!TU50,0)","v":0},{"$f":"+IF(ISNUMBER('System Results'!TX50),'System Results'!TX50,0)","v":0},{"$f":"+IF(ISNUMBER('System Results'!UA50),'System Results'!UA50,0)","v":0},{"$f":"+IF(ISNUMBER('System Results'!UD50),'System Results'!UD50,0)","v":0},{"$f":"+IF(ISNUMBER('System Results'!UG50),'System Results'!UG50,0)","v":0},{"$f":"+IF(ISNUMBER('System Results'!UJ50),'System Results'!UJ50,0)","v":0},{"$f":"+IF(ISNUMBER('System Results'!UM50),'System Results'!UM50,0)","v":0},{"$f":"+IF(ISNUMBER('System Results'!UP50),'System Results'!UP50,0)","v":0},{"$f":"+IF(ISNUMBER('System Results'!US50),'System Results'!US50,0)","v":0},{"$f":"+IF(ISNUMBER('System Results'!UV50),'System Results'!UV50,0)","v":0},{"$f":"+IF(ISNUMBER('System Results'!UY50),'System Results'!UY50,0)","v":0},{"$f":"+IF(ISNUMBER('System Results'!VB50),'System Results'!VB50,0)","v":0},{"$f":"+IF(ISNUMBER('System Results'!VE50),'System Results'!VE50,0)","v":0},{"$f":"+IF(ISNUMBER('System Results'!VH50),'System Results'!VH50,0)","v":0},{"$f":"+IF(ISNUMBER('System Results'!VK50),'System Results'!VK50,0)","v":0},{"$f":"+IF(ISNUMBER('System Results'!VN50),'System Results'!VN50,0)","v":0},{"$f":"+IF(ISNUMBER('System Results'!VQ50),'System Results'!VQ50,0)","v":0},{"$f":"+IF(ISNUMBER('System Results'!VT50),'System Results'!VT50,0)","v":0},{"$f":"+IF(ISNUMBER('System Results'!VW50),'System Results'!VW50,0)","v":0},{"$f":"+IF(ISNUMBER('System Results'!VZ50),'System Results'!VZ50,0)","v":0},{"$f":"+IF(ISNUMBER('System Results'!WC50),'System Results'!WC50,0)","v":0},{"$f":"+IF(ISNUMBER('System Results'!WF50),'System Results'!WF50,0)","v":0},{"$f":"+IF(ISNUMBER('System Results'!WI50),'System Results'!WI50,0)","v":0},{"$f":"+IF(ISNUMBER('System Results'!WL50),'System Results'!WL50,0)","v":0},{"$f":"+IF(ISNUMBER('System Results'!WO50),'System Results'!WO50,0)","v":0},{"$f":"+IF(ISNUMBER('System Results'!WR50),'System Results'!WR50,0)","v":0},{"$f":"+IF(ISNUMBER('System Results'!WU50),'System Results'!WU50,0)","v":0},{"$f":"+IF(ISNUMBER('System Results'!WX50),'System Results'!WX50,0)","v":0},{"$f":"+IF(ISNUMBER('System Results'!XA50),'System Results'!XA50,0)","v":0},{"$f":"+IF(ISNUMBER('System Results'!XD50),'System Results'!XD50,0)","v":0},{"$f":"+IF(ISNUMBER('System Results'!XG50),'System Results'!XG50,0)","v":0},{"$f":"+IF(ISNUMBER('System Results'!XJ50),'System Results'!XJ50,0)","v":0},{"$f":"+IF(ISNUMBER('System Results'!XM50),'System Results'!XM50,0)","v":0},{"$f":"+IF(ISNUMBER('System Results'!XP50),'System Results'!XP50,0)","v":0},{"$f":"+IF(ISNUMBER('System Results'!XS50),'System Results'!XS50,0)","v":0},{"$f":"+IF(ISNUMBER('System Results'!XV50),'System Results'!XV50,0)","v":0},{"$f":"+IF(ISNUMBER('System Results'!XY50),'System Results'!XY50,0)","v":0},{"$f":"+IF(ISNUMBER('System Results'!YB50),'System Results'!YB50,0)","v":0},{"$f":"+IF(ISNUMBER('System Results'!YE50),'System Results'!YE50,0)","v":0},{"$f":"+IF(ISNUMBER('System Results'!YH50),'System Results'!YH50,0)","v":0},{"$f":"+IF(ISNUMBER('System Results'!YK50),'System Results'!YK50,0)","v":0},{"$f":"+IF(ISNUMBER('System Results'!YN50),'System Results'!YN50,0)","v":0},{"$f":"+IF(ISNUMBER('System Results'!YQ50),'System Results'!YQ50,0)","v":0},{"$f":"+IF(ISNUMBER('System Results'!YT50),'System Results'!YT50,0)","v":0},{"$f":"+IF(ISNUMBER('System Results'!YW50),'System Results'!YW50,0)","v":0},{"$f":"+IF(ISNUMBER('System Results'!YZ50),'System Results'!YZ50,0)","v":0},{"$f":"+IF(ISNUMBER('System Results'!ZC50),'System Results'!ZC50,0)","v":0},{"$f":"+IF(ISNUMBER('System Results'!ZF50),'System Results'!ZF50,0)","v":0},{"$f":"+IF(ISNUMBER('System Results'!ZI50),'System Results'!ZI50,0)","v":0},{"$f":"+IF(ISNUMBER('System Results'!ZL50),'System Results'!ZL50,0)","v":0},{"$f":"+IF(ISNUMBER('System Results'!ZO50),'System Results'!ZO50,0)","v":0},{"$f":"+IF(ISNUMBER('System Results'!ZR50),'System Results'!ZR50,0)","v":0},{"$f":"+IF(ISNUMBER('System Results'!ZU50),'System Results'!ZU50,0)","v":0},{"$f":"+IF(ISNUMBER('System Results'!ZX50),'System Results'!ZX50,0)","v":0},{"$f":"+IF(ISNUMBER('System Results'!AAA50),'System Results'!AAA50,0)","v":0},{"$f":"+IF(ISNUMBER('System Results'!AAD50),'System Results'!AAD50,0)","v":0},{"$f":"+IF(ISNUMBER('System Results'!AAG50),'System Results'!AAG50,0)","v":0},{"$f":"+IF(ISNUMBER('System Results'!AAJ50),'System Results'!AAJ50,0)","v":0},{"$f":"+IF(ISNUMBER('System Results'!AAM50),'System Results'!AAM50,0)","v":0},{"$f":"+IF(ISNUMBER('System Results'!AAP50),'System Results'!AAP50,0)","v":0},{"$f":"+IF(ISNUMBER('System Results'!AAS50),'System Results'!AAS50,0)","v":0},{"$f":"+IF(ISNUMBER('System Results'!AAV50),'System Results'!AAV50,0)","v":0},{"$f":"+IF(ISNUMBER('System Results'!AAY50),'System Results'!AAY50,0)","v":0},{"$f":"+IF(ISNUMBER('System Results'!ABB50),'System Results'!ABB50,0)","v":0},{"$f":"+IF(ISNUMBER('System Results'!ABE50),'System Results'!ABE50,0)","v":0},{"$f":"+IF(ISNUMBER('System Results'!ABH50),'System Results'!ABH50,0)","v":0},{"$f":"+IF(ISNUMBER('System Results'!ABK50),'System Results'!ABK50,0)","v":0},{"$f":"+IF(ISNUMBER('System Results'!ABN50),'System Results'!ABN50,0)","v":0},{"$f":"+IF(ISNUMBER('System Results'!ABQ50),'System Results'!ABQ50,0)","v":0},{"$f":"+IF(ISNUMBER('System Results'!ABT50),'System Results'!ABT50,0)","v":0},{"$f":"+IF(ISNUMBER('System Results'!ABW50),'System Results'!ABW50,0)","v":0},{"$f":"+IF(ISNUMBER('System Results'!ABZ50),'System Results'!ABZ50,0)","v":0},{"$f":"+IF(ISNUMBER('System Results'!ACC50),'System Results'!ACC50,0)","v":0},{"$f":"+IF(ISNUMBER('System Results'!ACF50),'System Results'!ACF50,0)","v":0},{"$f":"+IF(ISNUMBER('System Results'!ACI50),'System Results'!ACI50,0)","v":0},{"$f":"+IF(ISNUMBER('System Results'!ACL50),'System Results'!ACL50,0)","v":0},{"$f":"+IF(ISNUMBER('System Results'!ACO50),'System Results'!ACO50,0)","v":0},{"$f":"+IF(ISNUMBER('System Results'!ACR50),'System Results'!ACR50,0)","v":0},{"$f":"+IF(ISNUMBER('System Results'!ACU50),'System Results'!ACU50,0)","v":0},{"$f":"+IF(ISNUMBER('System Results'!ACX50),'System Results'!ACX50,0)","v":0},{"$f":"+IF(ISNUMBER('System Results'!ADA50),'System Results'!ADA50,0)","v":0},{"$f":"+IF(ISNUMBER('System Results'!ADD50),'System Results'!ADD50,0)","v":0},{"$f":"+IF(ISNUMBER('System Results'!ADG50),'System Results'!ADG50,0)","v":0},{"$f":"+IF(ISNUMBER('System Results'!ADJ50),'System Results'!ADJ50,0)","v":0},{"$f":"+IF(ISNUMBER('System Results'!ADM50),'System Results'!ADM50,0)","v":0},{"$f":"+IF(ISNUMBER('System Results'!ADP50),'System Results'!ADP50,0)","v":0},{"$f":"+IF(ISNUMBER('System Results'!ADS50),'System Results'!ADS50,0)","v":0},{"$f":"+IF(ISNUMBER('System Results'!ADV50),'System Results'!ADV50,0)","v":0},{"$f":"+IF(ISNUMBER('System Results'!ADY50),'System Results'!ADY50,0)","v":0},{"$f":"+IF(ISNUMBER('System Results'!AEB50),'System Results'!AEB50,0)","v":0},{"$f":"+IF(ISNUMBER('System Results'!AEE50),'System Results'!AEE50,0)","v":0},{"$f":"+IF(ISNUMBER('System Results'!AEH50),'System Results'!AEH50,0)","v":0},{"$f":"+IF(ISNUMBER('System Results'!AEK50),'System Results'!AEK50,0)","v":0},{"$f":"+IF(ISNUMBER('System Results'!AEN50),'System Results'!AEN50,0)","v":0},{"$f":"+IF(ISNUMBER('System Results'!AEQ50),'System Results'!AEQ50,0)","v":0},{"$f":"+IF(ISNUMBER('System Results'!AET50),'System Results'!AET50,0)","v":0},{"$f":"+IF(ISNUMBER('System Results'!AEW50),'System Results'!AEW50,0)","v":0},{"$f":"+IF(ISNUMBER('System Results'!AEZ50),'System Results'!AEZ50,0)","v":0},{"$f":"+IF(ISNUMBER('System Results'!AFC50),'System Results'!AFC50,0)","v":0},{"$f":"+IF(ISNUMBER('System Results'!AFF50),'System Results'!AFF50,0)","v":0},{"$f":"+IF(ISNUMBER('System Results'!AFI50),'System Results'!AFI50,0)","v":0},{"$f":"+IF(ISNUMBER('System Results'!AFL50),'System Results'!AFL50,0)","v":0},{"$f":"+IF(ISNUMBER('System Results'!AFO50),'System Results'!AFO50,0)","v":0},{"$f":"+IF(ISNUMBER('System Results'!AFR50),'System Results'!AFR50,0)","v":0},{"$f":"+IF(ISNUMBER('System Results'!AFU50),'System Results'!AFU50,0)","v":0},{"$f":"+IF(ISNUMBER('System Results'!AFX50),'System Results'!AFX50,0)","v":0},{"$f":"+IF(ISNUMBER('System Results'!AGA50),'System Results'!AGA50,0)","v":0},{"$f":"+IF(ISNUMBER('System Results'!AGD50),'System Results'!AGD50,0)","v":0},{"$f":"+IF(ISNUMBER('System Results'!AGG50),'System Results'!AGG50,0)","v":0},{"$f":"+IF(ISNUMBER('System Results'!AGJ50),'System Results'!AGJ50,0)","v":0},{"$f":"+IF(ISNUMBER('System Results'!AGM50),'System Results'!AGM50,0)","v":0},{"$f":"+IF(ISNUMBER('System Results'!AGP50),'System Results'!AGP50,0)","v":0},{"$f":"+IF(ISNUMBER('System Results'!AGS50),'System Results'!AGS50,0)","v":0},{"$f":"+IF(ISNUMBER('System Results'!AGV50),'System Results'!AGV50,0)","v":0},{"$f":"+IF(ISNUMBER('System Results'!AGY50),'System Results'!AGY50,0)","v":0},{"$f":"+IF(ISNUMBER('System Results'!AHB50),'System Results'!AHB50,0)","v":0},{"$f":"+IF(ISNUMBER('System Results'!AHE50),'System Results'!AHE50,0)","v":0},{"$f":"+IF(ISNUMBER('System Results'!AHH50),'System Results'!AHH50,0)","v":0},{"$f":"+IF(ISNUMBER('System Results'!AHK50),'System Results'!AHK50,0)","v":0},{"$f":"+IF(ISNUMBER('System Results'!AHN50),'System Results'!AHN50,0)","v":0},{"$f":"+IF(ISNUMBER('System Results'!AHQ50),'System Results'!AHQ50,0)","v":0},{"$f":"+IF(ISNUMBER('System Results'!AHT50),'System Results'!AHT50,0)","v":0}]
["Scope 3",{"$f":"+'System Results'!B51","v":"Investments"},0,{"$f":"+IF(ISNUMBER('System Results'!G51),'System Results'!G51,0)","v":0},{"$f":"+IF(ISNUMBER('System Results'!J51),'System Results'!J51,0)","v":0},{"$f":"+IF(ISNUMBER('System Results'!M51),'System Results'!M51,0)","v":0},{"$f":"+IF(ISNUMBER('System Results'!P51),'System Results'!P51,0)","v":0},{"$f":"+IF(ISNUMBER('System Results'!S51),'System Results'!S51,0)","v":0},{"$f":"+IF(ISNUMBER('System Results'!V51),'System Results'!V51,0)","v":0},{"$f":"+IF(ISNUMBER('System Results'!Y51),'System Results'!Y51,0)","v":0},{"$f":"+IF(ISNUMBER('System Results'!AB51),'System Results'!AB51,0)","v":0},{"$f":"+IF(ISNUMBER('System Results'!AE51),'System Results'!AE51,0)","v":0},{"$f":"+IF(ISNUMBER('System Results'!AH51),'System Results'!AH51,0)","v":0},{"$f":"+IF(ISNUMBER('System Results'!AK51),'System Results'!AK51,0)","v":0},{"$f":"+IF(ISNUMBER('System Results'!AN51),'System Results'!AN51,0)","v":0},{"$f":"+IF(ISNUMBER('System Results'!AQ51),'System Results'!AQ51,0)","v":0},{"$f":"+IF(ISNUMBER('System Results'!AT51),'System Results'!AT51,0)","v":0},{"$f":"+IF(ISNUMBER('System Results'!AW51),'System Results'!AW51,0)","v":0},{"$f":"+IF(ISNUMBER('System Results'!AZ51),'System Results'!AZ51,0)","v":0},{"$f":"+IF(ISNUMBER('System Results'!BC51),'System Results'!BC51,0)","v":0},{"$f":"+IF(ISNUMBER('System Results'!BF51),'System Results'!BF51,0)","v":0},{"$f":"+IF(ISNUMBER('System Results'!BI51),'System Results'!BI51,0)","v":0},{"$f":"+IF(ISNUMBER('System Results'!BL51),'System Results'!BL51,0)","v":0},{"$f":"+IF(ISNUMBER('System Results'!BO51),'System Results'!BO51,0)","v":0},{"$f":"+IF(ISNUMBER('System Results'!BR51),'System Results'!BR51,0)","v":0},{"$f":"+IF(ISNUMBER('System Results'!BU51),'System Results'!BU51,0)","v":0},{"$f":"+IF(ISNUMBER('System Results'!BX51),'System Results'!BX51,0)","v":0},{"$f":"+IF(ISNUMBER('System Results'!CA51),'System Results'!CA51,0)","v":0},{"$f":"+IF(ISNUMBER('System Results'!CD51),'System Results'!CD51,0)","v":0},{"$f":"+IF(ISNUMBER('System Results'!CG51),'System Results'!CG51,0)","v":0},{"$f":"+IF(ISNUMBER('System Results'!CJ51),'System Results'!CJ51,0)","v":0},{"$f":"+IF(ISNUMBER('System Results'!CM51),'System Results'!CM51,0)","v":0},{"$f":"+IF(ISNUMBER('System Results'!CP51),'System Results'!CP51,0)","v":0},{"$f":"+IF(ISNUMBER('System Results'!CS51),'System Results'!CS51,0)","v":0},{"$f":"+IF(ISNUMBER('System Results'!CV51),'System Results'!CV51,0)","v":0},{"$f":"+IF(ISNUMBER('System Results'!CY51),'System Results'!CY51,0)","v":0},{"$f":"+IF(ISNUMBER('System Results'!DB51),'System Results'!DB51,0)","v":0},{"$f":"+IF(ISNUMBER('System Results'!DE51),'System Results'!DE51,0)","v":0},{"$f":"+IF(ISNUMBER('System Results'!DH51),'System Results'!DH51,0)","v":0},{"$f":"+IF(ISNUMBER('System Results'!DK51),'System Results'!DK51,0)","v":0},{"$f":"+IF(ISNUMBER('System Results'!DN51),'System Results'!DN51,0)","v":0},{"$f":"+IF(ISNUMBER('System Results'!DQ51),'System Results'!DQ51,0)","v":0},{"$f":"+IF(ISNUMBER('System Results'!DT51),'System Results'!DT51,0)","v":0},{"$f":"+IF(ISNUMBER('System Results'!DW51),'System Results'!DW51,0)","v":0},{"$f":"+IF(ISNUMBER('System Results'!DZ51),'System Results'!DZ51,0)","v":0},{"$f":"+IF(ISNUMBER('System Results'!EC51),'System Results'!EC51,0)","v":0},{"$f":"+IF(ISNUMBER('System Results'!EF51),'System Results'!EF51,0)","v":0},{"$f":"+IF(ISNUMBER('System Results'!EI51),'System Results'!EI51,0)","v":0},{"$f":"+IF(ISNUMBER('System Results'!EL51),'System Results'!EL51,0)","v":0},{"$f":"+IF(ISNUMBER('System Results'!EO51),'System Results'!EO51,0)","v":0},{"$f":"+IF(ISNUMBER('System Results'!ER51),'System Results'!ER51,0)","v":0},{"$f":"+IF(ISNUMBER('System Results'!EU51),'System Results'!EU51,0)","v":0},{"$f":"+IF(ISNUMBER('System Results'!EX51),'System Results'!EX51,0)","v":0},{"$f":"+IF(ISNUMBER('System Results'!FA51),'System Results'!FA51,0)","v":0},{"$f":"+IF(ISNUMBER('System Results'!FD51),'System Results'!FD51,0)","v":0},{"$f":"+IF(ISNUMBER('System Results'!FG51),'System Results'!FG51,0)","v":0},{"$f":"+IF(ISNUMBER('System Results'!FJ51),'System Results'!FJ51,0)","v":0},{"$f":"+IF(ISNUMBER('System Results'!FM51),'System Results'!FM51,0)","v":0},{"$f":"+IF(ISNUMBER('System Results'!FP51),'System Results'!FP51,0)","v":0},{"$f":"+IF(ISNUMBER('System Results'!FS51),'System Results'!FS51,0)","v":0},{"$f":"+IF(ISNUMBER('System Results'!FV51),'System Results'!FV51,0)","v":0},{"$f":"+IF(ISNUMBER('System Results'!FY51),'System Results'!FY51,0)","v":0},{"$f":"+IF(ISNUMBER('System Results'!GB51),'System Results'!GB51,0)","v":0},{"$f":"+IF(ISNUMBER('System Results'!GE51),'System Results'!GE51,0)","v":0},{"$f":"+IF(ISNUMBER('System Results'!GH51),'System Results'!GH51,0)","v":0},{"$f":"+IF(ISNUMBER('System Results'!GK51),'System Results'!GK51,0)","v":0},{"$f":"+IF(ISNUMBER('System Results'!GN51),'System Results'!GN51,0)","v":0},{"$f":"+IF(ISNUMBER('System Results'!GQ51),'System Results'!GQ51,0)","v":0},{"$f":"+IF(ISNUMBER('System Results'!GT51),'System Results'!GT51,0)","v":0},{"$f":"+IF(ISNUMBER('System Results'!GW51),'System Results'!GW51,0)","v":0},{"$f":"+IF(ISNUMBER('System Results'!GZ51),'System Results'!GZ51,0)","v":0},{"$f":"+IF(ISNUMBER('System Results'!HC51),'System Results'!HC51,0)","v":0},{"$f":"+IF(ISNUMBER('System Results'!HF51),'System Results'!HF51,0)","v":0},{"$f":"+IF(ISNUMBER('System Results'!HI51),'System Results'!HI51,0)","v":0},{"$f":"+IF(ISNUMBER('System Results'!HL51),'System Results'!HL51,0)","v":0},{"$f":"+IF(ISNUMBER('System Results'!HO51),'System Results'!HO51,0)","v":0},{"$f":"+IF(ISNUMBER('System Results'!HR51),'System Results'!HR51,0)","v":0},{"$f":"+IF(ISNUMBER('System Results'!HU51),'System Results'!HU51,0)","v":0},{"$f":"+IF(ISNUMBER('System Results'!HX51),'System Results'!HX51,0)","v":0},{"$f":"+IF(ISNUMBER('System Results'!IA51),'System Results'!IA51,0)","v":0},{"$f":"+IF(ISNUMBER('System Results'!ID51),'System Results'!ID51,0)","v":0},{"$f":"+IF(ISNUMBER('System Results'!IG51),'System Results'!IG51,0)","v":0},{"$f":"+IF(ISNUMBER('System Results'!IJ51),'System Results'!IJ51,0)","v":0},{"$f":"+IF(ISNUMBER('System Results'!IM51),'System Results'!IM51,0)","v":0},{"$f":"+IF(ISNUMBER('System Results'!IP51),'System Results'!IP51,0)","v":0},{"$f":"+IF(ISNUMBER('System Results'!IS51),'System Results'!IS51,0)","v":0},{"$f":"+IF(ISNUMBER('System Results'!IV51),'System Results'!IV51,0)","v":0},{"$f":"+IF(ISNUMBER('System Results'!IY51),'System Results'!IY51,0)","v":0},{"$f":"+IF(ISNUMBER('System Results'!JB51),'System Results'!JB51,0)","v":0},{"$f":"+IF(ISNUMBER('System Results'!JE51),'System Results'!JE51,0)","v":0},{"$f":"+IF(ISNUMBER('System Results'!JH51),'System Results'!JH51,0)","v":0},{"$f":"+IF(ISNUMBER('System Results'!JK51),'System Results'!JK51,0)","v":0},{"$f":"+IF(ISNUMBER('System Results'!JN51),'System Results'!JN51,0)","v":0},{"$f":"+IF(ISNUMBER('System Results'!JQ51),'System Results'!JQ51,0)","v":0},{"$f":"+IF(ISNUMBER('System Results'!JT51),'System Results'!JT51,0)","v":0},{"$f":"+IF(ISNUMBER('System Results'!JW51),'System Results'!JW51,0)","v":0},{"$f":"+IF(ISNUMBER('System Results'!JZ51),'System Results'!JZ51,0)","v":0},{"$f":"+IF(ISNUMBER('System Results'!KC51),'System Results'!KC51,0)","v":0},{"$f":"+IF(ISNUMBER('System Results'!KF51),'System Results'!KF51,0)","v":0},{"$f":"+IF(ISNUMBER('System Results'!KI51),'System Results'!KI51,0)","v":0},{"$f":"+IF(ISNUMBER('System Results'!KL51),'System Results'!KL51,0)","v":0},{"$f":"+IF(ISNUMBER('System Results'!KO51),'System Results'!KO51,0)","v":0},{"$f":"+IF(ISNUMBER('System Results'!KR51),'System Results'!KR51,0)","v":0},{"$f":"+IF(ISNUMBER('System Results'!KU51),'System Results'!KU51,0)","v":0},{"$f":"+IF(ISNUMBER('System Results'!KX51),'System Results'!KX51,0)","v":0},{"$f":"+IF(ISNUMBER('System Results'!LA51),'System Results'!LA51,0)","v":0},{"$f":"+IF(ISNUMBER('System Results'!LD51),'System Results'!LD51,0)","v":0},{"$f":"+IF(ISNUMBER('System Results'!LG51),'System Results'!LG51,0)","v":0},{"$f":"+IF(ISNUMBER('System Results'!LJ51),'System Results'!LJ51,0)","v":0},{"$f":"+IF(ISNUMBER('System Results'!LM51),'System Results'!LM51,0)","v":0},{"$f":"+IF(ISNUMBER('System Results'!LP51),'System Results'!LP51,0)","v":0},{"$f":"+IF(ISNUMBER('System Results'!LS51),'System Results'!LS51,0)","v":0},{"$f":"+IF(ISNUMBER('System Results'!LV51),'System Results'!LV51,0)","v":0},{"$f":"+IF(ISNUMBER('System Results'!LY51),'System Results'!LY51,0)","v":0},{"$f":"+IF(ISNUMBER('System Results'!MB51),'System Results'!MB51,0)","v":0},{"$f":"+IF(ISNUMBER('System Results'!ME51),'System Results'!ME51,0)","v":0},{"$f":"+IF(ISNUMBER('System Results'!MH51),'System Results'!MH51,0)","v":0},{"$f":"+IF(ISNUMBER('System Results'!MK51),'System Results'!MK51,0)","v":0},{"$f":"+IF(ISNUMBER('System Results'!MN51),'System Results'!MN51,0)","v":0},{"$f":"+IF(ISNUMBER('System Results'!MQ51),'System Results'!MQ51,0)","v":0},{"$f":"+IF(ISNUMBER('System Results'!MT51),'System Results'!MT51,0)","v":0},{"$f":"+IF(ISNUMBER('System Results'!MW51),'System Results'!MW51,0)","v":0},{"$f":"+IF(ISNUMBER('System Results'!MZ51),'System Results'!MZ51,0)","v":0},{"$f":"+IF(ISNUMBER('System Results'!NC51),'System Results'!NC51,0)","v":0},{"$f":"+IF(ISNUMBER('System Results'!NF51),'System Results'!NF51,0)","v":0},{"$f":"+IF(ISNUMBER('System Results'!NI51),'System Results'!NI51,0)","v":0},{"$f":"+IF(ISNUMBER('System Results'!NL51),'System Results'!NL51,0)","v":0},{"$f":"+IF(ISNUMBER('System Results'!NO51),'System Results'!NO51,0)","v":0},{"$f":"+IF(ISNUMBER('System Results'!NR51),'System Results'!NR51,0)","v":0},{"$f":"+IF(ISNUMBER('System Results'!NU51),'System Results'!NU51,0)","v":0},{"$f":"+IF(ISNUMBER('System Results'!NX51),'System Results'!NX51,0)","v":0},{"$f":"+IF(ISNUMBER('System Results'!OA51),'System Results'!OA51,0)","v":0},{"$f":"+IF(ISNUMBER('System Results'!OD51),'System Results'!OD51,0)","v":0},{"$f":"+IF(ISNUMBER('System Results'!OG51),'System Results'!OG51,0)","v":0},{"$f":"+IF(ISNUMBER('System Results'!OJ51),'System Results'!OJ51,0)","v":0},{"$f":"+IF(ISNUMBER('System Results'!OM51),'System Results'!OM51,0)","v":0},{"$f":"+IF(ISNUMBER('System Results'!OP51),'System Results'!OP51,0)","v":0},{"$f":"+IF(ISNUMBER('System Results'!OS51),'System Results'!OS51,0)","v":0},{"$f":"+IF(ISNUMBER('System Results'!OV51),'System Results'!OV51,0)","v":0},{"$f":"+IF(ISNUMBER('System Results'!OY51),'System Results'!OY51,0)","v":0},{"$f":"+IF(ISNUMBER('System Results'!PB51),'System Results'!PB51,0)","v":0},{"$f":"+IF(ISNUMBER('System Results'!PE51),'System Results'!PE51,0)","v":0},{"$f":"+IF(ISNUMBER('System Results'!PH51),'System Results'!PH51,0)","v":0},{"$f":"+IF(ISNUMBER('System Results'!PK51),'System Results'!PK51,0)","v":0},{"$f":"+IF(ISNUMBER('System Results'!PN51),'System Results'!PN51,0)","v":0},{"$f":"+IF(ISNUMBER('System Results'!PQ51),'System Results'!PQ51,0)","v":0},{"$f":"+IF(ISNUMBER('System Results'!PT51),'System Results'!PT51,0)","v":0},{"$f":"+IF(ISNUMBER('System Results'!PW51),'System Results'!PW51,0)","v":0},{"$f":"+IF(ISNUMBER('System Results'!PZ51),'System Results'!PZ51,0)","v":0},{"$f":"+IF(ISNUMBER('System Results'!QC51),'System Results'!QC51,0)","v":0},{"$f":"+IF(ISNUMBER('System Results'!QF51),'System Results'!QF51,0)","v":0},{"$f":"+IF(ISNUMBER('System Results'!QI51),'System Results'!QI51,0)","v":0},{"$f":"+IF(ISNUMBER('System Results'!QL51),'System Results'!QL51,0)","v":0},{"$f":"+IF(ISNUMBER('System Results'!QO51),'System Results'!QO51,0)","v":0},{"$f":"+IF(ISNUMBER('System Results'!QR51),'System Results'!QR51,0)","v":0},{"$f":"+IF(ISNUMBER('System Results'!QU51),'System Results'!QU51,0)","v":0},{"$f":"+IF(ISNUMBER('System Results'!QX51),'System Results'!QX51,0)","v":0},{"$f":"+IF(ISNUMBER('System Results'!RA51),'System Results'!RA51,0)","v":0},{"$f":"+IF(ISNUMBER('System Results'!RD51),'System Results'!RD51,0)","v":0},{"$f":"+IF(ISNUMBER('System Results'!RG51),'System Results'!RG51,0)","v":0},{"$f":"+IF(ISNUMBER('System Results'!RJ51),'System Results'!RJ51,0)","v":0},{"$f":"+IF(ISNUMBER('System Results'!RM51),'System Results'!RM51,0)","v":0},{"$f":"+IF(ISNUMBER('System Results'!RP51),'System Results'!RP51,0)","v":0},{"$f":"+IF(ISNUMBER('System Results'!RS51),'System Results'!RS51,0)","v":0},{"$f":"+IF(ISNUMBER('System Results'!RV51),'System Results'!RV51,0)","v":0},{"$f":"+IF(ISNUMBER('System Results'!RY51),'System Results'!RY51,0)","v":0},{"$f":"+IF(ISNUMBER('System Results'!SB51),'System Results'!SB51,0)","v":0},{"$f":"+IF(ISNUMBER('System Results'!SE51),'System Results'!SE51,0)","v":0},{"$f":"+IF(ISNUMBER('System Results'!SH51),'System Results'!SH51,0)","v":0},{"$f":"+IF(ISNUMBER('System Results'!SK51),'System Results'!SK51,0)","v":0},{"$f":"+IF(ISNUMBER('System Results'!SN51),'System Results'!SN51,0)","v":0},{"$f":"+IF(ISNUMBER('System Results'!SQ51),'System Results'!SQ51,0)","v":0},{"$f":"+IF(ISNUMBER('System Results'!ST51),'System Results'!ST51,0)","v":0},{"$f":"+IF(ISNUMBER('System Results'!SW51),'System Results'!SW51,0)","v":0},{"$f":"+IF(ISNUMBER('System Results'!SZ51),'System Results'!SZ51,0)","v":0},{"$f":"+IF(ISNUMBER('System Results'!TC51),'System Results'!TC51,0)","v":0},{"$f":"+IF(ISNUMBER('System Results'!TF51),'System Results'!TF51,0)","v":0},{"$f":"+IF(ISNUMBER('System Results'!TI51),'System Results'!TI51,0)","v":0},{"$f":"+IF(ISNUMBER('System Results'!TL51),'System Results'!TL51,0)","v":0},{"$f":"+IF(ISNUMBER('System Results'!TO51),'System Results'!TO51,0)","v":0},{"$f":"+IF(ISNUMBER('System Results'!TR51),'System Results'!TR51,0)","v":0},{"$f":"+IF(ISNUMBER('System Results'!TU51),'System Results'!TU51,0)","v":0},{"$f":"+IF(ISNUMBER('System Results'!TX51),'System Results'!TX51,0)","v":0},{"$f":"+IF(ISNUMBER('System Results'!UA51),'System Results'!UA51,0)","v":0},{"$f":"+IF(ISNUMBER('System Results'!UD51),'System Results'!UD51,0)","v":0},{"$f":"+IF(ISNUMBER('System Results'!UG51),'System Results'!UG51,0)","v":0},{"$f":"+IF(ISNUMBER('System Results'!UJ51),'System Results'!UJ51,0)","v":0},{"$f":"+IF(ISNUMBER('System Results'!UM51),'System Results'!UM51,0)","v":0},{"$f":"+IF(ISNUMBER('System Results'!UP51),'System Results'!UP51,0)","v":0},{"$f":"+IF(ISNUMBER('System Results'!US51),'System Results'!US51,0)","v":0},{"$f":"+IF(ISNUMBER('System Results'!UV51),'System Results'!UV51,0)","v":0},{"$f":"+IF(ISNUMBER('System Results'!UY51),'System Results'!UY51,0)","v":0},{"$f":"+IF(ISNUMBER('System Results'!VB51),'System Results'!VB51,0)","v":0},{"$f":"+IF(ISNUMBER('System Results'!VE51),'System Results'!VE51,0)","v":0},{"$f":"+IF(ISNUMBER('System Results'!VH51),'System Results'!VH51,0)","v":0},{"$f":"+IF(ISNUMBER('System Results'!VK51),'System Results'!VK51,0)","v":0},{"$f":"+IF(ISNUMBER('System Results'!VN51),'System Results'!VN51,0)","v":0},{"$f":"+IF(ISNUMBER('System Results'!VQ51),'System Results'!VQ51,0)","v":0},{"$f":"+IF(ISNUMBER('System Results'!VT51),'System Results'!VT51,0)","v":0},{"$f":"+IF(ISNUMBER('System Results'!VW51),'System Results'!VW51,0)","v":0},{"$f":"+IF(ISNUMBER('System Results'!VZ51),'System Results'!VZ51,0)","v":0},{"$f":"+IF(ISNUMBER('System Results'!WC51),'System Results'!WC51,0)","v":0},{"$f":"+IF(ISNUMBER('System Results'!WF51),'System Results'!WF51,0)","v":0},{"$f":"+IF(ISNUMBER('System Results'!WI51),'System Results'!WI51,0)","v":0},{"$f":"+IF(ISNUMBER('System Results'!WL51),'System Results'!WL51,0)","v":0},{"$f":"+IF(ISNUMBER('System Results'!WO51),'System Results'!WO51,0)","v":0},{"$f":"+IF(ISNUMBER('System Results'!WR51),'System Results'!WR51,0)","v":0},{"$f":"+IF(ISNUMBER('System Results'!WU51),'System Results'!WU51,0)","v":0},{"$f":"+IF(ISNUMBER('System Results'!WX51),'System Results'!WX51,0)","v":0},{"$f":"+IF(ISNUMBER('System Results'!XA51),'System Results'!XA51,0)","v":0},{"$f":"+IF(ISNUMBER('System Results'!XD51),'System Results'!XD51,0)","v":0},{"$f":"+IF(ISNUMBER('System Results'!XG51),'System Results'!XG51,0)","v":0},{"$f":"+IF(ISNUMBER('System Results'!XJ51),'System Results'!XJ51,0)","v":0},{"$f":"+IF(ISNUMBER('System Results'!XM51),'System Results'!XM51,0)","v":0},{"$f":"+IF(ISNUMBER('System Results'!XP51),'System Results'!XP51,0)","v":0},{"$f":"+IF(ISNUMBER('System Results'!XS51),'System Results'!XS51,0)","v":0},{"$f":"+IF(ISNUMBER('System Results'!XV51),'System Results'!XV51,0)","v":0},{"$f":"+IF(ISNUMBER('System Results'!XY51),'System Results'!XY51,0)","v":0},{"$f":"+IF(ISNUMBER('System Results'!YB51),'System Results'!YB51,0)","v":0},{"$f":"+IF(ISNUMBER('System Results'!YE51),'System Results'!YE51,0)","v":0},{"$f":"+IF(ISNUMBER('System Results'!YH51),'System Results'!YH51,0)","v":0},{"$f":"+IF(ISNUMBER('System Results'!YK51),'System Results'!YK51,0)","v":0},{"$f":"+IF(ISNUMBER('System Results'!YN51),'System Results'!YN51,0)","v":0},{"$f":"+IF(ISNUMBER('System Results'!YQ51),'System Results'!YQ51,0)","v":0},{"$f":"+IF(ISNUMBER('System Results'!YT51),'System Results'!YT51,0)","v":0},{"$f":"+IF(ISNUMBER('System Results'!YW51),'System Results'!YW51,0)","v":0},{"$f":"+IF(ISNUMBER('System Results'!YZ51),'System Results'!YZ51,0)","v":0},{"$f":"+IF(ISNUMBER('System Results'!ZC51),'System Results'!ZC51,0)","v":0},{"$f":"+IF(ISNUMBER('System Results'!ZF51),'System Results'!ZF51,0)","v":0},{"$f":"+IF(ISNUMBER('System Results'!ZI51),'System Results'!ZI51,0)","v":0},{"$f":"+IF(ISNUMBER('System Results'!ZL51),'System Results'!ZL51,0)","v":0},{"$f":"+IF(ISNUMBER('System Results'!ZO51),'System Results'!ZO51,0)","v":0},{"$f":"+IF(ISNUMBER('System Results'!ZR51),'System Results'!ZR51,0)","v":0},{"$f":"+IF(ISNUMBER('System Results'!ZU51),'System Results'!ZU51,0)","v":0},{"$f":"+IF(ISNUMBER('System Results'!ZX51),'System Results'!ZX51,0)","v":0},{"$f":"+IF(ISNUMBER('System Results'!AAA51),'System Results'!AAA51,0)","v":0},{"$f":"+IF(ISNUMBER('System Results'!AAD51),'System Results'!AAD51,0)","v":0},{"$f":"+IF(ISNUMBER('System Results'!AAG51),'System Results'!AAG51,0)","v":0},{"$f":"+IF(ISNUMBER('System Results'!AAJ51),'System Results'!AAJ51,0)","v":0},{"$f":"+IF(ISNUMBER('System Results'!AAM51),'System Results'!AAM51,0)","v":0},{"$f":"+IF(ISNUMBER('System Results'!AAP51),'System Results'!AAP51,0)","v":0},{"$f":"+IF(ISNUMBER('System Results'!AAS51),'System Results'!AAS51,0)","v":0},{"$f":"+IF(ISNUMBER('System Results'!AAV51),'System Results'!AAV51,0)","v":0},{"$f":"+IF(ISNUMBER('System Results'!AAY51),'System Results'!AAY51,0)","v":0},{"$f":"+IF(ISNUMBER('System Results'!ABB51),'System Results'!ABB51,0)","v":0},{"$f":"+IF(ISNUMBER('System Results'!ABE51),'System Results'!ABE51,0)","v":0},{"$f":"+IF(ISNUMBER('System Results'!ABH51),'System Results'!ABH51,0)","v":0},{"$f":"+IF(ISNUMBER('System Results'!ABK51),'System Results'!ABK51,0)","v":0},{"$f":"+IF(ISNUMBER('System Results'!ABN51),'System Results'!ABN51,0)","v":0},{"$f":"+IF(ISNUMBER('System Results'!ABQ51),'System Results'!ABQ51,0)","v":0},{"$f":"+IF(ISNUMBER('System Results'!ABT51),'System Results'!ABT51,0)","v":0},{"$f":"+IF(ISNUMBER('System Results'!ABW51),'System Results'!ABW51,0)","v":0},{"$f":"+IF(ISNUMBER('System Results'!ABZ51),'System Results'!ABZ51,0)","v":0},{"$f":"+IF(ISNUMBER('System Results'!ACC51),'System Results'!ACC51,0)","v":0},{"$f":"+IF(ISNUMBER('System Results'!ACF51),'System Results'!ACF51,0)","v":0},{"$f":"+IF(ISNUMBER('System Results'!ACI51),'System Results'!ACI51,0)","v":0},{"$f":"+IF(ISNUMBER('System Results'!ACL51),'System Results'!ACL51,0)","v":0},{"$f":"+IF(ISNUMBER('System Results'!ACO51),'System Results'!ACO51,0)","v":0},{"$f":"+IF(ISNUMBER('System Results'!ACR51),'System Results'!ACR51,0)","v":0},{"$f":"+IF(ISNUMBER('System Results'!ACU51),'System Results'!ACU51,0)","v":0},{"$f":"+IF(ISNUMBER('System Results'!ACX51),'System Results'!ACX51,0)","v":0},{"$f":"+IF(ISNUMBER('System Results'!ADA51),'System Results'!ADA51,0)","v":0},{"$f":"+IF(ISNUMBER('System Results'!ADD51),'System Results'!ADD51,0)","v":0},{"$f":"+IF(ISNUMBER('System Results'!ADG51),'System Results'!ADG51,0)","v":0},{"$f":"+IF(ISNUMBER('System Results'!ADJ51),'System Results'!ADJ51,0)","v":0},{"$f":"+IF(ISNUMBER('System Results'!ADM51),'System Results'!ADM51,0)","v":0},{"$f":"+IF(ISNUMBER('System Results'!ADP51),'System Results'!ADP51,0)","v":0},{"$f":"+IF(ISNUMBER('System Results'!ADS51),'System Results'!ADS51,0)","v":0},{"$f":"+IF(ISNUMBER('System Results'!ADV51),'System Results'!ADV51,0)","v":0},{"$f":"+IF(ISNUMBER('System Results'!ADY51),'System Results'!ADY51,0)","v":0},{"$f":"+IF(ISNUMBER('System Results'!AEB51),'System Results'!AEB51,0)","v":0},{"$f":"+IF(ISNUMBER('System Results'!AEE51),'System Results'!AEE51,0)","v":0},{"$f":"+IF(ISNUMBER('System Results'!AEH51),'System Results'!AEH51,0)","v":0},{"$f":"+IF(ISNUMBER('System Results'!AEK51),'System Results'!AEK51,0)","v":0},{"$f":"+IF(ISNUMBER('System Results'!AEN51),'System Results'!AEN51,0)","v":0},{"$f":"+IF(ISNUMBER('System Results'!AEQ51),'System Results'!AEQ51,0)","v":0},{"$f":"+IF(ISNUMBER('System Results'!AET51),'System Results'!AET51,0)","v":0},{"$f":"+IF(ISNUMBER('System Results'!AEW51),'System Results'!AEW51,0)","v":0},{"$f":"+IF(ISNUMBER('System Results'!AEZ51),'System Results'!AEZ51,0)","v":0},{"$f":"+IF(ISNUMBER('System Results'!AFC51),'System Results'!AFC51,0)","v":0},{"$f":"+IF(ISNUMBER('System Results'!AFF51),'System Results'!AFF51,0)","v":0},{"$f":"+IF(ISNUMBER('System Results'!AFI51),'System Results'!AFI51,0)","v":0},{"$f":"+IF(ISNUMBER('System Results'!AFL51),'System Results'!AFL51,0)","v":0},{"$f":"+IF(ISNUMBER('System Results'!AFO51),'System Results'!AFO51,0)","v":0},{"$f":"+IF(ISNUMBER('System Results'!AFR51),'System Results'!AFR51,0)","v":0},{"$f":"+IF(ISNUMBER('System Results'!AFU51),'System Results'!AFU51,0)","v":0},{"$f":"+IF(ISNUMBER('System Results'!AFX51),'System Results'!AFX51,0)","v":0},{"$f":"+IF(ISNUMBER('System Results'!AGA51),'System Results'!AGA51,0)","v":0},{"$f":"+IF(ISNUMBER('System Results'!AGD51),'System Results'!AGD51,0)","v":0},{"$f":"+IF(ISNUMBER('System Results'!AGG51),'System Results'!AGG51,0)","v":0},{"$f":"+IF(ISNUMBER('System Results'!AGJ51),'System Results'!AGJ51,0)","v":0},{"$f":"+IF(ISNUMBER('System Results'!AGM51),'System Results'!AGM51,0)","v":0},{"$f":"+IF(ISNUMBER('System Results'!AGP51),'System Results'!AGP51,0)","v":0},{"$f":"+IF(ISNUMBER('System Results'!AGS51),'System Results'!AGS51,0)","v":0},{"$f":"+IF(ISNUMBER('System Results'!AGV51),'System Results'!AGV51,0)","v":0},{"$f":"+IF(ISNUMBER('System Results'!AGY51),'System Results'!AGY51,0)","v":0},{"$f":"+IF(ISNUMBER('System Results'!AHB51),'System Results'!AHB51,0)","v":0},{"$f":"+IF(ISNUMBER('System Results'!AHE51),'System Results'!AHE51,0)","v":0},{"$f":"+IF(ISNUMBER('System Results'!AHH51),'System Results'!AHH51,0)","v":0},{"$f":"+IF(ISNUMBER('System Results'!AHK51),'System Results'!AHK51,0)","v":0},{"$f":"+IF(ISNUMBER('System Results'!AHN51),'System Results'!AHN51,0)","v":0},{"$f":"+IF(ISNUMBER('System Results'!AHQ51),'System Results'!AHQ51,0)","v":0},{"$f":"+IF(ISNUMBER('System Results'!AHT51),'System Results'!AHT51,0)","v":0}]
["Grafico 2","System","Facility 1","Facility 2","Facility 3","Facility 4","Facility 5","Facility 6","Facility 7","Facility 8","Facility 9","Facility 10","Facility 11","Facility 12","Facility 13","Facility 14","Facility 15","Facility 16","Facility 17","Facility 18","Facility 19","Facility 20","Facility 21","Facility 22","Facility 23","Facility 24","Facility 25","Facility 26","Facility 27","Facility 28","Facility 29","Facility 30","Facility 31","Facility 32","Facility 33","Facility 34","Facility 35","Facility 36","Facility 37","Facility 38","Facility 39","Facility 40","Facility 41","Facility 42","Facility 43","Facility 44","Facility 45","Facility 46","Facility 47","Facility 48","Facility 49","Facility 50","Facility 51","Facility 52","Facility 53","Facility 54","Facility 55","Facility 56","Facility 57","Facility 58","Facility 59","Facility 60","Facility 61","Facility 62","Facility 63","Facility 64","Facility 65","Facility 66","Facility 67","Facility 68","Facility 69","Facility 70","Facility 71","Facility 72","Facility 73","Facility 74","Facility 75","Facility 76","Facility 77","Facility 78","Facility 79","Facility 80","Facility 81","Facility 82","Facility 83","Facility 84","Facility 85","Facility 86","Facility 87","Facility 88","Facility 89","Facility 90","Facility 91","Facility 92","Facility 93","Facility 94","Facility 95","Facility 96","Facility 97","Facility 98","Facility 99","Facility 100","Facility 101","Facility 102","Facility 103","Facility 104","Facility 105","Facility 106","Facility 107","Facility 108","Facility 109","Facility 110","Facility 111","Facility 112","Facility 113","Facility 114","Facility 115","Facility 116","Facility 117","Facility 118","Facility 119","Facility 120","Facility 121","Facility 122","Facility 123","Facility 124","Facility 125","Facility 126","Facility 127","Facility 128","Facility 129","Facility 130","Facility 131","Facility 132","Facility 133","Facility 134","Facility 135","Facility 136","Facility 137","Facility 138","Facility 139","Facility 140","Facility 141","Facility 142","Facility 143","Facility 144","Facility 145","Facility 146","Facility 147","Facility 148","Facility 149","Facility 150","Facility 151","Facility 152","Facility 153","Facility 154","Facility 155","Facility 156","Facility 157","Facility 158","Facility 159","Facility 160","Facility 161","Facility 162","Facility 163","Facility 164","Facility 165","Facility 166","Facility 167","Facility 168","Facility 169","Facility 170","Facility 171","Facility 172","Facility 173","Facility 174","Facility 175","Facility 176","Facility 177","Facility 178","Facility 179","Facility 180","Facility 181","Facility 182","Facility 183","Facility 184","Facility 185","Facility 186","Facility 187","Facility 188","Facility 189","Facility 190","Facility 191","Facility 192","Facility 193","Facility 194","Facility 195","Facility 196","Facility 197","Facility 198","Facility 199","Facility 200","Facility 201","Facility 202","Facility 203","Facility 204","Facility 205","Facility 206","Facility 207","Facility 208","Facility 209","Facility 210","Facility 211","Facility 212","Facility 213","Facility 214","Facility 215","Facility 216","Facility 217","Facility 218","Facility 219","Facility 220","Facility 221","Facility 222","Facility 223","Facility 224","Facility 225","Facility 226","Facility 227","Facility 228","Facility 229","Facility 230","Facility 231","Facility 232","Facility 233","Facility 234","Facility 235","Facility 236","Facility 237","Facility 238","Facility 239","Facility 240","Facility 241","Facility 242","Facility 243","Facility 244","Facility 245","Facility 246","Facility 247","Facility 248","Facility 249","Facility 250","Facility 251","Facility 252","Facility 253","Facility 254","Facility 255","Facility 256","Facility 257","Facility 258","Facility 259","Facility 260","Facility 261","Facility 262","Facility 263","Facility 264","Facility 265","Facility 266","Facility 267","Facility 268","Facility 269","Facility 270","Facility 271","Facility 272","Facility 273","Facility 274","Facility 275","Facility 276","Facility 277","Facility 278","Facility 279","Facility 280","Facility 281","Facility 282","Facility 283","Facility 284","Facility 285","Facility 286","Facility 287","Facility 288","Facility 289","Facility 290","Facility 291","Facility 292","Facility 293","Facility 294","Facility 295","Facility 296","Facility 297","Facility 298","Facility 299","Facility 300"]
["Total emissions",{"$f":"+IF('Instructions & Import'!$B$5<>0,'Instructions & Import'!$B$5,\"\")","v":""},{"$f":"+IF('System Results'!G$5<>0,'System Results'!G$5,\"\")","v":""},{"$f":"+IF('System Results'!J$5<>0,'System Results'!J$5,\"\")","v":""},{"$f":"+IF('System Results'!M$5<>0,'System Results'!M$5,\"\")","v":""},{"$f":"+IF('System Results'!P$5<>0,'System Results'!P$5,\"\")","v":""},{"$f":"+IF('System Results'!S$5<>0,'System Results'!S$5,\"\")","v":""},{"$f":"+IF('System Results'!V$5<>0,'System Results'!V$5,\"\")","v":""},{"$f":"+IF('System Results'!Y$5<>0,'System Results'!Y$5,\"\")","v":""},{"$f":"+IF('System Results'!AB$5<>0,'System Results'!AB$5,\"\")","v":""},{"$f":"+IF('System Results'!AE$5<>0,'System Results'!AE$5,\"\")","v":""},{"$f":"+IF('System Results'!AH$5<>0,'System Results'!AH$5,\"\")","v":""},{"$f":"+IF('System Results'!AK$5<>0,'System Results'!AK$5,\"\")","v":""},{"$f":"+IF('System Results'!AN$5<>0,'System Results'!AN$5,\"\")","v":""},{"$f":"+IF('System Results'!AQ$5<>0,'System Results'!AQ$5,\"\")","v":""},{"$f":"+IF('System Results'!AT$5<>0,'System Results'!AT$5,\"\")","v":""},{"$f":"+IF('System Results'!AW$5<>0,'System Results'!AW$5,\"\")","v":""},{"$f":"+IF('System Results'!AZ$5<>0,'System Results'!AZ$5,\"\")","v":""},{"$f":"+IF('System Results'!BC$5<>0,'System Results'!BC$5,\"\")","v":""},{"$f":"+IF('System Results'!BF$5<>0,'System Results'!BF$5,\"\")","v":""},{"$f":"+IF('System Results'!BI$5<>0,'System Results'!BI$5,\"\")","v":""},{"$f":"+IF('System Results'!BL$5<>0,'System Results'!BL$5,\"\")","v":""},{"$f":"+IF('System Results'!BO$5<>0,'System Results'!BO$5,\"\")","v":""},{"$f":"+IF('System Results'!BR$5<>0,'System Results'!BR$5,\"\")","v":""},{"$f":"+IF('System Results'!BU$5<>0,'System Results'!BU$5,\"\")","v":""},{"$f":"+IF('System Results'!BX$5<>0,'System Results'!BX$5,\"\")","v":""},{"$f":"+IF('System Results'!CA$5<>0,'System Results'!CA$5,\"\")","v":""},{"$f":"+IF('System Results'!CD$5<>0,'System Results'!CD$5,\"\")","v":""},{"$f":"+IF('System Results'!CG$5<>0,'System Results'!CG$5,\"\")","v":""},{"$f":"+IF('System Results'!CJ$5<>0,'System Results'!CJ$5,\"\")","v":""},{"$f":"+IF('System Results'!CM$5<>0,'System Results'!CM$5,\"\")","v":""},{"$f":"+IF('System Results'!CP$5<>0,'System Results'!CP$5,\"\")","v":""},{"$f":"+IF('System Results'!CQ$5<>0,'System Results'!CQ$5,\"\")","v":""}]
[{"$f":"+'System Results'!B28","v":"Stationary Combustion"},{"$f":"+SUM(C25:KP25)","v":0},{"$f":"+IF(ISNUMBER('System Results'!G28),'System Results'!G28,0)","v":0},{"$f":"+IF(ISNUMBER('System Results'!J28),'System Results'!J28,0)","v":0},{"$f":"+IF(ISNUMBER('System Results'!M28),'System Results'!M28,0)","v":0},{"$f":"+IF(ISNUMBER('System Results'!P28),'System Results'!P28,0)","v":0},{"$f":"+IF(ISNUMBER('System Results'!S28),'System Results'!S28,0)","v":0},{"$f":"+IF(ISNUMBER('System Results'!V28),'System Results'!V28,0)","v":0},{"$f":"+IF(ISNUMBER('System Results'!Y28),'System Results'!Y28,0)","v":0},{"$f":"+IF(ISNUMBER('System Results'!AB28),'System Results'!AB28,0)","v":0},{"$f":"+IF(ISNUMBER('System Results'!AE28),'System Results'!AE28,0)","v":0},{"$f":"+IF(ISNUMBER('System Results'!AH28),'System Results'!AH28,0)","v":0},{"$f":"+IF(ISNUMBER('System Results'!AK28),'System Results'!AK28,0)","v":0},{"$f":"+IF(ISNUMBER('System Results'!AN28),'System Results'!AN28,0)","v":0},{"$f":"+IF(ISNUMBER('System Results'!AQ28),'System Results'!AQ28,0)","v":0},{"$f":"+IF(ISNUMBER('System Results'!AT28),'System Results'!AT28,0)","v":0},{"$f":"+IF(ISNUMBER('System Results'!AW28),'System Results'!AW28,0)","v":0},{"$f":"+IF(ISNUMBER('System Results'!AZ28),'System Results'!AZ28,0)","v":0},{"$f":"+IF(ISNUMBER('System Results'!BC28),'System Results'!BC28,0)","v":0},{"$f":"+IF(ISNUMBER('System Results'!BF28),'System Results'!BF28,0)","v":0},{"$f":"+IF(ISNUMBER('System Results'!BI28),'System Results'!BI28,0)","v":0},{"$f":"+IF(ISNUMBER('System Results'!BL28),'System Results'!BL28,0)","v":0},{"$f":"+IF(ISNUMBER('System Results'!BO28),'System Results'!BO28,0)","v":0},{"$f":"+IF(ISNUMBER('System Results'!BR28),'System Results'!BR28,0)","v":0},{"$f":"+IF(ISNUMBER('System Results'!BU28),'System Results'!BU28,0)","v":0},{"$f":"+IF(ISNUMBER('System Results'!BX28),'System Results'!BX28,0)","v":0},{"$f":"+IF(ISNUMBER('System Results'!CA28),'System Results'!CA28,0)","v":0},{"$f":"+IF(ISNUMBER('System Results'!CD28),'System Results'!CD28,0)","v":0},{"$f":"+IF(ISNUMBER('System Results'!CG28),'System Results'!CG28,0)","v":0},{"$f":"+IF(ISNUMBER('System Results'!CJ28),'System Results'!CJ28,0)","v":0},{"$f":"+IF(ISNUMBER('System Results'!CM28),'System Results'!CM28,0)","v":0},{"$f":"+IF(ISNUMBER('System Results'!CP28),'System Results'!CP28,0)","v":0},{"$f":"+IF(ISNUMBER('System Results'!CS28),'System Results'!CS28,0)","v":0},{"$f":"+IF(ISNUMBER('System Results'!CV28),'System Results'!CV28,0)","v":0},{"$f":"+IF(ISNUMBER('System Results'!CY28),'System Results'!CY28,0)","v":0},{"$f":"+IF(ISNUMBER('System Results'!DB28),'System Results'!DB28,0)","v":0},{"$f":"+IF(ISNUMBER('System Results'!DE28),'System Results'!DE28,0)","v":0},{"$f":"+IF(ISNUMBER('System Results'!DH28),'System Results'!DH28,0)","v":0},{"$f":"+IF(ISNUMBER('System Results'!DK28),'System Results'!DK28,0)","v":0},{"$f":"+IF(ISNUMBER('System Results'!DN28),'System Results'!DN28,0)","v":0},{"$f":"+IF(ISNUMBER('System Results'!DQ28),'System Results'!DQ28,0)","v":0},{"$f":"+IF(ISNUMBER('System Results'!DT28),'System Results'!DT28,0)","v":0},{"$f":"+IF(ISNUMBER('System Results'!DW28),'System Results'!DW28,0)","v":0},{"$f":"+IF(ISNUMBER('System Results'!DZ28),'System Results'!DZ28,0)","v":0},{"$f":"+IF(ISNUMBER('System Results'!EC28),'System Results'!EC28,0)","v":0},{"$f":"+IF(ISNUMBER('System Results'!EF28),'System Results'!EF28,0)","v":0},{"$f":"+IF(ISNUMBER('System Results'!EI28),'System Results'!EI28,0)","v":0},{"$f":"+IF(ISNUMBER('System Results'!EL28),'System Results'!EL28,0)","v":0},{"$f":"+IF(ISNUMBER('System Results'!EO28),'System Results'!EO28,0)","v":0},{"$f":"+IF(ISNUMBER('System Results'!ER28),'System Results'!ER28,0)","v":0},{"$f":"+IF(ISNUMBER('System Results'!EU28),'System Results'!EU28,0)","v":0},{"$f":"+IF(ISNUMBER('System Results'!EX28),'System Results'!EX28,0)","v":0},{"$f":"+IF(ISNUMBER('System Results'!FA28),'System Results'!FA28,0)","v":0},{"$f":"+IF(ISNUMBER('System Results'!FD28),'System Results'!FD28,0)","v":0},{"$f":"+IF(ISNUMBER('System Results'!FG28),'System Results'!FG28,0)","v":0},{"$f":"+IF(ISNUMBER('System Results'!FJ28),'System Results'!FJ28,0)","v":0},{"$f":"+IF(ISNUMBER('System Results'!FM28),'System Results'!FM28,0)","v":0},{"$f":"+IF(ISNUMBER('System Results'!FP28),'System Results'!FP28,0)","v":0},{"$f":"+IF(ISNUMBER('System Results'!FS28),'System Results'!FS28,0)","v":0},{"$f":"+IF(ISNUMBER('System Results'!FV28),'System Results'!FV28,0)","v":0},{"$f":"+IF(ISNUMBER('System Results'!FY28),'System Results'!FY28,0)","v":0},{"$f":"+IF(ISNUMBER('System Results'!GB28),'System Results'!GB28,0)","v":0},{"$f":"+IF(ISNUMBER('System Results'!GE28),'System Results'!GE28,0)","v":0},{"$f":"+IF(ISNUMBER('System Results'!GH28),'System Results'!GH28,0)","v":0},{"$f":"+IF(ISNUMBER('System Results'!GK28),'System Results'!GK28,0)","v":0},{"$f":"+IF(ISNUMBER('System Results'!GN28),'System Results'!GN28,0)","v":0},{"$f":"+IF(ISNUMBER('System Results'!GQ28),'System Results'!GQ28,0)","v":0},{"$f":"+IF(ISNUMBER('System Results'!GT28),'System Results'!GT28,0)","v":0},{"$f":"+IF(ISNUMBER('System Results'!GW28),'System Results'!GW28,0)","v":0},{"$f":"+IF(ISNUMBER('System Results'!GZ28),'System Results'!GZ28,0)","v":0},{"$f":"+IF(ISNUMBER('System Results'!HC28),'System Results'!HC28,0)","v":0},{"$f":"+IF(ISNUMBER('System Results'!HF28),'System Results'!HF28,0)","v":0},{"$f":"+IF(ISNUMBER('System Results'!HI28),'System Results'!HI28,0)","v":0},{"$f":"+IF(ISNUMBER('System Results'!HL28),'System Results'!HL28,0)","v":0},{"$f":"+IF(ISNUMBER('System Results'!HO28),'System Results'!HO28,0)","v":0},{"$f":"+IF(ISNUMBER('System Results'!HR28),'System Results'!HR28,0)","v":0},{"$f":"+IF(ISNUMBER('System Results'!HU28),'System Results'!HU28,0)","v":0},{"$f":"+IF(ISNUMBER('System Results'!HX28),'System Results'!HX28,0)","v":0},{"$f":"+IF(ISNUMBER('System Results'!IA28),'System Results'!IA28,0)","v":0},{"$f":"+IF(ISNUMBER('System Results'!ID28),'System Results'!ID28,0)","v":0},{"$f":"+IF(ISNUMBER('System Results'!IG28),'System Results'!IG28,0)","v":0},{"$f":"+IF(ISNUMBER('System Results'!IJ28),'System Results'!IJ28,0)","v":0},{"$f":"+IF(ISNUMBER('System Results'!IM28),'System Results'!IM28,0)","v":0},{"$f":"+IF(ISNUMBER('System Results'!IP28),'System Results'!IP28,0)","v":0},{"$f":"+IF(ISNUMBER('System Results'!IS28),'System Results'!IS28,0)","v":0},{"$f":"+IF(ISNUMBER('System Results'!IV28),'System Results'!IV28,0)","v":0},{"$f":"+IF(ISNUMBER('System Results'!IY28),'System Results'!IY28,0)","v":0},{"$f":"+IF(ISNUMBER('System Results'!JB28),'System Results'!JB28,0)","v":0},{"$f":"+IF(ISNUMBER('System Results'!JE28),'System Results'!JE28,0)","v":0},{"$f":"+IF(ISNUMBER('System Results'!JH28),'System Results'!JH28,0)","v":0},{"$f":"+IF(ISNUMBER('System Results'!JK28),'System Results'!JK28,0)","v":0},{"$f":"+IF(ISNUMBER('System Results'!JN28),'System Results'!JN28,0)","v":0},{"$f":"+IF(ISNUMBER('System Results'!JQ28),'System Results'!JQ28,0)","v":0},{"$f":"+IF(ISNUMBER('System Results'!JT28),'System Results'!JT28,0)","v":0},{"$f":"+IF(ISNUMBER('System Results'!JW28),'System Results'!JW28,0)","v":0},{"$f":"+IF(ISNUMBER('System Results'!JZ28),'System Results'!JZ28,0)","v":0},{"$f":"+IF(ISNUMBER('System Results'!KC28),'System Results'!KC28,0)","v":0},{"$f":"+IF(ISNUMBER('System Results'!KF28),'System Results'!KF28,0)","v":0},{"$f":"+IF(ISNUMBER('System Results'!KI28),'System Results'!KI28,0)","v":0},{"$f":"+IF(ISNUMBER('System Results'!KL28),'System Results'!KL28,0)","v":0},{"$f":"+IF(ISNUMBER('System Results'!KO28),'System Results'!KO28,0)","v":0},{"$f":"+IF(ISNUMBER('System Results'!KR28),'System Results'!KR28,0)","v":0},{"$f":"+IF(ISNUMBER('System Results'!KU28),'System Results'!KU28,0)","v":0},{"$f":"+IF(ISNUMBER('System Results'!KX28),'System Results'!KX28,0)","v":0},{"$f":"+IF(ISNUMBER('System Results'!LA28),'System Results'!LA28,0)","v":0},{"$f":"+IF(ISNUMBER('System Results'!LD28),'System Results'!LD28,0)","v":0},{"$f":"+IF(ISNUMBER('System Results'!LG28),'System Results'!LG28,0)","v":0},{"$f":"+IF(ISNUMBER('System Results'!LJ28),'System Results'!LJ28,0)","v":0},{"$f":"+IF(ISNUMBER('System Results'!LM28),'System Results'!LM28,0)","v":0},{"$f":"+IF(ISNUMBER('System Results'!LP28),'System Results'!LP28,0)","v":0},{"$f":"+IF(ISNUMBER('System Results'!LS28),'System Results'!LS28,0)","v":0},{"$f":"+IF(ISNUMBER('System Results'!LV28),'System Results'!LV28,0)","v":0},{"$f":"+IF(ISNUMBER('System Results'!LY28),'System Results'!LY28,0)","v":0},{"$f":"+IF(ISNUMBER('System Results'!MB28),'System Results'!MB28,0)","v":0},{"$f":"+IF(ISNUMBER('System Results'!ME28),'System Results'!ME28,0)","v":0},{"$f":"+IF(ISNUMBER('System Results'!MH28),'System Results'!MH28,0)","v":0},{"$f":"+IF(ISNUMBER('System Results'!MK28),'System Results'!MK28,0)","v":0},{"$f":"+IF(ISNUMBER('System Results'!MN28),'System Results'!MN28,0)","v":0},{"$f":"+IF(ISNUMBER('System Results'!MQ28),'System Results'!MQ28,0)","v":0},{"$f":"+IF(ISNUMBER('System Results'!MT28),'System Results'!MT28,0)","v":0},{"$f":"+IF(ISNUMBER('System Results'!MW28),'System Results'!MW28,0)","v":0},{"$f":"+IF(ISNUMBER('System Results'!MZ28),'System Results'!MZ28,0)","v":0},{"$f":"+IF(ISNUMBER('System Results'!NC28),'System Results'!NC28,0)","v":0},{"$f":"+IF(ISNUMBER('System Results'!NF28),'System Results'!NF28,0)","v":0},{"$f":"+IF(ISNUMBER('System Results'!NI28),'System Results'!NI28,0)","v":0},{"$f":"+IF(ISNUMBER('System Results'!NL28),'System Results'!NL28,0)","v":0},{"$f":"+IF(ISNUMBER('System Results'!NO28),'System Results'!NO28,0)","v":0},{"$f":"+IF(ISNUMBER('System Results'!NR28),'System Results'!NR28,0)","v":0},{"$f":"+IF(ISNUMBER('System Results'!NU28),'System Results'!NU28,0)","v":0},{"$f":"+IF(ISNUMBER('System Results'!NX28),'System Results'!NX28,0)","v":0},{"$f":"+IF(ISNUMBER('System Results'!OA28),'System Results'!OA28,0)","v":0},{"$f":"+IF(ISNUMBER('System Results'!OD28),'System Results'!OD28,0)","v":0},{"$f":"+IF(ISNUMBER('System Results'!OG28),'System Results'!OG28,0)","v":0},{"$f":"+IF(ISNUMBER('System Results'!OJ28),'System Results'!OJ28,0)","v":0},{"$f":"+IF(ISNUMBER('System Results'!OM28),'System Results'!OM28,0)","v":0},{"$f":"+IF(ISNUMBER('System Results'!OP28),'System Results'!OP28,0)","v":0},{"$f":"+IF(ISNUMBER('System Results'!OS28),'System Results'!OS28,0)","v":0},{"$f":"+IF(ISNUMBER('System Results'!OV28),'System Results'!OV28,0)","v":0},{"$f":"+IF(ISNUMBER('System Results'!OY28),'System Results'!OY28,0)","v":0},{"$f":"+IF(ISNUMBER('System Results'!PB28),'System Results'!PB28,0)","v":0},{"$f":"+IF(ISNUMBER('System Results'!PE28),'System Results'!PE28,0)","v":0},{"$f":"+IF(ISNUMBER('System Results'!PH28),'System Results'!PH28,0)","v":0},{"$f":"+IF(ISNUMBER('System Results'!PK28),'System Results'!PK28,0)","v":0},{"$f":"+IF(ISNUMBER('System Results'!PN28),'System Results'!PN28,0)","v":0},{"$f":"+IF(ISNUMBER('System Results'!PQ28),'System Results'!PQ28,0)","v":0},{"$f":"+IF(ISNUMBER('System Results'!PT28),'System Results'!PT28,0)","v":0},{"$f":"+IF(ISNUMBER('System Results'!PW28),'System Results'!PW28,0)","v":0},{"$f":"+IF(ISNUMBER('System Results'!PZ28),'System Results'!PZ28,0)","v":0},{"$f":"+IF(ISNUMBER('System Results'!QC28),'System Results'!QC28,0)","v":0},{"$f":"+IF(ISNUMBER('System Results'!QF28),'System Results'!QF28,0)","v":0},{"$f":"+IF(ISNUMBER('System Results'!QI28),'System Results'!QI28,0)","v":0},{"$f":"+IF(ISNUMBER('System Results'!QL28),'System Results'!QL28,0)","v":0},{"$f":"+IF(ISNUMBER('System Results'!QO28),'System Results'!QO28,0)","v":0},{"$f":"+IF(ISNUMBER('System Results'!QR28),'System Results'!QR28,0)","v":0},{"$f":"+IF(ISNUMBER('System Results'!QU28),'System Results'!QU28,0)","v":0},{"$f":"+IF(ISNUMBER('System Results'!QX28),'System Results'!QX28,0)","v":0},{"$f":"+IF(ISNUMBER('System Results'!RA28),'System Results'!RA28,0)","v":0},{"$f":"+IF(ISNUMBER('System Results'!RD28),'System Results'!RD28,0)","v":0},{"$f":"+IF(ISNUMBER('System Results'!RG28),'System Results'!RG28,0)","v":0},{"$f":"+IF(ISNUMBER('System Results'!RJ28),'System Results'!RJ28,0)","v":0},{"$f":"+IF(ISNUMBER('System Results'!RM28),'System Results'!RM28,0)","v":0},{"$f":"+IF(ISNUMBER('System Results'!RP28),'System Results'!RP28,0)","v":0},{"$f":"+IF(ISNUMBER('System Results'!RS28),'System Results'!RS28,0)","v":0},{"$f":"+IF(ISNUMBER('System Results'!RV28),'System Results'!RV28,0)","v":0},{"$f":"+IF(ISNUMBER('System Results'!RY28),'System Results'!RY28,0)","v":0},{"$f":"+IF(ISNUMBER('System Results'!SB28),'System Results'!SB28,0)","v":0},{"$f":"+IF(ISNUMBER('System Results'!SE28),'System Results'!SE28,0)","v":0},{"$f":"+IF(ISNUMBER('System Results'!SH28),'System Results'!SH28,0)","v":0},{"$f":"+IF(ISNUMBER('System Results'!SK28),'System Results'!SK28,0)","v":0},{"$f":"+IF(ISNUMBER('System Results'!SN28),'System Results'!SN28,0)","v":0},{"$f":"+IF(ISNUMBER('System Results'!SQ28),'System Results'!SQ28,0)","v":0},{"$f":"+IF(ISNUMBER('System Results'!ST28),'System Results'!ST28,0)","v":0},{"$f":"+IF(ISNUMBER('System Results'!SW28),'System Results'!SW28,0)","v":0},{"$f":"+IF(ISNUMBER('System Results'!SZ28),'System Results'!SZ28,0)","v":0},{"$f":"+IF(ISNUMBER('System Results'!TC28),'System Results'!TC28,0)","v":0},{"$f":"+IF(ISNUMBER('System Results'!TF28),'System Results'!TF28,0)","v":0},{"$f":"+IF(ISNUMBER('System Results'!TI28),'System Results'!TI28,0)","v":0},{"$f":"+IF(ISNUMBER('System Results'!TL28),'System Results'!TL28,0)","v":0},{"$f":"+IF(ISNUMBER('System Results'!TO28),'System Results'!TO28,0)","v":0},{"$f":"+IF(ISNUMBER('System Results'!TR28),'System Results'!TR28,0)","v":0},{"$f":"+IF(ISNUMBER('System Results'!TU28),'System Results'!TU28,0)","v":0},{"$f":"+IF(ISNUMBER('System Results'!TX28),'System Results'!TX28,0)","v":0},{"$f":"+IF(ISNUMBER('System Results'!UA28),'System Results'!UA28,0)","v":0},{"$f":"+IF(ISNUMBER('System Results'!UD28),'System Results'!UD28,0)","v":0},{"$f":"+IF(ISNUMBER('System Results'!UG28),'System Results'!UG28,0)","v":0},{"$f":"+IF(ISNUMBER('System Results'!UJ28),'System Results'!UJ28,0)","v":0},{"$f":"+IF(ISNUMBER('System Results'!UM28),'System Results'!UM28,0)","v":0},{"$f":"+IF(ISNUMBER('System Results'!UP28),'System Results'!UP28,0)","v":0},{"$f":"+IF(ISNUMBER('System Results'!US28),'System Results'!US28,0)","v":0},{"$f":"+IF(ISNUMBER('System Results'!UV28),'System Results'!UV28,0)","v":0},{"$f":"+IF(ISNUMBER('System Results'!UY28),'System Results'!UY28,0)","v":0},{"$f":"+IF(ISNUMBER('System Results'!VB28),'System Results'!VB28,0)","v":0},{"$f":"+IF(ISNUMBER('System Results'!VE28),'System Results'!VE28,0)","v":0},{"$f":"+IF(ISNUMBER('System Results'!VH28),'System Results'!VH28,0)","v":0},{"$f":"+IF(ISNUMBER('System Results'!VK28),'System Results'!VK28,0)","v":0},{"$f":"+IF(ISNUMBER('System Results'!VN28),'System Results'!VN28,0)","v":0},{"$f":"+IF(ISNUMBER('System Results'!VQ28),'System Results'!VQ28,0)","v":0},{"$f":"+IF(ISNUMBER('System Results'!VT28),'System Results'!VT28,0)","v":0},{"$f":"+IF(ISNUMBER('System Results'!VW28),'System Results'!VW28,0)","v":0},{"$f":"+IF(ISNUMBER('System Results'!VZ28),'System Results'!VZ28,0)","v":0},{"$f":"+IF(ISNUMBER('System Results'!WC28),'System Results'!WC28,0)","v":0},{"$f":"+IF(ISNUMBER('System Results'!WF28),'System Results'!WF28,0)","v":0},{"$f":"+IF(ISNUMBER('System Results'!WI28),'System Results'!WI28,0)","v":0},{"$f":"+IF(ISNUMBER('System Results'!WL28),'System Results'!WL28,0)","v":0},{"$f":"+IF(ISNUMBER('System Results'!WO28),'System Results'!WO28,0)","v":0},{"$f":"+IF(ISNUMBER('System Results'!WR28),'System Results'!WR28,0)","v":0},{"$f":"+IF(ISNUMBER('System Results'!WU28),'System Results'!WU28,0)","v":0},{"$f":"+IF(ISNUMBER('System Results'!WX28),'System Results'!WX28,0)","v":0},{"$f":"+IF(ISNUMBER('System Results'!XA28),'System Results'!XA28,0)","v":0},{"$f":"+IF(ISNUMBER('System Results'!XD28),'System Results'!XD28,0)","v":0},{"$f":"+IF(ISNUMBER('System Results'!XG28),'System Results'!XG28,0)","v":0},{"$f":"+IF(ISNUMBER('System Results'!XJ28),'System Results'!XJ28,0)","v":0},{"$f":"+IF(ISNUMBER('System Results'!XM28),'System Results'!XM28,0)","v":0},{"$f":"+IF(ISNUMBER('System Results'!XP28),'System Results'!XP28,0)","v":0},{"$f":"+IF(ISNUMBER('System Results'!XS28),'System Results'!XS28,0)","v":0},{"$f":"+IF(ISNUMBER('System Results'!XV28),'System Results'!XV28,0)","v":0},{"$f":"+IF(ISNUMBER('System Results'!XY28),'System Results'!XY28,0)","v":0},{"$f":"+IF(ISNUMBER('System Results'!YB28),'System Results'!YB28,0)","v":0},{"$f":"+IF(ISNUMBER('System Results'!YE28),'System Results'!YE28,0)","v":0},{"$f":"+IF(ISNUMBER('System Results'!YH28),'System Results'!YH28,0)","v":0},{"$f":"+IF(ISNUMBER('System Results'!YK28),'System Results'!YK28,0)","v":0},{"$f":"+IF(ISNUMBER('System Results'!YN28),'System Results'!YN28,0)","v":0},{"$f":"+IF(ISNUMBER('System Results'!YQ28),'System Results'!YQ28,0)","v":0},{"$f":"+IF(ISNUMBER('System Results'!YT28),'System Results'!YT28,0)","v":0},{"$f":"+IF(ISNUMBER('System Results'!YW28),'System Results'!YW28,0)","v":0},{"$f":"+IF(ISNUMBER('System Results'!YZ28),'System Results'!YZ28,0)","v":0},{"$f":"+IF(ISNUMBER('System Results'!ZC28),'System Results'!ZC28,0)","v":0},{"$f":"+IF(ISNUMBER('System Results'!ZF28),'System Results'!ZF28,0)","v":0},{"$f":"+IF(ISNUMBER('System Results'!ZI28),'System Results'!ZI28,0)","v":0},{"$f":"+IF(ISNUMBER('System Results'!ZL28),'System Results'!ZL28,0)","v":0},{"$f":"+IF(ISNUMBER('System Results'!ZO28),'System Results'!ZO28,0)","v":0},{"$f":"+IF(ISNUMBER('System Results'!ZR28),'System Results'!ZR28,0)","v":0},{"$f":"+IF(ISNUMBER('System Results'!ZU28),'System Results'!ZU28,0)","v":0},{"$f":"+IF(ISNUMBER('System Results'!ZX28),'System Results'!ZX28,0)","v":0},{"$f":"+IF(ISNUMBER('System Results'!AAA28),'System Results'!AAA28,0)","v":0},{"$f":"+IF(ISNUMBER('System Results'!AAD28),'System Results'!AAD28,0)","v":0},{"$f":"+IF(ISNUMBER('System Results'!AAG28),'System Results'!AAG28,0)","v":0},{"$f":"+IF(ISNUMBER('System Results'!AAJ28),'System Results'!AAJ28,0)","v":0},{"$f":"+IF(ISNUMBER('System Results'!AAM28),'System Results'!AAM28,0)","v":0},{"$f":"+IF(ISNUMBER('System Results'!AAP28),'System Results'!AAP28,0)","v":0},{"$f":"+IF(ISNUMBER('System Results'!AAS28),'System Results'!AAS28,0)","v":0},{"$f":"+IF(ISNUMBER('System Results'!AAV28),'System Results'!AAV28,0)","v":0},{"$f":"+IF(ISNUMBER('System Results'!AAY28),'System Results'!AAY28,0)","v":0},{"$f":"+IF(ISNUMBER('System Results'!ABB28),'System Results'!ABB28,0)","v":0},{"$f":"+IF(ISNUMBER('System Results'!ABE28),'System Results'!ABE28,0)","v":0},{"$f":"+IF(ISNUMBER('System Results'!ABH28),'System Results'!ABH28,0)","v":0},{"$f":"+IF(ISNUMBER('System Results'!ABK28),'System Results'!ABK28,0)","v":0},{"$f":"+IF(ISNUMBER('System Results'!ABN28),'System Results'!ABN28,0)","v":0},{"$f":"+IF(ISNUMBER('System Results'!ABQ28),'System Results'!ABQ28,0)","v":0},{"$f":"+IF(ISNUMBER('System Results'!ABT28),'System Results'!ABT28,0)","v":0},{"$f":"+IF(ISNUMBER('System Results'!ABW28),'System Results'!ABW28,0)","v":0},{"$f":"+IF(ISNUMBER('System Results'!ABZ28),'System Results'!ABZ28,0)","v":0},{"$f":"+IF(ISNUMBER('System Results'!ACC28),'System Results'!ACC28,0)","v":0},{"$f":"+IF(ISNUMBER('System Results'!ACF28),'System Results'!ACF28,0)","v":0},{"$f":"+IF(ISNUMBER('System Results'!ACI28),'System Results'!ACI28,0)","v":0},{"$f":"+IF(ISNUMBER('System Results'!ACL28),'System Results'!ACL28,0)","v":0},{"$f":"+IF(ISNUMBER('System Results'!ACO28),'System Results'!ACO28,0)","v":0},{"$f":"+IF(ISNUMBER('System Results'!ACR28),'System Results'!ACR28,0)","v":0},{"$f":"+IF(ISNUMBER('System Results'!ACU28),'System Results'!ACU28,0)","v":0},{"$f":"+IF(ISNUMBER('System Results'!ACX28),'System Results'!ACX28,0)","v":0},{"$f":"+IF(ISNUMBER('System Results'!ADA28),'System Results'!ADA28,0)","v":0},{"$f":"+IF(ISNUMBER('System Results'!ADD28),'System Results'!ADD28,0)","v":0},{"$f":"+IF(ISNUMBER('System Results'!ADG28),'System Results'!ADG28,0)","v":0},{"$f":"+IF(ISNUMBER('System Results'!ADJ28),'System Results'!ADJ28,0)","v":0},{"$f":"+IF(ISNUMBER('System Results'!ADM28),'System Results'!ADM28,0)","v":0},{"$f":"+IF(ISNUMBER('System Results'!ADP28),'System Results'!ADP28,0)","v":0},{"$f":"+IF(ISNUMBER('System Results'!ADS28),'System Results'!ADS28,0)","v":0},{"$f":"+IF(ISNUMBER('System Results'!ADV28),'System Results'!ADV28,0)","v":0},{"$f":"+IF(ISNUMBER('System Results'!ADY28),'System Results'!ADY28,0)","v":0},{"$f":"+IF(ISNUMBER('System Results'!AEB28),'System Results'!AEB28,0)","v":0},{"$f":"+IF(ISNUMBER('System Results'!AEE28),'System Results'!AEE28,0)","v":0},{"$f":"+IF(ISNUMBER('System Results'!AEH28),'System Results'!AEH28,0)","v":0},{"$f":"+IF(ISNUMBER('System Results'!AEK28),'System Results'!AEK28,0)","v":0},{"$f":"+IF(ISNUMBER('System Results'!AEN28),'System Results'!AEN28,0)","v":0},{"$f":"+IF(ISNUMBER('System Results'!AEQ28),'System Results'!AEQ28,0)","v":0},{"$f":"+IF(ISNUMBER('System Results'!AET28),'System Results'!AET28,0)","v":0},{"$f":"+IF(ISNUMBER('System Results'!AEW28),'System Results'!AEW28,0)","v":0},{"$f":"+IF(ISNUMBER('System Results'!AEZ28),'System Results'!AEZ28,0)","v":0},{"$f":"+IF(ISNUMBER('System Results'!AFC28),'System Results'!AFC28,0)","v":0},{"$f":"+IF(ISNUMBER('System Results'!AFF28),'System Results'!AFF28,0)","v":0},{"$f":"+IF(ISNUMBER('System Results'!AFI28),'System Results'!AFI28,0)","v":0},{"$f":"+IF(ISNUMBER('System Results'!AFL28),'System Results'!AFL28,0)","v":0},{"$f":"+IF(ISNUMBER('System Results'!AFO28),'System Results'!AFO28,0)","v":0},{"$f":"+IF(ISNUMBER('System Results'!AFR28),'System Results'!AFR28,0)","v":0},{"$f":"+IF(ISNUMBER('System Results'!AFU28),'System Results'!AFU28,0)","v":0},{"$f":"+IF(ISNUMBER('System Results'!AFX28),'System Results'!AFX28,0)","v":0},{"$f":"+IF(ISNUMBER('System Results'!AGA28),'System Results'!AGA28,0)","v":0},{"$f":"+IF(ISNUMBER('System Results'!AGD28),'System Results'!AGD28,0)","v":0},{"$f":"+IF(ISNUMBER('System Results'!AGG28),'System Results'!AGG28,0)","v":0},{"$f":"+IF(ISNUMBER('System Results'!AGJ28),'System Results'!AGJ28,0)","v":0},{"$f":"+IF(ISNUMBER('System Results'!AGM28),'System Results'!AGM28,0)","v":0},{"$f":"+IF(ISNUMBER('System Results'!AGP28),'System Results'!AGP28,0)","v":0},{"$f":"+IF(ISNUMBER('System Results'!AGS28),'System Results'!AGS28,0)","v":0},{"$f":"+IF(ISNUMBER('System Results'!AGV28),'System Results'!AGV28,0)","v":0},{"$f":"+IF(ISNUMBER('System Results'!AGY28),'System Results'!AGY28,0)","v":0},{"$f":"+IF(ISNUMBER('System Results'!AHB28),'System Results'!AHB28,0)","v":0},{"$f":"+IF(ISNUMBER('System Results'!AHE28),'System Results'!AHE28,0)","v":0},{"$f":"+IF(ISNUMBER('System Results'!AHH28),'System Results'!AHH28,0)","v":0},{"$f":"+IF(ISNUMBER('System Results'!AHK28),'System Results'!AHK28,0)","v":0},{"$f":"+IF(ISNUMBER('System Results'!AHN28),'System Results'!AHN28,0)","v":0},{"$f":"+IF(ISNUMBER('System Results'!AHQ28),'System Results'!AHQ28,0)","v":0},{"$f":"+IF(ISNUMBER('System Results'!AHT28),'System Results'!AHT28,0)","v":0}]
[{"$f":"+'System Results'!B29","v":"Mobile Combustion"},{"$f":"+SUM(C26:KP26)","v":0},{"$f":"+IF(ISNUMBER('System Results'!G29),'System Results'!G29,0)","v":0},{"$f":"+IF(ISNUMBER('System Results'!J29),'System Results'!J29,0)","v":0},{"$f":"+IF(ISNUMBER('System Results'!M29),'System Results'!M29,0)","v":0},{"$f":"+IF(ISNUMBER('System Results'!P29),'System Results'!P29,0)","v":0},{"$f":"+IF(ISNUMBER('System Results'!S29),'System Results'!S29,0)","v":0},{"$f":"+IF(ISNUMBER('System Results'!V29),'System Results'!V29,0)","v":0},{"$f":"+IF(ISNUMBER('System Results'!Y29),'System Results'!Y29,0)","v":0},{"$f":"+IF(ISNUMBER('System Results'!AB29),'System Results'!AB29,0)","v":0},{"$f":"+IF(ISNUMBER('System Results'!AE29),'System Results'!AE29,0)","v":0},{"$f":"+IF(ISNUMBER('System Results'!AH29),'System Results'!AH29,0)","v":0},{"$f":"+IF(ISNUMBER('System Results'!AK29),'System Results'!AK29,0)","v":0},{"$f":"+IF(ISNUMBER('System Results'!AN29),'System Results'!AN29,0)","v":0},{"$f":"+IF(ISNUMBER('System Results'!AQ29),'System Results'!AQ29,0)","v":0},{"$f":"+IF(ISNUMBER('System Results'!AT29),'System Results'!AT29,0)","v":0},{"$f":"+IF(ISNUMBER('System Results'!AW29),'System Results'!AW29,0)","v":0},{"$f":"+IF(ISNUMBER('System Results'!AZ29),'System Results'!AZ29,0)","v":0},{"$f":"+IF(ISNUMBER('System Results'!BC29),'System Results'!BC29,0)","v":0},{"$f":"+IF(ISNUMBER('System Results'!BF29),'System Results'!BF29,0)","v":0},{"$f":"+IF(ISNUMBER('System Results'!BI29),'System Results'!BI29,0)","v":0},{"$f":"+IF(ISNUMBER('System Results'!BL29),'System Results'!BL29,0)","v":0},{"$f":"+IF(ISNUMBER('System Results'!BO29),'System Results'!BO29,0)","v":0},{"$f":"+IF(ISNUMBER('System Results'!BR29),'System Results'!BR29,0)","v":0},{"$f":"+IF(ISNUMBER('System Results'!BU29),'System Results'!BU29,0)","v":0},{"$f":"+IF(ISNUMBER('System Results'!BX29),'System Results'!BX29,0)","v":0},{"$f":"+IF(ISNUMBER('System Results'!CA29),'System Results'!CA29,0)","v":0},{"$f":"+IF(ISNUMBER('System Results'!CD29),'System Results'!CD29,0)","v":0},{"$f":"+IF(ISNUMBER('System Results'!CG29),'System Results'!CG29,0)","v":0},{"$f":"+IF(ISNUMBER('System Results'!CJ29),'System Results'!CJ29,0)","v":0},{"$f":"+IF(ISNUMBER('System Results'!CM29),'System Results'!CM29,0)","v":0},{"$f":"+IF(ISNUMBER('System Results'!CP29),'System Results'!CP29,0)","v":0},{"$f":"+IF(ISNUMBER('System Results'!CS29),'System Results'!CS29,0)","v":0},{"$f":"+IF(ISNUMBER('System Results'!CV29),'System Results'!CV29,0)","v":0},{"$f":"+IF(ISNUMBER('System Results'!CY29),'System Results'!CY29,0)","v":0},{"$f":"+IF(ISNUMBER('System Results'!DB29),'System Results'!DB29,0)","v":0},{"$f":"+IF(ISNUMBER('System Results'!DE29),'System Results'!DE29,0)","v":0},{"$f":"+IF(ISNUMBER('System Results'!DH29),'System Results'!DH29,0)","v":0},{"$f":"+IF(ISNUMBER('System Results'!DK29),'System Results'!DK29,0)","v":0},{"$f":"+IF(ISNUMBER('System Results'!DN29),'System Results'!DN29,0)","v":0},{"$f":"+IF(ISNUMBER('System Results'!DQ29),'System Results'!DQ29,0)","v":0},{"$f":"+IF(ISNUMBER('System Results'!DT29),'System Results'!DT29,0)","v":0},{"$f":"+IF(ISNUMBER('System Results'!DW29),'System Results'!DW29,0)","v":0},{"$f":"+IF(ISNUMBER('System Results'!DZ29),'System Results'!DZ29,0)","v":0},{"$f":"+IF(ISNUMBER('System Results'!EC29),'System Results'!EC29,0)","v":0},{"$f":"+IF(ISNUMBER('System Results'!EF29),'System Results'!EF29,0)","v":0},{"$f":"+IF(ISNUMBER('System Results'!EI29),'System Results'!EI29,0)","v":0},{"$f":"+IF(ISNUMBER('System Results'!EL29),'System Results'!EL29,0)","v":0},{"$f":"+IF(ISNUMBER('System Results'!EO29),'System Results'!EO29,0)","v":0},{"$f":"+IF(ISNUMBER('System Results'!ER29),'System Results'!ER29,0)","v":0},{"$f":"+IF(ISNUMBER('System Results'!EU29),'System Results'!EU29,0)","v":0},{"$f":"+IF(ISNUMBER('System Results'!EX29),'System Results'!EX29,0)","v":0},{"$f":"+IF(ISNUMBER('System Results'!FA29),'System Results'!FA29,0)","v":0},{"$f":"+IF(ISNUMBER('System Results'!FD29),'System Results'!FD29,0)","v":0},{"$f":"+IF(ISNUMBER('System Results'!FG29),'System Results'!FG29,0)","v":0},{"$f":"+IF(ISNUMBER('System Results'!FJ29),'System Results'!FJ29,0)","v":0},{"$f":"+IF(ISNUMBER('System Results'!FM29),'System Results'!FM29,0)","v":0},{"$f":"+IF(ISNUMBER('System Results'!FP29),'System Results'!FP29,0)","v":0},{"$f":"+IF(ISNUMBER('System Results'!FS29),'System Results'!FS29,0)","v":0},{"$f":"+IF(ISNUMBER('System Results'!FV29),'System Results'!FV29,0)","v":0},{"$f":"+IF(ISNUMBER('System Results'!FY29),'System Results'!FY29,0)","v":0},{"$f":"+IF(ISNUMBER('System Results'!GB29),'System Results'!GB29,0)","v":0},{"$f":"+IF(ISNUMBER('System Results'!GE29),'System Results'!GE29,0)","v":0},{"$f":"+IF(ISNUMBER('System Results'!GH29),'System Results'!GH29,0)","v":0},{"$f":"+IF(ISNUMBER('System Results'!GK29),'System Results'!GK29,0)","v":0},{"$f":"+IF(ISNUMBER('System Results'!GN29),'System Results'!GN29,0)","v":0},{"$f":"+IF(ISNUMBER('System Results'!GQ29),'System Results'!GQ29,0)","v":0},{"$f":"+IF(ISNUMBER('System Results'!GT29),'System Results'!GT29,0)","v":0},{"$f":"+IF(ISNUMBER('System Results'!GW29),'System Results'!GW29,0)","v":0},{"$f":"+IF(ISNUMBER('System Results'!GZ29),'System Results'!GZ29,0)","v":0},{"$f":"+IF(ISNUMBER('System Results'!HC29),'System Results'!HC29,0)","v":0},{"$f":"+IF(ISNUMBER('System Results'!HF29),'System Results'!HF29,0)","v":0},{"$f":"+IF(ISNUMBER('System Results'!HI29),'System Results'!HI29,0)","v":0},{"$f":"+IF(ISNUMBER('System Results'!HL29),'System Results'!HL29,0)","v":0},{"$f":"+IF(ISNUMBER('System Results'!HO29),'System Results'!HO29,0)","v":0},{"$f":"+IF(ISNUMBER('System Results'!HR29),'System Results'!HR29,0)","v":0},{"$f":"+IF(ISNUMBER('System Results'!HU29),'System Results'!HU29,0)","v":0},{"$f":"+IF(ISNUMBER('System Results'!HX29),'System Results'!HX29,0)","v":0},{"$f":"+IF(ISNUMBER('System Results'!IA29),'System Results'!IA29,0)","v":0},{"$f":"+IF(ISNUMBER('System Results'!ID29),'System Results'!ID29,0)","v":0},{"$f":"+IF(ISNUMBER('System Results'!IG29),'System Results'!IG29,0)","v":0},{"$f":"+IF(ISNUMBER('System Results'!IJ29),'System Results'!IJ29,0)","v":0},{"$f":"+IF(ISNUMBER('System Results'!IM29),'System Results'!IM29,0)","v":0},{"$f":"+IF(ISNUMBER('System Results'!IP29),'System Results'!IP29,0)","v":0},{"$f":"+IF(ISNUMBER('System Results'!IS29),'System Results'!IS29,0)","v":0},{"$f":"+IF(ISNUMBER('System Results'!IV29),'System Results'!IV29,0)","v":0},{"$f":"+IF(ISNUMBER('System Results'!IY29),'System Results'!IY29,0)","v":0},{"$f":"+IF(ISNUMBER('System Results'!JB29),'System Results'!JB29,0)","v":0},{"$f":"+IF(ISNUMBER('System Results'!JE29),'System Results'!JE29,0)","v":0},{"$f":"+IF(ISNUMBER('System Results'!JH29),'System Results'!JH29,0)","v":0},{"$f":"+IF(ISNUMBER('System Results'!JK29),'System Results'!JK29,0)","v":0},{"$f":"+IF(ISNUMBER('System Results'!JN29),'System Results'!JN29,0)","v":0},{"$f":"+IF(ISNUMBER('System Results'!JQ29),'System Results'!JQ29,0)","v":0},{"$f":"+IF(ISNUMBER('System Results'!JT29),'System Results'!JT29,0)","v":0},{"$f":"+IF(ISNUMBER('System Results'!JW29),'System Results'!JW29,0)","v":0},{"$f":"+IF(ISNUMBER('System Results'!JZ29),'System Results'!JZ29,0)","v":0},{"$f":"+IF(ISNUMBER('System Results'!KC29),'System Results'!KC29,0)","v":0},{"$f":"+IF(ISNUMBER('System Results'!KF29),'System Results'!KF29,0)","v":0},{"$f":"+IF(ISNUMBER('System Results'!KI29),'System Results'!KI29,0)","v":0},{"$f":"+IF(ISNUMBER('System Results'!KL29),'System Results'!KL29,0)","v":0},{"$f":"+IF(ISNUMBER('System Results'!KO29),'System Results'!KO29,0)","v":0},{"$f":"+IF(ISNUMBER('System Results'!KR29),'System Results'!KR29,0)","v":0},{"$f":"+IF(ISNUMBER('System Results'!KU29),'System Results'!KU29,0)","v":0},{"$f":"+IF(ISNUMBER('System Results'!KX29),'System Results'!KX29,0)","v":0},{"$f":"+IF(ISNUMBER('System Results'!LA29),'System Results'!LA29,0)","v":0},{"$f":"+IF(ISNUMBER('System Results'!LD29),'System Results'!LD29,0)","v":0},{"$f":"+IF(ISNUMBER('System Results'!LG29),'System Results'!LG29,0)","v":0},{"$f":"+IF(ISNUMBER('System Results'!LJ29),'System Results'!LJ29,0)","v":0},{"$f":"+IF(ISNUMBER('System Results'!LM29),'System Results'!LM29,0)","v":0},{"$f":"+IF(ISNUMBER('System Results'!LP29),'System Results'!LP29,0)","v":0},{"$f":"+IF(ISNUMBER('System Results'!LS29),'System Results'!LS29,0)","v":0},{"$f":"+IF(ISNUMBER('System Results'!LV29),'System Results'!LV29,0)","v":0},{"$f":"+IF(ISNUMBER('System Results'!LY29),'System Results'!LY29,0)","v":0},{"$f":"+IF(ISNUMBER('System Results'!MB29),'System Results'!MB29,0)","v":0},{"$f":"+IF(ISNUMBER('System Results'!ME29),'System Results'!ME29,0)","v":0},{"$f":"+IF(ISNUMBER('System Results'!MH29),'System Results'!MH29,0)","v":0},{"$f":"+IF(ISNUMBER('System Results'!MK29),'System Results'!MK29,0)","v":0},{"$f":"+IF(ISNUMBER('System Results'!MN29),'System Results'!MN29,0)","v":0},{"$f":"+IF(ISNUMBER('System Results'!MQ29),'System Results'!MQ29,0)","v":0},{"$f":"+IF(ISNUMBER('System Results'!MT29),'System Results'!MT29,0)","v":0},{"$f":"+IF(ISNUMBER('System Results'!MW29),'System Results'!MW29,0)","v":0},{"$f":"+IF(ISNUMBER('System Results'!MZ29),'System Results'!MZ29,0)","v":0},{"$f":"+IF(ISNUMBER('System Results'!NC29),'System Results'!NC29,0)","v":0},{"$f":"+IF(ISNUMBER('System Results'!NF29),'System Results'!NF29,0)","v":0},{"$f":"+IF(ISNUMBER('System Results'!NI29),'System Results'!NI29,0)","v":0},{"$f":"+IF(ISNUMBER('System Results'!NL29),'System Results'!NL29,0)","v":0},{"$f":"+IF(ISNUMBER('System Results'!NO29),'System Results'!NO29,0)","v":0},{"$f":"+IF(ISNUMBER('System Results'!NR29),'System Results'!NR29,0)","v":0},{"$f":"+IF(ISNUMBER('System Results'!NU29),'System Results'!NU29,0)","v":0},{"$f":"+IF(ISNUMBER('System Results'!NX29),'System Results'!NX29,0)","v":0},{"$f":"+IF(ISNUMBER('System Results'!OA29),'System Results'!OA29,0)","v":0},{"$f":"+IF(ISNUMBER('System Results'!OD29),'System Results'!OD29,0)","v":0},{"$f":"+IF(ISNUMBER('System Results'!OG29),'System Results'!OG29,0)","v":0},{"$f":"+IF(ISNUMBER('System Results'!OJ29),'System Results'!OJ29,0)","v":0},{"$f":"+IF(ISNUMBER('System Results'!OM29),'System Results'!OM29,0)","v":0},{"$f":"+IF(ISNUMBER('System Results'!OP29),'System Results'!OP29,0)","v":0},{"$f":"+IF(ISNUMBER('System Results'!OS29),'System Results'!OS29,0)","v":0},{"$f":"+IF(ISNUMBER('System Results'!OV29),'System Results'!OV29,0)","v":0},{"$f":"+IF(ISNUMBER('System Results'!OY29),'System Results'!OY29,0)","v":0},{"$f":"+IF(ISNUMBER('System Results'!PB29),'System Results'!PB29,0)","v":0},{"$f":"+IF(ISNUMBER('System Results'!PE29),'System Results'!PE29,0)","v":0},{"$f":"+IF(ISNUMBER('System Results'!PH29),'System Results'!PH29,0)","v":0},{"$f":"+IF(ISNUMBER('System Results'!PK29),'System Results'!PK29,0)","v":0},{"$f":"+IF(ISNUMBER('System Results'!PN29),'System Results'!PN29,0)","v":0},{"$f":"+IF(ISNUMBER('System Results'!PQ29),'System Results'!PQ29,0)","v":0},{"$f":"+IF(ISNUMBER('System Results'!PT29),'System Results'!PT29,0)","v":0},{"$f":"+IF(ISNUMBER('System Results'!PW29),'System Results'!PW29,0)","v":0},{"$f":"+IF(ISNUMBER('System Results'!PZ29),'System Results'!PZ29,0)","v":0},{"$f":"+IF(ISNUMBER('System Results'!QC29),'System Results'!QC29,0)","v":0},{"$f":"+IF(ISNUMBER('System Results'!QF29),'System Results'!QF29,0)","v":0},{"$f":"+IF(ISNUMBER('System Results'!QI29),'System Results'!QI29,0)","v":0},{"$f":"+IF(ISNUMBER('System Results'!QL29),'System Results'!QL29,0)","v":0},{"$f":"+IF(ISNUMBER('System Results'!QO29),'System Results'!QO29,0)","v":0},{"$f":"+IF(ISNUMBER('System Results'!QR29),'System Results'!QR29,0)","v":0},{"$f":"+IF(ISNUMBER('System Results'!QU29),'System Results'!QU29,0)","v":0},{"$f":"+IF(ISNUMBER('System Results'!QX29),'System Results'!QX29,0)","v":0},{"$f":"+IF(ISNUMBER('System Results'!RA29),'System Results'!RA29,0)","v":0},{"$f":"+IF(ISNUMBER('System Results'!RD29),'System Results'!RD29,0)","v":0},{"$f":"+IF(ISNUMBER('System Results'!RG29),'System Results'!RG29,0)","v":0},{"$f":"+IF(ISNUMBER('System Results'!RJ29),'System Results'!RJ29,0)","v":0},{"$f":"+IF(ISNUMBER('System Results'!RM29),'System Results'!RM29,0)","v":0},{"$f":"+IF(ISNUMBER('System Results'!RP29),'System Results'!RP29,0)","v":0},{"$f":"+IF(ISNUMBER('System Results'!RS29),'System Results'!RS29,0)","v":0},{"$f":"+IF(ISNUMBER('System Results'!RV29),'System Results'!RV29,0)","v":0},{"$f":"+IF(ISNUMBER('System Results'!RY29),'System Results'!RY29,0)","v":0},{"$f":"+IF(ISNUMBER('System Results'!SB29),'System Results'!SB29,0)","v":0},{"$f":"+IF(ISNUMBER('System Results'!SE29),'System Results'!SE29,0)","v":0},{"$f":"+IF(ISNUMBER('System Results'!SH29),'System Results'!SH29,0)","v":0},{"$f":"+IF(ISNUMBER('System Results'!SK29),'System Results'!SK29,0)","v":0},{"$f":"+IF(ISNUMBER('System Results'!SN29),'System Results'!SN29,0)","v":0},{"$f":"+IF(ISNUMBER('System Results'!SQ29),'System Results'!SQ29,0)","v":0},{"$f":"+IF(ISNUMBER('System Results'!ST29),'System Results'!ST29,0)","v":0},{"$f":"+IF(ISNUMBER('System Results'!SW29),'System Results'!SW29,0)","v":0},{"$f":"+IF(ISNUMBER('System Results'!SZ29),'System Results'!SZ29,0)","v":0},{"$f":"+IF(ISNUMBER('System Results'!TC29),'System Results'!TC29,0)","v":0},{"$f":"+IF(ISNUMBER('System Results'!TF29),'System Results'!TF29,0)","v":0},{"$f":"+IF(ISNUMBER('System Results'!TI29),'System Results'!TI29,0)","v":0},{"$f":"+IF(ISNUMBER('System Results'!TL29),'System Results'!TL29,0)","v":0},{"$f":"+IF(ISNUMBER('System Results'!TO29),'System Results'!TO29,0)","v":0},{"$f":"+IF(ISNUMBER('System Results'!TR29),'System Results'!TR29,0)","v":0},{"$f":"+IF(ISNUMBER('System Results'!TU29),'System Results'!TU29,0)","v":0},{"$f":"+IF(ISNUMBER('System Results'!TX29),'System Results'!TX29,0)","v":0},{"$f":"+IF(ISNUMBER('System Results'!UA29),'System Results'!UA29,0)","v":0},{"$f":"+IF(ISNUMBER('System Results'!UD29),'System Results'!UD29,0)","v":0},{"$f":"+IF(ISNUMBER('System Results'!UG29),'System Results'!UG29,0)","v":0},{"$f":"+IF(ISNUMBER('System Results'!UJ29),'System Results'!UJ29,0)","v":0},{"$f":"+IF(ISNUMBER('System Results'!UM29),'System Results'!UM29,0)","v":0},{"$f":"+IF(ISNUMBER('System Results'!UP29),'System Results'!UP29,0)","v":0},{"$f":"+IF(ISNUMBER('System Results'!US29),'System Results'!US29,0)","v":0},{"$f":"+IF(ISNUMBER('System Results'!UV29),'System Results'!UV29,0)","v":0},{"$f":"+IF(ISNUMBER('System Results'!UY29),'System Results'!UY29,0)","v":0},{"$f":"+IF(ISNUMBER('System Results'!VB29),'System Results'!VB29,0)","v":0},{"$f":"+IF(ISNUMBER('System Results'!VE29),'System Results'!VE29,0)","v":0},{"$f":"+IF(ISNUMBER('System Results'!VH29),'System Results'!VH29,0)","v":0},{"$f":"+IF(ISNUMBER('System Results'!VK29),'System Results'!VK29,0)","v":0},{"$f":"+IF(ISNUMBER('System Results'!VN29),'System Results'!VN29,0)","v":0},{"$f":"+IF(ISNUMBER('System Results'!VQ29),'System Results'!VQ29,0)","v":0},{"$f":"+IF(ISNUMBER('System Results'!VT29),'System Results'!VT29,0)","v":0},{"$f":"+IF(ISNUMBER('System Results'!VW29),'System Results'!VW29,0)","v":0},{"$f":"+IF(ISNUMBER('System Results'!VZ29),'System Results'!VZ29,0)","v":0},{"$f":"+IF(ISNUMBER('System Results'!WC29),'System Results'!WC29,0)","v":0},{"$f":"+IF(ISNUMBER('System Results'!WF29),'System Results'!WF29,0)","v":0},{"$f":"+IF(ISNUMBER('System Results'!WI29),'System Results'!WI29,0)","v":0},{"$f":"+IF(ISNUMBER('System Results'!WL29),'System Results'!WL29,0)","v":0},{"$f":"+IF(ISNUMBER('System Results'!WO29),'System Results'!WO29,0)","v":0},{"$f":"+IF(ISNUMBER('System Results'!WR29),'System Results'!WR29,0)","v":0},{"$f":"+IF(ISNUMBER('System Results'!WU29),'System Results'!WU29,0)","v":0},{"$f":"+IF(ISNUMBER('System Results'!WX29),'System Results'!WX29,0)","v":0},{"$f":"+IF(ISNUMBER('System Results'!XA29),'System Results'!XA29,0)","v":0},{"$f":"+IF(ISNUMBER('System Results'!XD29),'System Results'!XD29,0)","v":0},{"$f":"+IF(ISNUMBER('System Results'!XG29),'System Results'!XG29,0)","v":0},{"$f":"+IF(ISNUMBER('System Results'!XJ29),'System Results'!XJ29,0)","v":0},{"$f":"+IF(ISNUMBER('System Results'!XM29),'System Results'!XM29,0)","v":0},{"$f":"+IF(ISNUMBER('System Results'!XP29),'System Results'!XP29,0)","v":0},{"$f":"+IF(ISNUMBER('System Results'!XS29),'System Results'!XS29,0)","v":0},{"$f":"+IF(ISNUMBER('System Results'!XV29),'System Results'!XV29,0)","v":0},{"$f":"+IF(ISNUMBER('System Results'!XY29),'System Results'!XY29,0)","v":0},{"$f":"+IF(ISNUMBER('System Results'!YB29),'System Results'!YB29,0)","v":0},{"$f":"+IF(ISNUMBER('System Results'!YE29),'System Results'!YE29,0)","v":0},{"$f":"+IF(ISNUMBER('System Results'!YH29),'System Results'!YH29,0)","v":0},{"$f":"+IF(ISNUMBER('System Results'!YK29),'System Results'!YK29,0)","v":0},{"$f":"+IF(ISNUMBER('System Results'!YN29),'System Results'!YN29,0)","v":0},{"$f":"+IF(ISNUMBER('System Results'!YQ29),'System Results'!YQ29,0)","v":0},{"$f":"+IF(ISNUMBER('System Results'!YT29),'System Results'!YT29,0)","v":0},{"$f":"+IF(ISNUMBER('System Results'!YW29),'System Results'!YW29,0)","v":0},{"$f":"+IF(ISNUMBER('System Results'!YZ29),'System Results'!YZ29,0)","v":0},{"$f":"+IF(ISNUMBER('System Results'!ZC29),'System Results'!ZC29,0)","v":0},{"$f":"+IF(ISNUMBER('System Results'!ZF29),'System Results'!ZF29,0)","v":0},{"$f":"+IF(ISNUMBER('System Results'!ZI29),'System Results'!ZI29,0)","v":0},{"$f":"+IF(ISNUMBER('System Results'!ZL29),'System Results'!ZL29,0)","v":0},{"$f":"+IF(ISNUMBER('System Results'!ZO29),'System Results'!ZO29,0)","v":0},{"$f":"+IF(ISNUMBER('System Results'!ZR29),'System Results'!ZR29,0)","v":0},{"$f":"+IF(ISNUMBER('System Results'!ZU29),'System Results'!ZU29,0)","v":0},{"$f":"+IF(ISNUMBER('System Results'!ZX29),'System Results'!ZX29,0)","v":0},{"$f":"+IF(ISNUMBER('System Results'!AAA29),'System Results'!AAA29,0)","v":0},{"$f":"+IF(ISNUMBER('System Results'!AAD29),'System Results'!AAD29,0)","v":0},{"$f":"+IF(ISNUMBER('System Results'!AAG29),'System Results'!AAG29,0)","v":0},{"$f":"+IF(ISNUMBER('System Results'!AAJ29),'System Results'!AAJ29,0)","v":0},{"$f":"+IF(ISNUMBER('System Results'!AAM29),'System Results'!AAM29,0)","v":0},{"$f":"+IF(ISNUMBER('System Results'!AAP29),'System Results'!AAP29,0)","v":0},{"$f":"+IF(ISNUMBER('System Results'!AAS29),'System Results'!AAS29,0)","v":0},{"$f":"+IF(ISNUMBER('System Results'!AAV29),'System Results'!AAV29,0)","v":0},{"$f":"+IF(ISNUMBER('System Results'!AAY29),'System Results'!AAY29,0)","v":0},{"$f":"+IF(ISNUMBER('System Results'!ABB29),'System Results'!ABB29,0)","v":0},{"$f":"+IF(ISNUMBER('System Results'!ABE29),'System Results'!ABE29,0)","v":0},{"$f":"+IF(ISNUMBER('System Results'!ABH29),'System Results'!ABH29,0)","v":0},{"$f":"+IF(ISNUMBER('System Results'!ABK29),'System Results'!ABK29,0)","v":0},{"$f":"+IF(ISNUMBER('System Results'!ABN29),'System Results'!ABN29,0)","v":0},{"$f":"+IF(ISNUMBER('System Results'!ABQ29),'System Results'!ABQ29,0)","v":0},{"$f":"+IF(ISNUMBER('System Results'!ABT29),'System Results'!ABT29,0)","v":0},{"$f":"+IF(ISNUMBER('System Results'!ABW29),'System Results'!ABW29,0)","v":0},{"$f":"+IF(ISNUMBER('System Results'!ABZ29),'System Results'!ABZ29,0)","v":0},{"$f":"+IF(ISNUMBER('System Results'!ACC29),'System Results'!ACC29,0)","v":0},{"$f":"+IF(ISNUMBER('System Results'!ACF29),'System Results'!ACF29,0)","v":0},{"$f":"+IF(ISNUMBER('System Results'!ACI29),'System Results'!ACI29,0)","v":0},{"$f":"+IF(ISNUMBER('System Results'!ACL29),'System Results'!ACL29,0)","v":0},{"$f":"+IF(ISNUMBER('System Results'!ACO29),'System Results'!ACO29,0)","v":0},{"$f":"+IF(ISNUMBER('System Results'!ACR29),'System Results'!ACR29,0)","v":0},{"$f":"+IF(ISNUMBER('System Results'!ACU29),'System Results'!ACU29,0)","v":0},{"$f":"+IF(ISNUMBER('System Results'!ACX29),'System Results'!ACX29,0)","v":0},{"$f":"+IF(ISNUMBER('System Results'!ADA29),'System Results'!ADA29,0)","v":0},{"$f":"+IF(ISNUMBER('System Results'!ADD29),'System Results'!ADD29,0)","v":0},{"$f":"+IF(ISNUMBER('System Results'!ADG29),'System Results'!ADG29,0)","v":0},{"$f":"+IF(ISNUMBER('System Results'!ADJ29),'System Results'!ADJ29,0)","v":0},{"$f":"+IF(ISNUMBER('System Results'!ADM29),'System Results'!ADM29,0)","v":0},{"$f":"+IF(ISNUMBER('System Results'!ADP29),'System Results'!ADP29,0)","v":0},{"$f":"+IF(ISNUMBER('System Results'!ADS29),'System Results'!ADS29,0)","v":0},{"$f":"+IF(ISNUMBER('System Results'!ADV29),'System Results'!ADV29,0)","v":0},{"$f":"+IF(ISNUMBER('System Results'!ADY29),'System Results'!ADY29,0)","v":0},{"$f":"+IF(ISNUMBER('System Results'!AEB29),'System Results'!AEB29,0)","v":0},{"$f":"+IF(ISNUMBER('System Results'!AEE29),'System Results'!AEE29,0)","v":0},{"$f":"+IF(ISNUMBER('System Results'!AEH29),'System Results'!AEH29,0)","v":0},{"$f":"+IF(ISNUMBER('System Results'!AEK29),'System Results'!AEK29,0)","v":0},{"$f":"+IF(ISNUMBER('System Results'!AEN29),'System Results'!AEN29,0)","v":0},{"$f":"+IF(ISNUMBER('System Results'!AEQ29),'System Results'!AEQ29,0)","v":0},{"$f":"+IF(ISNUMBER('System Results'!AET29),'System Results'!AET29,0)","v":0},{"$f":"+IF(ISNUMBER('System Results'!AEW29),'System Results'!AEW29,0)","v":0},{"$f":"+IF(ISNUMBER('System Results'!AEZ29),'System Results'!AEZ29,0)","v":0},{"$f":"+IF(ISNUMBER('System Results'!AFC29),'System Results'!AFC29,0)","v":0},{"$f":"+IF(ISNUMBER('System Results'!AFF29),'System Results'!AFF29,0)","v":0},{"$f":"+IF(ISNUMBER('System Results'!AFI29),'System Results'!AFI29,0)","v":0},{"$f":"+IF(ISNUMBER('System Results'!AFL29),'System Results'!AFL29,0)","v":0},{"$f":"+IF(ISNUMBER('System Results'!AFO29),'System Results'!AFO29,0)","v":0},{"$f":"+IF(ISNUMBER('System Results'!AFR29),'System Results'!AFR29,0)","v":0},{"$f":"+IF(ISNUMBER('System Results'!AFU29),'System Results'!AFU29,0)","v":0},{"$f":"+IF(ISNUMBER('System Results'!AFX29),'System Results'!AFX29,0)","v":0},{"$f":"+IF(ISNUMBER('System Results'!AGA29),'System Results'!AGA29,0)","v":0},{"$f":"+IF(ISNUMBER('System Results'!AGD29),'System Results'!AGD29,0)","v":0},{"$f":"+IF(ISNUMBER('System Results'!AGG29),'System Results'!AGG29,0)","v":0},{"$f":"+IF(ISNUMBER('System Results'!AGJ29),'System Results'!AGJ29,0)","v":0},{"$f":"+IF(ISNUMBER('System Results'!AGM29),'System Results'!AGM29,0)","v":0},{"$f":"+IF(ISNUMBER('System Results'!AGP29),'System Results'!AGP29,0)","v":0},{"$f":"+IF(ISNUMBER('System Results'!AGS29),'System Results'!AGS29,0)","v":0},{"$f":"+IF(ISNUMBER('System Results'!AGV29),'System Results'!AGV29,0)","v":0},{"$f":"+IF(ISNUMBER('System Results'!AGY29),'System Results'!AGY29,0)","v":0},{"$f":"+IF(ISNUMBER('System Results'!AHB29),'System Results'!AHB29,0)","v":0},{"$f":"+IF(ISNUMBER('System Results'!AHE29),'System Results'!AHE29,0)","v":0},{"$f":"+IF(ISNUMBER('System Results'!AHH29),'System Results'!AHH29,0)","v":0},{"$f":"+IF(ISNUMBER('System Results'!AHK29),'System Results'!AHK29,0)","v":0},{"$f":"+IF(ISNUMBER('System Results'!AHN29),'System Results'!AHN29,0)","v":0},{"$f":"+IF(ISNUMBER('System Results'!AHQ29),'System Results'!AHQ29,0)","v":0},{"$f":"+IF(ISNUMBER('System Results'!AHT29),'System Results'!AHT29,0)","v":0}]
[{"$f":"+'System Results'!B31","v":"Refrigerants & Fire Suppression"},0,{"$f":"+IF(ISNUMBER('System Results'!G31),'System Results'!G31,0)","v":0},{"$f":"+IF(ISNUMBER('System Results'!J31),'System Results'!J31,0)","v":0},{"$f":"+IF(ISNUMBER('System Results'!M31),'System Results'!M31,0)","v":0},{"$f":"+IF(ISNUMBER('System Results'!P31),'System Results'!P31,0)","v":0},{"$f":"+IF(ISNUMBER('System Results'!S31),'System Results'!S31,0)","v":0},{"$f":"+IF(ISNUMBER('System Results'!V31),'System Results'!V31,0)","v":0},{"$f":"+IF(ISNUMBER('System Results'!Y31),'System Results'!Y31,0)","v":0},{"$f":"+IF(ISNUMBER('System Results'!AB31),'System Results'!AB31,0)","v":0},{"$f":"+IF(ISNUMBER('System Results'!AE31),'System Results'!AE31,0)","v":0},{"$f":"+IF(ISNUMBER('System Results'!AH31),'System Results'!AH31,0)","v":0},{"$f":"+IF(ISNUMBER('System Results'!AK31),'System Results'!AK31,0)","v":0},{"$f":"+IF(ISNUMBER('System Results'!AN31),'System Results'!AN31,0)","v":0},{"$f":"+IF(ISNUMBER('System Results'!AQ31),'System Results'!AQ31,0)","v":0},{"$f":"+IF(ISNUMBER('System Results'!AT31),'System Results'!AT31,0)","v":0},{"$f":"+IF(ISNUMBER('System Results'!AW31),'System Results'!AW31,0)","v":0},{"$f":"+IF(ISNUMBER('System Results'!AZ31),'System Results'!AZ31,0)","v":0},{"$f":"+IF(ISNUMBER('System Results'!BC31),'System Results'!BC31,0)","v":0},{"$f":"+IF(ISNUMBER('System Results'!BF31),'System Results'!BF31,0)","v":0},{"$f":"+IF(ISNUMBER('System Results'!BI31),'System Results'!BI31,0)","v":0},{"$f":"+IF(ISNUMBER('System Results'!BL31),'System Results'!BL31,0)","v":0},{"$f":"+IF(ISNUMBER('System Results'!BO31),'System Results'!BO31,0)","v":0},{"$f":"+IF(ISNUMBER('System Results'!BR31),'System Results'!BR31,0)","v":0},{"$f":"+IF(ISNUMBER('System Results'!BU31),'System Results'!BU31,0)","v":0},{"$f":"+IF(ISNUMBER('System Results'!BX31),'System Results'!BX31,0)","v":0},{"$f":"+IF(ISNUMBER('System Results'!CA31),'System Results'!CA31,0)","v":0},{"$f":"+IF(ISNUMBER('System Results'!CD31),'System Results'!CD31,0)","v":0},{"$f":"+IF(ISNUMBER('System Results'!CG31),'System Results'!CG31,0)","v":0},{"$f":"+IF(ISNUMBER('System Results'!CJ31),'System Results'!CJ31,0)","v":0},{"$f":"+IF(ISNUMBER('System Results'!CM31),'System Results'!CM31,0)","v":0},{"$f":"+IF(ISNUMBER('System Results'!CP31),'System Results'!CP31,0)","v":0},{"$f":"+IF(ISNUMBER('System Results'!CS31),'System Results'!CS31,0)","v":0},{"$f":"+IF(ISNUMBER('System Results'!CV31),'System Results'!CV31,0)","v":0},{"$f":"+IF(ISNUMBER('System Results'!CY31),'System Results'!CY31,0)","v":0},{"$f":"+IF(ISNUMBER('System Results'!DB31),'System Results'!DB31,0)","v":0},{"$f":"+IF(ISNUMBER('System Results'!DE31),'System Results'!DE31,0)","v":0},{"$f":"+IF(ISNUMBER('System Results'!DH31),'System Results'!DH31,0)","v":0},{"$f":"+IF(ISNUMBER('System Results'!DK31),'System Results'!DK31,0)","v":0},{"$f":"+IF(ISNUMBER('System Results'!DN31),'System Results'!DN31,0)","v":0},{"$f":"+IF(ISNUMBER('System Results'!DQ31),'System Results'!DQ31,0)","v":0},{"$f":"+IF(ISNUMBER('System Results'!DT31),'System Results'!DT31,0)","v":0},{"$f":"+IF(ISNUMBER('System Results'!DW31),'System Results'!DW31,0)","v":0},{"$f":"+IF(ISNUMBER('System Results'!DZ31),'System Results'!DZ31,0)","v":0},{"$f":"+IF(ISNUMBER('System Results'!EC31),'System Results'!EC31,0)","v":0},{"$f":"+IF(ISNUMBER('System Results'!EF31),'System Results'!EF31,0)","v":0},{"$f":"+IF(ISNUMBER('System Results'!EI31),'System Results'!EI31,0)","v":0},{"$f":"+IF(ISNUMBER('System Results'!EL31),'System Results'!EL31,0)","v":0},{"$f":"+IF(ISNUMBER('System Results'!EO31),'System Results'!EO31,0)","v":0},{"$f":"+IF(ISNUMBER('System Results'!ER31),'System Results'!ER31,0)","v":0},{"$f":"+IF(ISNUMBER('System Results'!EU31),'System Results'!EU31,0)","v":0},{"$f":"+IF(ISNUMBER('System Results'!EX31),'System Results'!EX31,0)","v":0},{"$f":"+IF(ISNUMBER('System Results'!FA31),'System Results'!FA31,0)","v":0},{"$f":"+IF(ISNUMBER('System Results'!FD31),'System Results'!FD31,0)","v":0},{"$f":"+IF(ISNUMBER('System Results'!FG31),'System Results'!FG31,0)","v":0},{"$f":"+IF(ISNUMBER('System Results'!FJ31),'System Results'!FJ31,0)","v":0},{"$f":"+IF(ISNUMBER('System Results'!FM31),'System Results'!FM31,0)","v":0},{"$f":"+IF(ISNUMBER('System Results'!FP31),'System Results'!FP31,0)","v":0},{"$f":"+IF(ISNUMBER('System Results'!FS31),'System Results'!FS31,0)","v":0},{"$f":"+IF(ISNUMBER('System Results'!FV31),'System Results'!FV31,0)","v":0},{"$f":"+IF(ISNUMBER('System Results'!FY31),'System Results'!FY31,0)","v":0},{"$f":"+IF(ISNUMBER('System Results'!GB31),'System Results'!GB31,0)","v":0},{"$f":"+IF(ISNUMBER('System Results'!GE31),'System Results'!GE31,0)","v":0},{"$f":"+IF(ISNUMBER('System Results'!GH31),'System Results'!GH31,0)","v":0},{"$f":"+IF(ISNUMBER('System Results'!GK31),'System Results'!GK31,0)","v":0},{"$f":"+IF(ISNUMBER('System Results'!GN31),'System Results'!GN31,0)","v":0},{"$f":"+IF(ISNUMBER('System Results'!GQ31),'System Results'!GQ31,0)","v":0},{"$f":"+IF(ISNUMBER('System Results'!GT31),'System Results'!GT31,0)","v":0},{"$f":"+IF(ISNUMBER('System Results'!GW31),'System Results'!GW31,0)","v":0},{"$f":"+IF(ISNUMBER('System Results'!GZ31),'System Results'!GZ31,0)","v":0},{"$f":"+IF(ISNUMBER('System Results'!HC31),'System Results'!HC31,0)","v":0},{"$f":"+IF(ISNUMBER('System Results'!HF31),'System Results'!HF31,0)","v":0},{"$f":"+IF(ISNUMBER('System Results'!HI31),'System Results'!HI31,0)","v":0},{"$f":"+IF(ISNUMBER('System Results'!HL31),'System Results'!HL31,0)","v":0},{"$f":"+IF(ISNUMBER('System Results'!HO31),'System Results'!HO31,0)","v":0},{"$f":"+IF(ISNUMBER('System Results'!HR31),'System Results'!HR31,0)","v":0},{"$f":"+IF(ISNUMBER('System Results'!HU31),'System Results'!HU31,0)","v":0},{"$f":"+IF(ISNUMBER('System Results'!HX31),'System Results'!HX31,0)","v":0},{"$f":"+IF(ISNUMBER('System Results'!IA31),'System Results'!IA31,0)","v":0},{"$f":"+IF(ISNUMBER('System Results'!ID31),'System Results'!ID31,0)","v":0},{"$f":"+IF(ISNUMBER('System Results'!IG31),'System Results'!IG31,0)","v":0},{"$f":"+IF(ISNUMBER('System Results'!IJ31),'System Results'!IJ31,0)","v":0},{"$f":"+IF(ISNUMBER('System Results'!IM31),'System Results'!IM31,0)","v":0},{"$f":"+IF(ISNUMBER('System Results'!IP31),'System Results'!IP31,0)","v":0},{"$f":"+IF(ISNUMBER('System Results'!IS31),'System Results'!IS31,0)","v":0},{"$f":"+IF(ISNUMBER('System Results'!IV31),'System Results'!IV31,0)","v":0},{"$f":"+IF(ISNUMBER('System Results'!IY31),'System Results'!IY31,0)","v":0},{"$f":"+IF(ISNUMBER('System Results'!JB31),'System Results'!JB31,0)","v":0},{"$f":"+IF(ISNUMBER('System Results'!JE31),'System Results'!JE31,0)","v":0},{"$f":"+IF(ISNUMBER('System Results'!JH31),'System Results'!JH31,0)","v":0},{"$f":"+IF(ISNUMBER('System Results'!JK31),'System Results'!JK31,0)","v":0},{"$f":"+IF(ISNUMBER('System Results'!JN31),'System Results'!JN31,0)","v":0},{"$f":"+IF(ISNUMBER('System Results'!JQ31),'System Results'!JQ31,0)","v":0},{"$f":"+IF(ISNUMBER('System Results'!JT31),'System Results'!JT31,0)","v":0},{"$f":"+IF(ISNUMBER('System Results'!JW31),'System Results'!JW31,0)","v":0},{"$f":"+IF(ISNUMBER('System Results'!JZ31),'System Results'!JZ31,0)","v":0},{"$f":"+IF(ISNUMBER('System Results'!KC31),'System Results'!KC31,0)","v":0},{"$f":"+IF(ISNUMBER('System Results'!KF31),'System Results'!KF31,0)","v":0},{"$f":"+IF(ISNUMBER('System Results'!KI31),'System Results'!KI31,0)","v":0},{"$f":"+IF(ISNUMBER('System Results'!KL31),'System Results'!KL31,0)","v":0},{"$f":"+IF(ISNUMBER('System Results'!KO31),'System Results'!KO31,0)","v":0},{"$f":"+IF(ISNUMBER('System Results'!KR31),'System Results'!KR31,0)","v":0},{"$f":"+IF(ISNUMBER('System Results'!KU31),'System Results'!KU31,0)","v":0},{"$f":"+IF(ISNUMBER('System Results'!KX31),'System Results'!KX31,0)","v":0},{"$f":"+IF(ISNUMBER('System Results'!LA31),'System Results'!LA31,0)","v":0},{"$f":"+IF(ISNUMBER('System Results'!LD31),'System Results'!LD31,0)","v":0},{"$f":"+IF(ISNUMBER('System Results'!LG31),'System Results'!LG31,0)","v":0},{"$f":"+IF(ISNUMBER('System Results'!LJ31),'System Results'!LJ31,0)","v":0},{"$f":"+IF(ISNUMBER('System Results'!LM31),'System Results'!LM31,0)","v":0},{"$f":"+IF(ISNUMBER('System Results'!LP31),'System Results'!LP31,0)","v":0},{"$f":"+IF(ISNUMBER('System Results'!LS31),'System Results'!LS31,0)","v":0},{"$f":"+IF(ISNUMBER('System Results'!LV31),'System Results'!LV31,0)","v":0},{"$f":"+IF(ISNUMBER('System Results'!LY31),'System Results'!LY31,0)","v":0},{"$f":"+IF(ISNUMBER('System Results'!MB31),'System Results'!MB31,0)","v":0},{"$f":"+IF(ISNUMBER('System Results'!ME31),'System Results'!ME31,0)","v":0},{"$f":"+IF(ISNUMBER('System Results'!MH31),'System Results'!MH31,0)","v":0},{"$f":"+IF(ISNUMBER('System Results'!MK31),'System Results'!MK31,0)","v":0},{"$f":"+IF(ISNUMBER('System Results'!MN31),'System Results'!MN31,0)","v":0},{"$f":"+IF(ISNUMBER('System Results'!MQ31),'System Results'!MQ31,0)","v":0},{"$f":"+IF(ISNUMBER('System Results'!MT31),'System Results'!MT31,0)","v":0},{"$f":"+IF(ISNUMBER('System Results'!MW31),'System Results'!MW31,0)","v":0},{"$f":"+IF(ISNUMBER('System Results'!MZ31),'System Results'!MZ31,0)","v":0},{"$f":"+IF(ISNUMBER('System Results'!NC31),'System Results'!NC31,0)","v":0},{"$f":"+IF(ISNUMBER('System Results'!NF31),'System Results'!NF31,0)","v":0},{"$f":"+IF(ISNUMBER('System Results'!NI31),'System Results'!NI31,0)","v":0},{"$f":"+IF(ISNUMBER('System Results'!NL31),'System Results'!NL31,0)","v":0},{"$f":"+IF(ISNUMBER('System Results'!NO31),'System Results'!NO31,0)","v":0},{"$f":"+IF(ISNUMBER('System Results'!NR31),'System Results'!NR31,0)","v":0},{"$f":"+IF(ISNUMBER('System Results'!NU31),'System Results'!NU31,0)","v":0},{"$f":"+IF(ISNUMBER('System Results'!NX31),'System Results'!NX31,0)","v":0},{"$f":"+IF(ISNUMBER('System Results'!OA31),'System Results'!OA31,0)","v":0},{"$f":"+IF(ISNUMBER('System Results'!OD31),'System Results'!OD31,0)","v":0},{"$f":"+IF(ISNUMBER('System Results'!OG31),'System Results'!OG31,0)","v":0},{"$f":"+IF(ISNUMBER('System Results'!OJ31),'System Results'!OJ31,0)","v":0},{"$f":"+IF(ISNUMBER('System Results'!OM31),'System Results'!OM31,0)","v":0},{"$f":"+IF(ISNUMBER('System Results'!OP31),'System Results'!OP31,0)","v":0},{"$f":"+IF(ISNUMBER('System Results'!OS31),'System Results'!OS31,0)","v":0},{"$f":"+IF(ISNUMBER('System Results'!OV31),'System Results'!OV31,0)","v":0},{"$f":"+IF(ISNUMBER('System Results'!OY31),'System Results'!OY31,0)","v":0},{"$f":"+IF(ISNUMBER('System Results'!PB31),'System Results'!PB31,0)","v":0},{"$f":"+IF(ISNUMBER('System Results'!PE31),'System Results'!PE31,0)","v":0},{"$f":"+IF(ISNUMBER('System Results'!PH31),'System Results'!PH31,0)","v":0},{"$f":"+IF(ISNUMBER('System Results'!PK31),'System Results'!PK31,0)","v":0},{"$f":"+IF(ISNUMBER('System Results'!PN31),'System Results'!PN31,0)","v":0},{"$f":"+IF(ISNUMBER('System Results'!PQ31),'System Results'!PQ31,0)","v":0},{"$f":"+IF(ISNUMBER('System Results'!PT31),'System Results'!PT31,0)","v":0},{"$f":"+IF(ISNUMBER('System Results'!PW31),'System Results'!PW31,0)","v":0},{"$f":"+IF(ISNUMBER('System Results'!PZ31),'System Results'!PZ31,0)","v":0},{"$f":"+IF(ISNUMBER('System Results'!QC31),'System Results'!QC31,0)","v":0},{"$f":"+IF(ISNUMBER('System Results'!QF31),'System Results'!QF31,0)","v":0},{"$f":"+IF(ISNUMBER('System Results'!QI31),'System Results'!QI31,0)","v":0},{"$f":"+IF(ISNUMBER('System Results'!QL31),'System Results'!QL31,0)","v":0},{"$f":"+IF(ISNUMBER('System Results'!QO31),'System Results'!QO31,0)","v":0},{"$f":"+IF(ISNUMBER('System Results'!QR31),'System Results'!QR31,0)","v":0},{"$f":"+IF(ISNUMBER('System Results'!QU31),'System Results'!QU31,0)","v":0},{"$f":"+IF(ISNUMBER('System Results'!QX31),'System Results'!QX31,0)","v":0},{"$f":"+IF(ISNUMBER('System Results'!RA31),'System Results'!RA31,0)","v":0},{"$f":"+IF(ISNUMBER('System Results'!RD31),'System Results'!RD31,0)","v":0},{"$f":"+IF(ISNUMBER('System Results'!RG31),'System Results'!RG31,0)","v":0},{"$f":"+IF(ISNUMBER('System Results'!RJ31),'System Results'!RJ31,0)","v":0},{"$f":"+IF(ISNUMBER('System Results'!RM31),'System Results'!RM31,0)","v":0},{"$f":"+IF(ISNUMBER('System Results'!RP31),'System Results'!RP31,0)","v":0},{"$f":"+IF(ISNUMBER('System Results'!RS31),'System Results'!RS31,0)","v":0},{"$f":"+IF(ISNUMBER('System Results'!RV31),'System Results'!RV31,0)","v":0},{"$f":"+IF(ISNUMBER('System Results'!RY31),'System Results'!RY31,0)","v":0},{"$f":"+IF(ISNUMBER('System Results'!SB31),'System Results'!SB31,0)","v":0},{"$f":"+IF(ISNUMBER('System Results'!SE31),'System Results'!SE31,0)","v":0},{"$f":"+IF(ISNUMBER('System Results'!SH31),'System Results'!SH31,0)","v":0},{"$f":"+IF(ISNUMBER('System Results'!SK31),'System Results'!SK31,0)","v":0},{"$f":"+IF(ISNUMBER('System Results'!SN31),'System Results'!SN31,0)","v":0},{"$f":"+IF(ISNUMBER('System Results'!SQ31),'System Results'!SQ31,0)","v":0},{"$f":"+IF(ISNUMBER('System Results'!ST31),'System Results'!ST31,0)","v":0},{"$f":"+IF(ISNUMBER('System Results'!SW31),'System Results'!SW31,0)","v":0},{"$f":"+IF(ISNUMBER('System Results'!SZ31),'System Results'!SZ31,0)","v":0},{"$f":"+IF(ISNUMBER('System Results'!TC31),'System Results'!TC31,0)","v":0},{"$f":"+IF(ISNUMBER('System Results'!TF31),'System Results'!TF31,0)","v":0},{"$f":"+IF(ISNUMBER('System Results'!TI31),'System Results'!TI31,0)","v":0},{"$f":"+IF(ISNUMBER('System Results'!TL31),'System Results'!TL31,0)","v":0},{"$f":"+IF(ISNUMBER('System Results'!TO31),'System Results'!TO31,0)","v":0},{"$f":"+IF(ISNUMBER('System Results'!TR31),'System Results'!TR31,0)","v":0},{"$f":"+IF(ISNUMBER('System Results'!TU31),'System Results'!TU31,0)","v":0},{"$f":"+IF(ISNUMBER('System Results'!TX31),'System Results'!TX31,0)","v":0},{"$f":"+IF(ISNUMBER('System Results'!UA31),'System Results'!UA31,0)","v":0},{"$f":"+IF(ISNUMBER('System Results'!UD31),'System Results'!UD31,0)","v":0},{"$f":"+IF(ISNUMBER('System Results'!UG31),'System Results'!UG31,0)","v":0},{"$f":"+IF(ISNUMBER('System Results'!UJ31),'System Results'!UJ31,0)","v":0},{"$f":"+IF(ISNUMBER('System Results'!UM31),'System Results'!UM31,0)","v":0},{"$f":"+IF(ISNUMBER('System Results'!UP31),'System Results'!UP31,0)","v":0},{"$f":"+IF(ISNUMBER('System Results'!US31),'System Results'!US31,0)","v":0},{"$f":"+IF(ISNUMBER('System Results'!UV31),'System Results'!UV31,0)","v":0},{"$f":"+IF(ISNUMBER('System Results'!UY31),'System Results'!UY31,0)","v":0},{"$f":"+IF(ISNUMBER('System Results'!VB31),'System Results'!VB31,0)","v":0},{"$f":"+IF(ISNUMBER('System Results'!VE31),'System Results'!VE31,0)","v":0},{"$f":"+IF(ISNUMBER('System Results'!VH31),'System Results'!VH31,0)","v":0},{"$f":"+IF(ISNUMBER('System Results'!VK31),'System Results'!VK31,0)","v":0},{"$f":"+IF(ISNUMBER('System Results'!VN31),'System Results'!VN31,0)","v":0},{"$f":"+IF(ISNUMBER('System Results'!VQ31),'System Results'!VQ31,0)","v":0},{"$f":"+IF(ISNUMBER('System Results'!VT31),'System Results'!VT31,0)","v":0},{"$f":"+IF(ISNUMBER('System Results'!VW31),'System Results'!VW31,0)","v":0},{"$f":"+IF(ISNUMBER('System Results'!VZ31),'System Results'!VZ31,0)","v":0},{"$f":"+IF(ISNUMBER('System Results'!WC31),'System Results'!WC31,0)","v":0},{"$f":"+IF(ISNUMBER('System Results'!WF31),'System Results'!WF31,0)","v":0},{"$f":"+IF(ISNUMBER('System Results'!WI31),'System Results'!WI31,0)","v":0},{"$f":"+IF(ISNUMBER('System Results'!WL31),'System Results'!WL31,0)","v":0},{"$f":"+IF(ISNUMBER('System Results'!WO31),'System Results'!WO31,0)","v":0},{"$f":"+IF(ISNUMBER('System Results'!WR31),'System Results'!WR31,0)","v":0},{"$f":"+IF(ISNUMBER('System Results'!WU31),'System Results'!WU31,0)","v":0},{"$f":"+IF(ISNUMBER('System Results'!WX31),'System Results'!WX31,0)","v":0},{"$f":"+IF(ISNUMBER('System Results'!XA31),'System Results'!XA31,0)","v":0},{"$f":"+IF(ISNUMBER('System Results'!XD31),'System Results'!XD31,0)","v":0},{"$f":"+IF(ISNUMBER('System Results'!XG31),'System Results'!XG31,0)","v":0},{"$f":"+IF(ISNUMBER('System Results'!XJ31),'System Results'!XJ31,0)","v":0},{"$f":"+IF(ISNUMBER('System Results'!XM31),'System Results'!XM31,0)","v":0},{"$f":"+IF(ISNUMBER('System Results'!XP31),'System Results'!XP31,0)","v":0},{"$f":"+IF(ISNUMBER('System Results'!XS31),'System Results'!XS31,0)","v":0},{"$f":"+IF(ISNUMBER('System Results'!XV31),'System Results'!XV31,0)","v":0},{"$f":"+IF(ISNUMBER('System Results'!XY31),'System Results'!XY31,0)","v":0},{"$f":"+IF(ISNUMBER('System Results'!YB31),'System Results'!YB31,0)","v":0},{"$f":"+IF(ISNUMBER('System Results'!YE31),'System Results'!YE31,0)","v":0},{"$f":"+IF(ISNUMBER('System Results'!YH31),'System Results'!YH31,0)","v":0},{"$f":"+IF(ISNUMBER('System Results'!YK31),'System Results'!YK31,0)","v":0},{"$f":"+IF(ISNUMBER('System Results'!YN31),'System Results'!YN31,0)","v":0},{"$f":"+IF(ISNUMBER('System Results'!YQ31),'System Results'!YQ31,0)","v":0},{"$f":"+IF(ISNUMBER('System Results'!YT31),'System Results'!YT31,0)","v":0},{"$f":"+IF(ISNUMBER('System Results'!YW31),'System Results'!YW31,0)","v":0},{"$f":"+IF(ISNUMBER('System Results'!YZ31),'System Results'!YZ31,0)","v":0},{"$f":"+IF(ISNUMBER('System Results'!ZC31),'System Results'!ZC31,0)","v":0},{"$f":"+IF(ISNUMBER('System Results'!ZF31),'System Results'!ZF31,0)","v":0},{"$f":"+IF(ISNUMBER('System Results'!ZI31),'System Results'!ZI31,0)","v":0},{"$f":"+IF(ISNUMBER('System Results'!ZL31),'System Results'!ZL31,0)","v":0},{"$f":"+IF(ISNUMBER('System Results'!ZO31),'System Results'!ZO31,0)","v":0},{"$f":"+IF(ISNUMBER('System Results'!ZR31),'System Results'!ZR31,0)","v":0},{"$f":"+IF(ISNUMBER('System Results'!ZU31),'System Results'!ZU31,0)","v":0},{"$f":"+IF(ISNUMBER('System Results'!ZX31),'System Results'!ZX31,0)","v":0},{"$f":"+IF(ISNUMBER('System Results'!AAA31),'System Results'!AAA31,0)","v":0},{"$f":"+IF(ISNUMBER('System Results'!AAD31),'System Results'!AAD31,0)","v":0},{"$f":"+IF(ISNUMBER('System Results'!AAG31),'System Results'!AAG31,0)","v":0},{"$f":"+IF(ISNUMBER('System Results'!AAJ31),'System Results'!AAJ31,0)","v":0},{"$f":"+IF(ISNUMBER('System Results'!AAM31),'System Results'!AAM31,0)","v":0},{"$f":"+IF(ISNUMBER('System Results'!AAP31),'System Results'!AAP31,0)","v":0},{"$f":"+IF(ISNUMBER('System Results'!AAS31),'System Results'!AAS31,0)","v":0},{"$f":"+IF(ISNUMBER('System Results'!AAV31),'System Results'!AAV31,0)","v":0},{"$f":"+IF(ISNUMBER('System Results'!AAY31),'System Results'!AAY31,0)","v":0},{"$f":"+IF(ISNUMBER('System Results'!ABB31),'System Results'!ABB31,0)","v":0},{"$f":"+IF(ISNUMBER('System Results'!ABE31),'System Results'!ABE31,0)","v":0},{"$f":"+IF(ISNUMBER('System Results'!ABH31),'System Results'!ABH31,0)","v":0},{"$f":"+IF(ISNUMBER('System Results'!ABK31),'System Results'!ABK31,0)","v":0},{"$f":"+IF(ISNUMBER('System Results'!ABN31),'System Results'!ABN31,0)","v":0},{"$f":"+IF(ISNUMBER('System Results'!ABQ31),'System Results'!ABQ31,0)","v":0},{"$f":"+IF(ISNUMBER('System Results'!ABT31),'System Results'!ABT31,0)","v":0},{"$f":"+IF(ISNUMBER('System Results'!ABW31),'System Results'!ABW31,0)","v":0},{"$f":"+IF(ISNUMBER('System Results'!ABZ31),'System Results'!ABZ31,0)","v":0},{"$f":"+IF(ISNUMBER('System Results'!ACC31),'System Results'!ACC31,0)","v":0},{"$f":"+IF(ISNUMBER('System Results'!ACF31),'System Results'!ACF31,0)","v":0},{"$f":"+IF(ISNUMBER('System Results'!ACI31),'System Results'!ACI31,0)","v":0},{"$f":"+IF(ISNUMBER('System Results'!ACL31),'System Results'!ACL31,0)","v":0},{"$f":"+IF(ISNUMBER('System Results'!ACO31),'System Results'!ACO31,0)","v":0},{"$f":"+IF(ISNUMBER('System Results'!ACR31),'System Results'!ACR31,0)","v":0},{"$f":"+IF(ISNUMBER('System Results'!ACU31),'System Results'!ACU31,0)","v":0},{"$f":"+IF(ISNUMBER('System Results'!ACX31),'System Results'!ACX31,0)","v":0},{"$f":"+IF(ISNUMBER('System Results'!ADA31),'System Results'!ADA31,0)","v":0},{"$f":"+IF(ISNUMBER('System Results'!ADD31),'System Results'!ADD31,0)","v":0},{"$f":"+IF(ISNUMBER('System Results'!ADG31),'System Results'!ADG31,0)","v":0},{"$f":"+IF(ISNUMBER('System Results'!ADJ31),'System Results'!ADJ31,0)","v":0},{"$f":"+IF(ISNUMBER('System Results'!ADM31),'System Results'!ADM31,0)","v":0},{"$f":"+IF(ISNUMBER('System Results'!ADP31),'System Results'!ADP31,0)","v":0},{"$f":"+IF(ISNUMBER('System Results'!ADS31),'System Results'!ADS31,0)","v":0},{"$f":"+IF(ISNUMBER('System Results'!ADV31),'System Results'!ADV31,0)","v":0},{"$f":"+IF(ISNUMBER('System Results'!ADY31),'System Results'!ADY31,0)","v":0},{"$f":"+IF(ISNUMBER('System Results'!AEB31),'System Results'!AEB31,0)","v":0},{"$f":"+IF(ISNUMBER('System Results'!AEE31),'System Results'!AEE31,0)","v":0},{"$f":"+IF(ISNUMBER('System Results'!AEH31),'System Results'!AEH31,0)","v":0},{"$f":"+IF(ISNUMBER('System Results'!AEK31),'System Results'!AEK31,0)","v":0},{"$f":"+IF(ISNUMBER('System Results'!AEN31),'System Results'!AEN31,0)","v":0},{"$f":"+IF(ISNUMBER('System Results'!AEQ31),'System Results'!AEQ31,0)","v":0},{"$f":"+IF(ISNUMBER('System Results'!AET31),'System Results'!AET31,0)","v":0},{"$f":"+IF(ISNUMBER('System Results'!AEW31),'System Results'!AEW31,0)","v":0},{"$f":"+IF(ISNUMBER('System Results'!AEZ31),'System Results'!AEZ31,0)","v":0},{"$f":"+IF(ISNUMBER('System Results'!AFC31),'System Results'!AFC31,0)","v":0},{"$f":"+IF(ISNUMBER('System Results'!AFF31),'System Results'!AFF31,0)","v":0},{"$f":"+IF(ISNUMBER('System Results'!AFI31),'System Results'!AFI31,0)","v":0},{"$f":"+IF(ISNUMBER('System Results'!AFL31),'System Results'!AFL31,0)","v":0},{"$f":"+IF(ISNUMBER('System Results'!AFO31),'System Results'!AFO31,0)","v":0},{"$f":"+IF(ISNUMBER('System Results'!AFR31),'System Results'!AFR31,0)","v":0},{"$f":"+IF(ISNUMBER('System Results'!AFU31),'System Results'!AFU31,0)","v":0},{"$f":"+IF(ISNUMBER('System Results'!AFX31),'System Results'!AFX31,0)","v":0},{"$f":"+IF(ISNUMBER('System Results'!AGA31),'System Results'!AGA31,0)","v":0},{"$f":"+IF(ISNUMBER('System Results'!AGD31),'System Results'!AGD31,0)","v":0},{"$f":"+IF(ISNUMBER('System Results'!AGG31),'System Results'!AGG31,0)","v":0},{"$f":"+IF(ISNUMBER('System Results'!AGJ31),'System Results'!AGJ31,0)","v":0},{"$f":"+IF(ISNUMBER('System Results'!AGM31),'System Results'!AGM31,0)","v":0},{"$f":"+IF(ISNUMBER('System Results'!AGP31),'System Results'!AGP31,0)","v":0},{"$f":"+IF(ISNUMBER('System Results'!AGS31),'System Results'!AGS31,0)","v":0},{"$f":"+IF(ISNUMBER('System Results'!AGV31),'System Results'!AGV31,0)","v":0},{"$f":"+IF(ISNUMBER('System Results'!AGY31),'System Results'!AGY31,0)","v":0},{"$f":"+IF(ISNUMBER('System Results'!AHB31),'System Results'!AHB31,0)","v":0},{"$f":"+IF(ISNUMBER('System Results'!AHE31),'System Results'!AHE31,0)","v":0},{"$f":"+IF(ISNUMBER('System Results'!AHH31),'System Results'!AHH31,0)","v":0},{"$f":"+IF(ISNUMBER('System Results'!AHK31),'System Results'!AHK31,0)","v":0},{"$f":"+IF(ISNUMBER('System Results'!AHN31),'System Results'!AHN31,0)","v":0},{"$f":"+IF(ISNUMBER('System Results'!AHQ31),'System Results'!AHQ31,0)","v":0},{"$f":"+IF(ISNUMBER('System Results'!AHT31),'System Results'!AHT31,0)","v":0}]
[{"$f":"+'System Results'!B32","v":"Medicinal / Anesthetic gases"},0,{"$f":"+IF(ISNUMBER('System Results'!G32),'System Results'!G32,0)","v":0},{"$f":"+IF(ISNUMBER('System Results'!J32),'System Results'!J32,0)","v":0},{"$f":"+IF(ISNUMBER('System Results'!M32),'System Results'!M32,0)","v":0},{"$f":"+IF(ISNUMBER('System Results'!P32),'System Results'!P32,0)","v":0},{"$f":"+IF(ISNUMBER('System Results'!S32),'System Results'!S32,0)","v":0},{"$f":"+IF(ISNUMBER('System Results'!V32),'System Results'!V32,0)","v":0},{"$f":"+IF(ISNUMBER('System Results'!Y32),'System Results'!Y32,0)","v":0},{"$f":"+IF(ISNUMBER('System Results'!AB32),'System Results'!AB32,0)","v":0},{"$f":"+IF(ISNUMBER('System Results'!AE32),'System Results'!AE32,0)","v":0},{"$f":"+IF(ISNUMBER('System Results'!AH32),'System Results'!AH32,0)","v":0},{"$f":"+IF(ISNUMBER('System Results'!AK32),'System Results'!AK32,0)","v":0},{"$f":"+IF(ISNUMBER('System Results'!AN32),'System Results'!AN32,0)","v":0},{"$f":"+IF(ISNUMBER('System Results'!AQ32),'System Results'!AQ32,0)","v":0},{"$f":"+IF(ISNUMBER('System Results'!AT32),'System Results'!AT32,0)","v":0},{"$f":"+IF(ISNUMBER('System Results'!AW32),'System Results'!AW32,0)","v":0},{"$f":"+IF(ISNUMBER('System Results'!AZ32),'System Results'!AZ32,0)","v":0},{"$f":"+IF(ISNUMBER('System Results'!BC32),'System Results'!BC32,0)","v":0},{"$f":"+IF(ISNUMBER('System Results'!BF32),'System Results'!BF32,0)","v":0},{"$f":"+IF(ISNUMBER('System Results'!BI32),'System Results'!BI32,0)","v":0},{"$f":"+IF(ISNUMBER('System Results'!BL32),'System Results'!BL32,0)","v":0},{"$f":"+IF(ISNUMBER('System Results'!BO32),'System Results'!BO32,0)","v":0},{"$f":"+IF(ISNUMBER('System Results'!BR32),'System Results'!BR32,0)","v":0},{"$f":"+IF(ISNUMBER('System Results'!BU32),'System Results'!BU32,0)","v":0},{"$f":"+IF(ISNUMBER('System Results'!BX32),'System Results'!BX32,0)","v":0},{"$f":"+IF(ISNUMBER('System Results'!CA32),'System Results'!CA32,0)","v":0},{"$f":"+IF(ISNUMBER('System Results'!CD32),'System Results'!CD32,0)","v":0},{"$f":"+IF(ISNUMBER('System Results'!CG32),'System Results'!CG32,0)","v":0},{"$f":"+IF(ISNUMBER('System Results'!CJ32),'System Results'!CJ32,0)","v":0},{"$f":"+IF(ISNUMBER('System Results'!CM32),'System Results'!CM32,0)","v":0},{"$f":"+IF(ISNUMBER('System Results'!CP32),'System Results'!CP32,0)","v":0},{"$f":"+IF(ISNUMBER('System Results'!CS32),'System Results'!CS32,0)","v":0},{"$f":"+IF(ISNUMBER('System Results'!CV32),'System Results'!CV32,0)","v":0},{"$f":"+IF(ISNUMBER('System Results'!CY32),'System Results'!CY32,0)","v":0},{"$f":"+IF(ISNUMBER('System Results'!DB32),'System Results'!DB32,0)","v":0},{"$f":"+IF(ISNUMBER('System Results'!DE32),'System Results'!DE32,0)","v":0},{"$f":"+IF(ISNUMBER('System Results'!DH32),'System Results'!DH32,0)","v":0},{"$f":"+IF(ISNUMBER('System Results'!DK32),'System Results'!DK32,0)","v":0},{"$f":"+IF(ISNUMBER('System Results'!DN32),'System Results'!DN32,0)","v":0},{"$f":"+IF(ISNUMBER('System Results'!DQ32),'System Results'!DQ32,0)","v":0},{"$f":"+IF(ISNUMBER('System Results'!DT32),'System Results'!DT32,0)","v":0},{"$f":"+IF(ISNUMBER('System Results'!DW32),'System Results'!DW32,0)","v":0},{"$f":"+IF(ISNUMBER('System Results'!DZ32),'System Results'!DZ32,0)","v":0},{"$f":"+IF(ISNUMBER('System Results'!EC32),'System Results'!EC32,0)","v":0},{"$f":"+IF(ISNUMBER('System Results'!EF32),'System Results'!EF32,0)","v":0},{"$f":"+IF(ISNUMBER('System Results'!EI32),'System Results'!EI32,0)","v":0},{"$f":"+IF(ISNUMBER('System Results'!EL32),'System Results'!EL32,0)","v":0},{"$f":"+IF(ISNUMBER('System Results'!EO32),'System Results'!EO32,0)","v":0},{"$f":"+IF(ISNUMBER('System Results'!ER32),'System Results'!ER32,0)","v":0},{"$f":"+IF(ISNUMBER('System Results'!EU32),'System Results'!EU32,0)","v":0},{"$f":"+IF(ISNUMBER('System Results'!EX32),'System Results'!EX32,0)","v":0},{"$f":"+IF(ISNUMBER('System Results'!FA32),'System Results'!FA32,0)","v":0},{"$f":"+IF(ISNUMBER('System Results'!FD32),'System Results'!FD32,0)","v":0},{"$f":"+IF(ISNUMBER('System Results'!FG32),'System Results'!FG32,0)","v":0},{"$f":"+IF(ISNUMBER('System Results'!FJ32),'System Results'!FJ32,0)","v":0},{"$f":"+IF(ISNUMBER('System Results'!FM32),'System Results'!FM32,0)","v":0},{"$f":"+IF(ISNUMBER('System Results'!FP32),'System Results'!FP32,0)","v":0},{"$f":"+IF(ISNUMBER('System Results'!FS32),'System Results'!FS32,0)","v":0},{"$f":"+IF(ISNUMBER('System Results'!FV32),'System Results'!FV32,0)","v":0},{"$f":"+IF(ISNUMBER('System Results'!FY32),'System Results'!FY32,0)","v":0},{"$f":"+IF(ISNUMBER('System Results'!GB32),'System Results'!GB32,0)","v":0},{"$f":"+IF(ISNUMBER('System Results'!GE32),'System Results'!GE32,0)","v":0},{"$f":"+IF(ISNUMBER('System Results'!GH32),'System Results'!GH32,0)","v":0},{"$f":"+IF(ISNUMBER('System Results'!GK32),'System Results'!GK32,0)","v":0},{"$f":"+IF(ISNUMBER('System Results'!GN32),'System Results'!GN32,0)","v":0},{"$f":"+IF(ISNUMBER('System Results'!GQ32),'System Results'!GQ32,0)","v":0},{"$f":"+IF(ISNUMBER('System Results'!GT32),'System Results'!GT32,0)","v":0},{"$f":"+IF(ISNUMBER('System Results'!GW32),'System Results'!GW32,0)","v":0},{"$f":"+IF(ISNUMBER('System Results'!GZ32),'System Results'!GZ32,0)","v":0},{"$f":"+IF(ISNUMBER('System Results'!HC32),'System Results'!HC32,0)","v":0},{"$f":"+IF(ISNUMBER('System Results'!HF32),'System Results'!HF32,0)","v":0},{"$f":"+IF(ISNUMBER('System Results'!HI32),'System Results'!HI32,0)","v":0},{"$f":"+IF(ISNUMBER('System Results'!HL32),'System Results'!HL32,0)","v":0},{"$f":"+IF(ISNUMBER('System Results'!HO32),'System Results'!HO32,0)","v":0},{"$f":"+IF(ISNUMBER('System Results'!HR32),'System Results'!HR32,0)","v":0},{"$f":"+IF(ISNUMBER('System Results'!HU32),'System Results'!HU32,0)","v":0},{"$f":"+IF(ISNUMBER('System Results'!HX32),'System Results'!HX32,0)","v":0},{"$f":"+IF(ISNUMBER('System Results'!IA32),'System Results'!IA32,0)","v":0},{"$f":"+IF(ISNUMBER('System Results'!ID32),'System Results'!ID32,0)","v":0},{"$f":"+IF(ISNUMBER('System Results'!IG32),'System Results'!IG32,0)","v":0},{"$f":"+IF(ISNUMBER('System Results'!IJ32),'System Results'!IJ32,0)","v":0},{"$f":"+IF(ISNUMBER('System Results'!IM32),'System Results'!IM32,0)","v":0},{"$f":"+IF(ISNUMBER('System Results'!IP32),'System Results'!IP32,0)","v":0},{"$f":"+IF(ISNUMBER('System Results'!IS32),'System Results'!IS32,0)","v":0},{"$f":"+IF(ISNUMBER('System Results'!IV32),'System Results'!IV32,0)","v":0},{"$f":"+IF(ISNUMBER('System Results'!IY32),'System Results'!IY32,0)","v":0},{"$f":"+IF(ISNUMBER('System Results'!JB32),'System Results'!JB32,0)","v":0},{"$f":"+IF(ISNUMBER('System Results'!JE32),'System Results'!JE32,0)","v":0},{"$f":"+IF(ISNUMBER('System Results'!JH32),'System Results'!JH32,0)","v":0},{"$f":"+IF(ISNUMBER('System Results'!JK32),'System Results'!JK32,0)","v":0},{"$f":"+IF(ISNUMBER('System Results'!JN32),'System Results'!JN32,0)","v":0},{"$f":"+IF(ISNUMBER('System Results'!JQ32),'System Results'!JQ32,0)","v":0},{"$f":"+IF(ISNUMBER('System Results'!JT32),'System Results'!JT32,0)","v":0},{"$f":"+IF(ISNUMBER('System Results'!JW32),'System Results'!JW32,0)","v":0},{"$f":"+IF(ISNUMBER('System Results'!JZ32),'System Results'!JZ32,0)","v":0},{"$f":"+IF(ISNUMBER('System Results'!KC32),'System Results'!KC32,0)","v":0},{"$f":"+IF(ISNUMBER('System Results'!KF32),'System Results'!KF32,0)","v":0},{"$f":"+IF(ISNUMBER('System Results'!KI32),'System Results'!KI32,0)","v":0},{"$f":"+IF(ISNUMBER('System Results'!KL32),'System Results'!KL32,0)","v":0},{"$f":"+IF(ISNUMBER('System Results'!KO32),'System Results'!KO32,0)","v":0},{"$f":"+IF(ISNUMBER('System Results'!KR32),'System Results'!KR32,0)","v":0},{"$f":"+IF(ISNUMBER('System Results'!KU32),'System Results'!KU32,0)","v":0},{"$f":"+IF(ISNUMBER('System Results'!KX32),'System Results'!KX32,0)","v":0},{"$f":"+IF(ISNUMBER('System Results'!LA32),'System Results'!LA32,0)","v":0},{"$f":"+IF(ISNUMBER('System Results'!LD32),'System Results'!LD32,0)","v":0},{"$f":"+IF(ISNUMBER('System Results'!LG32),'System Results'!LG32,0)","v":0},{"$f":"+IF(ISNUMBER('System Results'!LJ32),'System Results'!LJ32,0)","v":0},{"$f":"+IF(ISNUMBER('System Results'!LM32),'System Results'!LM32,0)","v":0},{"$f":"+IF(ISNUMBER('System Results'!LP32),'System Results'!LP32,0)","v":0},{"$f":"+IF(ISNUMBER('System Results'!LS32),'System Results'!LS32,0)","v":0},{"$f":"+IF(ISNUMBER('System Results'!LV32),'System Results'!LV32,0)","v":0},{"$f":"+IF(ISNUMBER('System Results'!LY32),'System Results'!LY32,0)","v":0},{"$f":"+IF(ISNUMBER('System Results'!MB32),'System Results'!MB32,0)","v":0},{"$f":"+IF(ISNUMBER('System Results'!ME32),'System Results'!ME32,0)","v":0},{"$f":"+IF(ISNUMBER('System Results'!MH32),'System Results'!MH32,0)","v":0},{"$f":"+IF(ISNUMBER('System Results'!MK32),'System Results'!MK32,0)","v":0},{"$f":"+IF(ISNUMBER('System Results'!MN32),'System Results'!MN32,0)","v":0},{"$f":"+IF(ISNUMBER('System Results'!MQ32),'System Results'!MQ32,0)","v":0},{"$f":"+IF(ISNUMBER('System Results'!MT32),'System Results'!MT32,0)","v":0},{"$f":"+IF(ISNUMBER('System Results'!MW32),'System Results'!MW32,0)","v":0},{"$f":"+IF(ISNUMBER('System Results'!MZ32),'System Results'!MZ32,0)","v":0},{"$f":"+IF(ISNUMBER('System Results'!NC32),'System Results'!NC32,0)","v":0},{"$f":"+IF(ISNUMBER('System Results'!NF32),'System Results'!NF32,0)","v":0},{"$f":"+IF(ISNUMBER('System Results'!NI32),'System Results'!NI32,0)","v":0},{"$f":"+IF(ISNUMBER('System Results'!NL32),'System Results'!NL32,0)","v":0},{"$f":"+IF(ISNUMBER('System Results'!NO32),'System Results'!NO32,0)","v":0},{"$f":"+IF(ISNUMBER('System Results'!NR32),'System Results'!NR32,0)","v":0},{"$f":"+IF(ISNUMBER('System Results'!NU32),'System Results'!NU32,0)","v":0},{"$f":"+IF(ISNUMBER('System Results'!NX32),'System Results'!NX32,0)","v":0},{"$f":"+IF(ISNUMBER('System Results'!OA32),'System Results'!OA32,0)","v":0},{"$f":"+IF(ISNUMBER('System Results'!OD32),'System Results'!OD32,0)","v":0},{"$f":"+IF(ISNUMBER('System Results'!OG32),'System Results'!OG32,0)","v":0},{"$f":"+IF(ISNUMBER('System Results'!OJ32),'System Results'!OJ32,0)","v":0},{"$f":"+IF(ISNUMBER('System Results'!OM32),'System Results'!OM32,0)","v":0},{"$f":"+IF(ISNUMBER('System Results'!OP32),'System Results'!OP32,0)","v":0},{"$f":"+IF(ISNUMBER('System Results'!OS32),'System Results'!OS32,0)","v":0},{"$f":"+IF(ISNUMBER('System Results'!OV32),'System Results'!OV32,0)","v":0},{"$f":"+IF(ISNUMBER('System Results'!OY32),'System Results'!OY32,0)","v":0},{"$f":"+IF(ISNUMBER('System Results'!PB32),'System Results'!PB32,0)","v":0},{"$f":"+IF(ISNUMBER('System Results'!PE32),'System Results'!PE32,0)","v":0},{"$f":"+IF(ISNUMBER('System Results'!PH32),'System Results'!PH32,0)","v":0},{"$f":"+IF(ISNUMBER('System Results'!PK32),'System Results'!PK32,0)","v":0},{"$f":"+IF(ISNUMBER('System Results'!PN32),'System Results'!PN32,0)","v":0},{"$f":"+IF(ISNUMBER('System Results'!PQ32),'System Results'!PQ32,0)","v":0},{"$f":"+IF(ISNUMBER('System Results'!PT32),'System Results'!PT32,0)","v":0},{"$f":"+IF(ISNUMBER('System Results'!PW32),'System Results'!PW32,0)","v":0},{"$f":"+IF(ISNUMBER('System Results'!PZ32),'System Results'!PZ32,0)","v":0},{"$f":"+IF(ISNUMBER('System Results'!QC32),'System Results'!QC32,0)","v":0},{"$f":"+IF(ISNUMBER('System Results'!QF32),'System Results'!QF32,0)","v":0},{"$f":"+IF(ISNUMBER('System Results'!QI32),'System Results'!QI32,0)","v":0},{"$f":"+IF(ISNUMBER('System Results'!QL32),'System Results'!QL32,0)","v":0},{"$f":"+IF(ISNUMBER('System Results'!QO32),'System Results'!QO32,0)","v":0},{"$f":"+IF(ISNUMBER('System Results'!QR32),'System Results'!QR32,0)","v":0},{"$f":"+IF(ISNUMBER('System Results'!QU32),'System Results'!QU32,0)","v":0},{"$f":"+IF(ISNUMBER('System Results'!QX32),'System Results'!QX32,0)","v":0},{"$f":"+IF(ISNUMBER('System Results'!RA32),'System Results'!RA32,0)","v":0},{"$f":"+IF(ISNUMBER('System Results'!RD32),'System Results'!RD32,0)","v":0},{"$f":"+IF(ISNUMBER('System Results'!RG32),'System Results'!RG32,0)","v":0},{"$f":"+IF(ISNUMBER('System Results'!RJ32),'System Results'!RJ32,0)","v":0},{"$f":"+IF(ISNUMBER('System Results'!RM32),'System Results'!RM32,0)","v":0},{"$f":"+IF(ISNUMBER('System Results'!RP32),'System Results'!RP32,0)","v":0},{"$f":"+IF(ISNUMBER('System Results'!RS32),'System Results'!RS32,0)","v":0},{"$f":"+IF(ISNUMBER('System Results'!RV32),'System Results'!RV32,0)","v":0},{"$f":"+IF(ISNUMBER('System Results'!RY32),'System Results'!RY32,0)","v":0},{"$f":"+IF(ISNUMBER('System Results'!SB32),'System Results'!SB32,0)","v":0},{"$f":"+IF(ISNUMBER('System Results'!SE32),'System Results'!SE32,0)","v":0},{"$f":"+IF(ISNUMBER('System Results'!SH32),'System Results'!SH32,0)","v":0},{"$f":"+IF(ISNUMBER('System Results'!SK32),'System Results'!SK32,0)","v":0},{"$f":"+IF(ISNUMBER('System Results'!SN32),'System Results'!SN32,0)","v":0},{"$f":"+IF(ISNUMBER('System Results'!SQ32),'System Results'!SQ32,0)","v":0},{"$f":"+IF(ISNUMBER('System Results'!ST32),'System Results'!ST32,0)","v":0},{"$f":"+IF(ISNUMBER('System Results'!SW32),'System Results'!SW32,0)","v":0},{"$f":"+IF(ISNUMBER('System Results'!SZ32),'System Results'!SZ32,0)","v":0},{"$f":"+IF(ISNUMBER('System Results'!TC32),'System Results'!TC32,0)","v":0},{"$f":"+IF(ISNUMBER('System Results'!TF32),'System Results'!TF32,0)","v":0},{"$f":"+IF(ISNUMBER('System Results'!TI32),'System Results'!TI32,0)","v":0},{"$f":"+IF(ISNUMBER('System Results'!TL32),'System Results'!TL32,0)","v":0},{"$f":"+IF(ISNUMBER('System Results'!TO32),'System Results'!TO32,0)","v":0},{"$f":"+IF(ISNUMBER('System Results'!TR32),'System Results'!TR32,0)","v":0},{"$f":"+IF(ISNUMBER('System Results'!TU32),'System Results'!TU32,0)","v":0},{"$f":"+IF(ISNUMBER('System Results'!TX32),'System Results'!TX32,0)","v":0},{"$f":"+IF(ISNUMBER('System Results'!UA32),'System Results'!UA32,0)","v":0},{"$f":"+IF(ISNUMBER('System Results'!UD32),'System Results'!UD32,0)","v":0},{"$f":"+IF(ISNUMBER('System Results'!UG32),'System Results'!UG32,0)","v":0},{"$f":"+IF(ISNUMBER('System Results'!UJ32),'System Results'!UJ32,0)","v":0},{"$f":"+IF(ISNUMBER('System Results'!UM32),'System Results'!UM32,0)","v":0},{"$f":"+IF(ISNUMBER('System Results'!UP32),'System Results'!UP32,0)","v":0},{"$f":"+IF(ISNUMBER('System Results'!US32),'System Results'!US32,0)","v":0},{"$f":"+IF(ISNUMBER('System Results'!UV32),'System Results'!UV32,0)","v":0},{"$f":"+IF(ISNUMBER('System Results'!UY32),'System Results'!UY32,0)","v":0},{"$f":"+IF(ISNUMBER('System Results'!VB32),'System Results'!VB32,0)","v":0},{"$f":"+IF(ISNUMBER('System Results'!VE32),'System Results'!VE32,0)","v":0},{"$f":"+IF(ISNUMBER('System Results'!VH32),'System Results'!VH32,0)","v":0},{"$f":"+IF(ISNUMBER('System Results'!VK32),'System Results'!VK32,0)","v":0},{"$f":"+IF(ISNUMBER('System Results'!VN32),'System Results'!VN32,0)","v":0},{"$f":"+IF(ISNUMBER('System Results'!VQ32),'System Results'!VQ32,0)","v":0},{"$f":"+IF(ISNUMBER('System Results'!VT32),'System Results'!VT32,0)","v":0},{"$f":"+IF(ISNUMBER('System Results'!VW32),'System Results'!VW32,0)","v":0},{"$f":"+IF(ISNUMBER('System Results'!VZ32),'System Results'!VZ32,0)","v":0},{"$f":"+IF(ISNUMBER('System Results'!WC32),'System Results'!WC32,0)","v":0},{"$f":"+IF(ISNUMBER('System Results'!WF32),'System Results'!WF32,0)","v":0},{"$f":"+IF(ISNUMBER('System Results'!WI32),'System Results'!WI32,0)","v":0},{"$f":"+IF(ISNUMBER('System Results'!WL32),'System Results'!WL32,0)","v":0},{"$f":"+IF(ISNUMBER('System Results'!WO32),'System Results'!WO32,0)","v":0},{"$f":"+IF(ISNUMBER('System Results'!WR32),'System Results'!WR32,0)","v":0},{"$f":"+IF(ISNUMBER('System Results'!WU32),'System Results'!WU32,0)","v":0},{"$f":"+IF(ISNUMBER('System Results'!WX32),'System Results'!WX32,0)","v":0},{"$f":"+IF(ISNUMBER('System Results'!XA32),'System Results'!XA32,0)","v":0},{"$f":"+IF(ISNUMBER('System Results'!XD32),'System Results'!XD32,0)","v":0},{"$f":"+IF(ISNUMBER('System Results'!XG32),'System Results'!XG32,0)","v":0},{"$f":"+IF(ISNUMBER('System Results'!XJ32),'System Results'!XJ32,0)","v":0},{"$f":"+IF(ISNUMBER('System Results'!XM32),'System Results'!XM32,0)","v":0},{"$f":"+IF(ISNUMBER('System Results'!XP32),'System Results'!XP32,0)","v":0},{"$f":"+IF(ISNUMBER('System Results'!XS32),'System Results'!XS32,0)","v":0},{"$f":"+IF(ISNUMBER('System Results'!XV32),'System Results'!XV32,0)","v":0},{"$f":"+IF(ISNUMBER('System Results'!XY32),'System Results'!XY32,0)","v":0},{"$f":"+IF(ISNUMBER('System Results'!YB32),'System Results'!YB32,0)","v":0},{"$f":"+IF(ISNUMBER('System Results'!YE32),'System Results'!YE32,0)","v":0},{"$f":"+IF(ISNUMBER('System Results'!YH32),'System Results'!YH32,0)","v":0},{"$f":"+IF(ISNUMBER('System Results'!YK32),'System Results'!YK32,0)","v":0},{"$f":"+IF(ISNUMBER('System Results'!YN32),'System Results'!YN32,0)","v":0},{"$f":"+IF(ISNUMBER('System Results'!YQ32),'System Results'!YQ32,0)","v":0},{"$f":"+IF(ISNUMBER('System Results'!YT32),'System Results'!YT32,0)","v":0},{"$f":"+IF(ISNUMBER('System Results'!YW32),'System Results'!YW32,0)","v":0},{"$f":"+IF(ISNUMBER('System Results'!YZ32),'System Results'!YZ32,0)","v":0},{"$f":"+IF(ISNUMBER('System Results'!ZC32),'System Results'!ZC32,0)","v":0},{"$f":"+IF(ISNUMBER('System Results'!ZF32),'System Results'!ZF32,0)","v":0},{"$f":"+IF(ISNUMBER('System Results'!ZI32),'System Results'!ZI32,0)","v":0},{"$f":"+IF(ISNUMBER('System Results'!ZL32),'System Results'!ZL32,0)","v":0},{"$f":"+IF(ISNUMBER('System Results'!ZO32),'System Results'!ZO32,0)","v":0},{"$f":"+IF(ISNUMBER('System Results'!ZR32),'System Results'!ZR32,0)","v":0},{"$f":"+IF(ISNUMBER('System Results'!ZU32),'System Results'!ZU32,0)","v":0},{"$f":"+IF(ISNUMBER('System Results'!ZX32),'System Results'!ZX32,0)","v":0},{"$f":"+IF(ISNUMBER('System Results'!AAA32),'System Results'!AAA32,0)","v":0},{"$f":"+IF(ISNUMBER('System Results'!AAD32),'System Results'!AAD32,0)","v":0},{"$f":"+IF(ISNUMBER('System Results'!AAG32),'System Results'!AAG32,0)","v":0},{"$f":"+IF(ISNUMBER('System Results'!AAJ32),'System Results'!AAJ32,0)","v":0},{"$f":"+IF(ISNUMBER('System Results'!AAM32),'System Results'!AAM32,0)","v":0},{"$f":"+IF(ISNUMBER('System Results'!AAP32),'System Results'!AAP32,0)","v":0},{"$f":"+IF(ISNUMBER('System Results'!AAS32),'System Results'!AAS32,0)","v":0},{"$f":"+IF(ISNUMBER('System Results'!AAV32),'System Results'!AAV32,0)","v":0},{"$f":"+IF(ISNUMBER('System Results'!AAY32),'System Results'!AAY32,0)","v":0},{"$f":"+IF(ISNUMBER('System Results'!ABB32),'System Results'!ABB32,0)","v":0},{"$f":"+IF(ISNUMBER('System Results'!ABE32),'System Results'!ABE32,0)","v":0},{"$f":"+IF(ISNUMBER('System Results'!ABH32),'System Results'!ABH32,0)","v":0},{"$f":"+IF(ISNUMBER('System Results'!ABK32),'System Results'!ABK32,0)","v":0},{"$f":"+IF(ISNUMBER('System Results'!ABN32),'System Results'!ABN32,0)","v":0},{"$f":"+IF(ISNUMBER('System Results'!ABQ32),'System Results'!ABQ32,0)","v":0},{"$f":"+IF(ISNUMBER('System Results'!ABT32),'System Results'!ABT32,0)","v":0},{"$f":"+IF(ISNUMBER('System Results'!ABW32),'System Results'!ABW32,0)","v":0},{"$f":"+IF(ISNUMBER('System Results'!ABZ32),'System Results'!ABZ32,0)","v":0},{"$f":"+IF(ISNUMBER('System Results'!ACC32),'System Results'!ACC32,0)","v":0},{"$f":"+IF(ISNUMBER('System Results'!ACF32),'System Results'!ACF32,0)","v":0},{"$f":"+IF(ISNUMBER('System Results'!ACI32),'System Results'!ACI32,0)","v":0},{"$f":"+IF(ISNUMBER('System Results'!ACL32),'System Results'!ACL32,0)","v":0},{"$f":"+IF(ISNUMBER('System Results'!ACO32),'System Results'!ACO32,0)","v":0},{"$f":"+IF(ISNUMBER('System Results'!ACR32),'System Results'!ACR32,0)","v":0},{"$f":"+IF(ISNUMBER('System Results'!ACU32),'System Results'!ACU32,0)","v":0},{"$f":"+IF(ISNUMBER('System Results'!ACX32),'System Results'!ACX32,0)","v":0},{"$f":"+IF(ISNUMBER('System Results'!ADA32),'System Results'!ADA32,0)","v":0},{"$f":"+IF(ISNUMBER('System Results'!ADD32),'System Results'!ADD32,0)","v":0},{"$f":"+IF(ISNUMBER('System Results'!ADG32),'System Results'!ADG32,0)","v":0},{"$f":"+IF(ISNUMBER('System Results'!ADJ32),'System Results'!ADJ32,0)","v":0},{"$f":"+IF(ISNUMBER('System Results'!ADM32),'System Results'!ADM32,0)","v":0},{"$f":"+IF(ISNUMBER('System Results'!ADP32),'System Results'!ADP32,0)","v":0},{"$f":"+IF(ISNUMBER('System Results'!ADS32),'System Results'!ADS32,0)","v":0},{"$f":"+IF(ISNUMBER('System Results'!ADV32),'System Results'!ADV32,0)","v":0},{"$f":"+IF(ISNUMBER('System Results'!ADY32),'System Results'!ADY32,0)","v":0},{"$f":"+IF(ISNUMBER('System Results'!AEB32),'System Results'!AEB32,0)","v":0},{"$f":"+IF(ISNUMBER('System Results'!AEE32),'System Results'!AEE32,0)","v":0},{"$f":"+IF(ISNUMBER('System Results'!AEH32),'System Results'!AEH32,0)","v":0},{"$f":"+IF(ISNUMBER('System Results'!AEK32),'System Results'!AEK32,0)","v":0},{"$f":"+IF(ISNUMBER('System Results'!AEN32),'System Results'!AEN32,0)","v":0},{"$f":"+IF(ISNUMBER('System Results'!AEQ32),'System Results'!AEQ32,0)","v":0},{"$f":"+IF(ISNUMBER('System Results'!AET32),'System Results'!AET32,0)","v":0},{"$f":"+IF(ISNUMBER('System Results'!AEW32),'System Results'!AEW32,0)","v":0},{"$f":"+IF(ISNUMBER('System Results'!AEZ32),'System Results'!AEZ32,0)","v":0},{"$f":"+IF(ISNUMBER('System Results'!AFC32),'System Results'!AFC32,0)","v":0},{"$f":"+IF(ISNUMBER('System Results'!AFF32),'System Results'!AFF32,0)","v":0},{"$f":"+IF(ISNUMBER('System Results'!AFI32),'System Results'!AFI32,0)","v":0},{"$f":"+IF(ISNUMBER('System Results'!AFL32),'System Results'!AFL32,0)","v":0},{"$f":"+IF(ISNUMBER('System Results'!AFO32),'System Results'!AFO32,0)","v":0},{"$f":"+IF(ISNUMBER('System Results'!AFR32),'System Results'!AFR32,0)","v":0},{"$f":"+IF(ISNUMBER('System Results'!AFU32),'System Results'!AFU32,0)","v":0},{"$f":"+IF(ISNUMBER('System Results'!AFX32),'System Results'!AFX32,0)","v":0},{"$f":"+IF(ISNUMBER('System Results'!AGA32),'System Results'!AGA32,0)","v":0},{"$f":"+IF(ISNUMBER('System Results'!AGD32),'System Results'!AGD32,0)","v":0},{"$f":"+IF(ISNUMBER('System Results'!AGG32),'System Results'!AGG32,0)","v":0},{"$f":"+IF(ISNUMBER('System Results'!AGJ32),'System Results'!AGJ32,0)","v":0},{"$f":"+IF(ISNUMBER('System Results'!AGM32),'System Results'!AGM32,0)","v":0},{"$f":"+IF(ISNUMBER('System Results'!AGP32),'System Results'!AGP32,0)","v":0},{"$f":"+IF(ISNUMBER('System Results'!AGS32),'System Results'!AGS32,0)","v":0},{"$f":"+IF(ISNUMBER('System Results'!AGV32),'System Results'!AGV32,0)","v":0},{"$f":"+IF(ISNUMBER('System Results'!AGY32),'System Results'!AGY32,0)","v":0},{"$f":"+IF(ISNUMBER('System Results'!AHB32),'System Results'!AHB32,0)","v":0},{"$f":"+IF(ISNUMBER('System Results'!AHE32),'System Results'!AHE32,0)","v":0},{"$f":"+IF(ISNUMBER('System Results'!AHH32),'System Results'!AHH32,0)","v":0},{"$f":"+IF(ISNUMBER('System Results'!AHK32),'System Results'!AHK32,0)","v":0},{"$f":"+IF(ISNUMBER('System Results'!AHN32),'System Results'!AHN32,0)","v":0},{"$f":"+IF(ISNUMBER('System Results'!AHQ32),'System Results'!AHQ32,0)","v":0},{"$f":"+IF(ISNUMBER('System Results'!AHT32),'System Results'!AHT32,0)","v":0}]
[{"$f":"+'System Results'!B34","v":"Purchased electricity"},0,{"$f":"+IF(ISNUMBER('System Results'!G34),'System Results'!G34,0)","v":0},{"$f":"+IF(ISNUMBER('System Results'!J34),'System Results'!J34,0)","v":0},{"$f":"+IF(ISNUMBER('System Results'!M34),'System Results'!M34,0)","v":0},{"$f":"+IF(ISNUMBER('System Results'!P34),'System Results'!P34,0)","v":0},{"$f":"+IF(ISNUMBER('System Results'!S34),'System Results'!S34,0)","v":0},{"$f":"+IF(ISNUMBER('System Results'!V34),'System Results'!V34,0)","v":0},{"$f":"+IF(ISNUMBER('System Results'!Y34),'System Results'!Y34,0)","v":0},{"$f":"+IF(ISNUMBER('System Results'!AB34),'System Results'!AB34,0)","v":0},{"$f":"+IF(ISNUMBER('System Results'!AE34),'System Results'!AE34,0)","v":0},{"$f":"+IF(ISNUMBER('System Results'!AH34),'System Results'!AH34,0)","v":0},{"$f":"+IF(ISNUMBER('System Results'!AK34),'System Results'!AK34,0)","v":0},{"$f":"+IF(ISNUMBER('System Results'!AN34),'System Results'!AN34,0)","v":0},{"$f":"+IF(ISNUMBER('System Results'!AQ34),'System Results'!AQ34,0)","v":0},{"$f":"+IF(ISNUMBER('System Results'!AT34),'System Results'!AT34,0)","v":0},{"$f":"+IF(ISNUMBER('System Results'!AW34),'System Results'!AW34,0)","v":0},{"$f":"+IF(ISNUMBER('System Results'!AZ34),'System Results'!AZ34,0)","v":0},{"$f":"+IF(ISNUMBER('System Results'!BC34),'System Results'!BC34,0)","v":0},{"$f":"+IF(ISNUMBER('System Results'!BF34),'System Results'!BF34,0)","v":0},{"$f":"+IF(ISNUMBER('System Results'!BI34),'System Results'!BI34,0)","v":0},{"$f":"+IF(ISNUMBER('System Results'!BL34),'System Results'!BL34,0)","v":0},{"$f":"+IF(ISNUMBER('System Results'!BO34),'System Results'!BO34,0)","v":0},{"$f":"+IF(ISNUMBER('System Results'!BR34),'System Results'!BR34,0)","v":0},{"$f":"+IF(ISNUMBER('System Results'!BU34),'System Results'!BU34,0)","v":0},{"$f":"+IF(ISNUMBER('System Results'!BX34),'System Results'!BX34,0)","v":0},{"$f":"+IF(ISNUMBER('System Results'!CA34),'System Results'!CA34,0)","v":0},{"$f":"+IF(ISNUMBER('System Results'!CD34),'System Results'!CD34,0)","v":0},{"$f":"+IF(ISNUMBER('System Results'!CG34),'System Results'!CG34,0)","v":0},{"$f":"+IF(ISNUMBER('System Results'!CJ34),'System Results'!CJ34,0)","v":0},{"$f":"+IF(ISNUMBER('System Results'!CM34),'System Results'!CM34,0)","v":0},{"$f":"+IF(ISNUMBER('System Results'!CP34),'System Results'!CP34,0)","v":0},{"$f":"+IF(ISNUMBER('System Results'!CS34),'System Results'!CS34,0)","v":0},{"$f":"+IF(ISNUMBER('System Results'!CV34),'System Results'!CV34,0)","v":0},{"$f":"+IF(ISNUMBER('System Results'!CY34),'System Results'!CY34,0)","v":0},{"$f":"+IF(ISNUMBER('System Results'!DB34),'System Results'!DB34,0)","v":0},{"$f":"+IF(ISNUMBER('System Results'!DE34),'System Results'!DE34,0)","v":0},{"$f":"+IF(ISNUMBER('System Results'!DH34),'System Results'!DH34,0)","v":0},{"$f":"+IF(ISNUMBER('System Results'!DK34),'System Results'!DK34,0)","v":0},{"$f":"+IF(ISNUMBER('System Results'!DN34),'System Results'!DN34,0)","v":0},{"$f":"+IF(ISNUMBER('System Results'!DQ34),'System Results'!DQ34,0)","v":0},{"$f":"+IF(ISNUMBER('System Results'!DT34),'System Results'!DT34,0)","v":0},{"$f":"+IF(ISNUMBER('System Results'!DW34),'System Results'!DW34,0)","v":0},{"$f":"+IF(ISNUMBER('System Results'!DZ34),'System Results'!DZ34,0)","v":0},{"$f":"+IF(ISNUMBER('System Results'!EC34),'System Results'!EC34,0)","v":0},{"$f":"+IF(ISNUMBER('System Results'!EF34),'System Results'!EF34,0)","v":0},{"$f":"+IF(ISNUMBER('System Results'!EI34),'System Results'!EI34,0)","v":0},{"$f":"+IF(ISNUMBER('System Results'!EL34),'System Results'!EL34,0)","v":0},{"$f":"+IF(ISNUMBER('System Results'!EO34),'System Results'!EO34,0)","v":0},{"$f":"+IF(ISNUMBER('System Results'!ER34),'System Results'!ER34,0)","v":0},{"$f":"+IF(ISNUMBER('System Results'!EU34),'System Results'!EU34,0)","v":0},{"$f":"+IF(ISNUMBER('System Results'!EX34),'System Results'!EX34,0)","v":0},{"$f":"+IF(ISNUMBER('System Results'!FA34),'System Results'!FA34,0)","v":0},{"$f":"+IF(ISNUMBER('System Results'!FD34),'System Results'!FD34,0)","v":0},{"$f":"+IF(ISNUMBER('System Results'!FG34),'System Results'!FG34,0)","v":0},{"$f":"+IF(ISNUMBER('System Results'!FJ34),'System Results'!FJ34,0)","v":0},{"$f":"+IF(ISNUMBER('System Results'!FM34),'System Results'!FM34,0)","v":0},{"$f":"+IF(ISNUMBER('System Results'!FP34),'System Results'!FP34,0)","v":0},{"$f":"+IF(ISNUMBER('System Results'!FS34),'System Results'!FS34,0)","v":0},{"$f":"+IF(ISNUMBER('System Results'!FV34),'System Results'!FV34,0)","v":0},{"$f":"+IF(ISNUMBER('System Results'!FY34),'System Results'!FY34,0)","v":0},{"$f":"+IF(ISNUMBER('System Results'!GB34),'System Results'!GB34,0)","v":0},{"$f":"+IF(ISNUMBER('System Results'!GE34),'System Results'!GE34,0)","v":0},{"$f":"+IF(ISNUMBER('System Results'!GH34),'System Results'!GH34,0)","v":0},{"$f":"+IF(ISNUMBER('System Results'!GK34),'System Results'!GK34,0)","v":0},{"$f":"+IF(ISNUMBER('System Results'!GN34),'System Results'!GN34,0)","v":0},{"$f":"+IF(ISNUMBER('System Results'!GQ34),'System Results'!GQ34,0)","v":0},{"$f":"+IF(ISNUMBER('System Results'!GT34),'System Results'!GT34,0)","v":0},{"$f":"+IF(ISNUMBER('System Results'!GW34),'System Results'!GW34,0)","v":0},{"$f":"+IF(ISNUMBER('System Results'!GZ34),'System Results'!GZ34,0)","v":0},{"$f":"+IF(ISNUMBER('System Results'!HC34),'System Results'!HC34,0)","v":0},{"$f":"+IF(ISNUMBER('System Results'!HF34),'System Results'!HF34,0)","v":0},{"$f":"+IF(ISNUMBER('System Results'!HI34),'System Results'!HI34,0)","v":0},{"$f":"+IF(ISNUMBER('System Results'!HL34),'System Results'!HL34,0)","v":0},{"$f":"+IF(ISNUMBER('System Results'!HO34),'System Results'!HO34,0)","v":0},{"$f":"+IF(ISNUMBER('System Results'!HR34),'System Results'!HR34,0)","v":0},{"$f":"+IF(ISNUMBER('System Results'!HU34),'System Results'!HU34,0)","v":0},{"$f":"+IF(ISNUMBER('System Results'!HX34),'System Results'!HX34,0)","v":0},{"$f":"+IF(ISNUMBER('System Results'!IA34),'System Results'!IA34,0)","v":0},{"$f":"+IF(ISNUMBER('System Results'!ID34),'System Results'!ID34,0)","v":0},{"$f":"+IF(ISNUMBER('System Results'!IG34),'System Results'!IG34,0)","v":0},{"$f":"+IF(ISNUMBER('System Results'!IJ34),'System Results'!IJ34,0)","v":0},{"$f":"+IF(ISNUMBER('System Results'!IM34),'System Results'!IM34,0)","v":0},{"$f":"+IF(ISNUMBER('System Results'!IP34),'System Results'!IP34,0)","v":0},{"$f":"+IF(ISNUMBER('System Results'!IS34),'System Results'!IS34,0)","v":0},{"$f":"+IF(ISNUMBER('System Results'!IV34),'System Results'!IV34,0)","v":0},{"$f":"+IF(ISNUMBER('System Results'!IY34),'System Results'!IY34,0)","v":0},{"$f":"+IF(ISNUMBER('System Results'!JB34),'System Results'!JB34,0)","v":0},{"$f":"+IF(ISNUMBER('System Results'!JE34),'System Results'!JE34,0)","v":0},{"$f":"+IF(ISNUMBER('System Results'!JH34),'System Results'!JH34,0)","v":0},{"$f":"+IF(ISNUMBER('System Results'!JK34),'System Results'!JK34,0)","v":0},{"$f":"+IF(ISNUMBER('System Results'!JN34),'System Results'!JN34,0)","v":0},{"$f":"+IF(ISNUMBER('System Results'!JQ34),'System Results'!JQ34,0)","v":0},{"$f":"+IF(ISNUMBER('System Results'!JT34),'System Results'!JT34,0)","v":0},{"$f":"+IF(ISNUMBER('System Results'!JW34),'System Results'!JW34,0)","v":0},{"$f":"+IF(ISNUMBER('System Results'!JZ34),'System Results'!JZ34,0)","v":0},{"$f":"+IF(ISNUMBER('System Results'!KC34),'System Results'!KC34,0)","v":0},{"$f":"+IF(ISNUMBER('System Results'!KF34),'System Results'!KF34,0)","v":0},{"$f":"+IF(ISNUMBER('System Results'!KI34),'System Results'!KI34,0)","v":0},{"$f":"+IF(ISNUMBER('System Results'!KL34),'System Results'!KL34,0)","v":0},{"$f":"+IF(ISNUMBER('System Results'!KO34),'System Results'!KO34,0)","v":0},{"$f":"+IF(ISNUMBER('System Results'!KR34),'System Results'!KR34,0)","v":0},{"$f":"+IF(ISNUMBER('System Results'!KU34),'System Results'!KU34,0)","v":0},{"$f":"+IF(ISNUMBER('System Results'!KX34),'System Results'!KX34,0)","v":0},{"$f":"+IF(ISNUMBER('System Results'!LA34),'System Results'!LA34,0)","v":0},{"$f":"+IF(ISNUMBER('System Results'!LD34),'System Results'!LD34,0)","v":0},{"$f":"+IF(ISNUMBER('System Results'!LG34),'System Results'!LG34,0)","v":0},{"$f":"+IF(ISNUMBER('System Results'!LJ34),'System Results'!LJ34,0)","v":0},{"$f":"+IF(ISNUMBER('System Results'!LM34),'System Results'!LM34,0)","v":0},{"$f":"+IF(ISNUMBER('System Results'!LP34),'System Results'!LP34,0)","v":0},{"$f":"+IF(ISNUMBER('System Results'!LS34),'System Results'!LS34,0)","v":0},{"$f":"+IF(ISNUMBER('System Results'!LV34),'System Results'!LV34,0)","v":0},{"$f":"+IF(ISNUMBER('System Results'!LY34),'System Results'!LY34,0)","v":0},{"$f":"+IF(ISNUMBER('System Results'!MB34),'System Results'!MB34,0)","v":0},{"$f":"+IF(ISNUMBER('System Results'!ME34),'System Results'!ME34,0)","v":0},{"$f":"+IF(ISNUMBER('System Results'!MH34),'System Results'!MH34,0)","v":0},{"$f":"+IF(ISNUMBER('System Results'!MK34),'System Results'!MK34,0)","v":0},{"$f":"+IF(ISNUMBER('System Results'!MN34),'System Results'!MN34,0)","v":0},{"$f":"+IF(ISNUMBER('System Results'!MQ34),'System Results'!MQ34,0)","v":0},{"$f":"+IF(ISNUMBER('System Results'!MT34),'System Results'!MT34,0)","v":0},{"$f":"+IF(ISNUMBER('System Results'!MW34),'System Results'!MW34,0)","v":0},{"$f":"+IF(ISNUMBER('System Results'!MZ34),'System Results'!MZ34,0)","v":0},{"$f":"+IF(ISNUMBER('System Results'!NC34),'System Results'!NC34,0)","v":0},{"$f":"+IF(ISNUMBER('System Results'!NF34),'System Results'!NF34,0)","v":0},{"$f":"+IF(ISNUMBER('System Results'!NI34),'System Results'!NI34,0)","v":0},{"$f":"+IF(ISNUMBER('System Results'!NL34),'System Results'!NL34,0)","v":0},{"$f":"+IF(ISNUMBER('System Results'!NO34),'System Results'!NO34,0)","v":0},{"$f":"+IF(ISNUMBER('System Results'!NR34),'System Results'!NR34,0)","v":0},{"$f":"+IF(ISNUMBER('System Results'!NU34),'System Results'!NU34,0)","v":0},{"$f":"+IF(ISNUMBER('System Results'!NX34),'System Results'!NX34,0)","v":0},{"$f":"+IF(ISNUMBER('System Results'!OA34),'System Results'!OA34,0)","v":0},{"$f":"+IF(ISNUMBER('System Results'!OD34),'System Results'!OD34,0)","v":0},{"$f":"+IF(ISNUMBER('System Results'!OG34),'System Results'!OG34,0)","v":0},{"$f":"+IF(ISNUMBER('System Results'!OJ34),'System Results'!OJ34,0)","v":0},{"$f":"+IF(ISNUMBER('System Results'!OM34),'System Results'!OM34,0)","v":0},{"$f":"+IF(ISNUMBER('System Results'!OP34),'System Results'!OP34,0)","v":0},{"$f":"+IF(ISNUMBER('System Results'!OS34),'System Results'!OS34,0)","v":0},{"$f":"+IF(ISNUMBER('System Results'!OV34),'System Results'!OV34,0)","v":0},{"$f":"+IF(ISNUMBER('System Results'!OY34),'System Results'!OY34,0)","v":0},{"$f":"+IF(ISNUMBER('System Results'!PB34),'System Results'!PB34,0)","v":0},{"$f":"+IF(ISNUMBER('System Results'!PE34),'System Results'!PE34,0)","v":0},{"$f":"+IF(ISNUMBER('System Results'!PH34),'System Results'!PH34,0)","v":0},{"$f":"+IF(ISNUMBER('System Results'!PK34),'System Results'!PK34,0)","v":0},{"$f":"+IF(ISNUMBER('System Results'!PN34),'System Results'!PN34,0)","v":0},{"$f":"+IF(ISNUMBER('System Results'!PQ34),'System Results'!PQ34,0)","v":0},{"$f":"+IF(ISNUMBER('System Results'!PT34),'System Results'!PT34,0)","v":0},{"$f":"+IF(ISNUMBER('System Results'!PW34),'System Results'!PW34,0)","v":0},{"$f":"+IF(ISNUMBER('System Results'!PZ34),'System Results'!PZ34,0)","v":0},{"$f":"+IF(ISNUMBER('System Results'!QC34),'System Results'!QC34,0)","v":0},{"$f":"+IF(ISNUMBER('System Results'!QF34),'System Results'!QF34,0)","v":0},{"$f":"+IF(ISNUMBER('System Results'!QI34),'System Results'!QI34,0)","v":0},{"$f":"+IF(ISNUMBER('System Results'!QL34),'System Results'!QL34,0)","v":0},{"$f":"+IF(ISNUMBER('System Results'!QO34),'System Results'!QO34,0)","v":0},{"$f":"+IF(ISNUMBER('System Results'!QR34),'System Results'!QR34,0)","v":0},{"$f":"+IF(ISNUMBER('System Results'!QU34),'System Results'!QU34,0)","v":0},{"$f":"+IF(ISNUMBER('System Results'!QX34),'System Results'!QX34,0)","v":0},{"$f":"+IF(ISNUMBER('System Results'!RA34),'System Results'!RA34,0)","v":0},{"$f":"+IF(ISNUMBER('System Results'!RD34),'System Results'!RD34,0)","v":0},{"$f":"+IF(ISNUMBER('System Results'!RG34),'System Results'!RG34,0)","v":0},{"$f":"+IF(ISNUMBER('System Results'!RJ34),'System Results'!RJ34,0)","v":0},{"$f":"+IF(ISNUMBER('System Results'!RM34),'System Results'!RM34,0)","v":0},{"$f":"+IF(ISNUMBER('System Results'!RP34),'System Results'!RP34,0)","v":0},{"$f":"+IF(ISNUMBER('System Results'!RS34),'System Results'!RS34,0)","v":0},{"$f":"+IF(ISNUMBER('System Results'!RV34),'System Results'!RV34,0)","v":0},{"$f":"+IF(ISNUMBER('System Results'!RY34),'System Results'!RY34,0)","v":0},{"$f":"+IF(ISNUMBER('System Results'!SB34),'System Results'!SB34,0)","v":0},{"$f":"+IF(ISNUMBER('System Results'!SE34),'System Results'!SE34,0)","v":0},{"$f":"+IF(ISNUMBER('System Results'!SH34),'System Results'!SH34,0)","v":0},{"$f":"+IF(ISNUMBER('System Results'!SK34),'System Results'!SK34,0)","v":0},{"$f":"+IF(ISNUMBER('System Results'!SN34),'System Results'!SN34,0)","v":0},{"$f":"+IF(ISNUMBER('System Results'!SQ34),'System Results'!SQ34,0)","v":0},{"$f":"+IF(ISNUMBER('System Results'!ST34),'System Results'!ST34,0)","v":0},{"$f":"+IF(ISNUMBER('System Results'!SW34),'System Results'!SW34,0)","v":0},{"$f":"+IF(ISNUMBER('System Results'!SZ34),'System Results'!SZ34,0)","v":0},{"$f":"+IF(ISNUMBER('System Results'!TC34),'System Results'!TC34,0)","v":0},{"$f":"+IF(ISNUMBER('System Results'!TF34),'System Results'!TF34,0)","v":0},{"$f":"+IF(ISNUMBER('System Results'!TI34),'System Results'!TI34,0)","v":0},{"$f":"+IF(ISNUMBER('System Results'!TL34),'System Results'!TL34,0)","v":0},{"$f":"+IF(ISNUMBER('System Results'!TO34),'System Results'!TO34,0)","v":0},{"$f":"+IF(ISNUMBER('System Results'!TR34),'System Results'!TR34,0)","v":0},{"$f":"+IF(ISNUMBER('System Results'!TU34),'System Results'!TU34,0)","v":0},{"$f":"+IF(ISNUMBER('System Results'!TX34),'System Results'!TX34,0)","v":0},{"$f":"+IF(ISNUMBER('System Results'!UA34),'System Results'!UA34,0)","v":0},{"$f":"+IF(ISNUMBER('System Results'!UD34),'System Results'!UD34,0)","v":0},{"$f":"+IF(ISNUMBER('System Results'!UG34),'System Results'!UG34,0)","v":0},{"$f":"+IF(ISNUMBER('System Results'!UJ34),'System Results'!UJ34,0)","v":0},{"$f":"+IF(ISNUMBER('System Results'!UM34),'System Results'!UM34,0)","v":0},{"$f":"+IF(ISNUMBER('System Results'!UP34),'System Results'!UP34,0)","v":0},{"$f":"+IF(ISNUMBER('System Results'!US34),'System Results'!US34,0)","v":0},{"$f":"+IF(ISNUMBER('System Results'!UV34),'System Results'!UV34,0)","v":0},{"$f":"+IF(ISNUMBER('System Results'!UY34),'System Results'!UY34,0)","v":0},{"$f":"+IF(ISNUMBER('System Results'!VB34),'System Results'!VB34,0)","v":0},{"$f":"+IF(ISNUMBER('System Results'!VE34),'System Results'!VE34,0)","v":0},{"$f":"+IF(ISNUMBER('System Results'!VH34),'System Results'!VH34,0)","v":0},{"$f":"+IF(ISNUMBER('System Results'!VK34),'System Results'!VK34,0)","v":0},{"$f":"+IF(ISNUMBER('System Results'!VN34),'System Results'!VN34,0)","v":0},{"$f":"+IF(ISNUMBER('System Results'!VQ34),'System Results'!VQ34,0)","v":0},{"$f":"+IF(ISNUMBER('System Results'!VT34),'System Results'!VT34,0)","v":0},{"$f":"+IF(ISNUMBER('System Results'!VW34),'System Results'!VW34,0)","v":0},{"$f":"+IF(ISNUMBER('System Results'!VZ34),'System Results'!VZ34,0)","v":0},{"$f":"+IF(ISNUMBER('System Results'!WC34),'System Results'!WC34,0)","v":0},{"$f":"+IF(ISNUMBER('System Results'!WF34),'System Results'!WF34,0)","v":0},{"$f":"+IF(ISNUMBER('System Results'!WI34),'System Results'!WI34,0)","v":0},{"$f":"+IF(ISNUMBER('System Results'!WL34),'System Results'!WL34,0)","v":0},{"$f":"+IF(ISNUMBER('System Results'!WO34),'System Results'!WO34,0)","v":0},{"$f":"+IF(ISNUMBER('System Results'!WR34),'System Results'!WR34,0)","v":0},{"$f":"+IF(ISNUMBER('System Results'!WU34),'System Results'!WU34,0)","v":0},{"$f":"+IF(ISNUMBER('System Results'!WX34),'System Results'!WX34,0)","v":0},{"$f":"+IF(ISNUMBER('System Results'!XA34),'System Results'!XA34,0)","v":0},{"$f":"+IF(ISNUMBER('System Results'!XD34),'System Results'!XD34,0)","v":0},{"$f":"+IF(ISNUMBER('System Results'!XG34),'System Results'!XG34,0)","v":0},{"$f":"+IF(ISNUMBER('System Results'!XJ34),'System Results'!XJ34,0)","v":0},{"$f":"+IF(ISNUMBER('System Results'!XM34),'System Results'!XM34,0)","v":0},{"$f":"+IF(ISNUMBER('System Results'!XP34),'System Results'!XP34,0)","v":0},{"$f":"+IF(ISNUMBER('System Results'!XS34),'System Results'!XS34,0)","v":0},{"$f":"+IF(ISNUMBER('System Results'!XV34),'System Results'!XV34,0)","v":0},{"$f":"+IF(ISNUMBER('System Results'!XY34),'System Results'!XY34,0)","v":0},{"$f":"+IF(ISNUMBER('System Results'!YB34),'System Results'!YB34,0)","v":0},{"$f":"+IF(ISNUMBER('System Results'!YE34),'System Results'!YE34,0)","v":0},{"$f":"+IF(ISNUMBER('System Results'!YH34),'System Results'!YH34,0)","v":0},{"$f":"+IF(ISNUMBER('System Results'!YK34),'System Results'!YK34,0)","v":0},{"$f":"+IF(ISNUMBER('System Results'!YN34),'System Results'!YN34,0)","v":0},{"$f":"+IF(ISNUMBER('System Results'!YQ34),'System Results'!YQ34,0)","v":0},{"$f":"+IF(ISNUMBER('System Results'!YT34),'System Results'!YT34,0)","v":0},{"$f":"+IF(ISNUMBER('System Results'!YW34),'System Results'!YW34,0)","v":0},{"$f":"+IF(ISNUMBER('System Results'!YZ34),'System Results'!YZ34,0)","v":0},{"$f":"+IF(ISNUMBER('System Results'!ZC34),'System Results'!ZC34,0)","v":0},{"$f":"+IF(ISNUMBER('System Results'!ZF34),'System Results'!ZF34,0)","v":0},{"$f":"+IF(ISNUMBER('System Results'!ZI34),'System Results'!ZI34,0)","v":0},{"$f":"+IF(ISNUMBER('System Results'!ZL34),'System Results'!ZL34,0)","v":0},{"$f":"+IF(ISNUMBER('System Results'!ZO34),'System Results'!ZO34,0)","v":0},{"$f":"+IF(ISNUMBER('System Results'!ZR34),'System Results'!ZR34,0)","v":0},{"$f":"+IF(ISNUMBER('System Results'!ZU34),'System Results'!ZU34,0)","v":0},{"$f":"+IF(ISNUMBER('System Results'!ZX34),'System Results'!ZX34,0)","v":0},{"$f":"+IF(ISNUMBER('System Results'!AAA34),'System Results'!AAA34,0)","v":0},{"$f":"+IF(ISNUMBER('System Results'!AAD34),'System Results'!AAD34,0)","v":0},{"$f":"+IF(ISNUMBER('System Results'!AAG34),'System Results'!AAG34,0)","v":0},{"$f":"+IF(ISNUMBER('System Results'!AAJ34),'System Results'!AAJ34,0)","v":0},{"$f":"+IF(ISNUMBER('System Results'!AAM34),'System Results'!AAM34,0)","v":0},{"$f":"+IF(ISNUMBER('System Results'!AAP34),'System Results'!AAP34,0)","v":0},{"$f":"+IF(ISNUMBER('System Results'!AAS34),'System Results'!AAS34,0)","v":0},{"$f":"+IF(ISNUMBER('System Results'!AAV34),'System Results'!AAV34,0)","v":0},{"$f":"+IF(ISNUMBER('System Results'!AAY34),'System Results'!AAY34,0)","v":0},{"$f":"+IF(ISNUMBER('System Results'!ABB34),'System Results'!ABB34,0)","v":0},{"$f":"+IF(ISNUMBER('System Results'!ABE34),'System Results'!ABE34,0)","v":0},{"$f":"+IF(ISNUMBER('System Results'!ABH34),'System Results'!ABH34,0)","v":0},{"$f":"+IF(ISNUMBER('System Results'!ABK34),'System Results'!ABK34,0)","v":0},{"$f":"+IF(ISNUMBER('System Results'!ABN34),'System Results'!ABN34,0)","v":0},{"$f":"+IF(ISNUMBER('System Results'!ABQ34),'System Results'!ABQ34,0)","v":0},{"$f":"+IF(ISNUMBER('System Results'!ABT34),'System Results'!ABT34,0)","v":0},{"$f":"+IF(ISNUMBER('System Results'!ABW34),'System Results'!ABW34,0)","v":0},{"$f":"+IF(ISNUMBER('System Results'!ABZ34),'System Results'!ABZ34,0)","v":0},{"$f":"+IF(ISNUMBER('System Results'!ACC34),'System Results'!ACC34,0)","v":0},{"$f":"+IF(ISNUMBER('System Results'!ACF34),'System Results'!ACF34,0)","v":0},{"$f":"+IF(ISNUMBER('System Results'!ACI34),'System Results'!ACI34,0)","v":0},{"$f":"+IF(ISNUMBER('System Results'!ACL34),'System Results'!ACL34,0)","v":0},{"$f":"+IF(ISNUMBER('System Results'!ACO34),'System Results'!ACO34,0)","v":0},{"$f":"+IF(ISNUMBER('System Results'!ACR34),'System Results'!ACR34,0)","v":0},{"$f":"+IF(ISNUMBER('System Results'!ACU34),'System Results'!ACU34,0)","v":0},{"$f":"+IF(ISNUMBER('System Results'!ACX34),'System Results'!ACX34,0)","v":0},{"$f":"+IF(ISNUMBER('System Results'!ADA34),'System Results'!ADA34,0)","v":0},{"$f":"+IF(ISNUMBER('System Results'!ADD34),'System Results'!ADD34,0)","v":0},{"$f":"+IF(ISNUMBER('System Results'!ADG34),'System Results'!ADG34,0)","v":0},{"$f":"+IF(ISNUMBER('System Results'!ADJ34),'System Results'!ADJ34,0)","v":0},{"$f":"+IF(ISNUMBER('System Results'!ADM34),'System Results'!ADM34,0)","v":0},{"$f":"+IF(ISNUMBER('System Results'!ADP34),'System Results'!ADP34,0)","v":0},{"$f":"+IF(ISNUMBER('System Results'!ADS34),'System Results'!ADS34,0)","v":0},{"$f":"+IF(ISNUMBER('System Results'!ADV34),'System Results'!ADV34,0)","v":0},{"$f":"+IF(ISNUMBER('System Results'!ADY34),'System Results'!ADY34,0)","v":0},{"$f":"+IF(ISNUMBER('System Results'!AEB34),'System Results'!AEB34,0)","v":0},{"$f":"+IF(ISNUMBER('System Results'!AEE34),'System Results'!AEE34,0)","v":0},{"$f":"+IF(ISNUMBER('System Results'!AEH34),'System Results'!AEH34,0)","v":0},{"$f":"+IF(ISNUMBER('System Results'!AEK34),'System Results'!AEK34,0)","v":0},{"$f":"+IF(ISNUMBER('System Results'!AEN34),'System Results'!AEN34,0)","v":0},{"$f":"+IF(ISNUMBER('System Results'!AEQ34),'System Results'!AEQ34,0)","v":0},{"$f":"+IF(ISNUMBER('System Results'!AET34),'System Results'!AET34,0)","v":0},{"$f":"+IF(ISNUMBER('System Results'!AEW34),'System Results'!AEW34,0)","v":0},{"$f":"+IF(ISNUMBER('System Results'!AEZ34),'System Results'!AEZ34,0)","v":0},{"$f":"+IF(ISNUMBER('System Results'!AFC34),'System Results'!AFC34,0)","v":0},{"$f":"+IF(ISNUMBER('System Results'!AFF34),'System Results'!AFF34,0)","v":0},{"$f":"+IF(ISNUMBER('System Results'!AFI34),'System Results'!AFI34,0)","v":0},{"$f":"+IF(ISNUMBER('System Results'!AFL34),'System Results'!AFL34,0)","v":0},{"$f":"+IF(ISNUMBER('System Results'!AFO34),'System Results'!AFO34,0)","v":0},{"$f":"+IF(ISNUMBER('System Results'!AFR34),'System Results'!AFR34,0)","v":0},{"$f":"+IF(ISNUMBER('System Results'!AFU34),'System Results'!AFU34,0)","v":0},{"$f":"+IF(ISNUMBER('System Results'!AFX34),'System Results'!AFX34,0)","v":0},{"$f":"+IF(ISNUMBER('System Results'!AGA34),'System Results'!AGA34,0)","v":0},{"$f":"+IF(ISNUMBER('System Results'!AGD34),'System Results'!AGD34,0)","v":0},{"$f":"+IF(ISNUMBER('System Results'!AGG34),'System Results'!AGG34,0)","v":0},{"$f":"+IF(ISNUMBER('System Results'!AGJ34),'System Results'!AGJ34,0)","v":0},{"$f":"+IF(ISNUMBER('System Results'!AGM34),'System Results'!AGM34,0)","v":0},{"$f":"+IF(ISNUMBER('System Results'!AGP34),'System Results'!AGP34,0)","v":0},{"$f":"+IF(ISNUMBER('System Results'!AGS34),'System Results'!AGS34,0)","v":0},{"$f":"+IF(ISNUMBER('System Results'!AGV34),'System Results'!AGV34,0)","v":0},{"$f":"+IF(ISNUMBER('System Results'!AGY34),'System Results'!AGY34,0)","v":0},{"$f":"+IF(ISNUMBER('System Results'!AHB34),'System Results'!AHB34,0)","v":0},{"$f":"+IF(ISNUMBER('System Results'!AHE34),'System Results'!AHE34,0)","v":0},{"$f":"+IF(ISNUMBER('System Results'!AHH34),'System Results'!AHH34,0)","v":0},{"$f":"+IF(ISNUMBER('System Results'!AHK34),'System Results'!AHK34,0)","v":0},{"$f":"+IF(ISNUMBER('System Results'!AHN34),'System Results'!AHN34,0)","v":0},{"$f":"+IF(ISNUMBER('System Results'!AHQ34),'System Results'!AHQ34,0)","v":0},{"$f":"+IF(ISNUMBER('System Results'!AHT34),'System Results'!AHT34,0)","v":0}]
[{"$f":"+'System Results'!B35","v":"Purchased steam, heat and cooling"},0,{"$f":"+IF(ISNUMBER('System Results'!G35),'System Results'!G35,0)","v":0},{"$f":"+IF(ISNUMBER('System Results'!J35),'System Results'!J35,0)","v":0},{"$f":"+IF(ISNUMBER('System Results'!M35),'System Results'!M35,0)","v":0},{"$f":"+IF(ISNUMBER('System Results'!P35),'System Results'!P35,0)","v":0},{"$f":"+IF(ISNUMBER('System Results'!S35),'System Results'!S35,0)","v":0},{"$f":"+IF(ISNUMBER('System Results'!V35),'System Results'!V35,0)","v":0},{"$f":"+IF(ISNUMBER('System Results'!Y35),'System Results'!Y35,0)","v":0},{"$f":"+IF(ISNUMBER('System Results'!AB35),'System Results'!AB35,0)","v":0},{"$f":"+IF(ISNUMBER('System Results'!AE35),'System Results'!AE35,0)","v":0},{"$f":"+IF(ISNUMBER('System Results'!AH35),'System Results'!AH35,0)","v":0},{"$f":"+IF(ISNUMBER('System Results'!AK35),'System Results'!AK35,0)","v":0},{"$f":"+IF(ISNUMBER('System Results'!AN35),'System Results'!AN35,0)","v":0},{"$f":"+IF(ISNUMBER('System Results'!AQ35),'System Results'!AQ35,0)","v":0},{"$f":"+IF(ISNUMBER('System Results'!AT35),'System Results'!AT35,0)","v":0},{"$f":"+IF(ISNUMBER('System Results'!AW35),'System Results'!AW35,0)","v":0},{"$f":"+IF(ISNUMBER('System Results'!AZ35),'System Results'!AZ35,0)","v":0},{"$f":"+IF(ISNUMBER('System Results'!BC35),'System Results'!BC35,0)","v":0},{"$f":"+IF(ISNUMBER('System Results'!BF35),'System Results'!BF35,0)","v":0},{"$f":"+IF(ISNUMBER('System Results'!BI35),'System Results'!BI35,0)","v":0},{"$f":"+IF(ISNUMBER('System Results'!BL35),'System Results'!BL35,0)","v":0},{"$f":"+IF(ISNUMBER('System Results'!BO35),'System Results'!BO35,0)","v":0},{"$f":"+IF(ISNUMBER('System Results'!BR35),'System Results'!BR35,0)","v":0},{"$f":"+IF(ISNUMBER('System Results'!BU35),'System Results'!BU35,0)","v":0},{"$f":"+IF(ISNUMBER('System Results'!BX35),'System Results'!BX35,0)","v":0},{"$f":"+IF(ISNUMBER('System Results'!CA35),'System Results'!CA35,0)","v":0},{"$f":"+IF(ISNUMBER('System Results'!CD35),'System Results'!CD35,0)","v":0},{"$f":"+IF(ISNUMBER('System Results'!CG35),'System Results'!CG35,0)","v":0},{"$f":"+IF(ISNUMBER('System Results'!CJ35),'System Results'!CJ35,0)","v":0},{"$f":"+IF(ISNUMBER('System Results'!CM35),'System Results'!CM35,0)","v":0},{"$f":"+IF(ISNUMBER('System Results'!CP35),'System Results'!CP35,0)","v":0},{"$f":"+IF(ISNUMBER('System Results'!CS35),'System Results'!CS35,0)","v":0},{"$f":"+IF(ISNUMBER('System Results'!CV35),'System Results'!CV35,0)","v":0},{"$f":"+IF(ISNUMBER('System Results'!CY35),'System Results'!CY35,0)","v":0},{"$f":"+IF(ISNUMBER('System Results'!DB35),'System Results'!DB35,0)","v":0},{"$f":"+IF(ISNUMBER('System Results'!DE35),'System Results'!DE35,0)","v":0},{"$f":"+IF(ISNUMBER('System Results'!DH35),'System Results'!DH35,0)","v":0},{"$f":"+IF(ISNUMBER('System Results'!DK35),'System Results'!DK35,0)","v":0},{"$f":"+IF(ISNUMBER('System Results'!DN35),'System Results'!DN35,0)","v":0},{"$f":"+IF(ISNUMBER('System Results'!DQ35),'System Results'!DQ35,0)","v":0},{"$f":"+IF(ISNUMBER('System Results'!DT35),'System Results'!DT35,0)","v":0},{"$f":"+IF(ISNUMBER('System Results'!DW35),'System Results'!DW35,0)","v":0},{"$f":"+IF(ISNUMBER('System Results'!DZ35),'System Results'!DZ35,0)","v":0},{"$f":"+IF(ISNUMBER('System Results'!EC35),'System Results'!EC35,0)","v":0},{"$f":"+IF(ISNUMBER('System Results'!EF35),'System Results'!EF35,0)","v":0},{"$f":"+IF(ISNUMBER('System Results'!EI35),'System Results'!EI35,0)","v":0},{"$f":"+IF(ISNUMBER('System Results'!EL35),'System Results'!EL35,0)","v":0},{"$f":"+IF(ISNUMBER('System Results'!EO35),'System Results'!EO35,0)","v":0},{"$f":"+IF(ISNUMBER('System Results'!ER35),'System Results'!ER35,0)","v":0},{"$f":"+IF(ISNUMBER('System Results'!EU35),'System Results'!EU35,0)","v":0},{"$f":"+IF(ISNUMBER('System Results'!EX35),'System Results'!EX35,0)","v":0},{"$f":"+IF(ISNUMBER('System Results'!FA35),'System Results'!FA35,0)","v":0},{"$f":"+IF(ISNUMBER('System Results'!FD35),'System Results'!FD35,0)","v":0},{"$f":"+IF(ISNUMBER('System Results'!FG35),'System Results'!FG35,0)","v":0},{"$f":"+IF(ISNUMBER('System Results'!FJ35),'System Results'!FJ35,0)","v":0},{"$f":"+IF(ISNUMBER('System Results'!FM35),'System Results'!FM35,0)","v":0},{"$f":"+IF(ISNUMBER('System Results'!FP35),'System Results'!FP35,0)","v":0},{"$f":"+IF(ISNUMBER('System Results'!FS35),'System Results'!FS35,0)","v":0},{"$f":"+IF(ISNUMBER('System Results'!FV35),'System Results'!FV35,0)","v":0},{"$f":"+IF(ISNUMBER('System Results'!FY35),'System Results'!FY35,0)","v":0},{"$f":"+IF(ISNUMBER('System Results'!GB35),'System Results'!GB35,0)","v":0},{"$f":"+IF(ISNUMBER('System Results'!GE35),'System Results'!GE35,0)","v":0},{"$f":"+IF(ISNUMBER('System Results'!GH35),'System Results'!GH35,0)","v":0},{"$f":"+IF(ISNUMBER('System Results'!GK35),'System Results'!GK35,0)","v":0},{"$f":"+IF(ISNUMBER('System Results'!GN35),'System Results'!GN35,0)","v":0},{"$f":"+IF(ISNUMBER('System Results'!GQ35),'System Results'!GQ35,0)","v":0},{"$f":"+IF(ISNUMBER('System Results'!GT35),'System Results'!GT35,0)","v":0},{"$f":"+IF(ISNUMBER('System Results'!GW35),'System Results'!GW35,0)","v":0},{"$f":"+IF(ISNUMBER('System Results'!GZ35),'System Results'!GZ35,0)","v":0},{"$f":"+IF(ISNUMBER('System Results'!HC35),'System Results'!HC35,0)","v":0},{"$f":"+IF(ISNUMBER('System Results'!HF35),'System Results'!HF35,0)","v":0},{"$f":"+IF(ISNUMBER('System Results'!HI35),'System Results'!HI35,0)","v":0},{"$f":"+IF(ISNUMBER('System Results'!HL35),'System Results'!HL35,0)","v":0},{"$f":"+IF(ISNUMBER('System Results'!HO35),'System Results'!HO35,0)","v":0},{"$f":"+IF(ISNUMBER('System Results'!HR35),'System Results'!HR35,0)","v":0},{"$f":"+IF(ISNUMBER('System Results'!HU35),'System Results'!HU35,0)","v":0},{"$f":"+IF(ISNUMBER('System Results'!HX35),'System Results'!HX35,0)","v":0},{"$f":"+IF(ISNUMBER('System Results'!IA35),'System Results'!IA35,0)","v":0},{"$f":"+IF(ISNUMBER('System Results'!ID35),'System Results'!ID35,0)","v":0},{"$f":"+IF(ISNUMBER('System Results'!IG35),'System Results'!IG35,0)","v":0},{"$f":"+IF(ISNUMBER('System Results'!IJ35),'System Results'!IJ35,0)","v":0},{"$f":"+IF(ISNUMBER('System Results'!IM35),'System Results'!IM35,0)","v":0},{"$f":"+IF(ISNUMBER('System Results'!IP35),'System Results'!IP35,0)","v":0},{"$f":"+IF(ISNUMBER('System Results'!IS35),'System Results'!IS35,0)","v":0},{"$f":"+IF(ISNUMBER('System Results'!IV35),'System Results'!IV35,0)","v":0},{"$f":"+IF(ISNUMBER('System Results'!IY35),'System Results'!IY35,0)","v":0},{"$f":"+IF(ISNUMBER('System Results'!JB35),'System Results'!JB35,0)","v":0},{"$f":"+IF(ISNUMBER('System Results'!JE35),'System Results'!JE35,0)","v":0},{"$f":"+IF(ISNUMBER('System Results'!JH35),'System Results'!JH35,0)","v":0},{"$f":"+IF(ISNUMBER('System Results'!JK35),'System Results'!JK35,0)","v":0},{"$f":"+IF(ISNUMBER('System Results'!JN35),'System Results'!JN35,0)","v":0},{"$f":"+IF(ISNUMBER('System Results'!JQ35),'System Results'!JQ35,0)","v":0},{"$f":"+IF(ISNUMBER('System Results'!JT35),'System Results'!JT35,0)","v":0},{"$f":"+IF(ISNUMBER('System Results'!JW35),'System Results'!JW35,0)","v":0},{"$f":"+IF(ISNUMBER('System Results'!JZ35),'System Results'!JZ35,0)","v":0},{"$f":"+IF(ISNUMBER('System Results'!KC35),'System Results'!KC35,0)","v":0},{"$f":"+IF(ISNUMBER('System Results'!KF35),'System Results'!KF35,0)","v":0},{"$f":"+IF(ISNUMBER('System Results'!KI35),'System Results'!KI35,0)","v":0},{"$f":"+IF(ISNUMBER('System Results'!KL35),'System Results'!KL35,0)","v":0},{"$f":"+IF(ISNUMBER('System Results'!KO35),'System Results'!KO35,0)","v":0},{"$f":"+IF(ISNUMBER('System Results'!KR35),'System Results'!KR35,0)","v":0},{"$f":"+IF(ISNUMBER('System Results'!KU35),'System Results'!KU35,0)","v":0},{"$f":"+IF(ISNUMBER('System Results'!KX35),'System Results'!KX35,0)","v":0},{"$f":"+IF(ISNUMBER('System Results'!LA35),'System Results'!LA35,0)","v":0},{"$f":"+IF(ISNUMBER('System Results'!LD35),'System Results'!LD35,0)","v":0},{"$f":"+IF(ISNUMBER('System Results'!LG35),'System Results'!LG35,0)","v":0},{"$f":"+IF(ISNUMBER('System Results'!LJ35),'System Results'!LJ35,0)","v":0},{"$f":"+IF(ISNUMBER('System Results'!LM35),'System Results'!LM35,0)","v":0},{"$f":"+IF(ISNUMBER('System Results'!LP35),'System Results'!LP35,0)","v":0},{"$f":"+IF(ISNUMBER('System Results'!LS35),'System Results'!LS35,0)","v":0},{"$f":"+IF(ISNUMBER('System Results'!LV35),'System Results'!LV35,0)","v":0},{"$f":"+IF(ISNUMBER('System Results'!LY35),'System Results'!LY35,0)","v":0},{"$f":"+IF(ISNUMBER('System Results'!MB35),'System Results'!MB35,0)","v":0},{"$f":"+IF(ISNUMBER('System Results'!ME35),'System Results'!ME35,0)","v":0},{"$f":"+IF(ISNUMBER('System Results'!MH35),'System Results'!MH35,0)","v":0},{"$f":"+IF(ISNUMBER('System Results'!MK35),'System Results'!MK35,0)","v":0},{"$f":"+IF(ISNUMBER('System Results'!MN35),'System Results'!MN35,0)","v":0},{"$f":"+IF(ISNUMBER('System Results'!MQ35),'System Results'!MQ35,0)","v":0},{"$f":"+IF(ISNUMBER('System Results'!MT35),'System Results'!MT35,0)","v":0},{"$f":"+IF(ISNUMBER('System Results'!MW35),'System Results'!MW35,0)","v":0},{"$f":"+IF(ISNUMBER('System Results'!MZ35),'System Results'!MZ35,0)","v":0},{"$f":"+IF(ISNUMBER('System Results'!NC35),'System Results'!NC35,0)","v":0},{"$f":"+IF(ISNUMBER('System Results'!NF35),'System Results'!NF35,0)","v":0},{"$f":"+IF(ISNUMBER('System Results'!NI35),'System Results'!NI35,0)","v":0},{"$f":"+IF(ISNUMBER('System Results'!NL35),'System Results'!NL35,0)","v":0},{"$f":"+IF(ISNUMBER('System Results'!NO35),'System Results'!NO35,0)","v":0},{"$f":"+IF(ISNUMBER('System Results'!NR35),'System Results'!NR35,0)","v":0},{"$f":"+IF(ISNUMBER('System Results'!NU35),'System Results'!NU35,0)","v":0},{"$f":"+IF(ISNUMBER('System Results'!NX35),'System Results'!NX35,0)","v":0},{"$f":"+IF(ISNUMBER('System Results'!OA35),'System Results'!OA35,0)","v":0},{"$f":"+IF(ISNUMBER('System Results'!OD35),'System Results'!OD35,0)","v":0},{"$f":"+IF(ISNUMBER('System Results'!OG35),'System Results'!OG35,0)","v":0},{"$f":"+IF(ISNUMBER('System Results'!OJ35),'System Results'!OJ35,0)","v":0},{"$f":"+IF(ISNUMBER('System Results'!OM35),'System Results'!OM35,0)","v":0},{"$f":"+IF(ISNUMBER('System Results'!OP35),'System Results'!OP35,0)","v":0},{"$f":"+IF(ISNUMBER('System Results'!OS35),'System Results'!OS35,0)","v":0},{"$f":"+IF(ISNUMBER('System Results'!OV35),'System Results'!OV35,0)","v":0},{"$f":"+IF(ISNUMBER('System Results'!OY35),'System Results'!OY35,0)","v":0},{"$f":"+IF(ISNUMBER('System Results'!PB35),'System Results'!PB35,0)","v":0},{"$f":"+IF(ISNUMBER('System Results'!PE35),'System Results'!PE35,0)","v":0},{"$f":"+IF(ISNUMBER('System Results'!PH35),'System Results'!PH35,0)","v":0},{"$f":"+IF(ISNUMBER('System Results'!PK35),'System Results'!PK35,0)","v":0},{"$f":"+IF(ISNUMBER('System Results'!PN35),'System Results'!PN35,0)","v":0},{"$f":"+IF(ISNUMBER('System Results'!PQ35),'System Results'!PQ35,0)","v":0},{"$f":"+IF(ISNUMBER('System Results'!PT35),'System Results'!PT35,0)","v":0},{"$f":"+IF(ISNUMBER('System Results'!PW35),'System Results'!PW35,0)","v":0},{"$f":"+IF(ISNUMBER('System Results'!PZ35),'System Results'!PZ35,0)","v":0},{"$f":"+IF(ISNUMBER('System Results'!QC35),'System Results'!QC35,0)","v":0},{"$f":"+IF(ISNUMBER('System Results'!QF35),'System Results'!QF35,0)","v":0},{"$f":"+IF(ISNUMBER('System Results'!QI35),'System Results'!QI35,0)","v":0},{"$f":"+IF(ISNUMBER('System Results'!QL35),'System Results'!QL35,0)","v":0},{"$f":"+IF(ISNUMBER('System Results'!QO35),'System Results'!QO35,0)","v":0},{"$f":"+IF(ISNUMBER('System Results'!QR35),'System Results'!QR35,0)","v":0},{"$f":"+IF(ISNUMBER('System Results'!QU35),'System Results'!QU35,0)","v":0},{"$f":"+IF(ISNUMBER('System Results'!QX35),'System Results'!QX35,0)","v":0},{"$f":"+IF(ISNUMBER('System Results'!RA35),'System Results'!RA35,0)","v":0},{"$f":"+IF(ISNUMBER('System Results'!RD35),'System Results'!RD35,0)","v":0},{"$f":"+IF(ISNUMBER('System Results'!RG35),'System Results'!RG35,0)","v":0},{"$f":"+IF(ISNUMBER('System Results'!RJ35),'System Results'!RJ35,0)","v":0},{"$f":"+IF(ISNUMBER('System Results'!RM35),'System Results'!RM35,0)","v":0},{"$f":"+IF(ISNUMBER('System Results'!RP35),'System Results'!RP35,0)","v":0},{"$f":"+IF(ISNUMBER('System Results'!RS35),'System Results'!RS35,0)","v":0},{"$f":"+IF(ISNUMBER('System Results'!RV35),'System Results'!RV35,0)","v":0},{"$f":"+IF(ISNUMBER('System Results'!RY35),'System Results'!RY35,0)","v":0},{"$f":"+IF(ISNUMBER('System Results'!SB35),'System Results'!SB35,0)","v":0},{"$f":"+IF(ISNUMBER('System Results'!SE35),'System Results'!SE35,0)","v":0},{"$f":"+IF(ISNUMBER('System Results'!SH35),'System Results'!SH35,0)","v":0},{"$f":"+IF(ISNUMBER('System Results'!SK35),'System Results'!SK35,0)","v":0},{"$f":"+IF(ISNUMBER('System Results'!SN35),'System Results'!SN35,0)","v":0},{"$f":"+IF(ISNUMBER('System Results'!SQ35),'System Results'!SQ35,0)","v":0},{"$f":"+IF(ISNUMBER('System Results'!ST35),'System Results'!ST35,0)","v":0},{"$f":"+IF(ISNUMBER('System Results'!SW35),'System Results'!SW35,0)","v":0},{"$f":"+IF(ISNUMBER('System Results'!SZ35),'System Results'!SZ35,0)","v":0},{"$f":"+IF(ISNUMBER('System Results'!TC35),'System Results'!TC35,0)","v":0},{"$f":"+IF(ISNUMBER('System Results'!TF35),'System Results'!TF35,0)","v":0},{"$f":"+IF(ISNUMBER('System Results'!TI35),'System Results'!TI35,0)","v":0},{"$f":"+IF(ISNUMBER('System Results'!TL35),'System Results'!TL35,0)","v":0},{"$f":"+IF(ISNUMBER('System Results'!TO35),'System Results'!TO35,0)","v":0},{"$f":"+IF(ISNUMBER('System Results'!TR35),'System Results'!TR35,0)","v":0},{"$f":"+IF(ISNUMBER('System Results'!TU35),'System Results'!TU35,0)","v":0},{"$f":"+IF(ISNUMBER('System Results'!TX35),'System Results'!TX35,0)","v":0},{"$f":"+IF(ISNUMBER('System Results'!UA35),'System Results'!UA35,0)","v":0},{"$f":"+IF(ISNUMBER('System Results'!UD35),'System Results'!UD35,0)","v":0},{"$f":"+IF(ISNUMBER('System Results'!UG35),'System Results'!UG35,0)","v":0},{"$f":"+IF(ISNUMBER('System Results'!UJ35),'System Results'!UJ35,0)","v":0},{"$f":"+IF(ISNUMBER('System Results'!UM35),'System Results'!UM35,0)","v":0},{"$f":"+IF(ISNUMBER('System Results'!UP35),'System Results'!UP35,0)","v":0},{"$f":"+IF(ISNUMBER('System Results'!US35),'System Results'!US35,0)","v":0},{"$f":"+IF(ISNUMBER('System Results'!UV35),'System Results'!UV35,0)","v":0},{"$f":"+IF(ISNUMBER('System Results'!UY35),'System Results'!UY35,0)","v":0},{"$f":"+IF(ISNUMBER('System Results'!VB35),'System Results'!VB35,0)","v":0},{"$f":"+IF(ISNUMBER('System Results'!VE35),'System Results'!VE35,0)","v":0},{"$f":"+IF(ISNUMBER('System Results'!VH35),'System Results'!VH35,0)","v":0},{"$f":"+IF(ISNUMBER('System Results'!VK35),'System Results'!VK35,0)","v":0},{"$f":"+IF(ISNUMBER('System Results'!VN35),'System Results'!VN35,0)","v":0},{"$f":"+IF(ISNUMBER('System Results'!VQ35),'System Results'!VQ35,0)","v":0},{"$f":"+IF(ISNUMBER('System Results'!VT35),'System Results'!VT35,0)","v":0},{"$f":"+IF(ISNUMBER('System Results'!VW35),'System Results'!VW35,0)","v":0},{"$f":"+IF(ISNUMBER('System Results'!VZ35),'System Results'!VZ35,0)","v":0},{"$f":"+IF(ISNUMBER('System Results'!WC35),'System Results'!WC35,0)","v":0},{"$f":"+IF(ISNUMBER('System Results'!WF35),'System Results'!WF35,0)","v":0},{"$f":"+IF(ISNUMBER('System Results'!WI35),'System Results'!WI35,0)","v":0},{"$f":"+IF(ISNUMBER('System Results'!WL35),'System Results'!WL35,0)","v":0},{"$f":"+IF(ISNUMBER('System Results'!WO35),'System Results'!WO35,0)","v":0},{"$f":"+IF(ISNUMBER('System Results'!WR35),'System Results'!WR35,0)","v":0},{"$f":"+IF(ISNUMBER('System Results'!WU35),'System Results'!WU35,0)","v":0},{"$f":"+IF(ISNUMBER('System Results'!WX35),'System Results'!WX35,0)","v":0},{"$f":"+IF(ISNUMBER('System Results'!XA35),'System Results'!XA35,0)","v":0},{"$f":"+IF(ISNUMBER('System Results'!XD35),'System Results'!XD35,0)","v":0},{"$f":"+IF(ISNUMBER('System Results'!XG35),'System Results'!XG35,0)","v":0},{"$f":"+IF(ISNUMBER('System Results'!XJ35),'System Results'!XJ35,0)","v":0},{"$f":"+IF(ISNUMBER('System Results'!XM35),'System Results'!XM35,0)","v":0},{"$f":"+IF(ISNUMBER('System Results'!XP35),'System Results'!XP35,0)","v":0},{"$f":"+IF(ISNUMBER('System Results'!XS35),'System Results'!XS35,0)","v":0},{"$f":"+IF(ISNUMBER('System Results'!XV35),'System Results'!XV35,0)","v":0},{"$f":"+IF(ISNUMBER('System Results'!XY35),'System Results'!XY35,0)","v":0},{"$f":"+IF(ISNUMBER('System Results'!YB35),'System Results'!YB35,0)","v":0},{"$f":"+IF(ISNUMBER('System Results'!YE35),'System Results'!YE35,0)","v":0},{"$f":"+IF(ISNUMBER('System Results'!YH35),'System Results'!YH35,0)","v":0},{"$f":"+IF(ISNUMBER('System Results'!YK35),'System Results'!YK35,0)","v":0},{"$f":"+IF(ISNUMBER('System Results'!YN35),'System Results'!YN35,0)","v":0},{"$f":"+IF(ISNUMBER('System Results'!YQ35),'System Results'!YQ35,0)","v":0},{"$f":"+IF(ISNUMBER('System Results'!YT35),'System Results'!YT35,0)","v":0},{"$f":"+IF(ISNUMBER('System Results'!YW35),'System Results'!YW35,0)","v":0},{"$f":"+IF(ISNUMBER('System Results'!YZ35),'System Results'!YZ35,0)","v":0},{"$f":"+IF(ISNUMBER('System Results'!ZC35),'System Results'!ZC35,0)","v":0},{"$f":"+IF(ISNUMBER('System Results'!ZF35),'System Results'!ZF35,0)","v":0},{"$f":"+IF(ISNUMBER('System Results'!ZI35),'System Results'!ZI35,0)","v":0},{"$f":"+IF(ISNUMBER('System Results'!ZL35),'System Results'!ZL35,0)","v":0},{"$f":"+IF(ISNUMBER('System Results'!ZO35),'System Results'!ZO35,0)","v":0},{"$f":"+IF(ISNUMBER('System Results'!ZR35),'System Results'!ZR35,0)","v":0},{"$f":"+IF(ISNUMBER('System Results'!ZU35),'System Results'!ZU35,0)","v":0},{"$f":"+IF(ISNUMBER('System Results'!ZX35),'System Results'!ZX35,0)","v":0},{"$f":"+IF(ISNUMBER('System Results'!AAA35),'System Results'!AAA35,0)","v":0},{"$f":"+IF(ISNUMBER('System Results'!AAD35),'System Results'!AAD35,0)","v":0},{"$f":"+IF(ISNUMBER('System Results'!AAG35),'System Results'!AAG35,0)","v":0},{"$f":"+IF(ISNUMBER('System Results'!AAJ35),'System Results'!AAJ35,0)","v":0},{"$f":"+IF(ISNUMBER('System Results'!AAM35),'System Results'!AAM35,0)","v":0},{"$f":"+IF(ISNUMBER('System Results'!AAP35),'System Results'!AAP35,0)","v":0},{"$f":"+IF(ISNUMBER('System Results'!AAS35),'System Results'!AAS35,0)","v":0},{"$f":"+IF(ISNUMBER('System Results'!AAV35),'System Results'!AAV35,0)","v":0},{"$f":"+IF(ISNUMBER('System Results'!AAY35),'System Results'!AAY35,0)","v":0},{"$f":"+IF(ISNUMBER('System Results'!ABB35),'System Results'!ABB35,0)","v":0},{"$f":"+IF(ISNUMBER('System Results'!ABE35),'System Results'!ABE35,0)","v":0},{"$f":"+IF(ISNUMBER('System Results'!ABH35),'System Results'!ABH35,0)","v":0},{"$f":"+IF(ISNUMBER('System Results'!ABK35),'System Results'!ABK35,0)","v":0},{"$f":"+IF(ISNUMBER('System Results'!ABN35),'System Results'!ABN35,0)","v":0},{"$f":"+IF(ISNUMBER('System Results'!ABQ35),'System Results'!ABQ35,0)","v":0},{"$f":"+IF(ISNUMBER('System Results'!ABT35),'System Results'!ABT35,0)","v":0},{"$f":"+IF(ISNUMBER('System Results'!ABW35),'System Results'!ABW35,0)","v":0},{"$f":"+IF(ISNUMBER('System Results'!ABZ35),'System Results'!ABZ35,0)","v":0},{"$f":"+IF(ISNUMBER('System Results'!ACC35),'System Results'!ACC35,0)","v":0},{"$f":"+IF(ISNUMBER('System Results'!ACF35),'System Results'!ACF35,0)","v":0},{"$f":"+IF(ISNUMBER('System Results'!ACI35),'System Results'!ACI35,0)","v":0},{"$f":"+IF(ISNUMBER('System Results'!ACL35),'System Results'!ACL35,0)","v":0},{"$f":"+IF(ISNUMBER('System Results'!ACO35),'System Results'!ACO35,0)","v":0},{"$f":"+IF(ISNUMBER('System Results'!ACR35),'System Results'!ACR35,0)","v":0},{"$f":"+IF(ISNUMBER('System Results'!ACU35),'System Results'!ACU35,0)","v":0},{"$f":"+IF(ISNUMBER('System Results'!ACX35),'System Results'!ACX35,0)","v":0},{"$f":"+IF(ISNUMBER('System Results'!ADA35),'System Results'!ADA35,0)","v":0},{"$f":"+IF(ISNUMBER('System Results'!ADD35),'System Results'!ADD35,0)","v":0},{"$f":"+IF(ISNUMBER('System Results'!ADG35),'System Results'!ADG35,0)","v":0},{"$f":"+IF(ISNUMBER('System Results'!ADJ35),'System Results'!ADJ35,0)","v":0},{"$f":"+IF(ISNUMBER('System Results'!ADM35),'System Results'!ADM35,0)","v":0},{"$f":"+IF(ISNUMBER('System Results'!ADP35),'System Results'!ADP35,0)","v":0},{"$f":"+IF(ISNUMBER('System Results'!ADS35),'System Results'!ADS35,0)","v":0},{"$f":"+IF(ISNUMBER('System Results'!ADV35),'System Results'!ADV35,0)","v":0},{"$f":"+IF(ISNUMBER('System Results'!ADY35),'System Results'!ADY35,0)","v":0},{"$f":"+IF(ISNUMBER('System Results'!AEB35),'System Results'!AEB35,0)","v":0},{"$f":"+IF(ISNUMBER('System Results'!AEE35),'System Results'!AEE35,0)","v":0},{"$f":"+IF(ISNUMBER('System Results'!AEH35),'System Results'!AEH35,0)","v":0},{"$f":"+IF(ISNUMBER('System Results'!AEK35),'System Results'!AEK35,0)","v":0},{"$f":"+IF(ISNUMBER('System Results'!AEN35),'System Results'!AEN35,0)","v":0},{"$f":"+IF(ISNUMBER('System Results'!AEQ35),'System Results'!AEQ35,0)","v":0},{"$f":"+IF(ISNUMBER('System Results'!AET35),'System Results'!AET35,0)","v":0},{"$f":"+IF(ISNUMBER('System Results'!AEW35),'System Results'!AEW35,0)","v":0},{"$f":"+IF(ISNUMBER('System Results'!AEZ35),'System Results'!AEZ35,0)","v":0},{"$f":"+IF(ISNUMBER('System Results'!AFC35),'System Results'!AFC35,0)","v":0},{"$f":"+IF(ISNUMBER('System Results'!AFF35),'System Results'!AFF35,0)","v":0},{"$f":"+IF(ISNUMBER('System Results'!AFI35),'System Results'!AFI35,0)","v":0},{"$f":"+IF(ISNUMBER('System Results'!AFL35),'System Results'!AFL35,0)","v":0},{"$f":"+IF(ISNUMBER('System Results'!AFO35),'System Results'!AFO35,0)","v":0},{"$f":"+IF(ISNUMBER('System Results'!AFR35),'System Results'!AFR35,0)","v":0},{"$f":"+IF(ISNUMBER('System Results'!AFU35),'System Results'!AFU35,0)","v":0},{"$f":"+IF(ISNUMBER('System Results'!AFX35),'System Results'!AFX35,0)","v":0},{"$f":"+IF(ISNUMBER('System Results'!AGA35),'System Results'!AGA35,0)","v":0},{"$f":"+IF(ISNUMBER('System Results'!AGD35),'System Results'!AGD35,0)","v":0},{"$f":"+IF(ISNUMBER('System Results'!AGG35),'System Results'!AGG35,0)","v":0},{"$f":"+IF(ISNUMBER('System Results'!AGJ35),'System Results'!AGJ35,0)","v":0},{"$f":"+IF(ISNUMBER('System Results'!AGM35),'System Results'!AGM35,0)","v":0},{"$f":"+IF(ISNUMBER('System Results'!AGP35),'System Results'!AGP35,0)","v":0},{"$f":"+IF(ISNUMBER('System Results'!AGS35),'System Results'!AGS35,0)","v":0},{"$f":"+IF(ISNUMBER('System Results'!AGV35),'System Results'!AGV35,0)","v":0},{"$f":"+IF(ISNUMBER('System Results'!AGY35),'System Results'!AGY35,0)","v":0},{"$f":"+IF(ISNUMBER('System Results'!AHB35),'System Results'!AHB35,0)","v":0},{"$f":"+IF(ISNUMBER('System Results'!AHE35),'System Results'!AHE35,0)","v":0},{"$f":"+IF(ISNUMBER('System Results'!AHH35),'System Results'!AHH35,0)","v":0},{"$f":"+IF(ISNUMBER('System Results'!AHK35),'System Results'!AHK35,0)","v":0},{"$f":"+IF(ISNUMBER('System Results'!AHN35),'System Results'!AHN35,0)","v":0},{"$f":"+IF(ISNUMBER('System Results'!AHQ35),'System Results'!AHQ35,0)","v":0},{"$f":"+IF(ISNUMBER('System Results'!AHT35),'System Results'!AHT35,0)","v":0}]
[{"$f":"+'System Results'!B37","v":"Purchased goods & services"},0,{"$f":"+IF(ISNUMBER('System Results'!G37),'System Results'!G37,0)","v":0},{"$f":"+IF(ISNUMBER('System Results'!J37),'System Results'!J37,0)","v":0},{"$f":"+IF(ISNUMBER('System Results'!M37),'System Results'!M37,0)","v":0},{"$f":"+IF(ISNUMBER('System Results'!P37),'System Results'!P37,0)","v":0},{"$f":"+IF(ISNUMBER('System Results'!S37),'System Results'!S37,0)","v":0},{"$f":"+IF(ISNUMBER('System Results'!V37),'System Results'!V37,0)","v":0},{"$f":"+IF(ISNUMBER('System Results'!Y37),'System Results'!Y37,0)","v":0},{"$f":"+IF(ISNUMBER('System Results'!AB37),'System Results'!AB37,0)","v":0},{"$f":"+IF(ISNUMBER('System Results'!AE37),'System Results'!AE37,0)","v":0},{"$f":"+IF(ISNUMBER('System Results'!AH37),'System Results'!AH37,0)","v":0},{"$f":"+IF(ISNUMBER('System Results'!AK37),'System Results'!AK37,0)","v":0},{"$f":"+IF(ISNUMBER('System Results'!AN37),'System Results'!AN37,0)","v":0},{"$f":"+IF(ISNUMBER('System Results'!AQ37),'System Results'!AQ37,0)","v":0},{"$f":"+IF(ISNUMBER('System Results'!AT37),'System Results'!AT37,0)","v":0},{"$f":"+IF(ISNUMBER('System Results'!AW37),'System Results'!AW37,0)","v":0},{"$f":"+IF(ISNUMBER('System Results'!AZ37),'System Results'!AZ37,0)","v":0},{"$f":"+IF(ISNUMBER('System Results'!BC37),'System Results'!BC37,0)","v":0},{"$f":"+IF(ISNUMBER('System Results'!BF37),'System Results'!BF37,0)","v":0},{"$f":"+IF(ISNUMBER('System Results'!BI37),'System Results'!BI37,0)","v":0},{"$f":"+IF(ISNUMBER('System Results'!BL37),'System Results'!BL37,0)","v":0},{"$f":"+IF(ISNUMBER('System Results'!BO37),'System Results'!BO37,0)","v":0},{"$f":"+IF(ISNUMBER('System Results'!BR37),'System Results'!BR37,0)","v":0},{"$f":"+IF(ISNUMBER('System Results'!BU37),'System Results'!BU37,0)","v":0},{"$f":"+IF(ISNUMBER('System Results'!BX37),'System Results'!BX37,0)","v":0},{"$f":"+IF(ISNUMBER('System Results'!CA37),'System Results'!CA37,0)","v":0},{"$f":"+IF(ISNUMBER('System Results'!CD37),'System Results'!CD37,0)","v":0},{"$f":"+IF(ISNUMBER('System Results'!CG37),'System Results'!CG37,0)","v":0},{"$f":"+IF(ISNUMBER('System Results'!CJ37),'System Results'!CJ37,0)","v":0},{"$f":"+IF(ISNUMBER('System Results'!CM37),'System Results'!CM37,0)","v":0},{"$f":"+IF(ISNUMBER('System Results'!CP37),'System Results'!CP37,0)","v":0},{"$f":"+IF(ISNUMBER('System Results'!CS37),'System Results'!CS37,0)","v":0},{"$f":"+IF(ISNUMBER('System Results'!CV37),'System Results'!CV37,0)","v":0},{"$f":"+IF(ISNUMBER('System Results'!CY37),'System Results'!CY37,0)","v":0},{"$f":"+IF(ISNUMBER('System Results'!DB37),'System Results'!DB37,0)","v":0},{"$f":"+IF(ISNUMBER('System Results'!DE37),'System Results'!DE37,0)","v":0},{"$f":"+IF(ISNUMBER('System Results'!DH37),'System Results'!DH37,0)","v":0},{"$f":"+IF(ISNUMBER('System Results'!DK37),'System Results'!DK37,0)","v":0},{"$f":"+IF(ISNUMBER('System Results'!DN37),'System Results'!DN37,0)","v":0},{"$f":"+IF(ISNUMBER('System Results'!DQ37),'System Results'!DQ37,0)","v":0},{"$f":"+IF(ISNUMBER('System Results'!DT37),'System Results'!DT37,0)","v":0},{"$f":"+IF(ISNUMBER('System Results'!DW37),'System Results'!DW37,0)","v":0},{"$f":"+IF(ISNUMBER('System Results'!DZ37),'System Results'!DZ37,0)","v":0},{"$f":"+IF(ISNUMBER('System Results'!EC37),'System Results'!EC37,0)","v":0},{"$f":"+IF(ISNUMBER('System Results'!EF37),'System Results'!EF37,0)","v":0},{"$f":"+IF(ISNUMBER('System Results'!EI37),'System Results'!EI37,0)","v":0},{"$f":"+IF(ISNUMBER('System Results'!EL37),'System Results'!EL37,0)","v":0},{"$f":"+IF(ISNUMBER('System Results'!EO37),'System Results'!EO37,0)","v":0},{"$f":"+IF(ISNUMBER('System Results'!ER37),'System Results'!ER37,0)","v":0},{"$f":"+IF(ISNUMBER('System Results'!EU37),'System Results'!EU37,0)","v":0},{"$f":"+IF(ISNUMBER('System Results'!EX37),'System Results'!EX37,0)","v":0},{"$f":"+IF(ISNUMBER('System Results'!FA37),'System Results'!FA37,0)","v":0},{"$f":"+IF(ISNUMBER('System Results'!FD37),'System Results'!FD37,0)","v":0},{"$f":"+IF(ISNUMBER('System Results'!FG37),'System Results'!FG37,0)","v":0},{"$f":"+IF(ISNUMBER('System Results'!FJ37),'System Results'!FJ37,0)","v":0},{"$f":"+IF(ISNUMBER('System Results'!FM37),'System Results'!FM37,0)","v":0},{"$f":"+IF(ISNUMBER('System Results'!FP37),'System Results'!FP37,0)","v":0},{"$f":"+IF(ISNUMBER('System Results'!FS37),'System Results'!FS37,0)","v":0},{"$f":"+IF(ISNUMBER('System Results'!FV37),'System Results'!FV37,0)","v":0},{"$f":"+IF(ISNUMBER('System Results'!FY37),'System Results'!FY37,0)","v":0},{"$f":"+IF(ISNUMBER('System Results'!GB37),'System Results'!GB37,0)","v":0},{"$f":"+IF(ISNUMBER('System Results'!GE37),'System Results'!GE37,0)","v":0},{"$f":"+IF(ISNUMBER('System Results'!GH37),'System Results'!GH37,0)","v":0},{"$f":"+IF(ISNUMBER('System Results'!GK37),'System Results'!GK37,0)","v":0},{"$f":"+IF(ISNUMBER('System Results'!GN37),'System Results'!GN37,0)","v":0},{"$f":"+IF(ISNUMBER('System Results'!GQ37),'System Results'!GQ37,0)","v":0},{"$f":"+IF(ISNUMBER('System Results'!GT37),'System Results'!GT37,0)","v":0},{"$f":"+IF(ISNUMBER('System Results'!GW37),'System Results'!GW37,0)","v":0},{"$f":"+IF(ISNUMBER('System Results'!GZ37),'System Results'!GZ37,0)","v":0},{"$f":"+IF(ISNUMBER('System Results'!HC37),'System Results'!HC37,0)","v":0},{"$f":"+IF(ISNUMBER('System Results'!HF37),'System Results'!HF37,0)","v":0},{"$f":"+IF(ISNUMBER('System Results'!HI37),'System Results'!HI37,0)","v":0},{"$f":"+IF(ISNUMBER('System Results'!HL37),'System Results'!HL37,0)","v":0},{"$f":"+IF(ISNUMBER('System Results'!HO37),'System Results'!HO37,0)","v":0},{"$f":"+IF(ISNUMBER('System Results'!HR37),'System Results'!HR37,0)","v":0},{"$f":"+IF(ISNUMBER('System Results'!HU37),'System Results'!HU37,0)","v":0},{"$f":"+IF(ISNUMBER('System Results'!HX37),'System Results'!HX37,0)","v":0},{"$f":"+IF(ISNUMBER('System Results'!IA37),'System Results'!IA37,0)","v":0},{"$f":"+IF(ISNUMBER('System Results'!ID37),'System Results'!ID37,0)","v":0},{"$f":"+IF(ISNUMBER('System Results'!IG37),'System Results'!IG37,0)","v":0},{"$f":"+IF(ISNUMBER('System Results'!IJ37),'System Results'!IJ37,0)","v":0},{"$f":"+IF(ISNUMBER('System Results'!IM37),'System Results'!IM37,0)","v":0},{"$f":"+IF(ISNUMBER('System Results'!IP37),'System Results'!IP37,0)","v":0},{"$f":"+IF(ISNUMBER('System Results'!IS37),'System Results'!IS37,0)","v":0},{"$f":"+IF(ISNUMBER('System Results'!IV37),'System Results'!IV37,0)","v":0},{"$f":"+IF(ISNUMBER('System Results'!IY37),'System Results'!IY37,0)","v":0},{"$f":"+IF(ISNUMBER('System Results'!JB37),'System Results'!JB37,0)","v":0},{"$f":"+IF(ISNUMBER('System Results'!JE37),'System Results'!JE37,0)","v":0},{"$f":"+IF(ISNUMBER('System Results'!JH37),'System Results'!JH37,0)","v":0},{"$f":"+IF(ISNUMBER('System Results'!JK37),'System Results'!JK37,0)","v":0},{"$f":"+IF(ISNUMBER('System Results'!JN37),'System Results'!JN37,0)","v":0},{"$f":"+IF(ISNUMBER('System Results'!JQ37),'System Results'!JQ37,0)","v":0},{"$f":"+IF(ISNUMBER('System Results'!JT37),'System Results'!JT37,0)","v":0},{"$f":"+IF(ISNUMBER('System Results'!JW37),'System Results'!JW37,0)","v":0},{"$f":"+IF(ISNUMBER('System Results'!JZ37),'System Results'!JZ37,0)","v":0},{"$f":"+IF(ISNUMBER('System Results'!KC37),'System Results'!KC37,0)","v":0},{"$f":"+IF(ISNUMBER('System Results'!KF37),'System Results'!KF37,0)","v":0},{"$f":"+IF(ISNUMBER('System Results'!KI37),'System Results'!KI37,0)","v":0},{"$f":"+IF(ISNUMBER('System Results'!KL37),'System Results'!KL37,0)","v":0},{"$f":"+IF(ISNUMBER('System Results'!KO37),'System Results'!KO37,0)","v":0},{"$f":"+IF(ISNUMBER('System Results'!KR37),'System Results'!KR37,0)","v":0},{"$f":"+IF(ISNUMBER('System Results'!KU37),'System Results'!KU37,0)","v":0},{"$f":"+IF(ISNUMBER('System Results'!KX37),'System Results'!KX37,0)","v":0},{"$f":"+IF(ISNUMBER('System Results'!LA37),'System Results'!LA37,0)","v":0},{"$f":"+IF(ISNUMBER('System Results'!LD37),'System Results'!LD37,0)","v":0},{"$f":"+IF(ISNUMBER('System Results'!LG37),'System Results'!LG37,0)","v":0},{"$f":"+IF(ISNUMBER('System Results'!LJ37),'System Results'!LJ37,0)","v":0},{"$f":"+IF(ISNUMBER('System Results'!LM37),'System Results'!LM37,0)","v":0},{"$f":"+IF(ISNUMBER('System Results'!LP37),'System Results'!LP37,0)","v":0},{"$f":"+IF(ISNUMBER('System Results'!LS37),'System Results'!LS37,0)","v":0},{"$f":"+IF(ISNUMBER('System Results'!LV37),'System Results'!LV37,0)","v":0},{"$f":"+IF(ISNUMBER('System Results'!LY37),'System Results'!LY37,0)","v":0},{"$f":"+IF(ISNUMBER('System Results'!MB37),'System Results'!MB37,0)","v":0},{"$f":"+IF(ISNUMBER('System Results'!ME37),'System Results'!ME37,0)","v":0},{"$f":"+IF(ISNUMBER('System Results'!MH37),'System Results'!MH37,0)","v":0},{"$f":"+IF(ISNUMBER('System Results'!MK37),'System Results'!MK37,0)","v":0},{"$f":"+IF(ISNUMBER('System Results'!MN37),'System Results'!MN37,0)","v":0},{"$f":"+IF(ISNUMBER('System Results'!MQ37),'System Results'!MQ37,0)","v":0},{"$f":"+IF(ISNUMBER('System Results'!MT37),'System Results'!MT37,0)","v":0},{"$f":"+IF(ISNUMBER('System Results'!MW37),'System Results'!MW37,0)","v":0},{"$f":"+IF(ISNUMBER('System Results'!MZ37),'System Results'!MZ37,0)","v":0},{"$f":"+IF(ISNUMBER('System Results'!NC37),'System Results'!NC37,0)","v":0},{"$f":"+IF(ISNUMBER('System Results'!NF37),'System Results'!NF37,0)","v":0},{"$f":"+IF(ISNUMBER('System Results'!NI37),'System Results'!NI37,0)","v":0},{"$f":"+IF(ISNUMBER('System Results'!NL37),'System Results'!NL37,0)","v":0},{"$f":"+IF(ISNUMBER('System Results'!NO37),'System Results'!NO37,0)","v":0},{"$f":"+IF(ISNUMBER('System Results'!NR37),'System Results'!NR37,0)","v":0},{"$f":"+IF(ISNUMBER('System Results'!NU37),'System Results'!NU37,0)","v":0},{"$f":"+IF(ISNUMBER('System Results'!NX37),'System Results'!NX37,0)","v":0},{"$f":"+IF(ISNUMBER('System Results'!OA37),'System Results'!OA37,0)","v":0},{"$f":"+IF(ISNUMBER('System Results'!OD37),'System Results'!OD37,0)","v":0},{"$f":"+IF(ISNUMBER('System Results'!OG37),'System Results'!OG37,0)","v":0},{"$f":"+IF(ISNUMBER('System Results'!OJ37),'System Results'!OJ37,0)","v":0},{"$f":"+IF(ISNUMBER('System Results'!OM37),'System Results'!OM37,0)","v":0},{"$f":"+IF(ISNUMBER('System Results'!OP37),'System Results'!OP37,0)","v":0},{"$f":"+IF(ISNUMBER('System Results'!OS37),'System Results'!OS37,0)","v":0},{"$f":"+IF(ISNUMBER('System Results'!OV37),'System Results'!OV37,0)","v":0},{"$f":"+IF(ISNUMBER('System Results'!OY37),'System Results'!OY37,0)","v":0},{"$f":"+IF(ISNUMBER('System Results'!PB37),'System Results'!PB37,0)","v":0},{"$f":"+IF(ISNUMBER('System Results'!PE37),'System Results'!PE37,0)","v":0},{"$f":"+IF(ISNUMBER('System Results'!PH37),'System Results'!PH37,0)","v":0},{"$f":"+IF(ISNUMBER('System Results'!PK37),'System Results'!PK37,0)","v":0},{"$f":"+IF(ISNUMBER('System Results'!PN37),'System Results'!PN37,0)","v":0},{"$f":"+IF(ISNUMBER('System Results'!PQ37),'System Results'!PQ37,0)","v":0},{"$f":"+IF(ISNUMBER('System Results'!PT37),'System Results'!PT37,0)","v":0},{"$f":"+IF(ISNUMBER('System Results'!PW37),'System Results'!PW37,0)","v":0},{"$f":"+IF(ISNUMBER('System Results'!PZ37),'System Results'!PZ37,0)","v":0},{"$f":"+IF(ISNUMBER('System Results'!QC37),'System Results'!QC37,0)","v":0},{"$f":"+IF(ISNUMBER('System Results'!QF37),'System Results'!QF37,0)","v":0},{"$f":"+IF(ISNUMBER('System Results'!QI37),'System Results'!QI37,0)","v":0},{"$f":"+IF(ISNUMBER('System Results'!QL37),'System Results'!QL37,0)","v":0},{"$f":"+IF(ISNUMBER('System Results'!QO37),'System Results'!QO37,0)","v":0},{"$f":"+IF(ISNUMBER('System Results'!QR37),'System Results'!QR37,0)","v":0},{"$f":"+IF(ISNUMBER('System Results'!QU37),'System Results'!QU37,0)","v":0},{"$f":"+IF(ISNUMBER('System Results'!QX37),'System Results'!QX37,0)","v":0},{"$f":"+IF(ISNUMBER('System Results'!RA37),'System Results'!RA37,0)","v":0},{"$f":"+IF(ISNUMBER('System Results'!RD37),'System Results'!RD37,0)","v":0},{"$f":"+IF(ISNUMBER('System Results'!RG37),'System Results'!RG37,0)","v":0},{"$f":"+IF(ISNUMBER('System Results'!RJ37),'System Results'!RJ37,0)","v":0},{"$f":"+IF(ISNUMBER('System Results'!RM37),'System Results'!RM37,0)","v":0},{"$f":"+IF(ISNUMBER('System Results'!RP37),'System Results'!RP37,0)","v":0},{"$f":"+IF(ISNUMBER('System Results'!RS37),'System Results'!RS37,0)","v":0},{"$f":"+IF(ISNUMBER('System Results'!RV37),'System Results'!RV37,0)","v":0},{"$f":"+IF(ISNUMBER('System Results'!RY37),'System Results'!RY37,0)","v":0},{"$f":"+IF(ISNUMBER('System Results'!SB37),'System Results'!SB37,0)","v":0},{"$f":"+IF(ISNUMBER('System Results'!SE37),'System Results'!SE37,0)","v":0},{"$f":"+IF(ISNUMBER('System Results'!SH37),'System Results'!SH37,0)","v":0},{"$f":"+IF(ISNUMBER('System Results'!SK37),'System Results'!SK37,0)","v":0},{"$f":"+IF(ISNUMBER('System Results'!SN37),'System Results'!SN37,0)","v":0},{"$f":"+IF(ISNUMBER('System Results'!SQ37),'System Results'!SQ37,0)","v":0},{"$f":"+IF(ISNUMBER('System Results'!ST37),'System Results'!ST37,0)","v":0},{"$f":"+IF(ISNUMBER('System Results'!SW37),'System Results'!SW37,0)","v":0},{"$f":"+IF(ISNUMBER('System Results'!SZ37),'System Results'!SZ37,0)","v":0},{"$f":"+IF(ISNUMBER('System Results'!TC37),'System Results'!TC37,0)","v":0},{"$f":"+IF(ISNUMBER('System Results'!TF37),'System Results'!TF37,0)","v":0},{"$f":"+IF(ISNUMBER('System Results'!TI37),'System Results'!TI37,0)","v":0},{"$f":"+IF(ISNUMBER('System Results'!TL37),'System Results'!TL37,0)","v":0},{"$f":"+IF(ISNUMBER('System Results'!TO37),'System Results'!TO37,0)","v":0},{"$f":"+IF(ISNUMBER('System Results'!TR37),'System Results'!TR37,0)","v":0},{"$f":"+IF(ISNUMBER('System Results'!TU37),'System Results'!TU37,0)","v":0},{"$f":"+IF(ISNUMBER('System Results'!TX37),'System Results'!TX37,0)","v":0},{"$f":"+IF(ISNUMBER('System Results'!UA37),'System Results'!UA37,0)","v":0},{"$f":"+IF(ISNUMBER('System Results'!UD37),'System Results'!UD37,0)","v":0},{"$f":"+IF(ISNUMBER('System Results'!UG37),'System Results'!UG37,0)","v":0},{"$f":"+IF(ISNUMBER('System Results'!UJ37),'System Results'!UJ37,0)","v":0},{"$f":"+IF(ISNUMBER('System Results'!UM37),'System Results'!UM37,0)","v":0},{"$f":"+IF(ISNUMBER('System Results'!UP37),'System Results'!UP37,0)","v":0},{"$f":"+IF(ISNUMBER('System Results'!US37),'System Results'!US37,0)","v":0},{"$f":"+IF(ISNUMBER('System Results'!UV37),'System Results'!UV37,0)","v":0},{"$f":"+IF(ISNUMBER('System Results'!UY37),'System Results'!UY37,0)","v":0},{"$f":"+IF(ISNUMBER('System Results'!VB37),'System Results'!VB37,0)","v":0},{"$f":"+IF(ISNUMBER('System Results'!VE37),'System Results'!VE37,0)","v":0},{"$f":"+IF(ISNUMBER('System Results'!VH37),'System Results'!VH37,0)","v":0},{"$f":"+IF(ISNUMBER('System Results'!VK37),'System Results'!VK37,0)","v":0},{"$f":"+IF(ISNUMBER('System Results'!VN37),'System Results'!VN37,0)","v":0},{"$f":"+IF(ISNUMBER('System Results'!VQ37),'System Results'!VQ37,0)","v":0},{"$f":"+IF(ISNUMBER('System Results'!VT37),'System Results'!VT37,0)","v":0},{"$f":"+IF(ISNUMBER('System Results'!VW37),'System Results'!VW37,0)","v":0},{"$f":"+IF(ISNUMBER('System Results'!VZ37),'System Results'!VZ37,0)","v":0},{"$f":"+IF(ISNUMBER('System Results'!WC37),'System Results'!WC37,0)","v":0},{"$f":"+IF(ISNUMBER('System Results'!WF37),'System Results'!WF37,0)","v":0},{"$f":"+IF(ISNUMBER('System Results'!WI37),'System Results'!WI37,0)","v":0},{"$f":"+IF(ISNUMBER('System Results'!WL37),'System Results'!WL37,0)","v":0},{"$f":"+IF(ISNUMBER('System Results'!WO37),'System Results'!WO37,0)","v":0},{"$f":"+IF(ISNUMBER('System Results'!WR37),'System Results'!WR37,0)","v":0},{"$f":"+IF(ISNUMBER('System Results'!WU37),'System Results'!WU37,0)","v":0},{"$f":"+IF(ISNUMBER('System Results'!WX37),'System Results'!WX37,0)","v":0},{"$f":"+IF(ISNUMBER('System Results'!XA37),'System Results'!XA37,0)","v":0},{"$f":"+IF(ISNUMBER('System Results'!XD37),'System Results'!XD37,0)","v":0},{"$f":"+IF(ISNUMBER('System Results'!XG37),'System Results'!XG37,0)","v":0},{"$f":"+IF(ISNUMBER('System Results'!XJ37),'System Results'!XJ37,0)","v":0},{"$f":"+IF(ISNUMBER('System Results'!XM37),'System Results'!XM37,0)","v":0},{"$f":"+IF(ISNUMBER('System Results'!XP37),'System Results'!XP37,0)","v":0},{"$f":"+IF(ISNUMBER('System Results'!XS37),'System Results'!XS37,0)","v":0},{"$f":"+IF(ISNUMBER('System Results'!XV37),'System Results'!XV37,0)","v":0},{"$f":"+IF(ISNUMBER('System Results'!XY37),'System Results'!XY37,0)","v":0},{"$f":"+IF(ISNUMBER('System Results'!YB37),'System Results'!YB37,0)","v":0},{"$f":"+IF(ISNUMBER('System Results'!YE37),'System Results'!YE37,0)","v":0},{"$f":"+IF(ISNUMBER('System Results'!YH37),'System Results'!YH37,0)","v":0},{"$f":"+IF(ISNUMBER('System Results'!YK37),'System Results'!YK37,0)","v":0},{"$f":"+IF(ISNUMBER('System Results'!YN37),'System Results'!YN37,0)","v":0},{"$f":"+IF(ISNUMBER('System Results'!YQ37),'System Results'!YQ37,0)","v":0},{"$f":"+IF(ISNUMBER('System Results'!YT37),'System Results'!YT37,0)","v":0},{"$f":"+IF(ISNUMBER('System Results'!YW37),'System Results'!YW37,0)","v":0},{"$f":"+IF(ISNUMBER('System Results'!YZ37),'System Results'!YZ37,0)","v":0},{"$f":"+IF(ISNUMBER('System Results'!ZC37),'System Results'!ZC37,0)","v":0},{"$f":"+IF(ISNUMBER('System Results'!ZF37),'System Results'!ZF37,0)","v":0},{"$f":"+IF(ISNUMBER('System Results'!ZI37),'System Results'!ZI37,0)","v":0},{"$f":"+IF(ISNUMBER('System Results'!ZL37),'System Results'!ZL37,0)","v":0},{"$f":"+IF(ISNUMBER('System Results'!ZO37),'System Results'!ZO37,0)","v":0},{"$f":"+IF(ISNUMBER('System Results'!ZR37),'System Results'!ZR37,0)","v":0},{"$f":"+IF(ISNUMBER('System Results'!ZU37),'System Results'!ZU37,0)","v":0},{"$f":"+IF(ISNUMBER('System Results'!ZX37),'System Results'!ZX37,0)","v":0},{"$f":"+IF(ISNUMBER('System Results'!AAA37),'System Results'!AAA37,0)","v":0},{"$f":"+IF(ISNUMBER('System Results'!AAD37),'System Results'!AAD37,0)","v":0},{"$f":"+IF(ISNUMBER('System Results'!AAG37),'System Results'!AAG37,0)","v":0},{"$f":"+IF(ISNUMBER('System Results'!AAJ37),'System Results'!AAJ37,0)","v":0},{"$f":"+IF(ISNUMBER('System Results'!AAM37),'System Results'!AAM37,0)","v":0},{"$f":"+IF(ISNUMBER('System Results'!AAP37),'System Results'!AAP37,0)","v":0},{"$f":"+IF(ISNUMBER('System Results'!AAS37),'System Results'!AAS37,0)","v":0},{"$f":"+IF(ISNUMBER('System Results'!AAV37),'System Results'!AAV37,0)","v":0},{"$f":"+IF(ISNUMBER('System Results'!AAY37),'System Results'!AAY37,0)","v":0},{"$f":"+IF(ISNUMBER('System Results'!ABB37),'System Results'!ABB37,0)","v":0},{"$f":"+IF(ISNUMBER('System Results'!ABE37),'System Results'!ABE37,0)","v":0},{"$f":"+IF(ISNUMBER('System Results'!ABH37),'System Results'!ABH37,0)","v":0},{"$f":"+IF(ISNUMBER('System Results'!ABK37),'System Results'!ABK37,0)","v":0},{"$f":"+IF(ISNUMBER('System Results'!ABN37),'System Results'!ABN37,0)","v":0},{"$f":"+IF(ISNUMBER('System Results'!ABQ37),'System Results'!ABQ37,0)","v":0},{"$f":"+IF(ISNUMBER('System Results'!ABT37),'System Results'!ABT37,0)","v":0},{"$f":"+IF(ISNUMBER('System Results'!ABW37),'System Results'!ABW37,0)","v":0},{"$f":"+IF(ISNUMBER('System Results'!ABZ37),'System Results'!ABZ37,0)","v":0},{"$f":"+IF(ISNUMBER('System Results'!ACC37),'System Results'!ACC37,0)","v":0},{"$f":"+IF(ISNUMBER('System Results'!ACF37),'System Results'!ACF37,0)","v":0},{"$f":"+IF(ISNUMBER('System Results'!ACI37),'System Results'!ACI37,0)","v":0},{"$f":"+IF(ISNUMBER('System Results'!ACL37),'System Results'!ACL37,0)","v":0},{"$f":"+IF(ISNUMBER('System Results'!ACO37),'System Results'!ACO37,0)","v":0},{"$f":"+IF(ISNUMBER('System Results'!ACR37),'System Results'!ACR37,0)","v":0},{"$f":"+IF(ISNUMBER('System Results'!ACU37),'System Results'!ACU37,0)","v":0},{"$f":"+IF(ISNUMBER('System Results'!ACX37),'System Results'!ACX37,0)","v":0},{"$f":"+IF(ISNUMBER('System Results'!ADA37),'System Results'!ADA37,0)","v":0},{"$f":"+IF(ISNUMBER('System Results'!ADD37),'System Results'!ADD37,0)","v":0},{"$f":"+IF(ISNUMBER('System Results'!ADG37),'System Results'!ADG37,0)","v":0},{"$f":"+IF(ISNUMBER('System Results'!ADJ37),'System Results'!ADJ37,0)","v":0},{"$f":"+IF(ISNUMBER('System Results'!ADM37),'System Results'!ADM37,0)","v":0},{"$f":"+IF(ISNUMBER('System Results'!ADP37),'System Results'!ADP37,0)","v":0},{"$f":"+IF(ISNUMBER('System Results'!ADS37),'System Results'!ADS37,0)","v":0},{"$f":"+IF(ISNUMBER('System Results'!ADV37),'System Results'!ADV37,0)","v":0},{"$f":"+IF(ISNUMBER('System Results'!ADY37),'System Results'!ADY37,0)","v":0},{"$f":"+IF(ISNUMBER('System Results'!AEB37),'System Results'!AEB37,0)","v":0},{"$f":"+IF(ISNUMBER('System Results'!AEE37),'System Results'!AEE37,0)","v":0},{"$f":"+IF(ISNUMBER('System Results'!AEH37),'System Results'!AEH37,0)","v":0},{"$f":"+IF(ISNUMBER('System Results'!AEK37),'System Results'!AEK37,0)","v":0},{"$f":"+IF(ISNUMBER('System Results'!AEN37),'System Results'!AEN37,0)","v":0},{"$f":"+IF(ISNUMBER('System Results'!AEQ37),'System Results'!AEQ37,0)","v":0},{"$f":"+IF(ISNUMBER('System Results'!AET37),'System Results'!AET37,0)","v":0},{"$f":"+IF(ISNUMBER('System Results'!AEW37),'System Results'!AEW37,0)","v":0},{"$f":"+IF(ISNUMBER('System Results'!AEZ37),'System Results'!AEZ37,0)","v":0},{"$f":"+IF(ISNUMBER('System Results'!AFC37),'System Results'!AFC37,0)","v":0},{"$f":"+IF(ISNUMBER('System Results'!AFF37),'System Results'!AFF37,0)","v":0},{"$f":"+IF(ISNUMBER('System Results'!AFI37),'System Results'!AFI37,0)","v":0},{"$f":"+IF(ISNUMBER('System Results'!AFL37),'System Results'!AFL37,0)","v":0},{"$f":"+IF(ISNUMBER('System Results'!AFO37),'System Results'!AFO37,0)","v":0},{"$f":"+IF(ISNUMBER('System Results'!AFR37),'System Results'!AFR37,0)","v":0},{"$f":"+IF(ISNUMBER('System Results'!AFU37),'System Results'!AFU37,0)","v":0},{"$f":"+IF(ISNUMBER('System Results'!AFX37),'System Results'!AFX37,0)","v":0},{"$f":"+IF(ISNUMBER('System Results'!AGA37),'System Results'!AGA37,0)","v":0},{"$f":"+IF(ISNUMBER('System Results'!AGD37),'System Results'!AGD37,0)","v":0},{"$f":"+IF(ISNUMBER('System Results'!AGG37),'System Results'!AGG37,0)","v":0},{"$f":"+IF(ISNUMBER('System Results'!AGJ37),'System Results'!AGJ37,0)","v":0},{"$f":"+IF(ISNUMBER('System Results'!AGM37),'System Results'!AGM37,0)","v":0},{"$f":"+IF(ISNUMBER('System Results'!AGP37),'System Results'!AGP37,0)","v":0},{"$f":"+IF(ISNUMBER('System Results'!AGS37),'System Results'!AGS37,0)","v":0},{"$f":"+IF(ISNUMBER('System Results'!AGV37),'System Results'!AGV37,0)","v":0},{"$f":"+IF(ISNUMBER('System Results'!AGY37),'System Results'!AGY37,0)","v":0},{"$f":"+IF(ISNUMBER('System Results'!AHB37),'System Results'!AHB37,0)","v":0},{"$f":"+IF(ISNUMBER('System Results'!AHE37),'System Results'!AHE37,0)","v":0},{"$f":"+IF(ISNUMBER('System Results'!AHH37),'System Results'!AHH37,0)","v":0},{"$f":"+IF(ISNUMBER('System Results'!AHK37),'System Results'!AHK37,0)","v":0},{"$f":"+IF(ISNUMBER('System Results'!AHN37),'System Results'!AHN37,0)","v":0},{"$f":"+IF(ISNUMBER('System Results'!AHQ37),'System Results'!AHQ37,0)","v":0},{"$f":"+IF(ISNUMBER('System Results'!AHT37),'System Results'!AHT37,0)","v":0}]
[{"$f":"+'System Results'!B38","v":"Capital goods"},0,{"$f":"+IF(ISNUMBER('System Results'!G38),'System Results'!G38,0)","v":0},{"$f":"+IF(ISNUMBER('System Results'!J38),'System Results'!J38,0)","v":0},{"$f":"+IF(ISNUMBER('System Results'!M38),'System Results'!M38,0)","v":0},{"$f":"+IF(ISNUMBER('System Results'!P38),'System Results'!P38,0)","v":0},{"$f":"+IF(ISNUMBER('System Results'!S38),'System Results'!S38,0)","v":0},{"$f":"+IF(ISNUMBER('System Results'!V38),'System Results'!V38,0)","v":0},{"$f":"+IF(ISNUMBER('System Results'!Y38),'System Results'!Y38,0)","v":0},{"$f":"+IF(ISNUMBER('System Results'!AB38),'System Results'!AB38,0)","v":0},{"$f":"+IF(ISNUMBER('System Results'!AE38),'System Results'!AE38,0)","v":0},{"$f":"+IF(ISNUMBER('System Results'!AH38),'System Results'!AH38,0)","v":0},{"$f":"+IF(ISNUMBER('System Results'!AK38),'System Results'!AK38,0)","v":0},{"$f":"+IF(ISNUMBER('System Results'!AN38),'System Results'!AN38,0)","v":0},{"$f":"+IF(ISNUMBER('System Results'!AQ38),'System Results'!AQ38,0)","v":0},{"$f":"+IF(ISNUMBER('System Results'!AT38),'System Results'!AT38,0)","v":0},{"$f":"+IF(ISNUMBER('System Results'!AW38),'System Results'!AW38,0)","v":0},{"$f":"+IF(ISNUMBER('System Results'!AZ38),'System Results'!AZ38,0)","v":0},{"$f":"+IF(ISNUMBER('System Results'!BC38),'System Results'!BC38,0)","v":0},{"$f":"+IF(ISNUMBER('System Results'!BF38),'System Results'!BF38,0)","v":0},{"$f":"+IF(ISNUMBER('System Results'!BI38),'System Results'!BI38,0)","v":0},{"$f":"+IF(ISNUMBER('System Results'!BL38),'System Results'!BL38,0)","v":0},{"$f":"+IF(ISNUMBER('System Results'!BO38),'System Results'!BO38,0)","v":0},{"$f":"+IF(ISNUMBER('System Results'!BR38),'System Results'!BR38,0)","v":0},{"$f":"+IF(ISNUMBER('System Results'!BU38),'System Results'!BU38,0)","v":0},{"$f":"+IF(ISNUMBER('System Results'!BX38),'System Results'!BX38,0)","v":0},{"$f":"+IF(ISNUMBER('System Results'!CA38),'System Results'!CA38,0)","v":0},{"$f":"+IF(ISNUMBER('System Results'!CD38),'System Results'!CD38,0)","v":0},{"$f":"+IF(ISNUMBER('System Results'!CG38),'System Results'!CG38,0)","v":0},{"$f":"+IF(ISNUMBER('System Results'!CJ38),'System Results'!CJ38,0)","v":0},{"$f":"+IF(ISNUMBER('System Results'!CM38),'System Results'!CM38,0)","v":0},{"$f":"+IF(ISNUMBER('System Results'!CP38),'System Results'!CP38,0)","v":0},{"$f":"+IF(ISNUMBER('System Results'!CS38),'System Results'!CS38,0)","v":0},{"$f":"+IF(ISNUMBER('System Results'!CV38),'System Results'!CV38,0)","v":0},{"$f":"+IF(ISNUMBER('System Results'!CY38),'System Results'!CY38,0)","v":0},{"$f":"+IF(ISNUMBER('System Results'!DB38),'System Results'!DB38,0)","v":0},{"$f":"+IF(ISNUMBER('System Results'!DE38),'System Results'!DE38,0)","v":0},{"$f":"+IF(ISNUMBER('System Results'!DH38),'System Results'!DH38,0)","v":0},{"$f":"+IF(ISNUMBER('System Results'!DK38),'System Results'!DK38,0)","v":0},{"$f":"+IF(ISNUMBER('System Results'!DN38),'System Results'!DN38,0)","v":0},{"$f":"+IF(ISNUMBER('System Results'!DQ38),'System Results'!DQ38,0)","v":0},{"$f":"+IF(ISNUMBER('System Results'!DT38),'System Results'!DT38,0)","v":0},{"$f":"+IF(ISNUMBER('System Results'!DW38),'System Results'!DW38,0)","v":0},{"$f":"+IF(ISNUMBER('System Results'!DZ38),'System Results'!DZ38,0)","v":0},{"$f":"+IF(ISNUMBER('System Results'!EC38),'System Results'!EC38,0)","v":0},{"$f":"+IF(ISNUMBER('System Results'!EF38),'System Results'!EF38,0)","v":0},{"$f":"+IF(ISNUMBER('System Results'!EI38),'System Results'!EI38,0)","v":0},{"$f":"+IF(ISNUMBER('System Results'!EL38),'System Results'!EL38,0)","v":0},{"$f":"+IF(ISNUMBER('System Results'!EO38),'System Results'!EO38,0)","v":0},{"$f":"+IF(ISNUMBER('System Results'!ER38),'System Results'!ER38,0)","v":0},{"$f":"+IF(ISNUMBER('System Results'!EU38),'System Results'!EU38,0)","v":0},{"$f":"+IF(ISNUMBER('System Results'!EX38),'System Results'!EX38,0)","v":0},{"$f":"+IF(ISNUMBER('System Results'!FA38),'System Results'!FA38,0)","v":0},{"$f":"+IF(ISNUMBER('System Results'!FD38),'System Results'!FD38,0)","v":0},{"$f":"+IF(ISNUMBER('System Results'!FG38),'System Results'!FG38,0)","v":0},{"$f":"+IF(ISNUMBER('System Results'!FJ38),'System Results'!FJ38,0)","v":0},{"$f":"+IF(ISNUMBER('System Results'!FM38),'System Results'!FM38,0)","v":0},{"$f":"+IF(ISNUMBER('System Results'!FP38),'System Results'!FP38,0)","v":0},{"$f":"+IF(ISNUMBER('System Results'!FS38),'System Results'!FS38,0)","v":0},{"$f":"+IF(ISNUMBER('System Results'!FV38),'System Results'!FV38,0)","v":0},{"$f":"+IF(ISNUMBER('System Results'!FY38),'System Results'!FY38,0)","v":0},{"$f":"+IF(ISNUMBER('System Results'!GB38),'System Results'!GB38,0)","v":0},{"$f":"+IF(ISNUMBER('System Results'!GE38),'System Results'!GE38,0)","v":0},{"$f":"+IF(ISNUMBER('System Results'!GH38),'System Results'!GH38,0)","v":0},{"$f":"+IF(ISNUMBER('System Results'!GK38),'System Results'!GK38,0)","v":0},{"$f":"+IF(ISNUMBER('System Results'!GN38),'System Results'!GN38,0)","v":0},{"$f":"+IF(ISNUMBER('System Results'!GQ38),'System Results'!GQ38,0)","v":0},{"$f":"+IF(ISNUMBER('System Results'!GT38),'System Results'!GT38,0)","v":0},{"$f":"+IF(ISNUMBER('System Results'!GW38),'System Results'!GW38,0)","v":0},{"$f":"+IF(ISNUMBER('System Results'!GZ38),'System Results'!GZ38,0)","v":0},{"$f":"+IF(ISNUMBER('System Results'!HC38),'System Results'!HC38,0)","v":0},{"$f":"+IF(ISNUMBER('System Results'!HF38),'System Results'!HF38,0)","v":0},{"$f":"+IF(ISNUMBER('System Results'!HI38),'System Results'!HI38,0)","v":0},{"$f":"+IF(ISNUMBER('System Results'!HL38),'System Results'!HL38,0)","v":0},{"$f":"+IF(ISNUMBER('System Results'!HO38),'System Results'!HO38,0)","v":0},{"$f":"+IF(ISNUMBER('System Results'!HR38),'System Results'!HR38,0)","v":0},{"$f":"+IF(ISNUMBER('System Results'!HU38),'System Results'!HU38,0)","v":0},{"$f":"+IF(ISNUMBER('System Results'!HX38),'System Results'!HX38,0)","v":0},{"$f":"+IF(ISNUMBER('System Results'!IA38),'System Results'!IA38,0)","v":0},{"$f":"+IF(ISNUMBER('System Results'!ID38),'System Results'!ID38,0)","v":0},{"$f":"+IF(ISNUMBER('System Results'!IG38),'System Results'!IG38,0)","v":0},{"$f":"+IF(ISNUMBER('System Results'!IJ38),'System Results'!IJ38,0)","v":0},{"$f":"+IF(ISNUMBER('System Results'!IM38),'System Results'!IM38,0)","v":0},{"$f":"+IF(ISNUMBER('System Results'!IP38),'System Results'!IP38,0)","v":0},{"$f":"+IF(ISNUMBER('System Results'!IS38),'System Results'!IS38,0)","v":0},{"$f":"+IF(ISNUMBER('System Results'!IV38),'System Results'!IV38,0)","v":0},{"$f":"+IF(ISNUMBER('System Results'!IY38),'System Results'!IY38,0)","v":0},{"$f":"+IF(ISNUMBER('System Results'!JB38),'System Results'!JB38,0)","v":0},{"$f":"+IF(ISNUMBER('System Results'!JE38),'System Results'!JE38,0)","v":0},{"$f":"+IF(ISNUMBER('System Results'!JH38),'System Results'!JH38,0)","v":0},{"$f":"+IF(ISNUMBER('System Results'!JK38),'System Results'!JK38,0)","v":0},{"$f":"+IF(ISNUMBER('System Results'!JN38),'System Results'!JN38,0)","v":0},{"$f":"+IF(ISNUMBER('System Results'!JQ38),'System Results'!JQ38,0)","v":0},{"$f":"+IF(ISNUMBER('System Results'!JT38),'System Results'!JT38,0)","v":0},{"$f":"+IF(ISNUMBER('System Results'!JW38),'System Results'!JW38,0)","v":0},{"$f":"+IF(ISNUMBER('System Results'!JZ38),'System Results'!JZ38,0)","v":0},{"$f":"+IF(ISNUMBER('System Results'!KC38),'System Results'!KC38,0)","v":0},{"$f":"+IF(ISNUMBER('System Results'!KF38),'System Results'!KF38,0)","v":0},{"$f":"+IF(ISNUMBER('System Results'!KI38),'System Results'!KI38,0)","v":0},{"$f":"+IF(ISNUMBER('System Results'!KL38),'System Results'!KL38,0)","v":0},{"$f":"+IF(ISNUMBER('System Results'!KO38),'System Results'!KO38,0)","v":0},{"$f":"+IF(ISNUMBER('System Results'!KR38),'System Results'!KR38,0)","v":0},{"$f":"+IF(ISNUMBER('System Results'!KU38),'System Results'!KU38,0)","v":0},{"$f":"+IF(ISNUMBER('System Results'!KX38),'System Results'!KX38,0)","v":0},{"$f":"+IF(ISNUMBER('System Results'!LA38),'System Results'!LA38,0)","v":0},{"$f":"+IF(ISNUMBER('System Results'!LD38),'System Results'!LD38,0)","v":0},{"$f":"+IF(ISNUMBER('System Results'!LG38),'System Results'!LG38,0)","v":0},{"$f":"+IF(ISNUMBER('System Results'!LJ38),'System Results'!LJ38,0)","v":0},{"$f":"+IF(ISNUMBER('System Results'!LM38),'System Results'!LM38,0)","v":0},{"$f":"+IF(ISNUMBER('System Results'!LP38),'System Results'!LP38,0)","v":0},{"$f":"+IF(ISNUMBER('System Results'!LS38),'System Results'!LS38,0)","v":0},{"$f":"+IF(ISNUMBER('System Results'!LV38),'System Results'!LV38,0)","v":0},{"$f":"+IF(ISNUMBER('System Results'!LY38),'System Results'!LY38,0)","v":0},{"$f":"+IF(ISNUMBER('System Results'!MB38),'System Results'!MB38,0)","v":0},{"$f":"+IF(ISNUMBER('System Results'!ME38),'System Results'!ME38,0)","v":0},{"$f":"+IF(ISNUMBER('System Results'!MH38),'System Results'!MH38,0)","v":0},{"$f":"+IF(ISNUMBER('System Results'!MK38),'System Results'!MK38,0)","v":0},{"$f":"+IF(ISNUMBER('System Results'!MN38),'System Results'!MN38,0)","v":0},{"$f":"+IF(ISNUMBER('System Results'!MQ38),'System Results'!MQ38,0)","v":0},{"$f":"+IF(ISNUMBER('System Results'!MT38),'System Results'!MT38,0)","v":0},{"$f":"+IF(ISNUMBER('System Results'!MW38),'System Results'!MW38,0)","v":0},{"$f":"+IF(ISNUMBER('System Results'!MZ38),'System Results'!MZ38,0)","v":0},{"$f":"+IF(ISNUMBER('System Results'!NC38),'System Results'!NC38,0)","v":0},{"$f":"+IF(ISNUMBER('System Results'!NF38),'System Results'!NF38,0)","v":0},{"$f":"+IF(ISNUMBER('System Results'!NI38),'System Results'!NI38,0)","v":0},{"$f":"+IF(ISNUMBER('System Results'!NL38),'System Results'!NL38,0)","v":0},{"$f":"+IF(ISNUMBER('System Results'!NO38),'System Results'!NO38,0)","v":0},{"$f":"+IF(ISNUMBER('System Results'!NR38),'System Results'!NR38,0)","v":0},{"$f":"+IF(ISNUMBER('System Results'!NU38),'System Results'!NU38,0)","v":0},{"$f":"+IF(ISNUMBER('System Results'!NX38),'System Results'!NX38,0)","v":0},{"$f":"+IF(ISNUMBER('System Results'!OA38),'System Results'!OA38,0)","v":0},{"$f":"+IF(ISNUMBER('System Results'!OD38),'System Results'!OD38,0)","v":0},{"$f":"+IF(ISNUMBER('System Results'!OG38),'System Results'!OG38,0)","v":0},{"$f":"+IF(ISNUMBER('System Results'!OJ38),'System Results'!OJ38,0)","v":0},{"$f":"+IF(ISNUMBER('System Results'!OM38),'System Results'!OM38,0)","v":0},{"$f":"+IF(ISNUMBER('System Results'!OP38),'System Results'!OP38,0)","v":0},{"$f":"+IF(ISNUMBER('System Results'!OS38),'System Results'!OS38,0)","v":0},{"$f":"+IF(ISNUMBER('System Results'!OV38),'System Results'!OV38,0)","v":0},{"$f":"+IF(ISNUMBER('System Results'!OY38),'System Results'!OY38,0)","v":0},{"$f":"+IF(ISNUMBER('System Results'!PB38),'System Results'!PB38,0)","v":0},{"$f":"+IF(ISNUMBER('System Results'!PE38),'System Results'!PE38,0)","v":0},{"$f":"+IF(ISNUMBER('System Results'!PH38),'System Results'!PH38,0)","v":0},{"$f":"+IF(ISNUMBER('System Results'!PK38),'System Results'!PK38,0)","v":0},{"$f":"+IF(ISNUMBER('System Results'!PN38),'System Results'!PN38,0)","v":0},{"$f":"+IF(ISNUMBER('System Results'!PQ38),'System Results'!PQ38,0)","v":0},{"$f":"+IF(ISNUMBER('System Results'!PT38),'System Results'!PT38,0)","v":0},{"$f":"+IF(ISNUMBER('System Results'!PW38),'System Results'!PW38,0)","v":0},{"$f":"+IF(ISNUMBER('System Results'!PZ38),'System Results'!PZ38,0)","v":0},{"$f":"+IF(ISNUMBER('System Results'!QC38),'System Results'!QC38,0)","v":0},{"$f":"+IF(ISNUMBER('System Results'!QF38),'System Results'!QF38,0)","v":0},{"$f":"+IF(ISNUMBER('System Results'!QI38),'System Results'!QI38,0)","v":0},{"$f":"+IF(ISNUMBER('System Results'!QL38),'System Results'!QL38,0)","v":0},{"$f":"+IF(ISNUMBER('System Results'!QO38),'System Results'!QO38,0)","v":0},{"$f":"+IF(ISNUMBER('System Results'!QR38),'System Results'!QR38,0)","v":0},{"$f":"+IF(ISNUMBER('System Results'!QU38),'System Results'!QU38,0)","v":0},{"$f":"+IF(ISNUMBER('System Results'!QX38),'System Results'!QX38,0)","v":0},{"$f":"+IF(ISNUMBER('System Results'!RA38),'System Results'!RA38,0)","v":0},{"$f":"+IF(ISNUMBER('System Results'!RD38),'System Results'!RD38,0)","v":0},{"$f":"+IF(ISNUMBER('System Results'!RG38),'System Results'!RG38,0)","v":0},{"$f":"+IF(ISNUMBER('System Results'!RJ38),'System Results'!RJ38,0)","v":0},{"$f":"+IF(ISNUMBER('System Results'!RM38),'System Results'!RM38,0)","v":0},{"$f":"+IF(ISNUMBER('System Results'!RP38),'System Results'!RP38,0)","v":0},{"$f":"+IF(ISNUMBER('System Results'!RS38),'System Results'!RS38,0)","v":0},{"$f":"+IF(ISNUMBER('System Results'!RV38),'System Results'!RV38,0)","v":0},{"$f":"+IF(ISNUMBER('System Results'!RY38),'System Results'!RY38,0)","v":0},{"$f":"+IF(ISNUMBER('System Results'!SB38),'System Results'!SB38,0)","v":0},{"$f":"+IF(ISNUMBER('System Results'!SE38),'System Results'!SE38,0)","v":0},{"$f":"+IF(ISNUMBER('System Results'!SH38),'System Results'!SH38,0)","v":0},{"$f":"+IF(ISNUMBER('System Results'!SK38),'System Results'!SK38,0)","v":0},{"$f":"+IF(ISNUMBER('System Results'!SN38),'System Results'!SN38,0)","v":0},{"$f":"+IF(ISNUMBER('System Results'!SQ38),'System Results'!SQ38,0)","v":0},{"$f":"+IF(ISNUMBER('System Results'!ST38),'System Results'!ST38,0)","v":0},{"$f":"+IF(ISNUMBER('System Results'!SW38),'System Results'!SW38,0)","v":0},{"$f":"+IF(ISNUMBER('System Results'!SZ38),'System Results'!SZ38,0)","v":0},{"$f":"+IF(ISNUMBER('System Results'!TC38),'System Results'!TC38,0)","v":0},{"$f":"+IF(ISNUMBER('System Results'!TF38),'System Results'!TF38,0)","v":0},{"$f":"+IF(ISNUMBER('System Results'!TI38),'System Results'!TI38,0)","v":0},{"$f":"+IF(ISNUMBER('System Results'!TL38),'System Results'!TL38,0)","v":0},{"$f":"+IF(ISNUMBER('System Results'!TO38),'System Results'!TO38,0)","v":0},{"$f":"+IF(ISNUMBER('System Results'!TR38),'System Results'!TR38,0)","v":0},{"$f":"+IF(ISNUMBER('System Results'!TU38),'System Results'!TU38,0)","v":0},{"$f":"+IF(ISNUMBER('System Results'!TX38),'System Results'!TX38,0)","v":0},{"$f":"+IF(ISNUMBER('System Results'!UA38),'System Results'!UA38,0)","v":0},{"$f":"+IF(ISNUMBER('System Results'!UD38),'System Results'!UD38,0)","v":0},{"$f":"+IF(ISNUMBER('System Results'!UG38),'System Results'!UG38,0)","v":0},{"$f":"+IF(ISNUMBER('System Results'!UJ38),'System Results'!UJ38,0)","v":0},{"$f":"+IF(ISNUMBER('System Results'!UM38),'System Results'!UM38,0)","v":0},{"$f":"+IF(ISNUMBER('System Results'!UP38),'System Results'!UP38,0)","v":0},{"$f":"+IF(ISNUMBER('System Results'!US38),'System Results'!US38,0)","v":0},{"$f":"+IF(ISNUMBER('System Results'!UV38),'System Results'!UV38,0)","v":0},{"$f":"+IF(ISNUMBER('System Results'!UY38),'System Results'!UY38,0)","v":0},{"$f":"+IF(ISNUMBER('System Results'!VB38),'System Results'!VB38,0)","v":0},{"$f":"+IF(ISNUMBER('System Results'!VE38),'System Results'!VE38,0)","v":0},{"$f":"+IF(ISNUMBER('System Results'!VH38),'System Results'!VH38,0)","v":0},{"$f":"+IF(ISNUMBER('System Results'!VK38),'System Results'!VK38,0)","v":0},{"$f":"+IF(ISNUMBER('System Results'!VN38),'System Results'!VN38,0)","v":0},{"$f":"+IF(ISNUMBER('System Results'!VQ38),'System Results'!VQ38,0)","v":0},{"$f":"+IF(ISNUMBER('System Results'!VT38),'System Results'!VT38,0)","v":0},{"$f":"+IF(ISNUMBER('System Results'!VW38),'System Results'!VW38,0)","v":0},{"$f":"+IF(ISNUMBER('System Results'!VZ38),'System Results'!VZ38,0)","v":0},{"$f":"+IF(ISNUMBER('System Results'!WC38),'System Results'!WC38,0)","v":0},{"$f":"+IF(ISNUMBER('System Results'!WF38),'System Results'!WF38,0)","v":0},{"$f":"+IF(ISNUMBER('System Results'!WI38),'System Results'!WI38,0)","v":0},{"$f":"+IF(ISNUMBER('System Results'!WL38),'System Results'!WL38,0)","v":0},{"$f":"+IF(ISNUMBER('System Results'!WO38),'System Results'!WO38,0)","v":0},{"$f":"+IF(ISNUMBER('System Results'!WR38),'System Results'!WR38,0)","v":0},{"$f":"+IF(ISNUMBER('System Results'!WU38),'System Results'!WU38,0)","v":0},{"$f":"+IF(ISNUMBER('System Results'!WX38),'System Results'!WX38,0)","v":0},{"$f":"+IF(ISNUMBER('System Results'!XA38),'System Results'!XA38,0)","v":0},{"$f":"+IF(ISNUMBER('System Results'!XD38),'System Results'!XD38,0)","v":0},{"$f":"+IF(ISNUMBER('System Results'!XG38),'System Results'!XG38,0)","v":0},{"$f":"+IF(ISNUMBER('System Results'!XJ38),'System Results'!XJ38,0)","v":0},{"$f":"+IF(ISNUMBER('System Results'!XM38),'System Results'!XM38,0)","v":0},{"$f":"+IF(ISNUMBER('System Results'!XP38),'System Results'!XP38,0)","v":0},{"$f":"+IF(ISNUMBER('System Results'!XS38),'System Results'!XS38,0)","v":0},{"$f":"+IF(ISNUMBER('System Results'!XV38),'System Results'!XV38,0)","v":0},{"$f":"+IF(ISNUMBER('System Results'!XY38),'System Results'!XY38,0)","v":0},{"$f":"+IF(ISNUMBER('System Results'!YB38),'System Results'!YB38,0)","v":0},{"$f":"+IF(ISNUMBER('System Results'!YE38),'System Results'!YE38,0)","v":0},{"$f":"+IF(ISNUMBER('System Results'!YH38),'System Results'!YH38,0)","v":0},{"$f":"+IF(ISNUMBER('System Results'!YK38),'System Results'!YK38,0)","v":0},{"$f":"+IF(ISNUMBER('System Results'!YN38),'System Results'!YN38,0)","v":0},{"$f":"+IF(ISNUMBER('System Results'!YQ38),'System Results'!YQ38,0)","v":0},{"$f":"+IF(ISNUMBER('System Results'!YT38),'System Results'!YT38,0)","v":0},{"$f":"+IF(ISNUMBER('System Results'!YW38),'System Results'!YW38,0)","v":0},{"$f":"+IF(ISNUMBER('System Results'!YZ38),'System Results'!YZ38,0)","v":0},{"$f":"+IF(ISNUMBER('System Results'!ZC38),'System Results'!ZC38,0)","v":0},{"$f":"+IF(ISNUMBER('System Results'!ZF38),'System Results'!ZF38,0)","v":0},{"$f":"+IF(ISNUMBER('System Results'!ZI38),'System Results'!ZI38,0)","v":0},{"$f":"+IF(ISNUMBER('System Results'!ZL38),'System Results'!ZL38,0)","v":0},{"$f":"+IF(ISNUMBER('System Results'!ZO38),'System Results'!ZO38,0)","v":0},{"$f":"+IF(ISNUMBER('System Results'!ZR38),'System Results'!ZR38,0)","v":0},{"$f":"+IF(ISNUMBER('System Results'!ZU38),'System Results'!ZU38,0)","v":0},{"$f":"+IF(ISNUMBER('System Results'!ZX38),'System Results'!ZX38,0)","v":0},{"$f":"+IF(ISNUMBER('System Results'!AAA38),'System Results'!AAA38,0)","v":0},{"$f":"+IF(ISNUMBER('System Results'!AAD38),'System Results'!AAD38,0)","v":0},{"$f":"+IF(ISNUMBER('System Results'!AAG38),'System Results'!AAG38,0)","v":0},{"$f":"+IF(ISNUMBER('System Results'!AAJ38),'System Results'!AAJ38,0)","v":0},{"$f":"+IF(ISNUMBER('System Results'!AAM38),'System Results'!AAM38,0)","v":0},{"$f":"+IF(ISNUMBER('System Results'!AAP38),'System Results'!AAP38,0)","v":0},{"$f":"+IF(ISNUMBER('System Results'!AAS38),'System Results'!AAS38,0)","v":0},{"$f":"+IF(ISNUMBER('System Results'!AAV38),'System Results'!AAV38,0)","v":0},{"$f":"+IF(ISNUMBER('System Results'!AAY38),'System Results'!AAY38,0)","v":0},{"$f":"+IF(ISNUMBER('System Results'!ABB38),'System Results'!ABB38,0)","v":0},{"$f":"+IF(ISNUMBER('System Results'!ABE38),'System Results'!ABE38,0)","v":0},{"$f":"+IF(ISNUMBER('System Results'!ABH38),'System Results'!ABH38,0)","v":0},{"$f":"+IF(ISNUMBER('System Results'!ABK38),'System Results'!ABK38,0)","v":0},{"$f":"+IF(ISNUMBER('System Results'!ABN38),'System Results'!ABN38,0)","v":0},{"$f":"+IF(ISNUMBER('System Results'!ABQ38),'System Results'!ABQ38,0)","v":0},{"$f":"+IF(ISNUMBER('System Results'!ABT38),'System Results'!ABT38,0)","v":0},{"$f":"+IF(ISNUMBER('System Results'!ABW38),'System Results'!ABW38,0)","v":0},{"$f":"+IF(ISNUMBER('System Results'!ABZ38),'System Results'!ABZ38,0)","v":0},{"$f":"+IF(ISNUMBER('System Results'!ACC38),'System Results'!ACC38,0)","v":0},{"$f":"+IF(ISNUMBER('System Results'!ACF38),'System Results'!ACF38,0)","v":0},{"$f":"+IF(ISNUMBER('System Results'!ACI38),'System Results'!ACI38,0)","v":0},{"$f":"+IF(ISNUMBER('System Results'!ACL38),'System Results'!ACL38,0)","v":0},{"$f":"+IF(ISNUMBER('System Results'!ACO38),'System Results'!ACO38,0)","v":0},{"$f":"+IF(ISNUMBER('System Results'!ACR38),'System Results'!ACR38,0)","v":0},{"$f":"+IF(ISNUMBER('System Results'!ACU38),'System Results'!ACU38,0)","v":0},{"$f":"+IF(ISNUMBER('System Results'!ACX38),'System Results'!ACX38,0)","v":0},{"$f":"+IF(ISNUMBER('System Results'!ADA38),'System Results'!ADA38,0)","v":0},{"$f":"+IF(ISNUMBER('System Results'!ADD38),'System Results'!ADD38,0)","v":0},{"$f":"+IF(ISNUMBER('System Results'!ADG38),'System Results'!ADG38,0)","v":0},{"$f":"+IF(ISNUMBER('System Results'!ADJ38),'System Results'!ADJ38,0)","v":0},{"$f":"+IF(ISNUMBER('System Results'!ADM38),'System Results'!ADM38,0)","v":0},{"$f":"+IF(ISNUMBER('System Results'!ADP38),'System Results'!ADP38,0)","v":0},{"$f":"+IF(ISNUMBER('System Results'!ADS38),'System Results'!ADS38,0)","v":0},{"$f":"+IF(ISNUMBER('System Results'!ADV38),'System Results'!ADV38,0)","v":0},{"$f":"+IF(ISNUMBER('System Results'!ADY38),'System Results'!ADY38,0)","v":0},{"$f":"+IF(ISNUMBER('System Results'!AEB38),'System Results'!AEB38,0)","v":0},{"$f":"+IF(ISNUMBER('System Results'!AEE38),'System Results'!AEE38,0)","v":0},{"$f":"+IF(ISNUMBER('System Results'!AEH38),'System Results'!AEH38,0)","v":0},{"$f":"+IF(ISNUMBER('System Results'!AEK38),'System Results'!AEK38,0)","v":0},{"$f":"+IF(ISNUMBER('System Results'!AEN38),'System Results'!AEN38,0)","v":0},{"$f":"+IF(ISNUMBER('System Results'!AEQ38),'System Results'!AEQ38,0)","v":0},{"$f":"+IF(ISNUMBER('System Results'!AET38),'System Results'!AET38,0)","v":0},{"$f":"+IF(ISNUMBER('System Results'!AEW38),'System Results'!AEW38,0)","v":0},{"$f":"+IF(ISNUMBER('System Results'!AEZ38),'System Results'!AEZ38,0)","v":0},{"$f":"+IF(ISNUMBER('System Results'!AFC38),'System Results'!AFC38,0)","v":0},{"$f":"+IF(ISNUMBER('System Results'!AFF38),'System Results'!AFF38,0)","v":0},{"$f":"+IF(ISNUMBER('System Results'!AFI38),'System Results'!AFI38,0)","v":0},{"$f":"+IF(ISNUMBER('System Results'!AFL38),'System Results'!AFL38,0)","v":0},{"$f":"+IF(ISNUMBER('System Results'!AFO38),'System Results'!AFO38,0)","v":0},{"$f":"+IF(ISNUMBER('System Results'!AFR38),'System Results'!AFR38,0)","v":0},{"$f":"+IF(ISNUMBER('System Results'!AFU38),'System Results'!AFU38,0)","v":0},{"$f":"+IF(ISNUMBER('System Results'!AFX38),'System Results'!AFX38,0)","v":0},{"$f":"+IF(ISNUMBER('System Results'!AGA38),'System Results'!AGA38,0)","v":0},{"$f":"+IF(ISNUMBER('System Results'!AGD38),'System Results'!AGD38,0)","v":0},{"$f":"+IF(ISNUMBER('System Results'!AGG38),'System Results'!AGG38,0)","v":0},{"$f":"+IF(ISNUMBER('System Results'!AGJ38),'System Results'!AGJ38,0)","v":0},{"$f":"+IF(ISNUMBER('System Results'!AGM38),'System Results'!AGM38,0)","v":0},{"$f":"+IF(ISNUMBER('System Results'!AGP38),'System Results'!AGP38,0)","v":0},{"$f":"+IF(ISNUMBER('System Results'!AGS38),'System Results'!AGS38,0)","v":0},{"$f":"+IF(ISNUMBER('System Results'!AGV38),'System Results'!AGV38,0)","v":0},{"$f":"+IF(ISNUMBER('System Results'!AGY38),'System Results'!AGY38,0)","v":0},{"$f":"+IF(ISNUMBER('System Results'!AHB38),'System Results'!AHB38,0)","v":0},{"$f":"+IF(ISNUMBER('System Results'!AHE38),'System Results'!AHE38,0)","v":0},{"$f":"+IF(ISNUMBER('System Results'!AHH38),'System Results'!AHH38,0)","v":0},{"$f":"+IF(ISNUMBER('System Results'!AHK38),'System Results'!AHK38,0)","v":0},{"$f":"+IF(ISNUMBER('System Results'!AHN38),'System Results'!AHN38,0)","v":0},{"$f":"+IF(ISNUMBER('System Results'!AHQ38),'System Results'!AHQ38,0)","v":0},{"$f":"+IF(ISNUMBER('System Results'!AHT38),'System Results'!AHT38,0)","v":0}]
[{"$f":"+'System Results'!B39","v":"Fuel- & energy-related emissions"},0,{"$f":"+IF(ISNUMBER('System Results'!G39),'System Results'!G39,0)","v":0},{"$f":"+IF(ISNUMBER('System Results'!J39),'System Results'!J39,0)","v":0},{"$f":"+IF(ISNUMBER('System Results'!M39),'System Results'!M39,0)","v":0},{"$f":"+IF(ISNUMBER('System Results'!P39),'System Results'!P39,0)","v":0},{"$f":"+IF(ISNUMBER('System Results'!S39),'System Results'!S39,0)","v":0},{"$f":"+IF(ISNUMBER('System Results'!V39),'System Results'!V39,0)","v":0},{"$f":"+IF(ISNUMBER('System Results'!Y39),'System Results'!Y39,0)","v":0},{"$f":"+IF(ISNUMBER('System Results'!AB39),'System Results'!AB39,0)","v":0},{"$f":"+IF(ISNUMBER('System Results'!AE39),'System Results'!AE39,0)","v":0},{"$f":"+IF(ISNUMBER('System Results'!AH39),'System Results'!AH39,0)","v":0},{"$f":"+IF(ISNUMBER('System Results'!AK39),'System Results'!AK39,0)","v":0},{"$f":"+IF(ISNUMBER('System Results'!AN39),'System Results'!AN39,0)","v":0},{"$f":"+IF(ISNUMBER('System Results'!AQ39),'System Results'!AQ39,0)","v":0},{"$f":"+IF(ISNUMBER('System Results'!AT39),'System Results'!AT39,0)","v":0},{"$f":"+IF(ISNUMBER('System Results'!AW39),'System Results'!AW39,0)","v":0},{"$f":"+IF(ISNUMBER('System Results'!AZ39),'System Results'!AZ39,0)","v":0},{"$f":"+IF(ISNUMBER('System Results'!BC39),'System Results'!BC39,0)","v":0},{"$f":"+IF(ISNUMBER('System Results'!BF39),'System Results'!BF39,0)","v":0},{"$f":"+IF(ISNUMBER('System Results'!BI39),'System Results'!BI39,0)","v":0},{"$f":"+IF(ISNUMBER('System Results'!BL39),'System Results'!BL39,0)","v":0},{"$f":"+IF(ISNUMBER('System Results'!BO39),'System Results'!BO39,0)","v":0},{"$f":"+IF(ISNUMBER('System Results'!BR39),'System Results'!BR39,0)","v":0},{"$f":"+IF(ISNUMBER('System Results'!BU39),'System Results'!BU39,0)","v":0},{"$f":"+IF(ISNUMBER('System Results'!BX39),'System Results'!BX39,0)","v":0},{"$f":"+IF(ISNUMBER('System Results'!CA39),'System Results'!CA39,0)","v":0},{"$f":"+IF(ISNUMBER('System Results'!CD39),'System Results'!CD39,0)","v":0},{"$f":"+IF(ISNUMBER('System Results'!CG39),'System Results'!CG39,0)","v":0},{"$f":"+IF(ISNUMBER('System Results'!CJ39),'System Results'!CJ39,0)","v":0},{"$f":"+IF(ISNUMBER('System Results'!CM39),'System Results'!CM39,0)","v":0},{"$f":"+IF(ISNUMBER('System Results'!CP39),'System Results'!CP39,0)","v":0},{"$f":"+IF(ISNUMBER('System Results'!CS39),'System Results'!CS39,0)","v":0},{"$f":"+IF(ISNUMBER('System Results'!CV39),'System Results'!CV39,0)","v":0},{"$f":"+IF(ISNUMBER('System Results'!CY39),'System Results'!CY39,0)","v":0},{"$f":"+IF(ISNUMBER('System Results'!DB39),'System Results'!DB39,0)","v":0},{"$f":"+IF(ISNUMBER('System Results'!DE39),'System Results'!DE39,0)","v":0},{"$f":"+IF(ISNUMBER('System Results'!DH39),'System Results'!DH39,0)","v":0},{"$f":"+IF(ISNUMBER('System Results'!DK39),'System Results'!DK39,0)","v":0},{"$f":"+IF(ISNUMBER('System Results'!DN39),'System Results'!DN39,0)","v":0},{"$f":"+IF(ISNUMBER('System Results'!DQ39),'System Results'!DQ39,0)","v":0},{"$f":"+IF(ISNUMBER('System Results'!DT39),'System Results'!DT39,0)","v":0},{"$f":"+IF(ISNUMBER('System Results'!DW39),'System Results'!DW39,0)","v":0},{"$f":"+IF(ISNUMBER('System Results'!DZ39),'System Results'!DZ39,0)","v":0},{"$f":"+IF(ISNUMBER('System Results'!EC39),'System Results'!EC39,0)","v":0},{"$f":"+IF(ISNUMBER('System Results'!EF39),'System Results'!EF39,0)","v":0},{"$f":"+IF(ISNUMBER('System Results'!EI39),'System Results'!EI39,0)","v":0},{"$f":"+IF(ISNUMBER('System Results'!EL39),'System Results'!EL39,0)","v":0},{"$f":"+IF(ISNUMBER('System Results'!EO39),'System Results'!EO39,0)","v":0},{"$f":"+IF(ISNUMBER('System Results'!ER39),'System Results'!ER39,0)","v":0},{"$f":"+IF(ISNUMBER('System Results'!EU39),'System Results'!EU39,0)","v":0},{"$f":"+IF(ISNUMBER('System Results'!EX39),'System Results'!EX39,0)","v":0},{"$f":"+IF(ISNUMBER('System Results'!FA39),'System Results'!FA39,0)","v":0},{"$f":"+IF(ISNUMBER('System Results'!FD39),'System Results'!FD39,0)","v":0},{"$f":"+IF(ISNUMBER('System Results'!FG39),'System Results'!FG39,0)","v":0},{"$f":"+IF(ISNUMBER('System Results'!FJ39),'System Results'!FJ39,0)","v":0},{"$f":"+IF(ISNUMBER('System Results'!FM39),'System Results'!FM39,0)","v":0},{"$f":"+IF(ISNUMBER('System Results'!FP39),'System Results'!FP39,0)","v":0},{"$f":"+IF(ISNUMBER('System Results'!FS39),'System Results'!FS39,0)","v":0},{"$f":"+IF(ISNUMBER('System Results'!FV39),'System Results'!FV39,0)","v":0},{"$f":"+IF(ISNUMBER('System Results'!FY39),'System Results'!FY39,0)","v":0},{"$f":"+IF(ISNUMBER('System Results'!GB39),'System Results'!GB39,0)","v":0},{"$f":"+IF(ISNUMBER('System Results'!GE39),'System Results'!GE39,0)","v":0},{"$f":"+IF(ISNUMBER('System Results'!GH39),'System Results'!GH39,0)","v":0},{"$f":"+IF(ISNUMBER('System Results'!GK39),'System Results'!GK39,0)","v":0},{"$f":"+IF(ISNUMBER('System Results'!GN39),'System Results'!GN39,0)","v":0},{"$f":"+IF(ISNUMBER('System Results'!GQ39),'System Results'!GQ39,0)","v":0},{"$f":"+IF(ISNUMBER('System Results'!GT39),'System Results'!GT39,0)","v":0},{"$f":"+IF(ISNUMBER('System Results'!GW39),'System Results'!GW39,0)","v":0},{"$f":"+IF(ISNUMBER('System Results'!GZ39),'System Results'!GZ39,0)","v":0},{"$f":"+IF(ISNUMBER('System Results'!HC39),'System Results'!HC39,0)","v":0},{"$f":"+IF(ISNUMBER('System Results'!HF39),'System Results'!HF39,0)","v":0},{"$f":"+IF(ISNUMBER('System Results'!HI39),'System Results'!HI39,0)","v":0},{"$f":"+IF(ISNUMBER('System Results'!HL39),'System Results'!HL39,0)","v":0},{"$f":"+IF(ISNUMBER('System Results'!HO39),'System Results'!HO39,0)","v":0},{"$f":"+IF(ISNUMBER('System Results'!HR39),'System Results'!HR39,0)","v":0},{"$f":"+IF(ISNUMBER('System Results'!HU39),'System Results'!HU39,0)","v":0},{"$f":"+IF(ISNUMBER('System Results'!HX39),'System Results'!HX39,0)","v":0},{"$f":"+IF(ISNUMBER('System Results'!IA39),'System Results'!IA39,0)","v":0},{"$f":"+IF(ISNUMBER('System Results'!ID39),'System Results'!ID39,0)","v":0},{"$f":"+IF(ISNUMBER('System Results'!IG39),'System Results'!IG39,0)","v":0},{"$f":"+IF(ISNUMBER('System Results'!IJ39),'System Results'!IJ39,0)","v":0},{"$f":"+IF(ISNUMBER('System Results'!IM39),'System Results'!IM39,0)","v":0},{"$f":"+IF(ISNUMBER('System Results'!IP39),'System Results'!IP39,0)","v":0},{"$f":"+IF(ISNUMBER('System Results'!IS39),'System Results'!IS39,0)","v":0},{"$f":"+IF(ISNUMBER('System Results'!IV39),'System Results'!IV39,0)","v":0},{"$f":"+IF(ISNUMBER('System Results'!IY39),'System Results'!IY39,0)","v":0},{"$f":"+IF(ISNUMBER('System Results'!JB39),'System Results'!JB39,0)","v":0},{"$f":"+IF(ISNUMBER('System Results'!JE39),'System Results'!JE39,0)","v":0},{"$f":"+IF(ISNUMBER('System Results'!JH39),'System Results'!JH39,0)","v":0},{"$f":"+IF(ISNUMBER('System Results'!JK39),'System Results'!JK39,0)","v":0},{"$f":"+IF(ISNUMBER('System Results'!JN39),'System Results'!JN39,0)","v":0},{"$f":"+IF(ISNUMBER('System Results'!JQ39),'System Results'!JQ39,0)","v":0},{"$f":"+IF(ISNUMBER('System Results'!JT39),'System Results'!JT39,0)","v":0},{"$f":"+IF(ISNUMBER('System Results'!JW39),'System Results'!JW39,0)","v":0},{"$f":"+IF(ISNUMBER('System Results'!JZ39),'System Results'!JZ39,0)","v":0},{"$f":"+IF(ISNUMBER('System Results'!KC39),'System Results'!KC39,0)","v":0},{"$f":"+IF(ISNUMBER('System Results'!KF39),'System Results'!KF39,0)","v":0},{"$f":"+IF(ISNUMBER('System Results'!KI39),'System Results'!KI39,0)","v":0},{"$f":"+IF(ISNUMBER('System Results'!KL39),'System Results'!KL39,0)","v":0},{"$f":"+IF(ISNUMBER('System Results'!KO39),'System Results'!KO39,0)","v":0},{"$f":"+IF(ISNUMBER('System Results'!KR39),'System Results'!KR39,0)","v":0},{"$f":"+IF(ISNUMBER('System Results'!KU39),'System Results'!KU39,0)","v":0},{"$f":"+IF(ISNUMBER('System Results'!KX39),'System Results'!KX39,0)","v":0},{"$f":"+IF(ISNUMBER('System Results'!LA39),'System Results'!LA39,0)","v":0},{"$f":"+IF(ISNUMBER('System Results'!LD39),'System Results'!LD39,0)","v":0},{"$f":"+IF(ISNUMBER('System Results'!LG39),'System Results'!LG39,0)","v":0},{"$f":"+IF(ISNUMBER('System Results'!LJ39),'System Results'!LJ39,0)","v":0},{"$f":"+IF(ISNUMBER('System Results'!LM39),'System Results'!LM39,0)","v":0},{"$f":"+IF(ISNUMBER('System Results'!LP39),'System Results'!LP39,0)","v":0},{"$f":"+IF(ISNUMBER('System Results'!LS39),'System Results'!LS39,0)","v":0},{"$f":"+IF(ISNUMBER('System Results'!LV39),'System Results'!LV39,0)","v":0},{"$f":"+IF(ISNUMBER('System Results'!LY39),'System Results'!LY39,0)","v":0},{"$f":"+IF(ISNUMBER('System Results'!MB39),'System Results'!MB39,0)","v":0},{"$f":"+IF(ISNUMBER('System Results'!ME39),'System Results'!ME39,0)","v":0},{"$f":"+IF(ISNUMBER('System Results'!MH39),'System Results'!MH39,0)","v":0},{"$f":"+IF(ISNUMBER('System Results'!MK39),'System Results'!MK39,0)","v":0},{"$f":"+IF(ISNUMBER('System Results'!MN39),'System Results'!MN39,0)","v":0},{"$f":"+IF(ISNUMBER('System Results'!MQ39),'System Results'!MQ39,0)","v":0},{"$f":"+IF(ISNUMBER('System Results'!MT39),'System Results'!MT39,0)","v":0},{"$f":"+IF(ISNUMBER('System Results'!MW39),'System Results'!MW39,0)","v":0},{"$f":"+IF(ISNUMBER('System Results'!MZ39),'System Results'!MZ39,0)","v":0},{"$f":"+IF(ISNUMBER('System Results'!NC39),'System Results'!NC39,0)","v":0},{"$f":"+IF(ISNUMBER('System Results'!NF39),'System Results'!NF39,0)","v":0},{"$f":"+IF(ISNUMBER('System Results'!NI39),'System Results'!NI39,0)","v":0},{"$f":"+IF(ISNUMBER('System Results'!NL39),'System Results'!NL39,0)","v":0},{"$f":"+IF(ISNUMBER('System Results'!NO39),'System Results'!NO39,0)","v":0},{"$f":"+IF(ISNUMBER('System Results'!NR39),'System Results'!NR39,0)","v":0},{"$f":"+IF(ISNUMBER('System Results'!NU39),'System Results'!NU39,0)","v":0},{"$f":"+IF(ISNUMBER('System Results'!NX39),'System Results'!NX39,0)","v":0},{"$f":"+IF(ISNUMBER('System Results'!OA39),'System Results'!OA39,0)","v":0},{"$f":"+IF(ISNUMBER('System Results'!OD39),'System Results'!OD39,0)","v":0},{"$f":"+IF(ISNUMBER('System Results'!OG39),'System Results'!OG39,0)","v":0},{"$f":"+IF(ISNUMBER('System Results'!OJ39),'System Results'!OJ39,0)","v":0},{"$f":"+IF(ISNUMBER('System Results'!OM39),'System Results'!OM39,0)","v":0},{"$f":"+IF(ISNUMBER('System Results'!OP39),'System Results'!OP39,0)","v":0},{"$f":"+IF(ISNUMBER('System Results'!OS39),'System Results'!OS39,0)","v":0},{"$f":"+IF(ISNUMBER('System Results'!OV39),'System Results'!OV39,0)","v":0},{"$f":"+IF(ISNUMBER('System Results'!OY39),'System Results'!OY39,0)","v":0},{"$f":"+IF(ISNUMBER('System Results'!PB39),'System Results'!PB39,0)","v":0},{"$f":"+IF(ISNUMBER('System Results'!PE39),'System Results'!PE39,0)","v":0},{"$f":"+IF(ISNUMBER('System Results'!PH39),'System Results'!PH39,0)","v":0},{"$f":"+IF(ISNUMBER('System Results'!PK39),'System Results'!PK39,0)","v":0},{"$f":"+IF(ISNUMBER('System Results'!PN39),'System Results'!PN39,0)","v":0},{"$f":"+IF(ISNUMBER('System Results'!PQ39),'System Results'!PQ39,0)","v":0},{"$f":"+IF(ISNUMBER('System Results'!PT39),'System Results'!PT39,0)","v":0},{"$f":"+IF(ISNUMBER('System Results'!PW39),'System Results'!PW39,0)","v":0},{"$f":"+IF(ISNUMBER('System Results'!PZ39),'System Results'!PZ39,0)","v":0},{"$f":"+IF(ISNUMBER('System Results'!QC39),'System Results'!QC39,0)","v":0},{"$f":"+IF(ISNUMBER('System Results'!QF39),'System Results'!QF39,0)","v":0},{"$f":"+IF(ISNUMBER('System Results'!QI39),'System Results'!QI39,0)","v":0},{"$f":"+IF(ISNUMBER('System Results'!QL39),'System Results'!QL39,0)","v":0},{"$f":"+IF(ISNUMBER('System Results'!QO39),'System Results'!QO39,0)","v":0},{"$f":"+IF(ISNUMBER('System Results'!QR39),'System Results'!QR39,0)","v":0},{"$f":"+IF(ISNUMBER('System Results'!QU39),'System Results'!QU39,0)","v":0},{"$f":"+IF(ISNUMBER('System Results'!QX39),'System Results'!QX39,0)","v":0},{"$f":"+IF(ISNUMBER('System Results'!RA39),'System Results'!RA39,0)","v":0},{"$f":"+IF(ISNUMBER('System Results'!RD39),'System Results'!RD39,0)","v":0},{"$f":"+IF(ISNUMBER('System Results'!RG39),'System Results'!RG39,0)","v":0},{"$f":"+IF(ISNUMBER('System Results'!RJ39),'System Results'!RJ39,0)","v":0},{"$f":"+IF(ISNUMBER('System Results'!RM39),'System Results'!RM39,0)","v":0},{"$f":"+IF(ISNUMBER('System Results'!RP39),'System Results'!RP39,0)","v":0},{"$f":"+IF(ISNUMBER('System Results'!RS39),'System Results'!RS39,0)","v":0},{"$f":"+IF(ISNUMBER('System Results'!RV39),'System Results'!RV39,0)","v":0},{"$f":"+IF(ISNUMBER('System Results'!RY39),'System Results'!RY39,0)","v":0},{"$f":"+IF(ISNUMBER('System Results'!SB39),'System Results'!SB39,0)","v":0},{"$f":"+IF(ISNUMBER('System Results'!SE39),'System Results'!SE39,0)","v":0},{"$f":"+IF(ISNUMBER('System Results'!SH39),'System Results'!SH39,0)","v":0},{"$f":"+IF(ISNUMBER('System Results'!SK39),'System Results'!SK39,0)","v":0},{"$f":"+IF(ISNUMBER('System Results'!SN39),'System Results'!SN39,0)","v":0},{"$f":"+IF(ISNUMBER('System Results'!SQ39),'System Results'!SQ39,0)","v":0},{"$f":"+IF(ISNUMBER('System Results'!ST39),'System Results'!ST39,0)","v":0},{"$f":"+IF(ISNUMBER('System Results'!SW39),'System Results'!SW39,0)","v":0},{"$f":"+IF(ISNUMBER('System Results'!SZ39),'System Results'!SZ39,0)","v":0},{"$f":"+IF(ISNUMBER('System Results'!TC39),'System Results'!TC39,0)","v":0},{"$f":"+IF(ISNUMBER('System Results'!TF39),'System Results'!TF39,0)","v":0},{"$f":"+IF(ISNUMBER('System Results'!TI39),'System Results'!TI39,0)","v":0},{"$f":"+IF(ISNUMBER('System Results'!TL39),'System Results'!TL39,0)","v":0},{"$f":"+IF(ISNUMBER('System Results'!TO39),'System Results'!TO39,0)","v":0},{"$f":"+IF(ISNUMBER('System Results'!TR39),'System Results'!TR39,0)","v":0},{"$f":"+IF(ISNUMBER('System Results'!TU39),'System Results'!TU39,0)","v":0},{"$f":"+IF(ISNUMBER('System Results'!TX39),'System Results'!TX39,0)","v":0},{"$f":"+IF(ISNUMBER('System Results'!UA39),'System Results'!UA39,0)","v":0},{"$f":"+IF(ISNUMBER('System Results'!UD39),'System Results'!UD39,0)","v":0},{"$f":"+IF(ISNUMBER('System Results'!UG39),'System Results'!UG39,0)","v":0},{"$f":"+IF(ISNUMBER('System Results'!UJ39),'System Results'!UJ39,0)","v":0},{"$f":"+IF(ISNUMBER('System Results'!UM39),'System Results'!UM39,0)","v":0},{"$f":"+IF(ISNUMBER('System Results'!UP39),'System Results'!UP39,0)","v":0},{"$f":"+IF(ISNUMBER('System Results'!US39),'System Results'!US39,0)","v":0},{"$f":"+IF(ISNUMBER('System Results'!UV39),'System Results'!UV39,0)","v":0},{"$f":"+IF(ISNUMBER('System Results'!UY39),'System Results'!UY39,0)","v":0},{"$f":"+IF(ISNUMBER('System Results'!VB39),'System Results'!VB39,0)","v":0},{"$f":"+IF(ISNUMBER('System Results'!VE39),'System Results'!VE39,0)","v":0},{"$f":"+IF(ISNUMBER('System Results'!VH39),'System Results'!VH39,0)","v":0},{"$f":"+IF(ISNUMBER('System Results'!VK39),'System Results'!VK39,0)","v":0},{"$f":"+IF(ISNUMBER('System Results'!VN39),'System Results'!VN39,0)","v":0},{"$f":"+IF(ISNUMBER('System Results'!VQ39),'System Results'!VQ39,0)","v":0},{"$f":"+IF(ISNUMBER('System Results'!VT39),'System Results'!VT39,0)","v":0},{"$f":"+IF(ISNUMBER('System Results'!VW39),'System Results'!VW39,0)","v":0},{"$f":"+IF(ISNUMBER('System Results'!VZ39),'System Results'!VZ39,0)","v":0},{"$f":"+IF(ISNUMBER('System Results'!WC39),'System Results'!WC39,0)","v":0},{"$f":"+IF(ISNUMBER('System Results'!WF39),'System Results'!WF39,0)","v":0},{"$f":"+IF(ISNUMBER('System Results'!WI39),'System Results'!WI39,0)","v":0},{"$f":"+IF(ISNUMBER('System Results'!WL39),'System Results'!WL39,0)","v":0},{"$f":"+IF(ISNUMBER('System Results'!WO39),'System Results'!WO39,0)","v":0},{"$f":"+IF(ISNUMBER('System Results'!WR39),'System Results'!WR39,0)","v":0},{"$f":"+IF(ISNUMBER('System Results'!WU39),'System Results'!WU39,0)","v":0},{"$f":"+IF(ISNUMBER('System Results'!WX39),'System Results'!WX39,0)","v":0},{"$f":"+IF(ISNUMBER('System Results'!XA39),'System Results'!XA39,0)","v":0},{"$f":"+IF(ISNUMBER('System Results'!XD39),'System Results'!XD39,0)","v":0},{"$f":"+IF(ISNUMBER('System Results'!XG39),'System Results'!XG39,0)","v":0},{"$f":"+IF(ISNUMBER('System Results'!XJ39),'System Results'!XJ39,0)","v":0},{"$f":"+IF(ISNUMBER('System Results'!XM39),'System Results'!XM39,0)","v":0},{"$f":"+IF(ISNUMBER('System Results'!XP39),'System Results'!XP39,0)","v":0},{"$f":"+IF(ISNUMBER('System Results'!XS39),'System Results'!XS39,0)","v":0},{"$f":"+IF(ISNUMBER('System Results'!XV39),'System Results'!XV39,0)","v":0},{"$f":"+IF(ISNUMBER('System Results'!XY39),'System Results'!XY39,0)","v":0},{"$f":"+IF(ISNUMBER('System Results'!YB39),'System Results'!YB39,0)","v":0},{"$f":"+IF(ISNUMBER('System Results'!YE39),'System Results'!YE39,0)","v":0},{"$f":"+IF(ISNUMBER('System Results'!YH39),'System Results'!YH39,0)","v":0},{"$f":"+IF(ISNUMBER('System Results'!YK39),'System Results'!YK39,0)","v":0},{"$f":"+IF(ISNUMBER('System Results'!YN39),'System Results'!YN39,0)","v":0},{"$f":"+IF(ISNUMBER('System Results'!YQ39),'System Results'!YQ39,0)","v":0},{"$f":"+IF(ISNUMBER('System Results'!YT39),'System Results'!YT39,0)","v":0},{"$f":"+IF(ISNUMBER('System Results'!YW39),'System Results'!YW39,0)","v":0},{"$f":"+IF(ISNUMBER('System Results'!YZ39),'System Results'!YZ39,0)","v":0},{"$f":"+IF(ISNUMBER('System Results'!ZC39),'System Results'!ZC39,0)","v":0},{"$f":"+IF(ISNUMBER('System Results'!ZF39),'System Results'!ZF39,0)","v":0},{"$f":"+IF(ISNUMBER('System Results'!ZI39),'System Results'!ZI39,0)","v":0},{"$f":"+IF(ISNUMBER('System Results'!ZL39),'System Results'!ZL39,0)","v":0},{"$f":"+IF(ISNUMBER('System Results'!ZO39),'System Results'!ZO39,0)","v":0},{"$f":"+IF(ISNUMBER('System Results'!ZR39),'System Results'!ZR39,0)","v":0},{"$f":"+IF(ISNUMBER('System Results'!ZU39),'System Results'!ZU39,0)","v":0},{"$f":"+IF(ISNUMBER('System Results'!ZX39),'System Results'!ZX39,0)","v":0},{"$f":"+IF(ISNUMBER('System Results'!AAA39),'System Results'!AAA39,0)","v":0},{"$f":"+IF(ISNUMBER('System Results'!AAD39),'System Results'!AAD39,0)","v":0},{"$f":"+IF(ISNUMBER('System Results'!AAG39),'System Results'!AAG39,0)","v":0},{"$f":"+IF(ISNUMBER('System Results'!AAJ39),'System Results'!AAJ39,0)","v":0},{"$f":"+IF(ISNUMBER('System Results'!AAM39),'System Results'!AAM39,0)","v":0},{"$f":"+IF(ISNUMBER('System Results'!AAP39),'System Results'!AAP39,0)","v":0},{"$f":"+IF(ISNUMBER('System Results'!AAS39),'System Results'!AAS39,0)","v":0},{"$f":"+IF(ISNUMBER('System Results'!AAV39),'System Results'!AAV39,0)","v":0},{"$f":"+IF(ISNUMBER('System Results'!AAY39),'System Results'!AAY39,0)","v":0},{"$f":"+IF(ISNUMBER('System Results'!ABB39),'System Results'!ABB39,0)","v":0},{"$f":"+IF(ISNUMBER('System Results'!ABE39),'System Results'!ABE39,0)","v":0},{"$f":"+IF(ISNUMBER('System Results'!ABH39),'System Results'!ABH39,0)","v":0},{"$f":"+IF(ISNUMBER('System Results'!ABK39),'System Results'!ABK39,0)","v":0},{"$f":"+IF(ISNUMBER('System Results'!ABN39),'System Results'!ABN39,0)","v":0},{"$f":"+IF(ISNUMBER('System Results'!ABQ39),'System Results'!ABQ39,0)","v":0},{"$f":"+IF(ISNUMBER('System Results'!ABT39),'System Results'!ABT39,0)","v":0},{"$f":"+IF(ISNUMBER('System Results'!ABW39),'System Results'!ABW39,0)","v":0},{"$f":"+IF(ISNUMBER('System Results'!ABZ39),'System Results'!ABZ39,0)","v":0},{"$f":"+IF(ISNUMBER('System Results'!ACC39),'System Results'!ACC39,0)","v":0},{"$f":"+IF(ISNUMBER('System Results'!ACF39),'System Results'!ACF39,0)","v":0},{"$f":"+IF(ISNUMBER('System Results'!ACI39),'System Results'!ACI39,0)","v":0},{"$f":"+IF(ISNUMBER('System Results'!ACL39),'System Results'!ACL39,0)","v":0},{"$f":"+IF(ISNUMBER('System Results'!ACO39),'System Results'!ACO39,0)","v":0},{"$f":"+IF(ISNUMBER('System Results'!ACR39),'System Results'!ACR39,0)","v":0},{"$f":"+IF(ISNUMBER('System Results'!ACU39),'System Results'!ACU39,0)","v":0},{"$f":"+IF(ISNUMBER('System Results'!ACX39),'System Results'!ACX39,0)","v":0},{"$f":"+IF(ISNUMBER('System Results'!ADA39),'System Results'!ADA39,0)","v":0},{"$f":"+IF(ISNUMBER('System Results'!ADD39),'System Results'!ADD39,0)","v":0},{"$f":"+IF(ISNUMBER('System Results'!ADG39),'System Results'!ADG39,0)","v":0},{"$f":"+IF(ISNUMBER('System Results'!ADJ39),'System Results'!ADJ39,0)","v":0},{"$f":"+IF(ISNUMBER('System Results'!ADM39),'System Results'!ADM39,0)","v":0},{"$f":"+IF(ISNUMBER('System Results'!ADP39),'System Results'!ADP39,0)","v":0},{"$f":"+IF(ISNUMBER('System Results'!ADS39),'System Results'!ADS39,0)","v":0},{"$f":"+IF(ISNUMBER('System Results'!ADV39),'System Results'!ADV39,0)","v":0},{"$f":"+IF(ISNUMBER('System Results'!ADY39),'System Results'!ADY39,0)","v":0},{"$f":"+IF(ISNUMBER('System Results'!AEB39),'System Results'!AEB39,0)","v":0},{"$f":"+IF(ISNUMBER('System Results'!AEE39),'System Results'!AEE39,0)","v":0},{"$f":"+IF(ISNUMBER('System Results'!AEH39),'System Results'!AEH39,0)","v":0},{"$f":"+IF(ISNUMBER('System Results'!AEK39),'System Results'!AEK39,0)","v":0},{"$f":"+IF(ISNUMBER('System Results'!AEN39),'System Results'!AEN39,0)","v":0},{"$f":"+IF(ISNUMBER('System Results'!AEQ39),'System Results'!AEQ39,0)","v":0},{"$f":"+IF(ISNUMBER('System Results'!AET39),'System Results'!AET39,0)","v":0},{"$f":"+IF(ISNUMBER('System Results'!AEW39),'System Results'!AEW39,0)","v":0},{"$f":"+IF(ISNUMBER('System Results'!AEZ39),'System Results'!AEZ39,0)","v":0},{"$f":"+IF(ISNUMBER('System Results'!AFC39),'System Results'!AFC39,0)","v":0},{"$f":"+IF(ISNUMBER('System Results'!AFF39),'System Results'!AFF39,0)","v":0},{"$f":"+IF(ISNUMBER('System Results'!AFI39),'System Results'!AFI39,0)","v":0},{"$f":"+IF(ISNUMBER('System Results'!AFL39),'System Results'!AFL39,0)","v":0},{"$f":"+IF(ISNUMBER('System Results'!AFO39),'System Results'!AFO39,0)","v":0},{"$f":"+IF(ISNUMBER('System Results'!AFR39),'System Results'!AFR39,0)","v":0},{"$f":"+IF(ISNUMBER('System Results'!AFU39),'System Results'!AFU39,0)","v":0},{"$f":"+IF(ISNUMBER('System Results'!AFX39),'System Results'!AFX39,0)","v":0},{"$f":"+IF(ISNUMBER('System Results'!AGA39),'System Results'!AGA39,0)","v":0},{"$f":"+IF(ISNUMBER('System Results'!AGD39),'System Results'!AGD39,0)","v":0},{"$f":"+IF(ISNUMBER('System Results'!AGG39),'System Results'!AGG39,0)","v":0},{"$f":"+IF(ISNUMBER('System Results'!AGJ39),'System Results'!AGJ39,0)","v":0},{"$f":"+IF(ISNUMBER('System Results'!AGM39),'System Results'!AGM39,0)","v":0},{"$f":"+IF(ISNUMBER('System Results'!AGP39),'System Results'!AGP39,0)","v":0},{"$f":"+IF(ISNUMBER('System Results'!AGS39),'System Results'!AGS39,0)","v":0},{"$f":"+IF(ISNUMBER('System Results'!AGV39),'System Results'!AGV39,0)","v":0},{"$f":"+IF(ISNUMBER('System Results'!AGY39),'System Results'!AGY39,0)","v":0},{"$f":"+IF(ISNUMBER('System Results'!AHB39),'System Results'!AHB39,0)","v":0},{"$f":"+IF(ISNUMBER('System Results'!AHE39),'System Results'!AHE39,0)","v":0},{"$f":"+IF(ISNUMBER('System Results'!AHH39),'System Results'!AHH39,0)","v":0},{"$f":"+IF(ISNUMBER('System Results'!AHK39),'System Results'!AHK39,0)","v":0},{"$f":"+IF(ISNUMBER('System Results'!AHN39),'System Results'!AHN39,0)","v":0},{"$f":"+IF(ISNUMBER('System Results'!AHQ39),'System Results'!AHQ39,0)","v":0},{"$f":"+IF(ISNUMBER('System Results'!AHT39),'System Results'!AHT39,0)","v":0}]
[{"$f":"+'System Results'!B40","v":"Upstream transportation & distribution"},0,{"$f":"+IF(ISNUMBER('System Results'!G40),'System Results'!G40,0)","v":0},{"$f":"+IF(ISNUMBER('System Results'!J40),'System Results'!J40,0)","v":0},{"$f":"+IF(ISNUMBER('System Results'!M40),'System Results'!M40,0)","v":0},{"$f":"+IF(ISNUMBER('System Results'!P40),'System Results'!P40,0)","v":0},{"$f":"+IF(ISNUMBER('System Results'!S40),'System Results'!S40,0)","v":0},{"$f":"+IF(ISNUMBER('System Results'!V40),'System Results'!V40,0)","v":0},{"$f":"+IF(ISNUMBER('System Results'!Y40),'System Results'!Y40,0)","v":0},{"$f":"+IF(ISNUMBER('System Results'!AB40),'System Results'!AB40,0)","v":0},{"$f":"+IF(ISNUMBER('System Results'!AE40),'System Results'!AE40,0)","v":0},{"$f":"+IF(ISNUMBER('System Results'!AH40),'System Results'!AH40,0)","v":0},{"$f":"+IF(ISNUMBER('System Results'!AK40),'System Results'!AK40,0)","v":0},{"$f":"+IF(ISNUMBER('System Results'!AN40),'System Results'!AN40,0)","v":0},{"$f":"+IF(ISNUMBER('System Results'!AQ40),'System Results'!AQ40,0)","v":0},{"$f":"+IF(ISNUMBER('System Results'!AT40),'System Results'!AT40,0)","v":0},{"$f":"+IF(ISNUMBER('System Results'!AW40),'System Results'!AW40,0)","v":0},{"$f":"+IF(ISNUMBER('System Results'!AZ40),'System Results'!AZ40,0)","v":0},{"$f":"+IF(ISNUMBER('System Results'!BC40),'System Results'!BC40,0)","v":0},{"$f":"+IF(ISNUMBER('System Results'!BF40),'System Results'!BF40,0)","v":0},{"$f":"+IF(ISNUMBER('System Results'!BI40),'System Results'!BI40,0)","v":0},{"$f":"+IF(ISNUMBER('System Results'!BL40),'System Results'!BL40,0)","v":0},{"$f":"+IF(ISNUMBER('System Results'!BO40),'System Results'!BO40,0)","v":0},{"$f":"+IF(ISNUMBER('System Results'!BR40),'System Results'!BR40,0)","v":0},{"$f":"+IF(ISNUMBER('System Results'!BU40),'System Results'!BU40,0)","v":0},{"$f":"+IF(ISNUMBER('System Results'!BX40),'System Results'!BX40,0)","v":0},{"$f":"+IF(ISNUMBER('System Results'!CA40),'System Results'!CA40,0)","v":0},{"$f":"+IF(ISNUMBER('System Results'!CD40),'System Results'!CD40,0)","v":0},{"$f":"+IF(ISNUMBER('System Results'!CG40),'System Results'!CG40,0)","v":0},{"$f":"+IF(ISNUMBER('System Results'!CJ40),'System Results'!CJ40,0)","v":0},{"$f":"+IF(ISNUMBER('System Results'!CM40),'System Results'!CM40,0)","v":0},{"$f":"+IF(ISNUMBER('System Results'!CP40),'System Results'!CP40,0)","v":0},{"$f":"+IF(ISNUMBER('System Results'!CS40),'System Results'!CS40,0)","v":0},{"$f":"+IF(ISNUMBER('System Results'!CV40),'System Results'!CV40,0)","v":0},{"$f":"+IF(ISNUMBER('System Results'!CY40),'System Results'!CY40,0)","v":0},{"$f":"+IF(ISNUMBER('System Results'!DB40),'System Results'!DB40,0)","v":0},{"$f":"+IF(ISNUMBER('System Results'!DE40),'System Results'!DE40,0)","v":0},{"$f":"+IF(ISNUMBER('System Results'!DH40),'System Results'!DH40,0)","v":0},{"$f":"+IF(ISNUMBER('System Results'!DK40),'System Results'!DK40,0)","v":0},{"$f":"+IF(ISNUMBER('System Results'!DN40),'System Results'!DN40,0)","v":0},{"$f":"+IF(ISNUMBER('System Results'!DQ40),'System Results'!DQ40,0)","v":0},{"$f":"+IF(ISNUMBER('System Results'!DT40),'System Results'!DT40,0)","v":0},{"$f":"+IF(ISNUMBER('System Results'!DW40),'System Results'!DW40,0)","v":0},{"$f":"+IF(ISNUMBER('System Results'!DZ40),'System Results'!DZ40,0)","v":0},{"$f":"+IF(ISNUMBER('System Results'!EC40),'System Results'!EC40,0)","v":0},{"$f":"+IF(ISNUMBER('System Results'!EF40),'System Results'!EF40,0)","v":0},{"$f":"+IF(ISNUMBER('System Results'!EI40),'System Results'!EI40,0)","v":0},{"$f":"+IF(ISNUMBER('System Results'!EL40),'System Results'!EL40,0)","v":0},{"$f":"+IF(ISNUMBER('System Results'!EO40),'System Results'!EO40,0)","v":0},{"$f":"+IF(ISNUMBER('System Results'!ER40),'System Results'!ER40,0)","v":0},{"$f":"+IF(ISNUMBER('System Results'!EU40),'System Results'!EU40,0)","v":0},{"$f":"+IF(ISNUMBER('System Results'!EX40),'System Results'!EX40,0)","v":0},{"$f":"+IF(ISNUMBER('System Results'!FA40),'System Results'!FA40,0)","v":0},{"$f":"+IF(ISNUMBER('System Results'!FD40),'System Results'!FD40,0)","v":0},{"$f":"+IF(ISNUMBER('System Results'!FG40),'System Results'!FG40,0)","v":0},{"$f":"+IF(ISNUMBER('System Results'!FJ40),'System Results'!FJ40,0)","v":0},{"$f":"+IF(ISNUMBER('System Results'!FM40),'System Results'!FM40,0)","v":0},{"$f":"+IF(ISNUMBER('System Results'!FP40),'System Results'!FP40,0)","v":0},{"$f":"+IF(ISNUMBER('System Results'!FS40),'System Results'!FS40,0)","v":0},{"$f":"+IF(ISNUMBER('System Results'!FV40),'System Results'!FV40,0)","v":0},{"$f":"+IF(ISNUMBER('System Results'!FY40),'System Results'!FY40,0)","v":0},{"$f":"+IF(ISNUMBER('System Results'!GB40),'System Results'!GB40,0)","v":0},{"$f":"+IF(ISNUMBER('System Results'!GE40),'System Results'!GE40,0)","v":0},{"$f":"+IF(ISNUMBER('System Results'!GH40),'System Results'!GH40,0)","v":0},{"$f":"+IF(ISNUMBER('System Results'!GK40),'System Results'!GK40,0)","v":0},{"$f":"+IF(ISNUMBER('System Results'!GN40),'System Results'!GN40,0)","v":0},{"$f":"+IF(ISNUMBER('System Results'!GQ40),'System Results'!GQ40,0)","v":0},{"$f":"+IF(ISNUMBER('System Results'!GT40),'System Results'!GT40,0)","v":0},{"$f":"+IF(ISNUMBER('System Results'!GW40),'System Results'!GW40,0)","v":0},{"$f":"+IF(ISNUMBER('System Results'!GZ40),'System Results'!GZ40,0)","v":0},{"$f":"+IF(ISNUMBER('System Results'!HC40),'System Results'!HC40,0)","v":0},{"$f":"+IF(ISNUMBER('System Results'!HF40),'System Results'!HF40,0)","v":0},{"$f":"+IF(ISNUMBER('System Results'!HI40),'System Results'!HI40,0)","v":0},{"$f":"+IF(ISNUMBER('System Results'!HL40),'System Results'!HL40,0)","v":0},{"$f":"+IF(ISNUMBER('System Results'!HO40),'System Results'!HO40,0)","v":0},{"$f":"+IF(ISNUMBER('System Results'!HR40),'System Results'!HR40,0)","v":0},{"$f":"+IF(ISNUMBER('System Results'!HU40),'System Results'!HU40,0)","v":0},{"$f":"+IF(ISNUMBER('System Results'!HX40),'System Results'!HX40,0)","v":0},{"$f":"+IF(ISNUMBER('System Results'!IA40),'System Results'!IA40,0)","v":0},{"$f":"+IF(ISNUMBER('System Results'!ID40),'System Results'!ID40,0)","v":0},{"$f":"+IF(ISNUMBER('System Results'!IG40),'System Results'!IG40,0)","v":0},{"$f":"+IF(ISNUMBER('System Results'!IJ40),'System Results'!IJ40,0)","v":0},{"$f":"+IF(ISNUMBER('System Results'!IM40),'System Results'!IM40,0)","v":0},{"$f":"+IF(ISNUMBER('System Results'!IP40),'System Results'!IP40,0)","v":0},{"$f":"+IF(ISNUMBER('System Results'!IS40),'System Results'!IS40,0)","v":0},{"$f":"+IF(ISNUMBER('System Results'!IV40),'System Results'!IV40,0)","v":0},{"$f":"+IF(ISNUMBER('System Results'!IY40),'System Results'!IY40,0)","v":0},{"$f":"+IF(ISNUMBER('System Results'!JB40),'System Results'!JB40,0)","v":0},{"$f":"+IF(ISNUMBER('System Results'!JE40),'System Results'!JE40,0)","v":0},{"$f":"+IF(ISNUMBER('System Results'!JH40),'System Results'!JH40,0)","v":0},{"$f":"+IF(ISNUMBER('System Results'!JK40),'System Results'!JK40,0)","v":0},{"$f":"+IF(ISNUMBER('System Results'!JN40),'System Results'!JN40,0)","v":0},{"$f":"+IF(ISNUMBER('System Results'!JQ40),'System Results'!JQ40,0)","v":0},{"$f":"+IF(ISNUMBER('System Results'!JT40),'System Results'!JT40,0)","v":0},{"$f":"+IF(ISNUMBER('System Results'!JW40),'System Results'!JW40,0)","v":0},{"$f":"+IF(ISNUMBER('System Results'!JZ40),'System Results'!JZ40,0)","v":0},{"$f":"+IF(ISNUMBER('System Results'!KC40),'System Results'!KC40,0)","v":0},{"$f":"+IF(ISNUMBER('System Results'!KF40),'System Results'!KF40,0)","v":0},{"$f":"+IF(ISNUMBER('System Results'!KI40),'System Results'!KI40,0)","v":0},{"$f":"+IF(ISNUMBER('System Results'!KL40),'System Results'!KL40,0)","v":0},{"$f":"+IF(ISNUMBER('System Results'!KO40),'System Results'!KO40,0)","v":0},{"$f":"+IF(ISNUMBER('System Results'!KR40),'System Results'!KR40,0)","v":0},{"$f":"+IF(ISNUMBER('System Results'!KU40),'System Results'!KU40,0)","v":0},{"$f":"+IF(ISNUMBER('System Results'!KX40),'System Results'!KX40,0)","v":0},{"$f":"+IF(ISNUMBER('System Results'!LA40),'System Results'!LA40,0)","v":0},{"$f":"+IF(ISNUMBER('System Results'!LD40),'System Results'!LD40,0)","v":0},{"$f":"+IF(ISNUMBER('System Results'!LG40),'System Results'!LG40,0)","v":0},{"$f":"+IF(ISNUMBER('System Results'!LJ40),'System Results'!LJ40,0)","v":0},{"$f":"+IF(ISNUMBER('System Results'!LM40),'System Results'!LM40,0)","v":0},{"$f":"+IF(ISNUMBER('System Results'!LP40),'System Results'!LP40,0)","v":0},{"$f":"+IF(ISNUMBER('System Results'!LS40),'System Results'!LS40,0)","v":0},{"$f":"+IF(ISNUMBER('System Results'!LV40),'System Results'!LV40,0)","v":0},{"$f":"+IF(ISNUMBER('System Results'!LY40),'System Results'!LY40,0)","v":0},{"$f":"+IF(ISNUMBER('System Results'!MB40),'System Results'!MB40,0)","v":0},{"$f":"+IF(ISNUMBER('System Results'!ME40),'System Results'!ME40,0)","v":0},{"$f":"+IF(ISNUMBER('System Results'!MH40),'System Results'!MH40,0)","v":0},{"$f":"+IF(ISNUMBER('System Results'!MK40),'System Results'!MK40,0)","v":0},{"$f":"+IF(ISNUMBER('System Results'!MN40),'System Results'!MN40,0)","v":0},{"$f":"+IF(ISNUMBER('System Results'!MQ40),'System Results'!MQ40,0)","v":0},{"$f":"+IF(ISNUMBER('System Results'!MT40),'System Results'!MT40,0)","v":0},{"$f":"+IF(ISNUMBER('System Results'!MW40),'System Results'!MW40,0)","v":0},{"$f":"+IF(ISNUMBER('System Results'!MZ40),'System Results'!MZ40,0)","v":0},{"$f":"+IF(ISNUMBER('System Results'!NC40),'System Results'!NC40,0)","v":0},{"$f":"+IF(ISNUMBER('System Results'!NF40),'System Results'!NF40,0)","v":0},{"$f":"+IF(ISNUMBER('System Results'!NI40),'System Results'!NI40,0)","v":0},{"$f":"+IF(ISNUMBER('System Results'!NL40),'System Results'!NL40,0)","v":0},{"$f":"+IF(ISNUMBER('System Results'!NO40),'System Results'!NO40,0)","v":0},{"$f":"+IF(ISNUMBER('System Results'!NR40),'System Results'!NR40,0)","v":0},{"$f":"+IF(ISNUMBER('System Results'!NU40),'System Results'!NU40,0)","v":0},{"$f":"+IF(ISNUMBER('System Results'!NX40),'System Results'!NX40,0)","v":0},{"$f":"+IF(ISNUMBER('System Results'!OA40),'System Results'!OA40,0)","v":0},{"$f":"+IF(ISNUMBER('System Results'!OD40),'System Results'!OD40,0)","v":0},{"$f":"+IF(ISNUMBER('System Results'!OG40),'System Results'!OG40,0)","v":0},{"$f":"+IF(ISNUMBER('System Results'!OJ40),'System Results'!OJ40,0)","v":0},{"$f":"+IF(ISNUMBER('System Results'!OM40),'System Results'!OM40,0)","v":0},{"$f":"+IF(ISNUMBER('System Results'!OP40),'System Results'!OP40,0)","v":0},{"$f":"+IF(ISNUMBER('System Results'!OS40),'System Results'!OS40,0)","v":0},{"$f":"+IF(ISNUMBER('System Results'!OV40),'System Results'!OV40,0)","v":0},{"$f":"+IF(ISNUMBER('System Results'!OY40),'System Results'!OY40,0)","v":0},{"$f":"+IF(ISNUMBER('System Results'!PB40),'System Results'!PB40,0)","v":0},{"$f":"+IF(ISNUMBER('System Results'!PE40),'System Results'!PE40,0)","v":0},{"$f":"+IF(ISNUMBER('System Results'!PH40),'System Results'!PH40,0)","v":0},{"$f":"+IF(ISNUMBER('System Results'!PK40),'System Results'!PK40,0)","v":0},{"$f":"+IF(ISNUMBER('System Results'!PN40),'System Results'!PN40,0)","v":0},{"$f":"+IF(ISNUMBER('System Results'!PQ40),'System Results'!PQ40,0)","v":0},{"$f":"+IF(ISNUMBER('System Results'!PT40),'System Results'!PT40,0)","v":0},{"$f":"+IF(ISNUMBER('System Results'!PW40),'System Results'!PW40,0)","v":0},{"$f":"+IF(ISNUMBER('System Results'!PZ40),'System Results'!PZ40,0)","v":0},{"$f":"+IF(ISNUMBER('System Results'!QC40),'System Results'!QC40,0)","v":0},{"$f":"+IF(ISNUMBER('System Results'!QF40),'System Results'!QF40,0)","v":0},{"$f":"+IF(ISNUMBER('System Results'!QI40),'System Results'!QI40,0)","v":0},{"$f":"+IF(ISNUMBER('System Results'!QL40),'System Results'!QL40,0)","v":0},{"$f":"+IF(ISNUMBER('System Results'!QO40),'System Results'!QO40,0)","v":0},{"$f":"+IF(ISNUMBER('System Results'!QR40),'System Results'!QR40,0)","v":0},{"$f":"+IF(ISNUMBER('System Results'!QU40),'System Results'!QU40,0)","v":0},{"$f":"+IF(ISNUMBER('System Results'!QX40),'System Results'!QX40,0)","v":0},{"$f":"+IF(ISNUMBER('System Results'!RA40),'System Results'!RA40,0)","v":0},{"$f":"+IF(ISNUMBER('System Results'!RD40),'System Results'!RD40,0)","v":0},{"$f":"+IF(ISNUMBER('System Results'!RG40),'System Results'!RG40,0)","v":0},{"$f":"+IF(ISNUMBER('System Results'!RJ40),'System Results'!RJ40,0)","v":0},{"$f":"+IF(ISNUMBER('System Results'!RM40),'System Results'!RM40,0)","v":0},{"$f":"+IF(ISNUMBER('System Results'!RP40),'System Results'!RP40,0)","v":0},{"$f":"+IF(ISNUMBER('System Results'!RS40),'System Results'!RS40,0)","v":0},{"$f":"+IF(ISNUMBER('System Results'!RV40),'System Results'!RV40,0)","v":0},{"$f":"+IF(ISNUMBER('System Results'!RY40),'System Results'!RY40,0)","v":0},{"$f":"+IF(ISNUMBER('System Results'!SB40),'System Results'!SB40,0)","v":0},{"$f":"+IF(ISNUMBER('System Results'!SE40),'System Results'!SE40,0)","v":0},{"$f":"+IF(ISNUMBER('System Results'!SH40),'System Results'!SH40,0)","v":0},{"$f":"+IF(ISNUMBER('System Results'!SK40),'System Results'!SK40,0)","v":0},{"$f":"+IF(ISNUMBER('System Results'!SN40),'System Results'!SN40,0)","v":0},{"$f":"+IF(ISNUMBER('System Results'!SQ40),'System Results'!SQ40,0)","v":0},{"$f":"+IF(ISNUMBER('System Results'!ST40),'System Results'!ST40,0)","v":0},{"$f":"+IF(ISNUMBER('System Results'!SW40),'System Results'!SW40,0)","v":0},{"$f":"+IF(ISNUMBER('System Results'!SZ40),'System Results'!SZ40,0)","v":0},{"$f":"+IF(ISNUMBER('System Results'!TC40),'System Results'!TC40,0)","v":0},{"$f":"+IF(ISNUMBER('System Results'!TF40),'System Results'!TF40,0)","v":0},{"$f":"+IF(ISNUMBER('System Results'!TI40),'System Results'!TI40,0)","v":0},{"$f":"+IF(ISNUMBER('System Results'!TL40),'System Results'!TL40,0)","v":0},{"$f":"+IF(ISNUMBER('System Results'!TO40),'System Results'!TO40,0)","v":0},{"$f":"+IF(ISNUMBER('System Results'!TR40),'System Results'!TR40,0)","v":0},{"$f":"+IF(ISNUMBER('System Results'!TU40),'System Results'!TU40,0)","v":0},{"$f":"+IF(ISNUMBER('System Results'!TX40),'System Results'!TX40,0)","v":0},{"$f":"+IF(ISNUMBER('System Results'!UA40),'System Results'!UA40,0)","v":0},{"$f":"+IF(ISNUMBER('System Results'!UD40),'System Results'!UD40,0)","v":0},{"$f":"+IF(ISNUMBER('System Results'!UG40),'System Results'!UG40,0)","v":0},{"$f":"+IF(ISNUMBER('System Results'!UJ40),'System Results'!UJ40,0)","v":0},{"$f":"+IF(ISNUMBER('System Results'!UM40),'System Results'!UM40,0)","v":0},{"$f":"+IF(ISNUMBER('System Results'!UP40),'System Results'!UP40,0)","v":0},{"$f":"+IF(ISNUMBER('System Results'!US40),'System Results'!US40,0)","v":0},{"$f":"+IF(ISNUMBER('System Results'!UV40),'System Results'!UV40,0)","v":0},{"$f":"+IF(ISNUMBER('System Results'!UY40),'System Results'!UY40,0)","v":0},{"$f":"+IF(ISNUMBER('System Results'!VB40),'System Results'!VB40,0)","v":0},{"$f":"+IF(ISNUMBER('System Results'!VE40),'System Results'!VE40,0)","v":0},{"$f":"+IF(ISNUMBER('System Results'!VH40),'System Results'!VH40,0)","v":0},{"$f":"+IF(ISNUMBER('System Results'!VK40),'System Results'!VK40,0)","v":0},{"$f":"+IF(ISNUMBER('System Results'!VN40),'System Results'!VN40,0)","v":0},{"$f":"+IF(ISNUMBER('System Results'!VQ40),'System Results'!VQ40,0)","v":0},{"$f":"+IF(ISNUMBER('System Results'!VT40),'System Results'!VT40,0)","v":0},{"$f":"+IF(ISNUMBER('System Results'!VW40),'System Results'!VW40,0)","v":0},{"$f":"+IF(ISNUMBER('System Results'!VZ40),'System Results'!VZ40,0)","v":0},{"$f":"+IF(ISNUMBER('System Results'!WC40),'System Results'!WC40,0)","v":0},{"$f":"+IF(ISNUMBER('System Results'!WF40),'System Results'!WF40,0)","v":0},{"$f":"+IF(ISNUMBER('System Results'!WI40),'System Results'!WI40,0)","v":0},{"$f":"+IF(ISNUMBER('System Results'!WL40),'System Results'!WL40,0)","v":0},{"$f":"+IF(ISNUMBER('System Results'!WO40),'System Results'!WO40,0)","v":0},{"$f":"+IF(ISNUMBER('System Results'!WR40),'System Results'!WR40,0)","v":0},{"$f":"+IF(ISNUMBER('System Results'!WU40),'System Results'!WU40,0)","v":0},{"$f":"+IF(ISNUMBER('System Results'!WX40),'System Results'!WX40,0)","v":0},{"$f":"+IF(ISNUMBER('System Results'!XA40),'System Results'!XA40,0)","v":0},{"$f":"+IF(ISNUMBER('System Results'!XD40),'System Results'!XD40,0)","v":0},{"$f":"+IF(ISNUMBER('System Results'!XG40),'System Results'!XG40,0)","v":0},{"$f":"+IF(ISNUMBER('System Results'!XJ40),'System Results'!XJ40,0)","v":0},{"$f":"+IF(ISNUMBER('System Results'!XM40),'System Results'!XM40,0)","v":0},{"$f":"+IF(ISNUMBER('System Results'!XP40),'System Results'!XP40,0)","v":0},{"$f":"+IF(ISNUMBER('System Results'!XS40),'System Results'!XS40,0)","v":0},{"$f":"+IF(ISNUMBER('System Results'!XV40),'System Results'!XV40,0)","v":0},{"$f":"+IF(ISNUMBER('System Results'!XY40),'System Results'!XY40,0)","v":0},{"$f":"+IF(ISNUMBER('System Results'!YB40),'System Results'!YB40,0)","v":0},{"$f":"+IF(ISNUMBER('System Results'!YE40),'System Results'!YE40,0)","v":0},{"$f":"+IF(ISNUMBER('System Results'!YH40),'System Results'!YH40,0)","v":0},{"$f":"+IF(ISNUMBER('System Results'!YK40),'System Results'!YK40,0)","v":0},{"$f":"+IF(ISNUMBER('System Results'!YN40),'System Results'!YN40,0)","v":0},{"$f":"+IF(ISNUMBER('System Results'!YQ40),'System Results'!YQ40,0)","v":0},{"$f":"+IF(ISNUMBER('System Results'!YT40),'System Results'!YT40,0)","v":0},{"$f":"+IF(ISNUMBER('System Results'!YW40),'System Results'!YW40,0)","v":0},{"$f":"+IF(ISNUMBER('System Results'!YZ40),'System Results'!YZ40,0)","v":0},{"$f":"+IF(ISNUMBER('System Results'!ZC40),'System Results'!ZC40,0)","v":0},{"$f":"+IF(ISNUMBER('System Results'!ZF40),'System Results'!ZF40,0)","v":0},{"$f":"+IF(ISNUMBER('System Results'!ZI40),'System Results'!ZI40,0)","v":0},{"$f":"+IF(ISNUMBER('System Results'!ZL40),'System Results'!ZL40,0)","v":0},{"$f":"+IF(ISNUMBER('System Results'!ZO40),'System Results'!ZO40,0)","v":0},{"$f":"+IF(ISNUMBER('System Results'!ZR40),'System Results'!ZR40,0)","v":0},{"$f":"+IF(ISNUMBER('System Results'!ZU40),'System Results'!ZU40,0)","v":0},{"$f":"+IF(ISNUMBER('System Results'!ZX40),'System Results'!ZX40,0)","v":0},{"$f":"+IF(ISNUMBER('System Results'!AAA40),'System Results'!AAA40,0)","v":0},{"$f":"+IF(ISNUMBER('System Results'!AAD40),'System Results'!AAD40,0)","v":0},{"$f":"+IF(ISNUMBER('System Results'!AAG40),'System Results'!AAG40,0)","v":0},{"$f":"+IF(ISNUMBER('System Results'!AAJ40),'System Results'!AAJ40,0)","v":0},{"$f":"+IF(ISNUMBER('System Results'!AAM40),'System Results'!AAM40,0)","v":0},{"$f":"+IF(ISNUMBER('System Results'!AAP40),'System Results'!AAP40,0)","v":0},{"$f":"+IF(ISNUMBER('System Results'!AAS40),'System Results'!AAS40,0)","v":0},{"$f":"+IF(ISNUMBER('System Results'!AAV40),'System Results'!AAV40,0)","v":0},{"$f":"+IF(ISNUMBER('System Results'!AAY40),'System Results'!AAY40,0)","v":0},{"$f":"+IF(ISNUMBER('System Results'!ABB40),'System Results'!ABB40,0)","v":0},{"$f":"+IF(ISNUMBER('System Results'!ABE40),'System Results'!ABE40,0)","v":0},{"$f":"+IF(ISNUMBER('System Results'!ABH40),'System Results'!ABH40,0)","v":0},{"$f":"+IF(ISNUMBER('System Results'!ABK40),'System Results'!ABK40,0)","v":0},{"$f":"+IF(ISNUMBER('System Results'!ABN40),'System Results'!ABN40,0)","v":0},{"$f":"+IF(ISNUMBER('System Results'!ABQ40),'System Results'!ABQ40,0)","v":0},{"$f":"+IF(ISNUMBER('System Results'!ABT40),'System Results'!ABT40,0)","v":0},{"$f":"+IF(ISNUMBER('System Results'!ABW40),'System Results'!ABW40,0)","v":0},{"$f":"+IF(ISNUMBER('System Results'!ABZ40),'System Results'!ABZ40,0)","v":0},{"$f":"+IF(ISNUMBER('System Results'!ACC40),'System Results'!ACC40,0)","v":0},{"$f":"+IF(ISNUMBER('System Results'!ACF40),'System Results'!ACF40,0)","v":0},{"$f":"+IF(ISNUMBER('System Results'!ACI40),'System Results'!ACI40,0)","v":0},{"$f":"+IF(ISNUMBER('System Results'!ACL40),'System Results'!ACL40,0)","v":0},{"$f":"+IF(ISNUMBER('System Results'!ACO40),'System Results'!ACO40,0)","v":0},{"$f":"+IF(ISNUMBER('System Results'!ACR40),'System Results'!ACR40,0)","v":0},{"$f":"+IF(ISNUMBER('System Results'!ACU40),'System Results'!ACU40,0)","v":0},{"$f":"+IF(ISNUMBER('System Results'!ACX40),'System Results'!ACX40,0)","v":0},{"$f":"+IF(ISNUMBER('System Results'!ADA40),'System Results'!ADA40,0)","v":0},{"$f":"+IF(ISNUMBER('System Results'!ADD40),'System Results'!ADD40,0)","v":0},{"$f":"+IF(ISNUMBER('System Results'!ADG40),'System Results'!ADG40,0)","v":0},{"$f":"+IF(ISNUMBER('System Results'!ADJ40),'System Results'!ADJ40,0)","v":0},{"$f":"+IF(ISNUMBER('System Results'!ADM40),'System Results'!ADM40,0)","v":0},{"$f":"+IF(ISNUMBER('System Results'!ADP40),'System Results'!ADP40,0)","v":0},{"$f":"+IF(ISNUMBER('System Results'!ADS40),'System Results'!ADS40,0)","v":0},{"$f":"+IF(ISNUMBER('System Results'!ADV40),'System Results'!ADV40,0)","v":0},{"$f":"+IF(ISNUMBER('System Results'!ADY40),'System Results'!ADY40,0)","v":0},{"$f":"+IF(ISNUMBER('System Results'!AEB40),'System Results'!AEB40,0)","v":0},{"$f":"+IF(ISNUMBER('System Results'!AEE40),'System Results'!AEE40,0)","v":0},{"$f":"+IF(ISNUMBER('System Results'!AEH40),'System Results'!AEH40,0)","v":0},{"$f":"+IF(ISNUMBER('System Results'!AEK40),'System Results'!AEK40,0)","v":0},{"$f":"+IF(ISNUMBER('System Results'!AEN40),'System Results'!AEN40,0)","v":0},{"$f":"+IF(ISNUMBER('System Results'!AEQ40),'System Results'!AEQ40,0)","v":0},{"$f":"+IF(ISNUMBER('System Results'!AET40),'System Results'!AET40,0)","v":0},{"$f":"+IF(ISNUMBER('System Results'!AEW40),'System Results'!AEW40,0)","v":0},{"$f":"+IF(ISNUMBER('System Results'!AEZ40),'System Results'!AEZ40,0)","v":0},{"$f":"+IF(ISNUMBER('System Results'!AFC40),'System Results'!AFC40,0)","v":0},{"$f":"+IF(ISNUMBER('System Results'!AFF40),'System Results'!AFF40,0)","v":0},{"$f":"+IF(ISNUMBER('System Results'!AFI40),'System Results'!AFI40,0)","v":0},{"$f":"+IF(ISNUMBER('System Results'!AFL40),'System Results'!AFL40,0)","v":0},{"$f":"+IF(ISNUMBER('System Results'!AFO40),'System Results'!AFO40,0)","v":0},{"$f":"+IF(ISNUMBER('System Results'!AFR40),'System Results'!AFR40,0)","v":0},{"$f":"+IF(ISNUMBER('System Results'!AFU40),'System Results'!AFU40,0)","v":0},{"$f":"+IF(ISNUMBER('System Results'!AFX40),'System Results'!AFX40,0)","v":0},{"$f":"+IF(ISNUMBER('System Results'!AGA40),'System Results'!AGA40,0)","v":0},{"$f":"+IF(ISNUMBER('System Results'!AGD40),'System Results'!AGD40,0)","v":0},{"$f":"+IF(ISNUMBER('System Results'!AGG40),'System Results'!AGG40,0)","v":0},{"$f":"+IF(ISNUMBER('System Results'!AGJ40),'System Results'!AGJ40,0)","v":0},{"$f":"+IF(ISNUMBER('System Results'!AGM40),'System Results'!AGM40,0)","v":0},{"$f":"+IF(ISNUMBER('System Results'!AGP40),'System Results'!AGP40,0)","v":0},{"$f":"+IF(ISNUMBER('System Results'!AGS40),'System Results'!AGS40,0)","v":0},{"$f":"+IF(ISNUMBER('System Results'!AGV40),'System Results'!AGV40,0)","v":0},{"$f":"+IF(ISNUMBER('System Results'!AGY40),'System Results'!AGY40,0)","v":0},{"$f":"+IF(ISNUMBER('System Results'!AHB40),'System Results'!AHB40,0)","v":0},{"$f":"+IF(ISNUMBER('System Results'!AHE40),'System Results'!AHE40,0)","v":0},{"$f":"+IF(ISNUMBER('System Results'!AHH40),'System Results'!AHH40,0)","v":0},{"$f":"+IF(ISNUMBER('System Results'!AHK40),'System Results'!AHK40,0)","v":0},{"$f":"+IF(ISNUMBER('System Results'!AHN40),'System Results'!AHN40,0)","v":0},{"$f":"+IF(ISNUMBER('System Results'!AHQ40),'System Results'!AHQ40,0)","v":0},{"$f":"+IF(ISNUMBER('System Results'!AHT40),'System Results'!AHT40,0)","v":0}]
[{"$f":"+'System Results'!B41","v":"Waste generated in operations"},0,{"$f":"+IF(ISNUMBER('System Results'!G41),'System Results'!G41,0)","v":0},{"$f":"+IF(ISNUMBER('System Results'!J41),'System Results'!J41,0)","v":0},{"$f":"+IF(ISNUMBER('System Results'!M41),'System Results'!M41,0)","v":0},{"$f":"+IF(ISNUMBER('System Results'!P41),'System Results'!P41,0)","v":0},{"$f":"+IF(ISNUMBER('System Results'!S41),'System Results'!S41,0)","v":0},{"$f":"+IF(ISNUMBER('System Results'!V41),'System Results'!V41,0)","v":0},{"$f":"+IF(ISNUMBER('System Results'!Y41),'System Results'!Y41,0)","v":0},{"$f":"+IF(ISNUMBER('System Results'!AB41),'System Results'!AB41,0)","v":0},{"$f":"+IF(ISNUMBER('System Results'!AE41),'System Results'!AE41,0)","v":0},{"$f":"+IF(ISNUMBER('System Results'!AH41),'System Results'!AH41,0)","v":0},{"$f":"+IF(ISNUMBER('System Results'!AK41),'System Results'!AK41,0)","v":0},{"$f":"+IF(ISNUMBER('System Results'!AN41),'System Results'!AN41,0)","v":0},{"$f":"+IF(ISNUMBER('System Results'!AQ41),'System Results'!AQ41,0)","v":0},{"$f":"+IF(ISNUMBER('System Results'!AT41),'System Results'!AT41,0)","v":0},{"$f":"+IF(ISNUMBER('System Results'!AW41),'System Results'!AW41,0)","v":0},{"$f":"+IF(ISNUMBER('System Results'!AZ41),'System Results'!AZ41,0)","v":0},{"$f":"+IF(ISNUMBER('System Results'!BC41),'System Results'!BC41,0)","v":0},{"$f":"+IF(ISNUMBER('System Results'!BF41),'System Results'!BF41,0)","v":0},{"$f":"+IF(ISNUMBER('System Results'!BI41),'System Results'!BI41,0)","v":0},{"$f":"+IF(ISNUMBER('System Results'!BL41),'System Results'!BL41,0)","v":0},{"$f":"+IF(ISNUMBER('System Results'!BO41),'System Results'!BO41,0)","v":0},{"$f":"+IF(ISNUMBER('System Results'!BR41),'System Results'!BR41,0)","v":0},{"$f":"+IF(ISNUMBER('System Results'!BU41),'System Results'!BU41,0)","v":0},{"$f":"+IF(ISNUMBER('System Results'!BX41),'System Results'!BX41,0)","v":0},{"$f":"+IF(ISNUMBER('System Results'!CA41),'System Results'!CA41,0)","v":0},{"$f":"+IF(ISNUMBER('System Results'!CD41),'System Results'!CD41,0)","v":0},{"$f":"+IF(ISNUMBER('System Results'!CG41),'System Results'!CG41,0)","v":0},{"$f":"+IF(ISNUMBER('System Results'!CJ41),'System Results'!CJ41,0)","v":0},{"$f":"+IF(ISNUMBER('System Results'!CM41),'System Results'!CM41,0)","v":0},{"$f":"+IF(ISNUMBER('System Results'!CP41),'System Results'!CP41,0)","v":0},{"$f":"+IF(ISNUMBER('System Results'!CS41),'System Results'!CS41,0)","v":0},{"$f":"+IF(ISNUMBER('System Results'!CV41),'System Results'!CV41,0)","v":0},{"$f":"+IF(ISNUMBER('System Results'!CY41),'System Results'!CY41,0)","v":0},{"$f":"+IF(ISNUMBER('System Results'!DB41),'System Results'!DB41,0)","v":0},{"$f":"+IF(ISNUMBER('System Results'!DE41),'System Results'!DE41,0)","v":0},{"$f":"+IF(ISNUMBER('System Results'!DH41),'System Results'!DH41,0)","v":0},{"$f":"+IF(ISNUMBER('System Results'!DK41),'System Results'!DK41,0)","v":0},{"$f":"+IF(ISNUMBER('System Results'!DN41),'System Results'!DN41,0)","v":0},{"$f":"+IF(ISNUMBER('System Results'!DQ41),'System Results'!DQ41,0)","v":0},{"$f":"+IF(ISNUMBER('System Results'!DT41),'System Results'!DT41,0)","v":0},{"$f":"+IF(ISNUMBER('System Results'!DW41),'System Results'!DW41,0)","v":0},{"$f":"+IF(ISNUMBER('System Results'!DZ41),'System Results'!DZ41,0)","v":0},{"$f":"+IF(ISNUMBER('System Results'!EC41),'System Results'!EC41,0)","v":0},{"$f":"+IF(ISNUMBER('System Results'!EF41),'System Results'!EF41,0)","v":0},{"$f":"+IF(ISNUMBER('System Results'!EI41),'System Results'!EI41,0)","v":0},{"$f":"+IF(ISNUMBER('System Results'!EL41),'System Results'!EL41,0)","v":0},{"$f":"+IF(ISNUMBER('System Results'!EO41),'System Results'!EO41,0)","v":0},{"$f":"+IF(ISNUMBER('System Results'!ER41),'System Results'!ER41,0)","v":0},{"$f":"+IF(ISNUMBER('System Results'!EU41),'System Results'!EU41,0)","v":0},{"$f":"+IF(ISNUMBER('System Results'!EX41),'System Results'!EX41,0)","v":0},{"$f":"+IF(ISNUMBER('System Results'!FA41),'System Results'!FA41,0)","v":0},{"$f":"+IF(ISNUMBER('System Results'!FD41),'System Results'!FD41,0)","v":0},{"$f":"+IF(ISNUMBER('System Results'!FG41),'System Results'!FG41,0)","v":0},{"$f":"+IF(ISNUMBER('System Results'!FJ41),'System Results'!FJ41,0)","v":0},{"$f":"+IF(ISNUMBER('System Results'!FM41),'System Results'!FM41,0)","v":0},{"$f":"+IF(ISNUMBER('System Results'!FP41),'System Results'!FP41,0)","v":0},{"$f":"+IF(ISNUMBER('System Results'!FS41),'System Results'!FS41,0)","v":0},{"$f":"+IF(ISNUMBER('System Results'!FV41),'System Results'!FV41,0)","v":0},{"$f":"+IF(ISNUMBER('System Results'!FY41),'System Results'!FY41,0)","v":0},{"$f":"+IF(ISNUMBER('System Results'!GB41),'System Results'!GB41,0)","v":0},{"$f":"+IF(ISNUMBER('System Results'!GE41),'System Results'!GE41,0)","v":0},{"$f":"+IF(ISNUMBER('System Results'!GH41),'System Results'!GH41,0)","v":0},{"$f":"+IF(ISNUMBER('System Results'!GK41),'System Results'!GK41,0)","v":0},{"$f":"+IF(ISNUMBER('System Results'!GN41),'System Results'!GN41,0)","v":0},{"$f":"+IF(ISNUMBER('System Results'!GQ41),'System Results'!GQ41,0)","v":0},{"$f":"+IF(ISNUMBER('System Results'!GT41),'System Results'!GT41,0)","v":0},{"$f":"+IF(ISNUMBER('System Results'!GW41),'System Results'!GW41,0)","v":0},{"$f":"+IF(ISNUMBER('System Results'!GZ41),'System Results'!GZ41,0)","v":0},{"$f":"+IF(ISNUMBER('System Results'!HC41),'System Results'!HC41,0)","v":0},{"$f":"+IF(ISNUMBER('System Results'!HF41),'System Results'!HF41,0)","v":0},{"$f":"+IF(ISNUMBER('System Results'!HI41),'System Results'!HI41,0)","v":0},{"$f":"+IF(ISNUMBER('System Results'!HL41),'System Results'!HL41,0)","v":0},{"$f":"+IF(ISNUMBER('System Results'!HO41),'System Results'!HO41,0)","v":0},{"$f":"+IF(ISNUMBER('System Results'!HR41),'System Results'!HR41,0)","v":0},{"$f":"+IF(ISNUMBER('System Results'!HU41),'System Results'!HU41,0)","v":0},{"$f":"+IF(ISNUMBER('System Results'!HX41),'System Results'!HX41,0)","v":0},{"$f":"+IF(ISNUMBER('System Results'!IA41),'System Results'!IA41,0)","v":0},{"$f":"+IF(ISNUMBER('System Results'!ID41),'System Results'!ID41,0)","v":0},{"$f":"+IF(ISNUMBER('System Results'!IG41),'System Results'!IG41,0)","v":0},{"$f":"+IF(ISNUMBER('System Results'!IJ41),'System Results'!IJ41,0)","v":0},{"$f":"+IF(ISNUMBER('System Results'!IM41),'System Results'!IM41,0)","v":0},{"$f":"+IF(ISNUMBER('System Results'!IP41),'System Results'!IP41,0)","v":0},{"$f":"+IF(ISNUMBER('System Results'!IS41),'System Results'!IS41,0)","v":0},{"$f":"+IF(ISNUMBER('System Results'!IV41),'System Results'!IV41,0)","v":0},{"$f":"+IF(ISNUMBER('System Results'!IY41),'System Results'!IY41,0)","v":0},{"$f":"+IF(ISNUMBER('System Results'!JB41),'System Results'!JB41,0)","v":0},{"$f":"+IF(ISNUMBER('System Results'!JE41),'System Results'!JE41,0)","v":0},{"$f":"+IF(ISNUMBER('System Results'!JH41),'System Results'!JH41,0)","v":0},{"$f":"+IF(ISNUMBER('System Results'!JK41),'System Results'!JK41,0)","v":0},{"$f":"+IF(ISNUMBER('System Results'!JN41),'System Results'!JN41,0)","v":0},{"$f":"+IF(ISNUMBER('System Results'!JQ41),'System Results'!JQ41,0)","v":0},{"$f":"+IF(ISNUMBER('System Results'!JT41),'System Results'!JT41,0)","v":0},{"$f":"+IF(ISNUMBER('System Results'!JW41),'System Results'!JW41,0)","v":0},{"$f":"+IF(ISNUMBER('System Results'!JZ41),'System Results'!JZ41,0)","v":0},{"$f":"+IF(ISNUMBER('System Results'!KC41),'System Results'!KC41,0)","v":0},{"$f":"+IF(ISNUMBER('System Results'!KF41),'System Results'!KF41,0)","v":0},{"$f":"+IF(ISNUMBER('System Results'!KI41),'System Results'!KI41,0)","v":0},{"$f":"+IF(ISNUMBER('System Results'!KL41),'System Results'!KL41,0)","v":0},{"$f":"+IF(ISNUMBER('System Results'!KO41),'System Results'!KO41,0)","v":0},{"$f":"+IF(ISNUMBER('System Results'!KR41),'System Results'!KR41,0)","v":0},{"$f":"+IF(ISNUMBER('System Results'!KU41),'System Results'!KU41,0)","v":0},{"$f":"+IF(ISNUMBER('System Results'!KX41),'System Results'!KX41,0)","v":0},{"$f":"+IF(ISNUMBER('System Results'!LA41),'System Results'!LA41,0)","v":0},{"$f":"+IF(ISNUMBER('System Results'!LD41),'System Results'!LD41,0)","v":0},{"$f":"+IF(ISNUMBER('System Results'!LG41),'System Results'!LG41,0)","v":0},{"$f":"+IF(ISNUMBER('System Results'!LJ41),'System Results'!LJ41,0)","v":0},{"$f":"+IF(ISNUMBER('System Results'!LM41),'System Results'!LM41,0)","v":0},{"$f":"+IF(ISNUMBER('System Results'!LP41),'System Results'!LP41,0)","v":0},{"$f":"+IF(ISNUMBER('System Results'!LS41),'System Results'!LS41,0)","v":0},{"$f":"+IF(ISNUMBER('System Results'!LV41),'System Results'!LV41,0)","v":0},{"$f":"+IF(ISNUMBER('System Results'!LY41),'System Results'!LY41,0)","v":0},{"$f":"+IF(ISNUMBER('System Results'!MB41),'System Results'!MB41,0)","v":0},{"$f":"+IF(ISNUMBER('System Results'!ME41),'System Results'!ME41,0)","v":0},{"$f":"+IF(ISNUMBER('System Results'!MH41),'System Results'!MH41,0)","v":0},{"$f":"+IF(ISNUMBER('System Results'!MK41),'System Results'!MK41,0)","v":0},{"$f":"+IF(ISNUMBER('System Results'!MN41),'System Results'!MN41,0)","v":0},{"$f":"+IF(ISNUMBER('System Results'!MQ41),'System Results'!MQ41,0)","v":0},{"$f":"+IF(ISNUMBER('System Results'!MT41),'System Results'!MT41,0)","v":0},{"$f":"+IF(ISNUMBER('System Results'!MW41),'System Results'!MW41,0)","v":0},{"$f":"+IF(ISNUMBER('System Results'!MZ41),'System Results'!MZ41,0)","v":0},{"$f":"+IF(ISNUMBER('System Results'!NC41),'System Results'!NC41,0)","v":0},{"$f":"+IF(ISNUMBER('System Results'!NF41),'System Results'!NF41,0)","v":0},{"$f":"+IF(ISNUMBER('System Results'!NI41),'System Results'!NI41,0)","v":0},{"$f":"+IF(ISNUMBER('System Results'!NL41),'System Results'!NL41,0)","v":0},{"$f":"+IF(ISNUMBER('System Results'!NO41),'System Results'!NO41,0)","v":0},{"$f":"+IF(ISNUMBER('System Results'!NR41),'System Results'!NR41,0)","v":0},{"$f":"+IF(ISNUMBER('System Results'!NU41),'System Results'!NU41,0)","v":0},{"$f":"+IF(ISNUMBER('System Results'!NX41),'System Results'!NX41,0)","v":0},{"$f":"+IF(ISNUMBER('System Results'!OA41),'System Results'!OA41,0)","v":0},{"$f":"+IF(ISNUMBER('System Results'!OD41),'System Results'!OD41,0)","v":0},{"$f":"+IF(ISNUMBER('System Results'!OG41),'System Results'!OG41,0)","v":0},{"$f":"+IF(ISNUMBER('System Results'!OJ41),'System Results'!OJ41,0)","v":0},{"$f":"+IF(ISNUMBER('System Results'!OM41),'System Results'!OM41,0)","v":0},{"$f":"+IF(ISNUMBER('System Results'!OP41),'System Results'!OP41,0)","v":0},{"$f":"+IF(ISNUMBER('System Results'!OS41),'System Results'!OS41,0)","v":0},{"$f":"+IF(ISNUMBER('System Results'!OV41),'System Results'!OV41,0)","v":0},{"$f":"+IF(ISNUMBER('System Results'!OY41),'System Results'!OY41,0)","v":0},{"$f":"+IF(ISNUMBER('System Results'!PB41),'System Results'!PB41,0)","v":0},{"$f":"+IF(ISNUMBER('System Results'!PE41),'System Results'!PE41,0)","v":0},{"$f":"+IF(ISNUMBER('System Results'!PH41),'System Results'!PH41,0)","v":0},{"$f":"+IF(ISNUMBER('System Results'!PK41),'System Results'!PK41,0)","v":0},{"$f":"+IF(ISNUMBER('System Results'!PN41),'System Results'!PN41,0)","v":0},{"$f":"+IF(ISNUMBER('System Results'!PQ41),'System Results'!PQ41,0)","v":0},{"$f":"+IF(ISNUMBER('System Results'!PT41),'System Results'!PT41,0)","v":0},{"$f":"+IF(ISNUMBER('System Results'!PW41),'System Results'!PW41,0)","v":0},{"$f":"+IF(ISNUMBER('System Results'!PZ41),'System Results'!PZ41,0)","v":0},{"$f":"+IF(ISNUMBER('System Results'!QC41),'System Results'!QC41,0)","v":0},{"$f":"+IF(ISNUMBER('System Results'!QF41),'System Results'!QF41,0)","v":0},{"$f":"+IF(ISNUMBER('System Results'!QI41),'System Results'!QI41,0)","v":0},{"$f":"+IF(ISNUMBER('System Results'!QL41),'System Results'!QL41,0)","v":0},{"$f":"+IF(ISNUMBER('System Results'!QO41),'System Results'!QO41,0)","v":0},{"$f":"+IF(ISNUMBER('System Results'!QR41),'System Results'!QR41,0)","v":0},{"$f":"+IF(ISNUMBER('System Results'!QU41),'System Results'!QU41,0)","v":0},{"$f":"+IF(ISNUMBER('System Results'!QX41),'System Results'!QX41,0)","v":0},{"$f":"+IF(ISNUMBER('System Results'!RA41),'System Results'!RA41,0)","v":0},{"$f":"+IF(ISNUMBER('System Results'!RD41),'System Results'!RD41,0)","v":0},{"$f":"+IF(ISNUMBER('System Results'!RG41),'System Results'!RG41,0)","v":0},{"$f":"+IF(ISNUMBER('System Results'!RJ41),'System Results'!RJ41,0)","v":0},{"$f":"+IF(ISNUMBER('System Results'!RM41),'System Results'!RM41,0)","v":0},{"$f":"+IF(ISNUMBER('System Results'!RP41),'System Results'!RP41,0)","v":0},{"$f":"+IF(ISNUMBER('System Results'!RS41),'System Results'!RS41,0)","v":0},{"$f":"+IF(ISNUMBER('System Results'!RV41),'System Results'!RV41,0)","v":0},{"$f":"+IF(ISNUMBER('System Results'!RY41),'System Results'!RY41,0)","v":0},{"$f":"+IF(ISNUMBER('System Results'!SB41),'System Results'!SB41,0)","v":0},{"$f":"+IF(ISNUMBER('System Results'!SE41),'System Results'!SE41,0)","v":0},{"$f":"+IF(ISNUMBER('System Results'!SH41),'System Results'!SH41,0)","v":0},{"$f":"+IF(ISNUMBER('System Results'!SK41),'System Results'!SK41,0)","v":0},{"$f":"+IF(ISNUMBER('System Results'!SN41),'System Results'!SN41,0)","v":0},{"$f":"+IF(ISNUMBER('System Results'!SQ41),'System Results'!SQ41,0)","v":0},{"$f":"+IF(ISNUMBER('System Results'!ST41),'System Results'!ST41,0)","v":0},{"$f":"+IF(ISNUMBER('System Results'!SW41),'System Results'!SW41,0)","v":0},{"$f":"+IF(ISNUMBER('System Results'!SZ41),'System Results'!SZ41,0)","v":0},{"$f":"+IF(ISNUMBER('System Results'!TC41),'System Results'!TC41,0)","v":0},{"$f":"+IF(ISNUMBER('System Results'!TF41),'System Results'!TF41,0)","v":0},{"$f":"+IF(ISNUMBER('System Results'!TI41),'System Results'!TI41,0)","v":0},{"$f":"+IF(ISNUMBER('System Results'!TL41),'System Results'!TL41,0)","v":0},{"$f":"+IF(ISNUMBER('System Results'!TO41),'System Results'!TO41,0)","v":0},{"$f":"+IF(ISNUMBER('System Results'!TR41),'System Results'!TR41,0)","v":0},{"$f":"+IF(ISNUMBER('System Results'!TU41),'System Results'!TU41,0)","v":0},{"$f":"+IF(ISNUMBER('System Results'!TX41),'System Results'!TX41,0)","v":0},{"$f":"+IF(ISNUMBER('System Results'!UA41),'System Results'!UA41,0)","v":0},{"$f":"+IF(ISNUMBER('System Results'!UD41),'System Results'!UD41,0)","v":0},{"$f":"+IF(ISNUMBER('System Results'!UG41),'System Results'!UG41,0)","v":0},{"$f":"+IF(ISNUMBER('System Results'!UJ41),'System Results'!UJ41,0)","v":0},{"$f":"+IF(ISNUMBER('System Results'!UM41),'System Results'!UM41,0)","v":0},{"$f":"+IF(ISNUMBER('System Results'!UP41),'System Results'!UP41,0)","v":0},{"$f":"+IF(ISNUMBER('System Results'!US41),'System Results'!US41,0)","v":0},{"$f":"+IF(ISNUMBER('System Results'!UV41),'System Results'!UV41,0)","v":0},{"$f":"+IF(ISNUMBER('System Results'!UY41),'System Results'!UY41,0)","v":0},{"$f":"+IF(ISNUMBER('System Results'!VB41),'System Results'!VB41,0)","v":0},{"$f":"+IF(ISNUMBER('System Results'!VE41),'System Results'!VE41,0)","v":0},{"$f":"+IF(ISNUMBER('System Results'!VH41),'System Results'!VH41,0)","v":0},{"$f":"+IF(ISNUMBER('System Results'!VK41),'System Results'!VK41,0)","v":0},{"$f":"+IF(ISNUMBER('System Results'!VN41),'System Results'!VN41,0)","v":0},{"$f":"+IF(ISNUMBER('System Results'!VQ41),'System Results'!VQ41,0)","v":0},{"$f":"+IF(ISNUMBER('System Results'!VT41),'System Results'!VT41,0)","v":0},{"$f":"+IF(ISNUMBER('System Results'!VW41),'System Results'!VW41,0)","v":0},{"$f":"+IF(ISNUMBER('System Results'!VZ41),'System Results'!VZ41,0)","v":0},{"$f":"+IF(ISNUMBER('System Results'!WC41),'System Results'!WC41,0)","v":0},{"$f":"+IF(ISNUMBER('System Results'!WF41),'System Results'!WF41,0)","v":0},{"$f":"+IF(ISNUMBER('System Results'!WI41),'System Results'!WI41,0)","v":0},{"$f":"+IF(ISNUMBER('System Results'!WL41),'System Results'!WL41,0)","v":0},{"$f":"+IF(ISNUMBER('System Results'!WO41),'System Results'!WO41,0)","v":0},{"$f":"+IF(ISNUMBER('System Results'!WR41),'System Results'!WR41,0)","v":0},{"$f":"+IF(ISNUMBER('System Results'!WU41),'System Results'!WU41,0)","v":0},{"$f":"+IF(ISNUMBER('System Results'!WX41),'System Results'!WX41,0)","v":0},{"$f":"+IF(ISNUMBER('System Results'!XA41),'System Results'!XA41,0)","v":0},{"$f":"+IF(ISNUMBER('System Results'!XD41),'System Results'!XD41,0)","v":0},{"$f":"+IF(ISNUMBER('System Results'!XG41),'System Results'!XG41,0)","v":0},{"$f":"+IF(ISNUMBER('System Results'!XJ41),'System Results'!XJ41,0)","v":0},{"$f":"+IF(ISNUMBER('System Results'!XM41),'System Results'!XM41,0)","v":0},{"$f":"+IF(ISNUMBER('System Results'!XP41),'System Results'!XP41,0)","v":0},{"$f":"+IF(ISNUMBER('System Results'!XS41),'System Results'!XS41,0)","v":0},{"$f":"+IF(ISNUMBER('System Results'!XV41),'System Results'!XV41,0)","v":0},{"$f":"+IF(ISNUMBER('System Results'!XY41),'System Results'!XY41,0)","v":0},{"$f":"+IF(ISNUMBER('System Results'!YB41),'System Results'!YB41,0)","v":0},{"$f":"+IF(ISNUMBER('System Results'!YE41),'System Results'!YE41,0)","v":0},{"$f":"+IF(ISNUMBER('System Results'!YH41),'System Results'!YH41,0)","v":0},{"$f":"+IF(ISNUMBER('System Results'!YK41),'System Results'!YK41,0)","v":0},{"$f":"+IF(ISNUMBER('System Results'!YN41),'System Results'!YN41,0)","v":0},{"$f":"+IF(ISNUMBER('System Results'!YQ41),'System Results'!YQ41,0)","v":0},{"$f":"+IF(ISNUMBER('System Results'!YT41),'System Results'!YT41,0)","v":0},{"$f":"+IF(ISNUMBER('System Results'!YW41),'System Results'!YW41,0)","v":0},{"$f":"+IF(ISNUMBER('System Results'!YZ41),'System Results'!YZ41,0)","v":0},{"$f":"+IF(ISNUMBER('System Results'!ZC41),'System Results'!ZC41,0)","v":0},{"$f":"+IF(ISNUMBER('System Results'!ZF41),'System Results'!ZF41,0)","v":0},{"$f":"+IF(ISNUMBER('System Results'!ZI41),'System Results'!ZI41,0)","v":0},{"$f":"+IF(ISNUMBER('System Results'!ZL41),'System Results'!ZL41,0)","v":0},{"$f":"+IF(ISNUMBER('System Results'!ZO41),'System Results'!ZO41,0)","v":0},{"$f":"+IF(ISNUMBER('System Results'!ZR41),'System Results'!ZR41,0)","v":0},{"$f":"+IF(ISNUMBER('System Results'!ZU41),'System Results'!ZU41,0)","v":0},{"$f":"+IF(ISNUMBER('System Results'!ZX41),'System Results'!ZX41,0)","v":0},{"$f":"+IF(ISNUMBER('System Results'!AAA41),'System Results'!AAA41,0)","v":0},{"$f":"+IF(ISNUMBER('System Results'!AAD41),'System Results'!AAD41,0)","v":0},{"$f":"+IF(ISNUMBER('System Results'!AAG41),'System Results'!AAG41,0)","v":0},{"$f":"+IF(ISNUMBER('System Results'!AAJ41),'System Results'!AAJ41,0)","v":0},{"$f":"+IF(ISNUMBER('System Results'!AAM41),'System Results'!AAM41,0)","v":0},{"$f":"+IF(ISNUMBER('System Results'!AAP41),'System Results'!AAP41,0)","v":0},{"$f":"+IF(ISNUMBER('System Results'!AAS41),'System Results'!AAS41,0)","v":0},{"$f":"+IF(ISNUMBER('System Results'!AAV41),'System Results'!AAV41,0)","v":0},{"$f":"+IF(ISNUMBER('System Results'!AAY41),'System Results'!AAY41,0)","v":0},{"$f":"+IF(ISNUMBER('System Results'!ABB41),'System Results'!ABB41,0)","v":0},{"$f":"+IF(ISNUMBER('System Results'!ABE41),'System Results'!ABE41,0)","v":0},{"$f":"+IF(ISNUMBER('System Results'!ABH41),'System Results'!ABH41,0)","v":0},{"$f":"+IF(ISNUMBER('System Results'!ABK41),'System Results'!ABK41,0)","v":0},{"$f":"+IF(ISNUMBER('System Results'!ABN41),'System Results'!ABN41,0)","v":0},{"$f":"+IF(ISNUMBER('System Results'!ABQ41),'System Results'!ABQ41,0)","v":0},{"$f":"+IF(ISNUMBER('System Results'!ABT41),'System Results'!ABT41,0)","v":0},{"$f":"+IF(ISNUMBER('System Results'!ABW41),'System Results'!ABW41,0)","v":0},{"$f":"+IF(ISNUMBER('System Results'!ABZ41),'System Results'!ABZ41,0)","v":0},{"$f":"+IF(ISNUMBER('System Results'!ACC41),'System Results'!ACC41,0)","v":0},{"$f":"+IF(ISNUMBER('System Results'!ACF41),'System Results'!ACF41,0)","v":0},{"$f":"+IF(ISNUMBER('System Results'!ACI41),'System Results'!ACI41,0)","v":0},{"$f":"+IF(ISNUMBER('System Results'!ACL41),'System Results'!ACL41,0)","v":0},{"$f":"+IF(ISNUMBER('System Results'!ACO41),'System Results'!ACO41,0)","v":0},{"$f":"+IF(ISNUMBER('System Results'!ACR41),'System Results'!ACR41,0)","v":0},{"$f":"+IF(ISNUMBER('System Results'!ACU41),'System Results'!ACU41,0)","v":0},{"$f":"+IF(ISNUMBER('System Results'!ACX41),'System Results'!ACX41,0)","v":0},{"$f":"+IF(ISNUMBER('System Results'!ADA41),'System Results'!ADA41,0)","v":0},{"$f":"+IF(ISNUMBER('System Results'!ADD41),'System Results'!ADD41,0)","v":0},{"$f":"+IF(ISNUMBER('System Results'!ADG41),'System Results'!ADG41,0)","v":0},{"$f":"+IF(ISNUMBER('System Results'!ADJ41),'System Results'!ADJ41,0)","v":0},{"$f":"+IF(ISNUMBER('System Results'!ADM41),'System Results'!ADM41,0)","v":0},{"$f":"+IF(ISNUMBER('System Results'!ADP41),'System Results'!ADP41,0)","v":0},{"$f":"+IF(ISNUMBER('System Results'!ADS41),'System Results'!ADS41,0)","v":0},{"$f":"+IF(ISNUMBER('System Results'!ADV41),'System Results'!ADV41,0)","v":0},{"$f":"+IF(ISNUMBER('System Results'!ADY41),'System Results'!ADY41,0)","v":0},{"$f":"+IF(ISNUMBER('System Results'!AEB41),'System Results'!AEB41,0)","v":0},{"$f":"+IF(ISNUMBER('System Results'!AEE41),'System Results'!AEE41,0)","v":0},{"$f":"+IF(ISNUMBER('System Results'!AEH41),'System Results'!AEH41,0)","v":0},{"$f":"+IF(ISNUMBER('System Results'!AEK41),'System Results'!AEK41,0)","v":0},{"$f":"+IF(ISNUMBER('System Results'!AEN41),'System Results'!AEN41,0)","v":0},{"$f":"+IF(ISNUMBER('System Results'!AEQ41),'System Results'!AEQ41,0)","v":0},{"$f":"+IF(ISNUMBER('System Results'!AET41),'System Results'!AET41,0)","v":0},{"$f":"+IF(ISNUMBER('System Results'!AEW41),'System Results'!AEW41,0)","v":0},{"$f":"+IF(ISNUMBER('System Results'!AEZ41),'System Results'!AEZ41,0)","v":0},{"$f":"+IF(ISNUMBER('System Results'!AFC41),'System Results'!AFC41,0)","v":0},{"$f":"+IF(ISNUMBER('System Results'!AFF41),'System Results'!AFF41,0)","v":0},{"$f":"+IF(ISNUMBER('System Results'!AFI41),'System Results'!AFI41,0)","v":0},{"$f":"+IF(ISNUMBER('System Results'!AFL41),'System Results'!AFL41,0)","v":0},{"$f":"+IF(ISNUMBER('System Results'!AFO41),'System Results'!AFO41,0)","v":0},{"$f":"+IF(ISNUMBER('System Results'!AFR41),'System Results'!AFR41,0)","v":0},{"$f":"+IF(ISNUMBER('System Results'!AFU41),'System Results'!AFU41,0)","v":0},{"$f":"+IF(ISNUMBER('System Results'!AFX41),'System Results'!AFX41,0)","v":0},{"$f":"+IF(ISNUMBER('System Results'!AGA41),'System Results'!AGA41,0)","v":0},{"$f":"+IF(ISNUMBER('System Results'!AGD41),'System Results'!AGD41,0)","v":0},{"$f":"+IF(ISNUMBER('System Results'!AGG41),'System Results'!AGG41,0)","v":0},{"$f":"+IF(ISNUMBER('System Results'!AGJ41),'System Results'!AGJ41,0)","v":0},{"$f":"+IF(ISNUMBER('System Results'!AGM41),'System Results'!AGM41,0)","v":0},{"$f":"+IF(ISNUMBER('System Results'!AGP41),'System Results'!AGP41,0)","v":0},{"$f":"+IF(ISNUMBER('System Results'!AGS41),'System Results'!AGS41,0)","v":0},{"$f":"+IF(ISNUMBER('System Results'!AGV41),'System Results'!AGV41,0)","v":0},{"$f":"+IF(ISNUMBER('System Results'!AGY41),'System Results'!AGY41,0)","v":0},{"$f":"+IF(ISNUMBER('System Results'!AHB41),'System Results'!AHB41,0)","v":0},{"$f":"+IF(ISNUMBER('System Results'!AHE41),'System Results'!AHE41,0)","v":0},{"$f":"+IF(ISNUMBER('System Results'!AHH41),'System Results'!AHH41,0)","v":0},{"$f":"+IF(ISNUMBER('System Results'!AHK41),'System Results'!AHK41,0)","v":0},{"$f":"+IF(ISNUMBER('System Results'!AHN41),'System Results'!AHN41,0)","v":0},{"$f":"+IF(ISNUMBER('System Results'!AHQ41),'System Results'!AHQ41,0)","v":0},{"$f":"+IF(ISNUMBER('System Results'!AHT41),'System Results'!AHT41,0)","v":0}]
[{"$f":"+'System Results'!B42","v":"Business travel"},0,{"$f":"+IF(ISNUMBER('System Results'!G42),'System Results'!G42,0)","v":0},{"$f":"+IF(ISNUMBER('System Results'!J42),'System Results'!J42,0)","v":0},{"$f":"+IF(ISNUMBER('System Results'!M42),'System Results'!M42,0)","v":0},{"$f":"+IF(ISNUMBER('System Results'!P42),'System Results'!P42,0)","v":0},{"$f":"+IF(ISNUMBER('System Results'!S42),'System Results'!S42,0)","v":0},{"$f":"+IF(ISNUMBER('System Results'!V42),'System Results'!V42,0)","v":0},{"$f":"+IF(ISNUMBER('System Results'!Y42),'System Results'!Y42,0)","v":0},{"$f":"+IF(ISNUMBER('System Results'!AB42),'System Results'!AB42,0)","v":0},{"$f":"+IF(ISNUMBER('System Results'!AE42),'System Results'!AE42,0)","v":0},{"$f":"+IF(ISNUMBER('System Results'!AH42),'System Results'!AH42,0)","v":0},{"$f":"+IF(ISNUMBER('System Results'!AK42),'System Results'!AK42,0)","v":0},{"$f":"+IF(ISNUMBER('System Results'!AN42),'System Results'!AN42,0)","v":0},{"$f":"+IF(ISNUMBER('System Results'!AQ42),'System Results'!AQ42,0)","v":0},{"$f":"+IF(ISNUMBER('System Results'!AT42),'System Results'!AT42,0)","v":0},{"$f":"+IF(ISNUMBER('System Results'!AW42),'System Results'!AW42,0)","v":0},{"$f":"+IF(ISNUMBER('System Results'!AZ42),'System Results'!AZ42,0)","v":0},{"$f":"+IF(ISNUMBER('System Results'!BC42),'System Results'!BC42,0)","v":0},{"$f":"+IF(ISNUMBER('System Results'!BF42),'System Results'!BF42,0)","v":0},{"$f":"+IF(ISNUMBER('System Results'!BI42),'System Results'!BI42,0)","v":0},{"$f":"+IF(ISNUMBER('System Results'!BL42),'System Results'!BL42,0)","v":0},{"$f":"+IF(ISNUMBER('System Results'!BO42),'System Results'!BO42,0)","v":0},{"$f":"+IF(ISNUMBER('System Results'!BR42),'System Results'!BR42,0)","v":0},{"$f":"+IF(ISNUMBER('System Results'!BU42),'System Results'!BU42,0)","v":0},{"$f":"+IF(ISNUMBER('System Results'!BX42),'System Results'!BX42,0)","v":0},{"$f":"+IF(ISNUMBER('System Results'!CA42),'System Results'!CA42,0)","v":0},{"$f":"+IF(ISNUMBER('System Results'!CD42),'System Results'!CD42,0)","v":0},{"$f":"+IF(ISNUMBER('System Results'!CG42),'System Results'!CG42,0)","v":0},{"$f":"+IF(ISNUMBER('System Results'!CJ42),'System Results'!CJ42,0)","v":0},{"$f":"+IF(ISNUMBER('System Results'!CM42),'System Results'!CM42,0)","v":0},{"$f":"+IF(ISNUMBER('System Results'!CP42),'System Results'!CP42,0)","v":0},{"$f":"+IF(ISNUMBER('System Results'!CS42),'System Results'!CS42,0)","v":0},{"$f":"+IF(ISNUMBER('System Results'!CV42),'System Results'!CV42,0)","v":0},{"$f":"+IF(ISNUMBER('System Results'!CY42),'System Results'!CY42,0)","v":0},{"$f":"+IF(ISNUMBER('System Results'!DB42),'System Results'!DB42,0)","v":0},{"$f":"+IF(ISNUMBER('System Results'!DE42),'System Results'!DE42,0)","v":0},{"$f":"+IF(ISNUMBER('System Results'!DH42),'System Results'!DH42,0)","v":0},{"$f":"+IF(ISNUMBER('System Results'!DK42),'System Results'!DK42,0)","v":0},{"$f":"+IF(ISNUMBER('System Results'!DN42),'System Results'!DN42,0)","v":0},{"$f":"+IF(ISNUMBER('System Results'!DQ42),'System Results'!DQ42,0)","v":0},{"$f":"+IF(ISNUMBER('System Results'!DT42),'System Results'!DT42,0)","v":0},{"$f":"+IF(ISNUMBER('System Results'!DW42),'System Results'!DW42,0)","v":0},{"$f":"+IF(ISNUMBER('System Results'!DZ42),'System Results'!DZ42,0)","v":0},{"$f":"+IF(ISNUMBER('System Results'!EC42),'System Results'!EC42,0)","v":0},{"$f":"+IF(ISNUMBER('System Results'!EF42),'System Results'!EF42,0)","v":0},{"$f":"+IF(ISNUMBER('System Results'!EI42),'System Results'!EI42,0)","v":0},{"$f":"+IF(ISNUMBER('System Results'!EL42),'System Results'!EL42,0)","v":0},{"$f":"+IF(ISNUMBER('System Results'!EO42),'System Results'!EO42,0)","v":0},{"$f":"+IF(ISNUMBER('System Results'!ER42),'System Results'!ER42,0)","v":0},{"$f":"+IF(ISNUMBER('System Results'!EU42),'System Results'!EU42,0)","v":0},{"$f":"+IF(ISNUMBER('System Results'!EX42),'System Results'!EX42,0)","v":0},{"$f":"+IF(ISNUMBER('System Results'!FA42),'System Results'!FA42,0)","v":0},{"$f":"+IF(ISNUMBER('System Results'!FD42),'System Results'!FD42,0)","v":0},{"$f":"+IF(ISNUMBER('System Results'!FG42),'System Results'!FG42,0)","v":0},{"$f":"+IF(ISNUMBER('System Results'!FJ42),'System Results'!FJ42,0)","v":0},{"$f":"+IF(ISNUMBER('System Results'!FM42),'System Results'!FM42,0)","v":0},{"$f":"+IF(ISNUMBER('System Results'!FP42),'System Results'!FP42,0)","v":0},{"$f":"+IF(ISNUMBER('System Results'!FS42),'System Results'!FS42,0)","v":0},{"$f":"+IF(ISNUMBER('System Results'!FV42),'System Results'!FV42,0)","v":0},{"$f":"+IF(ISNUMBER('System Results'!FY42),'System Results'!FY42,0)","v":0},{"$f":"+IF(ISNUMBER('System Results'!GB42),'System Results'!GB42,0)","v":0},{"$f":"+IF(ISNUMBER('System Results'!GE42),'System Results'!GE42,0)","v":0},{"$f":"+IF(ISNUMBER('System Results'!GH42),'System Results'!GH42,0)","v":0},{"$f":"+IF(ISNUMBER('System Results'!GK42),'System Results'!GK42,0)","v":0},{"$f":"+IF(ISNUMBER('System Results'!GN42),'System Results'!GN42,0)","v":0},{"$f":"+IF(ISNUMBER('System Results'!GQ42),'System Results'!GQ42,0)","v":0},{"$f":"+IF(ISNUMBER('System Results'!GT42),'System Results'!GT42,0)","v":0},{"$f":"+IF(ISNUMBER('System Results'!GW42),'System Results'!GW42,0)","v":0},{"$f":"+IF(ISNUMBER('System Results'!GZ42),'System Results'!GZ42,0)","v":0},{"$f":"+IF(ISNUMBER('System Results'!HC42),'System Results'!HC42,0)","v":0},{"$f":"+IF(ISNUMBER('System Results'!HF42),'System Results'!HF42,0)","v":0},{"$f":"+IF(ISNUMBER('System Results'!HI42),'System Results'!HI42,0)","v":0},{"$f":"+IF(ISNUMBER('System Results'!HL42),'System Results'!HL42,0)","v":0},{"$f":"+IF(ISNUMBER('System Results'!HO42),'System Results'!HO42,0)","v":0},{"$f":"+IF(ISNUMBER('System Results'!HR42),'System Results'!HR42,0)","v":0},{"$f":"+IF(ISNUMBER('System Results'!HU42),'System Results'!HU42,0)","v":0},{"$f":"+IF(ISNUMBER('System Results'!HX42),'System Results'!HX42,0)","v":0},{"$f":"+IF(ISNUMBER('System Results'!IA42),'System Results'!IA42,0)","v":0},{"$f":"+IF(ISNUMBER('System Results'!ID42),'System Results'!ID42,0)","v":0},{"$f":"+IF(ISNUMBER('System Results'!IG42),'System Results'!IG42,0)","v":0},{"$f":"+IF(ISNUMBER('System Results'!IJ42),'System Results'!IJ42,0)","v":0},{"$f":"+IF(ISNUMBER('System Results'!IM42),'System Results'!IM42,0)","v":0},{"$f":"+IF(ISNUMBER('System Results'!IP42),'System Results'!IP42,0)","v":0},{"$f":"+IF(ISNUMBER('System Results'!IS42),'System Results'!IS42,0)","v":0},{"$f":"+IF(ISNUMBER('System Results'!IV42),'System Results'!IV42,0)","v":0},{"$f":"+IF(ISNUMBER('System Results'!IY42),'System Results'!IY42,0)","v":0},{"$f":"+IF(ISNUMBER('System Results'!JB42),'System Results'!JB42,0)","v":0},{"$f":"+IF(ISNUMBER('System Results'!JE42),'System Results'!JE42,0)","v":0},{"$f":"+IF(ISNUMBER('System Results'!JH42),'System Results'!JH42,0)","v":0},{"$f":"+IF(ISNUMBER('System Results'!JK42),'System Results'!JK42,0)","v":0},{"$f":"+IF(ISNUMBER('System Results'!JN42),'System Results'!JN42,0)","v":0},{"$f":"+IF(ISNUMBER('System Results'!JQ42),'System Results'!JQ42,0)","v":0},{"$f":"+IF(ISNUMBER('System Results'!JT42),'System Results'!JT42,0)","v":0},{"$f":"+IF(ISNUMBER('System Results'!JW42),'System Results'!JW42,0)","v":0},{"$f":"+IF(ISNUMBER('System Results'!JZ42),'System Results'!JZ42,0)","v":0},{"$f":"+IF(ISNUMBER('System Results'!KC42),'System Results'!KC42,0)","v":0},{"$f":"+IF(ISNUMBER('System Results'!KF42),'System Results'!KF42,0)","v":0},{"$f":"+IF(ISNUMBER('System Results'!KI42),'System Results'!KI42,0)","v":0},{"$f":"+IF(ISNUMBER('System Results'!KL42),'System Results'!KL42,0)","v":0},{"$f":"+IF(ISNUMBER('System Results'!KO42),'System Results'!KO42,0)","v":0},{"$f":"+IF(ISNUMBER('System Results'!KR42),'System Results'!KR42,0)","v":0},{"$f":"+IF(ISNUMBER('System Results'!KU42),'System Results'!KU42,0)","v":0},{"$f":"+IF(ISNUMBER('System Results'!KX42),'System Results'!KX42,0)","v":0},{"$f":"+IF(ISNUMBER('System Results'!LA42),'System Results'!LA42,0)","v":0},{"$f":"+IF(ISNUMBER('System Results'!LD42),'System Results'!LD42,0)","v":0},{"$f":"+IF(ISNUMBER('System Results'!LG42),'System Results'!LG42,0)","v":0},{"$f":"+IF(ISNUMBER('System Results'!LJ42),'System Results'!LJ42,0)","v":0},{"$f":"+IF(ISNUMBER('System Results'!LM42),'System Results'!LM42,0)","v":0},{"$f":"+IF(ISNUMBER('System Results'!LP42),'System Results'!LP42,0)","v":0},{"$f":"+IF(ISNUMBER('System Results'!LS42),'System Results'!LS42,0)","v":0},{"$f":"+IF(ISNUMBER('System Results'!LV42),'System Results'!LV42,0)","v":0},{"$f":"+IF(ISNUMBER('System Results'!LY42),'System Results'!LY42,0)","v":0},{"$f":"+IF(ISNUMBER('System Results'!MB42),'System Results'!MB42,0)","v":0},{"$f":"+IF(ISNUMBER('System Results'!ME42),'System Results'!ME42,0)","v":0},{"$f":"+IF(ISNUMBER('System Results'!MH42),'System Results'!MH42,0)","v":0},{"$f":"+IF(ISNUMBER('System Results'!MK42),'System Results'!MK42,0)","v":0},{"$f":"+IF(ISNUMBER('System Results'!MN42),'System Results'!MN42,0)","v":0},{"$f":"+IF(ISNUMBER('System Results'!MQ42),'System Results'!MQ42,0)","v":0},{"$f":"+IF(ISNUMBER('System Results'!MT42),'System Results'!MT42,0)","v":0},{"$f":"+IF(ISNUMBER('System Results'!MW42),'System Results'!MW42,0)","v":0},{"$f":"+IF(ISNUMBER('System Results'!MZ42),'System Results'!MZ42,0)","v":0},{"$f":"+IF(ISNUMBER('System Results'!NC42),'System Results'!NC42,0)","v":0},{"$f":"+IF(ISNUMBER('System Results'!NF42),'System Results'!NF42,0)","v":0},{"$f":"+IF(ISNUMBER('System Results'!NI42),'System Results'!NI42,0)","v":0},{"$f":"+IF(ISNUMBER('System Results'!NL42),'System Results'!NL42,0)","v":0},{"$f":"+IF(ISNUMBER('System Results'!NO42),'System Results'!NO42,0)","v":0},{"$f":"+IF(ISNUMBER('System Results'!NR42),'System Results'!NR42,0)","v":0},{"$f":"+IF(ISNUMBER('System Results'!NU42),'System Results'!NU42,0)","v":0},{"$f":"+IF(ISNUMBER('System Results'!NX42),'System Results'!NX42,0)","v":0},{"$f":"+IF(ISNUMBER('System Results'!OA42),'System Results'!OA42,0)","v":0},{"$f":"+IF(ISNUMBER('System Results'!OD42),'System Results'!OD42,0)","v":0},{"$f":"+IF(ISNUMBER('System Results'!OG42),'System Results'!OG42,0)","v":0},{"$f":"+IF(ISNUMBER('System Results'!OJ42),'System Results'!OJ42,0)","v":0},{"$f":"+IF(ISNUMBER('System Results'!OM42),'System Results'!OM42,0)","v":0},{"$f":"+IF(ISNUMBER('System Results'!OP42),'System Results'!OP42,0)","v":0},{"$f":"+IF(ISNUMBER('System Results'!OS42),'System Results'!OS42,0)","v":0},{"$f":"+IF(ISNUMBER('System Results'!OV42),'System Results'!OV42,0)","v":0},{"$f":"+IF(ISNUMBER('System Results'!OY42),'System Results'!OY42,0)","v":0},{"$f":"+IF(ISNUMBER('System Results'!PB42),'System Results'!PB42,0)","v":0},{"$f":"+IF(ISNUMBER('System Results'!PE42),'System Results'!PE42,0)","v":0},{"$f":"+IF(ISNUMBER('System Results'!PH42),'System Results'!PH42,0)","v":0},{"$f":"+IF(ISNUMBER('System Results'!PK42),'System Results'!PK42,0)","v":0},{"$f":"+IF(ISNUMBER('System Results'!PN42),'System Results'!PN42,0)","v":0},{"$f":"+IF(ISNUMBER('System Results'!PQ42),'System Results'!PQ42,0)","v":0},{"$f":"+IF(ISNUMBER('System Results'!PT42),'System Results'!PT42,0)","v":0},{"$f":"+IF(ISNUMBER('System Results'!PW42),'System Results'!PW42,0)","v":0},{"$f":"+IF(ISNUMBER('System Results'!PZ42),'System Results'!PZ42,0)","v":0},{"$f":"+IF(ISNUMBER('System Results'!QC42),'System Results'!QC42,0)","v":0},{"$f":"+IF(ISNUMBER('System Results'!QF42),'System Results'!QF42,0)","v":0},{"$f":"+IF(ISNUMBER('System Results'!QI42),'System Results'!QI42,0)","v":0},{"$f":"+IF(ISNUMBER('System Results'!QL42),'System Results'!QL42,0)","v":0},{"$f":"+IF(ISNUMBER('System Results'!QO42),'System Results'!QO42,0)","v":0},{"$f":"+IF(ISNUMBER('System Results'!QR42),'System Results'!QR42,0)","v":0},{"$f":"+IF(ISNUMBER('System Results'!QU42),'System Results'!QU42,0)","v":0},{"$f":"+IF(ISNUMBER('System Results'!QX42),'System Results'!QX42,0)","v":0},{"$f":"+IF(ISNUMBER('System Results'!RA42),'System Results'!RA42,0)","v":0},{"$f":"+IF(ISNUMBER('System Results'!RD42),'System Results'!RD42,0)","v":0},{"$f":"+IF(ISNUMBER('System Results'!RG42),'System Results'!RG42,0)","v":0},{"$f":"+IF(ISNUMBER('System Results'!RJ42),'System Results'!RJ42,0)","v":0},{"$f":"+IF(ISNUMBER('System Results'!RM42),'System Results'!RM42,0)","v":0},{"$f":"+IF(ISNUMBER('System Results'!RP42),'System Results'!RP42,0)","v":0},{"$f":"+IF(ISNUMBER('System Results'!RS42),'System Results'!RS42,0)","v":0},{"$f":"+IF(ISNUMBER('System Results'!RV42),'System Results'!RV42,0)","v":0},{"$f":"+IF(ISNUMBER('System Results'!RY42),'System Results'!RY42,0)","v":0},{"$f":"+IF(ISNUMBER('System Results'!SB42),'System Results'!SB42,0)","v":0},{"$f":"+IF(ISNUMBER('System Results'!SE42),'System Results'!SE42,0)","v":0},{"$f":"+IF(ISNUMBER('System Results'!SH42),'System Results'!SH42,0)","v":0},{"$f":"+IF(ISNUMBER('System Results'!SK42),'System Results'!SK42,0)","v":0},{"$f":"+IF(ISNUMBER('System Results'!SN42),'System Results'!SN42,0)","v":0},{"$f":"+IF(ISNUMBER('System Results'!SQ42),'System Results'!SQ42,0)","v":0},{"$f":"+IF(ISNUMBER('System Results'!ST42),'System Results'!ST42,0)","v":0},{"$f":"+IF(ISNUMBER('System Results'!SW42),'System Results'!SW42,0)","v":0},{"$f":"+IF(ISNUMBER('System Results'!SZ42),'System Results'!SZ42,0)","v":0},{"$f":"+IF(ISNUMBER('System Results'!TC42),'System Results'!TC42,0)","v":0},{"$f":"+IF(ISNUMBER('System Results'!TF42),'System Results'!TF42,0)","v":0},{"$f":"+IF(ISNUMBER('System Results'!TI42),'System Results'!TI42,0)","v":0},{"$f":"+IF(ISNUMBER('System Results'!TL42),'System Results'!TL42,0)","v":0},{"$f":"+IF(ISNUMBER('System Results'!TO42),'System Results'!TO42,0)","v":0},{"$f":"+IF(ISNUMBER('System Results'!TR42),'System Results'!TR42,0)","v":0},{"$f":"+IF(ISNUMBER('System Results'!TU42),'System Results'!TU42,0)","v":0},{"$f":"+IF(ISNUMBER('System Results'!TX42),'System Results'!TX42,0)","v":0},{"$f":"+IF(ISNUMBER('System Results'!UA42),'System Results'!UA42,0)","v":0},{"$f":"+IF(ISNUMBER('System Results'!UD42),'System Results'!UD42,0)","v":0},{"$f":"+IF(ISNUMBER('System Results'!UG42),'System Results'!UG42,0)","v":0},{"$f":"+IF(ISNUMBER('System Results'!UJ42),'System Results'!UJ42,0)","v":0},{"$f":"+IF(ISNUMBER('System Results'!UM42),'System Results'!UM42,0)","v":0},{"$f":"+IF(ISNUMBER('System Results'!UP42),'System Results'!UP42,0)","v":0},{"$f":"+IF(ISNUMBER('System Results'!US42),'System Results'!US42,0)","v":0},{"$f":"+IF(ISNUMBER('System Results'!UV42),'System Results'!UV42,0)","v":0},{"$f":"+IF(ISNUMBER('System Results'!UY42),'System Results'!UY42,0)","v":0},{"$f":"+IF(ISNUMBER('System Results'!VB42),'System Results'!VB42,0)","v":0},{"$f":"+IF(ISNUMBER('System Results'!VE42),'System Results'!VE42,0)","v":0},{"$f":"+IF(ISNUMBER('System Results'!VH42),'System Results'!VH42,0)","v":0},{"$f":"+IF(ISNUMBER('System Results'!VK42),'System Results'!VK42,0)","v":0},{"$f":"+IF(ISNUMBER('System Results'!VN42),'System Results'!VN42,0)","v":0},{"$f":"+IF(ISNUMBER('System Results'!VQ42),'System Results'!VQ42,0)","v":0},{"$f":"+IF(ISNUMBER('System Results'!VT42),'System Results'!VT42,0)","v":0},{"$f":"+IF(ISNUMBER('System Results'!VW42),'System Results'!VW42,0)","v":0},{"$f":"+IF(ISNUMBER('System Results'!VZ42),'System Results'!VZ42,0)","v":0},{"$f":"+IF(ISNUMBER('System Results'!WC42),'System Results'!WC42,0)","v":0},{"$f":"+IF(ISNUMBER('System Results'!WF42),'System Results'!WF42,0)","v":0},{"$f":"+IF(ISNUMBER('System Results'!WI42),'System Results'!WI42,0)","v":0},{"$f":"+IF(ISNUMBER('System Results'!WL42),'System Results'!WL42,0)","v":0},{"$f":"+IF(ISNUMBER('System Results'!WO42),'System Results'!WO42,0)","v":0},{"$f":"+IF(ISNUMBER('System Results'!WR42),'System Results'!WR42,0)","v":0},{"$f":"+IF(ISNUMBER('System Results'!WU42),'System Results'!WU42,0)","v":0},{"$f":"+IF(ISNUMBER('System Results'!WX42),'System Results'!WX42,0)","v":0},{"$f":"+IF(ISNUMBER('System Results'!XA42),'System Results'!XA42,0)","v":0},{"$f":"+IF(ISNUMBER('System Results'!XD42),'System Results'!XD42,0)","v":0},{"$f":"+IF(ISNUMBER('System Results'!XG42),'System Results'!XG42,0)","v":0},{"$f":"+IF(ISNUMBER('System Results'!XJ42),'System Results'!XJ42,0)","v":0},{"$f":"+IF(ISNUMBER('System Results'!XM42),'System Results'!XM42,0)","v":0},{"$f":"+IF(ISNUMBER('System Results'!XP42),'System Results'!XP42,0)","v":0},{"$f":"+IF(ISNUMBER('System Results'!XS42),'System Results'!XS42,0)","v":0},{"$f":"+IF(ISNUMBER('System Results'!XV42),'System Results'!XV42,0)","v":0},{"$f":"+IF(ISNUMBER('System Results'!XY42),'System Results'!XY42,0)","v":0},{"$f":"+IF(ISNUMBER('System Results'!YB42),'System Results'!YB42,0)","v":0},{"$f":"+IF(ISNUMBER('System Results'!YE42),'System Results'!YE42,0)","v":0},{"$f":"+IF(ISNUMBER('System Results'!YH42),'System Results'!YH42,0)","v":0},{"$f":"+IF(ISNUMBER('System Results'!YK42),'System Results'!YK42,0)","v":0},{"$f":"+IF(ISNUMBER('System Results'!YN42),'System Results'!YN42,0)","v":0},{"$f":"+IF(ISNUMBER('System Results'!YQ42),'System Results'!YQ42,0)","v":0},{"$f":"+IF(ISNUMBER('System Results'!YT42),'System Results'!YT42,0)","v":0},{"$f":"+IF(ISNUMBER('System Results'!YW42),'System Results'!YW42,0)","v":0},{"$f":"+IF(ISNUMBER('System Results'!YZ42),'System Results'!YZ42,0)","v":0},{"$f":"+IF(ISNUMBER('System Results'!ZC42),'System Results'!ZC42,0)","v":0},{"$f":"+IF(ISNUMBER('System Results'!ZF42),'System Results'!ZF42,0)","v":0},{"$f":"+IF(ISNUMBER('System Results'!ZI42),'System Results'!ZI42,0)","v":0},{"$f":"+IF(ISNUMBER('System Results'!ZL42),'System Results'!ZL42,0)","v":0},{"$f":"+IF(ISNUMBER('System Results'!ZO42),'System Results'!ZO42,0)","v":0},{"$f":"+IF(ISNUMBER('System Results'!ZR42),'System Results'!ZR42,0)","v":0},{"$f":"+IF(ISNUMBER('System Results'!ZU42),'System Results'!ZU42,0)","v":0},{"$f":"+IF(ISNUMBER('System Results'!ZX42),'System Results'!ZX42,0)","v":0},{"$f":"+IF(ISNUMBER('System Results'!AAA42),'System Results'!AAA42,0)","v":0},{"$f":"+IF(ISNUMBER('System Results'!AAD42),'System Results'!AAD42,0)","v":0},{"$f":"+IF(ISNUMBER('System Results'!AAG42),'System Results'!AAG42,0)","v":0},{"$f":"+IF(ISNUMBER('System Results'!AAJ42),'System Results'!AAJ42,0)","v":0},{"$f":"+IF(ISNUMBER('System Results'!AAM42),'System Results'!AAM42,0)","v":0},{"$f":"+IF(ISNUMBER('System Results'!AAP42),'System Results'!AAP42,0)","v":0},{"$f":"+IF(ISNUMBER('System Results'!AAS42),'System Results'!AAS42,0)","v":0},{"$f":"+IF(ISNUMBER('System Results'!AAV42),'System Results'!AAV42,0)","v":0},{"$f":"+IF(ISNUMBER('System Results'!AAY42),'System Results'!AAY42,0)","v":0},{"$f":"+IF(ISNUMBER('System Results'!ABB42),'System Results'!ABB42,0)","v":0},{"$f":"+IF(ISNUMBER('System Results'!ABE42),'System Results'!ABE42,0)","v":0},{"$f":"+IF(ISNUMBER('System Results'!ABH42),'System Results'!ABH42,0)","v":0},{"$f":"+IF(ISNUMBER('System Results'!ABK42),'System Results'!ABK42,0)","v":0},{"$f":"+IF(ISNUMBER('System Results'!ABN42),'System Results'!ABN42,0)","v":0},{"$f":"+IF(ISNUMBER('System Results'!ABQ42),'System Results'!ABQ42,0)","v":0},{"$f":"+IF(ISNUMBER('System Results'!ABT42),'System Results'!ABT42,0)","v":0},{"$f":"+IF(ISNUMBER('System Results'!ABW42),'System Results'!ABW42,0)","v":0},{"$f":"+IF(ISNUMBER('System Results'!ABZ42),'System Results'!ABZ42,0)","v":0},{"$f":"+IF(ISNUMBER('System Results'!ACC42),'System Results'!ACC42,0)","v":0},{"$f":"+IF(ISNUMBER('System Results'!ACF42),'System Results'!ACF42,0)","v":0},{"$f":"+IF(ISNUMBER('System Results'!ACI42),'System Results'!ACI42,0)","v":0},{"$f":"+IF(ISNUMBER('System Results'!ACL42),'System Results'!ACL42,0)","v":0},{"$f":"+IF(ISNUMBER('System Results'!ACO42),'System Results'!ACO42,0)","v":0},{"$f":"+IF(ISNUMBER('System Results'!ACR42),'System Results'!ACR42,0)","v":0},{"$f":"+IF(ISNUMBER('System Results'!ACU42),'System Results'!ACU42,0)","v":0},{"$f":"+IF(ISNUMBER('System Results'!ACX42),'System Results'!ACX42,0)","v":0},{"$f":"+IF(ISNUMBER('System Results'!ADA42),'System Results'!ADA42,0)","v":0},{"$f":"+IF(ISNUMBER('System Results'!ADD42),'System Results'!ADD42,0)","v":0},{"$f":"+IF(ISNUMBER('System Results'!ADG42),'System Results'!ADG42,0)","v":0},{"$f":"+IF(ISNUMBER('System Results'!ADJ42),'System Results'!ADJ42,0)","v":0},{"$f":"+IF(ISNUMBER('System Results'!ADM42),'System Results'!ADM42,0)","v":0},{"$f":"+IF(ISNUMBER('System Results'!ADP42),'System Results'!ADP42,0)","v":0},{"$f":"+IF(ISNUMBER('System Results'!ADS42),'System Results'!ADS42,0)","v":0},{"$f":"+IF(ISNUMBER('System Results'!ADV42),'System Results'!ADV42,0)","v":0},{"$f":"+IF(ISNUMBER('System Results'!ADY42),'System Results'!ADY42,0)","v":0},{"$f":"+IF(ISNUMBER('System Results'!AEB42),'System Results'!AEB42,0)","v":0},{"$f":"+IF(ISNUMBER('System Results'!AEE42),'System Results'!AEE42,0)","v":0},{"$f":"+IF(ISNUMBER('System Results'!AEH42),'System Results'!AEH42,0)","v":0},{"$f":"+IF(ISNUMBER('System Results'!AEK42),'System Results'!AEK42,0)","v":0},{"$f":"+IF(ISNUMBER('System Results'!AEN42),'System Results'!AEN42,0)","v":0},{"$f":"+IF(ISNUMBER('System Results'!AEQ42),'System Results'!AEQ42,0)","v":0},{"$f":"+IF(ISNUMBER('System Results'!AET42),'System Results'!AET42,0)","v":0},{"$f":"+IF(ISNUMBER('System Results'!AEW42),'System Results'!AEW42,0)","v":0},{"$f":"+IF(ISNUMBER('System Results'!AEZ42),'System Results'!AEZ42,0)","v":0},{"$f":"+IF(ISNUMBER('System Results'!AFC42),'System Results'!AFC42,0)","v":0},{"$f":"+IF(ISNUMBER('System Results'!AFF42),'System Results'!AFF42,0)","v":0},{"$f":"+IF(ISNUMBER('System Results'!AFI42),'System Results'!AFI42,0)","v":0},{"$f":"+IF(ISNUMBER('System Results'!AFL42),'System Results'!AFL42,0)","v":0},{"$f":"+IF(ISNUMBER('System Results'!AFO42),'System Results'!AFO42,0)","v":0},{"$f":"+IF(ISNUMBER('System Results'!AFR42),'System Results'!AFR42,0)","v":0},{"$f":"+IF(ISNUMBER('System Results'!AFU42),'System Results'!AFU42,0)","v":0},{"$f":"+IF(ISNUMBER('System Results'!AFX42),'System Results'!AFX42,0)","v":0},{"$f":"+IF(ISNUMBER('System Results'!AGA42),'System Results'!AGA42,0)","v":0},{"$f":"+IF(ISNUMBER('System Results'!AGD42),'System Results'!AGD42,0)","v":0},{"$f":"+IF(ISNUMBER('System Results'!AGG42),'System Results'!AGG42,0)","v":0},{"$f":"+IF(ISNUMBER('System Results'!AGJ42),'System Results'!AGJ42,0)","v":0},{"$f":"+IF(ISNUMBER('System Results'!AGM42),'System Results'!AGM42,0)","v":0},{"$f":"+IF(ISNUMBER('System Results'!AGP42),'System Results'!AGP42,0)","v":0},{"$f":"+IF(ISNUMBER('System Results'!AGS42),'System Results'!AGS42,0)","v":0},{"$f":"+IF(ISNUMBER('System Results'!AGV42),'System Results'!AGV42,0)","v":0},{"$f":"+IF(ISNUMBER('System Results'!AGY42),'System Results'!AGY42,0)","v":0},{"$f":"+IF(ISNUMBER('System Results'!AHB42),'System Results'!AHB42,0)","v":0},{"$f":"+IF(ISNUMBER('System Results'!AHE42),'System Results'!AHE42,0)","v":0},{"$f":"+IF(ISNUMBER('System Results'!AHH42),'System Results'!AHH42,0)","v":0},{"$f":"+IF(ISNUMBER('System Results'!AHK42),'System Results'!AHK42,0)","v":0},{"$f":"+IF(ISNUMBER('System Results'!AHN42),'System Results'!AHN42,0)","v":0},{"$f":"+IF(ISNUMBER('System Results'!AHQ42),'System Results'!AHQ42,0)","v":0},{"$f":"+IF(ISNUMBER('System Results'!AHT42),'System Results'!AHT42,0)","v":0}]
[{"$f":"+'System Results'!B43","v":"Employee commuting"},0,{"$f":"+IF(ISNUMBER('System Results'!G43),'System Results'!G43,0)","v":0},{"$f":"+IF(ISNUMBER('System Results'!J43),'System Results'!J43,0)","v":0},{"$f":"+IF(ISNUMBER('System Results'!M43),'System Results'!M43,0)","v":0},{"$f":"+IF(ISNUMBER('System Results'!P43),'System Results'!P43,0)","v":0},{"$f":"+IF(ISNUMBER('System Results'!S43),'System Results'!S43,0)","v":0},{"$f":"+IF(ISNUMBER('System Results'!V43),'System Results'!V43,0)","v":0},{"$f":"+IF(ISNUMBER('System Results'!Y43),'System Results'!Y43,0)","v":0},{"$f":"+IF(ISNUMBER('System Results'!AB43),'System Results'!AB43,0)","v":0},{"$f":"+IF(ISNUMBER('System Results'!AE43),'System Results'!AE43,0)","v":0},{"$f":"+IF(ISNUMBER('System Results'!AH43),'System Results'!AH43,0)","v":0},{"$f":"+IF(ISNUMBER('System Results'!AK43),'System Results'!AK43,0)","v":0},{"$f":"+IF(ISNUMBER('System Results'!AN43),'System Results'!AN43,0)","v":0},{"$f":"+IF(ISNUMBER('System Results'!AQ43),'System Results'!AQ43,0)","v":0},{"$f":"+IF(ISNUMBER('System Results'!AT43),'System Results'!AT43,0)","v":0},{"$f":"+IF(ISNUMBER('System Results'!AW43),'System Results'!AW43,0)","v":0},{"$f":"+IF(ISNUMBER('System Results'!AZ43),'System Results'!AZ43,0)","v":0},{"$f":"+IF(ISNUMBER('System Results'!BC43),'System Results'!BC43,0)","v":0},{"$f":"+IF(ISNUMBER('System Results'!BF43),'System Results'!BF43,0)","v":0},{"$f":"+IF(ISNUMBER('System Results'!BI43),'System Results'!BI43,0)","v":0},{"$f":"+IF(ISNUMBER('System Results'!BL43),'System Results'!BL43,0)","v":0},{"$f":"+IF(ISNUMBER('System Results'!BO43),'System Results'!BO43,0)","v":0},{"$f":"+IF(ISNUMBER('System Results'!BR43),'System Results'!BR43,0)","v":0},{"$f":"+IF(ISNUMBER('System Results'!BU43),'System Results'!BU43,0)","v":0},{"$f":"+IF(ISNUMBER('System Results'!BX43),'System Results'!BX43,0)","v":0},{"$f":"+IF(ISNUMBER('System Results'!CA43),'System Results'!CA43,0)","v":0},{"$f":"+IF(ISNUMBER('System Results'!CD43),'System Results'!CD43,0)","v":0},{"$f":"+IF(ISNUMBER('System Results'!CG43),'System Results'!CG43,0)","v":0},{"$f":"+IF(ISNUMBER('System Results'!CJ43),'System Results'!CJ43,0)","v":0},{"$f":"+IF(ISNUMBER('System Results'!CM43),'System Results'!CM43,0)","v":0},{"$f":"+IF(ISNUMBER('System Results'!CP43),'System Results'!CP43,0)","v":0},{"$f":"+IF(ISNUMBER('System Results'!CS43),'System Results'!CS43,0)","v":0},{"$f":"+IF(ISNUMBER('System Results'!CV43),'System Results'!CV43,0)","v":0},{"$f":"+IF(ISNUMBER('System Results'!CY43),'System Results'!CY43,0)","v":0},{"$f":"+IF(ISNUMBER('System Results'!DB43),'System Results'!DB43,0)","v":0},{"$f":"+IF(ISNUMBER('System Results'!DE43),'System Results'!DE43,0)","v":0},{"$f":"+IF(ISNUMBER('System Results'!DH43),'System Results'!DH43,0)","v":0},{"$f":"+IF(ISNUMBER('System Results'!DK43),'System Results'!DK43,0)","v":0},{"$f":"+IF(ISNUMBER('System Results'!DN43),'System Results'!DN43,0)","v":0},{"$f":"+IF(ISNUMBER('System Results'!DQ43),'System Results'!DQ43,0)","v":0},{"$f":"+IF(ISNUMBER('System Results'!DT43),'System Results'!DT43,0)","v":0},{"$f":"+IF(ISNUMBER('System Results'!DW43),'System Results'!DW43,0)","v":0},{"$f":"+IF(ISNUMBER('System Results'!DZ43),'System Results'!DZ43,0)","v":0},{"$f":"+IF(ISNUMBER('System Results'!EC43),'System Results'!EC43,0)","v":0},{"$f":"+IF(ISNUMBER('System Results'!EF43),'System Results'!EF43,0)","v":0},{"$f":"+IF(ISNUMBER('System Results'!EI43),'System Results'!EI43,0)","v":0},{"$f":"+IF(ISNUMBER('System Results'!EL43),'System Results'!EL43,0)","v":0},{"$f":"+IF(ISNUMBER('System Results'!EO43),'System Results'!EO43,0)","v":0},{"$f":"+IF(ISNUMBER('System Results'!ER43),'System Results'!ER43,0)","v":0},{"$f":"+IF(ISNUMBER('System Results'!EU43),'System Results'!EU43,0)","v":0},{"$f":"+IF(ISNUMBER('System Results'!EX43),'System Results'!EX43,0)","v":0},{"$f":"+IF(ISNUMBER('System Results'!FA43),'System Results'!FA43,0)","v":0},{"$f":"+IF(ISNUMBER('System Results'!FD43),'System Results'!FD43,0)","v":0},{"$f":"+IF(ISNUMBER('System Results'!FG43),'System Results'!FG43,0)","v":0},{"$f":"+IF(ISNUMBER('System Results'!FJ43),'System Results'!FJ43,0)","v":0},{"$f":"+IF(ISNUMBER('System Results'!FM43),'System Results'!FM43,0)","v":0},{"$f":"+IF(ISNUMBER('System Results'!FP43),'System Results'!FP43,0)","v":0},{"$f":"+IF(ISNUMBER('System Results'!FS43),'System Results'!FS43,0)","v":0},{"$f":"+IF(ISNUMBER('System Results'!FV43),'System Results'!FV43,0)","v":0},{"$f":"+IF(ISNUMBER('System Results'!FY43),'System Results'!FY43,0)","v":0},{"$f":"+IF(ISNUMBER('System Results'!GB43),'System Results'!GB43,0)","v":0},{"$f":"+IF(ISNUMBER('System Results'!GE43),'System Results'!GE43,0)","v":0},{"$f":"+IF(ISNUMBER('System Results'!GH43),'System Results'!GH43,0)","v":0},{"$f":"+IF(ISNUMBER('System Results'!GK43),'System Results'!GK43,0)","v":0},{"$f":"+IF(ISNUMBER('System Results'!GN43),'System Results'!GN43,0)","v":0},{"$f":"+IF(ISNUMBER('System Results'!GQ43),'System Results'!GQ43,0)","v":0},{"$f":"+IF(ISNUMBER('System Results'!GT43),'System Results'!GT43,0)","v":0},{"$f":"+IF(ISNUMBER('System Results'!GW43),'System Results'!GW43,0)","v":0},{"$f":"+IF(ISNUMBER('System Results'!GZ43),'System Results'!GZ43,0)","v":0},{"$f":"+IF(ISNUMBER('System Results'!HC43),'System Results'!HC43,0)","v":0},{"$f":"+IF(ISNUMBER('System Results'!HF43),'System Results'!HF43,0)","v":0},{"$f":"+IF(ISNUMBER('System Results'!HI43),'System Results'!HI43,0)","v":0},{"$f":"+IF(ISNUMBER('System Results'!HL43),'System Results'!HL43,0)","v":0},{"$f":"+IF(ISNUMBER('System Results'!HO43),'System Results'!HO43,0)","v":0},{"$f":"+IF(ISNUMBER('System Results'!HR43),'System Results'!HR43,0)","v":0},{"$f":"+IF(ISNUMBER('System Results'!HU43),'System Results'!HU43,0)","v":0},{"$f":"+IF(ISNUMBER('System Results'!HX43),'System Results'!HX43,0)","v":0},{"$f":"+IF(ISNUMBER('System Results'!IA43),'System Results'!IA43,0)","v":0},{"$f":"+IF(ISNUMBER('System Results'!ID43),'System Results'!ID43,0)","v":0},{"$f":"+IF(ISNUMBER('System Results'!IG43),'System Results'!IG43,0)","v":0},{"$f":"+IF(ISNUMBER('System Results'!IJ43),'System Results'!IJ43,0)","v":0},{"$f":"+IF(ISNUMBER('System Results'!IM43),'System Results'!IM43,0)","v":0},{"$f":"+IF(ISNUMBER('System Results'!IP43),'System Results'!IP43,0)","v":0},{"$f":"+IF(ISNUMBER('System Results'!IS43),'System Results'!IS43,0)","v":0},{"$f":"+IF(ISNUMBER('System Results'!IV43),'System Results'!IV43,0)","v":0},{"$f":"+IF(ISNUMBER('System Results'!IY43),'System Results'!IY43,0)","v":0},{"$f":"+IF(ISNUMBER('System Results'!JB43),'System Results'!JB43,0)","v":0},{"$f":"+IF(ISNUMBER('System Results'!JE43),'System Results'!JE43,0)","v":0},{"$f":"+IF(ISNUMBER('System Results'!JH43),'System Results'!JH43,0)","v":0},{"$f":"+IF(ISNUMBER('System Results'!JK43),'System Results'!JK43,0)","v":0},{"$f":"+IF(ISNUMBER('System Results'!JN43),'System Results'!JN43,0)","v":0},{"$f":"+IF(ISNUMBER('System Results'!JQ43),'System Results'!JQ43,0)","v":0},{"$f":"+IF(ISNUMBER('System Results'!JT43),'System Results'!JT43,0)","v":0},{"$f":"+IF(ISNUMBER('System Results'!JW43),'System Results'!JW43,0)","v":0},{"$f":"+IF(ISNUMBER('System Results'!JZ43),'System Results'!JZ43,0)","v":0},{"$f":"+IF(ISNUMBER('System Results'!KC43),'System Results'!KC43,0)","v":0},{"$f":"+IF(ISNUMBER('System Results'!KF43),'System Results'!KF43,0)","v":0},{"$f":"+IF(ISNUMBER('System Results'!KI43),'System Results'!KI43,0)","v":0},{"$f":"+IF(ISNUMBER('System Results'!KL43),'System Results'!KL43,0)","v":0},{"$f":"+IF(ISNUMBER('System Results'!KO43),'System Results'!KO43,0)","v":0},{"$f":"+IF(ISNUMBER('System Results'!KR43),'System Results'!KR43,0)","v":0},{"$f":"+IF(ISNUMBER('System Results'!KU43),'System Results'!KU43,0)","v":0},{"$f":"+IF(ISNUMBER('System Results'!KX43),'System Results'!KX43,0)","v":0},{"$f":"+IF(ISNUMBER('System Results'!LA43),'System Results'!LA43,0)","v":0},{"$f":"+IF(ISNUMBER('System Results'!LD43),'System Results'!LD43,0)","v":0},{"$f":"+IF(ISNUMBER('System Results'!LG43),'System Results'!LG43,0)","v":0},{"$f":"+IF(ISNUMBER('System Results'!LJ43),'System Results'!LJ43,0)","v":0},{"$f":"+IF(ISNUMBER('System Results'!LM43),'System Results'!LM43,0)","v":0},{"$f":"+IF(ISNUMBER('System Results'!LP43),'System Results'!LP43,0)","v":0},{"$f":"+IF(ISNUMBER('System Results'!LS43),'System Results'!LS43,0)","v":0},{"$f":"+IF(ISNUMBER('System Results'!LV43),'System Results'!LV43,0)","v":0},{"$f":"+IF(ISNUMBER('System Results'!LY43),'System Results'!LY43,0)","v":0},{"$f":"+IF(ISNUMBER('System Results'!MB43),'System Results'!MB43,0)","v":0},{"$f":"+IF(ISNUMBER('System Results'!ME43),'System Results'!ME43,0)","v":0},{"$f":"+IF(ISNUMBER('System Results'!MH43),'System Results'!MH43,0)","v":0},{"$f":"+IF(ISNUMBER('System Results'!MK43),'System Results'!MK43,0)","v":0},{"$f":"+IF(ISNUMBER('System Results'!MN43),'System Results'!MN43,0)","v":0},{"$f":"+IF(ISNUMBER('System Results'!MQ43),'System Results'!MQ43,0)","v":0},{"$f":"+IF(ISNUMBER('System Results'!MT43),'System Results'!MT43,0)","v":0},{"$f":"+IF(ISNUMBER('System Results'!MW43),'System Results'!MW43,0)","v":0},{"$f":"+IF(ISNUMBER('System Results'!MZ43),'System Results'!MZ43,0)","v":0},{"$f":"+IF(ISNUMBER('System Results'!NC43),'System Results'!NC43,0)","v":0},{"$f":"+IF(ISNUMBER('System Results'!NF43),'System Results'!NF43,0)","v":0},{"$f":"+IF(ISNUMBER('System Results'!NI43),'System Results'!NI43,0)","v":0},{"$f":"+IF(ISNUMBER('System Results'!NL43),'System Results'!NL43,0)","v":0},{"$f":"+IF(ISNUMBER('System Results'!NO43),'System Results'!NO43,0)","v":0},{"$f":"+IF(ISNUMBER('System Results'!NR43),'System Results'!NR43,0)","v":0},{"$f":"+IF(ISNUMBER('System Results'!NU43),'System Results'!NU43,0)","v":0},{"$f":"+IF(ISNUMBER('System Results'!NX43),'System Results'!NX43,0)","v":0},{"$f":"+IF(ISNUMBER('System Results'!OA43),'System Results'!OA43,0)","v":0},{"$f":"+IF(ISNUMBER('System Results'!OD43),'System Results'!OD43,0)","v":0},{"$f":"+IF(ISNUMBER('System Results'!OG43),'System Results'!OG43,0)","v":0},{"$f":"+IF(ISNUMBER('System Results'!OJ43),'System Results'!OJ43,0)","v":0},{"$f":"+IF(ISNUMBER('System Results'!OM43),'System Results'!OM43,0)","v":0},{"$f":"+IF(ISNUMBER('System Results'!OP43),'System Results'!OP43,0)","v":0},{"$f":"+IF(ISNUMBER('System Results'!OS43),'System Results'!OS43,0)","v":0},{"$f":"+IF(ISNUMBER('System Results'!OV43),'System Results'!OV43,0)","v":0},{"$f":"+IF(ISNUMBER('System Results'!OY43),'System Results'!OY43,0)","v":0},{"$f":"+IF(ISNUMBER('System Results'!PB43),'System Results'!PB43,0)","v":0},{"$f":"+IF(ISNUMBER('System Results'!PE43),'System Results'!PE43,0)","v":0},{"$f":"+IF(ISNUMBER('System Results'!PH43),'System Results'!PH43,0)","v":0},{"$f":"+IF(ISNUMBER('System Results'!PK43),'System Results'!PK43,0)","v":0},{"$f":"+IF(ISNUMBER('System Results'!PN43),'System Results'!PN43,0)","v":0},{"$f":"+IF(ISNUMBER('System Results'!PQ43),'System Results'!PQ43,0)","v":0},{"$f":"+IF(ISNUMBER('System Results'!PT43),'System Results'!PT43,0)","v":0},{"$f":"+IF(ISNUMBER('System Results'!PW43),'System Results'!PW43,0)","v":0},{"$f":"+IF(ISNUMBER('System Results'!PZ43),'System Results'!PZ43,0)","v":0},{"$f":"+IF(ISNUMBER('System Results'!QC43),'System Results'!QC43,0)","v":0},{"$f":"+IF(ISNUMBER('System Results'!QF43),'System Results'!QF43,0)","v":0},{"$f":"+IF(ISNUMBER('System Results'!QI43),'System Results'!QI43,0)","v":0},{"$f":"+IF(ISNUMBER('System Results'!QL43),'System Results'!QL43,0)","v":0},{"$f":"+IF(ISNUMBER('System Results'!QO43),'System Results'!QO43,0)","v":0},{"$f":"+IF(ISNUMBER('System Results'!QR43),'System Results'!QR43,0)","v":0},{"$f":"+IF(ISNUMBER('System Results'!QU43),'System Results'!QU43,0)","v":0},{"$f":"+IF(ISNUMBER('System Results'!QX43),'System Results'!QX43,0)","v":0},{"$f":"+IF(ISNUMBER('System Results'!RA43),'System Results'!RA43,0)","v":0},{"$f":"+IF(ISNUMBER('System Results'!RD43),'System Results'!RD43,0)","v":0},{"$f":"+IF(ISNUMBER('System Results'!RG43),'System Results'!RG43,0)","v":0},{"$f":"+IF(ISNUMBER('System Results'!RJ43),'System Results'!RJ43,0)","v":0},{"$f":"+IF(ISNUMBER('System Results'!RM43),'System Results'!RM43,0)","v":0},{"$f":"+IF(ISNUMBER('System Results'!RP43),'System Results'!RP43,0)","v":0},{"$f":"+IF(ISNUMBER('System Results'!RS43),'System Results'!RS43,0)","v":0},{"$f":"+IF(ISNUMBER('System Results'!RV43),'System Results'!RV43,0)","v":0},{"$f":"+IF(ISNUMBER('System Results'!RY43),'System Results'!RY43,0)","v":0},{"$f":"+IF(ISNUMBER('System Results'!SB43),'System Results'!SB43,0)","v":0},{"$f":"+IF(ISNUMBER('System Results'!SE43),'System Results'!SE43,0)","v":0},{"$f":"+IF(ISNUMBER('System Results'!SH43),'System Results'!SH43,0)","v":0},{"$f":"+IF(ISNUMBER('System Results'!SK43),'System Results'!SK43,0)","v":0},{"$f":"+IF(ISNUMBER('System Results'!SN43),'System Results'!SN43,0)","v":0},{"$f":"+IF(ISNUMBER('System Results'!SQ43),'System Results'!SQ43,0)","v":0},{"$f":"+IF(ISNUMBER('System Results'!ST43),'System Results'!ST43,0)","v":0},{"$f":"+IF(ISNUMBER('System Results'!SW43),'System Results'!SW43,0)","v":0},{"$f":"+IF(ISNUMBER('System Results'!SZ43),'System Results'!SZ43,0)","v":0},{"$f":"+IF(ISNUMBER('System Results'!TC43),'System Results'!TC43,0)","v":0},{"$f":"+IF(ISNUMBER('System Results'!TF43),'System Results'!TF43,0)","v":0},{"$f":"+IF(ISNUMBER('System Results'!TI43),'System Results'!TI43,0)","v":0},{"$f":"+IF(ISNUMBER('System Results'!TL43),'System Results'!TL43,0)","v":0},{"$f":"+IF(ISNUMBER('System Results'!TO43),'System Results'!TO43,0)","v":0},{"$f":"+IF(ISNUMBER('System Results'!TR43),'System Results'!TR43,0)","v":0},{"$f":"+IF(ISNUMBER('System Results'!TU43),'System Results'!TU43,0)","v":0},{"$f":"+IF(ISNUMBER('System Results'!TX43),'System Results'!TX43,0)","v":0},{"$f":"+IF(ISNUMBER('System Results'!UA43),'System Results'!UA43,0)","v":0},{"$f":"+IF(ISNUMBER('System Results'!UD43),'System Results'!UD43,0)","v":0},{"$f":"+IF(ISNUMBER('System Results'!UG43),'System Results'!UG43,0)","v":0},{"$f":"+IF(ISNUMBER('System Results'!UJ43),'System Results'!UJ43,0)","v":0},{"$f":"+IF(ISNUMBER('System Results'!UM43),'System Results'!UM43,0)","v":0},{"$f":"+IF(ISNUMBER('System Results'!UP43),'System Results'!UP43,0)","v":0},{"$f":"+IF(ISNUMBER('System Results'!US43),'System Results'!US43,0)","v":0},{"$f":"+IF(ISNUMBER('System Results'!UV43),'System Results'!UV43,0)","v":0},{"$f":"+IF(ISNUMBER('System Results'!UY43),'System Results'!UY43,0)","v":0},{"$f":"+IF(ISNUMBER('System Results'!VB43),'System Results'!VB43,0)","v":0},{"$f":"+IF(ISNUMBER('System Results'!VE43),'System Results'!VE43,0)","v":0},{"$f":"+IF(ISNUMBER('System Results'!VH43),'System Results'!VH43,0)","v":0},{"$f":"+IF(ISNUMBER('System Results'!VK43),'System Results'!VK43,0)","v":0},{"$f":"+IF(ISNUMBER('System Results'!VN43),'System Results'!VN43,0)","v":0},{"$f":"+IF(ISNUMBER('System Results'!VQ43),'System Results'!VQ43,0)","v":0},{"$f":"+IF(ISNUMBER('System Results'!VT43),'System Results'!VT43,0)","v":0},{"$f":"+IF(ISNUMBER('System Results'!VW43),'System Results'!VW43,0)","v":0},{"$f":"+IF(ISNUMBER('System Results'!VZ43),'System Results'!VZ43,0)","v":0},{"$f":"+IF(ISNUMBER('System Results'!WC43),'System Results'!WC43,0)","v":0},{"$f":"+IF(ISNUMBER('System Results'!WF43),'System Results'!WF43,0)","v":0},{"$f":"+IF(ISNUMBER('System Results'!WI43),'System Results'!WI43,0)","v":0},{"$f":"+IF(ISNUMBER('System Results'!WL43),'System Results'!WL43,0)","v":0},{"$f":"+IF(ISNUMBER('System Results'!WO43),'System Results'!WO43,0)","v":0},{"$f":"+IF(ISNUMBER('System Results'!WR43),'System Results'!WR43,0)","v":0},{"$f":"+IF(ISNUMBER('System Results'!WU43),'System Results'!WU43,0)","v":0},{"$f":"+IF(ISNUMBER('System Results'!WX43),'System Results'!WX43,0)","v":0},{"$f":"+IF(ISNUMBER('System Results'!XA43),'System Results'!XA43,0)","v":0},{"$f":"+IF(ISNUMBER('System Results'!XD43),'System Results'!XD43,0)","v":0},{"$f":"+IF(ISNUMBER('System Results'!XG43),'System Results'!XG43,0)","v":0},{"$f":"+IF(ISNUMBER('System Results'!XJ43),'System Results'!XJ43,0)","v":0},{"$f":"+IF(ISNUMBER('System Results'!XM43),'System Results'!XM43,0)","v":0},{"$f":"+IF(ISNUMBER('System Results'!XP43),'System Results'!XP43,0)","v":0},{"$f":"+IF(ISNUMBER('System Results'!XS43),'System Results'!XS43,0)","v":0},{"$f":"+IF(ISNUMBER('System Results'!XV43),'System Results'!XV43,0)","v":0},{"$f":"+IF(ISNUMBER('System Results'!XY43),'System Results'!XY43,0)","v":0},{"$f":"+IF(ISNUMBER('System Results'!YB43),'System Results'!YB43,0)","v":0},{"$f":"+IF(ISNUMBER('System Results'!YE43),'System Results'!YE43,0)","v":0},{"$f":"+IF(ISNUMBER('System Results'!YH43),'System Results'!YH43,0)","v":0},{"$f":"+IF(ISNUMBER('System Results'!YK43),'System Results'!YK43,0)","v":0},{"$f":"+IF(ISNUMBER('System Results'!YN43),'System Results'!YN43,0)","v":0},{"$f":"+IF(ISNUMBER('System Results'!YQ43),'System Results'!YQ43,0)","v":0},{"$f":"+IF(ISNUMBER('System Results'!YT43),'System Results'!YT43,0)","v":0},{"$f":"+IF(ISNUMBER('System Results'!YW43),'System Results'!YW43,0)","v":0},{"$f":"+IF(ISNUMBER('System Results'!YZ43),'System Results'!YZ43,0)","v":0},{"$f":"+IF(ISNUMBER('System Results'!ZC43),'System Results'!ZC43,0)","v":0},{"$f":"+IF(ISNUMBER('System Results'!ZF43),'System Results'!ZF43,0)","v":0},{"$f":"+IF(ISNUMBER('System Results'!ZI43),'System Results'!ZI43,0)","v":0},{"$f":"+IF(ISNUMBER('System Results'!ZL43),'System Results'!ZL43,0)","v":0},{"$f":"+IF(ISNUMBER('System Results'!ZO43),'System Results'!ZO43,0)","v":0},{"$f":"+IF(ISNUMBER('System Results'!ZR43),'System Results'!ZR43,0)","v":0},{"$f":"+IF(ISNUMBER('System Results'!ZU43),'System Results'!ZU43,0)","v":0},{"$f":"+IF(ISNUMBER('System Results'!ZX43),'System Results'!ZX43,0)","v":0},{"$f":"+IF(ISNUMBER('System Results'!AAA43),'System Results'!AAA43,0)","v":0},{"$f":"+IF(ISNUMBER('System Results'!AAD43),'System Results'!AAD43,0)","v":0},{"$f":"+IF(ISNUMBER('System Results'!AAG43),'System Results'!AAG43,0)","v":0},{"$f":"+IF(ISNUMBER('System Results'!AAJ43),'System Results'!AAJ43,0)","v":0},{"$f":"+IF(ISNUMBER('System Results'!AAM43),'System Results'!AAM43,0)","v":0},{"$f":"+IF(ISNUMBER('System Results'!AAP43),'System Results'!AAP43,0)","v":0},{"$f":"+IF(ISNUMBER('System Results'!AAS43),'System Results'!AAS43,0)","v":0},{"$f":"+IF(ISNUMBER('System Results'!AAV43),'System Results'!AAV43,0)","v":0},{"$f":"+IF(ISNUMBER('System Results'!AAY43),'System Results'!AAY43,0)","v":0},{"$f":"+IF(ISNUMBER('System Results'!ABB43),'System Results'!ABB43,0)","v":0},{"$f":"+IF(ISNUMBER('System Results'!ABE43),'System Results'!ABE43,0)","v":0},{"$f":"+IF(ISNUMBER('System Results'!ABH43),'System Results'!ABH43,0)","v":0},{"$f":"+IF(ISNUMBER('System Results'!ABK43),'System Results'!ABK43,0)","v":0},{"$f":"+IF(ISNUMBER('System Results'!ABN43),'System Results'!ABN43,0)","v":0},{"$f":"+IF(ISNUMBER('System Results'!ABQ43),'System Results'!ABQ43,0)","v":0},{"$f":"+IF(ISNUMBER('System Results'!ABT43),'System Results'!ABT43,0)","v":0},{"$f":"+IF(ISNUMBER('System Results'!ABW43),'System Results'!ABW43,0)","v":0},{"$f":"+IF(ISNUMBER('System Results'!ABZ43),'System Results'!ABZ43,0)","v":0},{"$f":"+IF(ISNUMBER('System Results'!ACC43),'System Results'!ACC43,0)","v":0},{"$f":"+IF(ISNUMBER('System Results'!ACF43),'System Results'!ACF43,0)","v":0},{"$f":"+IF(ISNUMBER('System Results'!ACI43),'System Results'!ACI43,0)","v":0},{"$f":"+IF(ISNUMBER('System Results'!ACL43),'System Results'!ACL43,0)","v":0},{"$f":"+IF(ISNUMBER('System Results'!ACO43),'System Results'!ACO43,0)","v":0},{"$f":"+IF(ISNUMBER('System Results'!ACR43),'System Results'!ACR43,0)","v":0},{"$f":"+IF(ISNUMBER('System Results'!ACU43),'System Results'!ACU43,0)","v":0},{"$f":"+IF(ISNUMBER('System Results'!ACX43),'System Results'!ACX43,0)","v":0},{"$f":"+IF(ISNUMBER('System Results'!ADA43),'System Results'!ADA43,0)","v":0},{"$f":"+IF(ISNUMBER('System Results'!ADD43),'System Results'!ADD43,0)","v":0},{"$f":"+IF(ISNUMBER('System Results'!ADG43),'System Results'!ADG43,0)","v":0},{"$f":"+IF(ISNUMBER('System Results'!ADJ43),'System Results'!ADJ43,0)","v":0},{"$f":"+IF(ISNUMBER('System Results'!ADM43),'System Results'!ADM43,0)","v":0},{"$f":"+IF(ISNUMBER('System Results'!ADP43),'System Results'!ADP43,0)","v":0},{"$f":"+IF(ISNUMBER('System Results'!ADS43),'System Results'!ADS43,0)","v":0},{"$f":"+IF(ISNUMBER('System Results'!ADV43),'System Results'!ADV43,0)","v":0},{"$f":"+IF(ISNUMBER('System Results'!ADY43),'System Results'!ADY43,0)","v":0},{"$f":"+IF(ISNUMBER('System Results'!AEB43),'System Results'!AEB43,0)","v":0},{"$f":"+IF(ISNUMBER('System Results'!AEE43),'System Results'!AEE43,0)","v":0},{"$f":"+IF(ISNUMBER('System Results'!AEH43),'System Results'!AEH43,0)","v":0},{"$f":"+IF(ISNUMBER('System Results'!AEK43),'System Results'!AEK43,0)","v":0},{"$f":"+IF(ISNUMBER('System Results'!AEN43),'System Results'!AEN43,0)","v":0},{"$f":"+IF(ISNUMBER('System Results'!AEQ43),'System Results'!AEQ43,0)","v":0},{"$f":"+IF(ISNUMBER('System Results'!AET43),'System Results'!AET43,0)","v":0},{"$f":"+IF(ISNUMBER('System Results'!AEW43),'System Results'!AEW43,0)","v":0},{"$f":"+IF(ISNUMBER('System Results'!AEZ43),'System Results'!AEZ43,0)","v":0},{"$f":"+IF(ISNUMBER('System Results'!AFC43),'System Results'!AFC43,0)","v":0},{"$f":"+IF(ISNUMBER('System Results'!AFF43),'System Results'!AFF43,0)","v":0},{"$f":"+IF(ISNUMBER('System Results'!AFI43),'System Results'!AFI43,0)","v":0},{"$f":"+IF(ISNUMBER('System Results'!AFL43),'System Results'!AFL43,0)","v":0},{"$f":"+IF(ISNUMBER('System Results'!AFO43),'System Results'!AFO43,0)","v":0},{"$f":"+IF(ISNUMBER('System Results'!AFR43),'System Results'!AFR43,0)","v":0},{"$f":"+IF(ISNUMBER('System Results'!AFU43),'System Results'!AFU43,0)","v":0},{"$f":"+IF(ISNUMBER('System Results'!AFX43),'System Results'!AFX43,0)","v":0},{"$f":"+IF(ISNUMBER('System Results'!AGA43),'System Results'!AGA43,0)","v":0},{"$f":"+IF(ISNUMBER('System Results'!AGD43),'System Results'!AGD43,0)","v":0},{"$f":"+IF(ISNUMBER('System Results'!AGG43),'System Results'!AGG43,0)","v":0},{"$f":"+IF(ISNUMBER('System Results'!AGJ43),'System Results'!AGJ43,0)","v":0},{"$f":"+IF(ISNUMBER('System Results'!AGM43),'System Results'!AGM43,0)","v":0},{"$f":"+IF(ISNUMBER('System Results'!AGP43),'System Results'!AGP43,0)","v":0},{"$f":"+IF(ISNUMBER('System Results'!AGS43),'System Results'!AGS43,0)","v":0},{"$f":"+IF(ISNUMBER('System Results'!AGV43),'System Results'!AGV43,0)","v":0},{"$f":"+IF(ISNUMBER('System Results'!AGY43),'System Results'!AGY43,0)","v":0},{"$f":"+IF(ISNUMBER('System Results'!AHB43),'System Results'!AHB43,0)","v":0},{"$f":"+IF(ISNUMBER('System Results'!AHE43),'System Results'!AHE43,0)","v":0},{"$f":"+IF(ISNUMBER('System Results'!AHH43),'System Results'!AHH43,0)","v":0},{"$f":"+IF(ISNUMBER('System Results'!AHK43),'System Results'!AHK43,0)","v":0},{"$f":"+IF(ISNUMBER('System Results'!AHN43),'System Results'!AHN43,0)","v":0},{"$f":"+IF(ISNUMBER('System Results'!AHQ43),'System Results'!AHQ43,0)","v":0},{"$f":"+IF(ISNUMBER('System Results'!AHT43),'System Results'!AHT43,0)","v":0}]
[{"$f":"+'System Results'!B44","v":"Upstream leased assets"},0,{"$f":"+IF(ISNUMBER('System Results'!G44),'System Results'!G44,0)","v":0},{"$f":"+IF(ISNUMBER('System Results'!J44),'System Results'!J44,0)","v":0},{"$f":"+IF(ISNUMBER('System Results'!M44),'System Results'!M44,0)","v":0},{"$f":"+IF(ISNUMBER('System Results'!P44),'System Results'!P44,0)","v":0},{"$f":"+IF(ISNUMBER('System Results'!S44),'System Results'!S44,0)","v":0},{"$f":"+IF(ISNUMBER('System Results'!V44),'System Results'!V44,0)","v":0},{"$f":"+IF(ISNUMBER('System Results'!Y44),'System Results'!Y44,0)","v":0},{"$f":"+IF(ISNUMBER('System Results'!AB44),'System Results'!AB44,0)","v":0},{"$f":"+IF(ISNUMBER('System Results'!AE44),'System Results'!AE44,0)","v":0},{"$f":"+IF(ISNUMBER('System Results'!AH44),'System Results'!AH44,0)","v":0},{"$f":"+IF(ISNUMBER('System Results'!AK44),'System Results'!AK44,0)","v":0},{"$f":"+IF(ISNUMBER('System Results'!AN44),'System Results'!AN44,0)","v":0},{"$f":"+IF(ISNUMBER('System Results'!AQ44),'System Results'!AQ44,0)","v":0},{"$f":"+IF(ISNUMBER('System Results'!AT44),'System Results'!AT44,0)","v":0},{"$f":"+IF(ISNUMBER('System Results'!AW44),'System Results'!AW44,0)","v":0},{"$f":"+IF(ISNUMBER('System Results'!AZ44),'System Results'!AZ44,0)","v":0},{"$f":"+IF(ISNUMBER('System Results'!BC44),'System Results'!BC44,0)","v":0},{"$f":"+IF(ISNUMBER('System Results'!BF44),'System Results'!BF44,0)","v":0},{"$f":"+IF(ISNUMBER('System Results'!BI44),'System Results'!BI44,0)","v":0},{"$f":"+IF(ISNUMBER('System Results'!BL44),'System Results'!BL44,0)","v":0},{"$f":"+IF(ISNUMBER('System Results'!BO44),'System Results'!BO44,0)","v":0},{"$f":"+IF(ISNUMBER('System Results'!BR44),'System Results'!BR44,0)","v":0},{"$f":"+IF(ISNUMBER('System Results'!BU44),'System Results'!BU44,0)","v":0},{"$f":"+IF(ISNUMBER('System Results'!BX44),'System Results'!BX44,0)","v":0},{"$f":"+IF(ISNUMBER('System Results'!CA44),'System Results'!CA44,0)","v":0},{"$f":"+IF(ISNUMBER('System Results'!CD44),'System Results'!CD44,0)","v":0},{"$f":"+IF(ISNUMBER('System Results'!CG44),'System Results'!CG44,0)","v":0},{"$f":"+IF(ISNUMBER('System Results'!CJ44),'System Results'!CJ44,0)","v":0},{"$f":"+IF(ISNUMBER('System Results'!CM44),'System Results'!CM44,0)","v":0},{"$f":"+IF(ISNUMBER('System Results'!CP44),'System Results'!CP44,0)","v":0},{"$f":"+IF(ISNUMBER('System Results'!CS44),'System Results'!CS44,0)","v":0},{"$f":"+IF(ISNUMBER('System Results'!CV44),'System Results'!CV44,0)","v":0},{"$f":"+IF(ISNUMBER('System Results'!CY44),'System Results'!CY44,0)","v":0},{"$f":"+IF(ISNUMBER('System Results'!DB44),'System Results'!DB44,0)","v":0},{"$f":"+IF(ISNUMBER('System Results'!DE44),'System Results'!DE44,0)","v":0},{"$f":"+IF(ISNUMBER('System Results'!DH44),'System Results'!DH44,0)","v":0},{"$f":"+IF(ISNUMBER('System Results'!DK44),'System Results'!DK44,0)","v":0},{"$f":"+IF(ISNUMBER('System Results'!DN44),'System Results'!DN44,0)","v":0},{"$f":"+IF(ISNUMBER('System Results'!DQ44),'System Results'!DQ44,0)","v":0},{"$f":"+IF(ISNUMBER('System Results'!DT44),'System Results'!DT44,0)","v":0},{"$f":"+IF(ISNUMBER('System Results'!DW44),'System Results'!DW44,0)","v":0},{"$f":"+IF(ISNUMBER('System Results'!DZ44),'System Results'!DZ44,0)","v":0},{"$f":"+IF(ISNUMBER('System Results'!EC44),'System Results'!EC44,0)","v":0},{"$f":"+IF(ISNUMBER('System Results'!EF44),'System Results'!EF44,0)","v":0},{"$f":"+IF(ISNUMBER('System Results'!EI44),'System Results'!EI44,0)","v":0},{"$f":"+IF(ISNUMBER('System Results'!EL44),'System Results'!EL44,0)","v":0},{"$f":"+IF(ISNUMBER('System Results'!EO44),'System Results'!EO44,0)","v":0},{"$f":"+IF(ISNUMBER('System Results'!ER44),'System Results'!ER44,0)","v":0},{"$f":"+IF(ISNUMBER('System Results'!EU44),'System Results'!EU44,0)","v":0},{"$f":"+IF(ISNUMBER('System Results'!EX44),'System Results'!EX44,0)","v":0},{"$f":"+IF(ISNUMBER('System Results'!FA44),'System Results'!FA44,0)","v":0},{"$f":"+IF(ISNUMBER('System Results'!FD44),'System Results'!FD44,0)","v":0},{"$f":"+IF(ISNUMBER('System Results'!FG44),'System Results'!FG44,0)","v":0},{"$f":"+IF(ISNUMBER('System Results'!FJ44),'System Results'!FJ44,0)","v":0},{"$f":"+IF(ISNUMBER('System Results'!FM44),'System Results'!FM44,0)","v":0},{"$f":"+IF(ISNUMBER('System Results'!FP44),'System Results'!FP44,0)","v":0},{"$f":"+IF(ISNUMBER('System Results'!FS44),'System Results'!FS44,0)","v":0},{"$f":"+IF(ISNUMBER('System Results'!FV44),'System Results'!FV44,0)","v":0},{"$f":"+IF(ISNUMBER('System Results'!FY44),'System Results'!FY44,0)","v":0},{"$f":"+IF(ISNUMBER('System Results'!GB44),'System Results'!GB44,0)","v":0},{"$f":"+IF(ISNUMBER('System Results'!GE44),'System Results'!GE44,0)","v":0},{"$f":"+IF(ISNUMBER('System Results'!GH44),'System Results'!GH44,0)","v":0},{"$f":"+IF(ISNUMBER('System Results'!GK44),'System Results'!GK44,0)","v":0},{"$f":"+IF(ISNUMBER('System Results'!GN44),'System Results'!GN44,0)","v":0},{"$f":"+IF(ISNUMBER('System Results'!GQ44),'System Results'!GQ44,0)","v":0},{"$f":"+IF(ISNUMBER('System Results'!GT44),'System Results'!GT44,0)","v":0},{"$f":"+IF(ISNUMBER('System Results'!GW44),'System Results'!GW44,0)","v":0},{"$f":"+IF(ISNUMBER('System Results'!GZ44),'System Results'!GZ44,0)","v":0},{"$f":"+IF(ISNUMBER('System Results'!HC44),'System Results'!HC44,0)","v":0},{"$f":"+IF(ISNUMBER('System Results'!HF44),'System Results'!HF44,0)","v":0},{"$f":"+IF(ISNUMBER('System Results'!HI44),'System Results'!HI44,0)","v":0},{"$f":"+IF(ISNUMBER('System Results'!HL44),'System Results'!HL44,0)","v":0},{"$f":"+IF(ISNUMBER('System Results'!HO44),'System Results'!HO44,0)","v":0},{"$f":"+IF(ISNUMBER('System Results'!HR44),'System Results'!HR44,0)","v":0},{"$f":"+IF(ISNUMBER('System Results'!HU44),'System Results'!HU44,0)","v":0},{"$f":"+IF(ISNUMBER('System Results'!HX44),'System Results'!HX44,0)","v":0},{"$f":"+IF(ISNUMBER('System Results'!IA44),'System Results'!IA44,0)","v":0},{"$f":"+IF(ISNUMBER('System Results'!ID44),'System Results'!ID44,0)","v":0},{"$f":"+IF(ISNUMBER('System Results'!IG44),'System Results'!IG44,0)","v":0},{"$f":"+IF(ISNUMBER('System Results'!IJ44),'System Results'!IJ44,0)","v":0},{"$f":"+IF(ISNUMBER('System Results'!IM44),'System Results'!IM44,0)","v":0},{"$f":"+IF(ISNUMBER('System Results'!IP44),'System Results'!IP44,0)","v":0},{"$f":"+IF(ISNUMBER('System Results'!IS44),'System Results'!IS44,0)","v":0},{"$f":"+IF(ISNUMBER('System Results'!IV44),'System Results'!IV44,0)","v":0},{"$f":"+IF(ISNUMBER('System Results'!IY44),'System Results'!IY44,0)","v":0},{"$f":"+IF(ISNUMBER('System Results'!JB44),'System Results'!JB44,0)","v":0},{"$f":"+IF(ISNUMBER('System Results'!JE44),'System Results'!JE44,0)","v":0},{"$f":"+IF(ISNUMBER('System Results'!JH44),'System Results'!JH44,0)","v":0},{"$f":"+IF(ISNUMBER('System Results'!JK44),'System Results'!JK44,0)","v":0},{"$f":"+IF(ISNUMBER('System Results'!JN44),'System Results'!JN44,0)","v":0},{"$f":"+IF(ISNUMBER('System Results'!JQ44),'System Results'!JQ44,0)","v":0},{"$f":"+IF(ISNUMBER('System Results'!JT44),'System Results'!JT44,0)","v":0},{"$f":"+IF(ISNUMBER('System Results'!JW44),'System Results'!JW44,0)","v":0},{"$f":"+IF(ISNUMBER('System Results'!JZ44),'System Results'!JZ44,0)","v":0},{"$f":"+IF(ISNUMBER('System Results'!KC44),'System Results'!KC44,0)","v":0},{"$f":"+IF(ISNUMBER('System Results'!KF44),'System Results'!KF44,0)","v":0},{"$f":"+IF(ISNUMBER('System Results'!KI44),'System Results'!KI44,0)","v":0},{"$f":"+IF(ISNUMBER('System Results'!KL44),'System Results'!KL44,0)","v":0},{"$f":"+IF(ISNUMBER('System Results'!KO44),'System Results'!KO44,0)","v":0},{"$f":"+IF(ISNUMBER('System Results'!KR44),'System Results'!KR44,0)","v":0},{"$f":"+IF(ISNUMBER('System Results'!KU44),'System Results'!KU44,0)","v":0},{"$f":"+IF(ISNUMBER('System Results'!KX44),'System Results'!KX44,0)","v":0},{"$f":"+IF(ISNUMBER('System Results'!LA44),'System Results'!LA44,0)","v":0},{"$f":"+IF(ISNUMBER('System Results'!LD44),'System Results'!LD44,0)","v":0},{"$f":"+IF(ISNUMBER('System Results'!LG44),'System Results'!LG44,0)","v":0},{"$f":"+IF(ISNUMBER('System Results'!LJ44),'System Results'!LJ44,0)","v":0},{"$f":"+IF(ISNUMBER('System Results'!LM44),'System Results'!LM44,0)","v":0},{"$f":"+IF(ISNUMBER('System Results'!LP44),'System Results'!LP44,0)","v":0},{"$f":"+IF(ISNUMBER('System Results'!LS44),'System Results'!LS44,0)","v":0},{"$f":"+IF(ISNUMBER('System Results'!LV44),'System Results'!LV44,0)","v":0},{"$f":"+IF(ISNUMBER('System Results'!LY44),'System Results'!LY44,0)","v":0},{"$f":"+IF(ISNUMBER('System Results'!MB44),'System Results'!MB44,0)","v":0},{"$f":"+IF(ISNUMBER('System Results'!ME44),'System Results'!ME44,0)","v":0},{"$f":"+IF(ISNUMBER('System Results'!MH44),'System Results'!MH44,0)","v":0},{"$f":"+IF(ISNUMBER('System Results'!MK44),'System Results'!MK44,0)","v":0},{"$f":"+IF(ISNUMBER('System Results'!MN44),'System Results'!MN44,0)","v":0},{"$f":"+IF(ISNUMBER('System Results'!MQ44),'System Results'!MQ44,0)","v":0},{"$f":"+IF(ISNUMBER('System Results'!MT44),'System Results'!MT44,0)","v":0},{"$f":"+IF(ISNUMBER('System Results'!MW44),'System Results'!MW44,0)","v":0},{"$f":"+IF(ISNUMBER('System Results'!MZ44),'System Results'!MZ44,0)","v":0},{"$f":"+IF(ISNUMBER('System Results'!NC44),'System Results'!NC44,0)","v":0},{"$f":"+IF(ISNUMBER('System Results'!NF44),'System Results'!NF44,0)","v":0},{"$f":"+IF(ISNUMBER('System Results'!NI44),'System Results'!NI44,0)","v":0},{"$f":"+IF(ISNUMBER('System Results'!NL44),'System Results'!NL44,0)","v":0},{"$f":"+IF(ISNUMBER('System Results'!NO44),'System Results'!NO44,0)","v":0},{"$f":"+IF(ISNUMBER('System Results'!NR44),'System Results'!NR44,0)","v":0},{"$f":"+IF(ISNUMBER('System Results'!NU44),'System Results'!NU44,0)","v":0},{"$f":"+IF(ISNUMBER('System Results'!NX44),'System Results'!NX44,0)","v":0},{"$f":"+IF(ISNUMBER('System Results'!OA44),'System Results'!OA44,0)","v":0},{"$f":"+IF(ISNUMBER('System Results'!OD44),'System Results'!OD44,0)","v":0},{"$f":"+IF(ISNUMBER('System Results'!OG44),'System Results'!OG44,0)","v":0},{"$f":"+IF(ISNUMBER('System Results'!OJ44),'System Results'!OJ44,0)","v":0},{"$f":"+IF(ISNUMBER('System Results'!OM44),'System Results'!OM44,0)","v":0},{"$f":"+IF(ISNUMBER('System Results'!OP44),'System Results'!OP44,0)","v":0},{"$f":"+IF(ISNUMBER('System Results'!OS44),'System Results'!OS44,0)","v":0},{"$f":"+IF(ISNUMBER('System Results'!OV44),'System Results'!OV44,0)","v":0},{"$f":"+IF(ISNUMBER('System Results'!OY44),'System Results'!OY44,0)","v":0},{"$f":"+IF(ISNUMBER('System Results'!PB44),'System Results'!PB44,0)","v":0},{"$f":"+IF(ISNUMBER('System Results'!PE44),'System Results'!PE44,0)","v":0},{"$f":"+IF(ISNUMBER('System Results'!PH44),'System Results'!PH44,0)","v":0},{"$f":"+IF(ISNUMBER('System Results'!PK44),'System Results'!PK44,0)","v":0},{"$f":"+IF(ISNUMBER('System Results'!PN44),'System Results'!PN44,0)","v":0},{"$f":"+IF(ISNUMBER('System Results'!PQ44),'System Results'!PQ44,0)","v":0},{"$f":"+IF(ISNUMBER('System Results'!PT44),'System Results'!PT44,0)","v":0},{"$f":"+IF(ISNUMBER('System Results'!PW44),'System Results'!PW44,0)","v":0},{"$f":"+IF(ISNUMBER('System Results'!PZ44),'System Results'!PZ44,0)","v":0},{"$f":"+IF(ISNUMBER('System Results'!QC44),'System Results'!QC44,0)","v":0},{"$f":"+IF(ISNUMBER('System Results'!QF44),'System Results'!QF44,0)","v":0},{"$f":"+IF(ISNUMBER('System Results'!QI44),'System Results'!QI44,0)","v":0},{"$f":"+IF(ISNUMBER('System Results'!QL44),'System Results'!QL44,0)","v":0},{"$f":"+IF(ISNUMBER('System Results'!QO44),'System Results'!QO44,0)","v":0},{"$f":"+IF(ISNUMBER('System Results'!QR44),'System Results'!QR44,0)","v":0},{"$f":"+IF(ISNUMBER('System Results'!QU44),'System Results'!QU44,0)","v":0},{"$f":"+IF(ISNUMBER('System Results'!QX44),'System Results'!QX44,0)","v":0},{"$f":"+IF(ISNUMBER('System Results'!RA44),'System Results'!RA44,0)","v":0},{"$f":"+IF(ISNUMBER('System Results'!RD44),'System Results'!RD44,0)","v":0},{"$f":"+IF(ISNUMBER('System Results'!RG44),'System Results'!RG44,0)","v":0},{"$f":"+IF(ISNUMBER('System Results'!RJ44),'System Results'!RJ44,0)","v":0},{"$f":"+IF(ISNUMBER('System Results'!RM44),'System Results'!RM44,0)","v":0},{"$f":"+IF(ISNUMBER('System Results'!RP44),'System Results'!RP44,0)","v":0},{"$f":"+IF(ISNUMBER('System Results'!RS44),'System Results'!RS44,0)","v":0},{"$f":"+IF(ISNUMBER('System Results'!RV44),'System Results'!RV44,0)","v":0},{"$f":"+IF(ISNUMBER('System Results'!RY44),'System Results'!RY44,0)","v":0},{"$f":"+IF(ISNUMBER('System Results'!SB44),'System Results'!SB44,0)","v":0},{"$f":"+IF(ISNUMBER('System Results'!SE44),'System Results'!SE44,0)","v":0},{"$f":"+IF(ISNUMBER('System Results'!SH44),'System Results'!SH44,0)","v":0},{"$f":"+IF(ISNUMBER('System Results'!SK44),'System Results'!SK44,0)","v":0},{"$f":"+IF(ISNUMBER('System Results'!SN44),'System Results'!SN44,0)","v":0},{"$f":"+IF(ISNUMBER('System Results'!SQ44),'System Results'!SQ44,0)","v":0},{"$f":"+IF(ISNUMBER('System Results'!ST44),'System Results'!ST44,0)","v":0},{"$f":"+IF(ISNUMBER('System Results'!SW44),'System Results'!SW44,0)","v":0},{"$f":"+IF(ISNUMBER('System Results'!SZ44),'System Results'!SZ44,0)","v":0},{"$f":"+IF(ISNUMBER('System Results'!TC44),'System Results'!TC44,0)","v":0},{"$f":"+IF(ISNUMBER('System Results'!TF44),'System Results'!TF44,0)","v":0},{"$f":"+IF(ISNUMBER('System Results'!TI44),'System Results'!TI44,0)","v":0},{"$f":"+IF(ISNUMBER('System Results'!TL44),'System Results'!TL44,0)","v":0},{"$f":"+IF(ISNUMBER('System Results'!TO44),'System Results'!TO44,0)","v":0},{"$f":"+IF(ISNUMBER('System Results'!TR44),'System Results'!TR44,0)","v":0},{"$f":"+IF(ISNUMBER('System Results'!TU44),'System Results'!TU44,0)","v":0},{"$f":"+IF(ISNUMBER('System Results'!TX44),'System Results'!TX44,0)","v":0},{"$f":"+IF(ISNUMBER('System Results'!UA44),'System Results'!UA44,0)","v":0},{"$f":"+IF(ISNUMBER('System Results'!UD44),'System Results'!UD44,0)","v":0},{"$f":"+IF(ISNUMBER('System Results'!UG44),'System Results'!UG44,0)","v":0},{"$f":"+IF(ISNUMBER('System Results'!UJ44),'System Results'!UJ44,0)","v":0},{"$f":"+IF(ISNUMBER('System Results'!UM44),'System Results'!UM44,0)","v":0},{"$f":"+IF(ISNUMBER('System Results'!UP44),'System Results'!UP44,0)","v":0},{"$f":"+IF(ISNUMBER('System Results'!US44),'System Results'!US44,0)","v":0},{"$f":"+IF(ISNUMBER('System Results'!UV44),'System Results'!UV44,0)","v":0},{"$f":"+IF(ISNUMBER('System Results'!UY44),'System Results'!UY44,0)","v":0},{"$f":"+IF(ISNUMBER('System Results'!VB44),'System Results'!VB44,0)","v":0},{"$f":"+IF(ISNUMBER('System Results'!VE44),'System Results'!VE44,0)","v":0},{"$f":"+IF(ISNUMBER('System Results'!VH44),'System Results'!VH44,0)","v":0},{"$f":"+IF(ISNUMBER('System Results'!VK44),'System Results'!VK44,0)","v":0},{"$f":"+IF(ISNUMBER('System Results'!VN44),'System Results'!VN44,0)","v":0},{"$f":"+IF(ISNUMBER('System Results'!VQ44),'System Results'!VQ44,0)","v":0},{"$f":"+IF(ISNUMBER('System Results'!VT44),'System Results'!VT44,0)","v":0},{"$f":"+IF(ISNUMBER('System Results'!VW44),'System Results'!VW44,0)","v":0},{"$f":"+IF(ISNUMBER('System Results'!VZ44),'System Results'!VZ44,0)","v":0},{"$f":"+IF(ISNUMBER('System Results'!WC44),'System Results'!WC44,0)","v":0},{"$f":"+IF(ISNUMBER('System Results'!WF44),'System Results'!WF44,0)","v":0},{"$f":"+IF(ISNUMBER('System Results'!WI44),'System Results'!WI44,0)","v":0},{"$f":"+IF(ISNUMBER('System Results'!WL44),'System Results'!WL44,0)","v":0},{"$f":"+IF(ISNUMBER('System Results'!WO44),'System Results'!WO44,0)","v":0},{"$f":"+IF(ISNUMBER('System Results'!WR44),'System Results'!WR44,0)","v":0},{"$f":"+IF(ISNUMBER('System Results'!WU44),'System Results'!WU44,0)","v":0},{"$f":"+IF(ISNUMBER('System Results'!WX44),'System Results'!WX44,0)","v":0},{"$f":"+IF(ISNUMBER('System Results'!XA44),'System Results'!XA44,0)","v":0},{"$f":"+IF(ISNUMBER('System Results'!XD44),'System Results'!XD44,0)","v":0},{"$f":"+IF(ISNUMBER('System Results'!XG44),'System Results'!XG44,0)","v":0},{"$f":"+IF(ISNUMBER('System Results'!XJ44),'System Results'!XJ44,0)","v":0},{"$f":"+IF(ISNUMBER('System Results'!XM44),'System Results'!XM44,0)","v":0},{"$f":"+IF(ISNUMBER('System Results'!XP44),'System Results'!XP44,0)","v":0},{"$f":"+IF(ISNUMBER('System Results'!XS44),'System Results'!XS44,0)","v":0},{"$f":"+IF(ISNUMBER('System Results'!XV44),'System Results'!XV44,0)","v":0},{"$f":"+IF(ISNUMBER('System Results'!XY44),'System Results'!XY44,0)","v":0},{"$f":"+IF(ISNUMBER('System Results'!YB44),'System Results'!YB44,0)","v":0},{"$f":"+IF(ISNUMBER('System Results'!YE44),'System Results'!YE44,0)","v":0},{"$f":"+IF(ISNUMBER('System Results'!YH44),'System Results'!YH44,0)","v":0},{"$f":"+IF(ISNUMBER('System Results'!YK44),'System Results'!YK44,0)","v":0},{"$f":"+IF(ISNUMBER('System Results'!YN44),'System Results'!YN44,0)","v":0},{"$f":"+IF(ISNUMBER('System Results'!YQ44),'System Results'!YQ44,0)","v":0},{"$f":"+IF(ISNUMBER('System Results'!YT44),'System Results'!YT44,0)","v":0},{"$f":"+IF(ISNUMBER('System Results'!YW44),'System Results'!YW44,0)","v":0},{"$f":"+IF(ISNUMBER('System Results'!YZ44),'System Results'!YZ44,0)","v":0},{"$f":"+IF(ISNUMBER('System Results'!ZC44),'System Results'!ZC44,0)","v":0},{"$f":"+IF(ISNUMBER('System Results'!ZF44),'System Results'!ZF44,0)","v":0},{"$f":"+IF(ISNUMBER('System Results'!ZI44),'System Results'!ZI44,0)","v":0},{"$f":"+IF(ISNUMBER('System Results'!ZL44),'System Results'!ZL44,0)","v":0},{"$f":"+IF(ISNUMBER('System Results'!ZO44),'System Results'!ZO44,0)","v":0},{"$f":"+IF(ISNUMBER('System Results'!ZR44),'System Results'!ZR44,0)","v":0},{"$f":"+IF(ISNUMBER('System Results'!ZU44),'System Results'!ZU44,0)","v":0},{"$f":"+IF(ISNUMBER('System Results'!ZX44),'System Results'!ZX44,0)","v":0},{"$f":"+IF(ISNUMBER('System Results'!AAA44),'System Results'!AAA44,0)","v":0},{"$f":"+IF(ISNUMBER('System Results'!AAD44),'System Results'!AAD44,0)","v":0},{"$f":"+IF(ISNUMBER('System Results'!AAG44),'System Results'!AAG44,0)","v":0},{"$f":"+IF(ISNUMBER('System Results'!AAJ44),'System Results'!AAJ44,0)","v":0},{"$f":"+IF(ISNUMBER('System Results'!AAM44),'System Results'!AAM44,0)","v":0},{"$f":"+IF(ISNUMBER('System Results'!AAP44),'System Results'!AAP44,0)","v":0},{"$f":"+IF(ISNUMBER('System Results'!AAS44),'System Results'!AAS44,0)","v":0},{"$f":"+IF(ISNUMBER('System Results'!AAV44),'System Results'!AAV44,0)","v":0},{"$f":"+IF(ISNUMBER('System Results'!AAY44),'System Results'!AAY44,0)","v":0},{"$f":"+IF(ISNUMBER('System Results'!ABB44),'System Results'!ABB44,0)","v":0},{"$f":"+IF(ISNUMBER('System Results'!ABE44),'System Results'!ABE44,0)","v":0},{"$f":"+IF(ISNUMBER('System Results'!ABH44),'System Results'!ABH44,0)","v":0},{"$f":"+IF(ISNUMBER('System Results'!ABK44),'System Results'!ABK44,0)","v":0},{"$f":"+IF(ISNUMBER('System Results'!ABN44),'System Results'!ABN44,0)","v":0},{"$f":"+IF(ISNUMBER('System Results'!ABQ44),'System Results'!ABQ44,0)","v":0},{"$f":"+IF(ISNUMBER('System Results'!ABT44),'System Results'!ABT44,0)","v":0},{"$f":"+IF(ISNUMBER('System Results'!ABW44),'System Results'!ABW44,0)","v":0},{"$f":"+IF(ISNUMBER('System Results'!ABZ44),'System Results'!ABZ44,0)","v":0},{"$f":"+IF(ISNUMBER('System Results'!ACC44),'System Results'!ACC44,0)","v":0},{"$f":"+IF(ISNUMBER('System Results'!ACF44),'System Results'!ACF44,0)","v":0},{"$f":"+IF(ISNUMBER('System Results'!ACI44),'System Results'!ACI44,0)","v":0},{"$f":"+IF(ISNUMBER('System Results'!ACL44),'System Results'!ACL44,0)","v":0},{"$f":"+IF(ISNUMBER('System Results'!ACO44),'System Results'!ACO44,0)","v":0},{"$f":"+IF(ISNUMBER('System Results'!ACR44),'System Results'!ACR44,0)","v":0},{"$f":"+IF(ISNUMBER('System Results'!ACU44),'System Results'!ACU44,0)","v":0},{"$f":"+IF(ISNUMBER('System Results'!ACX44),'System Results'!ACX44,0)","v":0},{"$f":"+IF(ISNUMBER('System Results'!ADA44),'System Results'!ADA44,0)","v":0},{"$f":"+IF(ISNUMBER('System Results'!ADD44),'System Results'!ADD44,0)","v":0},{"$f":"+IF(ISNUMBER('System Results'!ADG44),'System Results'!ADG44,0)","v":0},{"$f":"+IF(ISNUMBER('System Results'!ADJ44),'System Results'!ADJ44,0)","v":0},{"$f":"+IF(ISNUMBER('System Results'!ADM44),'System Results'!ADM44,0)","v":0},{"$f":"+IF(ISNUMBER('System Results'!ADP44),'System Results'!ADP44,0)","v":0},{"$f":"+IF(ISNUMBER('System Results'!ADS44),'System Results'!ADS44,0)","v":0},{"$f":"+IF(ISNUMBER('System Results'!ADV44),'System Results'!ADV44,0)","v":0},{"$f":"+IF(ISNUMBER('System Results'!ADY44),'System Results'!ADY44,0)","v":0},{"$f":"+IF(ISNUMBER('System Results'!AEB44),'System Results'!AEB44,0)","v":0},{"$f":"+IF(ISNUMBER('System Results'!AEE44),'System Results'!AEE44,0)","v":0},{"$f":"+IF(ISNUMBER('System Results'!AEH44),'System Results'!AEH44,0)","v":0},{"$f":"+IF(ISNUMBER('System Results'!AEK44),'System Results'!AEK44,0)","v":0},{"$f":"+IF(ISNUMBER('System Results'!AEN44),'System Results'!AEN44,0)","v":0},{"$f":"+IF(ISNUMBER('System Results'!AEQ44),'System Results'!AEQ44,0)","v":0},{"$f":"+IF(ISNUMBER('System Results'!AET44),'System Results'!AET44,0)","v":0},{"$f":"+IF(ISNUMBER('System Results'!AEW44),'System Results'!AEW44,0)","v":0},{"$f":"+IF(ISNUMBER('System Results'!AEZ44),'System Results'!AEZ44,0)","v":0},{"$f":"+IF(ISNUMBER('System Results'!AFC44),'System Results'!AFC44,0)","v":0},{"$f":"+IF(ISNUMBER('System Results'!AFF44),'System Results'!AFF44,0)","v":0},{"$f":"+IF(ISNUMBER('System Results'!AFI44),'System Results'!AFI44,0)","v":0},{"$f":"+IF(ISNUMBER('System Results'!AFL44),'System Results'!AFL44,0)","v":0},{"$f":"+IF(ISNUMBER('System Results'!AFO44),'System Results'!AFO44,0)","v":0},{"$f":"+IF(ISNUMBER('System Results'!AFR44),'System Results'!AFR44,0)","v":0},{"$f":"+IF(ISNUMBER('System Results'!AFU44),'System Results'!AFU44,0)","v":0},{"$f":"+IF(ISNUMBER('System Results'!AFX44),'System Results'!AFX44,0)","v":0},{"$f":"+IF(ISNUMBER('System Results'!AGA44),'System Results'!AGA44,0)","v":0},{"$f":"+IF(ISNUMBER('System Results'!AGD44),'System Results'!AGD44,0)","v":0},{"$f":"+IF(ISNUMBER('System Results'!AGG44),'System Results'!AGG44,0)","v":0},{"$f":"+IF(ISNUMBER('System Results'!AGJ44),'System Results'!AGJ44,0)","v":0},{"$f":"+IF(ISNUMBER('System Results'!AGM44),'System Results'!AGM44,0)","v":0},{"$f":"+IF(ISNUMBER('System Results'!AGP44),'System Results'!AGP44,0)","v":0},{"$f":"+IF(ISNUMBER('System Results'!AGS44),'System Results'!AGS44,0)","v":0},{"$f":"+IF(ISNUMBER('System Results'!AGV44),'System Results'!AGV44,0)","v":0},{"$f":"+IF(ISNUMBER('System Results'!AGY44),'System Results'!AGY44,0)","v":0},{"$f":"+IF(ISNUMBER('System Results'!AHB44),'System Results'!AHB44,0)","v":0},{"$f":"+IF(ISNUMBER('System Results'!AHE44),'System Results'!AHE44,0)","v":0},{"$f":"+IF(ISNUMBER('System Results'!AHH44),'System Results'!AHH44,0)","v":0},{"$f":"+IF(ISNUMBER('System Results'!AHK44),'System Results'!AHK44,0)","v":0},{"$f":"+IF(ISNUMBER('System Results'!AHN44),'System Results'!AHN44,0)","v":0},{"$f":"+IF(ISNUMBER('System Results'!AHQ44),'System Results'!AHQ44,0)","v":0},{"$f":"+IF(ISNUMBER('System Results'!AHT44),'System Results'!AHT44,0)","v":0}]
[{"$f":"+'System Results'!B45","v":"Downstream transportation & distribution"},0,{"$f":"+IF(ISNUMBER('System Results'!G45),'System Results'!G45,0)","v":0},{"$f":"+IF(ISNUMBER('System Results'!J45),'System Results'!J45,0)","v":0},{"$f":"+IF(ISNUMBER('System Results'!M45),'System Results'!M45,0)","v":0},{"$f":"+IF(ISNUMBER('System Results'!P45),'System Results'!P45,0)","v":0},{"$f":"+IF(ISNUMBER('System Results'!S45),'System Results'!S45,0)","v":0},{"$f":"+IF(ISNUMBER('System Results'!V45),'System Results'!V45,0)","v":0},{"$f":"+IF(ISNUMBER('System Results'!Y45),'System Results'!Y45,0)","v":0},{"$f":"+IF(ISNUMBER('System Results'!AB45),'System Results'!AB45,0)","v":0},{"$f":"+IF(ISNUMBER('System Results'!AE45),'System Results'!AE45,0)","v":0},{"$f":"+IF(ISNUMBER('System Results'!AH45),'System Results'!AH45,0)","v":0},{"$f":"+IF(ISNUMBER('System Results'!AK45),'System Results'!AK45,0)","v":0},{"$f":"+IF(ISNUMBER('System Results'!AN45),'System Results'!AN45,0)","v":0},{"$f":"+IF(ISNUMBER('System Results'!AQ45),'System Results'!AQ45,0)","v":0},{"$f":"+IF(ISNUMBER('System Results'!AT45),'System Results'!AT45,0)","v":0},{"$f":"+IF(ISNUMBER('System Results'!AW45),'System Results'!AW45,0)","v":0},{"$f":"+IF(ISNUMBER('System Results'!AZ45),'System Results'!AZ45,0)","v":0},{"$f":"+IF(ISNUMBER('System Results'!BC45),'System Results'!BC45,0)","v":0},{"$f":"+IF(ISNUMBER('System Results'!BF45),'System Results'!BF45,0)","v":0},{"$f":"+IF(ISNUMBER('System Results'!BI45),'System Results'!BI45,0)","v":0},{"$f":"+IF(ISNUMBER('System Results'!BL45),'System Results'!BL45,0)","v":0},{"$f":"+IF(ISNUMBER('System Results'!BO45),'System Results'!BO45,0)","v":0},{"$f":"+IF(ISNUMBER('System Results'!BR45),'System Results'!BR45,0)","v":0},{"$f":"+IF(ISNUMBER('System Results'!BU45),'System Results'!BU45,0)","v":0},{"$f":"+IF(ISNUMBER('System Results'!BX45),'System Results'!BX45,0)","v":0},{"$f":"+IF(ISNUMBER('System Results'!CA45),'System Results'!CA45,0)","v":0},{"$f":"+IF(ISNUMBER('System Results'!CD45),'System Results'!CD45,0)","v":0},{"$f":"+IF(ISNUMBER('System Results'!CG45),'System Results'!CG45,0)","v":0},{"$f":"+IF(ISNUMBER('System Results'!CJ45),'System Results'!CJ45,0)","v":0},{"$f":"+IF(ISNUMBER('System Results'!CM45),'System Results'!CM45,0)","v":0},{"$f":"+IF(ISNUMBER('System Results'!CP45),'System Results'!CP45,0)","v":0},{"$f":"+IF(ISNUMBER('System Results'!CS45),'System Results'!CS45,0)","v":0},{"$f":"+IF(ISNUMBER('System Results'!CV45),'System Results'!CV45,0)","v":0},{"$f":"+IF(ISNUMBER('System Results'!CY45),'System Results'!CY45,0)","v":0},{"$f":"+IF(ISNUMBER('System Results'!DB45),'System Results'!DB45,0)","v":0},{"$f":"+IF(ISNUMBER('System Results'!DE45),'System Results'!DE45,0)","v":0},{"$f":"+IF(ISNUMBER('System Results'!DH45),'System Results'!DH45,0)","v":0},{"$f":"+IF(ISNUMBER('System Results'!DK45),'System Results'!DK45,0)","v":0},{"$f":"+IF(ISNUMBER('System Results'!DN45),'System Results'!DN45,0)","v":0},{"$f":"+IF(ISNUMBER('System Results'!DQ45),'System Results'!DQ45,0)","v":0},{"$f":"+IF(ISNUMBER('System Results'!DT45),'System Results'!DT45,0)","v":0},{"$f":"+IF(ISNUMBER('System Results'!DW45),'System Results'!DW45,0)","v":0},{"$f":"+IF(ISNUMBER('System Results'!DZ45),'System Results'!DZ45,0)","v":0},{"$f":"+IF(ISNUMBER('System Results'!EC45),'System Results'!EC45,0)","v":0},{"$f":"+IF(ISNUMBER('System Results'!EF45),'System Results'!EF45,0)","v":0},{"$f":"+IF(ISNUMBER('System Results'!EI45),'System Results'!EI45,0)","v":0},{"$f":"+IF(ISNUMBER('System Results'!EL45),'System Results'!EL45,0)","v":0},{"$f":"+IF(ISNUMBER('System Results'!EO45),'System Results'!EO45,0)","v":0},{"$f":"+IF(ISNUMBER('System Results'!ER45),'System Results'!ER45,0)","v":0},{"$f":"+IF(ISNUMBER('System Results'!EU45),'System Results'!EU45,0)","v":0},{"$f":"+IF(ISNUMBER('System Results'!EX45),'System Results'!EX45,0)","v":0},{"$f":"+IF(ISNUMBER('System Results'!FA45),'System Results'!FA45,0)","v":0},{"$f":"+IF(ISNUMBER('System Results'!FD45),'System Results'!FD45,0)","v":0},{"$f":"+IF(ISNUMBER('System Results'!FG45),'System Results'!FG45,0)","v":0},{"$f":"+IF(ISNUMBER('System Results'!FJ45),'System Results'!FJ45,0)","v":0},{"$f":"+IF(ISNUMBER('System Results'!FM45),'System Results'!FM45,0)","v":0},{"$f":"+IF(ISNUMBER('System Results'!FP45),'System Results'!FP45,0)","v":0},{"$f":"+IF(ISNUMBER('System Results'!FS45),'System Results'!FS45,0)","v":0},{"$f":"+IF(ISNUMBER('System Results'!FV45),'System Results'!FV45,0)","v":0},{"$f":"+IF(ISNUMBER('System Results'!FY45),'System Results'!FY45,0)","v":0},{"$f":"+IF(ISNUMBER('System Results'!GB45),'System Results'!GB45,0)","v":0},{"$f":"+IF(ISNUMBER('System Results'!GE45),'System Results'!GE45,0)","v":0},{"$f":"+IF(ISNUMBER('System Results'!GH45),'System Results'!GH45,0)","v":0},{"$f":"+IF(ISNUMBER('System Results'!GK45),'System Results'!GK45,0)","v":0},{"$f":"+IF(ISNUMBER('System Results'!GN45),'System Results'!GN45,0)","v":0},{"$f":"+IF(ISNUMBER('System Results'!GQ45),'System Results'!GQ45,0)","v":0},{"$f":"+IF(ISNUMBER('System Results'!GT45),'System Results'!GT45,0)","v":0},{"$f":"+IF(ISNUMBER('System Results'!GW45),'System Results'!GW45,0)","v":0},{"$f":"+IF(ISNUMBER('System Results'!GZ45),'System Results'!GZ45,0)","v":0},{"$f":"+IF(ISNUMBER('System Results'!HC45),'System Results'!HC45,0)","v":0},{"$f":"+IF(ISNUMBER('System Results'!HF45),'System Results'!HF45,0)","v":0},{"$f":"+IF(ISNUMBER('System Results'!HI45),'System Results'!HI45,0)","v":0},{"$f":"+IF(ISNUMBER('System Results'!HL45),'System Results'!HL45,0)","v":0},{"$f":"+IF(ISNUMBER('System Results'!HO45),'System Results'!HO45,0)","v":0},{"$f":"+IF(ISNUMBER('System Results'!HR45),'System Results'!HR45,0)","v":0},{"$f":"+IF(ISNUMBER('System Results'!HU45),'System Results'!HU45,0)","v":0},{"$f":"+IF(ISNUMBER('System Results'!HX45),'System Results'!HX45,0)","v":0},{"$f":"+IF(ISNUMBER('System Results'!IA45),'System Results'!IA45,0)","v":0},{"$f":"+IF(ISNUMBER('System Results'!ID45),'System Results'!ID45,0)","v":0},{"$f":"+IF(ISNUMBER('System Results'!IG45),'System Results'!IG45,0)","v":0},{"$f":"+IF(ISNUMBER('System Results'!IJ45),'System Results'!IJ45,0)","v":0},{"$f":"+IF(ISNUMBER('System Results'!IM45),'System Results'!IM45,0)","v":0},{"$f":"+IF(ISNUMBER('System Results'!IP45),'System Results'!IP45,0)","v":0},{"$f":"+IF(ISNUMBER('System Results'!IS45),'System Results'!IS45,0)","v":0},{"$f":"+IF(ISNUMBER('System Results'!IV45),'System Results'!IV45,0)","v":0},{"$f":"+IF(ISNUMBER('System Results'!IY45),'System Results'!IY45,0)","v":0},{"$f":"+IF(ISNUMBER('System Results'!JB45),'System Results'!JB45,0)","v":0},{"$f":"+IF(ISNUMBER('System Results'!JE45),'System Results'!JE45,0)","v":0},{"$f":"+IF(ISNUMBER('System Results'!JH45),'System Results'!JH45,0)","v":0},{"$f":"+IF(ISNUMBER('System Results'!JK45),'System Results'!JK45,0)","v":0},{"$f":"+IF(ISNUMBER('System Results'!JN45),'System Results'!JN45,0)","v":0},{"$f":"+IF(ISNUMBER('System Results'!JQ45),'System Results'!JQ45,0)","v":0},{"$f":"+IF(ISNUMBER('System Results'!JT45),'System Results'!JT45,0)","v":0},{"$f":"+IF(ISNUMBER('System Results'!JW45),'System Results'!JW45,0)","v":0},{"$f":"+IF(ISNUMBER('System Results'!JZ45),'System Results'!JZ45,0)","v":0},{"$f":"+IF(ISNUMBER('System Results'!KC45),'System Results'!KC45,0)","v":0},{"$f":"+IF(ISNUMBER('System Results'!KF45),'System Results'!KF45,0)","v":0},{"$f":"+IF(ISNUMBER('System Results'!KI45),'System Results'!KI45,0)","v":0},{"$f":"+IF(ISNUMBER('System Results'!KL45),'System Results'!KL45,0)","v":0},{"$f":"+IF(ISNUMBER('System Results'!KO45),'System Results'!KO45,0)","v":0},{"$f":"+IF(ISNUMBER('System Results'!KR45),'System Results'!KR45,0)","v":0},{"$f":"+IF(ISNUMBER('System Results'!KU45),'System Results'!KU45,0)","v":0},{"$f":"+IF(ISNUMBER('System Results'!KX45),'System Results'!KX45,0)","v":0},{"$f":"+IF(ISNUMBER('System Results'!LA45),'System Results'!LA45,0)","v":0},{"$f":"+IF(ISNUMBER('System Results'!LD45),'System Results'!LD45,0)","v":0},{"$f":"+IF(ISNUMBER('System Results'!LG45),'System Results'!LG45,0)","v":0},{"$f":"+IF(ISNUMBER('System Results'!LJ45),'System Results'!LJ45,0)","v":0},{"$f":"+IF(ISNUMBER('System Results'!LM45),'System Results'!LM45,0)","v":0},{"$f":"+IF(ISNUMBER('System Results'!LP45),'System Results'!LP45,0)","v":0},{"$f":"+IF(ISNUMBER('System Results'!LS45),'System Results'!LS45,0)","v":0},{"$f":"+IF(ISNUMBER('System Results'!LV45),'System Results'!LV45,0)","v":0},{"$f":"+IF(ISNUMBER('System Results'!LY45),'System Results'!LY45,0)","v":0},{"$f":"+IF(ISNUMBER('System Results'!MB45),'System Results'!MB45,0)","v":0},{"$f":"+IF(ISNUMBER('System Results'!ME45),'System Results'!ME45,0)","v":0},{"$f":"+IF(ISNUMBER('System Results'!MH45),'System Results'!MH45,0)","v":0},{"$f":"+IF(ISNUMBER('System Results'!MK45),'System Results'!MK45,0)","v":0},{"$f":"+IF(ISNUMBER('System Results'!MN45),'System Results'!MN45,0)","v":0},{"$f":"+IF(ISNUMBER('System Results'!MQ45),'System Results'!MQ45,0)","v":0},{"$f":"+IF(ISNUMBER('System Results'!MT45),'System Results'!MT45,0)","v":0},{"$f":"+IF(ISNUMBER('System Results'!MW45),'System Results'!MW45,0)","v":0},{"$f":"+IF(ISNUMBER('System Results'!MZ45),'System Results'!MZ45,0)","v":0},{"$f":"+IF(ISNUMBER('System Results'!NC45),'System Results'!NC45,0)","v":0},{"$f":"+IF(ISNUMBER('System Results'!NF45),'System Results'!NF45,0)","v":0},{"$f":"+IF(ISNUMBER('System Results'!NI45),'System Results'!NI45,0)","v":0},{"$f":"+IF(ISNUMBER('System Results'!NL45),'System Results'!NL45,0)","v":0},{"$f":"+IF(ISNUMBER('System Results'!NO45),'System Results'!NO45,0)","v":0},{"$f":"+IF(ISNUMBER('System Results'!NR45),'System Results'!NR45,0)","v":0},{"$f":"+IF(ISNUMBER('System Results'!NU45),'System Results'!NU45,0)","v":0},{"$f":"+IF(ISNUMBER('System Results'!NX45),'System Results'!NX45,0)","v":0},{"$f":"+IF(ISNUMBER('System Results'!OA45),'System Results'!OA45,0)","v":0},{"$f":"+IF(ISNUMBER('System Results'!OD45),'System Results'!OD45,0)","v":0},{"$f":"+IF(ISNUMBER('System Results'!OG45),'System Results'!OG45,0)","v":0},{"$f":"+IF(ISNUMBER('System Results'!OJ45),'System Results'!OJ45,0)","v":0},{"$f":"+IF(ISNUMBER('System Results'!OM45),'System Results'!OM45,0)","v":0},{"$f":"+IF(ISNUMBER('System Results'!OP45),'System Results'!OP45,0)","v":0},{"$f":"+IF(ISNUMBER('System Results'!OS45),'System Results'!OS45,0)","v":0},{"$f":"+IF(ISNUMBER('System Results'!OV45),'System Results'!OV45,0)","v":0},{"$f":"+IF(ISNUMBER('System Results'!OY45),'System Results'!OY45,0)","v":0},{"$f":"+IF(ISNUMBER('System Results'!PB45),'System Results'!PB45,0)","v":0},{"$f":"+IF(ISNUMBER('System Results'!PE45),'System Results'!PE45,0)","v":0},{"$f":"+IF(ISNUMBER('System Results'!PH45),'System Results'!PH45,0)","v":0},{"$f":"+IF(ISNUMBER('System Results'!PK45),'System Results'!PK45,0)","v":0},{"$f":"+IF(ISNUMBER('System Results'!PN45),'System Results'!PN45,0)","v":0},{"$f":"+IF(ISNUMBER('System Results'!PQ45),'System Results'!PQ45,0)","v":0},{"$f":"+IF(ISNUMBER('System Results'!PT45),'System Results'!PT45,0)","v":0},{"$f":"+IF(ISNUMBER('System Results'!PW45),'System Results'!PW45,0)","v":0},{"$f":"+IF(ISNUMBER('System Results'!PZ45),'System Results'!PZ45,0)","v":0},{"$f":"+IF(ISNUMBER('System Results'!QC45),'System Results'!QC45,0)","v":0},{"$f":"+IF(ISNUMBER('System Results'!QF45),'System Results'!QF45,0)","v":0},{"$f":"+IF(ISNUMBER('System Results'!QI45),'System Results'!QI45,0)","v":0},{"$f":"+IF(ISNUMBER('System Results'!QL45),'System Results'!QL45,0)","v":0},{"$f":"+IF(ISNUMBER('System Results'!QO45),'System Results'!QO45,0)","v":0},{"$f":"+IF(ISNUMBER('System Results'!QR45),'System Results'!QR45,0)","v":0},{"$f":"+IF(ISNUMBER('System Results'!QU45),'System Results'!QU45,0)","v":0},{"$f":"+IF(ISNUMBER('System Results'!QX45),'System Results'!QX45,0)","v":0},{"$f":"+IF(ISNUMBER('System Results'!RA45),'System Results'!RA45,0)","v":0},{"$f":"+IF(ISNUMBER('System Results'!RD45),'System Results'!RD45,0)","v":0},{"$f":"+IF(ISNUMBER('System Results'!RG45),'System Results'!RG45,0)","v":0},{"$f":"+IF(ISNUMBER('System Results'!RJ45),'System Results'!RJ45,0)","v":0},{"$f":"+IF(ISNUMBER('System Results'!RM45),'System Results'!RM45,0)","v":0},{"$f":"+IF(ISNUMBER('System Results'!RP45),'System Results'!RP45,0)","v":0},{"$f":"+IF(ISNUMBER('System Results'!RS45),'System Results'!RS45,0)","v":0},{"$f":"+IF(ISNUMBER('System Results'!RV45),'System Results'!RV45,0)","v":0},{"$f":"+IF(ISNUMBER('System Results'!RY45),'System Results'!RY45,0)","v":0},{"$f":"+IF(ISNUMBER('System Results'!SB45),'System Results'!SB45,0)","v":0},{"$f":"+IF(ISNUMBER('System Results'!SE45),'System Results'!SE45,0)","v":0},{"$f":"+IF(ISNUMBER('System Results'!SH45),'System Results'!SH45,0)","v":0},{"$f":"+IF(ISNUMBER('System Results'!SK45),'System Results'!SK45,0)","v":0},{"$f":"+IF(ISNUMBER('System Results'!SN45),'System Results'!SN45,0)","v":0},{"$f":"+IF(ISNUMBER('System Results'!SQ45),'System Results'!SQ45,0)","v":0},{"$f":"+IF(ISNUMBER('System Results'!ST45),'System Results'!ST45,0)","v":0},{"$f":"+IF(ISNUMBER('System Results'!SW45),'System Results'!SW45,0)","v":0},{"$f":"+IF(ISNUMBER('System Results'!SZ45),'System Results'!SZ45,0)","v":0},{"$f":"+IF(ISNUMBER('System Results'!TC45),'System Results'!TC45,0)","v":0},{"$f":"+IF(ISNUMBER('System Results'!TF45),'System Results'!TF45,0)","v":0},{"$f":"+IF(ISNUMBER('System Results'!TI45),'System Results'!TI45,0)","v":0},{"$f":"+IF(ISNUMBER('System Results'!TL45),'System Results'!TL45,0)","v":0},{"$f":"+IF(ISNUMBER('System Results'!TO45),'System Results'!TO45,0)","v":0},{"$f":"+IF(ISNUMBER('System Results'!TR45),'System Results'!TR45,0)","v":0},{"$f":"+IF(ISNUMBER('System Results'!TU45),'System Results'!TU45,0)","v":0},{"$f":"+IF(ISNUMBER('System Results'!TX45),'System Results'!TX45,0)","v":0},{"$f":"+IF(ISNUMBER('System Results'!UA45),'System Results'!UA45,0)","v":0},{"$f":"+IF(ISNUMBER('System Results'!UD45),'System Results'!UD45,0)","v":0},{"$f":"+IF(ISNUMBER('System Results'!UG45),'System Results'!UG45,0)","v":0},{"$f":"+IF(ISNUMBER('System Results'!UJ45),'System Results'!UJ45,0)","v":0},{"$f":"+IF(ISNUMBER('System Results'!UM45),'System Results'!UM45,0)","v":0},{"$f":"+IF(ISNUMBER('System Results'!UP45),'System Results'!UP45,0)","v":0},{"$f":"+IF(ISNUMBER('System Results'!US45),'System Results'!US45,0)","v":0},{"$f":"+IF(ISNUMBER('System Results'!UV45),'System Results'!UV45,0)","v":0},{"$f":"+IF(ISNUMBER('System Results'!UY45),'System Results'!UY45,0)","v":0},{"$f":"+IF(ISNUMBER('System Results'!VB45),'System Results'!VB45,0)","v":0},{"$f":"+IF(ISNUMBER('System Results'!VE45),'System Results'!VE45,0)","v":0},{"$f":"+IF(ISNUMBER('System Results'!VH45),'System Results'!VH45,0)","v":0},{"$f":"+IF(ISNUMBER('System Results'!VK45),'System Results'!VK45,0)","v":0},{"$f":"+IF(ISNUMBER('System Results'!VN45),'System Results'!VN45,0)","v":0},{"$f":"+IF(ISNUMBER('System Results'!VQ45),'System Results'!VQ45,0)","v":0},{"$f":"+IF(ISNUMBER('System Results'!VT45),'System Results'!VT45,0)","v":0},{"$f":"+IF(ISNUMBER('System Results'!VW45),'System Results'!VW45,0)","v":0},{"$f":"+IF(ISNUMBER('System Results'!VZ45),'System Results'!VZ45,0)","v":0},{"$f":"+IF(ISNUMBER('System Results'!WC45),'System Results'!WC45,0)","v":0},{"$f":"+IF(ISNUMBER('System Results'!WF45),'System Results'!WF45,0)","v":0},{"$f":"+IF(ISNUMBER('System Results'!WI45),'System Results'!WI45,0)","v":0},{"$f":"+IF(ISNUMBER('System Results'!WL45),'System Results'!WL45,0)","v":0},{"$f":"+IF(ISNUMBER('System Results'!WO45),'System Results'!WO45,0)","v":0},{"$f":"+IF(ISNUMBER('System Results'!WR45),'System Results'!WR45,0)","v":0},{"$f":"+IF(ISNUMBER('System Results'!WU45),'System Results'!WU45,0)","v":0},{"$f":"+IF(ISNUMBER('System Results'!WX45),'System Results'!WX45,0)","v":0},{"$f":"+IF(ISNUMBER('System Results'!XA45),'System Results'!XA45,0)","v":0},{"$f":"+IF(ISNUMBER('System Results'!XD45),'System Results'!XD45,0)","v":0},{"$f":"+IF(ISNUMBER('System Results'!XG45),'System Results'!XG45,0)","v":0},{"$f":"+IF(ISNUMBER('System Results'!XJ45),'System Results'!XJ45,0)","v":0},{"$f":"+IF(ISNUMBER('System Results'!XM45),'System Results'!XM45,0)","v":0},{"$f":"+IF(ISNUMBER('System Results'!XP45),'System Results'!XP45,0)","v":0},{"$f":"+IF(ISNUMBER('System Results'!XS45),'System Results'!XS45,0)","v":0},{"$f":"+IF(ISNUMBER('System Results'!XV45),'System Results'!XV45,0)","v":0},{"$f":"+IF(ISNUMBER('System Results'!XY45),'System Results'!XY45,0)","v":0},{"$f":"+IF(ISNUMBER('System Results'!YB45),'System Results'!YB45,0)","v":0},{"$f":"+IF(ISNUMBER('System Results'!YE45),'System Results'!YE45,0)","v":0},{"$f":"+IF(ISNUMBER('System Results'!YH45),'System Results'!YH45,0)","v":0},{"$f":"+IF(ISNUMBER('System Results'!YK45),'System Results'!YK45,0)","v":0},{"$f":"+IF(ISNUMBER('System Results'!YN45),'System Results'!YN45,0)","v":0},{"$f":"+IF(ISNUMBER('System Results'!YQ45),'System Results'!YQ45,0)","v":0},{"$f":"+IF(ISNUMBER('System Results'!YT45),'System Results'!YT45,0)","v":0},{"$f":"+IF(ISNUMBER('System Results'!YW45),'System Results'!YW45,0)","v":0},{"$f":"+IF(ISNUMBER('System Results'!YZ45),'System Results'!YZ45,0)","v":0},{"$f":"+IF(ISNUMBER('System Results'!ZC45),'System Results'!ZC45,0)","v":0},{"$f":"+IF(ISNUMBER('System Results'!ZF45),'System Results'!ZF45,0)","v":0},{"$f":"+IF(ISNUMBER('System Results'!ZI45),'System Results'!ZI45,0)","v":0},{"$f":"+IF(ISNUMBER('System Results'!ZL45),'System Results'!ZL45,0)","v":0},{"$f":"+IF(ISNUMBER('System Results'!ZO45),'System Results'!ZO45,0)","v":0},{"$f":"+IF(ISNUMBER('System Results'!ZR45),'System Results'!ZR45,0)","v":0},{"$f":"+IF(ISNUMBER('System Results'!ZU45),'System Results'!ZU45,0)","v":0},{"$f":"+IF(ISNUMBER('System Results'!ZX45),'System Results'!ZX45,0)","v":0},{"$f":"+IF(ISNUMBER('System Results'!AAA45),'System Results'!AAA45,0)","v":0},{"$f":"+IF(ISNUMBER('System Results'!AAD45),'System Results'!AAD45,0)","v":0},{"$f":"+IF(ISNUMBER('System Results'!AAG45),'System Results'!AAG45,0)","v":0},{"$f":"+IF(ISNUMBER('System Results'!AAJ45),'System Results'!AAJ45,0)","v":0},{"$f":"+IF(ISNUMBER('System Results'!AAM45),'System Results'!AAM45,0)","v":0},{"$f":"+IF(ISNUMBER('System Results'!AAP45),'System Results'!AAP45,0)","v":0},{"$f":"+IF(ISNUMBER('System Results'!AAS45),'System Results'!AAS45,0)","v":0},{"$f":"+IF(ISNUMBER('System Results'!AAV45),'System Results'!AAV45,0)","v":0},{"$f":"+IF(ISNUMBER('System Results'!AAY45),'System Results'!AAY45,0)","v":0},{"$f":"+IF(ISNUMBER('System Results'!ABB45),'System Results'!ABB45,0)","v":0},{"$f":"+IF(ISNUMBER('System Results'!ABE45),'System Results'!ABE45,0)","v":0},{"$f":"+IF(ISNUMBER('System Results'!ABH45),'System Results'!ABH45,0)","v":0},{"$f":"+IF(ISNUMBER('System Results'!ABK45),'System Results'!ABK45,0)","v":0},{"$f":"+IF(ISNUMBER('System Results'!ABN45),'System Results'!ABN45,0)","v":0},{"$f":"+IF(ISNUMBER('System Results'!ABQ45),'System Results'!ABQ45,0)","v":0},{"$f":"+IF(ISNUMBER('System Results'!ABT45),'System Results'!ABT45,0)","v":0},{"$f":"+IF(ISNUMBER('System Results'!ABW45),'System Results'!ABW45,0)","v":0},{"$f":"+IF(ISNUMBER('System Results'!ABZ45),'System Results'!ABZ45,0)","v":0},{"$f":"+IF(ISNUMBER('System Results'!ACC45),'System Results'!ACC45,0)","v":0},{"$f":"+IF(ISNUMBER('System Results'!ACF45),'System Results'!ACF45,0)","v":0},{"$f":"+IF(ISNUMBER('System Results'!ACI45),'System Results'!ACI45,0)","v":0},{"$f":"+IF(ISNUMBER('System Results'!ACL45),'System Results'!ACL45,0)","v":0},{"$f":"+IF(ISNUMBER('System Results'!ACO45),'System Results'!ACO45,0)","v":0},{"$f":"+IF(ISNUMBER('System Results'!ACR45),'System Results'!ACR45,0)","v":0},{"$f":"+IF(ISNUMBER('System Results'!ACU45),'System Results'!ACU45,0)","v":0},{"$f":"+IF(ISNUMBER('System Results'!ACX45),'System Results'!ACX45,0)","v":0},{"$f":"+IF(ISNUMBER('System Results'!ADA45),'System Results'!ADA45,0)","v":0},{"$f":"+IF(ISNUMBER('System Results'!ADD45),'System Results'!ADD45,0)","v":0},{"$f":"+IF(ISNUMBER('System Results'!ADG45),'System Results'!ADG45,0)","v":0},{"$f":"+IF(ISNUMBER('System Results'!ADJ45),'System Results'!ADJ45,0)","v":0},{"$f":"+IF(ISNUMBER('System Results'!ADM45),'System Results'!ADM45,0)","v":0},{"$f":"+IF(ISNUMBER('System Results'!ADP45),'System Results'!ADP45,0)","v":0},{"$f":"+IF(ISNUMBER('System Results'!ADS45),'System Results'!ADS45,0)","v":0},{"$f":"+IF(ISNUMBER('System Results'!ADV45),'System Results'!ADV45,0)","v":0},{"$f":"+IF(ISNUMBER('System Results'!ADY45),'System Results'!ADY45,0)","v":0},{"$f":"+IF(ISNUMBER('System Results'!AEB45),'System Results'!AEB45,0)","v":0},{"$f":"+IF(ISNUMBER('System Results'!AEE45),'System Results'!AEE45,0)","v":0},{"$f":"+IF(ISNUMBER('System Results'!AEH45),'System Results'!AEH45,0)","v":0},{"$f":"+IF(ISNUMBER('System Results'!AEK45),'System Results'!AEK45,0)","v":0},{"$f":"+IF(ISNUMBER('System Results'!AEN45),'System Results'!AEN45,0)","v":0},{"$f":"+IF(ISNUMBER('System Results'!AEQ45),'System Results'!AEQ45,0)","v":0},{"$f":"+IF(ISNUMBER('System Results'!AET45),'System Results'!AET45,0)","v":0},{"$f":"+IF(ISNUMBER('System Results'!AEW45),'System Results'!AEW45,0)","v":0},{"$f":"+IF(ISNUMBER('System Results'!AEZ45),'System Results'!AEZ45,0)","v":0},{"$f":"+IF(ISNUMBER('System Results'!AFC45),'System Results'!AFC45,0)","v":0},{"$f":"+IF(ISNUMBER('System Results'!AFF45),'System Results'!AFF45,0)","v":0},{"$f":"+IF(ISNUMBER('System Results'!AFI45),'System Results'!AFI45,0)","v":0},{"$f":"+IF(ISNUMBER('System Results'!AFL45),'System Results'!AFL45,0)","v":0},{"$f":"+IF(ISNUMBER('System Results'!AFO45),'System Results'!AFO45,0)","v":0},{"$f":"+IF(ISNUMBER('System Results'!AFR45),'System Results'!AFR45,0)","v":0},{"$f":"+IF(ISNUMBER('System Results'!AFU45),'System Results'!AFU45,0)","v":0},{"$f":"+IF(ISNUMBER('System Results'!AFX45),'System Results'!AFX45,0)","v":0},{"$f":"+IF(ISNUMBER('System Results'!AGA45),'System Results'!AGA45,0)","v":0},{"$f":"+IF(ISNUMBER('System Results'!AGD45),'System Results'!AGD45,0)","v":0},{"$f":"+IF(ISNUMBER('System Results'!AGG45),'System Results'!AGG45,0)","v":0},{"$f":"+IF(ISNUMBER('System Results'!AGJ45),'System Results'!AGJ45,0)","v":0},{"$f":"+IF(ISNUMBER('System Results'!AGM45),'System Results'!AGM45,0)","v":0},{"$f":"+IF(ISNUMBER('System Results'!AGP45),'System Results'!AGP45,0)","v":0},{"$f":"+IF(ISNUMBER('System Results'!AGS45),'System Results'!AGS45,0)","v":0},{"$f":"+IF(ISNUMBER('System Results'!AGV45),'System Results'!AGV45,0)","v":0},{"$f":"+IF(ISNUMBER('System Results'!AGY45),'System Results'!AGY45,0)","v":0},{"$f":"+IF(ISNUMBER('System Results'!AHB45),'System Results'!AHB45,0)","v":0},{"$f":"+IF(ISNUMBER('System Results'!AHE45),'System Results'!AHE45,0)","v":0},{"$f":"+IF(ISNUMBER('System Results'!AHH45),'System Results'!AHH45,0)","v":0},{"$f":"+IF(ISNUMBER('System Results'!AHK45),'System Results'!AHK45,0)","v":0},{"$f":"+IF(ISNUMBER('System Results'!AHN45),'System Results'!AHN45,0)","v":0},{"$f":"+IF(ISNUMBER('System Results'!AHQ45),'System Results'!AHQ45,0)","v":0},{"$f":"+IF(ISNUMBER('System Results'!AHT45),'System Results'!AHT45,0)","v":0}]
[{"$f":"+'System Results'!B46","v":"Processing of sold products-Not Used"},0,{"$f":"+IF(ISNUMBER('System Results'!G46),'System Results'!G46,0)","v":0},{"$f":"+IF(ISNUMBER('System Results'!J46),'System Results'!J46,0)","v":0},{"$f":"+IF(ISNUMBER('System Results'!M46),'System Results'!M46,0)","v":0},{"$f":"+IF(ISNUMBER('System Results'!P46),'System Results'!P46,0)","v":0},{"$f":"+IF(ISNUMBER('System Results'!S46),'System Results'!S46,0)","v":0},{"$f":"+IF(ISNUMBER('System Results'!V46),'System Results'!V46,0)","v":0},{"$f":"+IF(ISNUMBER('System Results'!Y46),'System Results'!Y46,0)","v":0},{"$f":"+IF(ISNUMBER('System Results'!AB46),'System Results'!AB46,0)","v":0},{"$f":"+IF(ISNUMBER('System Results'!AE46),'System Results'!AE46,0)","v":0},{"$f":"+IF(ISNUMBER('System Results'!AH46),'System Results'!AH46,0)","v":0},{"$f":"+IF(ISNUMBER('System Results'!AK46),'System Results'!AK46,0)","v":0},{"$f":"+IF(ISNUMBER('System Results'!AN46),'System Results'!AN46,0)","v":0},{"$f":"+IF(ISNUMBER('System Results'!AQ46),'System Results'!AQ46,0)","v":0},{"$f":"+IF(ISNUMBER('System Results'!AT46),'System Results'!AT46,0)","v":0},{"$f":"+IF(ISNUMBER('System Results'!AW46),'System Results'!AW46,0)","v":0},{"$f":"+IF(ISNUMBER('System Results'!AZ46),'System Results'!AZ46,0)","v":0},{"$f":"+IF(ISNUMBER('System Results'!BC46),'System Results'!BC46,0)","v":0},{"$f":"+IF(ISNUMBER('System Results'!BF46),'System Results'!BF46,0)","v":0},{"$f":"+IF(ISNUMBER('System Results'!BI46),'System Results'!BI46,0)","v":0},{"$f":"+IF(ISNUMBER('System Results'!BL46),'System Results'!BL46,0)","v":0},{"$f":"+IF(ISNUMBER('System Results'!BO46),'System Results'!BO46,0)","v":0},{"$f":"+IF(ISNUMBER('System Results'!BR46),'System Results'!BR46,0)","v":0},{"$f":"+IF(ISNUMBER('System Results'!BU46),'System Results'!BU46,0)","v":0},{"$f":"+IF(ISNUMBER('System Results'!BX46),'System Results'!BX46,0)","v":0},{"$f":"+IF(ISNUMBER('System Results'!CA46),'System Results'!CA46,0)","v":0},{"$f":"+IF(ISNUMBER('System Results'!CD46),'System Results'!CD46,0)","v":0},{"$f":"+IF(ISNUMBER('System Results'!CG46),'System Results'!CG46,0)","v":0},{"$f":"+IF(ISNUMBER('System Results'!CJ46),'System Results'!CJ46,0)","v":0},{"$f":"+IF(ISNUMBER('System Results'!CM46),'System Results'!CM46,0)","v":0},{"$f":"+IF(ISNUMBER('System Results'!CP46),'System Results'!CP46,0)","v":0},{"$f":"+IF(ISNUMBER('System Results'!CS46),'System Results'!CS46,0)","v":0},{"$f":"+IF(ISNUMBER('System Results'!CV46),'System Results'!CV46,0)","v":0},{"$f":"+IF(ISNUMBER('System Results'!CY46),'System Results'!CY46,0)","v":0},{"$f":"+IF(ISNUMBER('System Results'!DB46),'System Results'!DB46,0)","v":0},{"$f":"+IF(ISNUMBER('System Results'!DE46),'System Results'!DE46,0)","v":0},{"$f":"+IF(ISNUMBER('System Results'!DH46),'System Results'!DH46,0)","v":0},{"$f":"+IF(ISNUMBER('System Results'!DK46),'System Results'!DK46,0)","v":0},{"$f":"+IF(ISNUMBER('System Results'!DN46),'System Results'!DN46,0)","v":0},{"$f":"+IF(ISNUMBER('System Results'!DQ46),'System Results'!DQ46,0)","v":0},{"$f":"+IF(ISNUMBER('System Results'!DT46),'System Results'!DT46,0)","v":0},{"$f":"+IF(ISNUMBER('System Results'!DW46),'System Results'!DW46,0)","v":0},{"$f":"+IF(ISNUMBER('System Results'!DZ46),'System Results'!DZ46,0)","v":0},{"$f":"+IF(ISNUMBER('System Results'!EC46),'System Results'!EC46,0)","v":0},{"$f":"+IF(ISNUMBER('System Results'!EF46),'System Results'!EF46,0)","v":0},{"$f":"+IF(ISNUMBER('System Results'!EI46),'System Results'!EI46,0)","v":0},{"$f":"+IF(ISNUMBER('System Results'!EL46),'System Results'!EL46,0)","v":0},{"$f":"+IF(ISNUMBER('System Results'!EO46),'System Results'!EO46,0)","v":0},{"$f":"+IF(ISNUMBER('System Results'!ER46),'System Results'!ER46,0)","v":0},{"$f":"+IF(ISNUMBER('System Results'!EU46),'System Results'!EU46,0)","v":0},{"$f":"+IF(ISNUMBER('System Results'!EX46),'System Results'!EX46,0)","v":0},{"$f":"+IF(ISNUMBER('System Results'!FA46),'System Results'!FA46,0)","v":0},{"$f":"+IF(ISNUMBER('System Results'!FD46),'System Results'!FD46,0)","v":0},{"$f":"+IF(ISNUMBER('System Results'!FG46),'System Results'!FG46,0)","v":0},{"$f":"+IF(ISNUMBER('System Results'!FJ46),'System Results'!FJ46,0)","v":0},{"$f":"+IF(ISNUMBER('System Results'!FM46),'System Results'!FM46,0)","v":0},{"$f":"+IF(ISNUMBER('System Results'!FP46),'System Results'!FP46,0)","v":0},{"$f":"+IF(ISNUMBER('System Results'!FS46),'System Results'!FS46,0)","v":0},{"$f":"+IF(ISNUMBER('System Results'!FV46),'System Results'!FV46,0)","v":0},{"$f":"+IF(ISNUMBER('System Results'!FY46),'System Results'!FY46,0)","v":0},{"$f":"+IF(ISNUMBER('System Results'!GB46),'System Results'!GB46,0)","v":0},{"$f":"+IF(ISNUMBER('System Results'!GE46),'System Results'!GE46,0)","v":0},{"$f":"+IF(ISNUMBER('System Results'!GH46),'System Results'!GH46,0)","v":0},{"$f":"+IF(ISNUMBER('System Results'!GK46),'System Results'!GK46,0)","v":0},{"$f":"+IF(ISNUMBER('System Results'!GN46),'System Results'!GN46,0)","v":0},{"$f":"+IF(ISNUMBER('System Results'!GQ46),'System Results'!GQ46,0)","v":0},{"$f":"+IF(ISNUMBER('System Results'!GT46),'System Results'!GT46,0)","v":0},{"$f":"+IF(ISNUMBER('System Results'!GW46),'System Results'!GW46,0)","v":0},{"$f":"+IF(ISNUMBER('System Results'!GZ46),'System Results'!GZ46,0)","v":0},{"$f":"+IF(ISNUMBER('System Results'!HC46),'System Results'!HC46,0)","v":0},{"$f":"+IF(ISNUMBER('System Results'!HF46),'System Results'!HF46,0)","v":0},{"$f":"+IF(ISNUMBER('System Results'!HI46),'System Results'!HI46,0)","v":0},{"$f":"+IF(ISNUMBER('System Results'!HL46),'System Results'!HL46,0)","v":0},{"$f":"+IF(ISNUMBER('System Results'!HO46),'System Results'!HO46,0)","v":0},{"$f":"+IF(ISNUMBER('System Results'!HR46),'System Results'!HR46,0)","v":0},{"$f":"+IF(ISNUMBER('System Results'!HU46),'System Results'!HU46,0)","v":0},{"$f":"+IF(ISNUMBER('System Results'!HX46),'System Results'!HX46,0)","v":0},{"$f":"+IF(ISNUMBER('System Results'!IA46),'System Results'!IA46,0)","v":0},{"$f":"+IF(ISNUMBER('System Results'!ID46),'System Results'!ID46,0)","v":0},{"$f":"+IF(ISNUMBER('System Results'!IG46),'System Results'!IG46,0)","v":0},{"$f":"+IF(ISNUMBER('System Results'!IJ46),'System Results'!IJ46,0)","v":0},{"$f":"+IF(ISNUMBER('System Results'!IM46),'System Results'!IM46,0)","v":0},{"$f":"+IF(ISNUMBER('System Results'!IP46),'System Results'!IP46,0)","v":0},{"$f":"+IF(ISNUMBER('System Results'!IS46),'System Results'!IS46,0)","v":0},{"$f":"+IF(ISNUMBER('System Results'!IV46),'System Results'!IV46,0)","v":0},{"$f":"+IF(ISNUMBER('System Results'!IY46),'System Results'!IY46,0)","v":0},{"$f":"+IF(ISNUMBER('System Results'!JB46),'System Results'!JB46,0)","v":0},{"$f":"+IF(ISNUMBER('System Results'!JE46),'System Results'!JE46,0)","v":0},{"$f":"+IF(ISNUMBER('System Results'!JH46),'System Results'!JH46,0)","v":0},{"$f":"+IF(ISNUMBER('System Results'!JK46),'System Results'!JK46,0)","v":0},{"$f":"+IF(ISNUMBER('System Results'!JN46),'System Results'!JN46,0)","v":0},{"$f":"+IF(ISNUMBER('System Results'!JQ46),'System Results'!JQ46,0)","v":0},{"$f":"+IF(ISNUMBER('System Results'!JT46),'System Results'!JT46,0)","v":0},{"$f":"+IF(ISNUMBER('System Results'!JW46),'System Results'!JW46,0)","v":0},{"$f":"+IF(ISNUMBER('System Results'!JZ46),'System Results'!JZ46,0)","v":0},{"$f":"+IF(ISNUMBER('System Results'!KC46),'System Results'!KC46,0)","v":0},{"$f":"+IF(ISNUMBER('System Results'!KF46),'System Results'!KF46,0)","v":0},{"$f":"+IF(ISNUMBER('System Results'!KI46),'System Results'!KI46,0)","v":0},{"$f":"+IF(ISNUMBER('System Results'!KL46),'System Results'!KL46,0)","v":0},{"$f":"+IF(ISNUMBER('System Results'!KO46),'System Results'!KO46,0)","v":0},{"$f":"+IF(ISNUMBER('System Results'!KR46),'System Results'!KR46,0)","v":0},{"$f":"+IF(ISNUMBER('System Results'!KU46),'System Results'!KU46,0)","v":0},{"$f":"+IF(ISNUMBER('System Results'!KX46),'System Results'!KX46,0)","v":0},{"$f":"+IF(ISNUMBER('System Results'!LA46),'System Results'!LA46,0)","v":0},{"$f":"+IF(ISNUMBER('System Results'!LD46),'System Results'!LD46,0)","v":0},{"$f":"+IF(ISNUMBER('System Results'!LG46),'System Results'!LG46,0)","v":0},{"$f":"+IF(ISNUMBER('System Results'!LJ46),'System Results'!LJ46,0)","v":0},{"$f":"+IF(ISNUMBER('System Results'!LM46),'System Results'!LM46,0)","v":0},{"$f":"+IF(ISNUMBER('System Results'!LP46),'System Results'!LP46,0)","v":0},{"$f":"+IF(ISNUMBER('System Results'!LS46),'System Results'!LS46,0)","v":0},{"$f":"+IF(ISNUMBER('System Results'!LV46),'System Results'!LV46,0)","v":0},{"$f":"+IF(ISNUMBER('System Results'!LY46),'System Results'!LY46,0)","v":0},{"$f":"+IF(ISNUMBER('System Results'!MB46),'System Results'!MB46,0)","v":0},{"$f":"+IF(ISNUMBER('System Results'!ME46),'System Results'!ME46,0)","v":0},{"$f":"+IF(ISNUMBER('System Results'!MH46),'System Results'!MH46,0)","v":0},{"$f":"+IF(ISNUMBER('System Results'!MK46),'System Results'!MK46,0)","v":0},{"$f":"+IF(ISNUMBER('System Results'!MN46),'System Results'!MN46,0)","v":0},{"$f":"+IF(ISNUMBER('System Results'!MQ46),'System Results'!MQ46,0)","v":0},{"$f":"+IF(ISNUMBER('System Results'!MT46),'System Results'!MT46,0)","v":0},{"$f":"+IF(ISNUMBER('System Results'!MW46),'System Results'!MW46,0)","v":0},{"$f":"+IF(ISNUMBER('System Results'!MZ46),'System Results'!MZ46,0)","v":0},{"$f":"+IF(ISNUMBER('System Results'!NC46),'System Results'!NC46,0)","v":0},{"$f":"+IF(ISNUMBER('System Results'!NF46),'System Results'!NF46,0)","v":0},{"$f":"+IF(ISNUMBER('System Results'!NI46),'System Results'!NI46,0)","v":0},{"$f":"+IF(ISNUMBER('System Results'!NL46),'System Results'!NL46,0)","v":0},{"$f":"+IF(ISNUMBER('System Results'!NO46),'System Results'!NO46,0)","v":0},{"$f":"+IF(ISNUMBER('System Results'!NR46),'System Results'!NR46,0)","v":0},{"$f":"+IF(ISNUMBER('System Results'!NU46),'System Results'!NU46,0)","v":0},{"$f":"+IF(ISNUMBER('System Results'!NX46),'System Results'!NX46,0)","v":0},{"$f":"+IF(ISNUMBER('System Results'!OA46),'System Results'!OA46,0)","v":0},{"$f":"+IF(ISNUMBER('System Results'!OD46),'System Results'!OD46,0)","v":0},{"$f":"+IF(ISNUMBER('System Results'!OG46),'System Results'!OG46,0)","v":0},{"$f":"+IF(ISNUMBER('System Results'!OJ46),'System Results'!OJ46,0)","v":0},{"$f":"+IF(ISNUMBER('System Results'!OM46),'System Results'!OM46,0)","v":0},{"$f":"+IF(ISNUMBER('System Results'!OP46),'System Results'!OP46,0)","v":0},{"$f":"+IF(ISNUMBER('System Results'!OS46),'System Results'!OS46,0)","v":0},{"$f":"+IF(ISNUMBER('System Results'!OV46),'System Results'!OV46,0)","v":0},{"$f":"+IF(ISNUMBER('System Results'!OY46),'System Results'!OY46,0)","v":0},{"$f":"+IF(ISNUMBER('System Results'!PB46),'System Results'!PB46,0)","v":0},{"$f":"+IF(ISNUMBER('System Results'!PE46),'System Results'!PE46,0)","v":0},{"$f":"+IF(ISNUMBER('System Results'!PH46),'System Results'!PH46,0)","v":0},{"$f":"+IF(ISNUMBER('System Results'!PK46),'System Results'!PK46,0)","v":0},{"$f":"+IF(ISNUMBER('System Results'!PN46),'System Results'!PN46,0)","v":0},{"$f":"+IF(ISNUMBER('System Results'!PQ46),'System Results'!PQ46,0)","v":0},{"$f":"+IF(ISNUMBER('System Results'!PT46),'System Results'!PT46,0)","v":0},{"$f":"+IF(ISNUMBER('System Results'!PW46),'System Results'!PW46,0)","v":0},{"$f":"+IF(ISNUMBER('System Results'!PZ46),'System Results'!PZ46,0)","v":0},{"$f":"+IF(ISNUMBER('System Results'!QC46),'System Results'!QC46,0)","v":0},{"$f":"+IF(ISNUMBER('System Results'!QF46),'System Results'!QF46,0)","v":0},{"$f":"+IF(ISNUMBER('System Results'!QI46),'System Results'!QI46,0)","v":0},{"$f":"+IF(ISNUMBER('System Results'!QL46),'System Results'!QL46,0)","v":0},{"$f":"+IF(ISNUMBER('System Results'!QO46),'System Results'!QO46,0)","v":0},{"$f":"+IF(ISNUMBER('System Results'!QR46),'System Results'!QR46,0)","v":0},{"$f":"+IF(ISNUMBER('System Results'!QU46),'System Results'!QU46,0)","v":0},{"$f":"+IF(ISNUMBER('System Results'!QX46),'System Results'!QX46,0)","v":0},{"$f":"+IF(ISNUMBER('System Results'!RA46),'System Results'!RA46,0)","v":0},{"$f":"+IF(ISNUMBER('System Results'!RD46),'System Results'!RD46,0)","v":0},{"$f":"+IF(ISNUMBER('System Results'!RG46),'System Results'!RG46,0)","v":0},{"$f":"+IF(ISNUMBER('System Results'!RJ46),'System Results'!RJ46,0)","v":0},{"$f":"+IF(ISNUMBER('System Results'!RM46),'System Results'!RM46,0)","v":0},{"$f":"+IF(ISNUMBER('System Results'!RP46),'System Results'!RP46,0)","v":0},{"$f":"+IF(ISNUMBER('System Results'!RS46),'System Results'!RS46,0)","v":0},{"$f":"+IF(ISNUMBER('System Results'!RV46),'System Results'!RV46,0)","v":0},{"$f":"+IF(ISNUMBER('System Results'!RY46),'System Results'!RY46,0)","v":0},{"$f":"+IF(ISNUMBER('System Results'!SB46),'System Results'!SB46,0)","v":0},{"$f":"+IF(ISNUMBER('System Results'!SE46),'System Results'!SE46,0)","v":0},{"$f":"+IF(ISNUMBER('System Results'!SH46),'System Results'!SH46,0)","v":0},{"$f":"+IF(ISNUMBER('System Results'!SK46),'System Results'!SK46,0)","v":0},{"$f":"+IF(ISNUMBER('System Results'!SN46),'System Results'!SN46,0)","v":0},{"$f":"+IF(ISNUMBER('System Results'!SQ46),'System Results'!SQ46,0)","v":0},{"$f":"+IF(ISNUMBER('System Results'!ST46),'System Results'!ST46,0)","v":0},{"$f":"+IF(ISNUMBER('System Results'!SW46),'System Results'!SW46,0)","v":0},{"$f":"+IF(ISNUMBER('System Results'!SZ46),'System Results'!SZ46,0)","v":0},{"$f":"+IF(ISNUMBER('System Results'!TC46),'System Results'!TC46,0)","v":0},{"$f":"+IF(ISNUMBER('System Results'!TF46),'System Results'!TF46,0)","v":0},{"$f":"+IF(ISNUMBER('System Results'!TI46),'System Results'!TI46,0)","v":0},{"$f":"+IF(ISNUMBER('System Results'!TL46),'System Results'!TL46,0)","v":0},{"$f":"+IF(ISNUMBER('System Results'!TO46),'System Results'!TO46,0)","v":0},{"$f":"+IF(ISNUMBER('System Results'!TR46),'System Results'!TR46,0)","v":0},{"$f":"+IF(ISNUMBER('System Results'!TU46),'System Results'!TU46,0)","v":0},{"$f":"+IF(ISNUMBER('System Results'!TX46),'System Results'!TX46,0)","v":0},{"$f":"+IF(ISNUMBER('System Results'!UA46),'System Results'!UA46,0)","v":0},{"$f":"+IF(ISNUMBER('System Results'!UD46),'System Results'!UD46,0)","v":0},{"$f":"+IF(ISNUMBER('System Results'!UG46),'System Results'!UG46,0)","v":0},{"$f":"+IF(ISNUMBER('System Results'!UJ46),'System Results'!UJ46,0)","v":0},{"$f":"+IF(ISNUMBER('System Results'!UM46),'System Results'!UM46,0)","v":0},{"$f":"+IF(ISNUMBER('System Results'!UP46),'System Results'!UP46,0)","v":0},{"$f":"+IF(ISNUMBER('System Results'!US46),'System Results'!US46,0)","v":0},{"$f":"+IF(ISNUMBER('System Results'!UV46),'System Results'!UV46,0)","v":0},{"$f":"+IF(ISNUMBER('System Results'!UY46),'System Results'!UY46,0)","v":0},{"$f":"+IF(ISNUMBER('System Results'!VB46),'System Results'!VB46,0)","v":0},{"$f":"+IF(ISNUMBER('System Results'!VE46),'System Results'!VE46,0)","v":0},{"$f":"+IF(ISNUMBER('System Results'!VH46),'System Results'!VH46,0)","v":0},{"$f":"+IF(ISNUMBER('System Results'!VK46),'System Results'!VK46,0)","v":0},{"$f":"+IF(ISNUMBER('System Results'!VN46),'System Results'!VN46,0)","v":0},{"$f":"+IF(ISNUMBER('System Results'!VQ46),'System Results'!VQ46,0)","v":0},{"$f":"+IF(ISNUMBER('System Results'!VT46),'System Results'!VT46,0)","v":0},{"$f":"+IF(ISNUMBER('System Results'!VW46),'System Results'!VW46,0)","v":0},{"$f":"+IF(ISNUMBER('System Results'!VZ46),'System Results'!VZ46,0)","v":0},{"$f":"+IF(ISNUMBER('System Results'!WC46),'System Results'!WC46,0)","v":0},{"$f":"+IF(ISNUMBER('System Results'!WF46),'System Results'!WF46,0)","v":0},{"$f":"+IF(ISNUMBER('System Results'!WI46),'System Results'!WI46,0)","v":0},{"$f":"+IF(ISNUMBER('System Results'!WL46),'System Results'!WL46,0)","v":0},{"$f":"+IF(ISNUMBER('System Results'!WO46),'System Results'!WO46,0)","v":0},{"$f":"+IF(ISNUMBER('System Results'!WR46),'System Results'!WR46,0)","v":0},{"$f":"+IF(ISNUMBER('System Results'!WU46),'System Results'!WU46,0)","v":0},{"$f":"+IF(ISNUMBER('System Results'!WX46),'System Results'!WX46,0)","v":0},{"$f":"+IF(ISNUMBER('System Results'!XA46),'System Results'!XA46,0)","v":0},{"$f":"+IF(ISNUMBER('System Results'!XD46),'System Results'!XD46,0)","v":0},{"$f":"+IF(ISNUMBER('System Results'!XG46),'System Results'!XG46,0)","v":0},{"$f":"+IF(ISNUMBER('System Results'!XJ46),'System Results'!XJ46,0)","v":0},{"$f":"+IF(ISNUMBER('System Results'!XM46),'System Results'!XM46,0)","v":0},{"$f":"+IF(ISNUMBER('System Results'!XP46),'System Results'!XP46,0)","v":0},{"$f":"+IF(ISNUMBER('System Results'!XS46),'System Results'!XS46,0)","v":0},{"$f":"+IF(ISNUMBER('System Results'!XV46),'System Results'!XV46,0)","v":0},{"$f":"+IF(ISNUMBER('System Results'!XY46),'System Results'!XY46,0)","v":0},{"$f":"+IF(ISNUMBER('System Results'!YB46),'System Results'!YB46,0)","v":0},{"$f":"+IF(ISNUMBER('System Results'!YE46),'System Results'!YE46,0)","v":0},{"$f":"+IF(ISNUMBER('System Results'!YH46),'System Results'!YH46,0)","v":0},{"$f":"+IF(ISNUMBER('System Results'!YK46),'System Results'!YK46,0)","v":0},{"$f":"+IF(ISNUMBER('System Results'!YN46),'System Results'!YN46,0)","v":0},{"$f":"+IF(ISNUMBER('System Results'!YQ46),'System Results'!YQ46,0)","v":0},{"$f":"+IF(ISNUMBER('System Results'!YT46),'System Results'!YT46,0)","v":0},{"$f":"+IF(ISNUMBER('System Results'!YW46),'System Results'!YW46,0)","v":0},{"$f":"+IF(ISNUMBER('System Results'!YZ46),'System Results'!YZ46,0)","v":0},{"$f":"+IF(ISNUMBER('System Results'!ZC46),'System Results'!ZC46,0)","v":0},{"$f":"+IF(ISNUMBER('System Results'!ZF46),'System Results'!ZF46,0)","v":0},{"$f":"+IF(ISNUMBER('System Results'!ZI46),'System Results'!ZI46,0)","v":0},{"$f":"+IF(ISNUMBER('System Results'!ZL46),'System Results'!ZL46,0)","v":0},{"$f":"+IF(ISNUMBER('System Results'!ZO46),'System Results'!ZO46,0)","v":0},{"$f":"+IF(ISNUMBER('System Results'!ZR46),'System Results'!ZR46,0)","v":0},{"$f":"+IF(ISNUMBER('System Results'!ZU46),'System Results'!ZU46,0)","v":0},{"$f":"+IF(ISNUMBER('System Results'!ZX46),'System Results'!ZX46,0)","v":0},{"$f":"+IF(ISNUMBER('System Results'!AAA46),'System Results'!AAA46,0)","v":0},{"$f":"+IF(ISNUMBER('System Results'!AAD46),'System Results'!AAD46,0)","v":0},{"$f":"+IF(ISNUMBER('System Results'!AAG46),'System Results'!AAG46,0)","v":0},{"$f":"+IF(ISNUMBER('System Results'!AAJ46),'System Results'!AAJ46,0)","v":0},{"$f":"+IF(ISNUMBER('System Results'!AAM46),'System Results'!AAM46,0)","v":0},{"$f":"+IF(ISNUMBER('System Results'!AAP46),'System Results'!AAP46,0)","v":0},{"$f":"+IF(ISNUMBER('System Results'!AAS46),'System Results'!AAS46,0)","v":0},{"$f":"+IF(ISNUMBER('System Results'!AAV46),'System Results'!AAV46,0)","v":0},{"$f":"+IF(ISNUMBER('System Results'!AAY46),'System Results'!AAY46,0)","v":0},{"$f":"+IF(ISNUMBER('System Results'!ABB46),'System Results'!ABB46,0)","v":0},{"$f":"+IF(ISNUMBER('System Results'!ABE46),'System Results'!ABE46,0)","v":0},{"$f":"+IF(ISNUMBER('System Results'!ABH46),'System Results'!ABH46,0)","v":0},{"$f":"+IF(ISNUMBER('System Results'!ABK46),'System Results'!ABK46,0)","v":0},{"$f":"+IF(ISNUMBER('System Results'!ABN46),'System Results'!ABN46,0)","v":0},{"$f":"+IF(ISNUMBER('System Results'!ABQ46),'System Results'!ABQ46,0)","v":0},{"$f":"+IF(ISNUMBER('System Results'!ABT46),'System Results'!ABT46,0)","v":0},{"$f":"+IF(ISNUMBER('System Results'!ABW46),'System Results'!ABW46,0)","v":0},{"$f":"+IF(ISNUMBER('System Results'!ABZ46),'System Results'!ABZ46,0)","v":0},{"$f":"+IF(ISNUMBER('System Results'!ACC46),'System Results'!ACC46,0)","v":0},{"$f":"+IF(ISNUMBER('System Results'!ACF46),'System Results'!ACF46,0)","v":0},{"$f":"+IF(ISNUMBER('System Results'!ACI46),'System Results'!ACI46,0)","v":0},{"$f":"+IF(ISNUMBER('System Results'!ACL46),'System Results'!ACL46,0)","v":0},{"$f":"+IF(ISNUMBER('System Results'!ACO46),'System Results'!ACO46,0)","v":0},{"$f":"+IF(ISNUMBER('System Results'!ACR46),'System Results'!ACR46,0)","v":0},{"$f":"+IF(ISNUMBER('System Results'!ACU46),'System Results'!ACU46,0)","v":0},{"$f":"+IF(ISNUMBER('System Results'!ACX46),'System Results'!ACX46,0)","v":0},{"$f":"+IF(ISNUMBER('System Results'!ADA46),'System Results'!ADA46,0)","v":0},{"$f":"+IF(ISNUMBER('System Results'!ADD46),'System Results'!ADD46,0)","v":0},{"$f":"+IF(ISNUMBER('System Results'!ADG46),'System Results'!ADG46,0)","v":0},{"$f":"+IF(ISNUMBER('System Results'!ADJ46),'System Results'!ADJ46,0)","v":0},{"$f":"+IF(ISNUMBER('System Results'!ADM46),'System Results'!ADM46,0)","v":0},{"$f":"+IF(ISNUMBER('System Results'!ADP46),'System Results'!ADP46,0)","v":0},{"$f":"+IF(ISNUMBER('System Results'!ADS46),'System Results'!ADS46,0)","v":0},{"$f":"+IF(ISNUMBER('System Results'!ADV46),'System Results'!ADV46,0)","v":0},{"$f":"+IF(ISNUMBER('System Results'!ADY46),'System Results'!ADY46,0)","v":0},{"$f":"+IF(ISNUMBER('System Results'!AEB46),'System Results'!AEB46,0)","v":0},{"$f":"+IF(ISNUMBER('System Results'!AEE46),'System Results'!AEE46,0)","v":0},{"$f":"+IF(ISNUMBER('System Results'!AEH46),'System Results'!AEH46,0)","v":0},{"$f":"+IF(ISNUMBER('System Results'!AEK46),'System Results'!AEK46,0)","v":0},{"$f":"+IF(ISNUMBER('System Results'!AEN46),'System Results'!AEN46,0)","v":0},{"$f":"+IF(ISNUMBER('System Results'!AEQ46),'System Results'!AEQ46,0)","v":0},{"$f":"+IF(ISNUMBER('System Results'!AET46),'System Results'!AET46,0)","v":0},{"$f":"+IF(ISNUMBER('System Results'!AEW46),'System Results'!AEW46,0)","v":0},{"$f":"+IF(ISNUMBER('System Results'!AEZ46),'System Results'!AEZ46,0)","v":0},{"$f":"+IF(ISNUMBER('System Results'!AFC46),'System Results'!AFC46,0)","v":0},{"$f":"+IF(ISNUMBER('System Results'!AFF46),'System Results'!AFF46,0)","v":0},{"$f":"+IF(ISNUMBER('System Results'!AFI46),'System Results'!AFI46,0)","v":0},{"$f":"+IF(ISNUMBER('System Results'!AFL46),'System Results'!AFL46,0)","v":0},{"$f":"+IF(ISNUMBER('System Results'!AFO46),'System Results'!AFO46,0)","v":0},{"$f":"+IF(ISNUMBER('System Results'!AFR46),'System Results'!AFR46,0)","v":0},{"$f":"+IF(ISNUMBER('System Results'!AFU46),'System Results'!AFU46,0)","v":0},{"$f":"+IF(ISNUMBER('System Results'!AFX46),'System Results'!AFX46,0)","v":0},{"$f":"+IF(ISNUMBER('System Results'!AGA46),'System Results'!AGA46,0)","v":0},{"$f":"+IF(ISNUMBER('System Results'!AGD46),'System Results'!AGD46,0)","v":0},{"$f":"+IF(ISNUMBER('System Results'!AGG46),'System Results'!AGG46,0)","v":0},{"$f":"+IF(ISNUMBER('System Results'!AGJ46),'System Results'!AGJ46,0)","v":0},{"$f":"+IF(ISNUMBER('System Results'!AGM46),'System Results'!AGM46,0)","v":0},{"$f":"+IF(ISNUMBER('System Results'!AGP46),'System Results'!AGP46,0)","v":0},{"$f":"+IF(ISNUMBER('System Results'!AGS46),'System Results'!AGS46,0)","v":0},{"$f":"+IF(ISNUMBER('System Results'!AGV46),'System Results'!AGV46,0)","v":0},{"$f":"+IF(ISNUMBER('System Results'!AGY46),'System Results'!AGY46,0)","v":0},{"$f":"+IF(ISNUMBER('System Results'!AHB46),'System Results'!AHB46,0)","v":0},{"$f":"+IF(ISNUMBER('System Results'!AHE46),'System Results'!AHE46,0)","v":0},{"$f":"+IF(ISNUMBER('System Results'!AHH46),'System Results'!AHH46,0)","v":0},{"$f":"+IF(ISNUMBER('System Results'!AHK46),'System Results'!AHK46,0)","v":0},{"$f":"+IF(ISNUMBER('System Results'!AHN46),'System Results'!AHN46,0)","v":0},{"$f":"+IF(ISNUMBER('System Results'!AHQ46),'System Results'!AHQ46,0)","v":0},{"$f":"+IF(ISNUMBER('System Results'!AHT46),'System Results'!AHT46,0)","v":0}]
[{"$f":"+'System Results'!B47","v":"Use of sold products"},0,{"$f":"+IF(ISNUMBER('System Results'!G47),'System Results'!G47,0)","v":0},{"$f":"+IF(ISNUMBER('System Results'!J47),'System Results'!J47,0)","v":0},{"$f":"+IF(ISNUMBER('System Results'!M47),'System Results'!M47,0)","v":0},{"$f":"+IF(ISNUMBER('System Results'!P47),'System Results'!P47,0)","v":0},{"$f":"+IF(ISNUMBER('System Results'!S47),'System Results'!S47,0)","v":0},{"$f":"+IF(ISNUMBER('System Results'!V47),'System Results'!V47,0)","v":0},{"$f":"+IF(ISNUMBER('System Results'!Y47),'System Results'!Y47,0)","v":0},{"$f":"+IF(ISNUMBER('System Results'!AB47),'System Results'!AB47,0)","v":0},{"$f":"+IF(ISNUMBER('System Results'!AE47),'System Results'!AE47,0)","v":0},{"$f":"+IF(ISNUMBER('System Results'!AH47),'System Results'!AH47,0)","v":0},{"$f":"+IF(ISNUMBER('System Results'!AK47),'System Results'!AK47,0)","v":0},{"$f":"+IF(ISNUMBER('System Results'!AN47),'System Results'!AN47,0)","v":0},{"$f":"+IF(ISNUMBER('System Results'!AQ47),'System Results'!AQ47,0)","v":0},{"$f":"+IF(ISNUMBER('System Results'!AT47),'System Results'!AT47,0)","v":0},{"$f":"+IF(ISNUMBER('System Results'!AW47),'System Results'!AW47,0)","v":0},{"$f":"+IF(ISNUMBER('System Results'!AZ47),'System Results'!AZ47,0)","v":0},{"$f":"+IF(ISNUMBER('System Results'!BC47),'System Results'!BC47,0)","v":0},{"$f":"+IF(ISNUMBER('System Results'!BF47),'System Results'!BF47,0)","v":0},{"$f":"+IF(ISNUMBER('System Results'!BI47),'System Results'!BI47,0)","v":0},{"$f":"+IF(ISNUMBER('System Results'!BL47),'System Results'!BL47,0)","v":0},{"$f":"+IF(ISNUMBER('System Results'!BO47),'System Results'!BO47,0)","v":0},{"$f":"+IF(ISNUMBER('System Results'!BR47),'System Results'!BR47,0)","v":0},{"$f":"+IF(ISNUMBER('System Results'!BU47),'System Results'!BU47,0)","v":0},{"$f":"+IF(ISNUMBER('System Results'!BX47),'System Results'!BX47,0)","v":0},{"$f":"+IF(ISNUMBER('System Results'!CA47),'System Results'!CA47,0)","v":0},{"$f":"+IF(ISNUMBER('System Results'!CD47),'System Results'!CD47,0)","v":0},{"$f":"+IF(ISNUMBER('System Results'!CG47),'System Results'!CG47,0)","v":0},{"$f":"+IF(ISNUMBER('System Results'!CJ47),'System Results'!CJ47,0)","v":0},{"$f":"+IF(ISNUMBER('System Results'!CM47),'System Results'!CM47,0)","v":0},{"$f":"+IF(ISNUMBER('System Results'!CP47),'System Results'!CP47,0)","v":0},{"$f":"+IF(ISNUMBER('System Results'!CS47),'System Results'!CS47,0)","v":0},{"$f":"+IF(ISNUMBER('System Results'!CV47),'System Results'!CV47,0)","v":0},{"$f":"+IF(ISNUMBER('System Results'!CY47),'System Results'!CY47,0)","v":0},{"$f":"+IF(ISNUMBER('System Results'!DB47),'System Results'!DB47,0)","v":0},{"$f":"+IF(ISNUMBER('System Results'!DE47),'System Results'!DE47,0)","v":0},{"$f":"+IF(ISNUMBER('System Results'!DH47),'System Results'!DH47,0)","v":0},{"$f":"+IF(ISNUMBER('System Results'!DK47),'System Results'!DK47,0)","v":0},{"$f":"+IF(ISNUMBER('System Results'!DN47),'System Results'!DN47,0)","v":0},{"$f":"+IF(ISNUMBER('System Results'!DQ47),'System Results'!DQ47,0)","v":0},{"$f":"+IF(ISNUMBER('System Results'!DT47),'System Results'!DT47,0)","v":0},{"$f":"+IF(ISNUMBER('System Results'!DW47),'System Results'!DW47,0)","v":0},{"$f":"+IF(ISNUMBER('System Results'!DZ47),'System Results'!DZ47,0)","v":0},{"$f":"+IF(ISNUMBER('System Results'!EC47),'System Results'!EC47,0)","v":0},{"$f":"+IF(ISNUMBER('System Results'!EF47),'System Results'!EF47,0)","v":0},{"$f":"+IF(ISNUMBER('System Results'!EI47),'System Results'!EI47,0)","v":0},{"$f":"+IF(ISNUMBER('System Results'!EL47),'System Results'!EL47,0)","v":0},{"$f":"+IF(ISNUMBER('System Results'!EO47),'System Results'!EO47,0)","v":0},{"$f":"+IF(ISNUMBER('System Results'!ER47),'System Results'!ER47,0)","v":0},{"$f":"+IF(ISNUMBER('System Results'!EU47),'System Results'!EU47,0)","v":0},{"$f":"+IF(ISNUMBER('System Results'!EX47),'System Results'!EX47,0)","v":0},{"$f":"+IF(ISNUMBER('System Results'!FA47),'System Results'!FA47,0)","v":0},{"$f":"+IF(ISNUMBER('System Results'!FD47),'System Results'!FD47,0)","v":0},{"$f":"+IF(ISNUMBER('System Results'!FG47),'System Results'!FG47,0)","v":0},{"$f":"+IF(ISNUMBER('System Results'!FJ47),'System Results'!FJ47,0)","v":0},{"$f":"+IF(ISNUMBER('System Results'!FM47),'System Results'!FM47,0)","v":0},{"$f":"+IF(ISNUMBER('System Results'!FP47),'System Results'!FP47,0)","v":0},{"$f":"+IF(ISNUMBER('System Results'!FS47),'System Results'!FS47,0)","v":0},{"$f":"+IF(ISNUMBER('System Results'!FV47),'System Results'!FV47,0)","v":0},{"$f":"+IF(ISNUMBER('System Results'!FY47),'System Results'!FY47,0)","v":0},{"$f":"+IF(ISNUMBER('System Results'!GB47),'System Results'!GB47,0)","v":0},{"$f":"+IF(ISNUMBER('System Results'!GE47),'System Results'!GE47,0)","v":0},{"$f":"+IF(ISNUMBER('System Results'!GH47),'System Results'!GH47,0)","v":0},{"$f":"+IF(ISNUMBER('System Results'!GK47),'System Results'!GK47,0)","v":0},{"$f":"+IF(ISNUMBER('System Results'!GN47),'System Results'!GN47,0)","v":0},{"$f":"+IF(ISNUMBER('System Results'!GQ47),'System Results'!GQ47,0)","v":0},{"$f":"+IF(ISNUMBER('System Results'!GT47),'System Results'!GT47,0)","v":0},{"$f":"+IF(ISNUMBER('System Results'!GW47),'System Results'!GW47,0)","v":0},{"$f":"+IF(ISNUMBER('System Results'!GZ47),'System Results'!GZ47,0)","v":0},{"$f":"+IF(ISNUMBER('System Results'!HC47),'System Results'!HC47,0)","v":0},{"$f":"+IF(ISNUMBER('System Results'!HF47),'System Results'!HF47,0)","v":0},{"$f":"+IF(ISNUMBER('System Results'!HI47),'System Results'!HI47,0)","v":0},{"$f":"+IF(ISNUMBER('System Results'!HL47),'System Results'!HL47,0)","v":0},{"$f":"+IF(ISNUMBER('System Results'!HO47),'System Results'!HO47,0)","v":0},{"$f":"+IF(ISNUMBER('System Results'!HR47),'System Results'!HR47,0)","v":0},{"$f":"+IF(ISNUMBER('System Results'!HU47),'System Results'!HU47,0)","v":0},{"$f":"+IF(ISNUMBER('System Results'!HX47),'System Results'!HX47,0)","v":0},{"$f":"+IF(ISNUMBER('System Results'!IA47),'System Results'!IA47,0)","v":0},{"$f":"+IF(ISNUMBER('System Results'!ID47),'System Results'!ID47,0)","v":0},{"$f":"+IF(ISNUMBER('System Results'!IG47),'System Results'!IG47,0)","v":0},{"$f":"+IF(ISNUMBER('System Results'!IJ47),'System Results'!IJ47,0)","v":0},{"$f":"+IF(ISNUMBER('System Results'!IM47),'System Results'!IM47,0)","v":0},{"$f":"+IF(ISNUMBER('System Results'!IP47),'System Results'!IP47,0)","v":0},{"$f":"+IF(ISNUMBER('System Results'!IS47),'System Results'!IS47,0)","v":0},{"$f":"+IF(ISNUMBER('System Results'!IV47),'System Results'!IV47,0)","v":0},{"$f":"+IF(ISNUMBER('System Results'!IY47),'System Results'!IY47,0)","v":0},{"$f":"+IF(ISNUMBER('System Results'!JB47),'System Results'!JB47,0)","v":0},{"$f":"+IF(ISNUMBER('System Results'!JE47),'System Results'!JE47,0)","v":0},{"$f":"+IF(ISNUMBER('System Results'!JH47),'System Results'!JH47,0)","v":0},{"$f":"+IF(ISNUMBER('System Results'!JK47),'System Results'!JK47,0)","v":0},{"$f":"+IF(ISNUMBER('System Results'!JN47),'System Results'!JN47,0)","v":0},{"$f":"+IF(ISNUMBER('System Results'!JQ47),'System Results'!JQ47,0)","v":0},{"$f":"+IF(ISNUMBER('System Results'!JT47),'System Results'!JT47,0)","v":0},{"$f":"+IF(ISNUMBER('System Results'!JW47),'System Results'!JW47,0)","v":0},{"$f":"+IF(ISNUMBER('System Results'!JZ47),'System Results'!JZ47,0)","v":0},{"$f":"+IF(ISNUMBER('System Results'!KC47),'System Results'!KC47,0)","v":0},{"$f":"+IF(ISNUMBER('System Results'!KF47),'System Results'!KF47,0)","v":0},{"$f":"+IF(ISNUMBER('System Results'!KI47),'System Results'!KI47,0)","v":0},{"$f":"+IF(ISNUMBER('System Results'!KL47),'System Results'!KL47,0)","v":0},{"$f":"+IF(ISNUMBER('System Results'!KO47),'System Results'!KO47,0)","v":0},{"$f":"+IF(ISNUMBER('System Results'!KR47),'System Results'!KR47,0)","v":0},{"$f":"+IF(ISNUMBER('System Results'!KU47),'System Results'!KU47,0)","v":0},{"$f":"+IF(ISNUMBER('System Results'!KX47),'System Results'!KX47,0)","v":0},{"$f":"+IF(ISNUMBER('System Results'!LA47),'System Results'!LA47,0)","v":0},{"$f":"+IF(ISNUMBER('System Results'!LD47),'System Results'!LD47,0)","v":0},{"$f":"+IF(ISNUMBER('System Results'!LG47),'System Results'!LG47,0)","v":0},{"$f":"+IF(ISNUMBER('System Results'!LJ47),'System Results'!LJ47,0)","v":0},{"$f":"+IF(ISNUMBER('System Results'!LM47),'System Results'!LM47,0)","v":0},{"$f":"+IF(ISNUMBER('System Results'!LP47),'System Results'!LP47,0)","v":0},{"$f":"+IF(ISNUMBER('System Results'!LS47),'System Results'!LS47,0)","v":0},{"$f":"+IF(ISNUMBER('System Results'!LV47),'System Results'!LV47,0)","v":0},{"$f":"+IF(ISNUMBER('System Results'!LY47),'System Results'!LY47,0)","v":0},{"$f":"+IF(ISNUMBER('System Results'!MB47),'System Results'!MB47,0)","v":0},{"$f":"+IF(ISNUMBER('System Results'!ME47),'System Results'!ME47,0)","v":0},{"$f":"+IF(ISNUMBER('System Results'!MH47),'System Results'!MH47,0)","v":0},{"$f":"+IF(ISNUMBER('System Results'!MK47),'System Results'!MK47,0)","v":0},{"$f":"+IF(ISNUMBER('System Results'!MN47),'System Results'!MN47,0)","v":0},{"$f":"+IF(ISNUMBER('System Results'!MQ47),'System Results'!MQ47,0)","v":0},{"$f":"+IF(ISNUMBER('System Results'!MT47),'System Results'!MT47,0)","v":0},{"$f":"+IF(ISNUMBER('System Results'!MW47),'System Results'!MW47,0)","v":0},{"$f":"+IF(ISNUMBER('System Results'!MZ47),'System Results'!MZ47,0)","v":0},{"$f":"+IF(ISNUMBER('System Results'!NC47),'System Results'!NC47,0)","v":0},{"$f":"+IF(ISNUMBER('System Results'!NF47),'System Results'!NF47,0)","v":0},{"$f":"+IF(ISNUMBER('System Results'!NI47),'System Results'!NI47,0)","v":0},{"$f":"+IF(ISNUMBER('System Results'!NL47),'System Results'!NL47,0)","v":0},{"$f":"+IF(ISNUMBER('System Results'!NO47),'System Results'!NO47,0)","v":0},{"$f":"+IF(ISNUMBER('System Results'!NR47),'System Results'!NR47,0)","v":0},{"$f":"+IF(ISNUMBER('System Results'!NU47),'System Results'!NU47,0)","v":0},{"$f":"+IF(ISNUMBER('System Results'!NX47),'System Results'!NX47,0)","v":0},{"$f":"+IF(ISNUMBER('System Results'!OA47),'System Results'!OA47,0)","v":0},{"$f":"+IF(ISNUMBER('System Results'!OD47),'System Results'!OD47,0)","v":0},{"$f":"+IF(ISNUMBER('System Results'!OG47),'System Results'!OG47,0)","v":0},{"$f":"+IF(ISNUMBER('System Results'!OJ47),'System Results'!OJ47,0)","v":0},{"$f":"+IF(ISNUMBER('System Results'!OM47),'System Results'!OM47,0)","v":0},{"$f":"+IF(ISNUMBER('System Results'!OP47),'System Results'!OP47,0)","v":0},{"$f":"+IF(ISNUMBER('System Results'!OS47),'System Results'!OS47,0)","v":0},{"$f":"+IF(ISNUMBER('System Results'!OV47),'System Results'!OV47,0)","v":0},{"$f":"+IF(ISNUMBER('System Results'!OY47),'System Results'!OY47,0)","v":0},{"$f":"+IF(ISNUMBER('System Results'!PB47),'System Results'!PB47,0)","v":0},{"$f":"+IF(ISNUMBER('System Results'!PE47),'System Results'!PE47,0)","v":0},{"$f":"+IF(ISNUMBER('System Results'!PH47),'System Results'!PH47,0)","v":0},{"$f":"+IF(ISNUMBER('System Results'!PK47),'System Results'!PK47,0)","v":0},{"$f":"+IF(ISNUMBER('System Results'!PN47),'System Results'!PN47,0)","v":0},{"$f":"+IF(ISNUMBER('System Results'!PQ47),'System Results'!PQ47,0)","v":0},{"$f":"+IF(ISNUMBER('System Results'!PT47),'System Results'!PT47,0)","v":0},{"$f":"+IF(ISNUMBER('System Results'!PW47),'System Results'!PW47,0)","v":0},{"$f":"+IF(ISNUMBER('System Results'!PZ47),'System Results'!PZ47,0)","v":0},{"$f":"+IF(ISNUMBER('System Results'!QC47),'System Results'!QC47,0)","v":0},{"$f":"+IF(ISNUMBER('System Results'!QF47),'System Results'!QF47,0)","v":0},{"$f":"+IF(ISNUMBER('System Results'!QI47),'System Results'!QI47,0)","v":0},{"$f":"+IF(ISNUMBER('System Results'!QL47),'System Results'!QL47,0)","v":0},{"$f":"+IF(ISNUMBER('System Results'!QO47),'System Results'!QO47,0)","v":0},{"$f":"+IF(ISNUMBER('System Results'!QR47),'System Results'!QR47,0)","v":0},{"$f":"+IF(ISNUMBER('System Results'!QU47),'System Results'!QU47,0)","v":0},{"$f":"+IF(ISNUMBER('System Results'!QX47),'System Results'!QX47,0)","v":0},{"$f":"+IF(ISNUMBER('System Results'!RA47),'System Results'!RA47,0)","v":0},{"$f":"+IF(ISNUMBER('System Results'!RD47),'System Results'!RD47,0)","v":0},{"$f":"+IF(ISNUMBER('System Results'!RG47),'System Results'!RG47,0)","v":0},{"$f":"+IF(ISNUMBER('System Results'!RJ47),'System Results'!RJ47,0)","v":0},{"$f":"+IF(ISNUMBER('System Results'!RM47),'System Results'!RM47,0)","v":0},{"$f":"+IF(ISNUMBER('System Results'!RP47),'System Results'!RP47,0)","v":0},{"$f":"+IF(ISNUMBER('System Results'!RS47),'System Results'!RS47,0)","v":0},{"$f":"+IF(ISNUMBER('System Results'!RV47),'System Results'!RV47,0)","v":0},{"$f":"+IF(ISNUMBER('System Results'!RY47),'System Results'!RY47,0)","v":0},{"$f":"+IF(ISNUMBER('System Results'!SB47),'System Results'!SB47,0)","v":0},{"$f":"+IF(ISNUMBER('System Results'!SE47),'System Results'!SE47,0)","v":0},{"$f":"+IF(ISNUMBER('System Results'!SH47),'System Results'!SH47,0)","v":0},{"$f":"+IF(ISNUMBER('System Results'!SK47),'System Results'!SK47,0)","v":0},{"$f":"+IF(ISNUMBER('System Results'!SN47),'System Results'!SN47,0)","v":0},{"$f":"+IF(ISNUMBER('System Results'!SQ47),'System Results'!SQ47,0)","v":0},{"$f":"+IF(ISNUMBER('System Results'!ST47),'System Results'!ST47,0)","v":0},{"$f":"+IF(ISNUMBER('System Results'!SW47),'System Results'!SW47,0)","v":0},{"$f":"+IF(ISNUMBER('System Results'!SZ47),'System Results'!SZ47,0)","v":0},{"$f":"+IF(ISNUMBER('System Results'!TC47),'System Results'!TC47,0)","v":0},{"$f":"+IF(ISNUMBER('System Results'!TF47),'System Results'!TF47,0)","v":0},{"$f":"+IF(ISNUMBER('System Results'!TI47),'System Results'!TI47,0)","v":0},{"$f":"+IF(ISNUMBER('System Results'!TL47),'System Results'!TL47,0)","v":0},{"$f":"+IF(ISNUMBER('System Results'!TO47),'System Results'!TO47,0)","v":0},{"$f":"+IF(ISNUMBER('System Results'!TR47),'System Results'!TR47,0)","v":0},{"$f":"+IF(ISNUMBER('System Results'!TU47),'System Results'!TU47,0)","v":0},{"$f":"+IF(ISNUMBER('System Results'!TX47),'System Results'!TX47,0)","v":0},{"$f":"+IF(ISNUMBER('System Results'!UA47),'System Results'!UA47,0)","v":0},{"$f":"+IF(ISNUMBER('System Results'!UD47),'System Results'!UD47,0)","v":0},{"$f":"+IF(ISNUMBER('System Results'!UG47),'System Results'!UG47,0)","v":0},{"$f":"+IF(ISNUMBER('System Results'!UJ47),'System Results'!UJ47,0)","v":0},{"$f":"+IF(ISNUMBER('System Results'!UM47),'System Results'!UM47,0)","v":0},{"$f":"+IF(ISNUMBER('System Results'!UP47),'System Results'!UP47,0)","v":0},{"$f":"+IF(ISNUMBER('System Results'!US47),'System Results'!US47,0)","v":0},{"$f":"+IF(ISNUMBER('System Results'!UV47),'System Results'!UV47,0)","v":0},{"$f":"+IF(ISNUMBER('System Results'!UY47),'System Results'!UY47,0)","v":0},{"$f":"+IF(ISNUMBER('System Results'!VB47),'System Results'!VB47,0)","v":0},{"$f":"+IF(ISNUMBER('System Results'!VE47),'System Results'!VE47,0)","v":0},{"$f":"+IF(ISNUMBER('System Results'!VH47),'System Results'!VH47,0)","v":0},{"$f":"+IF(ISNUMBER('System Results'!VK47),'System Results'!VK47,0)","v":0},{"$f":"+IF(ISNUMBER('System Results'!VN47),'System Results'!VN47,0)","v":0},{"$f":"+IF(ISNUMBER('System Results'!VQ47),'System Results'!VQ47,0)","v":0},{"$f":"+IF(ISNUMBER('System Results'!VT47),'System Results'!VT47,0)","v":0},{"$f":"+IF(ISNUMBER('System Results'!VW47),'System Results'!VW47,0)","v":0},{"$f":"+IF(ISNUMBER('System Results'!VZ47),'System Results'!VZ47,0)","v":0},{"$f":"+IF(ISNUMBER('System Results'!WC47),'System Results'!WC47,0)","v":0},{"$f":"+IF(ISNUMBER('System Results'!WF47),'System Results'!WF47,0)","v":0},{"$f":"+IF(ISNUMBER('System Results'!WI47),'System Results'!WI47,0)","v":0},{"$f":"+IF(ISNUMBER('System Results'!WL47),'System Results'!WL47,0)","v":0},{"$f":"+IF(ISNUMBER('System Results'!WO47),'System Results'!WO47,0)","v":0},{"$f":"+IF(ISNUMBER('System Results'!WR47),'System Results'!WR47,0)","v":0},{"$f":"+IF(ISNUMBER('System Results'!WU47),'System Results'!WU47,0)","v":0},{"$f":"+IF(ISNUMBER('System Results'!WX47),'System Results'!WX47,0)","v":0},{"$f":"+IF(ISNUMBER('System Results'!XA47),'System Results'!XA47,0)","v":0},{"$f":"+IF(ISNUMBER('System Results'!XD47),'System Results'!XD47,0)","v":0},{"$f":"+IF(ISNUMBER('System Results'!XG47),'System Results'!XG47,0)","v":0},{"$f":"+IF(ISNUMBER('System Results'!XJ47),'System Results'!XJ47,0)","v":0},{"$f":"+IF(ISNUMBER('System Results'!XM47),'System Results'!XM47,0)","v":0},{"$f":"+IF(ISNUMBER('System Results'!XP47),'System Results'!XP47,0)","v":0},{"$f":"+IF(ISNUMBER('System Results'!XS47),'System Results'!XS47,0)","v":0},{"$f":"+IF(ISNUMBER('System Results'!XV47),'System Results'!XV47,0)","v":0},{"$f":"+IF(ISNUMBER('System Results'!XY47),'System Results'!XY47,0)","v":0},{"$f":"+IF(ISNUMBER('System Results'!YB47),'System Results'!YB47,0)","v":0},{"$f":"+IF(ISNUMBER('System Results'!YE47),'System Results'!YE47,0)","v":0},{"$f":"+IF(ISNUMBER('System Results'!YH47),'System Results'!YH47,0)","v":0},{"$f":"+IF(ISNUMBER('System Results'!YK47),'System Results'!YK47,0)","v":0},{"$f":"+IF(ISNUMBER('System Results'!YN47),'System Results'!YN47,0)","v":0},{"$f":"+IF(ISNUMBER('System Results'!YQ47),'System Results'!YQ47,0)","v":0},{"$f":"+IF(ISNUMBER('System Results'!YT47),'System Results'!YT47,0)","v":0},{"$f":"+IF(ISNUMBER('System Results'!YW47),'System Results'!YW47,0)","v":0},{"$f":"+IF(ISNUMBER('System Results'!YZ47),'System Results'!YZ47,0)","v":0},{"$f":"+IF(ISNUMBER('System Results'!ZC47),'System Results'!ZC47,0)","v":0},{"$f":"+IF(ISNUMBER('System Results'!ZF47),'System Results'!ZF47,0)","v":0},{"$f":"+IF(ISNUMBER('System Results'!ZI47),'System Results'!ZI47,0)","v":0},{"$f":"+IF(ISNUMBER('System Results'!ZL47),'System Results'!ZL47,0)","v":0},{"$f":"+IF(ISNUMBER('System Results'!ZO47),'System Results'!ZO47,0)","v":0},{"$f":"+IF(ISNUMBER('System Results'!ZR47),'System Results'!ZR47,0)","v":0},{"$f":"+IF(ISNUMBER('System Results'!ZU47),'System Results'!ZU47,0)","v":0},{"$f":"+IF(ISNUMBER('System Results'!ZX47),'System Results'!ZX47,0)","v":0},{"$f":"+IF(ISNUMBER('System Results'!AAA47),'System Results'!AAA47,0)","v":0},{"$f":"+IF(ISNUMBER('System Results'!AAD47),'System Results'!AAD47,0)","v":0},{"$f":"+IF(ISNUMBER('System Results'!AAG47),'System Results'!AAG47,0)","v":0},{"$f":"+IF(ISNUMBER('System Results'!AAJ47),'System Results'!AAJ47,0)","v":0},{"$f":"+IF(ISNUMBER('System Results'!AAM47),'System Results'!AAM47,0)","v":0},{"$f":"+IF(ISNUMBER('System Results'!AAP47),'System Results'!AAP47,0)","v":0},{"$f":"+IF(ISNUMBER('System Results'!AAS47),'System Results'!AAS47,0)","v":0},{"$f":"+IF(ISNUMBER('System Results'!AAV47),'System Results'!AAV47,0)","v":0},{"$f":"+IF(ISNUMBER('System Results'!AAY47),'System Results'!AAY47,0)","v":0},{"$f":"+IF(ISNUMBER('System Results'!ABB47),'System Results'!ABB47,0)","v":0},{"$f":"+IF(ISNUMBER('System Results'!ABE47),'System Results'!ABE47,0)","v":0},{"$f":"+IF(ISNUMBER('System Results'!ABH47),'System Results'!ABH47,0)","v":0},{"$f":"+IF(ISNUMBER('System Results'!ABK47),'System Results'!ABK47,0)","v":0},{"$f":"+IF(ISNUMBER('System Results'!ABN47),'System Results'!ABN47,0)","v":0},{"$f":"+IF(ISNUMBER('System Results'!ABQ47),'System Results'!ABQ47,0)","v":0},{"$f":"+IF(ISNUMBER('System Results'!ABT47),'System Results'!ABT47,0)","v":0},{"$f":"+IF(ISNUMBER('System Results'!ABW47),'System Results'!ABW47,0)","v":0},{"$f":"+IF(ISNUMBER('System Results'!ABZ47),'System Results'!ABZ47,0)","v":0},{"$f":"+IF(ISNUMBER('System Results'!ACC47),'System Results'!ACC47,0)","v":0},{"$f":"+IF(ISNUMBER('System Results'!ACF47),'System Results'!ACF47,0)","v":0},{"$f":"+IF(ISNUMBER('System Results'!ACI47),'System Results'!ACI47,0)","v":0},{"$f":"+IF(ISNUMBER('System Results'!ACL47),'System Results'!ACL47,0)","v":0},{"$f":"+IF(ISNUMBER('System Results'!ACO47),'System Results'!ACO47,0)","v":0},{"$f":"+IF(ISNUMBER('System Results'!ACR47),'System Results'!ACR47,0)","v":0},{"$f":"+IF(ISNUMBER('System Results'!ACU47),'System Results'!ACU47,0)","v":0},{"$f":"+IF(ISNUMBER('System Results'!ACX47),'System Results'!ACX47,0)","v":0},{"$f":"+IF(ISNUMBER('System Results'!ADA47),'System Results'!ADA47,0)","v":0},{"$f":"+IF(ISNUMBER('System Results'!ADD47),'System Results'!ADD47,0)","v":0},{"$f":"+IF(ISNUMBER('System Results'!ADG47),'System Results'!ADG47,0)","v":0},{"$f":"+IF(ISNUMBER('System Results'!ADJ47),'System Results'!ADJ47,0)","v":0},{"$f":"+IF(ISNUMBER('System Results'!ADM47),'System Results'!ADM47,0)","v":0},{"$f":"+IF(ISNUMBER('System Results'!ADP47),'System Results'!ADP47,0)","v":0},{"$f":"+IF(ISNUMBER('System Results'!ADS47),'System Results'!ADS47,0)","v":0},{"$f":"+IF(ISNUMBER('System Results'!ADV47),'System Results'!ADV47,0)","v":0},{"$f":"+IF(ISNUMBER('System Results'!ADY47),'System Results'!ADY47,0)","v":0},{"$f":"+IF(ISNUMBER('System Results'!AEB47),'System Results'!AEB47,0)","v":0},{"$f":"+IF(ISNUMBER('System Results'!AEE47),'System Results'!AEE47,0)","v":0},{"$f":"+IF(ISNUMBER('System Results'!AEH47),'System Results'!AEH47,0)","v":0},{"$f":"+IF(ISNUMBER('System Results'!AEK47),'System Results'!AEK47,0)","v":0},{"$f":"+IF(ISNUMBER('System Results'!AEN47),'System Results'!AEN47,0)","v":0},{"$f":"+IF(ISNUMBER('System Results'!AEQ47),'System Results'!AEQ47,0)","v":0},{"$f":"+IF(ISNUMBER('System Results'!AET47),'System Results'!AET47,0)","v":0},{"$f":"+IF(ISNUMBER('System Results'!AEW47),'System Results'!AEW47,0)","v":0},{"$f":"+IF(ISNUMBER('System Results'!AEZ47),'System Results'!AEZ47,0)","v":0},{"$f":"+IF(ISNUMBER('System Results'!AFC47),'System Results'!AFC47,0)","v":0},{"$f":"+IF(ISNUMBER('System Results'!AFF47),'System Results'!AFF47,0)","v":0},{"$f":"+IF(ISNUMBER('System Results'!AFI47),'System Results'!AFI47,0)","v":0},{"$f":"+IF(ISNUMBER('System Results'!AFL47),'System Results'!AFL47,0)","v":0},{"$f":"+IF(ISNUMBER('System Results'!AFO47),'System Results'!AFO47,0)","v":0},{"$f":"+IF(ISNUMBER('System Results'!AFR47),'System Results'!AFR47,0)","v":0},{"$f":"+IF(ISNUMBER('System Results'!AFU47),'System Results'!AFU47,0)","v":0},{"$f":"+IF(ISNUMBER('System Results'!AFX47),'System Results'!AFX47,0)","v":0},{"$f":"+IF(ISNUMBER('System Results'!AGA47),'System Results'!AGA47,0)","v":0},{"$f":"+IF(ISNUMBER('System Results'!AGD47),'System Results'!AGD47,0)","v":0},{"$f":"+IF(ISNUMBER('System Results'!AGG47),'System Results'!AGG47,0)","v":0},{"$f":"+IF(ISNUMBER('System Results'!AGJ47),'System Results'!AGJ47,0)","v":0},{"$f":"+IF(ISNUMBER('System Results'!AGM47),'System Results'!AGM47,0)","v":0},{"$f":"+IF(ISNUMBER('System Results'!AGP47),'System Results'!AGP47,0)","v":0},{"$f":"+IF(ISNUMBER('System Results'!AGS47),'System Results'!AGS47,0)","v":0},{"$f":"+IF(ISNUMBER('System Results'!AGV47),'System Results'!AGV47,0)","v":0},{"$f":"+IF(ISNUMBER('System Results'!AGY47),'System Results'!AGY47,0)","v":0},{"$f":"+IF(ISNUMBER('System Results'!AHB47),'System Results'!AHB47,0)","v":0},{"$f":"+IF(ISNUMBER('System Results'!AHE47),'System Results'!AHE47,0)","v":0},{"$f":"+IF(ISNUMBER('System Results'!AHH47),'System Results'!AHH47,0)","v":0},{"$f":"+IF(ISNUMBER('System Results'!AHK47),'System Results'!AHK47,0)","v":0},{"$f":"+IF(ISNUMBER('System Results'!AHN47),'System Results'!AHN47,0)","v":0},{"$f":"+IF(ISNUMBER('System Results'!AHQ47),'System Results'!AHQ47,0)","v":0},{"$f":"+IF(ISNUMBER('System Results'!AHT47),'System Results'!AHT47,0)","v":0}]
[{"$f":"+'System Results'!B48","v":"End-of-life treatment of sold products-Not Used"},0,{"$f":"+IF(ISNUMBER('System Results'!G48),'System Results'!G48,0)","v":0},{"$f":"+IF(ISNUMBER('System Results'!J48),'System Results'!J48,0)","v":0},{"$f":"+IF(ISNUMBER('System Results'!M48),'System Results'!M48,0)","v":0},{"$f":"+IF(ISNUMBER('System Results'!P48),'System Results'!P48,0)","v":0},{"$f":"+IF(ISNUMBER('System Results'!S48),'System Results'!S48,0)","v":0},{"$f":"+IF(ISNUMBER('System Results'!V48),'System Results'!V48,0)","v":0},{"$f":"+IF(ISNUMBER('System Results'!Y48),'System Results'!Y48,0)","v":0},{"$f":"+IF(ISNUMBER('System Results'!AB48),'System Results'!AB48,0)","v":0},{"$f":"+IF(ISNUMBER('System Results'!AE48),'System Results'!AE48,0)","v":0},{"$f":"+IF(ISNUMBER('System Results'!AH48),'System Results'!AH48,0)","v":0},{"$f":"+IF(ISNUMBER('System Results'!AK48),'System Results'!AK48,0)","v":0},{"$f":"+IF(ISNUMBER('System Results'!AN48),'System Results'!AN48,0)","v":0},{"$f":"+IF(ISNUMBER('System Results'!AQ48),'System Results'!AQ48,0)","v":0},{"$f":"+IF(ISNUMBER('System Results'!AT48),'System Results'!AT48,0)","v":0},{"$f":"+IF(ISNUMBER('System Results'!AW48),'System Results'!AW48,0)","v":0},{"$f":"+IF(ISNUMBER('System Results'!AZ48),'System Results'!AZ48,0)","v":0},{"$f":"+IF(ISNUMBER('System Results'!BC48),'System Results'!BC48,0)","v":0},{"$f":"+IF(ISNUMBER('System Results'!BF48),'System Results'!BF48,0)","v":0},{"$f":"+IF(ISNUMBER('System Results'!BI48),'System Results'!BI48,0)","v":0},{"$f":"+IF(ISNUMBER('System Results'!BL48),'System Results'!BL48,0)","v":0},{"$f":"+IF(ISNUMBER('System Results'!BO48),'System Results'!BO48,0)","v":0},{"$f":"+IF(ISNUMBER('System Results'!BR48),'System Results'!BR48,0)","v":0},{"$f":"+IF(ISNUMBER('System Results'!BU48),'System Results'!BU48,0)","v":0},{"$f":"+IF(ISNUMBER('System Results'!BX48),'System Results'!BX48,0)","v":0},{"$f":"+IF(ISNUMBER('System Results'!CA48),'System Results'!CA48,0)","v":0},{"$f":"+IF(ISNUMBER('System Results'!CD48),'System Results'!CD48,0)","v":0},{"$f":"+IF(ISNUMBER('System Results'!CG48),'System Results'!CG48,0)","v":0},{"$f":"+IF(ISNUMBER('System Results'!CJ48),'System Results'!CJ48,0)","v":0},{"$f":"+IF(ISNUMBER('System Results'!CM48),'System Results'!CM48,0)","v":0},{"$f":"+IF(ISNUMBER('System Results'!CP48),'System Results'!CP48,0)","v":0},{"$f":"+IF(ISNUMBER('System Results'!CS48),'System Results'!CS48,0)","v":0},{"$f":"+IF(ISNUMBER('System Results'!CV48),'System Results'!CV48,0)","v":0},{"$f":"+IF(ISNUMBER('System Results'!CY48),'System Results'!CY48,0)","v":0},{"$f":"+IF(ISNUMBER('System Results'!DB48),'System Results'!DB48,0)","v":0},{"$f":"+IF(ISNUMBER('System Results'!DE48),'System Results'!DE48,0)","v":0},{"$f":"+IF(ISNUMBER('System Results'!DH48),'System Results'!DH48,0)","v":0},{"$f":"+IF(ISNUMBER('System Results'!DK48),'System Results'!DK48,0)","v":0},{"$f":"+IF(ISNUMBER('System Results'!DN48),'System Results'!DN48,0)","v":0},{"$f":"+IF(ISNUMBER('System Results'!DQ48),'System Results'!DQ48,0)","v":0},{"$f":"+IF(ISNUMBER('System Results'!DT48),'System Results'!DT48,0)","v":0},{"$f":"+IF(ISNUMBER('System Results'!DW48),'System Results'!DW48,0)","v":0},{"$f":"+IF(ISNUMBER('System Results'!DZ48),'System Results'!DZ48,0)","v":0},{"$f":"+IF(ISNUMBER('System Results'!EC48),'System Results'!EC48,0)","v":0},{"$f":"+IF(ISNUMBER('System Results'!EF48),'System Results'!EF48,0)","v":0},{"$f":"+IF(ISNUMBER('System Results'!EI48),'System Results'!EI48,0)","v":0},{"$f":"+IF(ISNUMBER('System Results'!EL48),'System Results'!EL48,0)","v":0},{"$f":"+IF(ISNUMBER('System Results'!EO48),'System Results'!EO48,0)","v":0},{"$f":"+IF(ISNUMBER('System Results'!ER48),'System Results'!ER48,0)","v":0},{"$f":"+IF(ISNUMBER('System Results'!EU48),'System Results'!EU48,0)","v":0},{"$f":"+IF(ISNUMBER('System Results'!EX48),'System Results'!EX48,0)","v":0},{"$f":"+IF(ISNUMBER('System Results'!FA48),'System Results'!FA48,0)","v":0},{"$f":"+IF(ISNUMBER('System Results'!FD48),'System Results'!FD48,0)","v":0},{"$f":"+IF(ISNUMBER('System Results'!FG48),'System Results'!FG48,0)","v":0},{"$f":"+IF(ISNUMBER('System Results'!FJ48),'System Results'!FJ48,0)","v":0},{"$f":"+IF(ISNUMBER('System Results'!FM48),'System Results'!FM48,0)","v":0},{"$f":"+IF(ISNUMBER('System Results'!FP48),'System Results'!FP48,0)","v":0},{"$f":"+IF(ISNUMBER('System Results'!FS48),'System Results'!FS48,0)","v":0},{"$f":"+IF(ISNUMBER('System Results'!FV48),'System Results'!FV48,0)","v":0},{"$f":"+IF(ISNUMBER('System Results'!FY48),'System Results'!FY48,0)","v":0},{"$f":"+IF(ISNUMBER('System Results'!GB48),'System Results'!GB48,0)","v":0},{"$f":"+IF(ISNUMBER('System Results'!GE48),'System Results'!GE48,0)","v":0},{"$f":"+IF(ISNUMBER('System Results'!GH48),'System Results'!GH48,0)","v":0},{"$f":"+IF(ISNUMBER('System Results'!GK48),'System Results'!GK48,0)","v":0},{"$f":"+IF(ISNUMBER('System Results'!GN48),'System Results'!GN48,0)","v":0},{"$f":"+IF(ISNUMBER('System Results'!GQ48),'System Results'!GQ48,0)","v":0},{"$f":"+IF(ISNUMBER('System Results'!GT48),'System Results'!GT48,0)","v":0},{"$f":"+IF(ISNUMBER('System Results'!GW48),'System Results'!GW48,0)","v":0},{"$f":"+IF(ISNUMBER('System Results'!GZ48),'System Results'!GZ48,0)","v":0},{"$f":"+IF(ISNUMBER('System Results'!HC48),'System Results'!HC48,0)","v":0},{"$f":"+IF(ISNUMBER('System Results'!HF48),'System Results'!HF48,0)","v":0},{"$f":"+IF(ISNUMBER('System Results'!HI48),'System Results'!HI48,0)","v":0},{"$f":"+IF(ISNUMBER('System Results'!HL48),'System Results'!HL48,0)","v":0},{"$f":"+IF(ISNUMBER('System Results'!HO48),'System Results'!HO48,0)","v":0},{"$f":"+IF(ISNUMBER('System Results'!HR48),'System Results'!HR48,0)","v":0},{"$f":"+IF(ISNUMBER('System Results'!HU48),'System Results'!HU48,0)","v":0},{"$f":"+IF(ISNUMBER('System Results'!HX48),'System Results'!HX48,0)","v":0},{"$f":"+IF(ISNUMBER('System Results'!IA48),'System Results'!IA48,0)","v":0},{"$f":"+IF(ISNUMBER('System Results'!ID48),'System Results'!ID48,0)","v":0},{"$f":"+IF(ISNUMBER('System Results'!IG48),'System Results'!IG48,0)","v":0},{"$f":"+IF(ISNUMBER('System Results'!IJ48),'System Results'!IJ48,0)","v":0},{"$f":"+IF(ISNUMBER('System Results'!IM48),'System Results'!IM48,0)","v":0},{"$f":"+IF(ISNUMBER('System Results'!IP48),'System Results'!IP48,0)","v":0},{"$f":"+IF(ISNUMBER('System Results'!IS48),'System Results'!IS48,0)","v":0},{"$f":"+IF(ISNUMBER('System Results'!IV48),'System Results'!IV48,0)","v":0},{"$f":"+IF(ISNUMBER('System Results'!IY48),'System Results'!IY48,0)","v":0},{"$f":"+IF(ISNUMBER('System Results'!JB48),'System Results'!JB48,0)","v":0},{"$f":"+IF(ISNUMBER('System Results'!JE48),'System Results'!JE48,0)","v":0},{"$f":"+IF(ISNUMBER('System Results'!JH48),'System Results'!JH48,0)","v":0},{"$f":"+IF(ISNUMBER('System Results'!JK48),'System Results'!JK48,0)","v":0},{"$f":"+IF(ISNUMBER('System Results'!JN48),'System Results'!JN48,0)","v":0},{"$f":"+IF(ISNUMBER('System Results'!JQ48),'System Results'!JQ48,0)","v":0},{"$f":"+IF(ISNUMBER('System Results'!JT48),'System Results'!JT48,0)","v":0},{"$f":"+IF(ISNUMBER('System Results'!JW48),'System Results'!JW48,0)","v":0},{"$f":"+IF(ISNUMBER('System Results'!JZ48),'System Results'!JZ48,0)","v":0},{"$f":"+IF(ISNUMBER('System Results'!KC48),'System Results'!KC48,0)","v":0},{"$f":"+IF(ISNUMBER('System Results'!KF48),'System Results'!KF48,0)","v":0},{"$f":"+IF(ISNUMBER('System Results'!KI48),'System Results'!KI48,0)","v":0},{"$f":"+IF(ISNUMBER('System Results'!KL48),'System Results'!KL48,0)","v":0},{"$f":"+IF(ISNUMBER('System Results'!KO48),'System Results'!KO48,0)","v":0},{"$f":"+IF(ISNUMBER('System Results'!KR48),'System Results'!KR48,0)","v":0},{"$f":"+IF(ISNUMBER('System Results'!KU48),'System Results'!KU48,0)","v":0},{"$f":"+IF(ISNUMBER('System Results'!KX48),'System Results'!KX48,0)","v":0},{"$f":"+IF(ISNUMBER('System Results'!LA48),'System Results'!LA48,0)","v":0},{"$f":"+IF(ISNUMBER('System Results'!LD48),'System Results'!LD48,0)","v":0},{"$f":"+IF(ISNUMBER('System Results'!LG48),'System Results'!LG48,0)","v":0},{"$f":"+IF(ISNUMBER('System Results'!LJ48),'System Results'!LJ48,0)","v":0},{"$f":"+IF(ISNUMBER('System Results'!LM48),'System Results'!LM48,0)","v":0},{"$f":"+IF(ISNUMBER('System Results'!LP48),'System Results'!LP48,0)","v":0},{"$f":"+IF(ISNUMBER('System Results'!LS48),'System Results'!LS48,0)","v":0},{"$f":"+IF(ISNUMBER('System Results'!LV48),'System Results'!LV48,0)","v":0},{"$f":"+IF(ISNUMBER('System Results'!LY48),'System Results'!LY48,0)","v":0},{"$f":"+IF(ISNUMBER('System Results'!MB48),'System Results'!MB48,0)","v":0},{"$f":"+IF(ISNUMBER('System Results'!ME48),'System Results'!ME48,0)","v":0},{"$f":"+IF(ISNUMBER('System Results'!MH48),'System Results'!MH48,0)","v":0},{"$f":"+IF(ISNUMBER('System Results'!MK48),'System Results'!MK48,0)","v":0},{"$f":"+IF(ISNUMBER('System Results'!MN48),'System Results'!MN48,0)","v":0},{"$f":"+IF(ISNUMBER('System Results'!MQ48),'System Results'!MQ48,0)","v":0},{"$f":"+IF(ISNUMBER('System Results'!MT48),'System Results'!MT48,0)","v":0},{"$f":"+IF(ISNUMBER('System Results'!MW48),'System Results'!MW48,0)","v":0},{"$f":"+IF(ISNUMBER('System Results'!MZ48),'System Results'!MZ48,0)","v":0},{"$f":"+IF(ISNUMBER('System Results'!NC48),'System Results'!NC48,0)","v":0},{"$f":"+IF(ISNUMBER('System Results'!NF48),'System Results'!NF48,0)","v":0},{"$f":"+IF(ISNUMBER('System Results'!NI48),'System Results'!NI48,0)","v":0},{"$f":"+IF(ISNUMBER('System Results'!NL48),'System Results'!NL48,0)","v":0},{"$f":"+IF(ISNUMBER('System Results'!NO48),'System Results'!NO48,0)","v":0},{"$f":"+IF(ISNUMBER('System Results'!NR48),'System Results'!NR48,0)","v":0},{"$f":"+IF(ISNUMBER('System Results'!NU48),'System Results'!NU48,0)","v":0},{"$f":"+IF(ISNUMBER('System Results'!NX48),'System Results'!NX48,0)","v":0},{"$f":"+IF(ISNUMBER('System Results'!OA48),'System Results'!OA48,0)","v":0},{"$f":"+IF(ISNUMBER('System Results'!OD48),'System Results'!OD48,0)","v":0},{"$f":"+IF(ISNUMBER('System Results'!OG48),'System Results'!OG48,0)","v":0},{"$f":"+IF(ISNUMBER('System Results'!OJ48),'System Results'!OJ48,0)","v":0},{"$f":"+IF(ISNUMBER('System Results'!OM48),'System Results'!OM48,0)","v":0},{"$f":"+IF(ISNUMBER('System Results'!OP48),'System Results'!OP48,0)","v":0},{"$f":"+IF(ISNUMBER('System Results'!OS48),'System Results'!OS48,0)","v":0},{"$f":"+IF(ISNUMBER('System Results'!OV48),'System Results'!OV48,0)","v":0},{"$f":"+IF(ISNUMBER('System Results'!OY48),'System Results'!OY48,0)","v":0},{"$f":"+IF(ISNUMBER('System Results'!PB48),'System Results'!PB48,0)","v":0},{"$f":"+IF(ISNUMBER('System Results'!PE48),'System Results'!PE48,0)","v":0},{"$f":"+IF(ISNUMBER('System Results'!PH48),'System Results'!PH48,0)","v":0},{"$f":"+IF(ISNUMBER('System Results'!PK48),'System Results'!PK48,0)","v":0},{"$f":"+IF(ISNUMBER('System Results'!PN48),'System Results'!PN48,0)","v":0},{"$f":"+IF(ISNUMBER('System Results'!PQ48),'System Results'!PQ48,0)","v":0},{"$f":"+IF(ISNUMBER('System Results'!PT48),'System Results'!PT48,0)","v":0},{"$f":"+IF(ISNUMBER('System Results'!PW48),'System Results'!PW48,0)","v":0},{"$f":"+IF(ISNUMBER('System Results'!PZ48),'System Results'!PZ48,0)","v":0},{"$f":"+IF(ISNUMBER('System Results'!QC48),'System Results'!QC48,0)","v":0},{"$f":"+IF(ISNUMBER('System Results'!QF48),'System Results'!QF48,0)","v":0},{"$f":"+IF(ISNUMBER('System Results'!QI48),'System Results'!QI48,0)","v":0},{"$f":"+IF(ISNUMBER('System Results'!QL48),'System Results'!QL48,0)","v":0},{"$f":"+IF(ISNUMBER('System Results'!QO48),'System Results'!QO48,0)","v":0},{"$f":"+IF(ISNUMBER('System Results'!QR48),'System Results'!QR48,0)","v":0},{"$f":"+IF(ISNUMBER('System Results'!QU48),'System Results'!QU48,0)","v":0},{"$f":"+IF(ISNUMBER('System Results'!QX48),'System Results'!QX48,0)","v":0},{"$f":"+IF(ISNUMBER('System Results'!RA48),'System Results'!RA48,0)","v":0},{"$f":"+IF(ISNUMBER('System Results'!RD48),'System Results'!RD48,0)","v":0},{"$f":"+IF(ISNUMBER('System Results'!RG48),'System Results'!RG48,0)","v":0},{"$f":"+IF(ISNUMBER('System Results'!RJ48),'System Results'!RJ48,0)","v":0},{"$f":"+IF(ISNUMBER('System Results'!RM48),'System Results'!RM48,0)","v":0},{"$f":"+IF(ISNUMBER('System Results'!RP48),'System Results'!RP48,0)","v":0},{"$f":"+IF(ISNUMBER('System Results'!RS48),'System Results'!RS48,0)","v":0},{"$f":"+IF(ISNUMBER('System Results'!RV48),'System Results'!RV48,0)","v":0},{"$f":"+IF(ISNUMBER('System Results'!RY48),'System Results'!RY48,0)","v":0},{"$f":"+IF(ISNUMBER('System Results'!SB48),'System Results'!SB48,0)","v":0},{"$f":"+IF(ISNUMBER('System Results'!SE48),'System Results'!SE48,0)","v":0},{"$f":"+IF(ISNUMBER('System Results'!SH48),'System Results'!SH48,0)","v":0},{"$f":"+IF(ISNUMBER('System Results'!SK48),'System Results'!SK48,0)","v":0},{"$f":"+IF(ISNUMBER('System Results'!SN48),'System Results'!SN48,0)","v":0},{"$f":"+IF(ISNUMBER('System Results'!SQ48),'System Results'!SQ48,0)","v":0},{"$f":"+IF(ISNUMBER('System Results'!ST48),'System Results'!ST48,0)","v":0},{"$f":"+IF(ISNUMBER('System Results'!SW48),'System Results'!SW48,0)","v":0},{"$f":"+IF(ISNUMBER('System Results'!SZ48),'System Results'!SZ48,0)","v":0},{"$f":"+IF(ISNUMBER('System Results'!TC48),'System Results'!TC48,0)","v":0},{"$f":"+IF(ISNUMBER('System Results'!TF48),'System Results'!TF48,0)","v":0},{"$f":"+IF(ISNUMBER('System Results'!TI48),'System Results'!TI48,0)","v":0},{"$f":"+IF(ISNUMBER('System Results'!TL48),'System Results'!TL48,0)","v":0},{"$f":"+IF(ISNUMBER('System Results'!TO48),'System Results'!TO48,0)","v":0},{"$f":"+IF(ISNUMBER('System Results'!TR48),'System Results'!TR48,0)","v":0},{"$f":"+IF(ISNUMBER('System Results'!TU48),'System Results'!TU48,0)","v":0},{"$f":"+IF(ISNUMBER('System Results'!TX48),'System Results'!TX48,0)","v":0},{"$f":"+IF(ISNUMBER('System Results'!UA48),'System Results'!UA48,0)","v":0},{"$f":"+IF(ISNUMBER('System Results'!UD48),'System Results'!UD48,0)","v":0},{"$f":"+IF(ISNUMBER('System Results'!UG48),'System Results'!UG48,0)","v":0},{"$f":"+IF(ISNUMBER('System Results'!UJ48),'System Results'!UJ48,0)","v":0},{"$f":"+IF(ISNUMBER('System Results'!UM48),'System Results'!UM48,0)","v":0},{"$f":"+IF(ISNUMBER('System Results'!UP48),'System Results'!UP48,0)","v":0},{"$f":"+IF(ISNUMBER('System Results'!US48),'System Results'!US48,0)","v":0},{"$f":"+IF(ISNUMBER('System Results'!UV48),'System Results'!UV48,0)","v":0},{"$f":"+IF(ISNUMBER('System Results'!UY48),'System Results'!UY48,0)","v":0},{"$f":"+IF(ISNUMBER('System Results'!VB48),'System Results'!VB48,0)","v":0},{"$f":"+IF(ISNUMBER('System Results'!VE48),'System Results'!VE48,0)","v":0},{"$f":"+IF(ISNUMBER('System Results'!VH48),'System Results'!VH48,0)","v":0},{"$f":"+IF(ISNUMBER('System Results'!VK48),'System Results'!VK48,0)","v":0},{"$f":"+IF(ISNUMBER('System Results'!VN48),'System Results'!VN48,0)","v":0},{"$f":"+IF(ISNUMBER('System Results'!VQ48),'System Results'!VQ48,0)","v":0},{"$f":"+IF(ISNUMBER('System Results'!VT48),'System Results'!VT48,0)","v":0},{"$f":"+IF(ISNUMBER('System Results'!VW48),'System Results'!VW48,0)","v":0},{"$f":"+IF(ISNUMBER('System Results'!VZ48),'System Results'!VZ48,0)","v":0},{"$f":"+IF(ISNUMBER('System Results'!WC48),'System Results'!WC48,0)","v":0},{"$f":"+IF(ISNUMBER('System Results'!WF48),'System Results'!WF48,0)","v":0},{"$f":"+IF(ISNUMBER('System Results'!WI48),'System Results'!WI48,0)","v":0},{"$f":"+IF(ISNUMBER('System Results'!WL48),'System Results'!WL48,0)","v":0},{"$f":"+IF(ISNUMBER('System Results'!WO48),'System Results'!WO48,0)","v":0},{"$f":"+IF(ISNUMBER('System Results'!WR48),'System Results'!WR48,0)","v":0},{"$f":"+IF(ISNUMBER('System Results'!WU48),'System Results'!WU48,0)","v":0},{"$f":"+IF(ISNUMBER('System Results'!WX48),'System Results'!WX48,0)","v":0},{"$f":"+IF(ISNUMBER('System Results'!XA48),'System Results'!XA48,0)","v":0},{"$f":"+IF(ISNUMBER('System Results'!XD48),'System Results'!XD48,0)","v":0},{"$f":"+IF(ISNUMBER('System Results'!XG48),'System Results'!XG48,0)","v":0},{"$f":"+IF(ISNUMBER('System Results'!XJ48),'System Results'!XJ48,0)","v":0},{"$f":"+IF(ISNUMBER('System Results'!XM48),'System Results'!XM48,0)","v":0},{"$f":"+IF(ISNUMBER('System Results'!XP48),'System Results'!XP48,0)","v":0},{"$f":"+IF(ISNUMBER('System Results'!XS48),'System Results'!XS48,0)","v":0},{"$f":"+IF(ISNUMBER('System Results'!XV48),'System Results'!XV48,0)","v":0},{"$f":"+IF(ISNUMBER('System Results'!XY48),'System Results'!XY48,0)","v":0},{"$f":"+IF(ISNUMBER('System Results'!YB48),'System Results'!YB48,0)","v":0},{"$f":"+IF(ISNUMBER('System Results'!YE48),'System Results'!YE48,0)","v":0},{"$f":"+IF(ISNUMBER('System Results'!YH48),'System Results'!YH48,0)","v":0},{"$f":"+IF(ISNUMBER('System Results'!YK48),'System Results'!YK48,0)","v":0},{"$f":"+IF(ISNUMBER('System Results'!YN48),'System Results'!YN48,0)","v":0},{"$f":"+IF(ISNUMBER('System Results'!YQ48),'System Results'!YQ48,0)","v":0},{"$f":"+IF(ISNUMBER('System Results'!YT48),'System Results'!YT48,0)","v":0},{"$f":"+IF(ISNUMBER('System Results'!YW48),'System Results'!YW48,0)","v":0},{"$f":"+IF(ISNUMBER('System Results'!YZ48),'System Results'!YZ48,0)","v":0},{"$f":"+IF(ISNUMBER('System Results'!ZC48),'System Results'!ZC48,0)","v":0},{"$f":"+IF(ISNUMBER('System Results'!ZF48),'System Results'!ZF48,0)","v":0},{"$f":"+IF(ISNUMBER('System Results'!ZI48),'System Results'!ZI48,0)","v":0},{"$f":"+IF(ISNUMBER('System Results'!ZL48),'System Results'!ZL48,0)","v":0},{"$f":"+IF(ISNUMBER('System Results'!ZO48),'System Results'!ZO48,0)","v":0},{"$f":"+IF(ISNUMBER('System Results'!ZR48),'System Results'!ZR48,0)","v":0},{"$f":"+IF(ISNUMBER('System Results'!ZU48),'System Results'!ZU48,0)","v":0},{"$f":"+IF(ISNUMBER('System Results'!ZX48),'System Results'!ZX48,0)","v":0},{"$f":"+IF(ISNUMBER('System Results'!AAA48),'System Results'!AAA48,0)","v":0},{"$f":"+IF(ISNUMBER('System Results'!AAD48),'System Results'!AAD48,0)","v":0},{"$f":"+IF(ISNUMBER('System Results'!AAG48),'System Results'!AAG48,0)","v":0},{"$f":"+IF(ISNUMBER('System Results'!AAJ48),'System Results'!AAJ48,0)","v":0},{"$f":"+IF(ISNUMBER('System Results'!AAM48),'System Results'!AAM48,0)","v":0},{"$f":"+IF(ISNUMBER('System Results'!AAP48),'System Results'!AAP48,0)","v":0},{"$f":"+IF(ISNUMBER('System Results'!AAS48),'System Results'!AAS48,0)","v":0},{"$f":"+IF(ISNUMBER('System Results'!AAV48),'System Results'!AAV48,0)","v":0},{"$f":"+IF(ISNUMBER('System Results'!AAY48),'System Results'!AAY48,0)","v":0},{"$f":"+IF(ISNUMBER('System Results'!ABB48),'System Results'!ABB48,0)","v":0},{"$f":"+IF(ISNUMBER('System Results'!ABE48),'System Results'!ABE48,0)","v":0},{"$f":"+IF(ISNUMBER('System Results'!ABH48),'System Results'!ABH48,0)","v":0},{"$f":"+IF(ISNUMBER('System Results'!ABK48),'System Results'!ABK48,0)","v":0},{"$f":"+IF(ISNUMBER('System Results'!ABN48),'System Results'!ABN48,0)","v":0},{"$f":"+IF(ISNUMBER('System Results'!ABQ48),'System Results'!ABQ48,0)","v":0},{"$f":"+IF(ISNUMBER('System Results'!ABT48),'System Results'!ABT48,0)","v":0},{"$f":"+IF(ISNUMBER('System Results'!ABW48),'System Results'!ABW48,0)","v":0},{"$f":"+IF(ISNUMBER('System Results'!ABZ48),'System Results'!ABZ48,0)","v":0},{"$f":"+IF(ISNUMBER('System Results'!ACC48),'System Results'!ACC48,0)","v":0},{"$f":"+IF(ISNUMBER('System Results'!ACF48),'System Results'!ACF48,0)","v":0},{"$f":"+IF(ISNUMBER('System Results'!ACI48),'System Results'!ACI48,0)","v":0},{"$f":"+IF(ISNUMBER('System Results'!ACL48),'System Results'!ACL48,0)","v":0},{"$f":"+IF(ISNUMBER('System Results'!ACO48),'System Results'!ACO48,0)","v":0},{"$f":"+IF(ISNUMBER('System Results'!ACR48),'System Results'!ACR48,0)","v":0},{"$f":"+IF(ISNUMBER('System Results'!ACU48),'System Results'!ACU48,0)","v":0},{"$f":"+IF(ISNUMBER('System Results'!ACX48),'System Results'!ACX48,0)","v":0},{"$f":"+IF(ISNUMBER('System Results'!ADA48),'System Results'!ADA48,0)","v":0},{"$f":"+IF(ISNUMBER('System Results'!ADD48),'System Results'!ADD48,0)","v":0},{"$f":"+IF(ISNUMBER('System Results'!ADG48),'System Results'!ADG48,0)","v":0},{"$f":"+IF(ISNUMBER('System Results'!ADJ48),'System Results'!ADJ48,0)","v":0},{"$f":"+IF(ISNUMBER('System Results'!ADM48),'System Results'!ADM48,0)","v":0},{"$f":"+IF(ISNUMBER('System Results'!ADP48),'System Results'!ADP48,0)","v":0},{"$f":"+IF(ISNUMBER('System Results'!ADS48),'System Results'!ADS48,0)","v":0},{"$f":"+IF(ISNUMBER('System Results'!ADV48),'System Results'!ADV48,0)","v":0},{"$f":"+IF(ISNUMBER('System Results'!ADY48),'System Results'!ADY48,0)","v":0},{"$f":"+IF(ISNUMBER('System Results'!AEB48),'System Results'!AEB48,0)","v":0},{"$f":"+IF(ISNUMBER('System Results'!AEE48),'System Results'!AEE48,0)","v":0},{"$f":"+IF(ISNUMBER('System Results'!AEH48),'System Results'!AEH48,0)","v":0},{"$f":"+IF(ISNUMBER('System Results'!AEK48),'System Results'!AEK48,0)","v":0},{"$f":"+IF(ISNUMBER('System Results'!AEN48),'System Results'!AEN48,0)","v":0},{"$f":"+IF(ISNUMBER('System Results'!AEQ48),'System Results'!AEQ48,0)","v":0},{"$f":"+IF(ISNUMBER('System Results'!AET48),'System Results'!AET48,0)","v":0},{"$f":"+IF(ISNUMBER('System Results'!AEW48),'System Results'!AEW48,0)","v":0},{"$f":"+IF(ISNUMBER('System Results'!AEZ48),'System Results'!AEZ48,0)","v":0},{"$f":"+IF(ISNUMBER('System Results'!AFC48),'System Results'!AFC48,0)","v":0},{"$f":"+IF(ISNUMBER('System Results'!AFF48),'System Results'!AFF48,0)","v":0},{"$f":"+IF(ISNUMBER('System Results'!AFI48),'System Results'!AFI48,0)","v":0},{"$f":"+IF(ISNUMBER('System Results'!AFL48),'System Results'!AFL48,0)","v":0},{"$f":"+IF(ISNUMBER('System Results'!AFO48),'System Results'!AFO48,0)","v":0},{"$f":"+IF(ISNUMBER('System Results'!AFR48),'System Results'!AFR48,0)","v":0},{"$f":"+IF(ISNUMBER('System Results'!AFU48),'System Results'!AFU48,0)","v":0},{"$f":"+IF(ISNUMBER('System Results'!AFX48),'System Results'!AFX48,0)","v":0},{"$f":"+IF(ISNUMBER('System Results'!AGA48),'System Results'!AGA48,0)","v":0},{"$f":"+IF(ISNUMBER('System Results'!AGD48),'System Results'!AGD48,0)","v":0},{"$f":"+IF(ISNUMBER('System Results'!AGG48),'System Results'!AGG48,0)","v":0},{"$f":"+IF(ISNUMBER('System Results'!AGJ48),'System Results'!AGJ48,0)","v":0},{"$f":"+IF(ISNUMBER('System Results'!AGM48),'System Results'!AGM48,0)","v":0},{"$f":"+IF(ISNUMBER('System Results'!AGP48),'System Results'!AGP48,0)","v":0},{"$f":"+IF(ISNUMBER('System Results'!AGS48),'System Results'!AGS48,0)","v":0},{"$f":"+IF(ISNUMBER('System Results'!AGV48),'System Results'!AGV48,0)","v":0},{"$f":"+IF(ISNUMBER('System Results'!AGY48),'System Results'!AGY48,0)","v":0},{"$f":"+IF(ISNUMBER('System Results'!AHB48),'System Results'!AHB48,0)","v":0},{"$f":"+IF(ISNUMBER('System Results'!AHE48),'System Results'!AHE48,0)","v":0},{"$f":"+IF(ISNUMBER('System Results'!AHH48),'System Results'!AHH48,0)","v":0},{"$f":"+IF(ISNUMBER('System Results'!AHK48),'System Results'!AHK48,0)","v":0},{"$f":"+IF(ISNUMBER('System Results'!AHN48),'System Results'!AHN48,0)","v":0},{"$f":"+IF(ISNUMBER('System Results'!AHQ48),'System Results'!AHQ48,0)","v":0},{"$f":"+IF(ISNUMBER('System Results'!AHT48),'System Results'!AHT48,0)","v":0}]
[{"$f":"+'System Results'!B49","v":"Downstream leased assets"},0,{"$f":"+IF(ISNUMBER('System Results'!G49),'System Results'!G49,0)","v":0},{"$f":"+IF(ISNUMBER('System Results'!J49),'System Results'!J49,0)","v":0},{"$f":"+IF(ISNUMBER('System Results'!M49),'System Results'!M49,0)","v":0},{"$f":"+IF(ISNUMBER('System Results'!P49),'System Results'!P49,0)","v":0},{"$f":"+IF(ISNUMBER('System Results'!S49),'System Results'!S49,0)","v":0},{"$f":"+IF(ISNUMBER('System Results'!V49),'System Results'!V49,0)","v":0},{"$f":"+IF(ISNUMBER('System Results'!Y49),'System Results'!Y49,0)","v":0},{"$f":"+IF(ISNUMBER('System Results'!AB49),'System Results'!AB49,0)","v":0},{"$f":"+IF(ISNUMBER('System Results'!AE49),'System Results'!AE49,0)","v":0},{"$f":"+IF(ISNUMBER('System Results'!AH49),'System Results'!AH49,0)","v":0},{"$f":"+IF(ISNUMBER('System Results'!AK49),'System Results'!AK49,0)","v":0},{"$f":"+IF(ISNUMBER('System Results'!AN49),'System Results'!AN49,0)","v":0},{"$f":"+IF(ISNUMBER('System Results'!AQ49),'System Results'!AQ49,0)","v":0},{"$f":"+IF(ISNUMBER('System Results'!AT49),'System Results'!AT49,0)","v":0},{"$f":"+IF(ISNUMBER('System Results'!AW49),'System Results'!AW49,0)","v":0},{"$f":"+IF(ISNUMBER('System Results'!AZ49),'System Results'!AZ49,0)","v":0},{"$f":"+IF(ISNUMBER('System Results'!BC49),'System Results'!BC49,0)","v":0},{"$f":"+IF(ISNUMBER('System Results'!BF49),'System Results'!BF49,0)","v":0},{"$f":"+IF(ISNUMBER('System Results'!BI49),'System Results'!BI49,0)","v":0},{"$f":"+IF(ISNUMBER('System Results'!BL49),'System Results'!BL49,0)","v":0},{"$f":"+IF(ISNUMBER('System Results'!BO49),'System Results'!BO49,0)","v":0},{"$f":"+IF(ISNUMBER('System Results'!BR49),'System Results'!BR49,0)","v":0},{"$f":"+IF(ISNUMBER('System Results'!BU49),'System Results'!BU49,0)","v":0},{"$f":"+IF(ISNUMBER('System Results'!BX49),'System Results'!BX49,0)","v":0},{"$f":"+IF(ISNUMBER('System Results'!CA49),'System Results'!CA49,0)","v":0},{"$f":"+IF(ISNUMBER('System Results'!CD49),'System Results'!CD49,0)","v":0},{"$f":"+IF(ISNUMBER('System Results'!CG49),'System Results'!CG49,0)","v":0},{"$f":"+IF(ISNUMBER('System Results'!CJ49),'System Results'!CJ49,0)","v":0},{"$f":"+IF(ISNUMBER('System Results'!CM49),'System Results'!CM49,0)","v":0},{"$f":"+IF(ISNUMBER('System Results'!CP49),'System Results'!CP49,0)","v":0},{"$f":"+IF(ISNUMBER('System Results'!CS49),'System Results'!CS49,0)","v":0},{"$f":"+IF(ISNUMBER('System Results'!CV49),'System Results'!CV49,0)","v":0},{"$f":"+IF(ISNUMBER('System Results'!CY49),'System Results'!CY49,0)","v":0},{"$f":"+IF(ISNUMBER('System Results'!DB49),'System Results'!DB49,0)","v":0},{"$f":"+IF(ISNUMBER('System Results'!DE49),'System Results'!DE49,0)","v":0},{"$f":"+IF(ISNUMBER('System Results'!DH49),'System Results'!DH49,0)","v":0},{"$f":"+IF(ISNUMBER('System Results'!DK49),'System Results'!DK49,0)","v":0},{"$f":"+IF(ISNUMBER('System Results'!DN49),'System Results'!DN49,0)","v":0},{"$f":"+IF(ISNUMBER('System Results'!DQ49),'System Results'!DQ49,0)","v":0},{"$f":"+IF(ISNUMBER('System Results'!DT49),'System Results'!DT49,0)","v":0},{"$f":"+IF(ISNUMBER('System Results'!DW49),'System Results'!DW49,0)","v":0},{"$f":"+IF(ISNUMBER('System Results'!DZ49),'System Results'!DZ49,0)","v":0},{"$f":"+IF(ISNUMBER('System Results'!EC49),'System Results'!EC49,0)","v":0},{"$f":"+IF(ISNUMBER('System Results'!EF49),'System Results'!EF49,0)","v":0},{"$f":"+IF(ISNUMBER('System Results'!EI49),'System Results'!EI49,0)","v":0},{"$f":"+IF(ISNUMBER('System Results'!EL49),'System Results'!EL49,0)","v":0},{"$f":"+IF(ISNUMBER('System Results'!EO49),'System Results'!EO49,0)","v":0},{"$f":"+IF(ISNUMBER('System Results'!ER49),'System Results'!ER49,0)","v":0},{"$f":"+IF(ISNUMBER('System Results'!EU49),'System Results'!EU49,0)","v":0},{"$f":"+IF(ISNUMBER('System Results'!EX49),'System Results'!EX49,0)","v":0},{"$f":"+IF(ISNUMBER('System Results'!FA49),'System Results'!FA49,0)","v":0},{"$f":"+IF(ISNUMBER('System Results'!FD49),'System Results'!FD49,0)","v":0},{"$f":"+IF(ISNUMBER('System Results'!FG49),'System Results'!FG49,0)","v":0},{"$f":"+IF(ISNUMBER('System Results'!FJ49),'System Results'!FJ49,0)","v":0},{"$f":"+IF(ISNUMBER('System Results'!FM49),'System Results'!FM49,0)","v":0},{"$f":"+IF(ISNUMBER('System Results'!FP49),'System Results'!FP49,0)","v":0},{"$f":"+IF(ISNUMBER('System Results'!FS49),'System Results'!FS49,0)","v":0},{"$f":"+IF(ISNUMBER('System Results'!FV49),'System Results'!FV49,0)","v":0},{"$f":"+IF(ISNUMBER('System Results'!FY49),'System Results'!FY49,0)","v":0},{"$f":"+IF(ISNUMBER('System Results'!GB49),'System Results'!GB49,0)","v":0},{"$f":"+IF(ISNUMBER('System Results'!GE49),'System Results'!GE49,0)","v":0},{"$f":"+IF(ISNUMBER('System Results'!GH49),'System Results'!GH49,0)","v":0},{"$f":"+IF(ISNUMBER('System Results'!GK49),'System Results'!GK49,0)","v":0},{"$f":"+IF(ISNUMBER('System Results'!GN49),'System Results'!GN49,0)","v":0},{"$f":"+IF(ISNUMBER('System Results'!GQ49),'System Results'!GQ49,0)","v":0},{"$f":"+IF(ISNUMBER('System Results'!GT49),'System Results'!GT49,0)","v":0},{"$f":"+IF(ISNUMBER('System Results'!GW49),'System Results'!GW49,0)","v":0},{"$f":"+IF(ISNUMBER('System Results'!GZ49),'System Results'!GZ49,0)","v":0},{"$f":"+IF(ISNUMBER('System Results'!HC49),'System Results'!HC49,0)","v":0},{"$f":"+IF(ISNUMBER('System Results'!HF49),'System Results'!HF49,0)","v":0},{"$f":"+IF(ISNUMBER('System Results'!HI49),'System Results'!HI49,0)","v":0},{"$f":"+IF(ISNUMBER('System Results'!HL49),'System Results'!HL49,0)","v":0},{"$f":"+IF(ISNUMBER('System Results'!HO49),'System Results'!HO49,0)","v":0},{"$f":"+IF(ISNUMBER('System Results'!HR49),'System Results'!HR49,0)","v":0},{"$f":"+IF(ISNUMBER('System Results'!HU49),'System Results'!HU49,0)","v":0},{"$f":"+IF(ISNUMBER('System Results'!HX49),'System Results'!HX49,0)","v":0},{"$f":"+IF(ISNUMBER('System Results'!IA49),'System Results'!IA49,0)","v":0},{"$f":"+IF(ISNUMBER('System Results'!ID49),'System Results'!ID49,0)","v":0},{"$f":"+IF(ISNUMBER('System Results'!IG49),'System Results'!IG49,0)","v":0},{"$f":"+IF(ISNUMBER('System Results'!IJ49),'System Results'!IJ49,0)","v":0},{"$f":"+IF(ISNUMBER('System Results'!IM49),'System Results'!IM49,0)","v":0},{"$f":"+IF(ISNUMBER('System Results'!IP49),'System Results'!IP49,0)","v":0},{"$f":"+IF(ISNUMBER('System Results'!IS49),'System Results'!IS49,0)","v":0},{"$f":"+IF(ISNUMBER('System Results'!IV49),'System Results'!IV49,0)","v":0},{"$f":"+IF(ISNUMBER('System Results'!IY49),'System Results'!IY49,0)","v":0},{"$f":"+IF(ISNUMBER('System Results'!JB49),'System Results'!JB49,0)","v":0},{"$f":"+IF(ISNUMBER('System Results'!JE49),'System Results'!JE49,0)","v":0},{"$f":"+IF(ISNUMBER('System Results'!JH49),'System Results'!JH49,0)","v":0},{"$f":"+IF(ISNUMBER('System Results'!JK49),'System Results'!JK49,0)","v":0},{"$f":"+IF(ISNUMBER('System Results'!JN49),'System Results'!JN49,0)","v":0},{"$f":"+IF(ISNUMBER('System Results'!JQ49),'System Results'!JQ49,0)","v":0},{"$f":"+IF(ISNUMBER('System Results'!JT49),'System Results'!JT49,0)","v":0},{"$f":"+IF(ISNUMBER('System Results'!JW49),'System Results'!JW49,0)","v":0},{"$f":"+IF(ISNUMBER('System Results'!JZ49),'System Results'!JZ49,0)","v":0},{"$f":"+IF(ISNUMBER('System Results'!KC49),'System Results'!KC49,0)","v":0},{"$f":"+IF(ISNUMBER('System Results'!KF49),'System Results'!KF49,0)","v":0},{"$f":"+IF(ISNUMBER('System Results'!KI49),'System Results'!KI49,0)","v":0},{"$f":"+IF(ISNUMBER('System Results'!KL49),'System Results'!KL49,0)","v":0},{"$f":"+IF(ISNUMBER('System Results'!KO49),'System Results'!KO49,0)","v":0},{"$f":"+IF(ISNUMBER('System Results'!KR49),'System Results'!KR49,0)","v":0},{"$f":"+IF(ISNUMBER('System Results'!KU49),'System Results'!KU49,0)","v":0},{"$f":"+IF(ISNUMBER('System Results'!KX49),'System Results'!KX49,0)","v":0},{"$f":"+IF(ISNUMBER('System Results'!LA49),'System Results'!LA49,0)","v":0},{"$f":"+IF(ISNUMBER('System Results'!LD49),'System Results'!LD49,0)","v":0},{"$f":"+IF(ISNUMBER('System Results'!LG49),'System Results'!LG49,0)","v":0},{"$f":"+IF(ISNUMBER('System Results'!LJ49),'System Results'!LJ49,0)","v":0},{"$f":"+IF(ISNUMBER('System Results'!LM49),'System Results'!LM49,0)","v":0},{"$f":"+IF(ISNUMBER('System Results'!LP49),'System Results'!LP49,0)","v":0},{"$f":"+IF(ISNUMBER('System Results'!LS49),'System Results'!LS49,0)","v":0},{"$f":"+IF(ISNUMBER('System Results'!LV49),'System Results'!LV49,0)","v":0},{"$f":"+IF(ISNUMBER('System Results'!LY49),'System Results'!LY49,0)","v":0},{"$f":"+IF(ISNUMBER('System Results'!MB49),'System Results'!MB49,0)","v":0},{"$f":"+IF(ISNUMBER('System Results'!ME49),'System Results'!ME49,0)","v":0},{"$f":"+IF(ISNUMBER('System Results'!MH49),'System Results'!MH49,0)","v":0},{"$f":"+IF(ISNUMBER('System Results'!MK49),'System Results'!MK49,0)","v":0},{"$f":"+IF(ISNUMBER('System Results'!MN49),'System Results'!MN49,0)","v":0},{"$f":"+IF(ISNUMBER('System Results'!MQ49),'System Results'!MQ49,0)","v":0},{"$f":"+IF(ISNUMBER('System Results'!MT49),'System Results'!MT49,0)","v":0},{"$f":"+IF(ISNUMBER('System Results'!MW49),'System Results'!MW49,0)","v":0},{"$f":"+IF(ISNUMBER('System Results'!MZ49),'System Results'!MZ49,0)","v":0},{"$f":"+IF(ISNUMBER('System Results'!NC49),'System Results'!NC49,0)","v":0},{"$f":"+IF(ISNUMBER('System Results'!NF49),'System Results'!NF49,0)","v":0},{"$f":"+IF(ISNUMBER('System Results'!NI49),'System Results'!NI49,0)","v":0},{"$f":"+IF(ISNUMBER('System Results'!NL49),'System Results'!NL49,0)","v":0},{"$f":"+IF(ISNUMBER('System Results'!NO49),'System Results'!NO49,0)","v":0},{"$f":"+IF(ISNUMBER('System Results'!NR49),'System Results'!NR49,0)","v":0},{"$f":"+IF(ISNUMBER('System Results'!NU49),'System Results'!NU49,0)","v":0},{"$f":"+IF(ISNUMBER('System Results'!NX49),'System Results'!NX49,0)","v":0},{"$f":"+IF(ISNUMBER('System Results'!OA49),'System Results'!OA49,0)","v":0},{"$f":"+IF(ISNUMBER('System Results'!OD49),'System Results'!OD49,0)","v":0},{"$f":"+IF(ISNUMBER('System Results'!OG49),'System Results'!OG49,0)","v":0},{"$f":"+IF(ISNUMBER('System Results'!OJ49),'System Results'!OJ49,0)","v":0},{"$f":"+IF(ISNUMBER('System Results'!OM49),'System Results'!OM49,0)","v":0},{"$f":"+IF(ISNUMBER('System Results'!OP49),'System Results'!OP49,0)","v":0},{"$f":"+IF(ISNUMBER('System Results'!OS49),'System Results'!OS49,0)","v":0},{"$f":"+IF(ISNUMBER('System Results'!OV49),'System Results'!OV49,0)","v":0},{"$f":"+IF(ISNUMBER('System Results'!OY49),'System Results'!OY49,0)","v":0},{"$f":"+IF(ISNUMBER('System Results'!PB49),'System Results'!PB49,0)","v":0},{"$f":"+IF(ISNUMBER('System Results'!PE49),'System Results'!PE49,0)","v":0},{"$f":"+IF(ISNUMBER('System Results'!PH49),'System Results'!PH49,0)","v":0},{"$f":"+IF(ISNUMBER('System Results'!PK49),'System Results'!PK49,0)","v":0},{"$f":"+IF(ISNUMBER('System Results'!PN49),'System Results'!PN49,0)","v":0},{"$f":"+IF(ISNUMBER('System Results'!PQ49),'System Results'!PQ49,0)","v":0},{"$f":"+IF(ISNUMBER('System Results'!PT49),'System Results'!PT49,0)","v":0},{"$f":"+IF(ISNUMBER('System Results'!PW49),'System Results'!PW49,0)","v":0},{"$f":"+IF(ISNUMBER('System Results'!PZ49),'System Results'!PZ49,0)","v":0},{"$f":"+IF(ISNUMBER('System Results'!QC49),'System Results'!QC49,0)","v":0},{"$f":"+IF(ISNUMBER('System Results'!QF49),'System Results'!QF49,0)","v":0},{"$f":"+IF(ISNUMBER('System Results'!QI49),'System Results'!QI49,0)","v":0},{"$f":"+IF(ISNUMBER('System Results'!QL49),'System Results'!QL49,0)","v":0},{"$f":"+IF(ISNUMBER('System Results'!QO49),'System Results'!QO49,0)","v":0},{"$f":"+IF(ISNUMBER('System Results'!QR49),'System Results'!QR49,0)","v":0},{"$f":"+IF(ISNUMBER('System Results'!QU49),'System Results'!QU49,0)","v":0},{"$f":"+IF(ISNUMBER('System Results'!QX49),'System Results'!QX49,0)","v":0},{"$f":"+IF(ISNUMBER('System Results'!RA49),'System Results'!RA49,0)","v":0},{"$f":"+IF(ISNUMBER('System Results'!RD49),'System Results'!RD49,0)","v":0},{"$f":"+IF(ISNUMBER('System Results'!RG49),'System Results'!RG49,0)","v":0},{"$f":"+IF(ISNUMBER('System Results'!RJ49),'System Results'!RJ49,0)","v":0},{"$f":"+IF(ISNUMBER('System Results'!RM49),'System Results'!RM49,0)","v":0},{"$f":"+IF(ISNUMBER('System Results'!RP49),'System Results'!RP49,0)","v":0},{"$f":"+IF(ISNUMBER('System Results'!RS49),'System Results'!RS49,0)","v":0},{"$f":"+IF(ISNUMBER('System Results'!RV49),'System Results'!RV49,0)","v":0},{"$f":"+IF(ISNUMBER('System Results'!RY49),'System Results'!RY49,0)","v":0},{"$f":"+IF(ISNUMBER('System Results'!SB49),'System Results'!SB49,0)","v":0},{"$f":"+IF(ISNUMBER('System Results'!SE49),'System Results'!SE49,0)","v":0},{"$f":"+IF(ISNUMBER('System Results'!SH49),'System Results'!SH49,0)","v":0},{"$f":"+IF(ISNUMBER('System Results'!SK49),'System Results'!SK49,0)","v":0},{"$f":"+IF(ISNUMBER('System Results'!SN49),'System Results'!SN49,0)","v":0},{"$f":"+IF(ISNUMBER('System Results'!SQ49),'System Results'!SQ49,0)","v":0},{"$f":"+IF(ISNUMBER('System Results'!ST49),'System Results'!ST49,0)","v":0},{"$f":"+IF(ISNUMBER('System Results'!SW49),'System Results'!SW49,0)","v":0},{"$f":"+IF(ISNUMBER('System Results'!SZ49),'System Results'!SZ49,0)","v":0},{"$f":"+IF(ISNUMBER('System Results'!TC49),'System Results'!TC49,0)","v":0},{"$f":"+IF(ISNUMBER('System Results'!TF49),'System Results'!TF49,0)","v":0},{"$f":"+IF(ISNUMBER('System Results'!TI49),'System Results'!TI49,0)","v":0},{"$f":"+IF(ISNUMBER('System Results'!TL49),'System Results'!TL49,0)","v":0},{"$f":"+IF(ISNUMBER('System Results'!TO49),'System Results'!TO49,0)","v":0},{"$f":"+IF(ISNUMBER('System Results'!TR49),'System Results'!TR49,0)","v":0},{"$f":"+IF(ISNUMBER('System Results'!TU49),'System Results'!TU49,0)","v":0},{"$f":"+IF(ISNUMBER('System Results'!TX49),'System Results'!TX49,0)","v":0},{"$f":"+IF(ISNUMBER('System Results'!UA49),'System Results'!UA49,0)","v":0},{"$f":"+IF(ISNUMBER('System Results'!UD49),'System Results'!UD49,0)","v":0},{"$f":"+IF(ISNUMBER('System Results'!UG49),'System Results'!UG49,0)","v":0},{"$f":"+IF(ISNUMBER('System Results'!UJ49),'System Results'!UJ49,0)","v":0},{"$f":"+IF(ISNUMBER('System Results'!UM49),'System Results'!UM49,0)","v":0},{"$f":"+IF(ISNUMBER('System Results'!UP49),'System Results'!UP49,0)","v":0},{"$f":"+IF(ISNUMBER('System Results'!US49),'System Results'!US49,0)","v":0},{"$f":"+IF(ISNUMBER('System Results'!UV49),'System Results'!UV49,0)","v":0},{"$f":"+IF(ISNUMBER('System Results'!UY49),'System Results'!UY49,0)","v":0},{"$f":"+IF(ISNUMBER('System Results'!VB49),'System Results'!VB49,0)","v":0},{"$f":"+IF(ISNUMBER('System Results'!VE49),'System Results'!VE49,0)","v":0},{"$f":"+IF(ISNUMBER('System Results'!VH49),'System Results'!VH49,0)","v":0},{"$f":"+IF(ISNUMBER('System Results'!VK49),'System Results'!VK49,0)","v":0},{"$f":"+IF(ISNUMBER('System Results'!VN49),'System Results'!VN49,0)","v":0},{"$f":"+IF(ISNUMBER('System Results'!VQ49),'System Results'!VQ49,0)","v":0},{"$f":"+IF(ISNUMBER('System Results'!VT49),'System Results'!VT49,0)","v":0},{"$f":"+IF(ISNUMBER('System Results'!VW49),'System Results'!VW49,0)","v":0},{"$f":"+IF(ISNUMBER('System Results'!VZ49),'System Results'!VZ49,0)","v":0},{"$f":"+IF(ISNUMBER('System Results'!WC49),'System Results'!WC49,0)","v":0},{"$f":"+IF(ISNUMBER('System Results'!WF49),'System Results'!WF49,0)","v":0},{"$f":"+IF(ISNUMBER('System Results'!WI49),'System Results'!WI49,0)","v":0},{"$f":"+IF(ISNUMBER('System Results'!WL49),'System Results'!WL49,0)","v":0},{"$f":"+IF(ISNUMBER('System Results'!WO49),'System Results'!WO49,0)","v":0},{"$f":"+IF(ISNUMBER('System Results'!WR49),'System Results'!WR49,0)","v":0},{"$f":"+IF(ISNUMBER('System Results'!WU49),'System Results'!WU49,0)","v":0},{"$f":"+IF(ISNUMBER('System Results'!WX49),'System Results'!WX49,0)","v":0},{"$f":"+IF(ISNUMBER('System Results'!XA49),'System Results'!XA49,0)","v":0},{"$f":"+IF(ISNUMBER('System Results'!XD49),'System Results'!XD49,0)","v":0},{"$f":"+IF(ISNUMBER('System Results'!XG49),'System Results'!XG49,0)","v":0},{"$f":"+IF(ISNUMBER('System Results'!XJ49),'System Results'!XJ49,0)","v":0},{"$f":"+IF(ISNUMBER('System Results'!XM49),'System Results'!XM49,0)","v":0},{"$f":"+IF(ISNUMBER('System Results'!XP49),'System Results'!XP49,0)","v":0},{"$f":"+IF(ISNUMBER('System Results'!XS49),'System Results'!XS49,0)","v":0},{"$f":"+IF(ISNUMBER('System Results'!XV49),'System Results'!XV49,0)","v":0},{"$f":"+IF(ISNUMBER('System Results'!XY49),'System Results'!XY49,0)","v":0},{"$f":"+IF(ISNUMBER('System Results'!YB49),'System Results'!YB49,0)","v":0},{"$f":"+IF(ISNUMBER('System Results'!YE49),'System Results'!YE49,0)","v":0},{"$f":"+IF(ISNUMBER('System Results'!YH49),'System Results'!YH49,0)","v":0},{"$f":"+IF(ISNUMBER('System Results'!YK49),'System Results'!YK49,0)","v":0},{"$f":"+IF(ISNUMBER('System Results'!YN49),'System Results'!YN49,0)","v":0},{"$f":"+IF(ISNUMBER('System Results'!YQ49),'System Results'!YQ49,0)","v":0},{"$f":"+IF(ISNUMBER('System Results'!YT49),'System Results'!YT49,0)","v":0},{"$f":"+IF(ISNUMBER('System Results'!YW49),'System Results'!YW49,0)","v":0},{"$f":"+IF(ISNUMBER('System Results'!YZ49),'System Results'!YZ49,0)","v":0},{"$f":"+IF(ISNUMBER('System Results'!ZC49),'System Results'!ZC49,0)","v":0},{"$f":"+IF(ISNUMBER('System Results'!ZF49),'System Results'!ZF49,0)","v":0},{"$f":"+IF(ISNUMBER('System Results'!ZI49),'System Results'!ZI49,0)","v":0},{"$f":"+IF(ISNUMBER('System Results'!ZL49),'System Results'!ZL49,0)","v":0},{"$f":"+IF(ISNUMBER('System Results'!ZO49),'System Results'!ZO49,0)","v":0},{"$f":"+IF(ISNUMBER('System Results'!ZR49),'System Results'!ZR49,0)","v":0},{"$f":"+IF(ISNUMBER('System Results'!ZU49),'System Results'!ZU49,0)","v":0},{"$f":"+IF(ISNUMBER('System Results'!ZX49),'System Results'!ZX49,0)","v":0},{"$f":"+IF(ISNUMBER('System Results'!AAA49),'System Results'!AAA49,0)","v":0},{"$f":"+IF(ISNUMBER('System Results'!AAD49),'System Results'!AAD49,0)","v":0},{"$f":"+IF(ISNUMBER('System Results'!AAG49),'System Results'!AAG49,0)","v":0},{"$f":"+IF(ISNUMBER('System Results'!AAJ49),'System Results'!AAJ49,0)","v":0},{"$f":"+IF(ISNUMBER('System Results'!AAM49),'System Results'!AAM49,0)","v":0},{"$f":"+IF(ISNUMBER('System Results'!AAP49),'System Results'!AAP49,0)","v":0},{"$f":"+IF(ISNUMBER('System Results'!AAS49),'System Results'!AAS49,0)","v":0},{"$f":"+IF(ISNUMBER('System Results'!AAV49),'System Results'!AAV49,0)","v":0},{"$f":"+IF(ISNUMBER('System Results'!AAY49),'System Results'!AAY49,0)","v":0},{"$f":"+IF(ISNUMBER('System Results'!ABB49),'System Results'!ABB49,0)","v":0},{"$f":"+IF(ISNUMBER('System Results'!ABE49),'System Results'!ABE49,0)","v":0},{"$f":"+IF(ISNUMBER('System Results'!ABH49),'System Results'!ABH49,0)","v":0},{"$f":"+IF(ISNUMBER('System Results'!ABK49),'System Results'!ABK49,0)","v":0},{"$f":"+IF(ISNUMBER('System Results'!ABN49),'System Results'!ABN49,0)","v":0},{"$f":"+IF(ISNUMBER('System Results'!ABQ49),'System Results'!ABQ49,0)","v":0},{"$f":"+IF(ISNUMBER('System Results'!ABT49),'System Results'!ABT49,0)","v":0},{"$f":"+IF(ISNUMBER('System Results'!ABW49),'System Results'!ABW49,0)","v":0},{"$f":"+IF(ISNUMBER('System Results'!ABZ49),'System Results'!ABZ49,0)","v":0},{"$f":"+IF(ISNUMBER('System Results'!ACC49),'System Results'!ACC49,0)","v":0},{"$f":"+IF(ISNUMBER('System Results'!ACF49),'System Results'!ACF49,0)","v":0},{"$f":"+IF(ISNUMBER('System Results'!ACI49),'System Results'!ACI49,0)","v":0},{"$f":"+IF(ISNUMBER('System Results'!ACL49),'System Results'!ACL49,0)","v":0},{"$f":"+IF(ISNUMBER('System Results'!ACO49),'System Results'!ACO49,0)","v":0},{"$f":"+IF(ISNUMBER('System Results'!ACR49),'System Results'!ACR49,0)","v":0},{"$f":"+IF(ISNUMBER('System Results'!ACU49),'System Results'!ACU49,0)","v":0},{"$f":"+IF(ISNUMBER('System Results'!ACX49),'System Results'!ACX49,0)","v":0},{"$f":"+IF(ISNUMBER('System Results'!ADA49),'System Results'!ADA49,0)","v":0},{"$f":"+IF(ISNUMBER('System Results'!ADD49),'System Results'!ADD49,0)","v":0},{"$f":"+IF(ISNUMBER('System Results'!ADG49),'System Results'!ADG49,0)","v":0},{"$f":"+IF(ISNUMBER('System Results'!ADJ49),'System Results'!ADJ49,0)","v":0},{"$f":"+IF(ISNUMBER('System Results'!ADM49),'System Results'!ADM49,0)","v":0},{"$f":"+IF(ISNUMBER('System Results'!ADP49),'System Results'!ADP49,0)","v":0},{"$f":"+IF(ISNUMBER('System Results'!ADS49),'System Results'!ADS49,0)","v":0},{"$f":"+IF(ISNUMBER('System Results'!ADV49),'System Results'!ADV49,0)","v":0},{"$f":"+IF(ISNUMBER('System Results'!ADY49),'System Results'!ADY49,0)","v":0},{"$f":"+IF(ISNUMBER('System Results'!AEB49),'System Results'!AEB49,0)","v":0},{"$f":"+IF(ISNUMBER('System Results'!AEE49),'System Results'!AEE49,0)","v":0},{"$f":"+IF(ISNUMBER('System Results'!AEH49),'System Results'!AEH49,0)","v":0},{"$f":"+IF(ISNUMBER('System Results'!AEK49),'System Results'!AEK49,0)","v":0},{"$f":"+IF(ISNUMBER('System Results'!AEN49),'System Results'!AEN49,0)","v":0},{"$f":"+IF(ISNUMBER('System Results'!AEQ49),'System Results'!AEQ49,0)","v":0},{"$f":"+IF(ISNUMBER('System Results'!AET49),'System Results'!AET49,0)","v":0},{"$f":"+IF(ISNUMBER('System Results'!AEW49),'System Results'!AEW49,0)","v":0},{"$f":"+IF(ISNUMBER('System Results'!AEZ49),'System Results'!AEZ49,0)","v":0},{"$f":"+IF(ISNUMBER('System Results'!AFC49),'System Results'!AFC49,0)","v":0},{"$f":"+IF(ISNUMBER('System Results'!AFF49),'System Results'!AFF49,0)","v":0},{"$f":"+IF(ISNUMBER('System Results'!AFI49),'System Results'!AFI49,0)","v":0},{"$f":"+IF(ISNUMBER('System Results'!AFL49),'System Results'!AFL49,0)","v":0},{"$f":"+IF(ISNUMBER('System Results'!AFO49),'System Results'!AFO49,0)","v":0},{"$f":"+IF(ISNUMBER('System Results'!AFR49),'System Results'!AFR49,0)","v":0},{"$f":"+IF(ISNUMBER('System Results'!AFU49),'System Results'!AFU49,0)","v":0},{"$f":"+IF(ISNUMBER('System Results'!AFX49),'System Results'!AFX49,0)","v":0},{"$f":"+IF(ISNUMBER('System Results'!AGA49),'System Results'!AGA49,0)","v":0},{"$f":"+IF(ISNUMBER('System Results'!AGD49),'System Results'!AGD49,0)","v":0},{"$f":"+IF(ISNUMBER('System Results'!AGG49),'System Results'!AGG49,0)","v":0},{"$f":"+IF(ISNUMBER('System Results'!AGJ49),'System Results'!AGJ49,0)","v":0},{"$f":"+IF(ISNUMBER('System Results'!AGM49),'System Results'!AGM49,0)","v":0},{"$f":"+IF(ISNUMBER('System Results'!AGP49),'System Results'!AGP49,0)","v":0},{"$f":"+IF(ISNUMBER('System Results'!AGS49),'System Results'!AGS49,0)","v":0},{"$f":"+IF(ISNUMBER('System Results'!AGV49),'System Results'!AGV49,0)","v":0},{"$f":"+IF(ISNUMBER('System Results'!AGY49),'System Results'!AGY49,0)","v":0},{"$f":"+IF(ISNUMBER('System Results'!AHB49),'System Results'!AHB49,0)","v":0},{"$f":"+IF(ISNUMBER('System Results'!AHE49),'System Results'!AHE49,0)","v":0},{"$f":"+IF(ISNUMBER('System Results'!AHH49),'System Results'!AHH49,0)","v":0},{"$f":"+IF(ISNUMBER('System Results'!AHK49),'System Results'!AHK49,0)","v":0},{"$f":"+IF(ISNUMBER('System Results'!AHN49),'System Results'!AHN49,0)","v":0},{"$f":"+IF(ISNUMBER('System Results'!AHQ49),'System Results'!AHQ49,0)","v":0},{"$f":"+IF(ISNUMBER('System Results'!AHT49),'System Results'!AHT49,0)","v":0}]
[{"$f":"+'System Results'!B50","v":"Franchises- Not Used"},0,{"$f":"+IF(ISNUMBER('System Results'!G50),'System Results'!G50,0)","v":0},{"$f":"+IF(ISNUMBER('System Results'!J50),'System Results'!J50,0)","v":0},{"$f":"+IF(ISNUMBER('System Results'!M50),'System Results'!M50,0)","v":0},{"$f":"+IF(ISNUMBER('System Results'!P50),'System Results'!P50,0)","v":0},{"$f":"+IF(ISNUMBER('System Results'!S50),'System Results'!S50,0)","v":0},{"$f":"+IF(ISNUMBER('System Results'!V50),'System Results'!V50,0)","v":0},{"$f":"+IF(ISNUMBER('System Results'!Y50),'System Results'!Y50,0)","v":0},{"$f":"+IF(ISNUMBER('System Results'!AB50),'System Results'!AB50,0)","v":0},{"$f":"+IF(ISNUMBER('System Results'!AE50),'System Results'!AE50,0)","v":0},{"$f":"+IF(ISNUMBER('System Results'!AH50),'System Results'!AH50,0)","v":0},{"$f":"+IF(ISNUMBER('System Results'!AK50),'System Results'!AK50,0)","v":0},{"$f":"+IF(ISNUMBER('System Results'!AN50),'System Results'!AN50,0)","v":0},{"$f":"+IF(ISNUMBER('System Results'!AQ50),'System Results'!AQ50,0)","v":0},{"$f":"+IF(ISNUMBER('System Results'!AT50),'System Results'!AT50,0)","v":0},{"$f":"+IF(ISNUMBER('System Results'!AW50),'System Results'!AW50,0)","v":0},{"$f":"+IF(ISNUMBER('System Results'!AZ50),'System Results'!AZ50,0)","v":0},{"$f":"+IF(ISNUMBER('System Results'!BC50),'System Results'!BC50,0)","v":0},{"$f":"+IF(ISNUMBER('System Results'!BF50),'System Results'!BF50,0)","v":0},{"$f":"+IF(ISNUMBER('System Results'!BI50),'System Results'!BI50,0)","v":0},{"$f":"+IF(ISNUMBER('System Results'!BL50),'System Results'!BL50,0)","v":0},{"$f":"+IF(ISNUMBER('System Results'!BO50),'System Results'!BO50,0)","v":0},{"$f":"+IF(ISNUMBER('System Results'!BR50),'System Results'!BR50,0)","v":0},{"$f":"+IF(ISNUMBER('System Results'!BU50),'System Results'!BU50,0)","v":0},{"$f":"+IF(ISNUMBER('System Results'!BX50),'System Results'!BX50,0)","v":0},{"$f":"+IF(ISNUMBER('System Results'!CA50),'System Results'!CA50,0)","v":0},{"$f":"+IF(ISNUMBER('System Results'!CD50),'System Results'!CD50,0)","v":0},{"$f":"+IF(ISNUMBER('System Results'!CG50),'System Results'!CG50,0)","v":0},{"$f":"+IF(ISNUMBER('System Results'!CJ50),'System Results'!CJ50,0)","v":0},{"$f":"+IF(ISNUMBER('System Results'!CM50),'System Results'!CM50,0)","v":0},{"$f":"+IF(ISNUMBER('System Results'!CP50),'System Results'!CP50,0)","v":0},{"$f":"+IF(ISNUMBER('System Results'!CS50),'System Results'!CS50,0)","v":0},{"$f":"+IF(ISNUMBER('System Results'!CV50),'System Results'!CV50,0)","v":0},{"$f":"+IF(ISNUMBER('System Results'!CY50),'System Results'!CY50,0)","v":0},{"$f":"+IF(ISNUMBER('System Results'!DB50),'System Results'!DB50,0)","v":0},{"$f":"+IF(ISNUMBER('System Results'!DE50),'System Results'!DE50,0)","v":0},{"$f":"+IF(ISNUMBER('System Results'!DH50),'System Results'!DH50,0)","v":0},{"$f":"+IF(ISNUMBER('System Results'!DK50),'System Results'!DK50,0)","v":0},{"$f":"+IF(ISNUMBER('System Results'!DN50),'System Results'!DN50,0)","v":0},{"$f":"+IF(ISNUMBER('System Results'!DQ50),'System Results'!DQ50,0)","v":0},{"$f":"+IF(ISNUMBER('System Results'!DT50),'System Results'!DT50,0)","v":0},{"$f":"+IF(ISNUMBER('System Results'!DW50),'System Results'!DW50,0)","v":0},{"$f":"+IF(ISNUMBER('System Results'!DZ50),'System Results'!DZ50,0)","v":0},{"$f":"+IF(ISNUMBER('System Results'!EC50),'System Results'!EC50,0)","v":0},{"$f":"+IF(ISNUMBER('System Results'!EF50),'System Results'!EF50,0)","v":0},{"$f":"+IF(ISNUMBER('System Results'!EI50),'System Results'!EI50,0)","v":0},{"$f":"+IF(ISNUMBER('System Results'!EL50),'System Results'!EL50,0)","v":0},{"$f":"+IF(ISNUMBER('System Results'!EO50),'System Results'!EO50,0)","v":0},{"$f":"+IF(ISNUMBER('System Results'!ER50),'System Results'!ER50,0)","v":0},{"$f":"+IF(ISNUMBER('System Results'!EU50),'System Results'!EU50,0)","v":0},{"$f":"+IF(ISNUMBER('System Results'!EX50),'System Results'!EX50,0)","v":0},{"$f":"+IF(ISNUMBER('System Results'!FA50),'System Results'!FA50,0)","v":0},{"$f":"+IF(ISNUMBER('System Results'!FD50),'System Results'!FD50,0)","v":0},{"$f":"+IF(ISNUMBER('System Results'!FG50),'System Results'!FG50,0)","v":0},{"$f":"+IF(ISNUMBER('System Results'!FJ50),'System Results'!FJ50,0)","v":0},{"$f":"+IF(ISNUMBER('System Results'!FM50),'System Results'!FM50,0)","v":0},{"$f":"+IF(ISNUMBER('System Results'!FP50),'System Results'!FP50,0)","v":0},{"$f":"+IF(ISNUMBER('System Results'!FS50),'System Results'!FS50,0)","v":0},{"$f":"+IF(ISNUMBER('System Results'!FV50),'System Results'!FV50,0)","v":0},{"$f":"+IF(ISNUMBER('System Results'!FY50),'System Results'!FY50,0)","v":0},{"$f":"+IF(ISNUMBER('System Results'!GB50),'System Results'!GB50,0)","v":0},{"$f":"+IF(ISNUMBER('System Results'!GE50),'System Results'!GE50,0)","v":0},{"$f":"+IF(ISNUMBER('System Results'!GH50),'System Results'!GH50,0)","v":0},{"$f":"+IF(ISNUMBER('System Results'!GK50),'System Results'!GK50,0)","v":0},{"$f":"+IF(ISNUMBER('System Results'!GN50),'System Results'!GN50,0)","v":0},{"$f":"+IF(ISNUMBER('System Results'!GQ50),'System Results'!GQ50,0)","v":0},{"$f":"+IF(ISNUMBER('System Results'!GT50),'System Results'!GT50,0)","v":0},{"$f":"+IF(ISNUMBER('System Results'!GW50),'System Results'!GW50,0)","v":0},{"$f":"+IF(ISNUMBER('System Results'!GZ50),'System Results'!GZ50,0)","v":0},{"$f":"+IF(ISNUMBER('System Results'!HC50),'System Results'!HC50,0)","v":0},{"$f":"+IF(ISNUMBER('System Results'!HF50),'System Results'!HF50,0)","v":0},{"$f":"+IF(ISNUMBER('System Results'!HI50),'System Results'!HI50,0)","v":0},{"$f":"+IF(ISNUMBER('System Results'!HL50),'System Results'!HL50,0)","v":0},{"$f":"+IF(ISNUMBER('System Results'!HO50),'System Results'!HO50,0)","v":0},{"$f":"+IF(ISNUMBER('System Results'!HR50),'System Results'!HR50,0)","v":0},{"$f":"+IF(ISNUMBER('System Results'!HU50),'System Results'!HU50,0)","v":0},{"$f":"+IF(ISNUMBER('System Results'!HX50),'System Results'!HX50,0)","v":0},{"$f":"+IF(ISNUMBER('System Results'!IA50),'System Results'!IA50,0)","v":0},{"$f":"+IF(ISNUMBER('System Results'!ID50),'System Results'!ID50,0)","v":0},{"$f":"+IF(ISNUMBER('System Results'!IG50),'System Results'!IG50,0)","v":0},{"$f":"+IF(ISNUMBER('System Results'!IJ50),'System Results'!IJ50,0)","v":0},{"$f":"+IF(ISNUMBER('System Results'!IM50),'System Results'!IM50,0)","v":0},{"$f":"+IF(ISNUMBER('System Results'!IP50),'System Results'!IP50,0)","v":0},{"$f":"+IF(ISNUMBER('System Results'!IS50),'System Results'!IS50,0)","v":0},{"$f":"+IF(ISNUMBER('System Results'!IV50),'System Results'!IV50,0)","v":0},{"$f":"+IF(ISNUMBER('System Results'!IY50),'System Results'!IY50,0)","v":0},{"$f":"+IF(ISNUMBER('System Results'!JB50),'System Results'!JB50,0)","v":0},{"$f":"+IF(ISNUMBER('System Results'!JE50),'System Results'!JE50,0)","v":0},{"$f":"+IF(ISNUMBER('System Results'!JH50),'System Results'!JH50,0)","v":0},{"$f":"+IF(ISNUMBER('System Results'!JK50),'System Results'!JK50,0)","v":0},{"$f":"+IF(ISNUMBER('System Results'!JN50),'System Results'!JN50,0)","v":0},{"$f":"+IF(ISNUMBER('System Results'!JQ50),'System Results'!JQ50,0)","v":0},{"$f":"+IF(ISNUMBER('System Results'!JT50),'System Results'!JT50,0)","v":0},{"$f":"+IF(ISNUMBER('System Results'!JW50),'System Results'!JW50,0)","v":0},{"$f":"+IF(ISNUMBER('System Results'!JZ50),'System Results'!JZ50,0)","v":0},{"$f":"+IF(ISNUMBER('System Results'!KC50),'System Results'!KC50,0)","v":0},{"$f":"+IF(ISNUMBER('System Results'!KF50),'System Results'!KF50,0)","v":0},{"$f":"+IF(ISNUMBER('System Results'!KI50),'System Results'!KI50,0)","v":0},{"$f":"+IF(ISNUMBER('System Results'!KL50),'System Results'!KL50,0)","v":0},{"$f":"+IF(ISNUMBER('System Results'!KO50),'System Results'!KO50,0)","v":0},{"$f":"+IF(ISNUMBER('System Results'!KR50),'System Results'!KR50,0)","v":0},{"$f":"+IF(ISNUMBER('System Results'!KU50),'System Results'!KU50,0)","v":0},{"$f":"+IF(ISNUMBER('System Results'!KX50),'System Results'!KX50,0)","v":0},{"$f":"+IF(ISNUMBER('System Results'!LA50),'System Results'!LA50,0)","v":0},{"$f":"+IF(ISNUMBER('System Results'!LD50),'System Results'!LD50,0)","v":0},{"$f":"+IF(ISNUMBER('System Results'!LG50),'System Results'!LG50,0)","v":0},{"$f":"+IF(ISNUMBER('System Results'!LJ50),'System Results'!LJ50,0)","v":0},{"$f":"+IF(ISNUMBER('System Results'!LM50),'System Results'!LM50,0)","v":0},{"$f":"+IF(ISNUMBER('System Results'!LP50),'System Results'!LP50,0)","v":0},{"$f":"+IF(ISNUMBER('System Results'!LS50),'System Results'!LS50,0)","v":0},{"$f":"+IF(ISNUMBER('System Results'!LV50),'System Results'!LV50,0)","v":0},{"$f":"+IF(ISNUMBER('System Results'!LY50),'System Results'!LY50,0)","v":0},{"$f":"+IF(ISNUMBER('System Results'!MB50),'System Results'!MB50,0)","v":0},{"$f":"+IF(ISNUMBER('System Results'!ME50),'System Results'!ME50,0)","v":0},{"$f":"+IF(ISNUMBER('System Results'!MH50),'System Results'!MH50,0)","v":0},{"$f":"+IF(ISNUMBER('System Results'!MK50),'System Results'!MK50,0)","v":0},{"$f":"+IF(ISNUMBER('System Results'!MN50),'System Results'!MN50,0)","v":0},{"$f":"+IF(ISNUMBER('System Results'!MQ50),'System Results'!MQ50,0)","v":0},{"$f":"+IF(ISNUMBER('System Results'!MT50),'System Results'!MT50,0)","v":0},{"$f":"+IF(ISNUMBER('System Results'!MW50),'System Results'!MW50,0)","v":0},{"$f":"+IF(ISNUMBER('System Results'!MZ50),'System Results'!MZ50,0)","v":0},{"$f":"+IF(ISNUMBER('System Results'!NC50),'System Results'!NC50,0)","v":0},{"$f":"+IF(ISNUMBER('System Results'!NF50),'System Results'!NF50,0)","v":0},{"$f":"+IF(ISNUMBER('System Results'!NI50),'System Results'!NI50,0)","v":0},{"$f":"+IF(ISNUMBER('System Results'!NL50),'System Results'!NL50,0)","v":0},{"$f":"+IF(ISNUMBER('System Results'!NO50),'System Results'!NO50,0)","v":0},{"$f":"+IF(ISNUMBER('System Results'!NR50),'System Results'!NR50,0)","v":0},{"$f":"+IF(ISNUMBER('System Results'!NU50),'System Results'!NU50,0)","v":0},{"$f":"+IF(ISNUMBER('System Results'!NX50),'System Results'!NX50,0)","v":0},{"$f":"+IF(ISNUMBER('System Results'!OA50),'System Results'!OA50,0)","v":0},{"$f":"+IF(ISNUMBER('System Results'!OD50),'System Results'!OD50,0)","v":0},{"$f":"+IF(ISNUMBER('System Results'!OG50),'System Results'!OG50,0)","v":0},{"$f":"+IF(ISNUMBER('System Results'!OJ50),'System Results'!OJ50,0)","v":0},{"$f":"+IF(ISNUMBER('System Results'!OM50),'System Results'!OM50,0)","v":0},{"$f":"+IF(ISNUMBER('System Results'!OP50),'System Results'!OP50,0)","v":0},{"$f":"+IF(ISNUMBER('System Results'!OS50),'System Results'!OS50,0)","v":0},{"$f":"+IF(ISNUMBER('System Results'!OV50),'System Results'!OV50,0)","v":0},{"$f":"+IF(ISNUMBER('System Results'!OY50),'System Results'!OY50,0)","v":0},{"$f":"+IF(ISNUMBER('System Results'!PB50),'System Results'!PB50,0)","v":0},{"$f":"+IF(ISNUMBER('System Results'!PE50),'System Results'!PE50,0)","v":0},{"$f":"+IF(ISNUMBER('System Results'!PH50),'System Results'!PH50,0)","v":0},{"$f":"+IF(ISNUMBER('System Results'!PK50),'System Results'!PK50,0)","v":0},{"$f":"+IF(ISNUMBER('System Results'!PN50),'System Results'!PN50,0)","v":0},{"$f":"+IF(ISNUMBER('System Results'!PQ50),'System Results'!PQ50,0)","v":0},{"$f":"+IF(ISNUMBER('System Results'!PT50),'System Results'!PT50,0)","v":0},{"$f":"+IF(ISNUMBER('System Results'!PW50),'System Results'!PW50,0)","v":0},{"$f":"+IF(ISNUMBER('System Results'!PZ50),'System Results'!PZ50,0)","v":0},{"$f":"+IF(ISNUMBER('System Results'!QC50),'System Results'!QC50,0)","v":0},{"$f":"+IF(ISNUMBER('System Results'!QF50),'System Results'!QF50,0)","v":0},{"$f":"+IF(ISNUMBER('System Results'!QI50),'System Results'!QI50,0)","v":0},{"$f":"+IF(ISNUMBER('System Results'!QL50),'System Results'!QL50,0)","v":0},{"$f":"+IF(ISNUMBER('System Results'!QO50),'System Results'!QO50,0)","v":0},{"$f":"+IF(ISNUMBER('System Results'!QR50),'System Results'!QR50,0)","v":0},{"$f":"+IF(ISNUMBER('System Results'!QU50),'System Results'!QU50,0)","v":0},{"$f":"+IF(ISNUMBER('System Results'!QX50),'System Results'!QX50,0)","v":0},{"$f":"+IF(ISNUMBER('System Results'!RA50),'System Results'!RA50,0)","v":0},{"$f":"+IF(ISNUMBER('System Results'!RD50),'System Results'!RD50,0)","v":0},{"$f":"+IF(ISNUMBER('System Results'!RG50),'System Results'!RG50,0)","v":0},{"$f":"+IF(ISNUMBER('System Results'!RJ50),'System Results'!RJ50,0)","v":0},{"$f":"+IF(ISNUMBER('System Results'!RM50),'System Results'!RM50,0)","v":0},{"$f":"+IF(ISNUMBER('System Results'!RP50),'System Results'!RP50,0)","v":0},{"$f":"+IF(ISNUMBER('System Results'!RS50),'System Results'!RS50,0)","v":0},{"$f":"+IF(ISNUMBER('System Results'!RV50),'System Results'!RV50,0)","v":0},{"$f":"+IF(ISNUMBER('System Results'!RY50),'System Results'!RY50,0)","v":0},{"$f":"+IF(ISNUMBER('System Results'!SB50),'System Results'!SB50,0)","v":0},{"$f":"+IF(ISNUMBER('System Results'!SE50),'System Results'!SE50,0)","v":0},{"$f":"+IF(ISNUMBER('System Results'!SH50),'System Results'!SH50,0)","v":0},{"$f":"+IF(ISNUMBER('System Results'!SK50),'System Results'!SK50,0)","v":0},{"$f":"+IF(ISNUMBER('System Results'!SN50),'System Results'!SN50,0)","v":0},{"$f":"+IF(ISNUMBER('System Results'!SQ50),'System Results'!SQ50,0)","v":0},{"$f":"+IF(ISNUMBER('System Results'!ST50),'System Results'!ST50,0)","v":0},{"$f":"+IF(ISNUMBER('System Results'!SW50),'System Results'!SW50,0)","v":0},{"$f":"+IF(ISNUMBER('System Results'!SZ50),'System Results'!SZ50,0)","v":0},{"$f":"+IF(ISNUMBER('System Results'!TC50),'System Results'!TC50,0)","v":0},{"$f":"+IF(ISNUMBER('System Results'!TF50),'System Results'!TF50,0)","v":0},{"$f":"+IF(ISNUMBER('System Results'!TI50),'System Results'!TI50,0)","v":0},{"$f":"+IF(ISNUMBER('System Results'!TL50),'System Results'!TL50,0)","v":0},{"$f":"+IF(ISNUMBER('System Results'!TO50),'System Results'!TO50,0)","v":0},{"$f":"+IF(ISNUMBER('System Results'!TR50),'System Results'!TR50,0)","v":0},{"$f":"+IF(ISNUMBER('System Results'!TU50),'System Results'!TU50,0)","v":0},{"$f":"+IF(ISNUMBER('System Results'!TX50),'System Results'!TX50,0)","v":0},{"$f":"+IF(ISNUMBER('System Results'!UA50),'System Results'!UA50,0)","v":0},{"$f":"+IF(ISNUMBER('System Results'!UD50),'System Results'!UD50,0)","v":0},{"$f":"+IF(ISNUMBER('System Results'!UG50),'System Results'!UG50,0)","v":0},{"$f":"+IF(ISNUMBER('System Results'!UJ50),'System Results'!UJ50,0)","v":0},{"$f":"+IF(ISNUMBER('System Results'!UM50),'System Results'!UM50,0)","v":0},{"$f":"+IF(ISNUMBER('System Results'!UP50),'System Results'!UP50,0)","v":0},{"$f":"+IF(ISNUMBER('System Results'!US50),'System Results'!US50,0)","v":0},{"$f":"+IF(ISNUMBER('System Results'!UV50),'System Results'!UV50,0)","v":0},{"$f":"+IF(ISNUMBER('System Results'!UY50),'System Results'!UY50,0)","v":0},{"$f":"+IF(ISNUMBER('System Results'!VB50),'System Results'!VB50,0)","v":0},{"$f":"+IF(ISNUMBER('System Results'!VE50),'System Results'!VE50,0)","v":0},{"$f":"+IF(ISNUMBER('System Results'!VH50),'System Results'!VH50,0)","v":0},{"$f":"+IF(ISNUMBER('System Results'!VK50),'System Results'!VK50,0)","v":0},{"$f":"+IF(ISNUMBER('System Results'!VN50),'System Results'!VN50,0)","v":0},{"$f":"+IF(ISNUMBER('System Results'!VQ50),'System Results'!VQ50,0)","v":0},{"$f":"+IF(ISNUMBER('System Results'!VT50),'System Results'!VT50,0)","v":0},{"$f":"+IF(ISNUMBER('System Results'!VW50),'System Results'!VW50,0)","v":0},{"$f":"+IF(ISNUMBER('System Results'!VZ50),'System Results'!VZ50,0)","v":0},{"$f":"+IF(ISNUMBER('System Results'!WC50),'System Results'!WC50,0)","v":0},{"$f":"+IF(ISNUMBER('System Results'!WF50),'System Results'!WF50,0)","v":0},{"$f":"+IF(ISNUMBER('System Results'!WI50),'System Results'!WI50,0)","v":0},{"$f":"+IF(ISNUMBER('System Results'!WL50),'System Results'!WL50,0)","v":0},{"$f":"+IF(ISNUMBER('System Results'!WO50),'System Results'!WO50,0)","v":0},{"$f":"+IF(ISNUMBER('System Results'!WR50),'System Results'!WR50,0)","v":0},{"$f":"+IF(ISNUMBER('System Results'!WU50),'System Results'!WU50,0)","v":0},{"$f":"+IF(ISNUMBER('System Results'!WX50),'System Results'!WX50,0)","v":0},{"$f":"+IF(ISNUMBER('System Results'!XA50),'System Results'!XA50,0)","v":0},{"$f":"+IF(ISNUMBER('System Results'!XD50),'System Results'!XD50,0)","v":0},{"$f":"+IF(ISNUMBER('System Results'!XG50),'System Results'!XG50,0)","v":0},{"$f":"+IF(ISNUMBER('System Results'!XJ50),'System Results'!XJ50,0)","v":0},{"$f":"+IF(ISNUMBER('System Results'!XM50),'System Results'!XM50,0)","v":0},{"$f":"+IF(ISNUMBER('System Results'!XP50),'System Results'!XP50,0)","v":0},{"$f":"+IF(ISNUMBER('System Results'!XS50),'System Results'!XS50,0)","v":0},{"$f":"+IF(ISNUMBER('System Results'!XV50),'System Results'!XV50,0)","v":0},{"$f":"+IF(ISNUMBER('System Results'!XY50),'System Results'!XY50,0)","v":0},{"$f":"+IF(ISNUMBER('System Results'!YB50),'System Results'!YB50,0)","v":0},{"$f":"+IF(ISNUMBER('System Results'!YE50),'System Results'!YE50,0)","v":0},{"$f":"+IF(ISNUMBER('System Results'!YH50),'System Results'!YH50,0)","v":0},{"$f":"+IF(ISNUMBER('System Results'!YK50),'System Results'!YK50,0)","v":0},{"$f":"+IF(ISNUMBER('System Results'!YN50),'System Results'!YN50,0)","v":0},{"$f":"+IF(ISNUMBER('System Results'!YQ50),'System Results'!YQ50,0)","v":0},{"$f":"+IF(ISNUMBER('System Results'!YT50),'System Results'!YT50,0)","v":0},{"$f":"+IF(ISNUMBER('System Results'!YW50),'System Results'!YW50,0)","v":0},{"$f":"+IF(ISNUMBER('System Results'!YZ50),'System Results'!YZ50,0)","v":0},{"$f":"+IF(ISNUMBER('System Results'!ZC50),'System Results'!ZC50,0)","v":0},{"$f":"+IF(ISNUMBER('System Results'!ZF50),'System Results'!ZF50,0)","v":0},{"$f":"+IF(ISNUMBER('System Results'!ZI50),'System Results'!ZI50,0)","v":0},{"$f":"+IF(ISNUMBER('System Results'!ZL50),'System Results'!ZL50,0)","v":0},{"$f":"+IF(ISNUMBER('System Results'!ZO50),'System Results'!ZO50,0)","v":0},{"$f":"+IF(ISNUMBER('System Results'!ZR50),'System Results'!ZR50,0)","v":0},{"$f":"+IF(ISNUMBER('System Results'!ZU50),'System Results'!ZU50,0)","v":0},{"$f":"+IF(ISNUMBER('System Results'!ZX50),'System Results'!ZX50,0)","v":0},{"$f":"+IF(ISNUMBER('System Results'!AAA50),'System Results'!AAA50,0)","v":0},{"$f":"+IF(ISNUMBER('System Results'!AAD50),'System Results'!AAD50,0)","v":0},{"$f":"+IF(ISNUMBER('System Results'!AAG50),'System Results'!AAG50,0)","v":0},{"$f":"+IF(ISNUMBER('System Results'!AAJ50),'System Results'!AAJ50,0)","v":0},{"$f":"+IF(ISNUMBER('System Results'!AAM50),'System Results'!AAM50,0)","v":0},{"$f":"+IF(ISNUMBER('System Results'!AAP50),'System Results'!AAP50,0)","v":0},{"$f":"+IF(ISNUMBER('System Results'!AAS50),'System Results'!AAS50,0)","v":0},{"$f":"+IF(ISNUMBER('System Results'!AAV50),'System Results'!AAV50,0)","v":0},{"$f":"+IF(ISNUMBER('System Results'!AAY50),'System Results'!AAY50,0)","v":0},{"$f":"+IF(ISNUMBER('System Results'!ABB50),'System Results'!ABB50,0)","v":0},{"$f":"+IF(ISNUMBER('System Results'!ABE50),'System Results'!ABE50,0)","v":0},{"$f":"+IF(ISNUMBER('System Results'!ABH50),'System Results'!ABH50,0)","v":0},{"$f":"+IF(ISNUMBER('System Results'!ABK50),'System Results'!ABK50,0)","v":0},{"$f":"+IF(ISNUMBER('System Results'!ABN50),'System Results'!ABN50,0)","v":0},{"$f":"+IF(ISNUMBER('System Results'!ABQ50),'System Results'!ABQ50,0)","v":0},{"$f":"+IF(ISNUMBER('System Results'!ABT50),'System Results'!ABT50,0)","v":0},{"$f":"+IF(ISNUMBER('System Results'!ABW50),'System Results'!ABW50,0)","v":0},{"$f":"+IF(ISNUMBER('System Results'!ABZ50),'System Results'!ABZ50,0)","v":0},{"$f":"+IF(ISNUMBER('System Results'!ACC50),'System Results'!ACC50,0)","v":0},{"$f":"+IF(ISNUMBER('System Results'!ACF50),'System Results'!ACF50,0)","v":0},{"$f":"+IF(ISNUMBER('System Results'!ACI50),'System Results'!ACI50,0)","v":0},{"$f":"+IF(ISNUMBER('System Results'!ACL50),'System Results'!ACL50,0)","v":0},{"$f":"+IF(ISNUMBER('System Results'!ACO50),'System Results'!ACO50,0)","v":0},{"$f":"+IF(ISNUMBER('System Results'!ACR50),'System Results'!ACR50,0)","v":0},{"$f":"+IF(ISNUMBER('System Results'!ACU50),'System Results'!ACU50,0)","v":0},{"$f":"+IF(ISNUMBER('System Results'!ACX50),'System Results'!ACX50,0)","v":0},{"$f":"+IF(ISNUMBER('System Results'!ADA50),'System Results'!ADA50,0)","v":0},{"$f":"+IF(ISNUMBER('System Results'!ADD50),'System Results'!ADD50,0)","v":0},{"$f":"+IF(ISNUMBER('System Results'!ADG50),'System Results'!ADG50,0)","v":0},{"$f":"+IF(ISNUMBER('System Results'!ADJ50),'System Results'!ADJ50,0)","v":0},{"$f":"+IF(ISNUMBER('System Results'!ADM50),'System Results'!ADM50,0)","v":0},{"$f":"+IF(ISNUMBER('System Results'!ADP50),'System Results'!ADP50,0)","v":0},{"$f":"+IF(ISNUMBER('System Results'!ADS50),'System Results'!ADS50,0)","v":0},{"$f":"+IF(ISNUMBER('System Results'!ADV50),'System Results'!ADV50,0)","v":0},{"$f":"+IF(ISNUMBER('System Results'!ADY50),'System Results'!ADY50,0)","v":0},{"$f":"+IF(ISNUMBER('System Results'!AEB50),'System Results'!AEB50,0)","v":0},{"$f":"+IF(ISNUMBER('System Results'!AEE50),'System Results'!AEE50,0)","v":0},{"$f":"+IF(ISNUMBER('System Results'!AEH50),'System Results'!AEH50,0)","v":0},{"$f":"+IF(ISNUMBER('System Results'!AEK50),'System Results'!AEK50,0)","v":0},{"$f":"+IF(ISNUMBER('System Results'!AEN50),'System Results'!AEN50,0)","v":0},{"$f":"+IF(ISNUMBER('System Results'!AEQ50),'System Results'!AEQ50,0)","v":0},{"$f":"+IF(ISNUMBER('System Results'!AET50),'System Results'!AET50,0)","v":0},{"$f":"+IF(ISNUMBER('System Results'!AEW50),'System Results'!AEW50,0)","v":0},{"$f":"+IF(ISNUMBER('System Results'!AEZ50),'System Results'!AEZ50,0)","v":0},{"$f":"+IF(ISNUMBER('System Results'!AFC50),'System Results'!AFC50,0)","v":0},{"$f":"+IF(ISNUMBER('System Results'!AFF50),'System Results'!AFF50,0)","v":0},{"$f":"+IF(ISNUMBER('System Results'!AFI50),'System Results'!AFI50,0)","v":0},{"$f":"+IF(ISNUMBER('System Results'!AFL50),'System Results'!AFL50,0)","v":0},{"$f":"+IF(ISNUMBER('System Results'!AFO50),'System Results'!AFO50,0)","v":0},{"$f":"+IF(ISNUMBER('System Results'!AFR50),'System Results'!AFR50,0)","v":0},{"$f":"+IF(ISNUMBER('System Results'!AFU50),'System Results'!AFU50,0)","v":0},{"$f":"+IF(ISNUMBER('System Results'!AFX50),'System Results'!AFX50,0)","v":0},{"$f":"+IF(ISNUMBER('System Results'!AGA50),'System Results'!AGA50,0)","v":0},{"$f":"+IF(ISNUMBER('System Results'!AGD50),'System Results'!AGD50,0)","v":0},{"$f":"+IF(ISNUMBER('System Results'!AGG50),'System Results'!AGG50,0)","v":0},{"$f":"+IF(ISNUMBER('System Results'!AGJ50),'System Results'!AGJ50,0)","v":0},{"$f":"+IF(ISNUMBER('System Results'!AGM50),'System Results'!AGM50,0)","v":0},{"$f":"+IF(ISNUMBER('System Results'!AGP50),'System Results'!AGP50,0)","v":0},{"$f":"+IF(ISNUMBER('System Results'!AGS50),'System Results'!AGS50,0)","v":0},{"$f":"+IF(ISNUMBER('System Results'!AGV50),'System Results'!AGV50,0)","v":0},{"$f":"+IF(ISNUMBER('System Results'!AGY50),'System Results'!AGY50,0)","v":0},{"$f":"+IF(ISNUMBER('System Results'!AHB50),'System Results'!AHB50,0)","v":0},{"$f":"+IF(ISNUMBER('System Results'!AHE50),'System Results'!AHE50,0)","v":0},{"$f":"+IF(ISNUMBER('System Results'!AHH50),'System Results'!AHH50,0)","v":0},{"$f":"+IF(ISNUMBER('System Results'!AHK50),'System Results'!AHK50,0)","v":0},{"$f":"+IF(ISNUMBER('System Results'!AHN50),'System Results'!AHN50,0)","v":0},{"$f":"+IF(ISNUMBER('System Results'!AHQ50),'System Results'!AHQ50,0)","v":0},{"$f":"+IF(ISNUMBER('System Results'!AHT50),'System Results'!AHT50,0)","v":0}]
[{"$f":"+'System Results'!B51","v":"Investments"},0,{"$f":"+IF(ISNUMBER('System Results'!G51),'System Results'!G51,0)","v":0},{"$f":"+IF(ISNUMBER('System Results'!J51),'System Results'!J51,0)","v":0},{"$f":"+IF(ISNUMBER('System Results'!M51),'System Results'!M51,0)","v":0},{"$f":"+IF(ISNUMBER('System Results'!P51),'System Results'!P51,0)","v":0},{"$f":"+IF(ISNUMBER('System Results'!S51),'System Results'!S51,0)","v":0},{"$f":"+IF(ISNUMBER('System Results'!V51),'System Results'!V51,0)","v":0},{"$f":"+IF(ISNUMBER('System Results'!Y51),'System Results'!Y51,0)","v":0},{"$f":"+IF(ISNUMBER('System Results'!AB51),'System Results'!AB51,0)","v":0},{"$f":"+IF(ISNUMBER('System Results'!AE51),'System Results'!AE51,0)","v":0},{"$f":"+IF(ISNUMBER('System Results'!AH51),'System Results'!AH51,0)","v":0},{"$f":"+IF(ISNUMBER('System Results'!AK51),'System Results'!AK51,0)","v":0},{"$f":"+IF(ISNUMBER('System Results'!AN51),'System Results'!AN51,0)","v":0},{"$f":"+IF(ISNUMBER('System Results'!AQ51),'System Results'!AQ51,0)","v":0},{"$f":"+IF(ISNUMBER('System Results'!AT51),'System Results'!AT51,0)","v":0},{"$f":"+IF(ISNUMBER('System Results'!AW51),'System Results'!AW51,0)","v":0},{"$f":"+IF(ISNUMBER('System Results'!AZ51),'System Results'!AZ51,0)","v":0},{"$f":"+IF(ISNUMBER('System Results'!BC51),'System Results'!BC51,0)","v":0},{"$f":"+IF(ISNUMBER('System Results'!BF51),'System Results'!BF51,0)","v":0},{"$f":"+IF(ISNUMBER('System Results'!BI51),'System Results'!BI51,0)","v":0},{"$f":"+IF(ISNUMBER('System Results'!BL51),'System Results'!BL51,0)","v":0},{"$f":"+IF(ISNUMBER('System Results'!BO51),'System Results'!BO51,0)","v":0},{"$f":"+IF(ISNUMBER('System Results'!BR51),'System Results'!BR51,0)","v":0},{"$f":"+IF(ISNUMBER('System Results'!BU51),'System Results'!BU51,0)","v":0},{"$f":"+IF(ISNUMBER('System Results'!BX51),'System Results'!BX51,0)","v":0},{"$f":"+IF(ISNUMBER('System Results'!CA51),'System Results'!CA51,0)","v":0},{"$f":"+IF(ISNUMBER('System Results'!CD51),'System Results'!CD51,0)","v":0},{"$f":"+IF(ISNUMBER('System Results'!CG51),'System Results'!CG51,0)","v":0},{"$f":"+IF(ISNUMBER('System Results'!CJ51),'System Results'!CJ51,0)","v":0},{"$f":"+IF(ISNUMBER('System Results'!CM51),'System Results'!CM51,0)","v":0},{"$f":"+IF(ISNUMBER('System Results'!CP51),'System Results'!CP51,0)","v":0},{"$f":"+IF(ISNUMBER('System Results'!CS51),'System Results'!CS51,0)","v":0},{"$f":"+IF(ISNUMBER('System Results'!CV51),'System Results'!CV51,0)","v":0},{"$f":"+IF(ISNUMBER('System Results'!CY51),'System Results'!CY51,0)","v":0},{"$f":"+IF(ISNUMBER('System Results'!DB51),'System Results'!DB51,0)","v":0},{"$f":"+IF(ISNUMBER('System Results'!DE51),'System Results'!DE51,0)","v":0},{"$f":"+IF(ISNUMBER('System Results'!DH51),'System Results'!DH51,0)","v":0},{"$f":"+IF(ISNUMBER('System Results'!DK51),'System Results'!DK51,0)","v":0},{"$f":"+IF(ISNUMBER('System Results'!DN51),'System Results'!DN51,0)","v":0},{"$f":"+IF(ISNUMBER('System Results'!DQ51),'System Results'!DQ51,0)","v":0},{"$f":"+IF(ISNUMBER('System Results'!DT51),'System Results'!DT51,0)","v":0},{"$f":"+IF(ISNUMBER('System Results'!DW51),'System Results'!DW51,0)","v":0},{"$f":"+IF(ISNUMBER('System Results'!DZ51),'System Results'!DZ51,0)","v":0},{"$f":"+IF(ISNUMBER('System Results'!EC51),'System Results'!EC51,0)","v":0},{"$f":"+IF(ISNUMBER('System Results'!EF51),'System Results'!EF51,0)","v":0},{"$f":"+IF(ISNUMBER('System Results'!EI51),'System Results'!EI51,0)","v":0},{"$f":"+IF(ISNUMBER('System Results'!EL51),'System Results'!EL51,0)","v":0},{"$f":"+IF(ISNUMBER('System Results'!EO51),'System Results'!EO51,0)","v":0},{"$f":"+IF(ISNUMBER('System Results'!ER51),'System Results'!ER51,0)","v":0},{"$f":"+IF(ISNUMBER('System Results'!EU51),'System Results'!EU51,0)","v":0},{"$f":"+IF(ISNUMBER('System Results'!EX51),'System Results'!EX51,0)","v":0},{"$f":"+IF(ISNUMBER('System Results'!FA51),'System Results'!FA51,0)","v":0},{"$f":"+IF(ISNUMBER('System Results'!FD51),'System Results'!FD51,0)","v":0},{"$f":"+IF(ISNUMBER('System Results'!FG51),'System Results'!FG51,0)","v":0},{"$f":"+IF(ISNUMBER('System Results'!FJ51),'System Results'!FJ51,0)","v":0},{"$f":"+IF(ISNUMBER('System Results'!FM51),'System Results'!FM51,0)","v":0},{"$f":"+IF(ISNUMBER('System Results'!FP51),'System Results'!FP51,0)","v":0},{"$f":"+IF(ISNUMBER('System Results'!FS51),'System Results'!FS51,0)","v":0},{"$f":"+IF(ISNUMBER('System Results'!FV51),'System Results'!FV51,0)","v":0},{"$f":"+IF(ISNUMBER('System Results'!FY51),'System Results'!FY51,0)","v":0},{"$f":"+IF(ISNUMBER('System Results'!GB51),'System Results'!GB51,0)","v":0},{"$f":"+IF(ISNUMBER('System Results'!GE51),'System Results'!GE51,0)","v":0},{"$f":"+IF(ISNUMBER('System Results'!GH51),'System Results'!GH51,0)","v":0},{"$f":"+IF(ISNUMBER('System Results'!GK51),'System Results'!GK51,0)","v":0},{"$f":"+IF(ISNUMBER('System Results'!GN51),'System Results'!GN51,0)","v":0},{"$f":"+IF(ISNUMBER('System Results'!GQ51),'System Results'!GQ51,0)","v":0},{"$f":"+IF(ISNUMBER('System Results'!GT51),'System Results'!GT51,0)","v":0},{"$f":"+IF(ISNUMBER('System Results'!GW51),'System Results'!GW51,0)","v":0},{"$f":"+IF(ISNUMBER('System Results'!GZ51),'System Results'!GZ51,0)","v":0},{"$f":"+IF(ISNUMBER('System Results'!HC51),'System Results'!HC51,0)","v":0},{"$f":"+IF(ISNUMBER('System Results'!HF51),'System Results'!HF51,0)","v":0},{"$f":"+IF(ISNUMBER('System Results'!HI51),'System Results'!HI51,0)","v":0},{"$f":"+IF(ISNUMBER('System Results'!HL51),'System Results'!HL51,0)","v":0},{"$f":"+IF(ISNUMBER('System Results'!HO51),'System Results'!HO51,0)","v":0},{"$f":"+IF(ISNUMBER('System Results'!HR51),'System Results'!HR51,0)","v":0},{"$f":"+IF(ISNUMBER('System Results'!HU51),'System Results'!HU51,0)","v":0},{"$f":"+IF(ISNUMBER('System Results'!HX51),'System Results'!HX51,0)","v":0},{"$f":"+IF(ISNUMBER('System Results'!IA51),'System Results'!IA51,0)","v":0},{"$f":"+IF(ISNUMBER('System Results'!ID51),'System Results'!ID51,0)","v":0},{"$f":"+IF(ISNUMBER('System Results'!IG51),'System Results'!IG51,0)","v":0},{"$f":"+IF(ISNUMBER('System Results'!IJ51),'System Results'!IJ51,0)","v":0},{"$f":"+IF(ISNUMBER('System Results'!IM51),'System Results'!IM51,0)","v":0},{"$f":"+IF(ISNUMBER('System Results'!IP51),'System Results'!IP51,0)","v":0},{"$f":"+IF(ISNUMBER('System Results'!IS51),'System Results'!IS51,0)","v":0},{"$f":"+IF(ISNUMBER('System Results'!IV51),'System Results'!IV51,0)","v":0},{"$f":"+IF(ISNUMBER('System Results'!IY51),'System Results'!IY51,0)","v":0},{"$f":"+IF(ISNUMBER('System Results'!JB51),'System Results'!JB51,0)","v":0},{"$f":"+IF(ISNUMBER('System Results'!JE51),'System Results'!JE51,0)","v":0},{"$f":"+IF(ISNUMBER('System Results'!JH51),'System Results'!JH51,0)","v":0},{"$f":"+IF(ISNUMBER('System Results'!JK51),'System Results'!JK51,0)","v":0},{"$f":"+IF(ISNUMBER('System Results'!JN51),'System Results'!JN51,0)","v":0},{"$f":"+IF(ISNUMBER('System Results'!JQ51),'System Results'!JQ51,0)","v":0},{"$f":"+IF(ISNUMBER('System Results'!JT51),'System Results'!JT51,0)","v":0},{"$f":"+IF(ISNUMBER('System Results'!JW51),'System Results'!JW51,0)","v":0},{"$f":"+IF(ISNUMBER('System Results'!JZ51),'System Results'!JZ51,0)","v":0},{"$f":"+IF(ISNUMBER('System Results'!KC51),'System Results'!KC51,0)","v":0},{"$f":"+IF(ISNUMBER('System Results'!KF51),'System Results'!KF51,0)","v":0},{"$f":"+IF(ISNUMBER('System Results'!KI51),'System Results'!KI51,0)","v":0},{"$f":"+IF(ISNUMBER('System Results'!KL51),'System Results'!KL51,0)","v":0},{"$f":"+IF(ISNUMBER('System Results'!KO51),'System Results'!KO51,0)","v":0},{"$f":"+IF(ISNUMBER('System Results'!KR51),'System Results'!KR51,0)","v":0},{"$f":"+IF(ISNUMBER('System Results'!KU51),'System Results'!KU51,0)","v":0},{"$f":"+IF(ISNUMBER('System Results'!KX51),'System Results'!KX51,0)","v":0},{"$f":"+IF(ISNUMBER('System Results'!LA51),'System Results'!LA51,0)","v":0},{"$f":"+IF(ISNUMBER('System Results'!LD51),'System Results'!LD51,0)","v":0},{"$f":"+IF(ISNUMBER('System Results'!LG51),'System Results'!LG51,0)","v":0},{"$f":"+IF(ISNUMBER('System Results'!LJ51),'System Results'!LJ51,0)","v":0},{"$f":"+IF(ISNUMBER('System Results'!LM51),'System Results'!LM51,0)","v":0},{"$f":"+IF(ISNUMBER('System Results'!LP51),'System Results'!LP51,0)","v":0},{"$f":"+IF(ISNUMBER('System Results'!LS51),'System Results'!LS51,0)","v":0},{"$f":"+IF(ISNUMBER('System Results'!LV51),'System Results'!LV51,0)","v":0},{"$f":"+IF(ISNUMBER('System Results'!LY51),'System Results'!LY51,0)","v":0},{"$f":"+IF(ISNUMBER('System Results'!MB51),'System Results'!MB51,0)","v":0},{"$f":"+IF(ISNUMBER('System Results'!ME51),'System Results'!ME51,0)","v":0},{"$f":"+IF(ISNUMBER('System Results'!MH51),'System Results'!MH51,0)","v":0},{"$f":"+IF(ISNUMBER('System Results'!MK51),'System Results'!MK51,0)","v":0},{"$f":"+IF(ISNUMBER('System Results'!MN51),'System Results'!MN51,0)","v":0},{"$f":"+IF(ISNUMBER('System Results'!MQ51),'System Results'!MQ51,0)","v":0},{"$f":"+IF(ISNUMBER('System Results'!MT51),'System Results'!MT51,0)","v":0},{"$f":"+IF(ISNUMBER('System Results'!MW51),'System Results'!MW51,0)","v":0},{"$f":"+IF(ISNUMBER('System Results'!MZ51),'System Results'!MZ51,0)","v":0},{"$f":"+IF(ISNUMBER('System Results'!NC51),'System Results'!NC51,0)","v":0},{"$f":"+IF(ISNUMBER('System Results'!NF51),'System Results'!NF51,0)","v":0},{"$f":"+IF(ISNUMBER('System Results'!NI51),'System Results'!NI51,0)","v":0},{"$f":"+IF(ISNUMBER('System Results'!NL51),'System Results'!NL51,0)","v":0},{"$f":"+IF(ISNUMBER('System Results'!NO51),'System Results'!NO51,0)","v":0},{"$f":"+IF(ISNUMBER('System Results'!NR51),'System Results'!NR51,0)","v":0},{"$f":"+IF(ISNUMBER('System Results'!NU51),'System Results'!NU51,0)","v":0},{"$f":"+IF(ISNUMBER('System Results'!NX51),'System Results'!NX51,0)","v":0},{"$f":"+IF(ISNUMBER('System Results'!OA51),'System Results'!OA51,0)","v":0},{"$f":"+IF(ISNUMBER('System Results'!OD51),'System Results'!OD51,0)","v":0},{"$f":"+IF(ISNUMBER('System Results'!OG51),'System Results'!OG51,0)","v":0},{"$f":"+IF(ISNUMBER('System Results'!OJ51),'System Results'!OJ51,0)","v":0},{"$f":"+IF(ISNUMBER('System Results'!OM51),'System Results'!OM51,0)","v":0},{"$f":"+IF(ISNUMBER('System Results'!OP51),'System Results'!OP51,0)","v":0},{"$f":"+IF(ISNUMBER('System Results'!OS51),'System Results'!OS51,0)","v":0},{"$f":"+IF(ISNUMBER('System Results'!OV51),'System Results'!OV51,0)","v":0},{"$f":"+IF(ISNUMBER('System Results'!OY51),'System Results'!OY51,0)","v":0},{"$f":"+IF(ISNUMBER('System Results'!PB51),'System Results'!PB51,0)","v":0},{"$f":"+IF(ISNUMBER('System Results'!PE51),'System Results'!PE51,0)","v":0},{"$f":"+IF(ISNUMBER('System Results'!PH51),'System Results'!PH51,0)","v":0},{"$f":"+IF(ISNUMBER('System Results'!PK51),'System Results'!PK51,0)","v":0},{"$f":"+IF(ISNUMBER('System Results'!PN51),'System Results'!PN51,0)","v":0},{"$f":"+IF(ISNUMBER('System Results'!PQ51),'System Results'!PQ51,0)","v":0},{"$f":"+IF(ISNUMBER('System Results'!PT51),'System Results'!PT51,0)","v":0},{"$f":"+IF(ISNUMBER('System Results'!PW51),'System Results'!PW51,0)","v":0},{"$f":"+IF(ISNUMBER('System Results'!PZ51),'System Results'!PZ51,0)","v":0},{"$f":"+IF(ISNUMBER('System Results'!QC51),'System Results'!QC51,0)","v":0},{"$f":"+IF(ISNUMBER('System Results'!QF51),'System Results'!QF51,0)","v":0},{"$f":"+IF(ISNUMBER('System Results'!QI51),'System Results'!QI51,0)","v":0},{"$f":"+IF(ISNUMBER('System Results'!QL51),'System Results'!QL51,0)","v":0},{"$f":"+IF(ISNUMBER('System Results'!QO51),'System Results'!QO51,0)","v":0},{"$f":"+IF(ISNUMBER('System Results'!QR51),'System Results'!QR51,0)","v":0},{"$f":"+IF(ISNUMBER('System Results'!QU51),'System Results'!QU51,0)","v":0},{"$f":"+IF(ISNUMBER('System Results'!QX51),'System Results'!QX51,0)","v":0},{"$f":"+IF(ISNUMBER('System Results'!RA51),'System Results'!RA51,0)","v":0},{"$f":"+IF(ISNUMBER('System Results'!RD51),'System Results'!RD51,0)","v":0},{"$f":"+IF(ISNUMBER('System Results'!RG51),'System Results'!RG51,0)","v":0},{"$f":"+IF(ISNUMBER('System Results'!RJ51),'System Results'!RJ51,0)","v":0},{"$f":"+IF(ISNUMBER('System Results'!RM51),'System Results'!RM51,0)","v":0},{"$f":"+IF(ISNUMBER('System Results'!RP51),'System Results'!RP51,0)","v":0},{"$f":"+IF(ISNUMBER('System Results'!RS51),'System Results'!RS51,0)","v":0},{"$f":"+IF(ISNUMBER('System Results'!RV51),'System Results'!RV51,0)","v":0},{"$f":"+IF(ISNUMBER('System Results'!RY51),'System Results'!RY51,0)","v":0},{"$f":"+IF(ISNUMBER('System Results'!SB51),'System Results'!SB51,0)","v":0},{"$f":"+IF(ISNUMBER('System Results'!SE51),'System Results'!SE51,0)","v":0},{"$f":"+IF(ISNUMBER('System Results'!SH51),'System Results'!SH51,0)","v":0},{"$f":"+IF(ISNUMBER('System Results'!SK51),'System Results'!SK51,0)","v":0},{"$f":"+IF(ISNUMBER('System Results'!SN51),'System Results'!SN51,0)","v":0},{"$f":"+IF(ISNUMBER('System Results'!SQ51),'System Results'!SQ51,0)","v":0},{"$f":"+IF(ISNUMBER('System Results'!ST51),'System Results'!ST51,0)","v":0},{"$f":"+IF(ISNUMBER('System Results'!SW51),'System Results'!SW51,0)","v":0},{"$f":"+IF(ISNUMBER('System Results'!SZ51),'System Results'!SZ51,0)","v":0},{"$f":"+IF(ISNUMBER('System Results'!TC51),'System Results'!TC51,0)","v":0},{"$f":"+IF(ISNUMBER('System Results'!TF51),'System Results'!TF51,0)","v":0},{"$f":"+IF(ISNUMBER('System Results'!TI51),'System Results'!TI51,0)","v":0},{"$f":"+IF(ISNUMBER('System Results'!TL51),'System Results'!TL51,0)","v":0},{"$f":"+IF(ISNUMBER('System Results'!TO51),'System Results'!TO51,0)","v":0},{"$f":"+IF(ISNUMBER('System Results'!TR51),'System Results'!TR51,0)","v":0},{"$f":"+IF(ISNUMBER('System Results'!TU51),'System Results'!TU51,0)","v":0},{"$f":"+IF(ISNUMBER('System Results'!TX51),'System Results'!TX51,0)","v":0},{"$f":"+IF(ISNUMBER('System Results'!UA51),'System Results'!UA51,0)","v":0},{"$f":"+IF(ISNUMBER('System Results'!UD51),'System Results'!UD51,0)","v":0},{"$f":"+IF(ISNUMBER('System Results'!UG51),'System Results'!UG51,0)","v":0},{"$f":"+IF(ISNUMBER('System Results'!UJ51),'System Results'!UJ51,0)","v":0},{"$f":"+IF(ISNUMBER('System Results'!UM51),'System Results'!UM51,0)","v":0},{"$f":"+IF(ISNUMBER('System Results'!UP51),'System Results'!UP51,0)","v":0},{"$f":"+IF(ISNUMBER('System Results'!US51),'System Results'!US51,0)","v":0},{"$f":"+IF(ISNUMBER('System Results'!UV51),'System Results'!UV51,0)","v":0},{"$f":"+IF(ISNUMBER('System Results'!UY51),'System Results'!UY51,0)","v":0},{"$f":"+IF(ISNUMBER('System Results'!VB51),'System Results'!VB51,0)","v":0},{"$f":"+IF(ISNUMBER('System Results'!VE51),'System Results'!VE51,0)","v":0},{"$f":"+IF(ISNUMBER('System Results'!VH51),'System Results'!VH51,0)","v":0},{"$f":"+IF(ISNUMBER('System Results'!VK51),'System Results'!VK51,0)","v":0},{"$f":"+IF(ISNUMBER('System Results'!VN51),'System Results'!VN51,0)","v":0},{"$f":"+IF(ISNUMBER('System Results'!VQ51),'System Results'!VQ51,0)","v":0},{"$f":"+IF(ISNUMBER('System Results'!VT51),'System Results'!VT51,0)","v":0},{"$f":"+IF(ISNUMBER('System Results'!VW51),'System Results'!VW51,0)","v":0},{"$f":"+IF(ISNUMBER('System Results'!VZ51),'System Results'!VZ51,0)","v":0},{"$f":"+IF(ISNUMBER('System Results'!WC51),'System Results'!WC51,0)","v":0},{"$f":"+IF(ISNUMBER('System Results'!WF51),'System Results'!WF51,0)","v":0},{"$f":"+IF(ISNUMBER('System Results'!WI51),'System Results'!WI51,0)","v":0},{"$f":"+IF(ISNUMBER('System Results'!WL51),'System Results'!WL51,0)","v":0},{"$f":"+IF(ISNUMBER('System Results'!WO51),'System Results'!WO51,0)","v":0},{"$f":"+IF(ISNUMBER('System Results'!WR51),'System Results'!WR51,0)","v":0},{"$f":"+IF(ISNUMBER('System Results'!WU51),'System Results'!WU51,0)","v":0},{"$f":"+IF(ISNUMBER('System Results'!WX51),'System Results'!WX51,0)","v":0},{"$f":"+IF(ISNUMBER('System Results'!XA51),'System Results'!XA51,0)","v":0},{"$f":"+IF(ISNUMBER('System Results'!XD51),'System Results'!XD51,0)","v":0},{"$f":"+IF(ISNUMBER('System Results'!XG51),'System Results'!XG51,0)","v":0},{"$f":"+IF(ISNUMBER('System Results'!XJ51),'System Results'!XJ51,0)","v":0},{"$f":"+IF(ISNUMBER('System Results'!XM51),'System Results'!XM51,0)","v":0},{"$f":"+IF(ISNUMBER('System Results'!XP51),'System Results'!XP51,0)","v":0},{"$f":"+IF(ISNUMBER('System Results'!XS51),'System Results'!XS51,0)","v":0},{"$f":"+IF(ISNUMBER('System Results'!XV51),'System Results'!XV51,0)","v":0},{"$f":"+IF(ISNUMBER('System Results'!XY51),'System Results'!XY51,0)","v":0},{"$f":"+IF(ISNUMBER('System Results'!YB51),'System Results'!YB51,0)","v":0},{"$f":"+IF(ISNUMBER('System Results'!YE51),'System Results'!YE51,0)","v":0},{"$f":"+IF(ISNUMBER('System Results'!YH51),'System Results'!YH51,0)","v":0},{"$f":"+IF(ISNUMBER('System Results'!YK51),'System Results'!YK51,0)","v":0},{"$f":"+IF(ISNUMBER('System Results'!YN51),'System Results'!YN51,0)","v":0},{"$f":"+IF(ISNUMBER('System Results'!YQ51),'System Results'!YQ51,0)","v":0},{"$f":"+IF(ISNUMBER('System Results'!YT51),'System Results'!YT51,0)","v":0},{"$f":"+IF(ISNUMBER('System Results'!YW51),'System Results'!YW51,0)","v":0},{"$f":"+IF(ISNUMBER('System Results'!YZ51),'System Results'!YZ51,0)","v":0},{"$f":"+IF(ISNUMBER('System Results'!ZC51),'System Results'!ZC51,0)","v":0},{"$f":"+IF(ISNUMBER('System Results'!ZF51),'System Results'!ZF51,0)","v":0},{"$f":"+IF(ISNUMBER('System Results'!ZI51),'System Results'!ZI51,0)","v":0},{"$f":"+IF(ISNUMBER('System Results'!ZL51),'System Results'!ZL51,0)","v":0},{"$f":"+IF(ISNUMBER('System Results'!ZO51),'System Results'!ZO51,0)","v":0},{"$f":"+IF(ISNUMBER('System Results'!ZR51),'System Results'!ZR51,0)","v":0},{"$f":"+IF(ISNUMBER('System Results'!ZU51),'System Results'!ZU51,0)","v":0},{"$f":"+IF(ISNUMBER('System Results'!ZX51),'System Results'!ZX51,0)","v":0},{"$f":"+IF(ISNUMBER('System Results'!AAA51),'System Results'!AAA51,0)","v":0},{"$f":"+IF(ISNUMBER('System Results'!AAD51),'System Results'!AAD51,0)","v":0},{"$f":"+IF(ISNUMBER('System Results'!AAG51),'System Results'!AAG51,0)","v":0},{"$f":"+IF(ISNUMBER('System Results'!AAJ51),'System Results'!AAJ51,0)","v":0},{"$f":"+IF(ISNUMBER('System Results'!AAM51),'System Results'!AAM51,0)","v":0},{"$f":"+IF(ISNUMBER('System Results'!AAP51),'System Results'!AAP51,0)","v":0},{"$f":"+IF(ISNUMBER('System Results'!AAS51),'System Results'!AAS51,0)","v":0},{"$f":"+IF(ISNUMBER('System Results'!AAV51),'System Results'!AAV51,0)","v":0},{"$f":"+IF(ISNUMBER('System Results'!AAY51),'System Results'!AAY51,0)","v":0},{"$f":"+IF(ISNUMBER('System Results'!ABB51),'System Results'!ABB51,0)","v":0},{"$f":"+IF(ISNUMBER('System Results'!ABE51),'System Results'!ABE51,0)","v":0},{"$f":"+IF(ISNUMBER('System Results'!ABH51),'System Results'!ABH51,0)","v":0},{"$f":"+IF(ISNUMBER('System Results'!ABK51),'System Results'!ABK51,0)","v":0},{"$f":"+IF(ISNUMBER('System Results'!ABN51),'System Results'!ABN51,0)","v":0},{"$f":"+IF(ISNUMBER('System Results'!ABQ51),'System Results'!ABQ51,0)","v":0},{"$f":"+IF(ISNUMBER('System Results'!ABT51),'System Results'!ABT51,0)","v":0},{"$f":"+IF(ISNUMBER('System Results'!ABW51),'System Results'!ABW51,0)","v":0},{"$f":"+IF(ISNUMBER('System Results'!ABZ51),'System Results'!ABZ51,0)","v":0},{"$f":"+IF(ISNUMBER('System Results'!ACC51),'System Results'!ACC51,0)","v":0},{"$f":"+IF(ISNUMBER('System Results'!ACF51),'System Results'!ACF51,0)","v":0},{"$f":"+IF(ISNUMBER('System Results'!ACI51),'System Results'!ACI51,0)","v":0},{"$f":"+IF(ISNUMBER('System Results'!ACL51),'System Results'!ACL51,0)","v":0},{"$f":"+IF(ISNUMBER('System Results'!ACO51),'System Results'!ACO51,0)","v":0},{"$f":"+IF(ISNUMBER('System Results'!ACR51),'System Results'!ACR51,0)","v":0},{"$f":"+IF(ISNUMBER('System Results'!ACU51),'System Results'!ACU51,0)","v":0},{"$f":"+IF(ISNUMBER('System Results'!ACX51),'System Results'!ACX51,0)","v":0},{"$f":"+IF(ISNUMBER('System Results'!ADA51),'System Results'!ADA51,0)","v":0},{"$f":"+IF(ISNUMBER('System Results'!ADD51),'System Results'!ADD51,0)","v":0},{"$f":"+IF(ISNUMBER('System Results'!ADG51),'System Results'!ADG51,0)","v":0},{"$f":"+IF(ISNUMBER('System Results'!ADJ51),'System Results'!ADJ51,0)","v":0},{"$f":"+IF(ISNUMBER('System Results'!ADM51),'System Results'!ADM51,0)","v":0},{"$f":"+IF(ISNUMBER('System Results'!ADP51),'System Results'!ADP51,0)","v":0},{"$f":"+IF(ISNUMBER('System Results'!ADS51),'System Results'!ADS51,0)","v":0},{"$f":"+IF(ISNUMBER('System Results'!ADV51),'System Results'!ADV51,0)","v":0},{"$f":"+IF(ISNUMBER('System Results'!ADY51),'System Results'!ADY51,0)","v":0},{"$f":"+IF(ISNUMBER('System Results'!AEB51),'System Results'!AEB51,0)","v":0},{"$f":"+IF(ISNUMBER('System Results'!AEE51),'System Results'!AEE51,0)","v":0},{"$f":"+IF(ISNUMBER('System Results'!AEH51),'System Results'!AEH51,0)","v":0},{"$f":"+IF(ISNUMBER('System Results'!AEK51),'System Results'!AEK51,0)","v":0},{"$f":"+IF(ISNUMBER('System Results'!AEN51),'System Results'!AEN51,0)","v":0},{"$f":"+IF(ISNUMBER('System Results'!AEQ51),'System Results'!AEQ51,0)","v":0},{"$f":"+IF(ISNUMBER('System Results'!AET51),'System Results'!AET51,0)","v":0},{"$f":"+IF(ISNUMBER('System Results'!AEW51),'System Results'!AEW51,0)","v":0},{"$f":"+IF(ISNUMBER('System Results'!AEZ51),'System Results'!AEZ51,0)","v":0},{"$f":"+IF(ISNUMBER('System Results'!AFC51),'System Results'!AFC51,0)","v":0},{"$f":"+IF(ISNUMBER('System Results'!AFF51),'System Results'!AFF51,0)","v":0},{"$f":"+IF(ISNUMBER('System Results'!AFI51),'System Results'!AFI51,0)","v":0},{"$f":"+IF(ISNUMBER('System Results'!AFL51),'System Results'!AFL51,0)","v":0},{"$f":"+IF(ISNUMBER('System Results'!AFO51),'System Results'!AFO51,0)","v":0},{"$f":"+IF(ISNUMBER('System Results'!AFR51),'System Results'!AFR51,0)","v":0},{"$f":"+IF(ISNUMBER('System Results'!AFU51),'System Results'!AFU51,0)","v":0},{"$f":"+IF(ISNUMBER('System Results'!AFX51),'System Results'!AFX51,0)","v":0},{"$f":"+IF(ISNUMBER('System Results'!AGA51),'System Results'!AGA51,0)","v":0},{"$f":"+IF(ISNUMBER('System Results'!AGD51),'System Results'!AGD51,0)","v":0},{"$f":"+IF(ISNUMBER('System Results'!AGG51),'System Results'!AGG51,0)","v":0},{"$f":"+IF(ISNUMBER('System Results'!AGJ51),'System Results'!AGJ51,0)","v":0},{"$f":"+IF(ISNUMBER('System Results'!AGM51),'System Results'!AGM51,0)","v":0},{"$f":"+IF(ISNUMBER('System Results'!AGP51),'System Results'!AGP51,0)","v":0},{"$f":"+IF(ISNUMBER('System Results'!AGS51),'System Results'!AGS51,0)","v":0},{"$f":"+IF(ISNUMBER('System Results'!AGV51),'System Results'!AGV51,0)","v":0},{"$f":"+IF(ISNUMBER('System Results'!AGY51),'System Results'!AGY51,0)","v":0},{"$f":"+IF(ISNUMBER('System Results'!AHB51),'System Results'!AHB51,0)","v":0},{"$f":"+IF(ISNUMBER('System Results'!AHE51),'System Results'!AHE51,0)","v":0},{"$f":"+IF(ISNUMBER('System Results'!AHH51),'System Results'!AHH51,0)","v":0},{"$f":"+IF(ISNUMBER('System Results'!AHK51),'System Results'!AHK51,0)","v":0},{"$f":"+IF(ISNUMBER('System Results'!AHN51),'System Results'!AHN51,0)","v":0},{"$f":"+IF(ISNUMBER('System Results'!AHQ51),'System Results'!AHQ51,0)","v":0},{"$f":"+IF(ISNUMBER('System Results'!AHT51),'System Results'!AHT51,0)","v":0}]

{"sheet":"Lists","index":5,"n_rows":234,"n_cols":1,"rows_kept":234,"cut":false,"hidden":true,"merged":[]}
["Country"]
["Afghanistan"]
["Albania"]
["Algeria"]
["American Samoa (U.S.)"]
["Andorra"]
["Angola"]
["Anguilla (U.K.)"]
["Antigua and Barbuda"]
["Argentina"]
["Armenia"]
["Aruba"]
["Australia"]
["Austria"]
["Azerbaijan"]
["Azores (Portugal)"]
["Bahamas"]
["Bahrain"]
["Bangladesh"]
["Barbados"]
["Belarus"]
["Belgium"]
["Belize"]
["Benin"]
["Bermuda (U.K.)"]
["Bhutan"]
["Bolivia"]
["Bosnia and Herzegovina"]
["Botswana"]
["Brazil"]
["British Virgin Islands (U.K.)"]
["Brunei"]
["Bulgaria"]
["Burkina Faso"]
["Burundi"]
["Cambodia"]
["Cameroon"]
["Canada"]
["Canary Islands (Spain)"]
["Cape Verde"]
["Cayman Islands"]
["Central African Republic"]
["Chad"]
["Channel Islands"]
["Chile"]
["China"]
["Colombia"]
["Comoros"]
["Congo. Democratic Republic of"]
["Congo. Republic of"]
["Cook Islands"]
["Costa Rica"]
["Côte d'Ivoire"]
["Croatia"]
["Cuba"]
["Curaçao (Netherlands)"]
["Cyprus"]
["Czechia"]
["Denmark"]
["Djibouti"]
["Dominica"]
["Dominican Republic"]
["Ecuador"]
["Egypt"]
["El Salvador"]
["Equatorial Guinea"]
["Eritrea"]
["Estonia"]
["Eswatini"]
["Ethiopia"]
["Faroe Islands (Denmark)"]
["Fiji"]
["Finland"]
["France"]
["French Guiana"]
["French Polynesia"]
["Gabon"]
["Gambia"]
["Georgia"]
["Germany"]
["Ghana"]
["Greece"]
["Greenland"]
["Grenada"]
["Guadeloupe (France)"]
["Guam"]
["Guatemala"]
["Guinea"]
["Guinea-Bissau"]
["Guyana"]
["Haiti"]
["Honduras"]
["Hong Kong (China)"]
["Hungary"]
["Iceland"]
["India"]
["Indonesia"]
["Iran"]
["Iraq"]
["Ireland"]
["Isle of Man"]
["Israel"]
["Italy"]
["Jamaica"]
["Japan"]
["Jordan"]
["Kazakhstan"]
["Kenya"]
["Kiribati"]
["Korea (North). Dem. People's Rep. of"]
["Korea (South). Republic of"]
["Kosovo"]
["Kuwait"]
["Kyrgyzstan"]
["Laos"]
["Latvia"]
["Lebanon"]
["Lesotho"]
["Liberia"]
["Libya"]
["Liechtenstein"]
["Lithuania"]
["Luxembourg"]
["Macao (China)"]
["Macedonia. North"]
["Madagascar"]
["Madeira (Portugal)"]
["Malawi"]
["Malaysia"]
["Maldives"]
["Mali"]
["Malta"]
["Marshall Islands"]
["Martinique (France)"]
["Mauritania"]
["Mauritius"]
["Mayotte (France)"]
["Mexico"]
["Micronesia"]
["Moldova"]
["Monaco"]
["Mongolia"]
["Montenegro"]
["Montserrat"]
["Morocco"]
["Mozambique"]
["Myanmar"]
["Namibia"]
["Nauru"]
["Nepal"]
["Netherlands"]
["Netherlands Antilles"]
["New Caledonia (France)"]
["New Zealand"]
["Nicaragua"]
["Niger"]
["Nigeria"]
["Niue"]
["Northern Mariana Islands (U.S.)"]
["Norway"]
["Oman"]
["Pakistan"]
["Palau"]
["Panama"]
["Papua New Guinea"]
["Paraguay"]
["Peru"]
["Philippines"]
["Poland"]
["Portugal"]
["Puerto Rico (U.S.)"]
["Qatar"]
["Reunion (France)"]
["Romania"]
["Russian Federation"]
["Rwanda"]
["Saint Helena (U.K.)"]
["Saint Kitts and Nevis"]
["Saint Lucia"]
["Saint Martin (France)"]
["Saint Pierre and Miquelon (France)"]
["Saint Vincent and Grenadines"]
["Samoa"]
["San Marino"]
["Sao Tomé & Principe"]
["Saudi Arabia"]
["Senegal"]
["Serbia"]
["Seychelles"]
["Sierra Leone"]
["Singapore"]
["Sint Martin (Netherlands)"]
["Slovakia"]
["Slovenia"]
["Solomon Islands"]
["Somalia"]
["South Africa"]
["South Sudan"]
["Spain"]
["Sri Lanka"]
["Sudan"]
["Suriname"]
["Sweden"]
["Switzerland"]
["Syrian Arab Republic"]
["Taiwan"]
["Tajikistan"]
["Tanzania"]
["Thailand"]
["Timor-Leste"]
["Togo"]
["Tonga"]
["Trinidad and Tobago"]
["Tunisia"]
["Turkey"]
["Turkmenistan"]
["Turks and Caicos Islands (U.K.)"]
["Tuvalu"]
["Uganda"]
["Ukraine"]
["United Arab Emirates"]
["United Kingdom"]
["Uruguay"]
["USA"]
["Uzbekistan"]
["Vanatu"]
["Venezuela"]
["Vietnam"]
["Virgin Islands (U.S.)"]
["West Bank and Gaza"]
["Yemen"]
["Zambia"]
["Zanzibar (Tanzania)"]
["Zimbabwe"]